{"text_format":"1","workbook":"xlsx","n_sheets":5,"sheets":["Notes","School Details","Datasheet","AggregatedData","Lists"],"not_rendered":{"charts":0,"images":0,"macros":1,"external_links":0,"defined_names":6,"comments":0,"pivot_tables":0},"unopened":[],"bounds":{"document_bytes":16777216,"sheet_cells":100000,"rows_first":2000,"rows_last":500,"rows_between":2000,"halvings":0,"cell_chars":16384,"cell_head_chars":4096},"cells_cut":0,"cells_raw":0,"read":"whole","date_system":"1900"}

{"sheet":"Notes","index":0,"n_rows":15,"n_cols":1,"rows_kept":15,"cut":false,"hidden":false,"merged":[]}
[]
["On First Use of this workbook (these 2 steps only need to be done once, the first time of using the spreadsheet): "]
[]
["1. Choose school name in cell B1 (click in blue box)"]
["2. Save the workbook in a location of your choice (select File-Save as-Choose location)"]
[]
["To enter test data:"]
[]
["1. Click on the box on the right to open the data entry form"]
["2. Enter the relevant details in the boxes - some of the fields have lists to choose from, others are free text boxes.  Please enter all dates  in the format dd/mm/yyyy e.g. 07/01/2021"]
["3. When all details are entered, if you need to enter more data, choose the 'Save and add another record' button on the form"]
["4. When you have entered the last record, choose 'Save and exit' button on the form"]
["5. Once all daily data is entered, email the aggregated data by clicking on the box on the right"]
["6. This will create an email with only the aggregated data attached.  You can add any notes/ comments into the body of the email before sending if required."]
["7. Save this workbook in your usual location and close."]

{"sheet":"School Details","index":1,"n_rows":108,"n_cols":17,"rows_kept":108,"cut":false,"hidden":true,"merged":[]}
["School Name","DfES","Establishment Type","Headteacher Name","Phase ","Address Line 1","Address Line 2","Town","County","Post Code","Telephone ","Email ","Website","Age From","Age Till","Year Group From","Year Group Till"]
[" Kingswinford Academy","3325402","Academy Converter","Mr Tom MacDonald","Secondary ","Kingswinford Academy","Water Street","Kingswinford","West Midlands","DY6 7AD","01384-296596","info@kingswinford.windsoracademytrust.org.uk","http://www.kingswinford.windsoracademytrust.org.uk",11,16,"Year 7","Year 11"]
["Alder Coppice Primary School","3325200","Foundation School","Mr Peter Mandelstam","Primary ","Alder Coppice Primary School","Northway","Sedgley, Dudley","West Midlands","DY3 3PS","01384-816610","admin@alder.dudley.sch.uk","http://www.alder.dudley.sch.uk",3,11,"Nursery 1","Year 6"]
["Amblecote Primary School","3322123","Community School","Mrs Jane Cook (acting)","Primary ","Amblecote Primary School","School Drive","Amblecote, Stourbridge","West Midlands","DY8 4DQ","01384-818335","Info@amblecote.dudley.sch.uk","http://www.amblecote.dudley.sch.uk/",5,11,"Reception","Year 6"]
["Ashwood Park Primary School","3322141","Community School","Mr Keith Butler","Primary ","Ashwood Park Primary School","Bells Lane","Wordsley, Stourbridge","West Midlands","DY8 5DJ","01384-818545","info@ashwood.dudley.sch.uk","http://www.ashwood.dudley.sch.uk/",3,11,"Nursery 2","Year 6"]
["Beacon Hill Academy","3325403","Academy Converter","Mr Mark Thorogood","Secondary ","Beacon Hill Academy","High Arcal Drive","Woodsetton, Dudley","West Midlands","DY3 1BP","0845-155-0411","info@beaconhillacademy.org.uk","http://www.beaconhillacademy.org.uk/",11,16,"Year 7","Year 11"]
["Beechwood Church of England Primary School","3322003","Academy Sponsor Led","Mrs Hilary Wheeldon","Primary ","Beechwood Church of England Primary School","Beechwood Road","Dudley","West Midlands","DY2 7QA","01384-816715","info@beechwood.school","www.beechwood.school",4,11,"Reception","Year 6"]
["Belle Vue Primary School","3322151","Community School","Mr Dave Porter","Primary ","Belle Vue Primary School","Lawnswood Road","Wordsley, Stourbridge","West Midlands","DY8 5BZ","01384-818615","info@belle-vue.dudley.sch.uk","http://www.belle-vue.dudley.sch.uk/",3,11,"Nursery 2","Year 6"]
["Bishop Milner Catholic College","3324800","Academy Converter","Mr Richard May","Secondary ","Bishop Milner Catholic College","Burton Road","Dudley","West Midlands","DY1 3BY","01384-889422","info@bmilner.dudley.sch.uk","http://www.bmilner.dudley.sch.uk",11,18,"Year 7","Year 13"]
["Blanford Mere Primary School","3322077","Community School","Mrs Nikki Miller","Primary ","Blanford Mere Primary School","Mimosa Walk","Kingswinford","West Midlands","DY6 7EA","01384-818365","Info@blanford.dudley.sch.uk","http://blanford.sch.life",4,11,"Reception","Year 6"]
["Blowers Green Primary School","3322000","Community School","Mrs Surinder Sehmbi","Primary ","Blowers Green Primary School","Blowers Green Road","Dudley","West Midlands","DY2 8UZ","01384-818490","Info@blowers.dudley.sch.uk","http://www.blowers.dudley.sch.uk/",3,11,"Nursery 2","Year 6"]
["Bramford Primary School","3322001","Academy Sponsor Led","Mrs Lisa Guest","Primary ","Bramford Primary School","Chad Road","Coseley, Bilston","West Midlands","WV14 9TU","01384-818915","Info@bramford.dudley.sch.uk","http://www.bramford-gst.org",3,11,"Nursery 1","Year 6"]
["Brierley Hill Primary School","3322023","Community School","Mrs Teresa Allport","Primary ","Brierley Hill Primary School","Mill Street","Brierley Hill","West Midlands","DY5 2TD","01384-816980","Info@brierley.dudley.sch.uk","http://www.brierley.dudley.sch.uk/",2,11,"Nursery 1","Year 6"]
["Brockmoor Primary School","3322024","Community School","Mr Russell Bond","Primary ","Brockmoor Primary School","Belle Isle","Brockmoor, Brierley Hill","West Midlands","DY5 3UZ","01384-816635","info@brockmoor.dudley.sch.uk","http://www.brockmoor.dudley.sch.uk",3,11,"Nursery 1","Year 6"]
["Bromley Hills Primary School","3322142","Community School","Mr Jon Stevens","Primary ","Bromley Hills Primary School","Granville Drive","Kingswinford","West Midlands","DY6 8LW","01384-816940","info@bromhills.dudley.sch.uk","http://bromleyhills.sch.life",5,11,"Reception","Year 6"]
["Brook Primary School","3322029","Community School","Mrs Marie Fellows ","Primary ","Brook Primary School And Community Centre","George Street","Wordsley, Stourbridge","West Midlands","DY8 5YN","01384-818835","info@brook.dudley.sch.uk","http://brook.sch.life/",5,11,"Reception","Year 6"]
["Caslon Primary Community School","3322112","Community School","Mrs Lynnette Holden-Gough","Primary ","Caslon Primary Community School","Beeches View Avenue","Cradley, Halesowen","West Midlands","B63 2ES","01384-818875","Info@caslon.dudley.sch.uk","http://www.caslon.dudley.sch.uk",5,11,"Reception","Year 6"]
["Cherry Tree Learning Centre","3321102","Academy Converter","Mrs Victoria Howard (HoC)","Pupil Referral Unit (PRU)","Cherry Tree Learning Centre","Overfield Road","Dudley","West Midlands","DY1 2NX","01384-813739","Info@ctlc.dudley.sch.uk","http://www.ctlc.dudley.sch.uk/",5,16,"Reception","Year 11"]
["Christ Church CofE Primary School","3323010","Voluntary Controlled School","Mrs Sarah Riley","Primary ","Christ Church C Of E Primary School(nursery Unit)","Church Road","Coseley","West Midlands","WV14 8YB","01384-818375","info@christ-ch.dudley.gov.uk","http://www.christchurchprimary.org/",3,11,"Nursery 1","Year 6"]
["Church of the Ascension CofE Primary School","3323007","Voluntary Controlled School","Mr Stephen Hudson","Primary ","Church Of The Ascension Primary School","New Street","Wall Heath, Kingswinford","West Midlands","DY6 9AH","01384-818760","Info@chur-ascen.dudley.sch.uk","http://www.chur-ascen.dudley.sch.uk",4,11,"Reception","Year 6"]
["Colley Lane Primary Academy","3322102","Academy Converter","Miss Helen Hale","Primary ","Colley Lane Primary School","Colley Lane","Cradley, Halesowen","West Midlands","B63 2TN","01384-816765","info@colley.windsoracademytrust.org.uk","http://www.colley.dudley.sch.uk",3,11,"Nursery 1","Year 6"]
["Cotwall End Primary School","3322130","Community School","Mrs Claire Williams","Primary ","Cotwall End Primary School","Cotwall End Road","Sedgley, Dudley","West Midlands","DY3 3YG","01384-818730","Info@cotwall.dudley.sch.uk","http://www.cotwall.dudley.sch.uk/",5,11,"Reception","Year 6"]
["Cradley CofE Primary School","3323350","Voluntary Aided School","Mrs Marcia Harris","Primary ","Cradley Ce Primary School","Church Road","Cradley, Halesowen","West Midlands","B63 2UL","01384-818230","Info@cradley-p.dudley.sch.uk","http://www.cradleycofe.com",4,11,"Reception","Year 6"]
["Crestwood Park Primary School","3322072","Community School","Mrs Amy Cooper","Primary ","Crestwood Park Primary School","Lapwood Avenue","Kingswinford","West Midlands","DY6 8RP","01384-818315","Info@crestwood-p.dudley.sch.uk"," http://crestwoodpark.sch.life/",5,11,"Reception","Year 6"]
["Dawley Brook Primary School","3322043","Community School","Mrs Lisa Maskell","Primary ","Dawley Brook Primary School","Dubarry Avenue","Kingswinford","West Midlands","DY6 9BP","01384-818770","Info@dawley.dudley.sch.uk","http://www.dawley.dudley.sch.uk",3,11,"Nursery 1","Year 6"]
["Dingle Community Primary School","3322152","Community School","Ms Gemma Anderson","Primary ","Dingle Community Primary School","Madeley Road","Kingswinford","West Midlands","DY6 8PF","01384-818305","Info@dingle.dudley.sch.uk","http://www.dingle.dudley.sch.uk",5,11,"Reception","Year 6"]
["Dudley Wood Primary School","3322005","Academy Converter","Mrs Sarah Guest","Primary ","Dudley Wood Primary School","Dudley Wood Road","Netherton, Dudley","West Midlands","DY2 0DB","01384-818690","contactus@dudley-wood.dudley.sch.uk","http://www.dudley-wood.dudley.sch.uk",3,11,"Nursery 1","Year 6"]
["Ellowes Hall Sports College","3325401","Academy Converter","Ms Carla Leslie","Secondary ","Ellowes Hall Sports College","Stickley Lane","Lower Gornal, Dudley","West Midlands","DY3 2JH","01384-686600","info@ellowes.dudley.sch.uk","http://www.elloweshall.co.uk/",11,18,"Year 7","Year 14"]
["Fairhaven Primary School","3322063","Community School","Mr Thomas Garner","Primary ","Fairhaven Primary School","Barnett Lane","Kingswinford, Stourbridge","West Midlands","DY8 5PY","01384-818385","Info@fairhaven.dudley.sch.uk","http://www.fairhaven.dudley.sch.uk/",4,11,"Reception","Year 6"]
["Foxyards Primary School","3322068","Community School","Mrs Zoey Lowe ","Primary ","Foxyards Primary School","Foxyards Road","Tipton","West Midlands","DY4 8BH","01384-818740","info@foxyards.dudley.sch.uk","http://www.foxyards.dudley.sch.uk",3,11,"Nursery 1","Year 6"]
["Gig Mill Primary School","3322145","Community School","Mrs Angela Hannaway","Primary ","Gig Mill Primary School","The Broadway","Norton, Stourbridge","West Midlands","DY8 3HL","01384-818600","Info@gig-mill.dudley.sch.uk","http://www.gig-mill.dudley.sch.uk/",3,11,"Nursery 1","Year 6"]
["Glynne Primary School","3322155","Community School","Miss Tracey Powell","Primary ","Glynne Primary School","Cot Lane","Kingswinford","West Midlands","DY6 9TH","01384-816960","Info@glynne.dudley.sch.uk","http://www.glynne.dudley.sch.uk/",3,11,"Nursery 1","Year 6"]
["Greenfield Primary School","3322109","Community School","Mrs Claire Stylianides","Primary ","Greenfield Primary School","Hill Street","Stourbridge","West Midlands","DY8 1AL","01384-818585","info@greenfield.dudley.sch.uk","http://www.greenfield.dudley.sch.uk/",4,11,"Reception","Year 6"]
["Halesbury School","3327005","Foundation Special School","Mr John Kulyk","Special","Halesbury School","Feldon Lane","Halesowen","West Midlands","B62 9DR","01384-818630","Info@halesbury.dudley.sch.uk","http://www.halesbury.dudley.sch.uk/",4,16,"Nursery 1","Year 11"]
["Halesowen CofE Primary School","3323352","Voluntary Aided School","Mrs Lorna Knowles","Primary ","Halesowen Ce Primary School","High Street","Halesowen","West Midlands","B63 3BB","01384-818885","Info@halesowen.dudley.sch.uk","http://halesowen.sch.life/",3,11,"Nursery 1","Year 6"]
["Ham Dingle Primary Academy",3322008,"Academy Converter","Mrs Jacqui Grace","Primary ","Ham Dingle Primary School","Old Ham Lane","Pedmore, Stourbridge","West Midlands","DY9 0UN","01384-818965","Info@ham-dingle.dudley.sch.uk","http://www.hamdingleprimary.co.uk",4,11,"Reception","Year 6"]
["Hawbush Primary School","3322143","Community School","Mr Rob J Mcconomy","Primary ","Hawbush Primary School","Hawbush Road","Brierley Hill","West Midlands","DY5 3NH","01384-816930","Info@hawbush.dudley.sch.uk","http://www.hawbush.dudley.sch.uk/",2,11,"Nursery 1","Year 6"]
["Hob Green Primary School","3322156","Academy Converter","Mr Stuart Brown","Primary ","Hob Green Primary School","Hob Green Road","Wollescote, Stourbridge","West Midlands","DY9 9EX","01384-816730","Info@hob-green.dudley.sch.uk","http://www.hob-green.dudley.sch.uk/",3,11,"Nursery 1","Year 6"]
["Howley Grange Primary School","3322137","Community School","Miss Angela Lewis","Primary ","Howley Grange Primary School","Howley Grange Road","Halesowen","West Midlands","B62 0HS","01384-818395","Info@howley.dudley.sch.uk","http://www.howleygrange.co.uk",5,11,"Reception","Year 6"]
["Huntingtree Primary School","3322116","Community School","Mr Jim Harrold","Primary ","Huntingtree Primary School","Huntingtree Road","Halesowen","West Midlands","B63 4HY","01384-818650","Info@huntingtree.dudley.sch.uk","http://www.huntingtree.dudley.sch.uk/",3,11,"Nursery 1","Year 6"]
["Hurst Green Primary School","3322124","Community School","Mrs Victoria Kelly","Primary ","Hurst Green Primary School","Narrow Lane","Halesowen","West Midlands","B62 9NZ","01384-818210","Info@hurst-green.dudley.sch.uk","http://www.hurstgreen-dudley.co.uk/",5,11,"Reception","Year 6"]
["Hurst Hill Primary School","3322006","Academy Sponsor Led","Mrs Rebecca Keen","Primary ","Hurst Hill Primary School","Paul Street","Coseley, Bilston","West Midlands","WV14 9AJ","01384-818845","info@hurst-hill.dudley.sch.uk ","http://www.hursthillprimaryschool.com/",5,11,"Reception","Year 6"]
["Jesson's CofE Primary School (VA)","3323306","Voluntary Aided School","Mrs Sarah Lea","Primary","Jessons Ce Primary School","School Street","Dudley","West Midlands","DY1 2AQ","01384-816825","Info@jessons.dudley.sch.uk","http://www.jessons.dudley.sch.uk/",3,11,"Nursery 1","Year 6"]
["Kates Hill Primary School","3322010","Academy Converter","Mrs Kathryn Harvey","Primary ","Kates Hill Community Primary School","Peel Street","Dudley","West Midlands","DY2 7HP","01384-818700","Info@kates-hill.dudley.sch.uk","http://www.kates-hill.dudley.sch.uk",3,11,"Nursery 1","Year 6"]
["Lapal Primary School","3322107","Academy Converter","Mrs Joanna Turner","Primary ","Lapal Primary School","Priory Road","Halesowen","West Midlands","B62 0BZ","01384-818200","School@lapal.dudley.sch.uk","www.lapal.dudley.sch.uk",4,11,"Reception","Year 6"]
["Leasowes High School","3324110","Academy Converter","Mr Matthew Mynott","Secondary ","Leasowes High School","Kent Road","Halesowen","West Midlands","B62 8PJ","01384-686606","Info@leasowes.dudley.sch.uk","http://www.leasowes.dudley.sch.uk/",11,18,"Year 7","Year 11"]
["Lutley Primary School","3322120","Academy Converter","Mrs Kate Hall (acting)","Primary ","Lutley Primary School","Brookwillow Road","Halesowen","West Midlands","B63 1BU","01384-818220","Info@lutley.dudley.sch.uk","http://www.lutley.dudley.sch.uk",5,11,"Reception","Year 6"]
["Maidensbridge Primary School","3322035","Community School","Mrs Katie Thomas","Primary ","Maidensbridge Primary School","Beachcroft Road","Wall Heath, Kingswinford","West Midlands","DY6 0HX","01384-818405","Info@maidens.dudley.sch.uk","http://www.maidensbridge.net",4,11,"Reception","Year 6"]
["Manor Way Primary Academy","3322139","Academy Converter","Miss Lisa Buffery","Primary ","Manor Way Primary School","Brier Mill Road","Halesowen","West Midlands","B63 3HA","0121-272-7310","Information@manor.windsoracademytrust.org.uk","http://www.manorway.net",5,11,"Reception","Year 6"]
["Milking Bank Primary School","3322160","Community School","Mrs Karen Brass","Primary ","Milking Bank Primary School","Aintree Way","Dudley","West Midlands","DY1 2SL","01384-816695","tjharris@milking.dudley.sch.uk","http://www.milking.dudley.sch.uk/",3,11,"Nursery 1","Year 6"]
["Mount Pleasant Primary School","3322036","Community School","Mrs Helen Robinson","Primary ","Mount Pleasant Primary School","Mount Pleasant","Quarry Bank, Brierley Hill","West Midlands","DY5 2YN","01384-816910","Info@mount.dudley.sch.uk","http://www.mount.dudley.sch.uk/",3,11,"Nursery 1","Year 6"]
["Netherbrook Primary School","3322147","Academy Converter","Mr Phil Rawlings","Primary ","Netherbrook Primary School","Chester Road","Netherton, Dudley","West Midlands","DY2 9RZ","01384-818415","Info@netherbrook.dudley.sch.uk","http://www.netherbrook.dudley.sch.uk/",3,11,"Nursery 1","Year 6"]
["Netherton CofE Primary School","3323053","Academy Converter","Mr Andrew Rushton","Primary ","Netherton Ce Primary School","Highbridge Road","Netherton, Dudley","West Midlands","DY2 0HU","01384-816895","Info@netherton.dudley.sch.uk","http://www.netherton.dudley.sch.uk/",3,11,"Nursery 1","Year 6"]
["Netherton Park Nursery School","3321000","L A Nursery School","Ms Helen Ruffles","Nursery","Netherton Park Nursery School","Arch Hill Street","Netherton","West Midlands","DY2 9QF","01384-818255","Info@neth-nur.dudley.sch.uk","www.nethertonparknursery.co.uk",3,5,"Nursery 1","Nursery 2"]
["Newfield Park Primary School","3322138","Community School","Mr Stephen Payne","Primary ","Newfield Park Primary School","Whittingham Road","Halesowen","West Midlands","B63 3TP","01384-818640","Info@newfield.dudley.sch.uk","http://www.newfieldpark.co.uk",4,11,"Reception","Year 6"]
["Northfield Road Primary School",3322011,"Academy Converter","Mrs Nicola Bennett ","Primary ","Northfield Road Primary School","Northfield Road","Netherton, Dudley","West Midlands","DY2 9ER","01384-818710","contactus@northfield.dudley.sch.uk","http://www.northfield.dudley.sch.uk",4,11,"Reception","Year 6"]
["Old Swinford Hospital","3325400","Voluntary Aided School","Mr Paul Kilbride","Secondary ","Old Swinford Hospital School","Heath Lane","Stourbridge","West Midlands","DY8 1QX","01384-817300","Reception@oshsch.com","http://www.oshsch.com",11,18,"Year 7","Year 14"]
["Oldswinford C of E Primary School","3323050","Voluntary Controlled School","Mrs Ellie Game","Primary ","Oldswinford Ce Primary School","Field Lane","Oldswinford, Stourbridge","West Midlands","DY8 2JQ","01384-818790","contact@oldswinford.dudley.sch.uk","http://www.oldswinford.dudley.sch.uk/",5,11,"Reception","Year 6"]
["Olive Hill Primary Academy","3322106","Academy Converter","Miss Hannah Grasby","Primary ","Olive Hill Primary School","Springfield Road","Halesowen","West Midlands","B62 8JZ","01384-818855","Info@olive.dudley.sch.uk","http://www.olive.dudley.sch.uk/",3,11,"Nursery 1","Year 6"]
["Our Lady and St Kenelm RC School","3323357","Voluntary Aided School","Mrs Christine Finnegan","Primary ","Our Lady And St Kenelm Rc Primary School","Bundle Hill","Halesowen","West Midlands","B63 4AR","01384-816880","Info@our-lady.dudley.sch.uk","http://www.our-lady.dudley.sch.uk",4,11,"Reception","Year 6"]
["Pedmore CE Primary School","3323354","Voluntary Aided School","Mr David Dunn","Primary ","Pedmore Ce Primary School","Hagley Road","Stourbridge","West Midlands","DY9 0RH","01384-818955","Info@pedmore.dudley.sch.uk","http://www.pedmore.dudley.sch.uk",5,11,"Reception","Year 6"]
["Pegasus Academy","3325405","Academy Converter","Mr Andrew Landers","Secondary ","Pegasus Academy","Scotts Green Close","Dudley","West Midlands","DY1 2DU","01384-253722","office@pegasusacademy.org.uk","http://pegasusacademy.org.uk/",11,16,"Year 7","Year 11"]
["Pens Meadow School","3327009","Community Special School","Mrs Marie Hunter","Special","Pens Meadow School","Ridge Hill","Wordsley, Stourbridge","West Midlands","DY8 5ST","01384-818945","Info@pens-meadow.dudley.sch.uk","http://www.pens-meadow.dudley.sch.uk",3,19,"Nursery 1","Year 13"]
["Peters Hill Primary School","3322075","Community School","Mr Simon Duncan","Primary ","Peters Hill Primary School","Peters Hill Road","Amblecote, Brierley Hill","West Midlands","DY5 2QH","01384-816740","enquiries@petershillprimary.org","http://www.petershillprimary.org/",3,11,"Nursery 1","Year 6"]
["Priory Primary School","3322009","Academy Sponsor Led","Mrs Jill Craig","Primary ","Priory Primary School","Limes Road","Dudley","West Midlands","DY1 4AQ","01384-816845","Info@priory.dudley.sch.uk","http://www.priory.dudley.sch.uk",3,11,"Nursery 1","Year 6"]
["Quarry Bank Primary School","3322153","Community School","Mr Alex Rawlings","Primary ","Quarry Bank Primary School","High Street","Quarry Bank, Brierley Hill","West Midlands","DY5 2AD","01384-818750","Info@quarry.dudley.sch.uk","http://www.quarry.dudley.sch.uk/",2,11,"Nursery 1","Year 6"]
["Queen Victoria Primary School","3322149","Community School","Mrs Catherine Rindl","Primary ","Queen Victoria Primary School","Bilston Street","Sedgley, Dudley","West Midlands","DY3 1JB","01384-812545","Info@queen-vic.dudley.sch.uk","http://www.queenvictoriaprimary.com/",3,11,"Nursery 1","Year 6"]
["Red Hall Primary School","3322052","Community School","Ms Helen Tomlinson","Primary ","Red Hall Primary School Junior Department","Zoar Street","Lower Gornal, Dudley","West Midlands","DY3 2PA","01384-813850","churst@redhall.dudley.sch.uk","http://www.redhallprimary.co.uk/",3,11,"Nursery 1","Year 6"]
["Redhill School","3324119","Academy Converter","Mr James Clayton","Secondary ","Redhill School","Junction Road","Stourbridge","West Midlands","DY8 1JX","01384-816355","Info@redhill.dudley.sch.uk","http://www.redhill.dudley.sch.uk/",11,16,"Year 7","Year 11"]
["Ridgewood High School","3324121","Academy Converter","Mrs Rae Cope","Secondary ","Ridgewood High School","Park Road West","Wollaston, Stourbridge","West Midlands","DY8 3NQ","01384-818445","Info@ridgewood.dudley.sch.uk","http://www.ridgewood.dudley.sch.uk/",11,16,"Year 7","Year 11"]
["Roberts Primary School","3322144","Community School","Mrs Dawn Hunt","Primary ","Roberts Primary School","Robert Street","Lower Gornal, Dudley","West Midlands","DY3 2AZ","01384-818275","Info@roberts.dudley.sch.uk","http://www.robertsprimary.org.uk/",3,11,"Nursery 1","Year 6"]
["Rosewood School","3327008","Community Special School","Mr David Kirk","Special","The Rosewood School","Bell Street","Coseley, Bilston","West Midlands","WV14 8XJ","01384-816800","Info@rosewood.dudley.sch.uk","http://www.rosewood.dudley.sch.uk",11,16,"Year 7","Year 11"]
["Rufford Primary School","3322118","Community School","Ms Alice Middleton","Primary ","Rufford Primary School","Bredon Avenue","Stourbridge","West Midlands","DY9 7NR","01384-818975","Info@rufford.dudley.sch.uk","http://rufford.dudley.sch.uk/",2,11,"Nursery 1","Year 6"]
["Russells Hall Primary School","3322136","Community School","Mrs Jen Brown","Primary ","Russells Hall Primary School","Overfield Road","Dudley","West Midlands","DY1 2NX","01384-816785","Info@russells.dudley.sch.uk","http://www.russellshall.org.uk/",4,11,"Reception","Year 6"]
["Sledmere Primary School","3322004","Academy Converter","Mr Peter Bravo","Primary ","Sledmere Primary School","The School Drive","Dudley","West Midlands","DY2 8EH","01384-818425","Info@sledmere.dudley.sch.uk","http://www.sledmere.org/",3,11,"Nursery 1","Year 6"]
["St Chad's Catholic Primary School","3323304","Academy Converter","Mrs Sharon Mason","Primary ","St Chads Rc Primary School","Catholic Lane","Sedgley, Dudley","West Midlands","DY3 3UE","01384-818720","Info@st-chads.dudley.sch.uk","http://www.st-chads.dudley.sch.uk",4,11,"Reception","Year 6"]
["St James Academy","3324612","Academy Converter","Mr Ian Moore","Secondary ","St James Academy","St James's Road","Dudley","West Midlands","DY1 3JE","01384-816045","general@stjamesacademy.org.uk","http://www.stjamesacademy.org.uk/",11,16,"Year 7","Year 11"]
["St James's CofE Primary School","3323358","Voluntary Aided School","Mrs Lindsay Mason","Primary ","St James's Ce Primary School","Kingsway","Wollaston, Stourbridge","West Midlands","DY8 4RU","01384-818810","Info@st-james.dudley.sch.uk","http://www.st-james.dudley.sch.uk",4,11,"Reception","Year 6"]
["St Joseph's Catholic Primary School (Dudley)","3323302","Academy Converter","Mr Mark Hinton","Primary ","St Josephs Rc Primary School","Hillcrest Road","Dudley","West Midlands","DY2 7PW","01384-818925","Info@st-jo-dud.dudley.sch.uk","http://www.st-jo-dud.dudley.sch.uk",3,11,"Nursery 1","Year 6"]
["St Joseph's RC Primary School (Norton)","3323355","Academy Converter","Mr Andrew Carry","Primary ","St Josephs Rc Primary School","Lea Vale Road","Norton, Stourbridge","West Midlands","DY8 2DT","01384-818325","Info@st-jo-st.dudley.sch.uk","http://st-jo-st.sch.life/",5,11,"Reception","Year 6"]
["St Margaret's At Hasbury CofE Primary School","3323052","Voluntary Controlled School","Mrs Sara Shepherd","Primary ","Hasbury Ce Primary School","Hagley Road","Halesowen","West Midlands","B63 4QD","01384-818660","Info@hasbury.dudley.sch.uk","www.hasbury.dudley.sch.uk/",2,11,"Reception","Year 6"]
["St Mark's CofE Primary School","3323008","Voluntary Controlled School","Mr Keith Rondeau","Primary ","St Marks Ce Primary School","High Street","Pensnett, Brierley Hill","West Midlands","DY5 4DZ","01384-818935","Info@st-marks.dudley.sch.uk","www.st-marks.dudley.sch.uk/",3,11,"Nursery 1","Year 6"]
["St Mary's CofE (VC) Primary School","3323009","Voluntary Controlled School","Mrs Beverley Roberts","Primary ","St Marys Ce Primary School","Queen Street","Kingswinford","West Midlands","DY6 7AQ","01384-818295","wpickin@st-mary-ki.dudley.sch.uk","http://www.st-mary-ki.dudley.sch.uk",3,11,"Nursery 1","Year 6"]
["St Mary's RC Primary School","3323303","Academy Converter","Ms Olga O'Beirne","Primary ","St Marys Rc Primary School","Mill Street","Brierley Hill","West Midlands","DY5 2TH","01384-818435","Admin@st-mary-bh.dudley.sch.uk","http://www.st-mary-bh.dudley.sch.uk",4,11,"Reception","Year 6"]
["Straits Primary School","3322150","Community School","Mr Len Hazlehurst","Primary ","Straits Primary School","Longfellow Road","Lower Gornal, Dudley","West Midlands","DY3 3EE","01384-818575","Info@straits.dudley.sch.uk","http://www.straitsprimaryschool.com/",5,11,"Reception","Year 6"]
["Summerhill School","3324020","Community School","Mr Martyn Palfreyman","Secondary ","The Summerhill School","Lodge Lane","Kingswinford","West Midlands","DY6 9XE","01384-816165","Info@summerhill.dudley.sch.uk","http://www.summerhill.dudley.sch.uk",11,16,"Year 7","Year 11"]
["Sycamore Short Stay School","3321104","Pupil Referral Unit","Mr Steve Derham","Pupil Referral Unit (PRU)","The Sycamore Green Centre","Sycamore Green","Dudley","West Midlands","DY1 3QE","01384-818237","Secretaries@sycamore.dudley.sch.uk","http://www.shortstay.dudley.sch.uk/",5,15,"Reception","Year 11"]
["Tenterfields Primary School","3322104","Academy Converter","Mr Dominic Simpson (Interim)","Primary ","Tenterfields Primary School","Tenterfields","Halesowen","West Midlands","B63 3LH","01384-818560","info@tenter.windsoracademytrust.org.uk","http://www.tenterfieldsprimary.co.uk",3,11,"Nursery 1","Year 6"]
["The Brier School","3327002","Community Special School","Mr David Stanton","Special","The Brier School","Bromley Lane","Kingswinford","West Midlands","DY6 8QN","01384-816000","contact@brier.dudley.sch.uk","http://www.brier.dudley.sch.uk",4,16,"Reception","Year 11"]
["The Bromley-Pensnett Primary School","3322002","Academy Sponsor Led","Mr Stuart Brown","Primary ","The Bromley-pensnett Primary School","Bromley","Pensnett, Brierley Hill","West Midlands","DY5 4PJ","01384-816865","Info@bromley.dudley.sch.uk","https://www.bromley.dudley.sch.uk/",3,11,"Nursery 1","Year 6"]
["The Crestwood School","3324000","Academy Sponsor Led","Mrs Caroline Sutton","Secondary ","The Crestwood School","Bromley Lane","Kingswinford","West Midlands","DY6 8QG","01384-686850","Info@crestwood-s.dudley.sch.uk","http://www.crestwoodschool.co.uk",11,18,"Year 7","Year 11"]
["The Dormston School","3324023","Community School","Mr Steve Dixon","Secondary ","The Dormston School","Mill Bank","Sedgley, Dudley","West Midlands","DY3 1SN","01384-816395","Info@dormston.dudley.sch.uk","http://www.dormston.dudley.sch.uk/",11,16,"Year 7","Year 11"]
["The Earls High School","3324106","Academy Converter","Mr Jamie Fox (acting)","Secondary ","The Earls High School","Furnace Lane","Halesowen","West Midlands","B63 3SL","01384-816105","Info@earls.dudley.sch.uk","http://www.earlshighschool.org",11,16,"Year 7","Year 11"]
["The Link Academy","3324003","Academy Sponsor Led","Mrs Emma Edwards-Morgan","Secondary ","The Link Academy","Simms Lane","Netherton","West Midlands","DY2 0PB","01384-816500","info@thelinkacademy.org.uk","http://www.hillcrest.dudley.sch.uk/",11,16,"Year 7","Year 11"]
["The Old Park School","3327004","Community Special School","Ms Jodie Colbourne","Special","The Old Park School","Thorns Road","Quarry Bank, Brierley Hill","West Midlands","DY5 2JY","01384-818905","Office1@old-park.dudley.sch.uk","http://www.oldpark.org",4,19,"Nursery 1","Year 11"]
["The Pedmore High School","3324105","Academy Converter","Mr Gareth Lloyd","Secondary ","Pedmore Technology College And Community School","Grange Lane","Stourbridge","West Midlands","DY9 7HS","01384-816660","info@pedmorehighschool.uk","http://www.pedmoretc.dudley.sch.uk/",11,18,"Year 7","Year 11"]
["The Ridge Primary School","3322122","Community School","Mrs Deborah Hudson","Primary ","The Ridge Primary School","Gregory Road","Wollaston, Stourbridge","West Midlands","DY8 3NF","01384-818800","Info@ridge.dudley.sch.uk","http://www.ridge.dudley.sch.uk",4,11,"Reception","Year 6"]
["The Sutton School and Specialist College","3327001","Foundation Special School","Mr Daryl Charles","Special","The Sutton School And Specialist College","Scotts Green Close","Dudley","West Midlands","DY1 2DU","01384-818670","Info@sutton.dudley.sch.uk","http://www.sutton.dudley.sch.uk/",11,16,"Year 7","Year 11"]
["The Wordsley School Business & Enterprise & Music College","3324030","Community School","Mr Michael Lambert","Secondary ","The Wordsley School","Brierley Hill Road","Wordsley, Stourbridge","West Midlands","DY8 5SP","01384-816015","Info@wordsley.dudley.sch.uk","http://www.wordsleyschool.co.uk/",11,16,"Year 7","Year 11"]
["Thorns Collegiate Academy","3324001","Academy Sponsor Led","Mr Manny Kelay","Secondary ","Thorns Collegiate Academy","Stockwell Avenue","Quarry Bank, Brierley Hill","West Midlands","DY5 2NU","01384-816225","info@thorns-s.dudley.sch.uk","http://thornsca.org.uk/",11,16,"Year 7","Year 11"]
["Thorns Primary School","3322067","Community School","Mrs Rebecca Jordan","Primary ","Thorns Primary School","Thorns Road","Quarry Bank, Brierley Hill","West Midlands","DY5 2JY","01384-818285","Info@thorns-p.dudley.sch.uk","http://www.thorns.sch.life",5,11,"Reception","Year 6"]
["Wallbrook Primary School","3322048","Community School","Mrs Clare Longden","Primary ","Wallbrook Primary School","Bradleys Lane","Coseley, Bilston","West Midlands","WV14 8YP","01384-818985","Info@wallbrook.dudley.sch.uk","http://www.wallbrook.dudley.sch.uk/",4,11,"Reception","Year 6"]
["Windsor High School and Sixth Form","3325404","Academy Converter","Mr Stephen Lanckham","Secondary ","Windsor High School","Richmond Street","Halesowen","West Midlands","B63 4BB","0121-550-1452","info@windsor.windsoracademytrust.org.uk","http://www.windsor.windsoracademytrust.org.uk/",11,18,"Year 7","Year 13"]
["Withymoor Primary School","3322126","Community School","Mrs Alison Wootton","Primary ","Withymoor Primary School","Gayfield Avenue","Brierley Hill","West Midlands","DY5 2BH","01384-818530","Info@withymoor.dudley.sch.uk","http://www.withymoor.dudley.sch.uk",5,11,"Reception","Year 6"]
["Wollescote Primary School","3322111","Community School","Miss Lynne Hudson","Primary ","Wollescote Primary School","Drummond Road","Wollescote, Stourbridge","West Midlands","DY9 8YA","01384-818500","Info@wollescote.dudley.sch.uk","http://www.wollescoteschool.com",3,11,"Nursery 1","Year 6"]
["Woodsetton School","3327003","Community Special School","Mrs Kate Beer ","Special","The Woodsetton School","Tipton Road","Woodsetton, Dudley","West Midlands","DY3 1BY","01384-818265","Info@woodsetton.dudley.sch.uk","http://www.woodsetton.dudley.sch.uk",4,11,"Nursery 1","Year 6"]
["Woodside Primary School and Nursery","3322007","Academy Sponsor Led","Mrs Sally Bloomer","Primary ","Woodside Primary School And Little Bears Nursery","Highgate Road","Dudley","West Midlands","DY2 0SN","01384-818245","info@woodside.dudley.sch.uk","http://www.woodside.dudley.sch.uk",4,11,"Reception","Year 6"]
["Wrens Nest Primary School","3322146","Community School","Mrs Sarah Parkes","Primary ","Wrens Nest Primary School","Marigold Crescent","Dudley",null,"DY1 3NX","01384-818515","Info@wrens-nest.dudley.sch.uk","http://www.wrens-nest.dudley.sch.uk/",2,11,"Nursery 1","Year 6"]

{"sheet":"Datasheet","index":2,"n_rows":20000,"n_cols":14,"rows_kept":4500,"cut":true,"hidden":false,"merged":[],"bounds":{"rows_first":2000,"rows_last":500,"rows_between":2000,"halvings":0}}
["LFT000","School","Role (Staff/ Student)","Forename","Surname","Date of Birth","Year Group","Class/ Form","Consent Given","Barcode","Date of Test","Test Result","SchoolID","UniqueTestID"]
[null,{"$f":"IF(A2=\"\",\"\",Notes!$B$4)","v":""},null,null,null,null,null,null,null,null,null,null,{"$f":"IF(A2=\"\",\"\",VLOOKUP(B2,SchoolID,2,FALSE))","v":""},{"$f":"M2&A2","v":""}]
[null,{"$f":"IF(A3=\"\",\"\",Notes!$B$4)","v":""},null,null,null,null,null,null,null,null,null,null,"",{"$f":"M3&A3","v":""}]
[null,{"$f":"IF(A4=\"\",\"\",Notes!$B$4)","v":""},null,null,null,null,null,null,null,null,null,null,"",""]
[null,{"$f":"IF(A5=\"\",\"\",Notes!$B$4)","v":""},null,null,null,null,null,null,null,null,null,null,"",""]
[null,{"$f":"IF(A6=\"\",\"\",Notes!$B$4)","v":""},null,null,null,null,null,null,null,null,null,null,"",""]
[null,{"$f":"IF(A7=\"\",\"\",Notes!$B$4)","v":""},null,null,null,null,null,null,null,null,null,null,"",""]
[null,{"$f":"IF(A8=\"\",\"\",Notes!$B$4)","v":""},null,null,null,null,null,null,null,null,null,null,"",""]
[null,{"$f":"IF(A9=\"\",\"\",Notes!$B$4)","v":""},null,null,null,null,null,null,null,null,null,null,"",""]
[null,{"$f":"IF(A10=\"\",\"\",Notes!$B$4)","v":""},null,null,null,null,null,null,null,null,null,null,"",""]
[null,{"$f":"IF(A11=\"\",\"\",Notes!$B$4)","v":""},null,null,null,null,null,null,null,null,null,null,"",""]
[null,{"$f":"IF(A12=\"\",\"\",Notes!$B$4)","v":""},null,null,null,null,null,null,null,null,null,null,"",""]
[null,{"$f":"IF(A13=\"\",\"\",Notes!$B$4)","v":""},null,null,null,null,null,null,null,null,null,null,"",""]
[null,{"$f":"IF(A14=\"\",\"\",Notes!$B$4)","v":""},null,null,null,null,null,null,null,null,null,null,"",""]
[null,{"$f":"IF(A15=\"\",\"\",Notes!$B$4)","v":""},null,null,null,null,null,null,null,null,null,null,"",{"$f":"M15&A15","v":""}]
[null,{"$f":"IF(A16=\"\",\"\",Notes!$B$4)","v":""},null,null,null,null,null,null,null,null,null,null,"",""]
[null,{"$f":"IF(A17=\"\",\"\",Notes!$B$4)","v":""},null,null,null,null,null,null,null,null,null,null,"",""]
[null,{"$f":"IF(A18=\"\",\"\",Notes!$B$4)","v":""},null,null,null,null,null,null,null,null,null,null,"",""]
[null,{"$f":"IF(A19=\"\",\"\",Notes!$B$4)","v":""},null,null,null,null,null,null,null,null,null,null,"",""]
[null,{"$f":"IF(A20=\"\",\"\",Notes!$B$4)","v":""},null,null,null,null,null,null,null,null,null,null,"",""]
[null,{"$f":"IF(A21=\"\",\"\",Notes!$B$4)","v":""},null,null,null,null,null,null,null,null,null,null,"",""]
[null,{"$f":"IF(A22=\"\",\"\",Notes!$B$4)","v":""},null,null,null,null,null,null,null,null,null,null,"",""]
[null,{"$f":"IF(A23=\"\",\"\",Notes!$B$4)","v":""},null,null,null,null,null,null,null,null,null,null,"",""]
[null,{"$f":"IF(A24=\"\",\"\",Notes!$B$4)","v":""},null,null,null,null,null,null,null,null,null,null,"",""]
[null,{"$f":"IF(A25=\"\",\"\",Notes!$B$4)","v":""},null,null,null,null,null,null,null,null,null,null,"",""]
[null,{"$f":"IF(A26=\"\",\"\",Notes!$B$4)","v":""},null,null,null,null,null,null,null,null,null,null,"",""]
[null,{"$f":"IF(A27=\"\",\"\",Notes!$B$4)","v":""},null,null,null,null,null,null,null,null,null,null,"",""]
[null,{"$f":"IF(A28=\"\",\"\",Notes!$B$4)","v":""},null,null,null,null,null,null,null,null,null,null,"",""]
[null,{"$f":"IF(A29=\"\",\"\",Notes!$B$4)","v":""},null,null,null,null,null,null,null,null,null,null,"",""]
[null,{"$f":"IF(A30=\"\",\"\",Notes!$B$4)","v":""},null,null,null,null,null,null,null,null,null,null,"",""]
[null,{"$f":"IF(A31=\"\",\"\",Notes!$B$4)","v":""},null,null,null,null,null,null,null,null,null,null,"",""]
[null,{"$f":"IF(A32=\"\",\"\",Notes!$B$4)","v":""},null,null,null,null,null,null,null,null,null,null,"",""]
[null,{"$f":"IF(A33=\"\",\"\",Notes!$B$4)","v":""},null,null,null,null,null,null,null,null,null,null,"",""]
[null,{"$f":"IF(A34=\"\",\"\",Notes!$B$4)","v":""},null,null,null,null,null,null,null,null,null,null,"",""]
[null,{"$f":"IF(A35=\"\",\"\",Notes!$B$4)","v":""},null,null,null,null,null,null,null,null,null,null,"",""]
[null,{"$f":"IF(A36=\"\",\"\",Notes!$B$4)","v":""},null,null,null,null,null,null,null,null,null,null,"",""]
[null,{"$f":"IF(A37=\"\",\"\",Notes!$B$4)","v":""},null,null,null,null,null,null,null,null,null,null,"",""]
[null,{"$f":"IF(A38=\"\",\"\",Notes!$B$4)","v":""},null,null,null,null,null,null,null,null,null,null,"",""]
[null,{"$f":"IF(A39=\"\",\"\",Notes!$B$4)","v":""},null,null,null,null,null,null,null,null,null,null,"",""]
[null,{"$f":"IF(A40=\"\",\"\",Notes!$B$4)","v":""},null,null,null,null,null,null,null,null,null,null,"",""]
[null,{"$f":"IF(A41=\"\",\"\",Notes!$B$4)","v":""},null,null,null,null,null,null,null,null,null,null,"",""]
[null,{"$f":"IF(A42=\"\",\"\",Notes!$B$4)","v":""},null,null,null,null,null,null,null,null,null,null,"",""]
[null,{"$f":"IF(A43=\"\",\"\",Notes!$B$4)","v":""},null,null,null,null,null,null,null,null,null,null,"",""]
[null,{"$f":"IF(A44=\"\",\"\",Notes!$B$4)","v":""},null,null,null,null,null,null,null,null,null,null,"",""]
[null,{"$f":"IF(A45=\"\",\"\",Notes!$B$4)","v":""},null,null,null,null,null,null,null,null,null,null,"",""]
[null,{"$f":"IF(A46=\"\",\"\",Notes!$B$4)","v":""},null,null,null,null,null,null,null,null,null,null,"",""]
[null,{"$f":"IF(A47=\"\",\"\",Notes!$B$4)","v":""},null,null,null,null,null,null,null,null,null,null,"",""]
[null,{"$f":"IF(A48=\"\",\"\",Notes!$B$4)","v":""},null,null,null,null,null,null,null,null,null,null,"",""]
[null,{"$f":"IF(A49=\"\",\"\",Notes!$B$4)","v":""},null,null,null,null,null,null,null,null,null,null,"",""]
[null,{"$f":"IF(A50=\"\",\"\",Notes!$B$4)","v":""},null,null,null,null,null,null,null,null,null,null,"",""]
[null,{"$f":"IF(A51=\"\",\"\",Notes!$B$4)","v":""},null,null,null,null,null,null,null,null,null,null,"",""]
[null,{"$f":"IF(A52=\"\",\"\",Notes!$B$4)","v":""},null,null,null,null,null,null,null,null,null,null,"",""]
[null,{"$f":"IF(A53=\"\",\"\",Notes!$B$4)","v":""},null,null,null,null,null,null,null,null,null,null,"",""]
[null,{"$f":"IF(A54=\"\",\"\",Notes!$B$4)","v":""},null,null,null,null,null,null,null,null,null,null,"",""]
[null,{"$f":"IF(A55=\"\",\"\",Notes!$B$4)","v":""},null,null,null,null,null,null,null,null,null,null,"",""]
[null,{"$f":"IF(A56=\"\",\"\",Notes!$B$4)","v":""},null,null,null,null,null,null,null,null,null,null,"",""]
[null,{"$f":"IF(A57=\"\",\"\",Notes!$B$4)","v":""},null,null,null,null,null,null,null,null,null,null,"",""]
[null,{"$f":"IF(A58=\"\",\"\",Notes!$B$4)","v":""},null,null,null,null,null,null,null,null,null,null,"",""]
[null,{"$f":"IF(A59=\"\",\"\",Notes!$B$4)","v":""},null,null,null,null,null,null,null,null,null,null,"",""]
[null,{"$f":"IF(A60=\"\",\"\",Notes!$B$4)","v":""},null,null,null,null,null,null,null,null,null,null,"",""]
[null,{"$f":"IF(A61=\"\",\"\",Notes!$B$4)","v":""},null,null,null,null,null,null,null,null,null,null,"",""]
[null,{"$f":"IF(A62=\"\",\"\",Notes!$B$4)","v":""},null,null,null,null,null,null,null,null,null,null,"",""]
[null,{"$f":"IF(A63=\"\",\"\",Notes!$B$4)","v":""},null,null,null,null,null,null,null,null,null,null,"",""]
[null,{"$f":"IF(A64=\"\",\"\",Notes!$B$4)","v":""},null,null,null,null,null,null,null,null,null,null,"",""]
[null,{"$f":"IF(A65=\"\",\"\",Notes!$B$4)","v":""},null,null,null,null,null,null,null,null,null,null,"",""]
[null,{"$f":"IF(A66=\"\",\"\",Notes!$B$4)","v":""},null,null,null,null,null,null,null,null,null,null,{"$f":"IF(A66=\"\",\"\",VLOOKUP(B66,SchoolID,2,FALSE))","v":""},""]
[null,{"$f":"IF(A67=\"\",\"\",Notes!$B$4)","v":""},null,null,null,null,null,null,null,null,null,null,"",""]
[null,{"$f":"IF(A68=\"\",\"\",Notes!$B$4)","v":""},null,null,null,null,null,null,null,null,null,null,"",""]
[null,{"$f":"IF(A69=\"\",\"\",Notes!$B$4)","v":""},null,null,null,null,null,null,null,null,null,null,"",""]
[null,{"$f":"IF(A70=\"\",\"\",Notes!$B$4)","v":""},null,null,null,null,null,null,null,null,null,null,"",""]
[null,{"$f":"IF(A71=\"\",\"\",Notes!$B$4)","v":""},null,null,null,null,null,null,null,null,null,null,"",""]
[null,{"$f":"IF(A72=\"\",\"\",Notes!$B$4)","v":""},null,null,null,null,null,null,null,null,null,null,"",""]
[null,{"$f":"IF(A73=\"\",\"\",Notes!$B$4)","v":""},null,null,null,null,null,null,null,null,null,null,"",""]
[null,{"$f":"IF(A74=\"\",\"\",Notes!$B$4)","v":""},null,null,null,null,null,null,null,null,null,null,"",""]
[null,{"$f":"IF(A75=\"\",\"\",Notes!$B$4)","v":""},null,null,null,null,null,null,null,null,null,null,"",""]
[null,{"$f":"IF(A76=\"\",\"\",Notes!$B$4)","v":""},null,null,null,null,null,null,null,null,null,null,"",""]
[null,{"$f":"IF(A77=\"\",\"\",Notes!$B$4)","v":""},null,null,null,null,null,null,null,null,null,null,"",""]
[null,{"$f":"IF(A78=\"\",\"\",Notes!$B$4)","v":""},null,null,null,null,null,null,null,null,null,null,"",""]
[null,{"$f":"IF(A79=\"\",\"\",Notes!$B$4)","v":""},null,null,null,null,null,null,null,null,null,null,"",{"$f":"M79&A79","v":""}]
[null,{"$f":"IF(A80=\"\",\"\",Notes!$B$4)","v":""},null,null,null,null,null,null,null,null,null,null,"",""]
[null,{"$f":"IF(A81=\"\",\"\",Notes!$B$4)","v":""},null,null,null,null,null,null,null,null,null,null,"",""]
[null,{"$f":"IF(A82=\"\",\"\",Notes!$B$4)","v":""},null,null,null,null,null,null,null,null,null,null,"",""]
[null,{"$f":"IF(A83=\"\",\"\",Notes!$B$4)","v":""},null,null,null,null,null,null,null,null,null,null,"",""]
[null,{"$f":"IF(A84=\"\",\"\",Notes!$B$4)","v":""},null,null,null,null,null,null,null,null,null,null,"",""]
[null,{"$f":"IF(A85=\"\",\"\",Notes!$B$4)","v":""},null,null,null,null,null,null,null,null,null,null,"",""]
[null,{"$f":"IF(A86=\"\",\"\",Notes!$B$4)","v":""},null,null,null,null,null,null,null,null,null,null,"",""]
[null,{"$f":"IF(A87=\"\",\"\",Notes!$B$4)","v":""},null,null,null,null,null,null,null,null,null,null,"",""]
[null,{"$f":"IF(A88=\"\",\"\",Notes!$B$4)","v":""},null,null,null,null,null,null,null,null,null,null,"",""]
[null,{"$f":"IF(A89=\"\",\"\",Notes!$B$4)","v":""},null,null,null,null,null,null,null,null,null,null,"",""]
[null,{"$f":"IF(A90=\"\",\"\",Notes!$B$4)","v":""},null,null,null,null,null,null,null,null,null,null,"",""]
[null,{"$f":"IF(A91=\"\",\"\",Notes!$B$4)","v":""},null,null,null,null,null,null,null,null,null,null,"",""]
[null,{"$f":"IF(A92=\"\",\"\",Notes!$B$4)","v":""},null,null,null,null,null,null,null,null,null,null,"",""]
[null,{"$f":"IF(A93=\"\",\"\",Notes!$B$4)","v":""},null,null,null,null,null,null,null,null,null,null,"",""]
[null,{"$f":"IF(A94=\"\",\"\",Notes!$B$4)","v":""},null,null,null,null,null,null,null,null,null,null,"",""]
[null,{"$f":"IF(A95=\"\",\"\",Notes!$B$4)","v":""},null,null,null,null,null,null,null,null,null,null,"",""]
[null,{"$f":"IF(A96=\"\",\"\",Notes!$B$4)","v":""},null,null,null,null,null,null,null,null,null,null,"",""]
[null,{"$f":"IF(A97=\"\",\"\",Notes!$B$4)","v":""},null,null,null,null,null,null,null,null,null,null,"",""]
[null,{"$f":"IF(A98=\"\",\"\",Notes!$B$4)","v":""},null,null,null,null,null,null,null,null,null,null,"",""]
[null,{"$f":"IF(A99=\"\",\"\",Notes!$B$4)","v":""},null,null,null,null,null,null,null,null,null,null,"",""]
[null,{"$f":"IF(A100=\"\",\"\",Notes!$B$4)","v":""},null,null,null,null,null,null,null,null,null,null,"",""]
[null,{"$f":"IF(A101=\"\",\"\",Notes!$B$4)","v":""},null,null,null,null,null,null,null,null,null,null,"",""]
[null,{"$f":"IF(A102=\"\",\"\",Notes!$B$4)","v":""},null,null,null,null,null,null,null,null,null,null,"",""]
[null,{"$f":"IF(A103=\"\",\"\",Notes!$B$4)","v":""},null,null,null,null,null,null,null,null,null,null,"",""]
[null,{"$f":"IF(A104=\"\",\"\",Notes!$B$4)","v":""},null,null,null,null,null,null,null,null,null,null,"",""]
[null,{"$f":"IF(A105=\"\",\"\",Notes!$B$4)","v":""},null,null,null,null,null,null,null,null,null,null,"",""]
[null,{"$f":"IF(A106=\"\",\"\",Notes!$B$4)","v":""},null,null,null,null,null,null,null,null,null,null,"",""]
[null,{"$f":"IF(A107=\"\",\"\",Notes!$B$4)","v":""},null,null,null,null,null,null,null,null,null,null,"",""]
[null,{"$f":"IF(A108=\"\",\"\",Notes!$B$4)","v":""},null,null,null,null,null,null,null,null,null,null,"",""]
[null,{"$f":"IF(A109=\"\",\"\",Notes!$B$4)","v":""},null,null,null,null,null,null,null,null,null,null,"",""]
[null,{"$f":"IF(A110=\"\",\"\",Notes!$B$4)","v":""},null,null,null,null,null,null,null,null,null,null,"",""]
[null,{"$f":"IF(A111=\"\",\"\",Notes!$B$4)","v":""},null,null,null,null,null,null,null,null,null,null,"",""]
[null,{"$f":"IF(A112=\"\",\"\",Notes!$B$4)","v":""},null,null,null,null,null,null,null,null,null,null,"",""]
[null,{"$f":"IF(A113=\"\",\"\",Notes!$B$4)","v":""},null,null,null,null,null,null,null,null,null,null,"",""]
[null,{"$f":"IF(A114=\"\",\"\",Notes!$B$4)","v":""},null,null,null,null,null,null,null,null,null,null,"",""]
[null,{"$f":"IF(A115=\"\",\"\",Notes!$B$4)","v":""},null,null,null,null,null,null,null,null,null,null,"",""]
[null,{"$f":"IF(A116=\"\",\"\",Notes!$B$4)","v":""},null,null,null,null,null,null,null,null,null,null,"",""]
[null,{"$f":"IF(A117=\"\",\"\",Notes!$B$4)","v":""},null,null,null,null,null,null,null,null,null,null,"",""]
[null,{"$f":"IF(A118=\"\",\"\",Notes!$B$4)","v":""},null,null,null,null,null,null,null,null,null,null,"",""]
[null,{"$f":"IF(A119=\"\",\"\",Notes!$B$4)","v":""},null,null,null,null,null,null,null,null,null,null,"",""]
[null,{"$f":"IF(A120=\"\",\"\",Notes!$B$4)","v":""},null,null,null,null,null,null,null,null,null,null,"",""]
[null,{"$f":"IF(A121=\"\",\"\",Notes!$B$4)","v":""},null,null,null,null,null,null,null,null,null,null,"",""]
[null,{"$f":"IF(A122=\"\",\"\",Notes!$B$4)","v":""},null,null,null,null,null,null,null,null,null,null,"",""]
[null,{"$f":"IF(A123=\"\",\"\",Notes!$B$4)","v":""},null,null,null,null,null,null,null,null,null,null,"",""]
[null,{"$f":"IF(A124=\"\",\"\",Notes!$B$4)","v":""},null,null,null,null,null,null,null,null,null,null,"",""]
[null,{"$f":"IF(A125=\"\",\"\",Notes!$B$4)","v":""},null,null,null,null,null,null,null,null,null,null,"",""]
[null,{"$f":"IF(A126=\"\",\"\",Notes!$B$4)","v":""},null,null,null,null,null,null,null,null,null,null,"",""]
[null,{"$f":"IF(A127=\"\",\"\",Notes!$B$4)","v":""},null,null,null,null,null,null,null,null,null,null,"",""]
[null,{"$f":"IF(A128=\"\",\"\",Notes!$B$4)","v":""},null,null,null,null,null,null,null,null,null,null,"",""]
[null,{"$f":"IF(A129=\"\",\"\",Notes!$B$4)","v":""},null,null,null,null,null,null,null,null,null,null,"",""]
[null,{"$f":"IF(A130=\"\",\"\",Notes!$B$4)","v":""},null,null,null,null,null,null,null,null,null,null,{"$f":"IF(A130=\"\",\"\",VLOOKUP(B130,SchoolID,2,FALSE))","v":""},""]
[null,{"$f":"IF(A131=\"\",\"\",Notes!$B$4)","v":""},null,null,null,null,null,null,null,null,null,null,"",""]
[null,{"$f":"IF(A132=\"\",\"\",Notes!$B$4)","v":""},null,null,null,null,null,null,null,null,null,null,"",""]
[null,{"$f":"IF(A133=\"\",\"\",Notes!$B$4)","v":""},null,null,null,null,null,null,null,null,null,null,"",""]
[null,{"$f":"IF(A134=\"\",\"\",Notes!$B$4)","v":""},null,null,null,null,null,null,null,null,null,null,"",""]
[null,{"$f":"IF(A135=\"\",\"\",Notes!$B$4)","v":""},null,null,null,null,null,null,null,null,null,null,"",""]
[null,{"$f":"IF(A136=\"\",\"\",Notes!$B$4)","v":""},null,null,null,null,null,null,null,null,null,null,"",""]
[null,{"$f":"IF(A137=\"\",\"\",Notes!$B$4)","v":""},null,null,null,null,null,null,null,null,null,null,"",""]
[null,{"$f":"IF(A138=\"\",\"\",Notes!$B$4)","v":""},null,null,null,null,null,null,null,null,null,null,"",""]
[null,{"$f":"IF(A139=\"\",\"\",Notes!$B$4)","v":""},null,null,null,null,null,null,null,null,null,null,"",""]
[null,{"$f":"IF(A140=\"\",\"\",Notes!$B$4)","v":""},null,null,null,null,null,null,null,null,null,null,"",""]
[null,{"$f":"IF(A141=\"\",\"\",Notes!$B$4)","v":""},null,null,null,null,null,null,null,null,null,null,"",""]
[null,{"$f":"IF(A142=\"\",\"\",Notes!$B$4)","v":""},null,null,null,null,null,null,null,null,null,null,"",""]
[null,{"$f":"IF(A143=\"\",\"\",Notes!$B$4)","v":""},null,null,null,null,null,null,null,null,null,null,"",{"$f":"M143&A143","v":""}]
[null,{"$f":"IF(A144=\"\",\"\",Notes!$B$4)","v":""},null,null,null,null,null,null,null,null,null,null,"",""]
[null,{"$f":"IF(A145=\"\",\"\",Notes!$B$4)","v":""},null,null,null,null,null,null,null,null,null,null,"",""]
[null,{"$f":"IF(A146=\"\",\"\",Notes!$B$4)","v":""},null,null,null,null,null,null,null,null,null,null,"",""]
[null,{"$f":"IF(A147=\"\",\"\",Notes!$B$4)","v":""},null,null,null,null,null,null,null,null,null,null,"",""]
[null,{"$f":"IF(A148=\"\",\"\",Notes!$B$4)","v":""},null,null,null,null,null,null,null,null,null,null,"",""]
[null,{"$f":"IF(A149=\"\",\"\",Notes!$B$4)","v":""},null,null,null,null,null,null,null,null,null,null,"",""]
[null,{"$f":"IF(A150=\"\",\"\",Notes!$B$4)","v":""},null,null,null,null,null,null,null,null,null,null,"",""]
[null,{"$f":"IF(A151=\"\",\"\",Notes!$B$4)","v":""},null,null,null,null,null,null,null,null,null,null,"",""]
[null,{"$f":"IF(A152=\"\",\"\",Notes!$B$4)","v":""},null,null,null,null,null,null,null,null,null,null,"",""]
[null,{"$f":"IF(A153=\"\",\"\",Notes!$B$4)","v":""},null,null,null,null,null,null,null,null,null,null,"",""]
[null,{"$f":"IF(A154=\"\",\"\",Notes!$B$4)","v":""},null,null,null,null,null,null,null,null,null,null,"",""]
[null,{"$f":"IF(A155=\"\",\"\",Notes!$B$4)","v":""},null,null,null,null,null,null,null,null,null,null,"",""]
[null,{"$f":"IF(A156=\"\",\"\",Notes!$B$4)","v":""},null,null,null,null,null,null,null,null,null,null,"",""]
[null,{"$f":"IF(A157=\"\",\"\",Notes!$B$4)","v":""},null,null,null,null,null,null,null,null,null,null,"",""]
[null,{"$f":"IF(A158=\"\",\"\",Notes!$B$4)","v":""},null,null,null,null,null,null,null,null,null,null,"",""]
[null,{"$f":"IF(A159=\"\",\"\",Notes!$B$4)","v":""},null,null,null,null,null,null,null,null,null,null,"",""]
[null,{"$f":"IF(A160=\"\",\"\",Notes!$B$4)","v":""},null,null,null,null,null,null,null,null,null,null,"",""]
[null,{"$f":"IF(A161=\"\",\"\",Notes!$B$4)","v":""},null,null,null,null,null,null,null,null,null,null,"",""]
[null,{"$f":"IF(A162=\"\",\"\",Notes!$B$4)","v":""},null,null,null,null,null,null,null,null,null,null,"",""]
[null,{"$f":"IF(A163=\"\",\"\",Notes!$B$4)","v":""},null,null,null,null,null,null,null,null,null,null,"",""]
[null,{"$f":"IF(A164=\"\",\"\",Notes!$B$4)","v":""},null,null,null,null,null,null,null,null,null,null,"",""]
[null,{"$f":"IF(A165=\"\",\"\",Notes!$B$4)","v":""},null,null,null,null,null,null,null,null,null,null,"",""]
[null,{"$f":"IF(A166=\"\",\"\",Notes!$B$4)","v":""},null,null,null,null,null,null,null,null,null,null,"",""]
[null,{"$f":"IF(A167=\"\",\"\",Notes!$B$4)","v":""},null,null,null,null,null,null,null,null,null,null,"",""]
[null,{"$f":"IF(A168=\"\",\"\",Notes!$B$4)","v":""},null,null,null,null,null,null,null,null,null,null,"",""]
[null,{"$f":"IF(A169=\"\",\"\",Notes!$B$4)","v":""},null,null,null,null,null,null,null,null,null,null,"",""]
[null,{"$f":"IF(A170=\"\",\"\",Notes!$B$4)","v":""},null,null,null,null,null,null,null,null,null,null,"",""]
[null,{"$f":"IF(A171=\"\",\"\",Notes!$B$4)","v":""},null,null,null,null,null,null,null,null,null,null,"",""]
[null,{"$f":"IF(A172=\"\",\"\",Notes!$B$4)","v":""},null,null,null,null,null,null,null,null,null,null,"",""]
[null,{"$f":"IF(A173=\"\",\"\",Notes!$B$4)","v":""},null,null,null,null,null,null,null,null,null,null,"",""]
[null,{"$f":"IF(A174=\"\",\"\",Notes!$B$4)","v":""},null,null,null,null,null,null,null,null,null,null,"",""]
[null,{"$f":"IF(A175=\"\",\"\",Notes!$B$4)","v":""},null,null,null,null,null,null,null,null,null,null,"",""]
[null,{"$f":"IF(A176=\"\",\"\",Notes!$B$4)","v":""},null,null,null,null,null,null,null,null,null,null,"",""]
[null,{"$f":"IF(A177=\"\",\"\",Notes!$B$4)","v":""},null,null,null,null,null,null,null,null,null,null,"",""]
[null,{"$f":"IF(A178=\"\",\"\",Notes!$B$4)","v":""},null,null,null,null,null,null,null,null,null,null,"",""]
[null,{"$f":"IF(A179=\"\",\"\",Notes!$B$4)","v":""},null,null,null,null,null,null,null,null,null,null,"",""]
[null,{"$f":"IF(A180=\"\",\"\",Notes!$B$4)","v":""},null,null,null,null,null,null,null,null,null,null,"",""]
[null,{"$f":"IF(A181=\"\",\"\",Notes!$B$4)","v":""},null,null,null,null,null,null,null,null,null,null,"",""]
[null,{"$f":"IF(A182=\"\",\"\",Notes!$B$4)","v":""},null,null,null,null,null,null,null,null,null,null,"",""]
[null,{"$f":"IF(A183=\"\",\"\",Notes!$B$4)","v":""},null,null,null,null,null,null,null,null,null,null,"",""]
[null,{"$f":"IF(A184=\"\",\"\",Notes!$B$4)","v":""},null,null,null,null,null,null,null,null,null,null,"",""]
[null,{"$f":"IF(A185=\"\",\"\",Notes!$B$4)","v":""},null,null,null,null,null,null,null,null,null,null,"",""]
[null,{"$f":"IF(A186=\"\",\"\",Notes!$B$4)","v":""},null,null,null,null,null,null,null,null,null,null,"",""]
[null,{"$f":"IF(A187=\"\",\"\",Notes!$B$4)","v":""},null,null,null,null,null,null,null,null,null,null,"",""]
[null,{"$f":"IF(A188=\"\",\"\",Notes!$B$4)","v":""},null,null,null,null,null,null,null,null,null,null,"",""]
[null,{"$f":"IF(A189=\"\",\"\",Notes!$B$4)","v":""},null,null,null,null,null,null,null,null,null,null,"",""]
[null,{"$f":"IF(A190=\"\",\"\",Notes!$B$4)","v":""},null,null,null,null,null,null,null,null,null,null,"",""]
[null,{"$f":"IF(A191=\"\",\"\",Notes!$B$4)","v":""},null,null,null,null,null,null,null,null,null,null,"",""]
[null,{"$f":"IF(A192=\"\",\"\",Notes!$B$4)","v":""},null,null,null,null,null,null,null,null,null,null,"",""]
[null,{"$f":"IF(A193=\"\",\"\",Notes!$B$4)","v":""},null,null,null,null,null,null,null,null,null,null,"",""]
[null,{"$f":"IF(A194=\"\",\"\",Notes!$B$4)","v":""},null,null,null,null,null,null,null,null,null,null,{"$f":"IF(A194=\"\",\"\",VLOOKUP(B194,SchoolID,2,FALSE))","v":""},""]
[null,{"$f":"IF(A195=\"\",\"\",Notes!$B$4)","v":""},null,null,null,null,null,null,null,null,null,null,"",""]
[null,{"$f":"IF(A196=\"\",\"\",Notes!$B$4)","v":""},null,null,null,null,null,null,null,null,null,null,"",""]
[null,{"$f":"IF(A197=\"\",\"\",Notes!$B$4)","v":""},null,null,null,null,null,null,null,null,null,null,"",""]
[null,{"$f":"IF(A198=\"\",\"\",Notes!$B$4)","v":""},null,null,null,null,null,null,null,null,null,null,"",""]
[null,{"$f":"IF(A199=\"\",\"\",Notes!$B$4)","v":""},null,null,null,null,null,null,null,null,null,null,"",""]
[null,{"$f":"IF(A200=\"\",\"\",Notes!$B$4)","v":""},null,null,null,null,null,null,null,null,null,null,"",""]
[null,{"$f":"IF(A201=\"\",\"\",Notes!$B$4)","v":""},null,null,null,null,null,null,null,null,null,null,"",""]
[null,{"$f":"IF(A202=\"\",\"\",Notes!$B$4)","v":""},null,null,null,null,null,null,null,null,null,null,"",""]
[null,{"$f":"IF(A203=\"\",\"\",Notes!$B$4)","v":""},null,null,null,null,null,null,null,null,null,null,"",""]
[null,{"$f":"IF(A204=\"\",\"\",Notes!$B$4)","v":""},null,null,null,null,null,null,null,null,null,null,"",""]
[null,{"$f":"IF(A205=\"\",\"\",Notes!$B$4)","v":""},null,null,null,null,null,null,null,null,null,null,"",""]
[null,{"$f":"IF(A206=\"\",\"\",Notes!$B$4)","v":""},null,null,null,null,null,null,null,null,null,null,"",""]
[null,{"$f":"IF(A207=\"\",\"\",Notes!$B$4)","v":""},null,null,null,null,null,null,null,null,null,null,"",{"$f":"M207&A207","v":""}]
[null,{"$f":"IF(A208=\"\",\"\",Notes!$B$4)","v":""},null,null,null,null,null,null,null,null,null,null,"",""]
[null,{"$f":"IF(A209=\"\",\"\",Notes!$B$4)","v":""},null,null,null,null,null,null,null,null,null,null,"",""]
[null,{"$f":"IF(A210=\"\",\"\",Notes!$B$4)","v":""},null,null,null,null,null,null,null,null,null,null,"",""]
[null,{"$f":"IF(A211=\"\",\"\",Notes!$B$4)","v":""},null,null,null,null,null,null,null,null,null,null,"",""]
[null,{"$f":"IF(A212=\"\",\"\",Notes!$B$4)","v":""},null,null,null,null,null,null,null,null,null,null,"",""]
[null,{"$f":"IF(A213=\"\",\"\",Notes!$B$4)","v":""},null,null,null,null,null,null,null,null,null,null,"",""]
[null,{"$f":"IF(A214=\"\",\"\",Notes!$B$4)","v":""},null,null,null,null,null,null,null,null,null,null,"",""]
[null,{"$f":"IF(A215=\"\",\"\",Notes!$B$4)","v":""},null,null,null,null,null,null,null,null,null,null,"",""]
[null,{"$f":"IF(A216=\"\",\"\",Notes!$B$4)","v":""},null,null,null,null,null,null,null,null,null,null,"",""]
[null,{"$f":"IF(A217=\"\",\"\",Notes!$B$4)","v":""},null,null,null,null,null,null,null,null,null,null,"",""]
[null,{"$f":"IF(A218=\"\",\"\",Notes!$B$4)","v":""},null,null,null,null,null,null,null,null,null,null,"",""]
[null,{"$f":"IF(A219=\"\",\"\",Notes!$B$4)","v":""},null,null,null,null,null,null,null,null,null,null,"",""]
[null,{"$f":"IF(A220=\"\",\"\",Notes!$B$4)","v":""},null,null,null,null,null,null,null,null,null,null,"",""]
[null,{"$f":"IF(A221=\"\",\"\",Notes!$B$4)","v":""},null,null,null,null,null,null,null,null,null,null,"",""]
[null,{"$f":"IF(A222=\"\",\"\",Notes!$B$4)","v":""},null,null,null,null,null,null,null,null,null,null,"",""]
[null,{"$f":"IF(A223=\"\",\"\",Notes!$B$4)","v":""},null,null,null,null,null,null,null,null,null,null,"",""]
[null,{"$f":"IF(A224=\"\",\"\",Notes!$B$4)","v":""},null,null,null,null,null,null,null,null,null,null,"",""]
[null,{"$f":"IF(A225=\"\",\"\",Notes!$B$4)","v":""},null,null,null,null,null,null,null,null,null,null,"",""]
[null,{"$f":"IF(A226=\"\",\"\",Notes!$B$4)","v":""},null,null,null,null,null,null,null,null,null,null,"",""]
[null,{"$f":"IF(A227=\"\",\"\",Notes!$B$4)","v":""},null,null,null,null,null,null,null,null,null,null,"",""]
[null,{"$f":"IF(A228=\"\",\"\",Notes!$B$4)","v":""},null,null,null,null,null,null,null,null,null,null,"",""]
[null,{"$f":"IF(A229=\"\",\"\",Notes!$B$4)","v":""},null,null,null,null,null,null,null,null,null,null,"",""]
[null,{"$f":"IF(A230=\"\",\"\",Notes!$B$4)","v":""},null,null,null,null,null,null,null,null,null,null,"",""]
[null,{"$f":"IF(A231=\"\",\"\",Notes!$B$4)","v":""},null,null,null,null,null,null,null,null,null,null,"",""]
[null,{"$f":"IF(A232=\"\",\"\",Notes!$B$4)","v":""},null,null,null,null,null,null,null,null,null,null,"",""]
[null,{"$f":"IF(A233=\"\",\"\",Notes!$B$4)","v":""},null,null,null,null,null,null,null,null,null,null,"",""]
[null,{"$f":"IF(A234=\"\",\"\",Notes!$B$4)","v":""},null,null,null,null,null,null,null,null,null,null,"",""]
[null,{"$f":"IF(A235=\"\",\"\",Notes!$B$4)","v":""},null,null,null,null,null,null,null,null,null,null,"",""]
[null,{"$f":"IF(A236=\"\",\"\",Notes!$B$4)","v":""},null,null,null,null,null,null,null,null,null,null,"",""]
[null,{"$f":"IF(A237=\"\",\"\",Notes!$B$4)","v":""},null,null,null,null,null,null,null,null,null,null,"",""]
[null,{"$f":"IF(A238=\"\",\"\",Notes!$B$4)","v":""},null,null,null,null,null,null,null,null,null,null,"",""]
[null,{"$f":"IF(A239=\"\",\"\",Notes!$B$4)","v":""},null,null,null,null,null,null,null,null,null,null,"",""]
[null,{"$f":"IF(A240=\"\",\"\",Notes!$B$4)","v":""},null,null,null,null,null,null,null,null,null,null,"",""]
[null,{"$f":"IF(A241=\"\",\"\",Notes!$B$4)","v":""},null,null,null,null,null,null,null,null,null,null,"",""]
[null,{"$f":"IF(A242=\"\",\"\",Notes!$B$4)","v":""},null,null,null,null,null,null,null,null,null,null,"",""]
[null,{"$f":"IF(A243=\"\",\"\",Notes!$B$4)","v":""},null,null,null,null,null,null,null,null,null,null,"",""]
[null,{"$f":"IF(A244=\"\",\"\",Notes!$B$4)","v":""},null,null,null,null,null,null,null,null,null,null,"",""]
[null,{"$f":"IF(A245=\"\",\"\",Notes!$B$4)","v":""},null,null,null,null,null,null,null,null,null,null,"",""]
[null,{"$f":"IF(A246=\"\",\"\",Notes!$B$4)","v":""},null,null,null,null,null,null,null,null,null,null,"",""]
[null,{"$f":"IF(A247=\"\",\"\",Notes!$B$4)","v":""},null,null,null,null,null,null,null,null,null,null,"",""]
[null,{"$f":"IF(A248=\"\",\"\",Notes!$B$4)","v":""},null,null,null,null,null,null,null,null,null,null,"",""]
[null,{"$f":"IF(A249=\"\",\"\",Notes!$B$4)","v":""},null,null,null,null,null,null,null,null,null,null,"",""]
[null,{"$f":"IF(A250=\"\",\"\",Notes!$B$4)","v":""},null,null,null,null,null,null,null,null,null,null,"",""]
[null,{"$f":"IF(A251=\"\",\"\",Notes!$B$4)","v":""},null,null,null,null,null,null,null,null,null,null,"",""]
[null,{"$f":"IF(A252=\"\",\"\",Notes!$B$4)","v":""},null,null,null,null,null,null,null,null,null,null,"",""]
[null,{"$f":"IF(A253=\"\",\"\",Notes!$B$4)","v":""},null,null,null,null,null,null,null,null,null,null,"",""]
[null,{"$f":"IF(A254=\"\",\"\",Notes!$B$4)","v":""},null,null,null,null,null,null,null,null,null,null,"",""]
[null,{"$f":"IF(A255=\"\",\"\",Notes!$B$4)","v":""},null,null,null,null,null,null,null,null,null,null,"",""]
[null,{"$f":"IF(A256=\"\",\"\",Notes!$B$4)","v":""},null,null,null,null,null,null,null,null,null,null,"",""]
[null,{"$f":"IF(A257=\"\",\"\",Notes!$B$4)","v":""},null,null,null,null,null,null,null,null,null,null,"",""]
[null,{"$f":"IF(A258=\"\",\"\",Notes!$B$4)","v":""},null,null,null,null,null,null,null,null,null,null,{"$f":"IF(A258=\"\",\"\",VLOOKUP(B258,SchoolID,2,FALSE))","v":""},""]
[null,{"$f":"IF(A259=\"\",\"\",Notes!$B$4)","v":""},null,null,null,null,null,null,null,null,null,null,"",""]
[null,{"$f":"IF(A260=\"\",\"\",Notes!$B$4)","v":""},null,null,null,null,null,null,null,null,null,null,"",""]
[null,{"$f":"IF(A261=\"\",\"\",Notes!$B$4)","v":""},null,null,null,null,null,null,null,null,null,null,"",""]
[null,{"$f":"IF(A262=\"\",\"\",Notes!$B$4)","v":""},null,null,null,null,null,null,null,null,null,null,"",""]
[null,{"$f":"IF(A263=\"\",\"\",Notes!$B$4)","v":""},null,null,null,null,null,null,null,null,null,null,"",""]
[null,{"$f":"IF(A264=\"\",\"\",Notes!$B$4)","v":""},null,null,null,null,null,null,null,null,null,null,"",""]
[null,{"$f":"IF(A265=\"\",\"\",Notes!$B$4)","v":""},null,null,null,null,null,null,null,null,null,null,"",""]
[null,{"$f":"IF(A266=\"\",\"\",Notes!$B$4)","v":""},null,null,null,null,null,null,null,null,null,null,"",""]
[null,{"$f":"IF(A267=\"\",\"\",Notes!$B$4)","v":""},null,null,null,null,null,null,null,null,null,null,"",""]
[null,{"$f":"IF(A268=\"\",\"\",Notes!$B$4)","v":""},null,null,null,null,null,null,null,null,null,null,"",""]
[null,{"$f":"IF(A269=\"\",\"\",Notes!$B$4)","v":""},null,null,null,null,null,null,null,null,null,null,"",""]
[null,{"$f":"IF(A270=\"\",\"\",Notes!$B$4)","v":""},null,null,null,null,null,null,null,null,null,null,"",""]
[null,{"$f":"IF(A271=\"\",\"\",Notes!$B$4)","v":""},null,null,null,null,null,null,null,null,null,null,"",{"$f":"M271&A271","v":""}]
[null,{"$f":"IF(A272=\"\",\"\",Notes!$B$4)","v":""},null,null,null,null,null,null,null,null,null,null,"",""]
[null,{"$f":"IF(A273=\"\",\"\",Notes!$B$4)","v":""},null,null,null,null,null,null,null,null,null,null,"",""]
[null,{"$f":"IF(A274=\"\",\"\",Notes!$B$4)","v":""},null,null,null,null,null,null,null,null,null,null,"",""]
[null,{"$f":"IF(A275=\"\",\"\",Notes!$B$4)","v":""},null,null,null,null,null,null,null,null,null,null,"",""]
[null,{"$f":"IF(A276=\"\",\"\",Notes!$B$4)","v":""},null,null,null,null,null,null,null,null,null,null,"",""]
[null,{"$f":"IF(A277=\"\",\"\",Notes!$B$4)","v":""},null,null,null,null,null,null,null,null,null,null,"",""]
[null,{"$f":"IF(A278=\"\",\"\",Notes!$B$4)","v":""},null,null,null,null,null,null,null,null,null,null,"",""]
[null,{"$f":"IF(A279=\"\",\"\",Notes!$B$4)","v":""},null,null,null,null,null,null,null,null,null,null,"",""]
[null,{"$f":"IF(A280=\"\",\"\",Notes!$B$4)","v":""},null,null,null,null,null,null,null,null,null,null,"",""]
[null,{"$f":"IF(A281=\"\",\"\",Notes!$B$4)","v":""},null,null,null,null,null,null,null,null,null,null,"",""]
[null,{"$f":"IF(A282=\"\",\"\",Notes!$B$4)","v":""},null,null,null,null,null,null,null,null,null,null,"",""]
[null,{"$f":"IF(A283=\"\",\"\",Notes!$B$4)","v":""},null,null,null,null,null,null,null,null,null,null,"",""]
[null,{"$f":"IF(A284=\"\",\"\",Notes!$B$4)","v":""},null,null,null,null,null,null,null,null,null,null,"",""]
[null,{"$f":"IF(A285=\"\",\"\",Notes!$B$4)","v":""},null,null,null,null,null,null,null,null,null,null,"",""]
[null,{"$f":"IF(A286=\"\",\"\",Notes!$B$4)","v":""},null,null,null,null,null,null,null,null,null,null,"",""]
[null,{"$f":"IF(A287=\"\",\"\",Notes!$B$4)","v":""},null,null,null,null,null,null,null,null,null,null,"",""]
[null,{"$f":"IF(A288=\"\",\"\",Notes!$B$4)","v":""},null,null,null,null,null,null,null,null,null,null,"",""]
[null,{"$f":"IF(A289=\"\",\"\",Notes!$B$4)","v":""},null,null,null,null,null,null,null,null,null,null,"",""]
[null,{"$f":"IF(A290=\"\",\"\",Notes!$B$4)","v":""},null,null,null,null,null,null,null,null,null,null,"",""]
[null,{"$f":"IF(A291=\"\",\"\",Notes!$B$4)","v":""},null,null,null,null,null,null,null,null,null,null,"",""]
[null,{"$f":"IF(A292=\"\",\"\",Notes!$B$4)","v":""},null,null,null,null,null,null,null,null,null,null,"",""]
[null,{"$f":"IF(A293=\"\",\"\",Notes!$B$4)","v":""},null,null,null,null,null,null,null,null,null,null,"",""]
[null,{"$f":"IF(A294=\"\",\"\",Notes!$B$4)","v":""},null,null,null,null,null,null,null,null,null,null,"",""]
[null,{"$f":"IF(A295=\"\",\"\",Notes!$B$4)","v":""},null,null,null,null,null,null,null,null,null,null,"",""]
[null,{"$f":"IF(A296=\"\",\"\",Notes!$B$4)","v":""},null,null,null,null,null,null,null,null,null,null,"",""]
[null,{"$f":"IF(A297=\"\",\"\",Notes!$B$4)","v":""},null,null,null,null,null,null,null,null,null,null,"",""]
[null,{"$f":"IF(A298=\"\",\"\",Notes!$B$4)","v":""},null,null,null,null,null,null,null,null,null,null,"",""]
[null,{"$f":"IF(A299=\"\",\"\",Notes!$B$4)","v":""},null,null,null,null,null,null,null,null,null,null,"",""]
[null,{"$f":"IF(A300=\"\",\"\",Notes!$B$4)","v":""},null,null,null,null,null,null,null,null,null,null,"",""]
[null,{"$f":"IF(A301=\"\",\"\",Notes!$B$4)","v":""},null,null,null,null,null,null,null,null,null,null,"",""]
[null,{"$f":"IF(A302=\"\",\"\",Notes!$B$4)","v":""},null,null,null,null,null,null,null,null,null,null,"",""]
[null,{"$f":"IF(A303=\"\",\"\",Notes!$B$4)","v":""},null,null,null,null,null,null,null,null,null,null,"",""]
[null,{"$f":"IF(A304=\"\",\"\",Notes!$B$4)","v":""},null,null,null,null,null,null,null,null,null,null,"",""]
[null,{"$f":"IF(A305=\"\",\"\",Notes!$B$4)","v":""},null,null,null,null,null,null,null,null,null,null,"",""]
[null,{"$f":"IF(A306=\"\",\"\",Notes!$B$4)","v":""},null,null,null,null,null,null,null,null,null,null,"",""]
[null,{"$f":"IF(A307=\"\",\"\",Notes!$B$4)","v":""},null,null,null,null,null,null,null,null,null,null,"",""]
[null,{"$f":"IF(A308=\"\",\"\",Notes!$B$4)","v":""},null,null,null,null,null,null,null,null,null,null,"",""]
[null,{"$f":"IF(A309=\"\",\"\",Notes!$B$4)","v":""},null,null,null,null,null,null,null,null,null,null,"",""]
[null,{"$f":"IF(A310=\"\",\"\",Notes!$B$4)","v":""},null,null,null,null,null,null,null,null,null,null,"",""]
[null,{"$f":"IF(A311=\"\",\"\",Notes!$B$4)","v":""},null,null,null,null,null,null,null,null,null,null,"",""]
[null,{"$f":"IF(A312=\"\",\"\",Notes!$B$4)","v":""},null,null,null,null,null,null,null,null,null,null,"",""]
[null,{"$f":"IF(A313=\"\",\"\",Notes!$B$4)","v":""},null,null,null,null,null,null,null,null,null,null,"",""]
[null,{"$f":"IF(A314=\"\",\"\",Notes!$B$4)","v":""},null,null,null,null,null,null,null,null,null,null,"",""]
[null,{"$f":"IF(A315=\"\",\"\",Notes!$B$4)","v":""},null,null,null,null,null,null,null,null,null,null,"",""]
[null,{"$f":"IF(A316=\"\",\"\",Notes!$B$4)","v":""},null,null,null,null,null,null,null,null,null,null,"",""]
[null,{"$f":"IF(A317=\"\",\"\",Notes!$B$4)","v":""},null,null,null,null,null,null,null,null,null,null,"",""]
[null,{"$f":"IF(A318=\"\",\"\",Notes!$B$4)","v":""},null,null,null,null,null,null,null,null,null,null,"",""]
[null,{"$f":"IF(A319=\"\",\"\",Notes!$B$4)","v":""},null,null,null,null,null,null,null,null,null,null,"",""]
[null,{"$f":"IF(A320=\"\",\"\",Notes!$B$4)","v":""},null,null,null,null,null,null,null,null,null,null,"",""]
[null,{"$f":"IF(A321=\"\",\"\",Notes!$B$4)","v":""},null,null,null,null,null,null,null,null,null,null,"",""]
[null,{"$f":"IF(A322=\"\",\"\",Notes!$B$4)","v":""},null,null,null,null,null,null,null,null,null,null,{"$f":"IF(A322=\"\",\"\",VLOOKUP(B322,SchoolID,2,FALSE))","v":""},""]
[null,{"$f":"IF(A323=\"\",\"\",Notes!$B$4)","v":""},null,null,null,null,null,null,null,null,null,null,"",""]
[null,{"$f":"IF(A324=\"\",\"\",Notes!$B$4)","v":""},null,null,null,null,null,null,null,null,null,null,"",""]
[null,{"$f":"IF(A325=\"\",\"\",Notes!$B$4)","v":""},null,null,null,null,null,null,null,null,null,null,"",""]
[null,{"$f":"IF(A326=\"\",\"\",Notes!$B$4)","v":""},null,null,null,null,null,null,null,null,null,null,"",""]
[null,{"$f":"IF(A327=\"\",\"\",Notes!$B$4)","v":""},null,null,null,null,null,null,null,null,null,null,"",""]
[null,{"$f":"IF(A328=\"\",\"\",Notes!$B$4)","v":""},null,null,null,null,null,null,null,null,null,null,"",""]
[null,{"$f":"IF(A329=\"\",\"\",Notes!$B$4)","v":""},null,null,null,null,null,null,null,null,null,null,"",""]
[null,{"$f":"IF(A330=\"\",\"\",Notes!$B$4)","v":""},null,null,null,null,null,null,null,null,null,null,"",""]
[null,{"$f":"IF(A331=\"\",\"\",Notes!$B$4)","v":""},null,null,null,null,null,null,null,null,null,null,"",""]
[null,{"$f":"IF(A332=\"\",\"\",Notes!$B$4)","v":""},null,null,null,null,null,null,null,null,null,null,"",""]
[null,{"$f":"IF(A333=\"\",\"\",Notes!$B$4)","v":""},null,null,null,null,null,null,null,null,null,null,"",""]
[null,{"$f":"IF(A334=\"\",\"\",Notes!$B$4)","v":""},null,null,null,null,null,null,null,null,null,null,"",""]
[null,{"$f":"IF(A335=\"\",\"\",Notes!$B$4)","v":""},null,null,null,null,null,null,null,null,null,null,"",{"$f":"M335&A335","v":""}]
[null,{"$f":"IF(A336=\"\",\"\",Notes!$B$4)","v":""},null,null,null,null,null,null,null,null,null,null,"",""]
[null,{"$f":"IF(A337=\"\",\"\",Notes!$B$4)","v":""},null,null,null,null,null,null,null,null,null,null,"",""]
[null,{"$f":"IF(A338=\"\",\"\",Notes!$B$4)","v":""},null,null,null,null,null,null,null,null,null,null,"",""]
[null,{"$f":"IF(A339=\"\",\"\",Notes!$B$4)","v":""},null,null,null,null,null,null,null,null,null,null,"",""]
[null,{"$f":"IF(A340=\"\",\"\",Notes!$B$4)","v":""},null,null,null,null,null,null,null,null,null,null,"",""]
[null,{"$f":"IF(A341=\"\",\"\",Notes!$B$4)","v":""},null,null,null,null,null,null,null,null,null,null,"",""]
[null,{"$f":"IF(A342=\"\",\"\",Notes!$B$4)","v":""},null,null,null,null,null,null,null,null,null,null,"",""]
[null,{"$f":"IF(A343=\"\",\"\",Notes!$B$4)","v":""},null,null,null,null,null,null,null,null,null,null,"",""]
[null,{"$f":"IF(A344=\"\",\"\",Notes!$B$4)","v":""},null,null,null,null,null,null,null,null,null,null,"",""]
[null,{"$f":"IF(A345=\"\",\"\",Notes!$B$4)","v":""},null,null,null,null,null,null,null,null,null,null,"",""]
[null,{"$f":"IF(A346=\"\",\"\",Notes!$B$4)","v":""},null,null,null,null,null,null,null,null,null,null,"",""]
[null,{"$f":"IF(A347=\"\",\"\",Notes!$B$4)","v":""},null,null,null,null,null,null,null,null,null,null,"",""]
[null,{"$f":"IF(A348=\"\",\"\",Notes!$B$4)","v":""},null,null,null,null,null,null,null,null,null,null,"",""]
[null,{"$f":"IF(A349=\"\",\"\",Notes!$B$4)","v":""},null,null,null,null,null,null,null,null,null,null,"",""]
[null,{"$f":"IF(A350=\"\",\"\",Notes!$B$4)","v":""},null,null,null,null,null,null,null,null,null,null,"",""]
[null,{"$f":"IF(A351=\"\",\"\",Notes!$B$4)","v":""},null,null,null,null,null,null,null,null,null,null,"",""]
[null,{"$f":"IF(A352=\"\",\"\",Notes!$B$4)","v":""},null,null,null,null,null,null,null,null,null,null,"",""]
[null,{"$f":"IF(A353=\"\",\"\",Notes!$B$4)","v":""},null,null,null,null,null,null,null,null,null,null,"",""]
[null,{"$f":"IF(A354=\"\",\"\",Notes!$B$4)","v":""},null,null,null,null,null,null,null,null,null,null,"",""]
[null,{"$f":"IF(A355=\"\",\"\",Notes!$B$4)","v":""},null,null,null,null,null,null,null,null,null,null,"",""]
[null,{"$f":"IF(A356=\"\",\"\",Notes!$B$4)","v":""},null,null,null,null,null,null,null,null,null,null,"",""]
[null,{"$f":"IF(A357=\"\",\"\",Notes!$B$4)","v":""},null,null,null,null,null,null,null,null,null,null,"",""]
[null,{"$f":"IF(A358=\"\",\"\",Notes!$B$4)","v":""},null,null,null,null,null,null,null,null,null,null,"",""]
[null,{"$f":"IF(A359=\"\",\"\",Notes!$B$4)","v":""},null,null,null,null,null,null,null,null,null,null,"",""]
[null,{"$f":"IF(A360=\"\",\"\",Notes!$B$4)","v":""},null,null,null,null,null,null,null,null,null,null,"",""]
[null,{"$f":"IF(A361=\"\",\"\",Notes!$B$4)","v":""},null,null,null,null,null,null,null,null,null,null,"",""]
[null,{"$f":"IF(A362=\"\",\"\",Notes!$B$4)","v":""},null,null,null,null,null,null,null,null,null,null,"",""]
[null,{"$f":"IF(A363=\"\",\"\",Notes!$B$4)","v":""},null,null,null,null,null,null,null,null,null,null,"",""]
[null,{"$f":"IF(A364=\"\",\"\",Notes!$B$4)","v":""},null,null,null,null,null,null,null,null,null,null,"",""]
[null,{"$f":"IF(A365=\"\",\"\",Notes!$B$4)","v":""},null,null,null,null,null,null,null,null,null,null,"",""]
[null,{"$f":"IF(A366=\"\",\"\",Notes!$B$4)","v":""},null,null,null,null,null,null,null,null,null,null,"",""]
[null,{"$f":"IF(A367=\"\",\"\",Notes!$B$4)","v":""},null,null,null,null,null,null,null,null,null,null,"",""]
[null,{"$f":"IF(A368=\"\",\"\",Notes!$B$4)","v":""},null,null,null,null,null,null,null,null,null,null,"",""]
[null,{"$f":"IF(A369=\"\",\"\",Notes!$B$4)","v":""},null,null,null,null,null,null,null,null,null,null,"",""]
[null,{"$f":"IF(A370=\"\",\"\",Notes!$B$4)","v":""},null,null,null,null,null,null,null,null,null,null,"",""]
[null,{"$f":"IF(A371=\"\",\"\",Notes!$B$4)","v":""},null,null,null,null,null,null,null,null,null,null,"",""]
[null,{"$f":"IF(A372=\"\",\"\",Notes!$B$4)","v":""},null,null,null,null,null,null,null,null,null,null,"",""]
[null,{"$f":"IF(A373=\"\",\"\",Notes!$B$4)","v":""},null,null,null,null,null,null,null,null,null,null,"",""]
[null,{"$f":"IF(A374=\"\",\"\",Notes!$B$4)","v":""},null,null,null,null,null,null,null,null,null,null,"",""]
[null,{"$f":"IF(A375=\"\",\"\",Notes!$B$4)","v":""},null,null,null,null,null,null,null,null,null,null,"",""]
[null,{"$f":"IF(A376=\"\",\"\",Notes!$B$4)","v":""},null,null,null,null,null,null,null,null,null,null,"",""]
[null,{"$f":"IF(A377=\"\",\"\",Notes!$B$4)","v":""},null,null,null,null,null,null,null,null,null,null,"",""]
[null,{"$f":"IF(A378=\"\",\"\",Notes!$B$4)","v":""},null,null,null,null,null,null,null,null,null,null,"",""]
[null,{"$f":"IF(A379=\"\",\"\",Notes!$B$4)","v":""},null,null,null,null,null,null,null,null,null,null,"",""]
[null,{"$f":"IF(A380=\"\",\"\",Notes!$B$4)","v":""},null,null,null,null,null,null,null,null,null,null,"",""]
[null,{"$f":"IF(A381=\"\",\"\",Notes!$B$4)","v":""},null,null,null,null,null,null,null,null,null,null,"",""]
[null,{"$f":"IF(A382=\"\",\"\",Notes!$B$4)","v":""},null,null,null,null,null,null,null,null,null,null,"",""]
[null,{"$f":"IF(A383=\"\",\"\",Notes!$B$4)","v":""},null,null,null,null,null,null,null,null,null,null,"",""]
[null,{"$f":"IF(A384=\"\",\"\",Notes!$B$4)","v":""},null,null,null,null,null,null,null,null,null,null,"",""]
[null,{"$f":"IF(A385=\"\",\"\",Notes!$B$4)","v":""},null,null,null,null,null,null,null,null,null,null,"",""]
[null,{"$f":"IF(A386=\"\",\"\",Notes!$B$4)","v":""},null,null,null,null,null,null,null,null,null,null,{"$f":"IF(A386=\"\",\"\",VLOOKUP(B386,SchoolID,2,FALSE))","v":""},""]
[null,{"$f":"IF(A387=\"\",\"\",Notes!$B$4)","v":""},null,null,null,null,null,null,null,null,null,null,"",""]
[null,{"$f":"IF(A388=\"\",\"\",Notes!$B$4)","v":""},null,null,null,null,null,null,null,null,null,null,"",""]
[null,{"$f":"IF(A389=\"\",\"\",Notes!$B$4)","v":""},null,null,null,null,null,null,null,null,null,null,"",""]
[null,{"$f":"IF(A390=\"\",\"\",Notes!$B$4)","v":""},null,null,null,null,null,null,null,null,null,null,"",""]
[null,{"$f":"IF(A391=\"\",\"\",Notes!$B$4)","v":""},null,null,null,null,null,null,null,null,null,null,"",""]
[null,{"$f":"IF(A392=\"\",\"\",Notes!$B$4)","v":""},null,null,null,null,null,null,null,null,null,null,"",""]
[null,{"$f":"IF(A393=\"\",\"\",Notes!$B$4)","v":""},null,null,null,null,null,null,null,null,null,null,"",""]
[null,{"$f":"IF(A394=\"\",\"\",Notes!$B$4)","v":""},null,null,null,null,null,null,null,null,null,null,"",""]
[null,{"$f":"IF(A395=\"\",\"\",Notes!$B$4)","v":""},null,null,null,null,null,null,null,null,null,null,"",""]
[null,{"$f":"IF(A396=\"\",\"\",Notes!$B$4)","v":""},null,null,null,null,null,null,null,null,null,null,"",""]
[null,{"$f":"IF(A397=\"\",\"\",Notes!$B$4)","v":""},null,null,null,null,null,null,null,null,null,null,"",""]
[null,{"$f":"IF(A398=\"\",\"\",Notes!$B$4)","v":""},null,null,null,null,null,null,null,null,null,null,"",""]
[null,{"$f":"IF(A399=\"\",\"\",Notes!$B$4)","v":""},null,null,null,null,null,null,null,null,null,null,"",{"$f":"M399&A399","v":""}]
[null,{"$f":"IF(A400=\"\",\"\",Notes!$B$4)","v":""},null,null,null,null,null,null,null,null,null,null,"",""]
[null,{"$f":"IF(A401=\"\",\"\",Notes!$B$4)","v":""},null,null,null,null,null,null,null,null,null,null,"",""]
[null,{"$f":"IF(A402=\"\",\"\",Notes!$B$4)","v":""},null,null,null,null,null,null,null,null,null,null,"",""]
[null,{"$f":"IF(A403=\"\",\"\",Notes!$B$4)","v":""},null,null,null,null,null,null,null,null,null,null,"",""]
[null,{"$f":"IF(A404=\"\",\"\",Notes!$B$4)","v":""},null,null,null,null,null,null,null,null,null,null,"",""]
[null,{"$f":"IF(A405=\"\",\"\",Notes!$B$4)","v":""},null,null,null,null,null,null,null,null,null,null,"",""]
[null,{"$f":"IF(A406=\"\",\"\",Notes!$B$4)","v":""},null,null,null,null,null,null,null,null,null,null,"",""]
[null,{"$f":"IF(A407=\"\",\"\",Notes!$B$4)","v":""},null,null,null,null,null,null,null,null,null,null,"",""]
[null,{"$f":"IF(A408=\"\",\"\",Notes!$B$4)","v":""},null,null,null,null,null,null,null,null,null,null,"",""]
[null,{"$f":"IF(A409=\"\",\"\",Notes!$B$4)","v":""},null,null,null,null,null,null,null,null,null,null,"",""]
[null,{"$f":"IF(A410=\"\",\"\",Notes!$B$4)","v":""},null,null,null,null,null,null,null,null,null,null,"",""]
[null,{"$f":"IF(A411=\"\",\"\",Notes!$B$4)","v":""},null,null,null,null,null,null,null,null,null,null,"",""]
[null,{"$f":"IF(A412=\"\",\"\",Notes!$B$4)","v":""},null,null,null,null,null,null,null,null,null,null,"",""]
[null,{"$f":"IF(A413=\"\",\"\",Notes!$B$4)","v":""},null,null,null,null,null,null,null,null,null,null,"",""]
[null,{"$f":"IF(A414=\"\",\"\",Notes!$B$4)","v":""},null,null,null,null,null,null,null,null,null,null,"",""]
[null,{"$f":"IF(A415=\"\",\"\",Notes!$B$4)","v":""},null,null,null,null,null,null,null,null,null,null,"",""]
[null,{"$f":"IF(A416=\"\",\"\",Notes!$B$4)","v":""},null,null,null,null,null,null,null,null,null,null,"",""]
[null,{"$f":"IF(A417=\"\",\"\",Notes!$B$4)","v":""},null,null,null,null,null,null,null,null,null,null,"",""]
[null,{"$f":"IF(A418=\"\",\"\",Notes!$B$4)","v":""},null,null,null,null,null,null,null,null,null,null,"",""]
[null,{"$f":"IF(A419=\"\",\"\",Notes!$B$4)","v":""},null,null,null,null,null,null,null,null,null,null,"",""]
[null,{"$f":"IF(A420=\"\",\"\",Notes!$B$4)","v":""},null,null,null,null,null,null,null,null,null,null,"",""]
[null,{"$f":"IF(A421=\"\",\"\",Notes!$B$4)","v":""},null,null,null,null,null,null,null,null,null,null,"",""]
[null,{"$f":"IF(A422=\"\",\"\",Notes!$B$4)","v":""},null,null,null,null,null,null,null,null,null,null,"",""]
[null,{"$f":"IF(A423=\"\",\"\",Notes!$B$4)","v":""},null,null,null,null,null,null,null,null,null,null,"",""]
[null,{"$f":"IF(A424=\"\",\"\",Notes!$B$4)","v":""},null,null,null,null,null,null,null,null,null,null,"",""]
[null,{"$f":"IF(A425=\"\",\"\",Notes!$B$4)","v":""},null,null,null,null,null,null,null,null,null,null,"",""]
[null,{"$f":"IF(A426=\"\",\"\",Notes!$B$4)","v":""},null,null,null,null,null,null,null,null,null,null,"",""]
[null,{"$f":"IF(A427=\"\",\"\",Notes!$B$4)","v":""},null,null,null,null,null,null,null,null,null,null,"",""]
[null,{"$f":"IF(A428=\"\",\"\",Notes!$B$4)","v":""},null,null,null,null,null,null,null,null,null,null,"",""]
[null,{"$f":"IF(A429=\"\",\"\",Notes!$B$4)","v":""},null,null,null,null,null,null,null,null,null,null,"",""]
[null,{"$f":"IF(A430=\"\",\"\",Notes!$B$4)","v":""},null,null,null,null,null,null,null,null,null,null,"",""]
[null,{"$f":"IF(A431=\"\",\"\",Notes!$B$4)","v":""},null,null,null,null,null,null,null,null,null,null,"",""]
[null,{"$f":"IF(A432=\"\",\"\",Notes!$B$4)","v":""},null,null,null,null,null,null,null,null,null,null,"",""]
[null,{"$f":"IF(A433=\"\",\"\",Notes!$B$4)","v":""},null,null,null,null,null,null,null,null,null,null,"",""]
[null,{"$f":"IF(A434=\"\",\"\",Notes!$B$4)","v":""},null,null,null,null,null,null,null,null,null,null,"",""]
[null,{"$f":"IF(A435=\"\",\"\",Notes!$B$4)","v":""},null,null,null,null,null,null,null,null,null,null,"",""]
[null,{"$f":"IF(A436=\"\",\"\",Notes!$B$4)","v":""},null,null,null,null,null,null,null,null,null,null,"",""]
[null,{"$f":"IF(A437=\"\",\"\",Notes!$B$4)","v":""},null,null,null,null,null,null,null,null,null,null,"",""]
[null,{"$f":"IF(A438=\"\",\"\",Notes!$B$4)","v":""},null,null,null,null,null,null,null,null,null,null,"",""]
[null,{"$f":"IF(A439=\"\",\"\",Notes!$B$4)","v":""},null,null,null,null,null,null,null,null,null,null,"",""]
[null,{"$f":"IF(A440=\"\",\"\",Notes!$B$4)","v":""},null,null,null,null,null,null,null,null,null,null,"",""]
[null,{"$f":"IF(A441=\"\",\"\",Notes!$B$4)","v":""},null,null,null,null,null,null,null,null,null,null,"",""]
[null,{"$f":"IF(A442=\"\",\"\",Notes!$B$4)","v":""},null,null,null,null,null,null,null,null,null,null,"",""]
[null,{"$f":"IF(A443=\"\",\"\",Notes!$B$4)","v":""},null,null,null,null,null,null,null,null,null,null,"",""]
[null,{"$f":"IF(A444=\"\",\"\",Notes!$B$4)","v":""},null,null,null,null,null,null,null,null,null,null,"",""]
[null,{"$f":"IF(A445=\"\",\"\",Notes!$B$4)","v":""},null,null,null,null,null,null,null,null,null,null,"",""]
[null,{"$f":"IF(A446=\"\",\"\",Notes!$B$4)","v":""},null,null,null,null,null,null,null,null,null,null,"",""]
[null,{"$f":"IF(A447=\"\",\"\",Notes!$B$4)","v":""},null,null,null,null,null,null,null,null,null,null,"",""]
[null,{"$f":"IF(A448=\"\",\"\",Notes!$B$4)","v":""},null,null,null,null,null,null,null,null,null,null,"",""]
[null,{"$f":"IF(A449=\"\",\"\",Notes!$B$4)","v":""},null,null,null,null,null,null,null,null,null,null,"",""]
[null,{"$f":"IF(A450=\"\",\"\",Notes!$B$4)","v":""},null,null,null,null,null,null,null,null,null,null,{"$f":"IF(A450=\"\",\"\",VLOOKUP(B450,SchoolID,2,FALSE))","v":""},""]
[null,{"$f":"IF(A451=\"\",\"\",Notes!$B$4)","v":""},null,null,null,null,null,null,null,null,null,null,"",""]
[null,{"$f":"IF(A452=\"\",\"\",Notes!$B$4)","v":""},null,null,null,null,null,null,null,null,null,null,"",""]
[null,{"$f":"IF(A453=\"\",\"\",Notes!$B$4)","v":""},null,null,null,null,null,null,null,null,null,null,"",""]
[null,{"$f":"IF(A454=\"\",\"\",Notes!$B$4)","v":""},null,null,null,null,null,null,null,null,null,null,"",""]
[null,{"$f":"IF(A455=\"\",\"\",Notes!$B$4)","v":""},null,null,null,null,null,null,null,null,null,null,"",""]
[null,{"$f":"IF(A456=\"\",\"\",Notes!$B$4)","v":""},null,null,null,null,null,null,null,null,null,null,"",""]
[null,{"$f":"IF(A457=\"\",\"\",Notes!$B$4)","v":""},null,null,null,null,null,null,null,null,null,null,"",""]
[null,{"$f":"IF(A458=\"\",\"\",Notes!$B$4)","v":""},null,null,null,null,null,null,null,null,null,null,"",""]
[null,{"$f":"IF(A459=\"\",\"\",Notes!$B$4)","v":""},null,null,null,null,null,null,null,null,null,null,"",""]
[null,{"$f":"IF(A460=\"\",\"\",Notes!$B$4)","v":""},null,null,null,null,null,null,null,null,null,null,"",""]
[null,{"$f":"IF(A461=\"\",\"\",Notes!$B$4)","v":""},null,null,null,null,null,null,null,null,null,null,"",""]
[null,{"$f":"IF(A462=\"\",\"\",Notes!$B$4)","v":""},null,null,null,null,null,null,null,null,null,null,"",""]
[null,{"$f":"IF(A463=\"\",\"\",Notes!$B$4)","v":""},null,null,null,null,null,null,null,null,null,null,"",{"$f":"M463&A463","v":""}]
[null,{"$f":"IF(A464=\"\",\"\",Notes!$B$4)","v":""},null,null,null,null,null,null,null,null,null,null,"",""]
[null,{"$f":"IF(A465=\"\",\"\",Notes!$B$4)","v":""},null,null,null,null,null,null,null,null,null,null,"",""]
[null,{"$f":"IF(A466=\"\",\"\",Notes!$B$4)","v":""},null,null,null,null,null,null,null,null,null,null,"",""]
[null,{"$f":"IF(A467=\"\",\"\",Notes!$B$4)","v":""},null,null,null,null,null,null,null,null,null,null,"",""]
[null,{"$f":"IF(A468=\"\",\"\",Notes!$B$4)","v":""},null,null,null,null,null,null,null,null,null,null,"",""]
[null,{"$f":"IF(A469=\"\",\"\",Notes!$B$4)","v":""},null,null,null,null,null,null,null,null,null,null,"",""]
[null,{"$f":"IF(A470=\"\",\"\",Notes!$B$4)","v":""},null,null,null,null,null,null,null,null,null,null,"",""]
[null,{"$f":"IF(A471=\"\",\"\",Notes!$B$4)","v":""},null,null,null,null,null,null,null,null,null,null,"",""]
[null,{"$f":"IF(A472=\"\",\"\",Notes!$B$4)","v":""},null,null,null,null,null,null,null,null,null,null,"",""]
[null,{"$f":"IF(A473=\"\",\"\",Notes!$B$4)","v":""},null,null,null,null,null,null,null,null,null,null,"",""]
[null,{"$f":"IF(A474=\"\",\"\",Notes!$B$4)","v":""},null,null,null,null,null,null,null,null,null,null,"",""]
[null,{"$f":"IF(A475=\"\",\"\",Notes!$B$4)","v":""},null,null,null,null,null,null,null,null,null,null,"",""]
[null,{"$f":"IF(A476=\"\",\"\",Notes!$B$4)","v":""},null,null,null,null,null,null,null,null,null,null,"",""]
[null,{"$f":"IF(A477=\"\",\"\",Notes!$B$4)","v":""},null,null,null,null,null,null,null,null,null,null,"",""]
[null,{"$f":"IF(A478=\"\",\"\",Notes!$B$4)","v":""},null,null,null,null,null,null,null,null,null,null,"",""]
[null,{"$f":"IF(A479=\"\",\"\",Notes!$B$4)","v":""},null,null,null,null,null,null,null,null,null,null,"",""]
[null,{"$f":"IF(A480=\"\",\"\",Notes!$B$4)","v":""},null,null,null,null,null,null,null,null,null,null,"",""]
[null,{"$f":"IF(A481=\"\",\"\",Notes!$B$4)","v":""},null,null,null,null,null,null,null,null,null,null,"",""]
[null,{"$f":"IF(A482=\"\",\"\",Notes!$B$4)","v":""},null,null,null,null,null,null,null,null,null,null,"",""]
[null,{"$f":"IF(A483=\"\",\"\",Notes!$B$4)","v":""},null,null,null,null,null,null,null,null,null,null,"",""]
[null,{"$f":"IF(A484=\"\",\"\",Notes!$B$4)","v":""},null,null,null,null,null,null,null,null,null,null,"",""]
[null,{"$f":"IF(A485=\"\",\"\",Notes!$B$4)","v":""},null,null,null,null,null,null,null,null,null,null,"",""]
[null,{"$f":"IF(A486=\"\",\"\",Notes!$B$4)","v":""},null,null,null,null,null,null,null,null,null,null,"",""]
[null,{"$f":"IF(A487=\"\",\"\",Notes!$B$4)","v":""},null,null,null,null,null,null,null,null,null,null,"",""]
[null,{"$f":"IF(A488=\"\",\"\",Notes!$B$4)","v":""},null,null,null,null,null,null,null,null,null,null,"",""]
[null,{"$f":"IF(A489=\"\",\"\",Notes!$B$4)","v":""},null,null,null,null,null,null,null,null,null,null,"",""]
[null,{"$f":"IF(A490=\"\",\"\",Notes!$B$4)","v":""},null,null,null,null,null,null,null,null,null,null,"",""]
[null,{"$f":"IF(A491=\"\",\"\",Notes!$B$4)","v":""},null,null,null,null,null,null,null,null,null,null,"",""]
[null,{"$f":"IF(A492=\"\",\"\",Notes!$B$4)","v":""},null,null,null,null,null,null,null,null,null,null,"",""]
[null,{"$f":"IF(A493=\"\",\"\",Notes!$B$4)","v":""},null,null,null,null,null,null,null,null,null,null,"",""]
[null,{"$f":"IF(A494=\"\",\"\",Notes!$B$4)","v":""},null,null,null,null,null,null,null,null,null,null,"",""]
[null,{"$f":"IF(A495=\"\",\"\",Notes!$B$4)","v":""},null,null,null,null,null,null,null,null,null,null,"",""]
[null,{"$f":"IF(A496=\"\",\"\",Notes!$B$4)","v":""},null,null,null,null,null,null,null,null,null,null,"",""]
[null,{"$f":"IF(A497=\"\",\"\",Notes!$B$4)","v":""},null,null,null,null,null,null,null,null,null,null,"",""]
[null,{"$f":"IF(A498=\"\",\"\",Notes!$B$4)","v":""},null,null,null,null,null,null,null,null,null,null,"",""]
[null,{"$f":"IF(A499=\"\",\"\",Notes!$B$4)","v":""},null,null,null,null,null,null,null,null,null,null,"",""]
[null,{"$f":"IF(A500=\"\",\"\",Notes!$B$4)","v":""},null,null,null,null,null,null,null,null,null,null,"",""]
[null,{"$f":"IF(A501=\"\",\"\",Notes!$B$4)","v":""},null,null,null,null,null,null,null,null,null,null,"",""]
[null,{"$f":"IF(A502=\"\",\"\",Notes!$B$4)","v":""},null,null,null,null,null,null,null,null,null,null,"",""]
[null,{"$f":"IF(A503=\"\",\"\",Notes!$B$4)","v":""},null,null,null,null,null,null,null,null,null,null,"",""]
[null,{"$f":"IF(A504=\"\",\"\",Notes!$B$4)","v":""},null,null,null,null,null,null,null,null,null,null,"",""]
[null,{"$f":"IF(A505=\"\",\"\",Notes!$B$4)","v":""},null,null,null,null,null,null,null,null,null,null,"",""]
[null,{"$f":"IF(A506=\"\",\"\",Notes!$B$4)","v":""},null,null,null,null,null,null,null,null,null,null,"",""]
[null,{"$f":"IF(A507=\"\",\"\",Notes!$B$4)","v":""},null,null,null,null,null,null,null,null,null,null,"",""]
[null,{"$f":"IF(A508=\"\",\"\",Notes!$B$4)","v":""},null,null,null,null,null,null,null,null,null,null,"",""]
[null,{"$f":"IF(A509=\"\",\"\",Notes!$B$4)","v":""},null,null,null,null,null,null,null,null,null,null,"",""]
[null,{"$f":"IF(A510=\"\",\"\",Notes!$B$4)","v":""},null,null,null,null,null,null,null,null,null,null,"",""]
[null,{"$f":"IF(A511=\"\",\"\",Notes!$B$4)","v":""},null,null,null,null,null,null,null,null,null,null,"",""]
[null,{"$f":"IF(A512=\"\",\"\",Notes!$B$4)","v":""},null,null,null,null,null,null,null,null,null,null,"",""]
[null,{"$f":"IF(A513=\"\",\"\",Notes!$B$4)","v":""},null,null,null,null,null,null,null,null,null,null,"",""]
[null,{"$f":"IF(A514=\"\",\"\",Notes!$B$4)","v":""},null,null,null,null,null,null,null,null,null,null,{"$f":"IF(A514=\"\",\"\",VLOOKUP(B514,SchoolID,2,FALSE))","v":""},""]
[null,{"$f":"IF(A515=\"\",\"\",Notes!$B$4)","v":""},null,null,null,null,null,null,null,null,null,null,"",""]
[null,{"$f":"IF(A516=\"\",\"\",Notes!$B$4)","v":""},null,null,null,null,null,null,null,null,null,null,"",""]
[null,{"$f":"IF(A517=\"\",\"\",Notes!$B$4)","v":""},null,null,null,null,null,null,null,null,null,null,"",""]
[null,{"$f":"IF(A518=\"\",\"\",Notes!$B$4)","v":""},null,null,null,null,null,null,null,null,null,null,"",""]
[null,{"$f":"IF(A519=\"\",\"\",Notes!$B$4)","v":""},null,null,null,null,null,null,null,null,null,null,"",""]
[null,{"$f":"IF(A520=\"\",\"\",Notes!$B$4)","v":""},null,null,null,null,null,null,null,null,null,null,"",""]
[null,{"$f":"IF(A521=\"\",\"\",Notes!$B$4)","v":""},null,null,null,null,null,null,null,null,null,null,"",""]
[null,{"$f":"IF(A522=\"\",\"\",Notes!$B$4)","v":""},null,null,null,null,null,null,null,null,null,null,"",""]
[null,{"$f":"IF(A523=\"\",\"\",Notes!$B$4)","v":""},null,null,null,null,null,null,null,null,null,null,"",""]
[null,{"$f":"IF(A524=\"\",\"\",Notes!$B$4)","v":""},null,null,null,null,null,null,null,null,null,null,"",""]
[null,{"$f":"IF(A525=\"\",\"\",Notes!$B$4)","v":""},null,null,null,null,null,null,null,null,null,null,"",""]
[null,{"$f":"IF(A526=\"\",\"\",Notes!$B$4)","v":""},null,null,null,null,null,null,null,null,null,null,"",""]
[null,{"$f":"IF(A527=\"\",\"\",Notes!$B$4)","v":""},null,null,null,null,null,null,null,null,null,null,"",{"$f":"M527&A527","v":""}]
[null,{"$f":"IF(A528=\"\",\"\",Notes!$B$4)","v":""},null,null,null,null,null,null,null,null,null,null,"",""]
[null,{"$f":"IF(A529=\"\",\"\",Notes!$B$4)","v":""},null,null,null,null,null,null,null,null,null,null,"",""]
[null,{"$f":"IF(A530=\"\",\"\",Notes!$B$4)","v":""},null,null,null,null,null,null,null,null,null,null,"",""]
[null,{"$f":"IF(A531=\"\",\"\",Notes!$B$4)","v":""},null,null,null,null,null,null,null,null,null,null,"",""]
[null,{"$f":"IF(A532=\"\",\"\",Notes!$B$4)","v":""},null,null,null,null,null,null,null,null,null,null,"",""]
[null,{"$f":"IF(A533=\"\",\"\",Notes!$B$4)","v":""},null,null,null,null,null,null,null,null,null,null,"",""]
[null,{"$f":"IF(A534=\"\",\"\",Notes!$B$4)","v":""},null,null,null,null,null,null,null,null,null,null,"",""]
[null,{"$f":"IF(A535=\"\",\"\",Notes!$B$4)","v":""},null,null,null,null,null,null,null,null,null,null,"",""]
[null,{"$f":"IF(A536=\"\",\"\",Notes!$B$4)","v":""},null,null,null,null,null,null,null,null,null,null,"",""]
[null,{"$f":"IF(A537=\"\",\"\",Notes!$B$4)","v":""},null,null,null,null,null,null,null,null,null,null,"",""]
[null,{"$f":"IF(A538=\"\",\"\",Notes!$B$4)","v":""},null,null,null,null,null,null,null,null,null,null,"",""]
[null,{"$f":"IF(A539=\"\",\"\",Notes!$B$4)","v":""},null,null,null,null,null,null,null,null,null,null,"",""]
[null,{"$f":"IF(A540=\"\",\"\",Notes!$B$4)","v":""},null,null,null,null,null,null,null,null,null,null,"",""]
[null,{"$f":"IF(A541=\"\",\"\",Notes!$B$4)","v":""},null,null,null,null,null,null,null,null,null,null,"",""]
[null,{"$f":"IF(A542=\"\",\"\",Notes!$B$4)","v":""},null,null,null,null,null,null,null,null,null,null,"",""]
[null,{"$f":"IF(A543=\"\",\"\",Notes!$B$4)","v":""},null,null,null,null,null,null,null,null,null,null,"",""]
[null,{"$f":"IF(A544=\"\",\"\",Notes!$B$4)","v":""},null,null,null,null,null,null,null,null,null,null,"",""]
[null,{"$f":"IF(A545=\"\",\"\",Notes!$B$4)","v":""},null,null,null,null,null,null,null,null,null,null,"",""]
[null,{"$f":"IF(A546=\"\",\"\",Notes!$B$4)","v":""},null,null,null,null,null,null,null,null,null,null,"",""]
[null,{"$f":"IF(A547=\"\",\"\",Notes!$B$4)","v":""},null,null,null,null,null,null,null,null,null,null,"",""]
[null,{"$f":"IF(A548=\"\",\"\",Notes!$B$4)","v":""},null,null,null,null,null,null,null,null,null,null,"",""]
[null,{"$f":"IF(A549=\"\",\"\",Notes!$B$4)","v":""},null,null,null,null,null,null,null,null,null,null,"",""]
[null,{"$f":"IF(A550=\"\",\"\",Notes!$B$4)","v":""},null,null,null,null,null,null,null,null,null,null,"",""]
[null,{"$f":"IF(A551=\"\",\"\",Notes!$B$4)","v":""},null,null,null,null,null,null,null,null,null,null,"",""]
[null,{"$f":"IF(A552=\"\",\"\",Notes!$B$4)","v":""},null,null,null,null,null,null,null,null,null,null,"",""]
[null,{"$f":"IF(A553=\"\",\"\",Notes!$B$4)","v":""},null,null,null,null,null,null,null,null,null,null,"",""]
[null,{"$f":"IF(A554=\"\",\"\",Notes!$B$4)","v":""},null,null,null,null,null,null,null,null,null,null,"",""]
[null,{"$f":"IF(A555=\"\",\"\",Notes!$B$4)","v":""},null,null,null,null,null,null,null,null,null,null,"",""]
[null,{"$f":"IF(A556=\"\",\"\",Notes!$B$4)","v":""},null,null,null,null,null,null,null,null,null,null,"",""]
[null,{"$f":"IF(A557=\"\",\"\",Notes!$B$4)","v":""},null,null,null,null,null,null,null,null,null,null,"",""]
[null,{"$f":"IF(A558=\"\",\"\",Notes!$B$4)","v":""},null,null,null,null,null,null,null,null,null,null,"",""]
[null,{"$f":"IF(A559=\"\",\"\",Notes!$B$4)","v":""},null,null,null,null,null,null,null,null,null,null,"",""]
[null,{"$f":"IF(A560=\"\",\"\",Notes!$B$4)","v":""},null,null,null,null,null,null,null,null,null,null,"",""]
[null,{"$f":"IF(A561=\"\",\"\",Notes!$B$4)","v":""},null,null,null,null,null,null,null,null,null,null,"",""]
[null,{"$f":"IF(A562=\"\",\"\",Notes!$B$4)","v":""},null,null,null,null,null,null,null,null,null,null,"",""]
[null,{"$f":"IF(A563=\"\",\"\",Notes!$B$4)","v":""},null,null,null,null,null,null,null,null,null,null,"",""]
[null,{"$f":"IF(A564=\"\",\"\",Notes!$B$4)","v":""},null,null,null,null,null,null,null,null,null,null,"",""]
[null,{"$f":"IF(A565=\"\",\"\",Notes!$B$4)","v":""},null,null,null,null,null,null,null,null,null,null,"",""]
[null,{"$f":"IF(A566=\"\",\"\",Notes!$B$4)","v":""},null,null,null,null,null,null,null,null,null,null,"",""]
[null,{"$f":"IF(A567=\"\",\"\",Notes!$B$4)","v":""},null,null,null,null,null,null,null,null,null,null,"",""]
[null,{"$f":"IF(A568=\"\",\"\",Notes!$B$4)","v":""},null,null,null,null,null,null,null,null,null,null,"",""]
[null,{"$f":"IF(A569=\"\",\"\",Notes!$B$4)","v":""},null,null,null,null,null,null,null,null,null,null,"",""]
[null,{"$f":"IF(A570=\"\",\"\",Notes!$B$4)","v":""},null,null,null,null,null,null,null,null,null,null,"",""]
[null,{"$f":"IF(A571=\"\",\"\",Notes!$B$4)","v":""},null,null,null,null,null,null,null,null,null,null,"",""]
[null,{"$f":"IF(A572=\"\",\"\",Notes!$B$4)","v":""},null,null,null,null,null,null,null,null,null,null,"",""]
[null,{"$f":"IF(A573=\"\",\"\",Notes!$B$4)","v":""},null,null,null,null,null,null,null,null,null,null,"",""]
[null,{"$f":"IF(A574=\"\",\"\",Notes!$B$4)","v":""},null,null,null,null,null,null,null,null,null,null,"",""]
[null,{"$f":"IF(A575=\"\",\"\",Notes!$B$4)","v":""},null,null,null,null,null,null,null,null,null,null,"",""]
[null,{"$f":"IF(A576=\"\",\"\",Notes!$B$4)","v":""},null,null,null,null,null,null,null,null,null,null,"",""]
[null,{"$f":"IF(A577=\"\",\"\",Notes!$B$4)","v":""},null,null,null,null,null,null,null,null,null,null,"",""]
[null,{"$f":"IF(A578=\"\",\"\",Notes!$B$4)","v":""},null,null,null,null,null,null,null,null,null,null,{"$f":"IF(A578=\"\",\"\",VLOOKUP(B578,SchoolID,2,FALSE))","v":""},""]
[null,{"$f":"IF(A579=\"\",\"\",Notes!$B$4)","v":""},null,null,null,null,null,null,null,null,null,null,"",""]
[null,{"$f":"IF(A580=\"\",\"\",Notes!$B$4)","v":""},null,null,null,null,null,null,null,null,null,null,"",""]
[null,{"$f":"IF(A581=\"\",\"\",Notes!$B$4)","v":""},null,null,null,null,null,null,null,null,null,null,"",""]
[null,{"$f":"IF(A582=\"\",\"\",Notes!$B$4)","v":""},null,null,null,null,null,null,null,null,null,null,"",""]
[null,{"$f":"IF(A583=\"\",\"\",Notes!$B$4)","v":""},null,null,null,null,null,null,null,null,null,null,"",""]
[null,{"$f":"IF(A584=\"\",\"\",Notes!$B$4)","v":""},null,null,null,null,null,null,null,null,null,null,"",""]
[null,{"$f":"IF(A585=\"\",\"\",Notes!$B$4)","v":""},null,null,null,null,null,null,null,null,null,null,"",""]
[null,{"$f":"IF(A586=\"\",\"\",Notes!$B$4)","v":""},null,null,null,null,null,null,null,null,null,null,"",""]
[null,{"$f":"IF(A587=\"\",\"\",Notes!$B$4)","v":""},null,null,null,null,null,null,null,null,null,null,"",""]
[null,{"$f":"IF(A588=\"\",\"\",Notes!$B$4)","v":""},null,null,null,null,null,null,null,null,null,null,"",""]
[null,{"$f":"IF(A589=\"\",\"\",Notes!$B$4)","v":""},null,null,null,null,null,null,null,null,null,null,"",""]
[null,{"$f":"IF(A590=\"\",\"\",Notes!$B$4)","v":""},null,null,null,null,null,null,null,null,null,null,"",""]
[null,{"$f":"IF(A591=\"\",\"\",Notes!$B$4)","v":""},null,null,null,null,null,null,null,null,null,null,"",{"$f":"M591&A591","v":""}]
[null,{"$f":"IF(A592=\"\",\"\",Notes!$B$4)","v":""},null,null,null,null,null,null,null,null,null,null,"",""]
[null,{"$f":"IF(A593=\"\",\"\",Notes!$B$4)","v":""},null,null,null,null,null,null,null,null,null,null,"",""]
[null,{"$f":"IF(A594=\"\",\"\",Notes!$B$4)","v":""},null,null,null,null,null,null,null,null,null,null,"",""]
[null,{"$f":"IF(A595=\"\",\"\",Notes!$B$4)","v":""},null,null,null,null,null,null,null,null,null,null,"",""]
[null,{"$f":"IF(A596=\"\",\"\",Notes!$B$4)","v":""},null,null,null,null,null,null,null,null,null,null,"",""]
[null,{"$f":"IF(A597=\"\",\"\",Notes!$B$4)","v":""},null,null,null,null,null,null,null,null,null,null,"",""]
[null,{"$f":"IF(A598=\"\",\"\",Notes!$B$4)","v":""},null,null,null,null,null,null,null,null,null,null,"",""]
[null,{"$f":"IF(A599=\"\",\"\",Notes!$B$4)","v":""},null,null,null,null,null,null,null,null,null,null,"",""]
[null,{"$f":"IF(A600=\"\",\"\",Notes!$B$4)","v":""},null,null,null,null,null,null,null,null,null,null,"",""]
[null,{"$f":"IF(A601=\"\",\"\",Notes!$B$4)","v":""},null,null,null,null,null,null,null,null,null,null,"",""]
[null,{"$f":"IF(A602=\"\",\"\",Notes!$B$4)","v":""},null,null,null,null,null,null,null,null,null,null,"",""]
[null,{"$f":"IF(A603=\"\",\"\",Notes!$B$4)","v":""},null,null,null,null,null,null,null,null,null,null,"",""]
[null,{"$f":"IF(A604=\"\",\"\",Notes!$B$4)","v":""},null,null,null,null,null,null,null,null,null,null,"",""]
[null,{"$f":"IF(A605=\"\",\"\",Notes!$B$4)","v":""},null,null,null,null,null,null,null,null,null,null,"",""]
[null,{"$f":"IF(A606=\"\",\"\",Notes!$B$4)","v":""},null,null,null,null,null,null,null,null,null,null,"",""]
[null,{"$f":"IF(A607=\"\",\"\",Notes!$B$4)","v":""},null,null,null,null,null,null,null,null,null,null,"",""]
[null,{"$f":"IF(A608=\"\",\"\",Notes!$B$4)","v":""},null,null,null,null,null,null,null,null,null,null,"",""]
[null,{"$f":"IF(A609=\"\",\"\",Notes!$B$4)","v":""},null,null,null,null,null,null,null,null,null,null,"",""]
[null,{"$f":"IF(A610=\"\",\"\",Notes!$B$4)","v":""},null,null,null,null,null,null,null,null,null,null,"",""]
[null,{"$f":"IF(A611=\"\",\"\",Notes!$B$4)","v":""},null,null,null,null,null,null,null,null,null,null,"",""]
[null,{"$f":"IF(A612=\"\",\"\",Notes!$B$4)","v":""},null,null,null,null,null,null,null,null,null,null,"",""]
[null,{"$f":"IF(A613=\"\",\"\",Notes!$B$4)","v":""},null,null,null,null,null,null,null,null,null,null,"",""]
[null,{"$f":"IF(A614=\"\",\"\",Notes!$B$4)","v":""},null,null,null,null,null,null,null,null,null,null,"",""]
[null,{"$f":"IF(A615=\"\",\"\",Notes!$B$4)","v":""},null,null,null,null,null,null,null,null,null,null,"",""]
[null,{"$f":"IF(A616=\"\",\"\",Notes!$B$4)","v":""},null,null,null,null,null,null,null,null,null,null,"",""]
[null,{"$f":"IF(A617=\"\",\"\",Notes!$B$4)","v":""},null,null,null,null,null,null,null,null,null,null,"",""]
[null,{"$f":"IF(A618=\"\",\"\",Notes!$B$4)","v":""},null,null,null,null,null,null,null,null,null,null,"",""]
[null,{"$f":"IF(A619=\"\",\"\",Notes!$B$4)","v":""},null,null,null,null,null,null,null,null,null,null,"",""]
[null,{"$f":"IF(A620=\"\",\"\",Notes!$B$4)","v":""},null,null,null,null,null,null,null,null,null,null,"",""]
[null,{"$f":"IF(A621=\"\",\"\",Notes!$B$4)","v":""},null,null,null,null,null,null,null,null,null,null,"",""]
[null,{"$f":"IF(A622=\"\",\"\",Notes!$B$4)","v":""},null,null,null,null,null,null,null,null,null,null,"",""]
[null,{"$f":"IF(A623=\"\",\"\",Notes!$B$4)","v":""},null,null,null,null,null,null,null,null,null,null,"",""]
[null,{"$f":"IF(A624=\"\",\"\",Notes!$B$4)","v":""},null,null,null,null,null,null,null,null,null,null,"",""]
[null,{"$f":"IF(A625=\"\",\"\",Notes!$B$4)","v":""},null,null,null,null,null,null,null,null,null,null,"",""]
[null,{"$f":"IF(A626=\"\",\"\",Notes!$B$4)","v":""},null,null,null,null,null,null,null,null,null,null,"",""]
[null,{"$f":"IF(A627=\"\",\"\",Notes!$B$4)","v":""},null,null,null,null,null,null,null,null,null,null,"",""]
[null,{"$f":"IF(A628=\"\",\"\",Notes!$B$4)","v":""},null,null,null,null,null,null,null,null,null,null,"",""]
[null,{"$f":"IF(A629=\"\",\"\",Notes!$B$4)","v":""},null,null,null,null,null,null,null,null,null,null,"",""]
[null,{"$f":"IF(A630=\"\",\"\",Notes!$B$4)","v":""},null,null,null,null,null,null,null,null,null,null,"",""]
[null,{"$f":"IF(A631=\"\",\"\",Notes!$B$4)","v":""},null,null,null,null,null,null,null,null,null,null,"",""]
[null,{"$f":"IF(A632=\"\",\"\",Notes!$B$4)","v":""},null,null,null,null,null,null,null,null,null,null,"",""]
[null,{"$f":"IF(A633=\"\",\"\",Notes!$B$4)","v":""},null,null,null,null,null,null,null,null,null,null,"",""]
[null,{"$f":"IF(A634=\"\",\"\",Notes!$B$4)","v":""},null,null,null,null,null,null,null,null,null,null,"",""]
[null,{"$f":"IF(A635=\"\",\"\",Notes!$B$4)","v":""},null,null,null,null,null,null,null,null,null,null,"",""]
[null,{"$f":"IF(A636=\"\",\"\",Notes!$B$4)","v":""},null,null,null,null,null,null,null,null,null,null,"",""]
[null,{"$f":"IF(A637=\"\",\"\",Notes!$B$4)","v":""},null,null,null,null,null,null,null,null,null,null,"",""]
[null,{"$f":"IF(A638=\"\",\"\",Notes!$B$4)","v":""},null,null,null,null,null,null,null,null,null,null,"",""]
[null,{"$f":"IF(A639=\"\",\"\",Notes!$B$4)","v":""},null,null,null,null,null,null,null,null,null,null,"",""]
[null,{"$f":"IF(A640=\"\",\"\",Notes!$B$4)","v":""},null,null,null,null,null,null,null,null,null,null,"",""]
[null,{"$f":"IF(A641=\"\",\"\",Notes!$B$4)","v":""},null,null,null,null,null,null,null,null,null,null,"",""]
[null,{"$f":"IF(A642=\"\",\"\",Notes!$B$4)","v":""},null,null,null,null,null,null,null,null,null,null,{"$f":"IF(A642=\"\",\"\",VLOOKUP(B642,SchoolID,2,FALSE))","v":""},""]
[null,{"$f":"IF(A643=\"\",\"\",Notes!$B$4)","v":""},null,null,null,null,null,null,null,null,null,null,"",""]
[null,{"$f":"IF(A644=\"\",\"\",Notes!$B$4)","v":""},null,null,null,null,null,null,null,null,null,null,"",""]
[null,{"$f":"IF(A645=\"\",\"\",Notes!$B$4)","v":""},null,null,null,null,null,null,null,null,null,null,"",""]
[null,{"$f":"IF(A646=\"\",\"\",Notes!$B$4)","v":""},null,null,null,null,null,null,null,null,null,null,"",""]
[null,{"$f":"IF(A647=\"\",\"\",Notes!$B$4)","v":""},null,null,null,null,null,null,null,null,null,null,"",""]
[null,{"$f":"IF(A648=\"\",\"\",Notes!$B$4)","v":""},null,null,null,null,null,null,null,null,null,null,"",""]
[null,{"$f":"IF(A649=\"\",\"\",Notes!$B$4)","v":""},null,null,null,null,null,null,null,null,null,null,"",""]
[null,{"$f":"IF(A650=\"\",\"\",Notes!$B$4)","v":""},null,null,null,null,null,null,null,null,null,null,"",""]
[null,{"$f":"IF(A651=\"\",\"\",Notes!$B$4)","v":""},null,null,null,null,null,null,null,null,null,null,"",""]
[null,{"$f":"IF(A652=\"\",\"\",Notes!$B$4)","v":""},null,null,null,null,null,null,null,null,null,null,"",""]
[null,{"$f":"IF(A653=\"\",\"\",Notes!$B$4)","v":""},null,null,null,null,null,null,null,null,null,null,"",""]
[null,{"$f":"IF(A654=\"\",\"\",Notes!$B$4)","v":""},null,null,null,null,null,null,null,null,null,null,"",""]
[null,{"$f":"IF(A655=\"\",\"\",Notes!$B$4)","v":""},null,null,null,null,null,null,null,null,null,null,"",{"$f":"M655&A655","v":""}]
[null,{"$f":"IF(A656=\"\",\"\",Notes!$B$4)","v":""},null,null,null,null,null,null,null,null,null,null,"",""]
[null,{"$f":"IF(A657=\"\",\"\",Notes!$B$4)","v":""},null,null,null,null,null,null,null,null,null,null,"",""]
[null,{"$f":"IF(A658=\"\",\"\",Notes!$B$4)","v":""},null,null,null,null,null,null,null,null,null,null,"",""]
[null,{"$f":"IF(A659=\"\",\"\",Notes!$B$4)","v":""},null,null,null,null,null,null,null,null,null,null,"",""]
[null,{"$f":"IF(A660=\"\",\"\",Notes!$B$4)","v":""},null,null,null,null,null,null,null,null,null,null,"",""]
[null,{"$f":"IF(A661=\"\",\"\",Notes!$B$4)","v":""},null,null,null,null,null,null,null,null,null,null,"",""]
[null,{"$f":"IF(A662=\"\",\"\",Notes!$B$4)","v":""},null,null,null,null,null,null,null,null,null,null,"",""]
[null,{"$f":"IF(A663=\"\",\"\",Notes!$B$4)","v":""},null,null,null,null,null,null,null,null,null,null,"",""]
[null,{"$f":"IF(A664=\"\",\"\",Notes!$B$4)","v":""},null,null,null,null,null,null,null,null,null,null,"",""]
[null,{"$f":"IF(A665=\"\",\"\",Notes!$B$4)","v":""},null,null,null,null,null,null,null,null,null,null,"",""]
[null,{"$f":"IF(A666=\"\",\"\",Notes!$B$4)","v":""},null,null,null,null,null,null,null,null,null,null,"",""]
[null,{"$f":"IF(A667=\"\",\"\",Notes!$B$4)","v":""},null,null,null,null,null,null,null,null,null,null,"",""]
[null,{"$f":"IF(A668=\"\",\"\",Notes!$B$4)","v":""},null,null,null,null,null,null,null,null,null,null,"",""]
[null,{"$f":"IF(A669=\"\",\"\",Notes!$B$4)","v":""},null,null,null,null,null,null,null,null,null,null,"",""]
[null,{"$f":"IF(A670=\"\",\"\",Notes!$B$4)","v":""},null,null,null,null,null,null,null,null,null,null,"",""]
[null,{"$f":"IF(A671=\"\",\"\",Notes!$B$4)","v":""},null,null,null,null,null,null,null,null,null,null,"",""]
[null,{"$f":"IF(A672=\"\",\"\",Notes!$B$4)","v":""},null,null,null,null,null,null,null,null,null,null,"",""]
[null,{"$f":"IF(A673=\"\",\"\",Notes!$B$4)","v":""},null,null,null,null,null,null,null,null,null,null,"",""]
[null,{"$f":"IF(A674=\"\",\"\",Notes!$B$4)","v":""},null,null,null,null,null,null,null,null,null,null,"",""]
[null,{"$f":"IF(A675=\"\",\"\",Notes!$B$4)","v":""},null,null,null,null,null,null,null,null,null,null,"",""]
[null,{"$f":"IF(A676=\"\",\"\",Notes!$B$4)","v":""},null,null,null,null,null,null,null,null,null,null,"",""]
[null,{"$f":"IF(A677=\"\",\"\",Notes!$B$4)","v":""},null,null,null,null,null,null,null,null,null,null,"",""]
[null,{"$f":"IF(A678=\"\",\"\",Notes!$B$4)","v":""},null,null,null,null,null,null,null,null,null,null,"",""]
[null,{"$f":"IF(A679=\"\",\"\",Notes!$B$4)","v":""},null,null,null,null,null,null,null,null,null,null,"",""]
[null,{"$f":"IF(A680=\"\",\"\",Notes!$B$4)","v":""},null,null,null,null,null,null,null,null,null,null,"",""]
[null,{"$f":"IF(A681=\"\",\"\",Notes!$B$4)","v":""},null,null,null,null,null,null,null,null,null,null,"",""]
[null,{"$f":"IF(A682=\"\",\"\",Notes!$B$4)","v":""},null,null,null,null,null,null,null,null,null,null,"",""]
[null,{"$f":"IF(A683=\"\",\"\",Notes!$B$4)","v":""},null,null,null,null,null,null,null,null,null,null,"",""]
[null,{"$f":"IF(A684=\"\",\"\",Notes!$B$4)","v":""},null,null,null,null,null,null,null,null,null,null,"",""]
[null,{"$f":"IF(A685=\"\",\"\",Notes!$B$4)","v":""},null,null,null,null,null,null,null,null,null,null,"",""]
[null,{"$f":"IF(A686=\"\",\"\",Notes!$B$4)","v":""},null,null,null,null,null,null,null,null,null,null,"",""]
[null,{"$f":"IF(A687=\"\",\"\",Notes!$B$4)","v":""},null,null,null,null,null,null,null,null,null,null,"",""]
[null,{"$f":"IF(A688=\"\",\"\",Notes!$B$4)","v":""},null,null,null,null,null,null,null,null,null,null,"",""]
[null,{"$f":"IF(A689=\"\",\"\",Notes!$B$4)","v":""},null,null,null,null,null,null,null,null,null,null,"",""]
[null,{"$f":"IF(A690=\"\",\"\",Notes!$B$4)","v":""},null,null,null,null,null,null,null,null,null,null,"",""]
[null,{"$f":"IF(A691=\"\",\"\",Notes!$B$4)","v":""},null,null,null,null,null,null,null,null,null,null,"",""]
[null,{"$f":"IF(A692=\"\",\"\",Notes!$B$4)","v":""},null,null,null,null,null,null,null,null,null,null,"",""]
[null,{"$f":"IF(A693=\"\",\"\",Notes!$B$4)","v":""},null,null,null,null,null,null,null,null,null,null,"",""]
[null,{"$f":"IF(A694=\"\",\"\",Notes!$B$4)","v":""},null,null,null,null,null,null,null,null,null,null,"",""]
[null,{"$f":"IF(A695=\"\",\"\",Notes!$B$4)","v":""},null,null,null,null,null,null,null,null,null,null,"",""]
[null,{"$f":"IF(A696=\"\",\"\",Notes!$B$4)","v":""},null,null,null,null,null,null,null,null,null,null,"",""]
[null,{"$f":"IF(A697=\"\",\"\",Notes!$B$4)","v":""},null,null,null,null,null,null,null,null,null,null,"",""]
[null,{"$f":"IF(A698=\"\",\"\",Notes!$B$4)","v":""},null,null,null,null,null,null,null,null,null,null,"",""]
[null,{"$f":"IF(A699=\"\",\"\",Notes!$B$4)","v":""},null,null,null,null,null,null,null,null,null,null,"",""]
[null,{"$f":"IF(A700=\"\",\"\",Notes!$B$4)","v":""},null,null,null,null,null,null,null,null,null,null,"",""]
[null,{"$f":"IF(A701=\"\",\"\",Notes!$B$4)","v":""},null,null,null,null,null,null,null,null,null,null,"",""]
[null,{"$f":"IF(A702=\"\",\"\",Notes!$B$4)","v":""},null,null,null,null,null,null,null,null,null,null,"",""]
[null,{"$f":"IF(A703=\"\",\"\",Notes!$B$4)","v":""},null,null,null,null,null,null,null,null,null,null,"",""]
[null,{"$f":"IF(A704=\"\",\"\",Notes!$B$4)","v":""},null,null,null,null,null,null,null,null,null,null,"",""]
[null,{"$f":"IF(A705=\"\",\"\",Notes!$B$4)","v":""},null,null,null,null,null,null,null,null,null,null,"",""]
[null,{"$f":"IF(A706=\"\",\"\",Notes!$B$4)","v":""},null,null,null,null,null,null,null,null,null,null,{"$f":"IF(A706=\"\",\"\",VLOOKUP(B706,SchoolID,2,FALSE))","v":""},""]
[null,{"$f":"IF(A707=\"\",\"\",Notes!$B$4)","v":""},null,null,null,null,null,null,null,null,null,null,"",""]
[null,{"$f":"IF(A708=\"\",\"\",Notes!$B$4)","v":""},null,null,null,null,null,null,null,null,null,null,"",""]
[null,{"$f":"IF(A709=\"\",\"\",Notes!$B$4)","v":""},null,null,null,null,null,null,null,null,null,null,"",""]
[null,{"$f":"IF(A710=\"\",\"\",Notes!$B$4)","v":""},null,null,null,null,null,null,null,null,null,null,"",""]
[null,{"$f":"IF(A711=\"\",\"\",Notes!$B$4)","v":""},null,null,null,null,null,null,null,null,null,null,"",""]
[null,{"$f":"IF(A712=\"\",\"\",Notes!$B$4)","v":""},null,null,null,null,null,null,null,null,null,null,"",""]
[null,{"$f":"IF(A713=\"\",\"\",Notes!$B$4)","v":""},null,null,null,null,null,null,null,null,null,null,"",""]
[null,{"$f":"IF(A714=\"\",\"\",Notes!$B$4)","v":""},null,null,null,null,null,null,null,null,null,null,"",""]
[null,{"$f":"IF(A715=\"\",\"\",Notes!$B$4)","v":""},null,null,null,null,null,null,null,null,null,null,"",""]
[null,{"$f":"IF(A716=\"\",\"\",Notes!$B$4)","v":""},null,null,null,null,null,null,null,null,null,null,"",""]
[null,{"$f":"IF(A717=\"\",\"\",Notes!$B$4)","v":""},null,null,null,null,null,null,null,null,null,null,"",""]
[null,{"$f":"IF(A718=\"\",\"\",Notes!$B$4)","v":""},null,null,null,null,null,null,null,null,null,null,"",""]
[null,{"$f":"IF(A719=\"\",\"\",Notes!$B$4)","v":""},null,null,null,null,null,null,null,null,null,null,"",{"$f":"M719&A719","v":""}]
[null,{"$f":"IF(A720=\"\",\"\",Notes!$B$4)","v":""},null,null,null,null,null,null,null,null,null,null,"",""]
[null,{"$f":"IF(A721=\"\",\"\",Notes!$B$4)","v":""},null,null,null,null,null,null,null,null,null,null,"",""]
[null,{"$f":"IF(A722=\"\",\"\",Notes!$B$4)","v":""},null,null,null,null,null,null,null,null,null,null,"",""]
[null,{"$f":"IF(A723=\"\",\"\",Notes!$B$4)","v":""},null,null,null,null,null,null,null,null,null,null,"",""]
[null,{"$f":"IF(A724=\"\",\"\",Notes!$B$4)","v":""},null,null,null,null,null,null,null,null,null,null,"",""]
[null,{"$f":"IF(A725=\"\",\"\",Notes!$B$4)","v":""},null,null,null,null,null,null,null,null,null,null,"",""]
[null,{"$f":"IF(A726=\"\",\"\",Notes!$B$4)","v":""},null,null,null,null,null,null,null,null,null,null,"",""]
[null,{"$f":"IF(A727=\"\",\"\",Notes!$B$4)","v":""},null,null,null,null,null,null,null,null,null,null,"",""]
[null,{"$f":"IF(A728=\"\",\"\",Notes!$B$4)","v":""},null,null,null,null,null,null,null,null,null,null,"",""]
[null,{"$f":"IF(A729=\"\",\"\",Notes!$B$4)","v":""},null,null,null,null,null,null,null,null,null,null,"",""]
[null,{"$f":"IF(A730=\"\",\"\",Notes!$B$4)","v":""},null,null,null,null,null,null,null,null,null,null,"",""]
[null,{"$f":"IF(A731=\"\",\"\",Notes!$B$4)","v":""},null,null,null,null,null,null,null,null,null,null,"",""]
[null,{"$f":"IF(A732=\"\",\"\",Notes!$B$4)","v":""},null,null,null,null,null,null,null,null,null,null,"",""]
[null,{"$f":"IF(A733=\"\",\"\",Notes!$B$4)","v":""},null,null,null,null,null,null,null,null,null,null,"",""]
[null,{"$f":"IF(A734=\"\",\"\",Notes!$B$4)","v":""},null,null,null,null,null,null,null,null,null,null,"",""]
[null,{"$f":"IF(A735=\"\",\"\",Notes!$B$4)","v":""},null,null,null,null,null,null,null,null,null,null,"",""]
[null,{"$f":"IF(A736=\"\",\"\",Notes!$B$4)","v":""},null,null,null,null,null,null,null,null,null,null,"",""]
[null,{"$f":"IF(A737=\"\",\"\",Notes!$B$4)","v":""},null,null,null,null,null,null,null,null,null,null,"",""]
[null,{"$f":"IF(A738=\"\",\"\",Notes!$B$4)","v":""},null,null,null,null,null,null,null,null,null,null,"",""]
[null,{"$f":"IF(A739=\"\",\"\",Notes!$B$4)","v":""},null,null,null,null,null,null,null,null,null,null,"",""]
[null,{"$f":"IF(A740=\"\",\"\",Notes!$B$4)","v":""},null,null,null,null,null,null,null,null,null,null,"",""]
[null,{"$f":"IF(A741=\"\",\"\",Notes!$B$4)","v":""},null,null,null,null,null,null,null,null,null,null,"",""]
[null,{"$f":"IF(A742=\"\",\"\",Notes!$B$4)","v":""},null,null,null,null,null,null,null,null,null,null,"",""]
[null,{"$f":"IF(A743=\"\",\"\",Notes!$B$4)","v":""},null,null,null,null,null,null,null,null,null,null,"",""]
[null,{"$f":"IF(A744=\"\",\"\",Notes!$B$4)","v":""},null,null,null,null,null,null,null,null,null,null,"",""]
[null,{"$f":"IF(A745=\"\",\"\",Notes!$B$4)","v":""},null,null,null,null,null,null,null,null,null,null,"",""]
[null,{"$f":"IF(A746=\"\",\"\",Notes!$B$4)","v":""},null,null,null,null,null,null,null,null,null,null,"",""]
[null,{"$f":"IF(A747=\"\",\"\",Notes!$B$4)","v":""},null,null,null,null,null,null,null,null,null,null,"",""]
[null,{"$f":"IF(A748=\"\",\"\",Notes!$B$4)","v":""},null,null,null,null,null,null,null,null,null,null,"",""]
[null,{"$f":"IF(A749=\"\",\"\",Notes!$B$4)","v":""},null,null,null,null,null,null,null,null,null,null,"",""]
[null,{"$f":"IF(A750=\"\",\"\",Notes!$B$4)","v":""},null,null,null,null,null,null,null,null,null,null,"",""]
[null,{"$f":"IF(A751=\"\",\"\",Notes!$B$4)","v":""},null,null,null,null,null,null,null,null,null,null,"",""]
[null,{"$f":"IF(A752=\"\",\"\",Notes!$B$4)","v":""},null,null,null,null,null,null,null,null,null,null,"",""]
[null,{"$f":"IF(A753=\"\",\"\",Notes!$B$4)","v":""},null,null,null,null,null,null,null,null,null,null,"",""]
[null,{"$f":"IF(A754=\"\",\"\",Notes!$B$4)","v":""},null,null,null,null,null,null,null,null,null,null,"",""]
[null,{"$f":"IF(A755=\"\",\"\",Notes!$B$4)","v":""},null,null,null,null,null,null,null,null,null,null,"",""]
[null,{"$f":"IF(A756=\"\",\"\",Notes!$B$4)","v":""},null,null,null,null,null,null,null,null,null,null,"",""]
[null,{"$f":"IF(A757=\"\",\"\",Notes!$B$4)","v":""},null,null,null,null,null,null,null,null,null,null,"",""]
[null,{"$f":"IF(A758=\"\",\"\",Notes!$B$4)","v":""},null,null,null,null,null,null,null,null,null,null,"",""]
[null,{"$f":"IF(A759=\"\",\"\",Notes!$B$4)","v":""},null,null,null,null,null,null,null,null,null,null,"",""]
[null,{"$f":"IF(A760=\"\",\"\",Notes!$B$4)","v":""},null,null,null,null,null,null,null,null,null,null,"",""]
[null,{"$f":"IF(A761=\"\",\"\",Notes!$B$4)","v":""},null,null,null,null,null,null,null,null,null,null,"",""]
[null,{"$f":"IF(A762=\"\",\"\",Notes!$B$4)","v":""},null,null,null,null,null,null,null,null,null,null,"",""]
[null,{"$f":"IF(A763=\"\",\"\",Notes!$B$4)","v":""},null,null,null,null,null,null,null,null,null,null,"",""]
[null,{"$f":"IF(A764=\"\",\"\",Notes!$B$4)","v":""},null,null,null,null,null,null,null,null,null,null,"",""]
[null,{"$f":"IF(A765=\"\",\"\",Notes!$B$4)","v":""},null,null,null,null,null,null,null,null,null,null,"",""]
[null,{"$f":"IF(A766=\"\",\"\",Notes!$B$4)","v":""},null,null,null,null,null,null,null,null,null,null,"",""]
[null,{"$f":"IF(A767=\"\",\"\",Notes!$B$4)","v":""},null,null,null,null,null,null,null,null,null,null,"",""]
[null,{"$f":"IF(A768=\"\",\"\",Notes!$B$4)","v":""},null,null,null,null,null,null,null,null,null,null,"",""]
[null,{"$f":"IF(A769=\"\",\"\",Notes!$B$4)","v":""},null,null,null,null,null,null,null,null,null,null,"",""]
[null,{"$f":"IF(A770=\"\",\"\",Notes!$B$4)","v":""},null,null,null,null,null,null,null,null,null,null,{"$f":"IF(A770=\"\",\"\",VLOOKUP(B770,SchoolID,2,FALSE))","v":""},""]
[null,{"$f":"IF(A771=\"\",\"\",Notes!$B$4)","v":""},null,null,null,null,null,null,null,null,null,null,"",""]
[null,{"$f":"IF(A772=\"\",\"\",Notes!$B$4)","v":""},null,null,null,null,null,null,null,null,null,null,"",""]
[null,{"$f":"IF(A773=\"\",\"\",Notes!$B$4)","v":""},null,null,null,null,null,null,null,null,null,null,"",""]
[null,{"$f":"IF(A774=\"\",\"\",Notes!$B$4)","v":""},null,null,null,null,null,null,null,null,null,null,"",""]
[null,{"$f":"IF(A775=\"\",\"\",Notes!$B$4)","v":""},null,null,null,null,null,null,null,null,null,null,"",""]
[null,{"$f":"IF(A776=\"\",\"\",Notes!$B$4)","v":""},null,null,null,null,null,null,null,null,null,null,"",""]
[null,{"$f":"IF(A777=\"\",\"\",Notes!$B$4)","v":""},null,null,null,null,null,null,null,null,null,null,"",""]
[null,{"$f":"IF(A778=\"\",\"\",Notes!$B$4)","v":""},null,null,null,null,null,null,null,null,null,null,"",""]
[null,{"$f":"IF(A779=\"\",\"\",Notes!$B$4)","v":""},null,null,null,null,null,null,null,null,null,null,"",""]
[null,{"$f":"IF(A780=\"\",\"\",Notes!$B$4)","v":""},null,null,null,null,null,null,null,null,null,null,"",""]
[null,{"$f":"IF(A781=\"\",\"\",Notes!$B$4)","v":""},null,null,null,null,null,null,null,null,null,null,"",""]
[null,{"$f":"IF(A782=\"\",\"\",Notes!$B$4)","v":""},null,null,null,null,null,null,null,null,null,null,"",""]
[null,{"$f":"IF(A783=\"\",\"\",Notes!$B$4)","v":""},null,null,null,null,null,null,null,null,null,null,"",{"$f":"M783&A783","v":""}]
[null,{"$f":"IF(A784=\"\",\"\",Notes!$B$4)","v":""},null,null,null,null,null,null,null,null,null,null,"",""]
[null,{"$f":"IF(A785=\"\",\"\",Notes!$B$4)","v":""},null,null,null,null,null,null,null,null,null,null,"",""]
[null,{"$f":"IF(A786=\"\",\"\",Notes!$B$4)","v":""},null,null,null,null,null,null,null,null,null,null,"",""]
[null,{"$f":"IF(A787=\"\",\"\",Notes!$B$4)","v":""},null,null,null,null,null,null,null,null,null,null,"",""]
[null,{"$f":"IF(A788=\"\",\"\",Notes!$B$4)","v":""},null,null,null,null,null,null,null,null,null,null,"",""]
[null,{"$f":"IF(A789=\"\",\"\",Notes!$B$4)","v":""},null,null,null,null,null,null,null,null,null,null,"",""]
[null,{"$f":"IF(A790=\"\",\"\",Notes!$B$4)","v":""},null,null,null,null,null,null,null,null,null,null,"",""]
[null,{"$f":"IF(A791=\"\",\"\",Notes!$B$4)","v":""},null,null,null,null,null,null,null,null,null,null,"",""]
[null,{"$f":"IF(A792=\"\",\"\",Notes!$B$4)","v":""},null,null,null,null,null,null,null,null,null,null,"",""]
[null,{"$f":"IF(A793=\"\",\"\",Notes!$B$4)","v":""},null,null,null,null,null,null,null,null,null,null,"",""]
[null,{"$f":"IF(A794=\"\",\"\",Notes!$B$4)","v":""},null,null,null,null,null,null,null,null,null,null,"",""]
[null,{"$f":"IF(A795=\"\",\"\",Notes!$B$4)","v":""},null,null,null,null,null,null,null,null,null,null,"",""]
[null,{"$f":"IF(A796=\"\",\"\",Notes!$B$4)","v":""},null,null,null,null,null,null,null,null,null,null,"",""]
[null,{"$f":"IF(A797=\"\",\"\",Notes!$B$4)","v":""},null,null,null,null,null,null,null,null,null,null,"",""]
[null,{"$f":"IF(A798=\"\",\"\",Notes!$B$4)","v":""},null,null,null,null,null,null,null,null,null,null,"",""]
[null,{"$f":"IF(A799=\"\",\"\",Notes!$B$4)","v":""},null,null,null,null,null,null,null,null,null,null,"",""]
[null,{"$f":"IF(A800=\"\",\"\",Notes!$B$4)","v":""},null,null,null,null,null,null,null,null,null,null,"",""]
[null,{"$f":"IF(A801=\"\",\"\",Notes!$B$4)","v":""},null,null,null,null,null,null,null,null,null,null,"",""]
[null,{"$f":"IF(A802=\"\",\"\",Notes!$B$4)","v":""},null,null,null,null,null,null,null,null,null,null,"",""]
[null,{"$f":"IF(A803=\"\",\"\",Notes!$B$4)","v":""},null,null,null,null,null,null,null,null,null,null,"",""]
[null,{"$f":"IF(A804=\"\",\"\",Notes!$B$4)","v":""},null,null,null,null,null,null,null,null,null,null,"",""]
[null,{"$f":"IF(A805=\"\",\"\",Notes!$B$4)","v":""},null,null,null,null,null,null,null,null,null,null,"",""]
[null,{"$f":"IF(A806=\"\",\"\",Notes!$B$4)","v":""},null,null,null,null,null,null,null,null,null,null,"",""]
[null,{"$f":"IF(A807=\"\",\"\",Notes!$B$4)","v":""},null,null,null,null,null,null,null,null,null,null,"",""]
[null,{"$f":"IF(A808=\"\",\"\",Notes!$B$4)","v":""},null,null,null,null,null,null,null,null,null,null,"",""]
[null,{"$f":"IF(A809=\"\",\"\",Notes!$B$4)","v":""},null,null,null,null,null,null,null,null,null,null,"",""]
[null,{"$f":"IF(A810=\"\",\"\",Notes!$B$4)","v":""},null,null,null,null,null,null,null,null,null,null,"",""]
[null,{"$f":"IF(A811=\"\",\"\",Notes!$B$4)","v":""},null,null,null,null,null,null,null,null,null,null,"",""]
[null,{"$f":"IF(A812=\"\",\"\",Notes!$B$4)","v":""},null,null,null,null,null,null,null,null,null,null,"",""]
[null,{"$f":"IF(A813=\"\",\"\",Notes!$B$4)","v":""},null,null,null,null,null,null,null,null,null,null,"",""]
[null,{"$f":"IF(A814=\"\",\"\",Notes!$B$4)","v":""},null,null,null,null,null,null,null,null,null,null,"",""]
[null,{"$f":"IF(A815=\"\",\"\",Notes!$B$4)","v":""},null,null,null,null,null,null,null,null,null,null,"",""]
[null,{"$f":"IF(A816=\"\",\"\",Notes!$B$4)","v":""},null,null,null,null,null,null,null,null,null,null,"",""]
[null,{"$f":"IF(A817=\"\",\"\",Notes!$B$4)","v":""},null,null,null,null,null,null,null,null,null,null,"",""]
[null,{"$f":"IF(A818=\"\",\"\",Notes!$B$4)","v":""},null,null,null,null,null,null,null,null,null,null,"",""]
[null,{"$f":"IF(A819=\"\",\"\",Notes!$B$4)","v":""},null,null,null,null,null,null,null,null,null,null,"",""]
[null,{"$f":"IF(A820=\"\",\"\",Notes!$B$4)","v":""},null,null,null,null,null,null,null,null,null,null,"",""]
[null,{"$f":"IF(A821=\"\",\"\",Notes!$B$4)","v":""},null,null,null,null,null,null,null,null,null,null,"",""]
[null,{"$f":"IF(A822=\"\",\"\",Notes!$B$4)","v":""},null,null,null,null,null,null,null,null,null,null,"",""]
[null,{"$f":"IF(A823=\"\",\"\",Notes!$B$4)","v":""},null,null,null,null,null,null,null,null,null,null,"",""]
[null,{"$f":"IF(A824=\"\",\"\",Notes!$B$4)","v":""},null,null,null,null,null,null,null,null,null,null,"",""]
[null,{"$f":"IF(A825=\"\",\"\",Notes!$B$4)","v":""},null,null,null,null,null,null,null,null,null,null,"",""]
[null,{"$f":"IF(A826=\"\",\"\",Notes!$B$4)","v":""},null,null,null,null,null,null,null,null,null,null,"",""]
[null,{"$f":"IF(A827=\"\",\"\",Notes!$B$4)","v":""},null,null,null,null,null,null,null,null,null,null,"",""]
[null,{"$f":"IF(A828=\"\",\"\",Notes!$B$4)","v":""},null,null,null,null,null,null,null,null,null,null,"",""]
[null,{"$f":"IF(A829=\"\",\"\",Notes!$B$4)","v":""},null,null,null,null,null,null,null,null,null,null,"",""]
[null,{"$f":"IF(A830=\"\",\"\",Notes!$B$4)","v":""},null,null,null,null,null,null,null,null,null,null,"",""]
[null,{"$f":"IF(A831=\"\",\"\",Notes!$B$4)","v":""},null,null,null,null,null,null,null,null,null,null,"",""]
[null,{"$f":"IF(A832=\"\",\"\",Notes!$B$4)","v":""},null,null,null,null,null,null,null,null,null,null,"",""]
[null,{"$f":"IF(A833=\"\",\"\",Notes!$B$4)","v":""},null,null,null,null,null,null,null,null,null,null,"",""]
[null,{"$f":"IF(A834=\"\",\"\",Notes!$B$4)","v":""},null,null,null,null,null,null,null,null,null,null,{"$f":"IF(A834=\"\",\"\",VLOOKUP(B834,SchoolID,2,FALSE))","v":""},""]
[null,{"$f":"IF(A835=\"\",\"\",Notes!$B$4)","v":""},null,null,null,null,null,null,null,null,null,null,"",""]
[null,{"$f":"IF(A836=\"\",\"\",Notes!$B$4)","v":""},null,null,null,null,null,null,null,null,null,null,"",""]
[null,{"$f":"IF(A837=\"\",\"\",Notes!$B$4)","v":""},null,null,null,null,null,null,null,null,null,null,"",""]
[null,{"$f":"IF(A838=\"\",\"\",Notes!$B$4)","v":""},null,null,null,null,null,null,null,null,null,null,"",""]
[null,{"$f":"IF(A839=\"\",\"\",Notes!$B$4)","v":""},null,null,null,null,null,null,null,null,null,null,"",""]
[null,{"$f":"IF(A840=\"\",\"\",Notes!$B$4)","v":""},null,null,null,null,null,null,null,null,null,null,"",""]
[null,{"$f":"IF(A841=\"\",\"\",Notes!$B$4)","v":""},null,null,null,null,null,null,null,null,null,null,"",""]
[null,{"$f":"IF(A842=\"\",\"\",Notes!$B$4)","v":""},null,null,null,null,null,null,null,null,null,null,"",""]
[null,{"$f":"IF(A843=\"\",\"\",Notes!$B$4)","v":""},null,null,null,null,null,null,null,null,null,null,"",""]
[null,{"$f":"IF(A844=\"\",\"\",Notes!$B$4)","v":""},null,null,null,null,null,null,null,null,null,null,"",""]
[null,{"$f":"IF(A845=\"\",\"\",Notes!$B$4)","v":""},null,null,null,null,null,null,null,null,null,null,"",""]
[null,{"$f":"IF(A846=\"\",\"\",Notes!$B$4)","v":""},null,null,null,null,null,null,null,null,null,null,"",""]
[null,{"$f":"IF(A847=\"\",\"\",Notes!$B$4)","v":""},null,null,null,null,null,null,null,null,null,null,"",{"$f":"M847&A847","v":""}]
[null,{"$f":"IF(A848=\"\",\"\",Notes!$B$4)","v":""},null,null,null,null,null,null,null,null,null,null,"",""]
[null,{"$f":"IF(A849=\"\",\"\",Notes!$B$4)","v":""},null,null,null,null,null,null,null,null,null,null,"",""]
[null,{"$f":"IF(A850=\"\",\"\",Notes!$B$4)","v":""},null,null,null,null,null,null,null,null,null,null,"",""]
[null,{"$f":"IF(A851=\"\",\"\",Notes!$B$4)","v":""},null,null,null,null,null,null,null,null,null,null,"",""]
[null,{"$f":"IF(A852=\"\",\"\",Notes!$B$4)","v":""},null,null,null,null,null,null,null,null,null,null,"",""]
[null,{"$f":"IF(A853=\"\",\"\",Notes!$B$4)","v":""},null,null,null,null,null,null,null,null,null,null,"",""]
[null,{"$f":"IF(A854=\"\",\"\",Notes!$B$4)","v":""},null,null,null,null,null,null,null,null,null,null,"",""]
[null,{"$f":"IF(A855=\"\",\"\",Notes!$B$4)","v":""},null,null,null,null,null,null,null,null,null,null,"",""]
[null,{"$f":"IF(A856=\"\",\"\",Notes!$B$4)","v":""},null,null,null,null,null,null,null,null,null,null,"",""]
[null,{"$f":"IF(A857=\"\",\"\",Notes!$B$4)","v":""},null,null,null,null,null,null,null,null,null,null,"",""]
[null,{"$f":"IF(A858=\"\",\"\",Notes!$B$4)","v":""},null,null,null,null,null,null,null,null,null,null,"",""]
[null,{"$f":"IF(A859=\"\",\"\",Notes!$B$4)","v":""},null,null,null,null,null,null,null,null,null,null,"",""]
[null,{"$f":"IF(A860=\"\",\"\",Notes!$B$4)","v":""},null,null,null,null,null,null,null,null,null,null,"",""]
[null,{"$f":"IF(A861=\"\",\"\",Notes!$B$4)","v":""},null,null,null,null,null,null,null,null,null,null,"",""]
[null,{"$f":"IF(A862=\"\",\"\",Notes!$B$4)","v":""},null,null,null,null,null,null,null,null,null,null,"",""]
[null,{"$f":"IF(A863=\"\",\"\",Notes!$B$4)","v":""},null,null,null,null,null,null,null,null,null,null,"",""]
[null,{"$f":"IF(A864=\"\",\"\",Notes!$B$4)","v":""},null,null,null,null,null,null,null,null,null,null,"",""]
[null,{"$f":"IF(A865=\"\",\"\",Notes!$B$4)","v":""},null,null,null,null,null,null,null,null,null,null,"",""]
[null,{"$f":"IF(A866=\"\",\"\",Notes!$B$4)","v":""},null,null,null,null,null,null,null,null,null,null,"",""]
[null,{"$f":"IF(A867=\"\",\"\",Notes!$B$4)","v":""},null,null,null,null,null,null,null,null,null,null,"",""]
[null,{"$f":"IF(A868=\"\",\"\",Notes!$B$4)","v":""},null,null,null,null,null,null,null,null,null,null,"",""]
[null,{"$f":"IF(A869=\"\",\"\",Notes!$B$4)","v":""},null,null,null,null,null,null,null,null,null,null,"",""]
[null,{"$f":"IF(A870=\"\",\"\",Notes!$B$4)","v":""},null,null,null,null,null,null,null,null,null,null,"",""]
[null,{"$f":"IF(A871=\"\",\"\",Notes!$B$4)","v":""},null,null,null,null,null,null,null,null,null,null,"",""]
[null,{"$f":"IF(A872=\"\",\"\",Notes!$B$4)","v":""},null,null,null,null,null,null,null,null,null,null,"",""]
[null,{"$f":"IF(A873=\"\",\"\",Notes!$B$4)","v":""},null,null,null,null,null,null,null,null,null,null,"",""]
[null,{"$f":"IF(A874=\"\",\"\",Notes!$B$4)","v":""},null,null,null,null,null,null,null,null,null,null,"",""]
[null,{"$f":"IF(A875=\"\",\"\",Notes!$B$4)","v":""},null,null,null,null,null,null,null,null,null,null,"",""]
[null,{"$f":"IF(A876=\"\",\"\",Notes!$B$4)","v":""},null,null,null,null,null,null,null,null,null,null,"",""]
[null,{"$f":"IF(A877=\"\",\"\",Notes!$B$4)","v":""},null,null,null,null,null,null,null,null,null,null,"",""]
[null,{"$f":"IF(A878=\"\",\"\",Notes!$B$4)","v":""},null,null,null,null,null,null,null,null,null,null,"",""]
[null,{"$f":"IF(A879=\"\",\"\",Notes!$B$4)","v":""},null,null,null,null,null,null,null,null,null,null,"",""]
[null,{"$f":"IF(A880=\"\",\"\",Notes!$B$4)","v":""},null,null,null,null,null,null,null,null,null,null,"",""]
[null,{"$f":"IF(A881=\"\",\"\",Notes!$B$4)","v":""},null,null,null,null,null,null,null,null,null,null,"",""]
[null,{"$f":"IF(A882=\"\",\"\",Notes!$B$4)","v":""},null,null,null,null,null,null,null,null,null,null,"",""]
[null,{"$f":"IF(A883=\"\",\"\",Notes!$B$4)","v":""},null,null,null,null,null,null,null,null,null,null,"",""]
[null,{"$f":"IF(A884=\"\",\"\",Notes!$B$4)","v":""},null,null,null,null,null,null,null,null,null,null,"",""]
[null,{"$f":"IF(A885=\"\",\"\",Notes!$B$4)","v":""},null,null,null,null,null,null,null,null,null,null,"",""]
[null,{"$f":"IF(A886=\"\",\"\",Notes!$B$4)","v":""},null,null,null,null,null,null,null,null,null,null,"",""]
[null,{"$f":"IF(A887=\"\",\"\",Notes!$B$4)","v":""},null,null,null,null,null,null,null,null,null,null,"",""]
[null,{"$f":"IF(A888=\"\",\"\",Notes!$B$4)","v":""},null,null,null,null,null,null,null,null,null,null,"",""]
[null,{"$f":"IF(A889=\"\",\"\",Notes!$B$4)","v":""},null,null,null,null,null,null,null,null,null,null,"",""]
[null,{"$f":"IF(A890=\"\",\"\",Notes!$B$4)","v":""},null,null,null,null,null,null,null,null,null,null,"",""]
[null,{"$f":"IF(A891=\"\",\"\",Notes!$B$4)","v":""},null,null,null,null,null,null,null,null,null,null,"",""]
[null,{"$f":"IF(A892=\"\",\"\",Notes!$B$4)","v":""},null,null,null,null,null,null,null,null,null,null,"",""]
[null,{"$f":"IF(A893=\"\",\"\",Notes!$B$4)","v":""},null,null,null,null,null,null,null,null,null,null,"",""]
[null,{"$f":"IF(A894=\"\",\"\",Notes!$B$4)","v":""},null,null,null,null,null,null,null,null,null,null,"",""]
[null,{"$f":"IF(A895=\"\",\"\",Notes!$B$4)","v":""},null,null,null,null,null,null,null,null,null,null,"",""]
[null,{"$f":"IF(A896=\"\",\"\",Notes!$B$4)","v":""},null,null,null,null,null,null,null,null,null,null,"",""]
[null,{"$f":"IF(A897=\"\",\"\",Notes!$B$4)","v":""},null,null,null,null,null,null,null,null,null,null,"",""]
[null,{"$f":"IF(A898=\"\",\"\",Notes!$B$4)","v":""},null,null,null,null,null,null,null,null,null,null,{"$f":"IF(A898=\"\",\"\",VLOOKUP(B898,SchoolID,2,FALSE))","v":""},""]
[null,{"$f":"IF(A899=\"\",\"\",Notes!$B$4)","v":""},null,null,null,null,null,null,null,null,null,null,"",""]
[null,{"$f":"IF(A900=\"\",\"\",Notes!$B$4)","v":""},null,null,null,null,null,null,null,null,null,null,"",""]
[null,{"$f":"IF(A901=\"\",\"\",Notes!$B$4)","v":""},null,null,null,null,null,null,null,null,null,null,"",""]
[null,{"$f":"IF(A902=\"\",\"\",Notes!$B$4)","v":""},null,null,null,null,null,null,null,null,null,null,"",""]
[null,{"$f":"IF(A903=\"\",\"\",Notes!$B$4)","v":""},null,null,null,null,null,null,null,null,null,null,"",""]
[null,{"$f":"IF(A904=\"\",\"\",Notes!$B$4)","v":""},null,null,null,null,null,null,null,null,null,null,"",""]
[null,{"$f":"IF(A905=\"\",\"\",Notes!$B$4)","v":""},null,null,null,null,null,null,null,null,null,null,"",""]
[null,{"$f":"IF(A906=\"\",\"\",Notes!$B$4)","v":""},null,null,null,null,null,null,null,null,null,null,"",""]
[null,{"$f":"IF(A907=\"\",\"\",Notes!$B$4)","v":""},null,null,null,null,null,null,null,null,null,null,"",""]
[null,{"$f":"IF(A908=\"\",\"\",Notes!$B$4)","v":""},null,null,null,null,null,null,null,null,null,null,"",""]
[null,{"$f":"IF(A909=\"\",\"\",Notes!$B$4)","v":""},null,null,null,null,null,null,null,null,null,null,"",""]
[null,{"$f":"IF(A910=\"\",\"\",Notes!$B$4)","v":""},null,null,null,null,null,null,null,null,null,null,"",""]
[null,{"$f":"IF(A911=\"\",\"\",Notes!$B$4)","v":""},null,null,null,null,null,null,null,null,null,null,"",{"$f":"M911&A911","v":""}]
[null,{"$f":"IF(A912=\"\",\"\",Notes!$B$4)","v":""},null,null,null,null,null,null,null,null,null,null,"",""]
[null,{"$f":"IF(A913=\"\",\"\",Notes!$B$4)","v":""},null,null,null,null,null,null,null,null,null,null,"",""]
[null,{"$f":"IF(A914=\"\",\"\",Notes!$B$4)","v":""},null,null,null,null,null,null,null,null,null,null,"",""]
[null,{"$f":"IF(A915=\"\",\"\",Notes!$B$4)","v":""},null,null,null,null,null,null,null,null,null,null,"",""]
[null,{"$f":"IF(A916=\"\",\"\",Notes!$B$4)","v":""},null,null,null,null,null,null,null,null,null,null,"",""]
[null,{"$f":"IF(A917=\"\",\"\",Notes!$B$4)","v":""},null,null,null,null,null,null,null,null,null,null,"",""]
[null,{"$f":"IF(A918=\"\",\"\",Notes!$B$4)","v":""},null,null,null,null,null,null,null,null,null,null,"",""]
[null,{"$f":"IF(A919=\"\",\"\",Notes!$B$4)","v":""},null,null,null,null,null,null,null,null,null,null,"",""]
[null,{"$f":"IF(A920=\"\",\"\",Notes!$B$4)","v":""},null,null,null,null,null,null,null,null,null,null,"",""]
[null,{"$f":"IF(A921=\"\",\"\",Notes!$B$4)","v":""},null,null,null,null,null,null,null,null,null,null,"",""]
[null,{"$f":"IF(A922=\"\",\"\",Notes!$B$4)","v":""},null,null,null,null,null,null,null,null,null,null,"",""]
[null,{"$f":"IF(A923=\"\",\"\",Notes!$B$4)","v":""},null,null,null,null,null,null,null,null,null,null,"",""]
[null,{"$f":"IF(A924=\"\",\"\",Notes!$B$4)","v":""},null,null,null,null,null,null,null,null,null,null,"",""]
[null,{"$f":"IF(A925=\"\",\"\",Notes!$B$4)","v":""},null,null,null,null,null,null,null,null,null,null,"",""]
[null,{"$f":"IF(A926=\"\",\"\",Notes!$B$4)","v":""},null,null,null,null,null,null,null,null,null,null,"",""]
[null,{"$f":"IF(A927=\"\",\"\",Notes!$B$4)","v":""},null,null,null,null,null,null,null,null,null,null,"",""]
[null,{"$f":"IF(A928=\"\",\"\",Notes!$B$4)","v":""},null,null,null,null,null,null,null,null,null,null,"",""]
[null,{"$f":"IF(A929=\"\",\"\",Notes!$B$4)","v":""},null,null,null,null,null,null,null,null,null,null,"",""]
[null,{"$f":"IF(A930=\"\",\"\",Notes!$B$4)","v":""},null,null,null,null,null,null,null,null,null,null,"",""]
[null,{"$f":"IF(A931=\"\",\"\",Notes!$B$4)","v":""},null,null,null,null,null,null,null,null,null,null,"",""]
[null,{"$f":"IF(A932=\"\",\"\",Notes!$B$4)","v":""},null,null,null,null,null,null,null,null,null,null,"",""]
[null,{"$f":"IF(A933=\"\",\"\",Notes!$B$4)","v":""},null,null,null,null,null,null,null,null,null,null,"",""]
[null,{"$f":"IF(A934=\"\",\"\",Notes!$B$4)","v":""},null,null,null,null,null,null,null,null,null,null,"",""]
[null,{"$f":"IF(A935=\"\",\"\",Notes!$B$4)","v":""},null,null,null,null,null,null,null,null,null,null,"",""]
[null,{"$f":"IF(A936=\"\",\"\",Notes!$B$4)","v":""},null,null,null,null,null,null,null,null,null,null,"",""]
[null,{"$f":"IF(A937=\"\",\"\",Notes!$B$4)","v":""},null,null,null,null,null,null,null,null,null,null,"",""]
[null,{"$f":"IF(A938=\"\",\"\",Notes!$B$4)","v":""},null,null,null,null,null,null,null,null,null,null,"",""]
[null,{"$f":"IF(A939=\"\",\"\",Notes!$B$4)","v":""},null,null,null,null,null,null,null,null,null,null,"",""]
[null,{"$f":"IF(A940=\"\",\"\",Notes!$B$4)","v":""},null,null,null,null,null,null,null,null,null,null,"",""]
[null,{"$f":"IF(A941=\"\",\"\",Notes!$B$4)","v":""},null,null,null,null,null,null,null,null,null,null,"",""]
[null,{"$f":"IF(A942=\"\",\"\",Notes!$B$4)","v":""},null,null,null,null,null,null,null,null,null,null,"",""]
[null,{"$f":"IF(A943=\"\",\"\",Notes!$B$4)","v":""},null,null,null,null,null,null,null,null,null,null,"",""]
[null,{"$f":"IF(A944=\"\",\"\",Notes!$B$4)","v":""},null,null,null,null,null,null,null,null,null,null,"",""]
[null,{"$f":"IF(A945=\"\",\"\",Notes!$B$4)","v":""},null,null,null,null,null,null,null,null,null,null,"",""]
[null,{"$f":"IF(A946=\"\",\"\",Notes!$B$4)","v":""},null,null,null,null,null,null,null,null,null,null,"",""]
[null,{"$f":"IF(A947=\"\",\"\",Notes!$B$4)","v":""},null,null,null,null,null,null,null,null,null,null,"",""]
[null,{"$f":"IF(A948=\"\",\"\",Notes!$B$4)","v":""},null,null,null,null,null,null,null,null,null,null,"",""]
[null,{"$f":"IF(A949=\"\",\"\",Notes!$B$4)","v":""},null,null,null,null,null,null,null,null,null,null,"",""]
[null,{"$f":"IF(A950=\"\",\"\",Notes!$B$4)","v":""},null,null,null,null,null,null,null,null,null,null,"",""]
[null,{"$f":"IF(A951=\"\",\"\",Notes!$B$4)","v":""},null,null,null,null,null,null,null,null,null,null,"",""]
[null,{"$f":"IF(A952=\"\",\"\",Notes!$B$4)","v":""},null,null,null,null,null,null,null,null,null,null,"",""]
[null,{"$f":"IF(A953=\"\",\"\",Notes!$B$4)","v":""},null,null,null,null,null,null,null,null,null,null,"",""]
[null,{"$f":"IF(A954=\"\",\"\",Notes!$B$4)","v":""},null,null,null,null,null,null,null,null,null,null,"",""]
[null,{"$f":"IF(A955=\"\",\"\",Notes!$B$4)","v":""},null,null,null,null,null,null,null,null,null,null,"",""]
[null,{"$f":"IF(A956=\"\",\"\",Notes!$B$4)","v":""},null,null,null,null,null,null,null,null,null,null,"",""]
[null,{"$f":"IF(A957=\"\",\"\",Notes!$B$4)","v":""},null,null,null,null,null,null,null,null,null,null,"",""]
[null,{"$f":"IF(A958=\"\",\"\",Notes!$B$4)","v":""},null,null,null,null,null,null,null,null,null,null,"",""]
[null,{"$f":"IF(A959=\"\",\"\",Notes!$B$4)","v":""},null,null,null,null,null,null,null,null,null,null,"",""]
[null,{"$f":"IF(A960=\"\",\"\",Notes!$B$4)","v":""},null,null,null,null,null,null,null,null,null,null,"",""]
[null,{"$f":"IF(A961=\"\",\"\",Notes!$B$4)","v":""},null,null,null,null,null,null,null,null,null,null,"",""]
[null,{"$f":"IF(A962=\"\",\"\",Notes!$B$4)","v":""},null,null,null,null,null,null,null,null,null,null,{"$f":"IF(A962=\"\",\"\",VLOOKUP(B962,SchoolID,2,FALSE))","v":""},""]
[null,{"$f":"IF(A963=\"\",\"\",Notes!$B$4)","v":""},null,null,null,null,null,null,null,null,null,null,"",""]
[null,{"$f":"IF(A964=\"\",\"\",Notes!$B$4)","v":""},null,null,null,null,null,null,null,null,null,null,"",""]
[null,{"$f":"IF(A965=\"\",\"\",Notes!$B$4)","v":""},null,null,null,null,null,null,null,null,null,null,"",""]
[null,{"$f":"IF(A966=\"\",\"\",Notes!$B$4)","v":""},null,null,null,null,null,null,null,null,null,null,"",""]
[null,{"$f":"IF(A967=\"\",\"\",Notes!$B$4)","v":""},null,null,null,null,null,null,null,null,null,null,"",""]
[null,{"$f":"IF(A968=\"\",\"\",Notes!$B$4)","v":""},null,null,null,null,null,null,null,null,null,null,"",""]
[null,{"$f":"IF(A969=\"\",\"\",Notes!$B$4)","v":""},null,null,null,null,null,null,null,null,null,null,"",""]
[null,{"$f":"IF(A970=\"\",\"\",Notes!$B$4)","v":""},null,null,null,null,null,null,null,null,null,null,"",""]
[null,{"$f":"IF(A971=\"\",\"\",Notes!$B$4)","v":""},null,null,null,null,null,null,null,null,null,null,"",""]
[null,{"$f":"IF(A972=\"\",\"\",Notes!$B$4)","v":""},null,null,null,null,null,null,null,null,null,null,"",""]
[null,{"$f":"IF(A973=\"\",\"\",Notes!$B$4)","v":""},null,null,null,null,null,null,null,null,null,null,"",""]
[null,{"$f":"IF(A974=\"\",\"\",Notes!$B$4)","v":""},null,null,null,null,null,null,null,null,null,null,"",""]
[null,{"$f":"IF(A975=\"\",\"\",Notes!$B$4)","v":""},null,null,null,null,null,null,null,null,null,null,"",{"$f":"M975&A975","v":""}]
[null,{"$f":"IF(A976=\"\",\"\",Notes!$B$4)","v":""},null,null,null,null,null,null,null,null,null,null,"",""]
[null,{"$f":"IF(A977=\"\",\"\",Notes!$B$4)","v":""},null,null,null,null,null,null,null,null,null,null,"",""]
[null,{"$f":"IF(A978=\"\",\"\",Notes!$B$4)","v":""},null,null,null,null,null,null,null,null,null,null,"",""]
[null,{"$f":"IF(A979=\"\",\"\",Notes!$B$4)","v":""},null,null,null,null,null,null,null,null,null,null,"",""]
[null,{"$f":"IF(A980=\"\",\"\",Notes!$B$4)","v":""},null,null,null,null,null,null,null,null,null,null,"",""]
[null,{"$f":"IF(A981=\"\",\"\",Notes!$B$4)","v":""},null,null,null,null,null,null,null,null,null,null,"",""]
[null,{"$f":"IF(A982=\"\",\"\",Notes!$B$4)","v":""},null,null,null,null,null,null,null,null,null,null,"",""]
[null,{"$f":"IF(A983=\"\",\"\",Notes!$B$4)","v":""},null,null,null,null,null,null,null,null,null,null,"",""]
[null,{"$f":"IF(A984=\"\",\"\",Notes!$B$4)","v":""},null,null,null,null,null,null,null,null,null,null,"",""]
[null,{"$f":"IF(A985=\"\",\"\",Notes!$B$4)","v":""},null,null,null,null,null,null,null,null,null,null,"",""]
[null,{"$f":"IF(A986=\"\",\"\",Notes!$B$4)","v":""},null,null,null,null,null,null,null,null,null,null,"",""]
[null,{"$f":"IF(A987=\"\",\"\",Notes!$B$4)","v":""},null,null,null,null,null,null,null,null,null,null,"",""]
[null,{"$f":"IF(A988=\"\",\"\",Notes!$B$4)","v":""},null,null,null,null,null,null,null,null,null,null,"",""]
[null,{"$f":"IF(A989=\"\",\"\",Notes!$B$4)","v":""},null,null,null,null,null,null,null,null,null,null,"",""]
[null,{"$f":"IF(A990=\"\",\"\",Notes!$B$4)","v":""},null,null,null,null,null,null,null,null,null,null,"",""]
[null,{"$f":"IF(A991=\"\",\"\",Notes!$B$4)","v":""},null,null,null,null,null,null,null,null,null,null,"",""]
[null,{"$f":"IF(A992=\"\",\"\",Notes!$B$4)","v":""},null,null,null,null,null,null,null,null,null,null,"",""]
[null,{"$f":"IF(A993=\"\",\"\",Notes!$B$4)","v":""},null,null,null,null,null,null,null,null,null,null,"",""]
[null,{"$f":"IF(A994=\"\",\"\",Notes!$B$4)","v":""},null,null,null,null,null,null,null,null,null,null,"",""]
[null,{"$f":"IF(A995=\"\",\"\",Notes!$B$4)","v":""},null,null,null,null,null,null,null,null,null,null,"",""]
[null,{"$f":"IF(A996=\"\",\"\",Notes!$B$4)","v":""},null,null,null,null,null,null,null,null,null,null,"",""]
[null,{"$f":"IF(A997=\"\",\"\",Notes!$B$4)","v":""},null,null,null,null,null,null,null,null,null,null,"",""]
[null,{"$f":"IF(A998=\"\",\"\",Notes!$B$4)","v":""},null,null,null,null,null,null,null,null,null,null,"",""]
[null,{"$f":"IF(A999=\"\",\"\",Notes!$B$4)","v":""},null,null,null,null,null,null,null,null,null,null,"",""]
[null,{"$f":"IF(A1000=\"\",\"\",Notes!$B$4)","v":""},null,null,null,null,null,null,null,null,null,null,"",""]
[null,{"$f":"IF(A1001=\"\",\"\",Notes!$B$4)","v":""},null,null,null,null,null,null,null,null,null,null,"",""]
[null,{"$f":"IF(A1002=\"\",\"\",Notes!$B$4)","v":""},null,null,null,null,null,null,null,null,null,null,"",""]
[null,{"$f":"IF(A1003=\"\",\"\",Notes!$B$4)","v":""},null,null,null,null,null,null,null,null,null,null,"",""]
[null,{"$f":"IF(A1004=\"\",\"\",Notes!$B$4)","v":""},null,null,null,null,null,null,null,null,null,null,"",""]
[null,{"$f":"IF(A1005=\"\",\"\",Notes!$B$4)","v":""},null,null,null,null,null,null,null,null,null,null,"",""]
[null,{"$f":"IF(A1006=\"\",\"\",Notes!$B$4)","v":""},null,null,null,null,null,null,null,null,null,null,"",""]
[null,{"$f":"IF(A1007=\"\",\"\",Notes!$B$4)","v":""},null,null,null,null,null,null,null,null,null,null,"",""]
[null,{"$f":"IF(A1008=\"\",\"\",Notes!$B$4)","v":""},null,null,null,null,null,null,null,null,null,null,"",""]
[null,{"$f":"IF(A1009=\"\",\"\",Notes!$B$4)","v":""},null,null,null,null,null,null,null,null,null,null,"",""]
[null,{"$f":"IF(A1010=\"\",\"\",Notes!$B$4)","v":""},null,null,null,null,null,null,null,null,null,null,"",""]
[null,{"$f":"IF(A1011=\"\",\"\",Notes!$B$4)","v":""},null,null,null,null,null,null,null,null,null,null,"",""]
[null,{"$f":"IF(A1012=\"\",\"\",Notes!$B$4)","v":""},null,null,null,null,null,null,null,null,null,null,"",""]
[null,{"$f":"IF(A1013=\"\",\"\",Notes!$B$4)","v":""},null,null,null,null,null,null,null,null,null,null,"",""]
[null,{"$f":"IF(A1014=\"\",\"\",Notes!$B$4)","v":""},null,null,null,null,null,null,null,null,null,null,"",""]
[null,{"$f":"IF(A1015=\"\",\"\",Notes!$B$4)","v":""},null,null,null,null,null,null,null,null,null,null,"",""]
[null,{"$f":"IF(A1016=\"\",\"\",Notes!$B$4)","v":""},null,null,null,null,null,null,null,null,null,null,"",""]
[null,{"$f":"IF(A1017=\"\",\"\",Notes!$B$4)","v":""},null,null,null,null,null,null,null,null,null,null,"",""]
[null,{"$f":"IF(A1018=\"\",\"\",Notes!$B$4)","v":""},null,null,null,null,null,null,null,null,null,null,"",""]
[null,{"$f":"IF(A1019=\"\",\"\",Notes!$B$4)","v":""},null,null,null,null,null,null,null,null,null,null,"",""]
[null,{"$f":"IF(A1020=\"\",\"\",Notes!$B$4)","v":""},null,null,null,null,null,null,null,null,null,null,"",""]
[null,{"$f":"IF(A1021=\"\",\"\",Notes!$B$4)","v":""},null,null,null,null,null,null,null,null,null,null,"",""]
[null,{"$f":"IF(A1022=\"\",\"\",Notes!$B$4)","v":""},null,null,null,null,null,null,null,null,null,null,"",""]
[null,{"$f":"IF(A1023=\"\",\"\",Notes!$B$4)","v":""},null,null,null,null,null,null,null,null,null,null,"",""]
[null,{"$f":"IF(A1024=\"\",\"\",Notes!$B$4)","v":""},null,null,null,null,null,null,null,null,null,null,"",""]
[null,{"$f":"IF(A1025=\"\",\"\",Notes!$B$4)","v":""},null,null,null,null,null,null,null,null,null,null,"",""]
[null,{"$f":"IF(A1026=\"\",\"\",Notes!$B$4)","v":""},null,null,null,null,null,null,null,null,null,null,{"$f":"IF(A1026=\"\",\"\",VLOOKUP(B1026,SchoolID,2,FALSE))","v":""},""]
[null,{"$f":"IF(A1027=\"\",\"\",Notes!$B$4)","v":""},null,null,null,null,null,null,null,null,null,null,"",""]
[null,{"$f":"IF(A1028=\"\",\"\",Notes!$B$4)","v":""},null,null,null,null,null,null,null,null,null,null,"",""]
[null,{"$f":"IF(A1029=\"\",\"\",Notes!$B$4)","v":""},null,null,null,null,null,null,null,null,null,null,"",""]
[null,{"$f":"IF(A1030=\"\",\"\",Notes!$B$4)","v":""},null,null,null,null,null,null,null,null,null,null,"",""]
[null,{"$f":"IF(A1031=\"\",\"\",Notes!$B$4)","v":""},null,null,null,null,null,null,null,null,null,null,"",""]
[null,{"$f":"IF(A1032=\"\",\"\",Notes!$B$4)","v":""},null,null,null,null,null,null,null,null,null,null,"",""]
[null,{"$f":"IF(A1033=\"\",\"\",Notes!$B$4)","v":""},null,null,null,null,null,null,null,null,null,null,"",""]
[null,{"$f":"IF(A1034=\"\",\"\",Notes!$B$4)","v":""},null,null,null,null,null,null,null,null,null,null,"",""]
[null,{"$f":"IF(A1035=\"\",\"\",Notes!$B$4)","v":""},null,null,null,null,null,null,null,null,null,null,"",""]
[null,{"$f":"IF(A1036=\"\",\"\",Notes!$B$4)","v":""},null,null,null,null,null,null,null,null,null,null,"",""]
[null,{"$f":"IF(A1037=\"\",\"\",Notes!$B$4)","v":""},null,null,null,null,null,null,null,null,null,null,"",""]
[null,{"$f":"IF(A1038=\"\",\"\",Notes!$B$4)","v":""},null,null,null,null,null,null,null,null,null,null,"",""]
[null,{"$f":"IF(A1039=\"\",\"\",Notes!$B$4)","v":""},null,null,null,null,null,null,null,null,null,null,"",{"$f":"M1039&A1039","v":""}]
[null,{"$f":"IF(A1040=\"\",\"\",Notes!$B$4)","v":""},null,null,null,null,null,null,null,null,null,null,"",""]
[null,{"$f":"IF(A1041=\"\",\"\",Notes!$B$4)","v":""},null,null,null,null,null,null,null,null,null,null,"",""]
[null,{"$f":"IF(A1042=\"\",\"\",Notes!$B$4)","v":""},null,null,null,null,null,null,null,null,null,null,"",""]
[null,{"$f":"IF(A1043=\"\",\"\",Notes!$B$4)","v":""},null,null,null,null,null,null,null,null,null,null,"",""]
[null,{"$f":"IF(A1044=\"\",\"\",Notes!$B$4)","v":""},null,null,null,null,null,null,null,null,null,null,"",""]
[null,{"$f":"IF(A1045=\"\",\"\",Notes!$B$4)","v":""},null,null,null,null,null,null,null,null,null,null,"",""]
[null,{"$f":"IF(A1046=\"\",\"\",Notes!$B$4)","v":""},null,null,null,null,null,null,null,null,null,null,"",""]
[null,{"$f":"IF(A1047=\"\",\"\",Notes!$B$4)","v":""},null,null,null,null,null,null,null,null,null,null,"",""]
[null,{"$f":"IF(A1048=\"\",\"\",Notes!$B$4)","v":""},null,null,null,null,null,null,null,null,null,null,"",""]
[null,{"$f":"IF(A1049=\"\",\"\",Notes!$B$4)","v":""},null,null,null,null,null,null,null,null,null,null,"",""]
[null,{"$f":"IF(A1050=\"\",\"\",Notes!$B$4)","v":""},null,null,null,null,null,null,null,null,null,null,"",""]
[null,{"$f":"IF(A1051=\"\",\"\",Notes!$B$4)","v":""},null,null,null,null,null,null,null,null,null,null,"",""]
[null,{"$f":"IF(A1052=\"\",\"\",Notes!$B$4)","v":""},null,null,null,null,null,null,null,null,null,null,"",""]
[null,{"$f":"IF(A1053=\"\",\"\",Notes!$B$4)","v":""},null,null,null,null,null,null,null,null,null,null,"",""]
[null,{"$f":"IF(A1054=\"\",\"\",Notes!$B$4)","v":""},null,null,null,null,null,null,null,null,null,null,"",""]
[null,{"$f":"IF(A1055=\"\",\"\",Notes!$B$4)","v":""},null,null,null,null,null,null,null,null,null,null,"",""]
[null,{"$f":"IF(A1056=\"\",\"\",Notes!$B$4)","v":""},null,null,null,null,null,null,null,null,null,null,"",""]
[null,{"$f":"IF(A1057=\"\",\"\",Notes!$B$4)","v":""},null,null,null,null,null,null,null,null,null,null,"",""]
[null,{"$f":"IF(A1058=\"\",\"\",Notes!$B$4)","v":""},null,null,null,null,null,null,null,null,null,null,"",""]
[null,{"$f":"IF(A1059=\"\",\"\",Notes!$B$4)","v":""},null,null,null,null,null,null,null,null,null,null,"",""]
[null,{"$f":"IF(A1060=\"\",\"\",Notes!$B$4)","v":""},null,null,null,null,null,null,null,null,null,null,"",""]
[null,{"$f":"IF(A1061=\"\",\"\",Notes!$B$4)","v":""},null,null,null,null,null,null,null,null,null,null,"",""]
[null,{"$f":"IF(A1062=\"\",\"\",Notes!$B$4)","v":""},null,null,null,null,null,null,null,null,null,null,"",""]
[null,{"$f":"IF(A1063=\"\",\"\",Notes!$B$4)","v":""},null,null,null,null,null,null,null,null,null,null,"",""]
[null,{"$f":"IF(A1064=\"\",\"\",Notes!$B$4)","v":""},null,null,null,null,null,null,null,null,null,null,"",""]
[null,{"$f":"IF(A1065=\"\",\"\",Notes!$B$4)","v":""},null,null,null,null,null,null,null,null,null,null,"",""]
[null,{"$f":"IF(A1066=\"\",\"\",Notes!$B$4)","v":""},null,null,null,null,null,null,null,null,null,null,"",""]
[null,{"$f":"IF(A1067=\"\",\"\",Notes!$B$4)","v":""},null,null,null,null,null,null,null,null,null,null,"",""]
[null,{"$f":"IF(A1068=\"\",\"\",Notes!$B$4)","v":""},null,null,null,null,null,null,null,null,null,null,"",""]
[null,{"$f":"IF(A1069=\"\",\"\",Notes!$B$4)","v":""},null,null,null,null,null,null,null,null,null,null,"",""]
[null,{"$f":"IF(A1070=\"\",\"\",Notes!$B$4)","v":""},null,null,null,null,null,null,null,null,null,null,"",""]
[null,{"$f":"IF(A1071=\"\",\"\",Notes!$B$4)","v":""},null,null,null,null,null,null,null,null,null,null,"",""]
[null,{"$f":"IF(A1072=\"\",\"\",Notes!$B$4)","v":""},null,null,null,null,null,null,null,null,null,null,"",""]
[null,{"$f":"IF(A1073=\"\",\"\",Notes!$B$4)","v":""},null,null,null,null,null,null,null,null,null,null,"",""]
[null,{"$f":"IF(A1074=\"\",\"\",Notes!$B$4)","v":""},null,null,null,null,null,null,null,null,null,null,"",""]
[null,{"$f":"IF(A1075=\"\",\"\",Notes!$B$4)","v":""},null,null,null,null,null,null,null,null,null,null,"",""]
[null,{"$f":"IF(A1076=\"\",\"\",Notes!$B$4)","v":""},null,null,null,null,null,null,null,null,null,null,"",""]
[null,{"$f":"IF(A1077=\"\",\"\",Notes!$B$4)","v":""},null,null,null,null,null,null,null,null,null,null,"",""]
[null,{"$f":"IF(A1078=\"\",\"\",Notes!$B$4)","v":""},null,null,null,null,null,null,null,null,null,null,"",""]
[null,{"$f":"IF(A1079=\"\",\"\",Notes!$B$4)","v":""},null,null,null,null,null,null,null,null,null,null,"",""]
[null,{"$f":"IF(A1080=\"\",\"\",Notes!$B$4)","v":""},null,null,null,null,null,null,null,null,null,null,"",""]
[null,{"$f":"IF(A1081=\"\",\"\",Notes!$B$4)","v":""},null,null,null,null,null,null,null,null,null,null,"",""]
[null,{"$f":"IF(A1082=\"\",\"\",Notes!$B$4)","v":""},null,null,null,null,null,null,null,null,null,null,"",""]
[null,{"$f":"IF(A1083=\"\",\"\",Notes!$B$4)","v":""},null,null,null,null,null,null,null,null,null,null,"",""]
[null,{"$f":"IF(A1084=\"\",\"\",Notes!$B$4)","v":""},null,null,null,null,null,null,null,null,null,null,"",""]
[null,{"$f":"IF(A1085=\"\",\"\",Notes!$B$4)","v":""},null,null,null,null,null,null,null,null,null,null,"",""]
[null,{"$f":"IF(A1086=\"\",\"\",Notes!$B$4)","v":""},null,null,null,null,null,null,null,null,null,null,"",""]
[null,{"$f":"IF(A1087=\"\",\"\",Notes!$B$4)","v":""},null,null,null,null,null,null,null,null,null,null,"",""]
[null,{"$f":"IF(A1088=\"\",\"\",Notes!$B$4)","v":""},null,null,null,null,null,null,null,null,null,null,"",""]
[null,{"$f":"IF(A1089=\"\",\"\",Notes!$B$4)","v":""},null,null,null,null,null,null,null,null,null,null,"",""]
[null,{"$f":"IF(A1090=\"\",\"\",Notes!$B$4)","v":""},null,null,null,null,null,null,null,null,null,null,{"$f":"IF(A1090=\"\",\"\",VLOOKUP(B1090,SchoolID,2,FALSE))","v":""},""]
[null,{"$f":"IF(A1091=\"\",\"\",Notes!$B$4)","v":""},null,null,null,null,null,null,null,null,null,null,"",""]
[null,{"$f":"IF(A1092=\"\",\"\",Notes!$B$4)","v":""},null,null,null,null,null,null,null,null,null,null,"",""]
[null,{"$f":"IF(A1093=\"\",\"\",Notes!$B$4)","v":""},null,null,null,null,null,null,null,null,null,null,"",""]
[null,{"$f":"IF(A1094=\"\",\"\",Notes!$B$4)","v":""},null,null,null,null,null,null,null,null,null,null,"",""]
[null,{"$f":"IF(A1095=\"\",\"\",Notes!$B$4)","v":""},null,null,null,null,null,null,null,null,null,null,"",""]
[null,{"$f":"IF(A1096=\"\",\"\",Notes!$B$4)","v":""},null,null,null,null,null,null,null,null,null,null,"",""]
[null,{"$f":"IF(A1097=\"\",\"\",Notes!$B$4)","v":""},null,null,null,null,null,null,null,null,null,null,"",""]
[null,{"$f":"IF(A1098=\"\",\"\",Notes!$B$4)","v":""},null,null,null,null,null,null,null,null,null,null,"",""]
[null,{"$f":"IF(A1099=\"\",\"\",Notes!$B$4)","v":""},null,null,null,null,null,null,null,null,null,null,"",""]
[null,{"$f":"IF(A1100=\"\",\"\",Notes!$B$4)","v":""},null,null,null,null,null,null,null,null,null,null,"",""]
[null,{"$f":"IF(A1101=\"\",\"\",Notes!$B$4)","v":""},null,null,null,null,null,null,null,null,null,null,"",""]
[null,{"$f":"IF(A1102=\"\",\"\",Notes!$B$4)","v":""},null,null,null,null,null,null,null,null,null,null,"",""]
[null,{"$f":"IF(A1103=\"\",\"\",Notes!$B$4)","v":""},null,null,null,null,null,null,null,null,null,null,"",{"$f":"M1103&A1103","v":""}]
[null,{"$f":"IF(A1104=\"\",\"\",Notes!$B$4)","v":""},null,null,null,null,null,null,null,null,null,null,"",""]
[null,{"$f":"IF(A1105=\"\",\"\",Notes!$B$4)","v":""},null,null,null,null,null,null,null,null,null,null,"",""]
[null,{"$f":"IF(A1106=\"\",\"\",Notes!$B$4)","v":""},null,null,null,null,null,null,null,null,null,null,"",""]
[null,{"$f":"IF(A1107=\"\",\"\",Notes!$B$4)","v":""},null,null,null,null,null,null,null,null,null,null,"",""]
[null,{"$f":"IF(A1108=\"\",\"\",Notes!$B$4)","v":""},null,null,null,null,null,null,null,null,null,null,"",""]
[null,{"$f":"IF(A1109=\"\",\"\",Notes!$B$4)","v":""},null,null,null,null,null,null,null,null,null,null,"",""]
[null,{"$f":"IF(A1110=\"\",\"\",Notes!$B$4)","v":""},null,null,null,null,null,null,null,null,null,null,"",""]
[null,{"$f":"IF(A1111=\"\",\"\",Notes!$B$4)","v":""},null,null,null,null,null,null,null,null,null,null,"",""]
[null,{"$f":"IF(A1112=\"\",\"\",Notes!$B$4)","v":""},null,null,null,null,null,null,null,null,null,null,"",""]
[null,{"$f":"IF(A1113=\"\",\"\",Notes!$B$4)","v":""},null,null,null,null,null,null,null,null,null,null,"",""]
[null,{"$f":"IF(A1114=\"\",\"\",Notes!$B$4)","v":""},null,null,null,null,null,null,null,null,null,null,"",""]
[null,{"$f":"IF(A1115=\"\",\"\",Notes!$B$4)","v":""},null,null,null,null,null,null,null,null,null,null,"",""]
[null,{"$f":"IF(A1116=\"\",\"\",Notes!$B$4)","v":""},null,null,null,null,null,null,null,null,null,null,"",""]
[null,{"$f":"IF(A1117=\"\",\"\",Notes!$B$4)","v":""},null,null,null,null,null,null,null,null,null,null,"",""]
[null,{"$f":"IF(A1118=\"\",\"\",Notes!$B$4)","v":""},null,null,null,null,null,null,null,null,null,null,"",""]
[null,{"$f":"IF(A1119=\"\",\"\",Notes!$B$4)","v":""},null,null,null,null,null,null,null,null,null,null,"",""]
[null,{"$f":"IF(A1120=\"\",\"\",Notes!$B$4)","v":""},null,null,null,null,null,null,null,null,null,null,"",""]
[null,{"$f":"IF(A1121=\"\",\"\",Notes!$B$4)","v":""},null,null,null,null,null,null,null,null,null,null,"",""]
[null,{"$f":"IF(A1122=\"\",\"\",Notes!$B$4)","v":""},null,null,null,null,null,null,null,null,null,null,"",""]
[null,{"$f":"IF(A1123=\"\",\"\",Notes!$B$4)","v":""},null,null,null,null,null,null,null,null,null,null,"",""]
[null,{"$f":"IF(A1124=\"\",\"\",Notes!$B$4)","v":""},null,null,null,null,null,null,null,null,null,null,"",""]
[null,{"$f":"IF(A1125=\"\",\"\",Notes!$B$4)","v":""},null,null,null,null,null,null,null,null,null,null,"",""]
[null,{"$f":"IF(A1126=\"\",\"\",Notes!$B$4)","v":""},null,null,null,null,null,null,null,null,null,null,"",""]
[null,{"$f":"IF(A1127=\"\",\"\",Notes!$B$4)","v":""},null,null,null,null,null,null,null,null,null,null,"",""]
[null,{"$f":"IF(A1128=\"\",\"\",Notes!$B$4)","v":""},null,null,null,null,null,null,null,null,null,null,"",""]
[null,{"$f":"IF(A1129=\"\",\"\",Notes!$B$4)","v":""},null,null,null,null,null,null,null,null,null,null,"",""]
[null,{"$f":"IF(A1130=\"\",\"\",Notes!$B$4)","v":""},null,null,null,null,null,null,null,null,null,null,"",""]
[null,{"$f":"IF(A1131=\"\",\"\",Notes!$B$4)","v":""},null,null,null,null,null,null,null,null,null,null,"",""]
[null,{"$f":"IF(A1132=\"\",\"\",Notes!$B$4)","v":""},null,null,null,null,null,null,null,null,null,null,"",""]
[null,{"$f":"IF(A1133=\"\",\"\",Notes!$B$4)","v":""},null,null,null,null,null,null,null,null,null,null,"",""]
[null,{"$f":"IF(A1134=\"\",\"\",Notes!$B$4)","v":""},null,null,null,null,null,null,null,null,null,null,"",""]
[null,{"$f":"IF(A1135=\"\",\"\",Notes!$B$4)","v":""},null,null,null,null,null,null,null,null,null,null,"",""]
[null,{"$f":"IF(A1136=\"\",\"\",Notes!$B$4)","v":""},null,null,null,null,null,null,null,null,null,null,"",""]
[null,{"$f":"IF(A1137=\"\",\"\",Notes!$B$4)","v":""},null,null,null,null,null,null,null,null,null,null,"",""]
[null,{"$f":"IF(A1138=\"\",\"\",Notes!$B$4)","v":""},null,null,null,null,null,null,null,null,null,null,"",""]
[null,{"$f":"IF(A1139=\"\",\"\",Notes!$B$4)","v":""},null,null,null,null,null,null,null,null,null,null,"",""]
[null,{"$f":"IF(A1140=\"\",\"\",Notes!$B$4)","v":""},null,null,null,null,null,null,null,null,null,null,"",""]
[null,{"$f":"IF(A1141=\"\",\"\",Notes!$B$4)","v":""},null,null,null,null,null,null,null,null,null,null,"",""]
[null,{"$f":"IF(A1142=\"\",\"\",Notes!$B$4)","v":""},null,null,null,null,null,null,null,null,null,null,"",""]
[null,{"$f":"IF(A1143=\"\",\"\",Notes!$B$4)","v":""},null,null,null,null,null,null,null,null,null,null,"",""]
[null,{"$f":"IF(A1144=\"\",\"\",Notes!$B$4)","v":""},null,null,null,null,null,null,null,null,null,null,"",""]
[null,{"$f":"IF(A1145=\"\",\"\",Notes!$B$4)","v":""},null,null,null,null,null,null,null,null,null,null,"",""]
[null,{"$f":"IF(A1146=\"\",\"\",Notes!$B$4)","v":""},null,null,null,null,null,null,null,null,null,null,"",""]
[null,{"$f":"IF(A1147=\"\",\"\",Notes!$B$4)","v":""},null,null,null,null,null,null,null,null,null,null,"",""]
[null,{"$f":"IF(A1148=\"\",\"\",Notes!$B$4)","v":""},null,null,null,null,null,null,null,null,null,null,"",""]
[null,{"$f":"IF(A1149=\"\",\"\",Notes!$B$4)","v":""},null,null,null,null,null,null,null,null,null,null,"",""]
[null,{"$f":"IF(A1150=\"\",\"\",Notes!$B$4)","v":""},null,null,null,null,null,null,null,null,null,null,"",""]
[null,{"$f":"IF(A1151=\"\",\"\",Notes!$B$4)","v":""},null,null,null,null,null,null,null,null,null,null,"",""]
[null,{"$f":"IF(A1152=\"\",\"\",Notes!$B$4)","v":""},null,null,null,null,null,null,null,null,null,null,"",""]
[null,{"$f":"IF(A1153=\"\",\"\",Notes!$B$4)","v":""},null,null,null,null,null,null,null,null,null,null,"",""]
[null,{"$f":"IF(A1154=\"\",\"\",Notes!$B$4)","v":""},null,null,null,null,null,null,null,null,null,null,{"$f":"IF(A1154=\"\",\"\",VLOOKUP(B1154,SchoolID,2,FALSE))","v":""},""]
[null,{"$f":"IF(A1155=\"\",\"\",Notes!$B$4)","v":""},null,null,null,null,null,null,null,null,null,null,"",""]
[null,{"$f":"IF(A1156=\"\",\"\",Notes!$B$4)","v":""},null,null,null,null,null,null,null,null,null,null,"",""]
[null,{"$f":"IF(A1157=\"\",\"\",Notes!$B$4)","v":""},null,null,null,null,null,null,null,null,null,null,"",""]
[null,{"$f":"IF(A1158=\"\",\"\",Notes!$B$4)","v":""},null,null,null,null,null,null,null,null,null,null,"",""]
[null,{"$f":"IF(A1159=\"\",\"\",Notes!$B$4)","v":""},null,null,null,null,null,null,null,null,null,null,"",""]
[null,{"$f":"IF(A1160=\"\",\"\",Notes!$B$4)","v":""},null,null,null,null,null,null,null,null,null,null,"",""]
[null,{"$f":"IF(A1161=\"\",\"\",Notes!$B$4)","v":""},null,null,null,null,null,null,null,null,null,null,"",""]
[null,{"$f":"IF(A1162=\"\",\"\",Notes!$B$4)","v":""},null,null,null,null,null,null,null,null,null,null,"",""]
[null,{"$f":"IF(A1163=\"\",\"\",Notes!$B$4)","v":""},null,null,null,null,null,null,null,null,null,null,"",""]
[null,{"$f":"IF(A1164=\"\",\"\",Notes!$B$4)","v":""},null,null,null,null,null,null,null,null,null,null,"",""]
[null,{"$f":"IF(A1165=\"\",\"\",Notes!$B$4)","v":""},null,null,null,null,null,null,null,null,null,null,"",""]
[null,{"$f":"IF(A1166=\"\",\"\",Notes!$B$4)","v":""},null,null,null,null,null,null,null,null,null,null,"",""]
[null,{"$f":"IF(A1167=\"\",\"\",Notes!$B$4)","v":""},null,null,null,null,null,null,null,null,null,null,"",{"$f":"M1167&A1167","v":""}]
[null,{"$f":"IF(A1168=\"\",\"\",Notes!$B$4)","v":""},null,null,null,null,null,null,null,null,null,null,"",""]
[null,{"$f":"IF(A1169=\"\",\"\",Notes!$B$4)","v":""},null,null,null,null,null,null,null,null,null,null,"",""]
[null,{"$f":"IF(A1170=\"\",\"\",Notes!$B$4)","v":""},null,null,null,null,null,null,null,null,null,null,"",""]
[null,{"$f":"IF(A1171=\"\",\"\",Notes!$B$4)","v":""},null,null,null,null,null,null,null,null,null,null,"",""]
[null,{"$f":"IF(A1172=\"\",\"\",Notes!$B$4)","v":""},null,null,null,null,null,null,null,null,null,null,"",""]
[null,{"$f":"IF(A1173=\"\",\"\",Notes!$B$4)","v":""},null,null,null,null,null,null,null,null,null,null,"",""]
[null,{"$f":"IF(A1174=\"\",\"\",Notes!$B$4)","v":""},null,null,null,null,null,null,null,null,null,null,"",""]
[null,{"$f":"IF(A1175=\"\",\"\",Notes!$B$4)","v":""},null,null,null,null,null,null,null,null,null,null,"",""]
[null,{"$f":"IF(A1176=\"\",\"\",Notes!$B$4)","v":""},null,null,null,null,null,null,null,null,null,null,"",""]
[null,{"$f":"IF(A1177=\"\",\"\",Notes!$B$4)","v":""},null,null,null,null,null,null,null,null,null,null,"",""]
[null,{"$f":"IF(A1178=\"\",\"\",Notes!$B$4)","v":""},null,null,null,null,null,null,null,null,null,null,"",""]
[null,{"$f":"IF(A1179=\"\",\"\",Notes!$B$4)","v":""},null,null,null,null,null,null,null,null,null,null,"",""]
[null,{"$f":"IF(A1180=\"\",\"\",Notes!$B$4)","v":""},null,null,null,null,null,null,null,null,null,null,"",""]
[null,{"$f":"IF(A1181=\"\",\"\",Notes!$B$4)","v":""},null,null,null,null,null,null,null,null,null,null,"",""]
[null,{"$f":"IF(A1182=\"\",\"\",Notes!$B$4)","v":""},null,null,null,null,null,null,null,null,null,null,"",""]
[null,{"$f":"IF(A1183=\"\",\"\",Notes!$B$4)","v":""},null,null,null,null,null,null,null,null,null,null,"",""]
[null,{"$f":"IF(A1184=\"\",\"\",Notes!$B$4)","v":""},null,null,null,null,null,null,null,null,null,null,"",""]
[null,{"$f":"IF(A1185=\"\",\"\",Notes!$B$4)","v":""},null,null,null,null,null,null,null,null,null,null,"",""]
[null,{"$f":"IF(A1186=\"\",\"\",Notes!$B$4)","v":""},null,null,null,null,null,null,null,null,null,null,"",""]
[null,{"$f":"IF(A1187=\"\",\"\",Notes!$B$4)","v":""},null,null,null,null,null,null,null,null,null,null,"",""]
[null,{"$f":"IF(A1188=\"\",\"\",Notes!$B$4)","v":""},null,null,null,null,null,null,null,null,null,null,"",""]
[null,{"$f":"IF(A1189=\"\",\"\",Notes!$B$4)","v":""},null,null,null,null,null,null,null,null,null,null,"",""]
[null,{"$f":"IF(A1190=\"\",\"\",Notes!$B$4)","v":""},null,null,null,null,null,null,null,null,null,null,"",""]
[null,{"$f":"IF(A1191=\"\",\"\",Notes!$B$4)","v":""},null,null,null,null,null,null,null,null,null,null,"",""]
[null,{"$f":"IF(A1192=\"\",\"\",Notes!$B$4)","v":""},null,null,null,null,null,null,null,null,null,null,"",""]
[null,{"$f":"IF(A1193=\"\",\"\",Notes!$B$4)","v":""},null,null,null,null,null,null,null,null,null,null,"",""]
[null,{"$f":"IF(A1194=\"\",\"\",Notes!$B$4)","v":""},null,null,null,null,null,null,null,null,null,null,"",""]
[null,{"$f":"IF(A1195=\"\",\"\",Notes!$B$4)","v":""},null,null,null,null,null,null,null,null,null,null,"",""]
[null,{"$f":"IF(A1196=\"\",\"\",Notes!$B$4)","v":""},null,null,null,null,null,null,null,null,null,null,"",""]
[null,{"$f":"IF(A1197=\"\",\"\",Notes!$B$4)","v":""},null,null,null,null,null,null,null,null,null,null,"",""]
[null,{"$f":"IF(A1198=\"\",\"\",Notes!$B$4)","v":""},null,null,null,null,null,null,null,null,null,null,"",""]
[null,{"$f":"IF(A1199=\"\",\"\",Notes!$B$4)","v":""},null,null,null,null,null,null,null,null,null,null,"",""]
[null,{"$f":"IF(A1200=\"\",\"\",Notes!$B$4)","v":""},null,null,null,null,null,null,null,null,null,null,"",""]
[null,{"$f":"IF(A1201=\"\",\"\",Notes!$B$4)","v":""},null,null,null,null,null,null,null,null,null,null,"",""]
[null,{"$f":"IF(A1202=\"\",\"\",Notes!$B$4)","v":""},null,null,null,null,null,null,null,null,null,null,"",""]
[null,{"$f":"IF(A1203=\"\",\"\",Notes!$B$4)","v":""},null,null,null,null,null,null,null,null,null,null,"",""]
[null,{"$f":"IF(A1204=\"\",\"\",Notes!$B$4)","v":""},null,null,null,null,null,null,null,null,null,null,"",""]
[null,{"$f":"IF(A1205=\"\",\"\",Notes!$B$4)","v":""},null,null,null,null,null,null,null,null,null,null,"",""]
[null,{"$f":"IF(A1206=\"\",\"\",Notes!$B$4)","v":""},null,null,null,null,null,null,null,null,null,null,"",""]
[null,{"$f":"IF(A1207=\"\",\"\",Notes!$B$4)","v":""},null,null,null,null,null,null,null,null,null,null,"",""]
[null,{"$f":"IF(A1208=\"\",\"\",Notes!$B$4)","v":""},null,null,null,null,null,null,null,null,null,null,"",""]
[null,{"$f":"IF(A1209=\"\",\"\",Notes!$B$4)","v":""},null,null,null,null,null,null,null,null,null,null,"",""]
[null,{"$f":"IF(A1210=\"\",\"\",Notes!$B$4)","v":""},null,null,null,null,null,null,null,null,null,null,"",""]
[null,{"$f":"IF(A1211=\"\",\"\",Notes!$B$4)","v":""},null,null,null,null,null,null,null,null,null,null,"",""]
[null,{"$f":"IF(A1212=\"\",\"\",Notes!$B$4)","v":""},null,null,null,null,null,null,null,null,null,null,"",""]
[null,{"$f":"IF(A1213=\"\",\"\",Notes!$B$4)","v":""},null,null,null,null,null,null,null,null,null,null,"",""]
[null,{"$f":"IF(A1214=\"\",\"\",Notes!$B$4)","v":""},null,null,null,null,null,null,null,null,null,null,"",""]
[null,{"$f":"IF(A1215=\"\",\"\",Notes!$B$4)","v":""},null,null,null,null,null,null,null,null,null,null,"",""]
[null,{"$f":"IF(A1216=\"\",\"\",Notes!$B$4)","v":""},null,null,null,null,null,null,null,null,null,null,"",""]
[null,{"$f":"IF(A1217=\"\",\"\",Notes!$B$4)","v":""},null,null,null,null,null,null,null,null,null,null,"",""]
[null,{"$f":"IF(A1218=\"\",\"\",Notes!$B$4)","v":""},null,null,null,null,null,null,null,null,null,null,{"$f":"IF(A1218=\"\",\"\",VLOOKUP(B1218,SchoolID,2,FALSE))","v":""},""]
[null,{"$f":"IF(A1219=\"\",\"\",Notes!$B$4)","v":""},null,null,null,null,null,null,null,null,null,null,"",""]
[null,{"$f":"IF(A1220=\"\",\"\",Notes!$B$4)","v":""},null,null,null,null,null,null,null,null,null,null,"",""]
[null,{"$f":"IF(A1221=\"\",\"\",Notes!$B$4)","v":""},null,null,null,null,null,null,null,null,null,null,"",""]
[null,{"$f":"IF(A1222=\"\",\"\",Notes!$B$4)","v":""},null,null,null,null,null,null,null,null,null,null,"",""]
[null,{"$f":"IF(A1223=\"\",\"\",Notes!$B$4)","v":""},null,null,null,null,null,null,null,null,null,null,"",""]
[null,{"$f":"IF(A1224=\"\",\"\",Notes!$B$4)","v":""},null,null,null,null,null,null,null,null,null,null,"",""]
[null,{"$f":"IF(A1225=\"\",\"\",Notes!$B$4)","v":""},null,null,null,null,null,null,null,null,null,null,"",""]
[null,{"$f":"IF(A1226=\"\",\"\",Notes!$B$4)","v":""},null,null,null,null,null,null,null,null,null,null,"",""]
[null,{"$f":"IF(A1227=\"\",\"\",Notes!$B$4)","v":""},null,null,null,null,null,null,null,null,null,null,"",""]
[null,{"$f":"IF(A1228=\"\",\"\",Notes!$B$4)","v":""},null,null,null,null,null,null,null,null,null,null,"",""]
[null,{"$f":"IF(A1229=\"\",\"\",Notes!$B$4)","v":""},null,null,null,null,null,null,null,null,null,null,"",""]
[null,{"$f":"IF(A1230=\"\",\"\",Notes!$B$4)","v":""},null,null,null,null,null,null,null,null,null,null,"",""]
[null,{"$f":"IF(A1231=\"\",\"\",Notes!$B$4)","v":""},null,null,null,null,null,null,null,null,null,null,"",{"$f":"M1231&A1231","v":""}]
[null,{"$f":"IF(A1232=\"\",\"\",Notes!$B$4)","v":""},null,null,null,null,null,null,null,null,null,null,"",""]
[null,{"$f":"IF(A1233=\"\",\"\",Notes!$B$4)","v":""},null,null,null,null,null,null,null,null,null,null,"",""]
[null,{"$f":"IF(A1234=\"\",\"\",Notes!$B$4)","v":""},null,null,null,null,null,null,null,null,null,null,"",""]
[null,{"$f":"IF(A1235=\"\",\"\",Notes!$B$4)","v":""},null,null,null,null,null,null,null,null,null,null,"",""]
[null,{"$f":"IF(A1236=\"\",\"\",Notes!$B$4)","v":""},null,null,null,null,null,null,null,null,null,null,"",""]
[null,{"$f":"IF(A1237=\"\",\"\",Notes!$B$4)","v":""},null,null,null,null,null,null,null,null,null,null,"",""]
[null,{"$f":"IF(A1238=\"\",\"\",Notes!$B$4)","v":""},null,null,null,null,null,null,null,null,null,null,"",""]
[null,{"$f":"IF(A1239=\"\",\"\",Notes!$B$4)","v":""},null,null,null,null,null,null,null,null,null,null,"",""]
[null,{"$f":"IF(A1240=\"\",\"\",Notes!$B$4)","v":""},null,null,null,null,null,null,null,null,null,null,"",""]
[null,{"$f":"IF(A1241=\"\",\"\",Notes!$B$4)","v":""},null,null,null,null,null,null,null,null,null,null,"",""]
[null,{"$f":"IF(A1242=\"\",\"\",Notes!$B$4)","v":""},null,null,null,null,null,null,null,null,null,null,"",""]
[null,{"$f":"IF(A1243=\"\",\"\",Notes!$B$4)","v":""},null,null,null,null,null,null,null,null,null,null,"",""]
[null,{"$f":"IF(A1244=\"\",\"\",Notes!$B$4)","v":""},null,null,null,null,null,null,null,null,null,null,"",""]
[null,{"$f":"IF(A1245=\"\",\"\",Notes!$B$4)","v":""},null,null,null,null,null,null,null,null,null,null,"",""]
[null,{"$f":"IF(A1246=\"\",\"\",Notes!$B$4)","v":""},null,null,null,null,null,null,null,null,null,null,"",""]
[null,{"$f":"IF(A1247=\"\",\"\",Notes!$B$4)","v":""},null,null,null,null,null,null,null,null,null,null,"",""]
[null,{"$f":"IF(A1248=\"\",\"\",Notes!$B$4)","v":""},null,null,null,null,null,null,null,null,null,null,"",""]
[null,{"$f":"IF(A1249=\"\",\"\",Notes!$B$4)","v":""},null,null,null,null,null,null,null,null,null,null,"",""]
[null,{"$f":"IF(A1250=\"\",\"\",Notes!$B$4)","v":""},null,null,null,null,null,null,null,null,null,null,"",""]
[null,{"$f":"IF(A1251=\"\",\"\",Notes!$B$4)","v":""},null,null,null,null,null,null,null,null,null,null,"",""]
[null,{"$f":"IF(A1252=\"\",\"\",Notes!$B$4)","v":""},null,null,null,null,null,null,null,null,null,null,"",""]
[null,{"$f":"IF(A1253=\"\",\"\",Notes!$B$4)","v":""},null,null,null,null,null,null,null,null,null,null,"",""]
[null,{"$f":"IF(A1254=\"\",\"\",Notes!$B$4)","v":""},null,null,null,null,null,null,null,null,null,null,"",""]
[null,{"$f":"IF(A1255=\"\",\"\",Notes!$B$4)","v":""},null,null,null,null,null,null,null,null,null,null,"",""]
[null,{"$f":"IF(A1256=\"\",\"\",Notes!$B$4)","v":""},null,null,null,null,null,null,null,null,null,null,"",""]
[null,{"$f":"IF(A1257=\"\",\"\",Notes!$B$4)","v":""},null,null,null,null,null,null,null,null,null,null,"",""]
[null,{"$f":"IF(A1258=\"\",\"\",Notes!$B$4)","v":""},null,null,null,null,null,null,null,null,null,null,"",""]
[null,{"$f":"IF(A1259=\"\",\"\",Notes!$B$4)","v":""},null,null,null,null,null,null,null,null,null,null,"",""]
[null,{"$f":"IF(A1260=\"\",\"\",Notes!$B$4)","v":""},null,null,null,null,null,null,null,null,null,null,"",""]
[null,{"$f":"IF(A1261=\"\",\"\",Notes!$B$4)","v":""},null,null,null,null,null,null,null,null,null,null,"",""]
[null,{"$f":"IF(A1262=\"\",\"\",Notes!$B$4)","v":""},null,null,null,null,null,null,null,null,null,null,"",""]
[null,{"$f":"IF(A1263=\"\",\"\",Notes!$B$4)","v":""},null,null,null,null,null,null,null,null,null,null,"",""]
[null,{"$f":"IF(A1264=\"\",\"\",Notes!$B$4)","v":""},null,null,null,null,null,null,null,null,null,null,"",""]
[null,{"$f":"IF(A1265=\"\",\"\",Notes!$B$4)","v":""},null,null,null,null,null,null,null,null,null,null,"",""]
[null,{"$f":"IF(A1266=\"\",\"\",Notes!$B$4)","v":""},null,null,null,null,null,null,null,null,null,null,"",""]
[null,{"$f":"IF(A1267=\"\",\"\",Notes!$B$4)","v":""},null,null,null,null,null,null,null,null,null,null,"",""]
[null,{"$f":"IF(A1268=\"\",\"\",Notes!$B$4)","v":""},null,null,null,null,null,null,null,null,null,null,"",""]
[null,{"$f":"IF(A1269=\"\",\"\",Notes!$B$4)","v":""},null,null,null,null,null,null,null,null,null,null,"",""]
[null,{"$f":"IF(A1270=\"\",\"\",Notes!$B$4)","v":""},null,null,null,null,null,null,null,null,null,null,"",""]
[null,{"$f":"IF(A1271=\"\",\"\",Notes!$B$4)","v":""},null,null,null,null,null,null,null,null,null,null,"",""]
[null,{"$f":"IF(A1272=\"\",\"\",Notes!$B$4)","v":""},null,null,null,null,null,null,null,null,null,null,"",""]
[null,{"$f":"IF(A1273=\"\",\"\",Notes!$B$4)","v":""},null,null,null,null,null,null,null,null,null,null,"",""]
[null,{"$f":"IF(A1274=\"\",\"\",Notes!$B$4)","v":""},null,null,null,null,null,null,null,null,null,null,"",""]
[null,{"$f":"IF(A1275=\"\",\"\",Notes!$B$4)","v":""},null,null,null,null,null,null,null,null,null,null,"",""]
[null,{"$f":"IF(A1276=\"\",\"\",Notes!$B$4)","v":""},null,null,null,null,null,null,null,null,null,null,"",""]
[null,{"$f":"IF(A1277=\"\",\"\",Notes!$B$4)","v":""},null,null,null,null,null,null,null,null,null,null,"",""]
[null,{"$f":"IF(A1278=\"\",\"\",Notes!$B$4)","v":""},null,null,null,null,null,null,null,null,null,null,"",""]
[null,{"$f":"IF(A1279=\"\",\"\",Notes!$B$4)","v":""},null,null,null,null,null,null,null,null,null,null,"",""]
[null,{"$f":"IF(A1280=\"\",\"\",Notes!$B$4)","v":""},null,null,null,null,null,null,null,null,null,null,"",""]
[null,{"$f":"IF(A1281=\"\",\"\",Notes!$B$4)","v":""},null,null,null,null,null,null,null,null,null,null,"",""]
[null,{"$f":"IF(A1282=\"\",\"\",Notes!$B$4)","v":""},null,null,null,null,null,null,null,null,null,null,{"$f":"IF(A1282=\"\",\"\",VLOOKUP(B1282,SchoolID,2,FALSE))","v":""},""]
[null,{"$f":"IF(A1283=\"\",\"\",Notes!$B$4)","v":""},null,null,null,null,null,null,null,null,null,null,"",""]
[null,{"$f":"IF(A1284=\"\",\"\",Notes!$B$4)","v":""},null,null,null,null,null,null,null,null,null,null,"",""]
[null,{"$f":"IF(A1285=\"\",\"\",Notes!$B$4)","v":""},null,null,null,null,null,null,null,null,null,null,"",""]
[null,{"$f":"IF(A1286=\"\",\"\",Notes!$B$4)","v":""},null,null,null,null,null,null,null,null,null,null,"",""]
[null,{"$f":"IF(A1287=\"\",\"\",Notes!$B$4)","v":""},null,null,null,null,null,null,null,null,null,null,"",""]
[null,{"$f":"IF(A1288=\"\",\"\",Notes!$B$4)","v":""},null,null,null,null,null,null,null,null,null,null,"",""]
[null,{"$f":"IF(A1289=\"\",\"\",Notes!$B$4)","v":""},null,null,null,null,null,null,null,null,null,null,"",""]
[null,{"$f":"IF(A1290=\"\",\"\",Notes!$B$4)","v":""},null,null,null,null,null,null,null,null,null,null,"",""]
[null,{"$f":"IF(A1291=\"\",\"\",Notes!$B$4)","v":""},null,null,null,null,null,null,null,null,null,null,"",""]
[null,{"$f":"IF(A1292=\"\",\"\",Notes!$B$4)","v":""},null,null,null,null,null,null,null,null,null,null,"",""]
[null,{"$f":"IF(A1293=\"\",\"\",Notes!$B$4)","v":""},null,null,null,null,null,null,null,null,null,null,"",""]
[null,{"$f":"IF(A1294=\"\",\"\",Notes!$B$4)","v":""},null,null,null,null,null,null,null,null,null,null,"",""]
[null,{"$f":"IF(A1295=\"\",\"\",Notes!$B$4)","v":""},null,null,null,null,null,null,null,null,null,null,"",{"$f":"M1295&A1295","v":""}]
[null,{"$f":"IF(A1296=\"\",\"\",Notes!$B$4)","v":""},null,null,null,null,null,null,null,null,null,null,"",""]
[null,{"$f":"IF(A1297=\"\",\"\",Notes!$B$4)","v":""},null,null,null,null,null,null,null,null,null,null,"",""]
[null,{"$f":"IF(A1298=\"\",\"\",Notes!$B$4)","v":""},null,null,null,null,null,null,null,null,null,null,"",""]
[null,{"$f":"IF(A1299=\"\",\"\",Notes!$B$4)","v":""},null,null,null,null,null,null,null,null,null,null,"",""]
[null,{"$f":"IF(A1300=\"\",\"\",Notes!$B$4)","v":""},null,null,null,null,null,null,null,null,null,null,"",""]
[null,{"$f":"IF(A1301=\"\",\"\",Notes!$B$4)","v":""},null,null,null,null,null,null,null,null,null,null,"",""]
[null,{"$f":"IF(A1302=\"\",\"\",Notes!$B$4)","v":""},null,null,null,null,null,null,null,null,null,null,"",""]
[null,{"$f":"IF(A1303=\"\",\"\",Notes!$B$4)","v":""},null,null,null,null,null,null,null,null,null,null,"",""]
[null,{"$f":"IF(A1304=\"\",\"\",Notes!$B$4)","v":""},null,null,null,null,null,null,null,null,null,null,"",""]
[null,{"$f":"IF(A1305=\"\",\"\",Notes!$B$4)","v":""},null,null,null,null,null,null,null,null,null,null,"",""]
[null,{"$f":"IF(A1306=\"\",\"\",Notes!$B$4)","v":""},null,null,null,null,null,null,null,null,null,null,"",""]
[null,{"$f":"IF(A1307=\"\",\"\",Notes!$B$4)","v":""},null,null,null,null,null,null,null,null,null,null,"",""]
[null,{"$f":"IF(A1308=\"\",\"\",Notes!$B$4)","v":""},null,null,null,null,null,null,null,null,null,null,"",""]
[null,{"$f":"IF(A1309=\"\",\"\",Notes!$B$4)","v":""},null,null,null,null,null,null,null,null,null,null,"",""]
[null,{"$f":"IF(A1310=\"\",\"\",Notes!$B$4)","v":""},null,null,null,null,null,null,null,null,null,null,"",""]
[null,{"$f":"IF(A1311=\"\",\"\",Notes!$B$4)","v":""},null,null,null,null,null,null,null,null,null,null,"",""]
[null,{"$f":"IF(A1312=\"\",\"\",Notes!$B$4)","v":""},null,null,null,null,null,null,null,null,null,null,"",""]
[null,{"$f":"IF(A1313=\"\",\"\",Notes!$B$4)","v":""},null,null,null,null,null,null,null,null,null,null,"",""]
[null,{"$f":"IF(A1314=\"\",\"\",Notes!$B$4)","v":""},null,null,null,null,null,null,null,null,null,null,"",""]
[null,{"$f":"IF(A1315=\"\",\"\",Notes!$B$4)","v":""},null,null,null,null,null,null,null,null,null,null,"",""]
[null,{"$f":"IF(A1316=\"\",\"\",Notes!$B$4)","v":""},null,null,null,null,null,null,null,null,null,null,"",""]
[null,{"$f":"IF(A1317=\"\",\"\",Notes!$B$4)","v":""},null,null,null,null,null,null,null,null,null,null,"",""]
[null,{"$f":"IF(A1318=\"\",\"\",Notes!$B$4)","v":""},null,null,null,null,null,null,null,null,null,null,"",""]
[null,{"$f":"IF(A1319=\"\",\"\",Notes!$B$4)","v":""},null,null,null,null,null,null,null,null,null,null,"",""]
[null,{"$f":"IF(A1320=\"\",\"\",Notes!$B$4)","v":""},null,null,null,null,null,null,null,null,null,null,"",""]
[null,{"$f":"IF(A1321=\"\",\"\",Notes!$B$4)","v":""},null,null,null,null,null,null,null,null,null,null,"",""]
[null,{"$f":"IF(A1322=\"\",\"\",Notes!$B$4)","v":""},null,null,null,null,null,null,null,null,null,null,"",""]
[null,{"$f":"IF(A1323=\"\",\"\",Notes!$B$4)","v":""},null,null,null,null,null,null,null,null,null,null,"",""]
[null,{"$f":"IF(A1324=\"\",\"\",Notes!$B$4)","v":""},null,null,null,null,null,null,null,null,null,null,"",""]
[null,{"$f":"IF(A1325=\"\",\"\",Notes!$B$4)","v":""},null,null,null,null,null,null,null,null,null,null,"",""]
[null,{"$f":"IF(A1326=\"\",\"\",Notes!$B$4)","v":""},null,null,null,null,null,null,null,null,null,null,"",""]
[null,{"$f":"IF(A1327=\"\",\"\",Notes!$B$4)","v":""},null,null,null,null,null,null,null,null,null,null,"",""]
[null,{"$f":"IF(A1328=\"\",\"\",Notes!$B$4)","v":""},null,null,null,null,null,null,null,null,null,null,"",""]
[null,{"$f":"IF(A1329=\"\",\"\",Notes!$B$4)","v":""},null,null,null,null,null,null,null,null,null,null,"",""]
[null,{"$f":"IF(A1330=\"\",\"\",Notes!$B$4)","v":""},null,null,null,null,null,null,null,null,null,null,"",""]
[null,{"$f":"IF(A1331=\"\",\"\",Notes!$B$4)","v":""},null,null,null,null,null,null,null,null,null,null,"",""]
[null,{"$f":"IF(A1332=\"\",\"\",Notes!$B$4)","v":""},null,null,null,null,null,null,null,null,null,null,"",""]
[null,{"$f":"IF(A1333=\"\",\"\",Notes!$B$4)","v":""},null,null,null,null,null,null,null,null,null,null,"",""]
[null,{"$f":"IF(A1334=\"\",\"\",Notes!$B$4)","v":""},null,null,null,null,null,null,null,null,null,null,"",""]
[null,{"$f":"IF(A1335=\"\",\"\",Notes!$B$4)","v":""},null,null,null,null,null,null,null,null,null,null,"",""]
[null,{"$f":"IF(A1336=\"\",\"\",Notes!$B$4)","v":""},null,null,null,null,null,null,null,null,null,null,"",""]
[null,{"$f":"IF(A1337=\"\",\"\",Notes!$B$4)","v":""},null,null,null,null,null,null,null,null,null,null,"",""]
[null,{"$f":"IF(A1338=\"\",\"\",Notes!$B$4)","v":""},null,null,null,null,null,null,null,null,null,null,"",""]
[null,{"$f":"IF(A1339=\"\",\"\",Notes!$B$4)","v":""},null,null,null,null,null,null,null,null,null,null,"",""]
[null,{"$f":"IF(A1340=\"\",\"\",Notes!$B$4)","v":""},null,null,null,null,null,null,null,null,null,null,"",""]
[null,{"$f":"IF(A1341=\"\",\"\",Notes!$B$4)","v":""},null,null,null,null,null,null,null,null,null,null,"",""]
[null,{"$f":"IF(A1342=\"\",\"\",Notes!$B$4)","v":""},null,null,null,null,null,null,null,null,null,null,"",""]
[null,{"$f":"IF(A1343=\"\",\"\",Notes!$B$4)","v":""},null,null,null,null,null,null,null,null,null,null,"",""]
[null,{"$f":"IF(A1344=\"\",\"\",Notes!$B$4)","v":""},null,null,null,null,null,null,null,null,null,null,"",""]
[null,{"$f":"IF(A1345=\"\",\"\",Notes!$B$4)","v":""},null,null,null,null,null,null,null,null,null,null,"",""]
[null,{"$f":"IF(A1346=\"\",\"\",Notes!$B$4)","v":""},null,null,null,null,null,null,null,null,null,null,{"$f":"IF(A1346=\"\",\"\",VLOOKUP(B1346,SchoolID,2,FALSE))","v":""},""]
[null,{"$f":"IF(A1347=\"\",\"\",Notes!$B$4)","v":""},null,null,null,null,null,null,null,null,null,null,"",""]
[null,{"$f":"IF(A1348=\"\",\"\",Notes!$B$4)","v":""},null,null,null,null,null,null,null,null,null,null,"",""]
[null,{"$f":"IF(A1349=\"\",\"\",Notes!$B$4)","v":""},null,null,null,null,null,null,null,null,null,null,"",""]
[null,{"$f":"IF(A1350=\"\",\"\",Notes!$B$4)","v":""},null,null,null,null,null,null,null,null,null,null,"",""]
[null,{"$f":"IF(A1351=\"\",\"\",Notes!$B$4)","v":""},null,null,null,null,null,null,null,null,null,null,"",""]
[null,{"$f":"IF(A1352=\"\",\"\",Notes!$B$4)","v":""},null,null,null,null,null,null,null,null,null,null,"",""]
[null,{"$f":"IF(A1353=\"\",\"\",Notes!$B$4)","v":""},null,null,null,null,null,null,null,null,null,null,"",""]
[null,{"$f":"IF(A1354=\"\",\"\",Notes!$B$4)","v":""},null,null,null,null,null,null,null,null,null,null,"",""]
[null,{"$f":"IF(A1355=\"\",\"\",Notes!$B$4)","v":""},null,null,null,null,null,null,null,null,null,null,"",""]
[null,{"$f":"IF(A1356=\"\",\"\",Notes!$B$4)","v":""},null,null,null,null,null,null,null,null,null,null,"",""]
[null,{"$f":"IF(A1357=\"\",\"\",Notes!$B$4)","v":""},null,null,null,null,null,null,null,null,null,null,"",""]
[null,{"$f":"IF(A1358=\"\",\"\",Notes!$B$4)","v":""},null,null,null,null,null,null,null,null,null,null,"",""]
[null,{"$f":"IF(A1359=\"\",\"\",Notes!$B$4)","v":""},null,null,null,null,null,null,null,null,null,null,"",{"$f":"M1359&A1359","v":""}]
[null,{"$f":"IF(A1360=\"\",\"\",Notes!$B$4)","v":""},null,null,null,null,null,null,null,null,null,null,"",""]
[null,{"$f":"IF(A1361=\"\",\"\",Notes!$B$4)","v":""},null,null,null,null,null,null,null,null,null,null,"",""]
[null,{"$f":"IF(A1362=\"\",\"\",Notes!$B$4)","v":""},null,null,null,null,null,null,null,null,null,null,"",""]
[null,{"$f":"IF(A1363=\"\",\"\",Notes!$B$4)","v":""},null,null,null,null,null,null,null,null,null,null,"",""]
[null,{"$f":"IF(A1364=\"\",\"\",Notes!$B$4)","v":""},null,null,null,null,null,null,null,null,null,null,"",""]
[null,{"$f":"IF(A1365=\"\",\"\",Notes!$B$4)","v":""},null,null,null,null,null,null,null,null,null,null,"",""]
[null,{"$f":"IF(A1366=\"\",\"\",Notes!$B$4)","v":""},null,null,null,null,null,null,null,null,null,null,"",""]
[null,{"$f":"IF(A1367=\"\",\"\",Notes!$B$4)","v":""},null,null,null,null,null,null,null,null,null,null,"",""]
[null,{"$f":"IF(A1368=\"\",\"\",Notes!$B$4)","v":""},null,null,null,null,null,null,null,null,null,null,"",""]
[null,{"$f":"IF(A1369=\"\",\"\",Notes!$B$4)","v":""},null,null,null,null,null,null,null,null,null,null,"",""]
[null,{"$f":"IF(A1370=\"\",\"\",Notes!$B$4)","v":""},null,null,null,null,null,null,null,null,null,null,"",""]
[null,{"$f":"IF(A1371=\"\",\"\",Notes!$B$4)","v":""},null,null,null,null,null,null,null,null,null,null,"",""]
[null,{"$f":"IF(A1372=\"\",\"\",Notes!$B$4)","v":""},null,null,null,null,null,null,null,null,null,null,"",""]
[null,{"$f":"IF(A1373=\"\",\"\",Notes!$B$4)","v":""},null,null,null,null,null,null,null,null,null,null,"",""]
[null,{"$f":"IF(A1374=\"\",\"\",Notes!$B$4)","v":""},null,null,null,null,null,null,null,null,null,null,"",""]
[null,{"$f":"IF(A1375=\"\",\"\",Notes!$B$4)","v":""},null,null,null,null,null,null,null,null,null,null,"",""]
[null,{"$f":"IF(A1376=\"\",\"\",Notes!$B$4)","v":""},null,null,null,null,null,null,null,null,null,null,"",""]
[null,{"$f":"IF(A1377=\"\",\"\",Notes!$B$4)","v":""},null,null,null,null,null,null,null,null,null,null,"",""]
[null,{"$f":"IF(A1378=\"\",\"\",Notes!$B$4)","v":""},null,null,null,null,null,null,null,null,null,null,"",""]
[null,{"$f":"IF(A1379=\"\",\"\",Notes!$B$4)","v":""},null,null,null,null,null,null,null,null,null,null,"",""]
[null,{"$f":"IF(A1380=\"\",\"\",Notes!$B$4)","v":""},null,null,null,null,null,null,null,null,null,null,"",""]
[null,{"$f":"IF(A1381=\"\",\"\",Notes!$B$4)","v":""},null,null,null,null,null,null,null,null,null,null,"",""]
[null,{"$f":"IF(A1382=\"\",\"\",Notes!$B$4)","v":""},null,null,null,null,null,null,null,null,null,null,"",""]
[null,{"$f":"IF(A1383=\"\",\"\",Notes!$B$4)","v":""},null,null,null,null,null,null,null,null,null,null,"",""]
[null,{"$f":"IF(A1384=\"\",\"\",Notes!$B$4)","v":""},null,null,null,null,null,null,null,null,null,null,"",""]
[null,{"$f":"IF(A1385=\"\",\"\",Notes!$B$4)","v":""},null,null,null,null,null,null,null,null,null,null,"",""]
[null,{"$f":"IF(A1386=\"\",\"\",Notes!$B$4)","v":""},null,null,null,null,null,null,null,null,null,null,"",""]
[null,{"$f":"IF(A1387=\"\",\"\",Notes!$B$4)","v":""},null,null,null,null,null,null,null,null,null,null,"",""]
[null,{"$f":"IF(A1388=\"\",\"\",Notes!$B$4)","v":""},null,null,null,null,null,null,null,null,null,null,"",""]
[null,{"$f":"IF(A1389=\"\",\"\",Notes!$B$4)","v":""},null,null,null,null,null,null,null,null,null,null,"",""]
[null,{"$f":"IF(A1390=\"\",\"\",Notes!$B$4)","v":""},null,null,null,null,null,null,null,null,null,null,"",""]
[null,{"$f":"IF(A1391=\"\",\"\",Notes!$B$4)","v":""},null,null,null,null,null,null,null,null,null,null,"",""]
[null,{"$f":"IF(A1392=\"\",\"\",Notes!$B$4)","v":""},null,null,null,null,null,null,null,null,null,null,"",""]
[null,{"$f":"IF(A1393=\"\",\"\",Notes!$B$4)","v":""},null,null,null,null,null,null,null,null,null,null,"",""]
[null,{"$f":"IF(A1394=\"\",\"\",Notes!$B$4)","v":""},null,null,null,null,null,null,null,null,null,null,"",""]
[null,{"$f":"IF(A1395=\"\",\"\",Notes!$B$4)","v":""},null,null,null,null,null,null,null,null,null,null,"",""]
[null,{"$f":"IF(A1396=\"\",\"\",Notes!$B$4)","v":""},null,null,null,null,null,null,null,null,null,null,"",""]
[null,{"$f":"IF(A1397=\"\",\"\",Notes!$B$4)","v":""},null,null,null,null,null,null,null,null,null,null,"",""]
[null,{"$f":"IF(A1398=\"\",\"\",Notes!$B$4)","v":""},null,null,null,null,null,null,null,null,null,null,"",""]
[null,{"$f":"IF(A1399=\"\",\"\",Notes!$B$4)","v":""},null,null,null,null,null,null,null,null,null,null,"",""]
[null,{"$f":"IF(A1400=\"\",\"\",Notes!$B$4)","v":""},null,null,null,null,null,null,null,null,null,null,"",""]
[null,{"$f":"IF(A1401=\"\",\"\",Notes!$B$4)","v":""},null,null,null,null,null,null,null,null,null,null,"",""]
[null,{"$f":"IF(A1402=\"\",\"\",Notes!$B$4)","v":""},null,null,null,null,null,null,null,null,null,null,"",""]
[null,{"$f":"IF(A1403=\"\",\"\",Notes!$B$4)","v":""},null,null,null,null,null,null,null,null,null,null,"",""]
[null,{"$f":"IF(A1404=\"\",\"\",Notes!$B$4)","v":""},null,null,null,null,null,null,null,null,null,null,"",""]
[null,{"$f":"IF(A1405=\"\",\"\",Notes!$B$4)","v":""},null,null,null,null,null,null,null,null,null,null,"",""]
[null,{"$f":"IF(A1406=\"\",\"\",Notes!$B$4)","v":""},null,null,null,null,null,null,null,null,null,null,"",""]
[null,{"$f":"IF(A1407=\"\",\"\",Notes!$B$4)","v":""},null,null,null,null,null,null,null,null,null,null,"",""]
[null,{"$f":"IF(A1408=\"\",\"\",Notes!$B$4)","v":""},null,null,null,null,null,null,null,null,null,null,"",""]
[null,{"$f":"IF(A1409=\"\",\"\",Notes!$B$4)","v":""},null,null,null,null,null,null,null,null,null,null,"",""]
[null,{"$f":"IF(A1410=\"\",\"\",Notes!$B$4)","v":""},null,null,null,null,null,null,null,null,null,null,{"$f":"IF(A1410=\"\",\"\",VLOOKUP(B1410,SchoolID,2,FALSE))","v":""},""]
[null,{"$f":"IF(A1411=\"\",\"\",Notes!$B$4)","v":""},null,null,null,null,null,null,null,null,null,null,"",""]
[null,{"$f":"IF(A1412=\"\",\"\",Notes!$B$4)","v":""},null,null,null,null,null,null,null,null,null,null,"",""]
[null,{"$f":"IF(A1413=\"\",\"\",Notes!$B$4)","v":""},null,null,null,null,null,null,null,null,null,null,"",""]
[null,{"$f":"IF(A1414=\"\",\"\",Notes!$B$4)","v":""},null,null,null,null,null,null,null,null,null,null,"",""]
[null,{"$f":"IF(A1415=\"\",\"\",Notes!$B$4)","v":""},null,null,null,null,null,null,null,null,null,null,"",""]
[null,{"$f":"IF(A1416=\"\",\"\",Notes!$B$4)","v":""},null,null,null,null,null,null,null,null,null,null,"",""]
[null,{"$f":"IF(A1417=\"\",\"\",Notes!$B$4)","v":""},null,null,null,null,null,null,null,null,null,null,"",""]
[null,{"$f":"IF(A1418=\"\",\"\",Notes!$B$4)","v":""},null,null,null,null,null,null,null,null,null,null,"",""]
[null,{"$f":"IF(A1419=\"\",\"\",Notes!$B$4)","v":""},null,null,null,null,null,null,null,null,null,null,"",""]
[null,{"$f":"IF(A1420=\"\",\"\",Notes!$B$4)","v":""},null,null,null,null,null,null,null,null,null,null,"",""]
[null,{"$f":"IF(A1421=\"\",\"\",Notes!$B$4)","v":""},null,null,null,null,null,null,null,null,null,null,"",""]
[null,{"$f":"IF(A1422=\"\",\"\",Notes!$B$4)","v":""},null,null,null,null,null,null,null,null,null,null,"",""]
[null,{"$f":"IF(A1423=\"\",\"\",Notes!$B$4)","v":""},null,null,null,null,null,null,null,null,null,null,"",{"$f":"M1423&A1423","v":""}]
[null,{"$f":"IF(A1424=\"\",\"\",Notes!$B$4)","v":""},null,null,null,null,null,null,null,null,null,null,"",""]
[null,{"$f":"IF(A1425=\"\",\"\",Notes!$B$4)","v":""},null,null,null,null,null,null,null,null,null,null,"",""]
[null,{"$f":"IF(A1426=\"\",\"\",Notes!$B$4)","v":""},null,null,null,null,null,null,null,null,null,null,"",""]
[null,{"$f":"IF(A1427=\"\",\"\",Notes!$B$4)","v":""},null,null,null,null,null,null,null,null,null,null,"",""]
[null,{"$f":"IF(A1428=\"\",\"\",Notes!$B$4)","v":""},null,null,null,null,null,null,null,null,null,null,"",""]
[null,{"$f":"IF(A1429=\"\",\"\",Notes!$B$4)","v":""},null,null,null,null,null,null,null,null,null,null,"",""]
[null,{"$f":"IF(A1430=\"\",\"\",Notes!$B$4)","v":""},null,null,null,null,null,null,null,null,null,null,"",""]
[null,{"$f":"IF(A1431=\"\",\"\",Notes!$B$4)","v":""},null,null,null,null,null,null,null,null,null,null,"",""]
[null,{"$f":"IF(A1432=\"\",\"\",Notes!$B$4)","v":""},null,null,null,null,null,null,null,null,null,null,"",""]
[null,{"$f":"IF(A1433=\"\",\"\",Notes!$B$4)","v":""},null,null,null,null,null,null,null,null,null,null,"",""]
[null,{"$f":"IF(A1434=\"\",\"\",Notes!$B$4)","v":""},null,null,null,null,null,null,null,null,null,null,"",""]
[null,{"$f":"IF(A1435=\"\",\"\",Notes!$B$4)","v":""},null,null,null,null,null,null,null,null,null,null,"",""]
[null,{"$f":"IF(A1436=\"\",\"\",Notes!$B$4)","v":""},null,null,null,null,null,null,null,null,null,null,"",""]
[null,{"$f":"IF(A1437=\"\",\"\",Notes!$B$4)","v":""},null,null,null,null,null,null,null,null,null,null,"",""]
[null,{"$f":"IF(A1438=\"\",\"\",Notes!$B$4)","v":""},null,null,null,null,null,null,null,null,null,null,"",""]
[null,{"$f":"IF(A1439=\"\",\"\",Notes!$B$4)","v":""},null,null,null,null,null,null,null,null,null,null,"",""]
[null,{"$f":"IF(A1440=\"\",\"\",Notes!$B$4)","v":""},null,null,null,null,null,null,null,null,null,null,"",""]
[null,{"$f":"IF(A1441=\"\",\"\",Notes!$B$4)","v":""},null,null,null,null,null,null,null,null,null,null,"",""]
[null,{"$f":"IF(A1442=\"\",\"\",Notes!$B$4)","v":""},null,null,null,null,null,null,null,null,null,null,"",""]
[null,{"$f":"IF(A1443=\"\",\"\",Notes!$B$4)","v":""},null,null,null,null,null,null,null,null,null,null,"",""]
[null,{"$f":"IF(A1444=\"\",\"\",Notes!$B$4)","v":""},null,null,null,null,null,null,null,null,null,null,"",""]
[null,{"$f":"IF(A1445=\"\",\"\",Notes!$B$4)","v":""},null,null,null,null,null,null,null,null,null,null,"",""]
[null,{"$f":"IF(A1446=\"\",\"\",Notes!$B$4)","v":""},null,null,null,null,null,null,null,null,null,null,"",""]
[null,{"$f":"IF(A1447=\"\",\"\",Notes!$B$4)","v":""},null,null,null,null,null,null,null,null,null,null,"",""]
[null,{"$f":"IF(A1448=\"\",\"\",Notes!$B$4)","v":""},null,null,null,null,null,null,null,null,null,null,"",""]
[null,{"$f":"IF(A1449=\"\",\"\",Notes!$B$4)","v":""},null,null,null,null,null,null,null,null,null,null,"",""]
[null,{"$f":"IF(A1450=\"\",\"\",Notes!$B$4)","v":""},null,null,null,null,null,null,null,null,null,null,"",""]
[null,{"$f":"IF(A1451=\"\",\"\",Notes!$B$4)","v":""},null,null,null,null,null,null,null,null,null,null,"",""]
[null,{"$f":"IF(A1452=\"\",\"\",Notes!$B$4)","v":""},null,null,null,null,null,null,null,null,null,null,"",""]
[null,{"$f":"IF(A1453=\"\",\"\",Notes!$B$4)","v":""},null,null,null,null,null,null,null,null,null,null,"",""]
[null,{"$f":"IF(A1454=\"\",\"\",Notes!$B$4)","v":""},null,null,null,null,null,null,null,null,null,null,"",""]
[null,{"$f":"IF(A1455=\"\",\"\",Notes!$B$4)","v":""},null,null,null,null,null,null,null,null,null,null,"",""]
[null,{"$f":"IF(A1456=\"\",\"\",Notes!$B$4)","v":""},null,null,null,null,null,null,null,null,null,null,"",""]
[null,{"$f":"IF(A1457=\"\",\"\",Notes!$B$4)","v":""},null,null,null,null,null,null,null,null,null,null,"",""]
[null,{"$f":"IF(A1458=\"\",\"\",Notes!$B$4)","v":""},null,null,null,null,null,null,null,null,null,null,"",""]
[null,{"$f":"IF(A1459=\"\",\"\",Notes!$B$4)","v":""},null,null,null,null,null,null,null,null,null,null,"",""]
[null,{"$f":"IF(A1460=\"\",\"\",Notes!$B$4)","v":""},null,null,null,null,null,null,null,null,null,null,"",""]
[null,{"$f":"IF(A1461=\"\",\"\",Notes!$B$4)","v":""},null,null,null,null,null,null,null,null,null,null,"",""]
[null,{"$f":"IF(A1462=\"\",\"\",Notes!$B$4)","v":""},null,null,null,null,null,null,null,null,null,null,"",""]
[null,{"$f":"IF(A1463=\"\",\"\",Notes!$B$4)","v":""},null,null,null,null,null,null,null,null,null,null,"",""]
[null,{"$f":"IF(A1464=\"\",\"\",Notes!$B$4)","v":""},null,null,null,null,null,null,null,null,null,null,"",""]
[null,{"$f":"IF(A1465=\"\",\"\",Notes!$B$4)","v":""},null,null,null,null,null,null,null,null,null,null,"",""]
[null,{"$f":"IF(A1466=\"\",\"\",Notes!$B$4)","v":""},null,null,null,null,null,null,null,null,null,null,"",""]
[null,{"$f":"IF(A1467=\"\",\"\",Notes!$B$4)","v":""},null,null,null,null,null,null,null,null,null,null,"",""]
[null,{"$f":"IF(A1468=\"\",\"\",Notes!$B$4)","v":""},null,null,null,null,null,null,null,null,null,null,"",""]
[null,{"$f":"IF(A1469=\"\",\"\",Notes!$B$4)","v":""},null,null,null,null,null,null,null,null,null,null,"",""]
[null,{"$f":"IF(A1470=\"\",\"\",Notes!$B$4)","v":""},null,null,null,null,null,null,null,null,null,null,"",""]
[null,{"$f":"IF(A1471=\"\",\"\",Notes!$B$4)","v":""},null,null,null,null,null,null,null,null,null,null,"",""]
[null,{"$f":"IF(A1472=\"\",\"\",Notes!$B$4)","v":""},null,null,null,null,null,null,null,null,null,null,"",""]
[null,{"$f":"IF(A1473=\"\",\"\",Notes!$B$4)","v":""},null,null,null,null,null,null,null,null,null,null,"",""]
[null,{"$f":"IF(A1474=\"\",\"\",Notes!$B$4)","v":""},null,null,null,null,null,null,null,null,null,null,{"$f":"IF(A1474=\"\",\"\",VLOOKUP(B1474,SchoolID,2,FALSE))","v":""},""]
[null,{"$f":"IF(A1475=\"\",\"\",Notes!$B$4)","v":""},null,null,null,null,null,null,null,null,null,null,"",""]
[null,{"$f":"IF(A1476=\"\",\"\",Notes!$B$4)","v":""},null,null,null,null,null,null,null,null,null,null,"",""]
[null,{"$f":"IF(A1477=\"\",\"\",Notes!$B$4)","v":""},null,null,null,null,null,null,null,null,null,null,"",""]
[null,{"$f":"IF(A1478=\"\",\"\",Notes!$B$4)","v":""},null,null,null,null,null,null,null,null,null,null,"",""]
[null,{"$f":"IF(A1479=\"\",\"\",Notes!$B$4)","v":""},null,null,null,null,null,null,null,null,null,null,"",""]
[null,{"$f":"IF(A1480=\"\",\"\",Notes!$B$4)","v":""},null,null,null,null,null,null,null,null,null,null,"",""]
[null,{"$f":"IF(A1481=\"\",\"\",Notes!$B$4)","v":""},null,null,null,null,null,null,null,null,null,null,"",""]
[null,{"$f":"IF(A1482=\"\",\"\",Notes!$B$4)","v":""},null,null,null,null,null,null,null,null,null,null,"",""]
[null,{"$f":"IF(A1483=\"\",\"\",Notes!$B$4)","v":""},null,null,null,null,null,null,null,null,null,null,"",""]
[null,{"$f":"IF(A1484=\"\",\"\",Notes!$B$4)","v":""},null,null,null,null,null,null,null,null,null,null,"",""]
[null,{"$f":"IF(A1485=\"\",\"\",Notes!$B$4)","v":""},null,null,null,null,null,null,null,null,null,null,"",""]
[null,{"$f":"IF(A1486=\"\",\"\",Notes!$B$4)","v":""},null,null,null,null,null,null,null,null,null,null,"",""]
[null,{"$f":"IF(A1487=\"\",\"\",Notes!$B$4)","v":""},null,null,null,null,null,null,null,null,null,null,"",{"$f":"M1487&A1487","v":""}]
[null,{"$f":"IF(A1488=\"\",\"\",Notes!$B$4)","v":""},null,null,null,null,null,null,null,null,null,null,"",""]
[null,{"$f":"IF(A1489=\"\",\"\",Notes!$B$4)","v":""},null,null,null,null,null,null,null,null,null,null,"",""]
[null,{"$f":"IF(A1490=\"\",\"\",Notes!$B$4)","v":""},null,null,null,null,null,null,null,null,null,null,"",""]
[null,{"$f":"IF(A1491=\"\",\"\",Notes!$B$4)","v":""},null,null,null,null,null,null,null,null,null,null,"",""]
[null,{"$f":"IF(A1492=\"\",\"\",Notes!$B$4)","v":""},null,null,null,null,null,null,null,null,null,null,"",""]
[null,{"$f":"IF(A1493=\"\",\"\",Notes!$B$4)","v":""},null,null,null,null,null,null,null,null,null,null,"",""]
[null,{"$f":"IF(A1494=\"\",\"\",Notes!$B$4)","v":""},null,null,null,null,null,null,null,null,null,null,"",""]
[null,{"$f":"IF(A1495=\"\",\"\",Notes!$B$4)","v":""},null,null,null,null,null,null,null,null,null,null,"",""]
[null,{"$f":"IF(A1496=\"\",\"\",Notes!$B$4)","v":""},null,null,null,null,null,null,null,null,null,null,"",""]
[null,{"$f":"IF(A1497=\"\",\"\",Notes!$B$4)","v":""},null,null,null,null,null,null,null,null,null,null,"",""]
[null,{"$f":"IF(A1498=\"\",\"\",Notes!$B$4)","v":""},null,null,null,null,null,null,null,null,null,null,"",""]
[null,{"$f":"IF(A1499=\"\",\"\",Notes!$B$4)","v":""},null,null,null,null,null,null,null,null,null,null,"",""]
[null,{"$f":"IF(A1500=\"\",\"\",Notes!$B$4)","v":""},null,null,null,null,null,null,null,null,null,null,"",""]
[null,{"$f":"IF(A1501=\"\",\"\",Notes!$B$4)","v":""},null,null,null,null,null,null,null,null,null,null,"",""]
[null,{"$f":"IF(A1502=\"\",\"\",Notes!$B$4)","v":""},null,null,null,null,null,null,null,null,null,null,"",""]
[null,{"$f":"IF(A1503=\"\",\"\",Notes!$B$4)","v":""},null,null,null,null,null,null,null,null,null,null,"",""]
[null,{"$f":"IF(A1504=\"\",\"\",Notes!$B$4)","v":""},null,null,null,null,null,null,null,null,null,null,"",""]
[null,{"$f":"IF(A1505=\"\",\"\",Notes!$B$4)","v":""},null,null,null,null,null,null,null,null,null,null,"",""]
[null,{"$f":"IF(A1506=\"\",\"\",Notes!$B$4)","v":""},null,null,null,null,null,null,null,null,null,null,"",""]
[null,{"$f":"IF(A1507=\"\",\"\",Notes!$B$4)","v":""},null,null,null,null,null,null,null,null,null,null,"",""]
[null,{"$f":"IF(A1508=\"\",\"\",Notes!$B$4)","v":""},null,null,null,null,null,null,null,null,null,null,"",""]
[null,{"$f":"IF(A1509=\"\",\"\",Notes!$B$4)","v":""},null,null,null,null,null,null,null,null,null,null,"",""]
[null,{"$f":"IF(A1510=\"\",\"\",Notes!$B$4)","v":""},null,null,null,null,null,null,null,null,null,null,"",""]
[null,{"$f":"IF(A1511=\"\",\"\",Notes!$B$4)","v":""},null,null,null,null,null,null,null,null,null,null,"",""]
[null,{"$f":"IF(A1512=\"\",\"\",Notes!$B$4)","v":""},null,null,null,null,null,null,null,null,null,null,"",""]
[null,{"$f":"IF(A1513=\"\",\"\",Notes!$B$4)","v":""},null,null,null,null,null,null,null,null,null,null,"",""]
[null,{"$f":"IF(A1514=\"\",\"\",Notes!$B$4)","v":""},null,null,null,null,null,null,null,null,null,null,"",""]
[null,{"$f":"IF(A1515=\"\",\"\",Notes!$B$4)","v":""},null,null,null,null,null,null,null,null,null,null,"",""]
[null,{"$f":"IF(A1516=\"\",\"\",Notes!$B$4)","v":""},null,null,null,null,null,null,null,null,null,null,"",""]
[null,{"$f":"IF(A1517=\"\",\"\",Notes!$B$4)","v":""},null,null,null,null,null,null,null,null,null,null,"",""]
[null,{"$f":"IF(A1518=\"\",\"\",Notes!$B$4)","v":""},null,null,null,null,null,null,null,null,null,null,"",""]
[null,{"$f":"IF(A1519=\"\",\"\",Notes!$B$4)","v":""},null,null,null,null,null,null,null,null,null,null,"",""]
[null,{"$f":"IF(A1520=\"\",\"\",Notes!$B$4)","v":""},null,null,null,null,null,null,null,null,null,null,"",""]
[null,{"$f":"IF(A1521=\"\",\"\",Notes!$B$4)","v":""},null,null,null,null,null,null,null,null,null,null,"",""]
[null,{"$f":"IF(A1522=\"\",\"\",Notes!$B$4)","v":""},null,null,null,null,null,null,null,null,null,null,"",""]
[null,{"$f":"IF(A1523=\"\",\"\",Notes!$B$4)","v":""},null,null,null,null,null,null,null,null,null,null,"",""]
[null,{"$f":"IF(A1524=\"\",\"\",Notes!$B$4)","v":""},null,null,null,null,null,null,null,null,null,null,"",""]
[null,{"$f":"IF(A1525=\"\",\"\",Notes!$B$4)","v":""},null,null,null,null,null,null,null,null,null,null,"",""]
[null,{"$f":"IF(A1526=\"\",\"\",Notes!$B$4)","v":""},null,null,null,null,null,null,null,null,null,null,"",""]
[null,{"$f":"IF(A1527=\"\",\"\",Notes!$B$4)","v":""},null,null,null,null,null,null,null,null,null,null,"",""]
[null,{"$f":"IF(A1528=\"\",\"\",Notes!$B$4)","v":""},null,null,null,null,null,null,null,null,null,null,"",""]
[null,{"$f":"IF(A1529=\"\",\"\",Notes!$B$4)","v":""},null,null,null,null,null,null,null,null,null,null,"",""]
[null,{"$f":"IF(A1530=\"\",\"\",Notes!$B$4)","v":""},null,null,null,null,null,null,null,null,null,null,"",""]
[null,{"$f":"IF(A1531=\"\",\"\",Notes!$B$4)","v":""},null,null,null,null,null,null,null,null,null,null,"",""]
[null,{"$f":"IF(A1532=\"\",\"\",Notes!$B$4)","v":""},null,null,null,null,null,null,null,null,null,null,"",""]
[null,{"$f":"IF(A1533=\"\",\"\",Notes!$B$4)","v":""},null,null,null,null,null,null,null,null,null,null,"",""]
[null,{"$f":"IF(A1534=\"\",\"\",Notes!$B$4)","v":""},null,null,null,null,null,null,null,null,null,null,"",""]
[null,{"$f":"IF(A1535=\"\",\"\",Notes!$B$4)","v":""},null,null,null,null,null,null,null,null,null,null,"",""]
[null,{"$f":"IF(A1536=\"\",\"\",Notes!$B$4)","v":""},null,null,null,null,null,null,null,null,null,null,"",""]
[null,{"$f":"IF(A1537=\"\",\"\",Notes!$B$4)","v":""},null,null,null,null,null,null,null,null,null,null,"",""]
[null,{"$f":"IF(A1538=\"\",\"\",Notes!$B$4)","v":""},null,null,null,null,null,null,null,null,null,null,{"$f":"IF(A1538=\"\",\"\",VLOOKUP(B1538,SchoolID,2,FALSE))","v":""},""]
[null,{"$f":"IF(A1539=\"\",\"\",Notes!$B$4)","v":""},null,null,null,null,null,null,null,null,null,null,"",""]
[null,{"$f":"IF(A1540=\"\",\"\",Notes!$B$4)","v":""},null,null,null,null,null,null,null,null,null,null,"",""]
[null,{"$f":"IF(A1541=\"\",\"\",Notes!$B$4)","v":""},null,null,null,null,null,null,null,null,null,null,"",""]
[null,{"$f":"IF(A1542=\"\",\"\",Notes!$B$4)","v":""},null,null,null,null,null,null,null,null,null,null,"",""]
[null,{"$f":"IF(A1543=\"\",\"\",Notes!$B$4)","v":""},null,null,null,null,null,null,null,null,null,null,"",""]
[null,{"$f":"IF(A1544=\"\",\"\",Notes!$B$4)","v":""},null,null,null,null,null,null,null,null,null,null,"",""]
[null,{"$f":"IF(A1545=\"\",\"\",Notes!$B$4)","v":""},null,null,null,null,null,null,null,null,null,null,"",""]
[null,{"$f":"IF(A1546=\"\",\"\",Notes!$B$4)","v":""},null,null,null,null,null,null,null,null,null,null,"",""]
[null,{"$f":"IF(A1547=\"\",\"\",Notes!$B$4)","v":""},null,null,null,null,null,null,null,null,null,null,"",""]
[null,{"$f":"IF(A1548=\"\",\"\",Notes!$B$4)","v":""},null,null,null,null,null,null,null,null,null,null,"",""]
[null,{"$f":"IF(A1549=\"\",\"\",Notes!$B$4)","v":""},null,null,null,null,null,null,null,null,null,null,"",""]
[null,{"$f":"IF(A1550=\"\",\"\",Notes!$B$4)","v":""},null,null,null,null,null,null,null,null,null,null,"",""]
[null,{"$f":"IF(A1551=\"\",\"\",Notes!$B$4)","v":""},null,null,null,null,null,null,null,null,null,null,"",{"$f":"M1551&A1551","v":""}]
[null,{"$f":"IF(A1552=\"\",\"\",Notes!$B$4)","v":""},null,null,null,null,null,null,null,null,null,null,"",""]
[null,{"$f":"IF(A1553=\"\",\"\",Notes!$B$4)","v":""},null,null,null,null,null,null,null,null,null,null,"",""]
[null,{"$f":"IF(A1554=\"\",\"\",Notes!$B$4)","v":""},null,null,null,null,null,null,null,null,null,null,"",""]
[null,{"$f":"IF(A1555=\"\",\"\",Notes!$B$4)","v":""},null,null,null,null,null,null,null,null,null,null,"",""]
[null,{"$f":"IF(A1556=\"\",\"\",Notes!$B$4)","v":""},null,null,null,null,null,null,null,null,null,null,"",""]
[null,{"$f":"IF(A1557=\"\",\"\",Notes!$B$4)","v":""},null,null,null,null,null,null,null,null,null,null,"",""]
[null,{"$f":"IF(A1558=\"\",\"\",Notes!$B$4)","v":""},null,null,null,null,null,null,null,null,null,null,"",""]
[null,{"$f":"IF(A1559=\"\",\"\",Notes!$B$4)","v":""},null,null,null,null,null,null,null,null,null,null,"",""]
[null,{"$f":"IF(A1560=\"\",\"\",Notes!$B$4)","v":""},null,null,null,null,null,null,null,null,null,null,"",""]
[null,{"$f":"IF(A1561=\"\",\"\",Notes!$B$4)","v":""},null,null,null,null,null,null,null,null,null,null,"",""]
[null,{"$f":"IF(A1562=\"\",\"\",Notes!$B$4)","v":""},null,null,null,null,null,null,null,null,null,null,"",""]
[null,{"$f":"IF(A1563=\"\",\"\",Notes!$B$4)","v":""},null,null,null,null,null,null,null,null,null,null,"",""]
[null,{"$f":"IF(A1564=\"\",\"\",Notes!$B$4)","v":""},null,null,null,null,null,null,null,null,null,null,"",""]
[null,{"$f":"IF(A1565=\"\",\"\",Notes!$B$4)","v":""},null,null,null,null,null,null,null,null,null,null,"",""]
[null,{"$f":"IF(A1566=\"\",\"\",Notes!$B$4)","v":""},null,null,null,null,null,null,null,null,null,null,"",""]
[null,{"$f":"IF(A1567=\"\",\"\",Notes!$B$4)","v":""},null,null,null,null,null,null,null,null,null,null,"",""]
[null,{"$f":"IF(A1568=\"\",\"\",Notes!$B$4)","v":""},null,null,null,null,null,null,null,null,null,null,"",""]
[null,{"$f":"IF(A1569=\"\",\"\",Notes!$B$4)","v":""},null,null,null,null,null,null,null,null,null,null,"",""]
[null,{"$f":"IF(A1570=\"\",\"\",Notes!$B$4)","v":""},null,null,null,null,null,null,null,null,null,null,"",""]
[null,{"$f":"IF(A1571=\"\",\"\",Notes!$B$4)","v":""},null,null,null,null,null,null,null,null,null,null,"",""]
[null,{"$f":"IF(A1572=\"\",\"\",Notes!$B$4)","v":""},null,null,null,null,null,null,null,null,null,null,"",""]
[null,{"$f":"IF(A1573=\"\",\"\",Notes!$B$4)","v":""},null,null,null,null,null,null,null,null,null,null,"",""]
[null,{"$f":"IF(A1574=\"\",\"\",Notes!$B$4)","v":""},null,null,null,null,null,null,null,null,null,null,"",""]
[null,{"$f":"IF(A1575=\"\",\"\",Notes!$B$4)","v":""},null,null,null,null,null,null,null,null,null,null,"",""]
[null,{"$f":"IF(A1576=\"\",\"\",Notes!$B$4)","v":""},null,null,null,null,null,null,null,null,null,null,"",""]
[null,{"$f":"IF(A1577=\"\",\"\",Notes!$B$4)","v":""},null,null,null,null,null,null,null,null,null,null,"",""]
[null,{"$f":"IF(A1578=\"\",\"\",Notes!$B$4)","v":""},null,null,null,null,null,null,null,null,null,null,"",""]
[null,{"$f":"IF(A1579=\"\",\"\",Notes!$B$4)","v":""},null,null,null,null,null,null,null,null,null,null,"",""]
[null,{"$f":"IF(A1580=\"\",\"\",Notes!$B$4)","v":""},null,null,null,null,null,null,null,null,null,null,"",""]
[null,{"$f":"IF(A1581=\"\",\"\",Notes!$B$4)","v":""},null,null,null,null,null,null,null,null,null,null,"",""]
[null,{"$f":"IF(A1582=\"\",\"\",Notes!$B$4)","v":""},null,null,null,null,null,null,null,null,null,null,"",""]
[null,{"$f":"IF(A1583=\"\",\"\",Notes!$B$4)","v":""},null,null,null,null,null,null,null,null,null,null,"",""]
[null,{"$f":"IF(A1584=\"\",\"\",Notes!$B$4)","v":""},null,null,null,null,null,null,null,null,null,null,"",""]
[null,{"$f":"IF(A1585=\"\",\"\",Notes!$B$4)","v":""},null,null,null,null,null,null,null,null,null,null,"",""]
[null,{"$f":"IF(A1586=\"\",\"\",Notes!$B$4)","v":""},null,null,null,null,null,null,null,null,null,null,"",""]
[null,{"$f":"IF(A1587=\"\",\"\",Notes!$B$4)","v":""},null,null,null,null,null,null,null,null,null,null,"",""]
[null,{"$f":"IF(A1588=\"\",\"\",Notes!$B$4)","v":""},null,null,null,null,null,null,null,null,null,null,"",""]
[null,{"$f":"IF(A1589=\"\",\"\",Notes!$B$4)","v":""},null,null,null,null,null,null,null,null,null,null,"",""]
[null,{"$f":"IF(A1590=\"\",\"\",Notes!$B$4)","v":""},null,null,null,null,null,null,null,null,null,null,"",""]
[null,{"$f":"IF(A1591=\"\",\"\",Notes!$B$4)","v":""},null,null,null,null,null,null,null,null,null,null,"",""]
[null,{"$f":"IF(A1592=\"\",\"\",Notes!$B$4)","v":""},null,null,null,null,null,null,null,null,null,null,"",""]
[null,{"$f":"IF(A1593=\"\",\"\",Notes!$B$4)","v":""},null,null,null,null,null,null,null,null,null,null,"",""]
[null,{"$f":"IF(A1594=\"\",\"\",Notes!$B$4)","v":""},null,null,null,null,null,null,null,null,null,null,"",""]
[null,{"$f":"IF(A1595=\"\",\"\",Notes!$B$4)","v":""},null,null,null,null,null,null,null,null,null,null,"",""]
[null,{"$f":"IF(A1596=\"\",\"\",Notes!$B$4)","v":""},null,null,null,null,null,null,null,null,null,null,"",""]
[null,{"$f":"IF(A1597=\"\",\"\",Notes!$B$4)","v":""},null,null,null,null,null,null,null,null,null,null,"",""]
[null,{"$f":"IF(A1598=\"\",\"\",Notes!$B$4)","v":""},null,null,null,null,null,null,null,null,null,null,"",""]
[null,{"$f":"IF(A1599=\"\",\"\",Notes!$B$4)","v":""},null,null,null,null,null,null,null,null,null,null,"",""]
[null,{"$f":"IF(A1600=\"\",\"\",Notes!$B$4)","v":""},null,null,null,null,null,null,null,null,null,null,"",""]
[null,{"$f":"IF(A1601=\"\",\"\",Notes!$B$4)","v":""},null,null,null,null,null,null,null,null,null,null,"",""]
[null,{"$f":"IF(A1602=\"\",\"\",Notes!$B$4)","v":""},null,null,null,null,null,null,null,null,null,null,{"$f":"IF(A1602=\"\",\"\",VLOOKUP(B1602,SchoolID,2,FALSE))","v":""},""]
[null,{"$f":"IF(A1603=\"\",\"\",Notes!$B$4)","v":""},null,null,null,null,null,null,null,null,null,null,"",""]
[null,{"$f":"IF(A1604=\"\",\"\",Notes!$B$4)","v":""},null,null,null,null,null,null,null,null,null,null,"",""]
[null,{"$f":"IF(A1605=\"\",\"\",Notes!$B$4)","v":""},null,null,null,null,null,null,null,null,null,null,"",""]
[null,{"$f":"IF(A1606=\"\",\"\",Notes!$B$4)","v":""},null,null,null,null,null,null,null,null,null,null,"",""]
[null,{"$f":"IF(A1607=\"\",\"\",Notes!$B$4)","v":""},null,null,null,null,null,null,null,null,null,null,"",""]
[null,{"$f":"IF(A1608=\"\",\"\",Notes!$B$4)","v":""},null,null,null,null,null,null,null,null,null,null,"",""]
[null,{"$f":"IF(A1609=\"\",\"\",Notes!$B$4)","v":""},null,null,null,null,null,null,null,null,null,null,"",""]
[null,{"$f":"IF(A1610=\"\",\"\",Notes!$B$4)","v":""},null,null,null,null,null,null,null,null,null,null,"",""]
[null,{"$f":"IF(A1611=\"\",\"\",Notes!$B$4)","v":""},null,null,null,null,null,null,null,null,null,null,"",""]
[null,{"$f":"IF(A1612=\"\",\"\",Notes!$B$4)","v":""},null,null,null,null,null,null,null,null,null,null,"",""]
[null,{"$f":"IF(A1613=\"\",\"\",Notes!$B$4)","v":""},null,null,null,null,null,null,null,null,null,null,"",""]
[null,{"$f":"IF(A1614=\"\",\"\",Notes!$B$4)","v":""},null,null,null,null,null,null,null,null,null,null,"",""]
[null,{"$f":"IF(A1615=\"\",\"\",Notes!$B$4)","v":""},null,null,null,null,null,null,null,null,null,null,"",{"$f":"M1615&A1615","v":""}]
[null,{"$f":"IF(A1616=\"\",\"\",Notes!$B$4)","v":""},null,null,null,null,null,null,null,null,null,null,"",""]
[null,{"$f":"IF(A1617=\"\",\"\",Notes!$B$4)","v":""},null,null,null,null,null,null,null,null,null,null,"",""]
[null,{"$f":"IF(A1618=\"\",\"\",Notes!$B$4)","v":""},null,null,null,null,null,null,null,null,null,null,"",""]
[null,{"$f":"IF(A1619=\"\",\"\",Notes!$B$4)","v":""},null,null,null,null,null,null,null,null,null,null,"",""]
[null,{"$f":"IF(A1620=\"\",\"\",Notes!$B$4)","v":""},null,null,null,null,null,null,null,null,null,null,"",""]
[null,{"$f":"IF(A1621=\"\",\"\",Notes!$B$4)","v":""},null,null,null,null,null,null,null,null,null,null,"",""]
[null,{"$f":"IF(A1622=\"\",\"\",Notes!$B$4)","v":""},null,null,null,null,null,null,null,null,null,null,"",""]
[null,{"$f":"IF(A1623=\"\",\"\",Notes!$B$4)","v":""},null,null,null,null,null,null,null,null,null,null,"",""]
[null,{"$f":"IF(A1624=\"\",\"\",Notes!$B$4)","v":""},null,null,null,null,null,null,null,null,null,null,"",""]
[null,{"$f":"IF(A1625=\"\",\"\",Notes!$B$4)","v":""},null,null,null,null,null,null,null,null,null,null,"",""]
[null,{"$f":"IF(A1626=\"\",\"\",Notes!$B$4)","v":""},null,null,null,null,null,null,null,null,null,null,"",""]
[null,{"$f":"IF(A1627=\"\",\"\",Notes!$B$4)","v":""},null,null,null,null,null,null,null,null,null,null,"",""]
[null,{"$f":"IF(A1628=\"\",\"\",Notes!$B$4)","v":""},null,null,null,null,null,null,null,null,null,null,"",""]
[null,{"$f":"IF(A1629=\"\",\"\",Notes!$B$4)","v":""},null,null,null,null,null,null,null,null,null,null,"",""]
[null,{"$f":"IF(A1630=\"\",\"\",Notes!$B$4)","v":""},null,null,null,null,null,null,null,null,null,null,"",""]
[null,{"$f":"IF(A1631=\"\",\"\",Notes!$B$4)","v":""},null,null,null,null,null,null,null,null,null,null,"",""]
[null,{"$f":"IF(A1632=\"\",\"\",Notes!$B$4)","v":""},null,null,null,null,null,null,null,null,null,null,"",""]
[null,{"$f":"IF(A1633=\"\",\"\",Notes!$B$4)","v":""},null,null,null,null,null,null,null,null,null,null,"",""]
[null,{"$f":"IF(A1634=\"\",\"\",Notes!$B$4)","v":""},null,null,null,null,null,null,null,null,null,null,"",""]
[null,{"$f":"IF(A1635=\"\",\"\",Notes!$B$4)","v":""},null,null,null,null,null,null,null,null,null,null,"",""]
[null,{"$f":"IF(A1636=\"\",\"\",Notes!$B$4)","v":""},null,null,null,null,null,null,null,null,null,null,"",""]
[null,{"$f":"IF(A1637=\"\",\"\",Notes!$B$4)","v":""},null,null,null,null,null,null,null,null,null,null,"",""]
[null,{"$f":"IF(A1638=\"\",\"\",Notes!$B$4)","v":""},null,null,null,null,null,null,null,null,null,null,"",""]
[null,{"$f":"IF(A1639=\"\",\"\",Notes!$B$4)","v":""},null,null,null,null,null,null,null,null,null,null,"",""]
[null,{"$f":"IF(A1640=\"\",\"\",Notes!$B$4)","v":""},null,null,null,null,null,null,null,null,null,null,"",""]
[null,{"$f":"IF(A1641=\"\",\"\",Notes!$B$4)","v":""},null,null,null,null,null,null,null,null,null,null,"",""]
[null,{"$f":"IF(A1642=\"\",\"\",Notes!$B$4)","v":""},null,null,null,null,null,null,null,null,null,null,"",""]
[null,{"$f":"IF(A1643=\"\",\"\",Notes!$B$4)","v":""},null,null,null,null,null,null,null,null,null,null,"",""]
[null,{"$f":"IF(A1644=\"\",\"\",Notes!$B$4)","v":""},null,null,null,null,null,null,null,null,null,null,"",""]
[null,{"$f":"IF(A1645=\"\",\"\",Notes!$B$4)","v":""},null,null,null,null,null,null,null,null,null,null,"",""]
[null,{"$f":"IF(A1646=\"\",\"\",Notes!$B$4)","v":""},null,null,null,null,null,null,null,null,null,null,"",""]
[null,{"$f":"IF(A1647=\"\",\"\",Notes!$B$4)","v":""},null,null,null,null,null,null,null,null,null,null,"",""]
[null,{"$f":"IF(A1648=\"\",\"\",Notes!$B$4)","v":""},null,null,null,null,null,null,null,null,null,null,"",""]
[null,{"$f":"IF(A1649=\"\",\"\",Notes!$B$4)","v":""},null,null,null,null,null,null,null,null,null,null,"",""]
[null,{"$f":"IF(A1650=\"\",\"\",Notes!$B$4)","v":""},null,null,null,null,null,null,null,null,null,null,"",""]
[null,{"$f":"IF(A1651=\"\",\"\",Notes!$B$4)","v":""},null,null,null,null,null,null,null,null,null,null,"",""]
[null,{"$f":"IF(A1652=\"\",\"\",Notes!$B$4)","v":""},null,null,null,null,null,null,null,null,null,null,"",""]
[null,{"$f":"IF(A1653=\"\",\"\",Notes!$B$4)","v":""},null,null,null,null,null,null,null,null,null,null,"",""]
[null,{"$f":"IF(A1654=\"\",\"\",Notes!$B$4)","v":""},null,null,null,null,null,null,null,null,null,null,"",""]
[null,{"$f":"IF(A1655=\"\",\"\",Notes!$B$4)","v":""},null,null,null,null,null,null,null,null,null,null,"",""]
[null,{"$f":"IF(A1656=\"\",\"\",Notes!$B$4)","v":""},null,null,null,null,null,null,null,null,null,null,"",""]
[null,{"$f":"IF(A1657=\"\",\"\",Notes!$B$4)","v":""},null,null,null,null,null,null,null,null,null,null,"",""]
[null,{"$f":"IF(A1658=\"\",\"\",Notes!$B$4)","v":""},null,null,null,null,null,null,null,null,null,null,"",""]
[null,{"$f":"IF(A1659=\"\",\"\",Notes!$B$4)","v":""},null,null,null,null,null,null,null,null,null,null,"",""]
[null,{"$f":"IF(A1660=\"\",\"\",Notes!$B$4)","v":""},null,null,null,null,null,null,null,null,null,null,"",""]
[null,{"$f":"IF(A1661=\"\",\"\",Notes!$B$4)","v":""},null,null,null,null,null,null,null,null,null,null,"",""]
[null,{"$f":"IF(A1662=\"\",\"\",Notes!$B$4)","v":""},null,null,null,null,null,null,null,null,null,null,"",""]
[null,{"$f":"IF(A1663=\"\",\"\",Notes!$B$4)","v":""},null,null,null,null,null,null,null,null,null,null,"",""]
[null,{"$f":"IF(A1664=\"\",\"\",Notes!$B$4)","v":""},null,null,null,null,null,null,null,null,null,null,"",""]
[null,{"$f":"IF(A1665=\"\",\"\",Notes!$B$4)","v":""},null,null,null,null,null,null,null,null,null,null,"",""]
[null,{"$f":"IF(A1666=\"\",\"\",Notes!$B$4)","v":""},null,null,null,null,null,null,null,null,null,null,{"$f":"IF(A1666=\"\",\"\",VLOOKUP(B1666,SchoolID,2,FALSE))","v":""},""]
[null,{"$f":"IF(A1667=\"\",\"\",Notes!$B$4)","v":""},null,null,null,null,null,null,null,null,null,null,"",""]
[null,{"$f":"IF(A1668=\"\",\"\",Notes!$B$4)","v":""},null,null,null,null,null,null,null,null,null,null,"",""]
[null,{"$f":"IF(A1669=\"\",\"\",Notes!$B$4)","v":""},null,null,null,null,null,null,null,null,null,null,"",""]
[null,{"$f":"IF(A1670=\"\",\"\",Notes!$B$4)","v":""},null,null,null,null,null,null,null,null,null,null,"",""]
[null,{"$f":"IF(A1671=\"\",\"\",Notes!$B$4)","v":""},null,null,null,null,null,null,null,null,null,null,"",""]
[null,{"$f":"IF(A1672=\"\",\"\",Notes!$B$4)","v":""},null,null,null,null,null,null,null,null,null,null,"",""]
[null,{"$f":"IF(A1673=\"\",\"\",Notes!$B$4)","v":""},null,null,null,null,null,null,null,null,null,null,"",""]
[null,{"$f":"IF(A1674=\"\",\"\",Notes!$B$4)","v":""},null,null,null,null,null,null,null,null,null,null,"",""]
[null,{"$f":"IF(A1675=\"\",\"\",Notes!$B$4)","v":""},null,null,null,null,null,null,null,null,null,null,"",""]
[null,{"$f":"IF(A1676=\"\",\"\",Notes!$B$4)","v":""},null,null,null,null,null,null,null,null,null,null,"",""]
[null,{"$f":"IF(A1677=\"\",\"\",Notes!$B$4)","v":""},null,null,null,null,null,null,null,null,null,null,"",""]
[null,{"$f":"IF(A1678=\"\",\"\",Notes!$B$4)","v":""},null,null,null,null,null,null,null,null,null,null,"",""]
[null,{"$f":"IF(A1679=\"\",\"\",Notes!$B$4)","v":""},null,null,null,null,null,null,null,null,null,null,"",{"$f":"M1679&A1679","v":""}]
[null,{"$f":"IF(A1680=\"\",\"\",Notes!$B$4)","v":""},null,null,null,null,null,null,null,null,null,null,"",""]
[null,{"$f":"IF(A1681=\"\",\"\",Notes!$B$4)","v":""},null,null,null,null,null,null,null,null,null,null,"",""]
[null,{"$f":"IF(A1682=\"\",\"\",Notes!$B$4)","v":""},null,null,null,null,null,null,null,null,null,null,"",""]
[null,{"$f":"IF(A1683=\"\",\"\",Notes!$B$4)","v":""},null,null,null,null,null,null,null,null,null,null,"",""]
[null,{"$f":"IF(A1684=\"\",\"\",Notes!$B$4)","v":""},null,null,null,null,null,null,null,null,null,null,"",""]
[null,{"$f":"IF(A1685=\"\",\"\",Notes!$B$4)","v":""},null,null,null,null,null,null,null,null,null,null,"",""]
[null,{"$f":"IF(A1686=\"\",\"\",Notes!$B$4)","v":""},null,null,null,null,null,null,null,null,null,null,"",""]
[null,{"$f":"IF(A1687=\"\",\"\",Notes!$B$4)","v":""},null,null,null,null,null,null,null,null,null,null,"",""]
[null,{"$f":"IF(A1688=\"\",\"\",Notes!$B$4)","v":""},null,null,null,null,null,null,null,null,null,null,"",""]
[null,{"$f":"IF(A1689=\"\",\"\",Notes!$B$4)","v":""},null,null,null,null,null,null,null,null,null,null,"",""]
[null,{"$f":"IF(A1690=\"\",\"\",Notes!$B$4)","v":""},null,null,null,null,null,null,null,null,null,null,"",""]
[null,{"$f":"IF(A1691=\"\",\"\",Notes!$B$4)","v":""},null,null,null,null,null,null,null,null,null,null,"",""]
[null,{"$f":"IF(A1692=\"\",\"\",Notes!$B$4)","v":""},null,null,null,null,null,null,null,null,null,null,"",""]
[null,{"$f":"IF(A1693=\"\",\"\",Notes!$B$4)","v":""},null,null,null,null,null,null,null,null,null,null,"",""]
[null,{"$f":"IF(A1694=\"\",\"\",Notes!$B$4)","v":""},null,null,null,null,null,null,null,null,null,null,"",""]
[null,{"$f":"IF(A1695=\"\",\"\",Notes!$B$4)","v":""},null,null,null,null,null,null,null,null,null,null,"",""]
[null,{"$f":"IF(A1696=\"\",\"\",Notes!$B$4)","v":""},null,null,null,null,null,null,null,null,null,null,"",""]
[null,{"$f":"IF(A1697=\"\",\"\",Notes!$B$4)","v":""},null,null,null,null,null,null,null,null,null,null,"",""]
[null,{"$f":"IF(A1698=\"\",\"\",Notes!$B$4)","v":""},null,null,null,null,null,null,null,null,null,null,"",""]
[null,{"$f":"IF(A1699=\"\",\"\",Notes!$B$4)","v":""},null,null,null,null,null,null,null,null,null,null,"",""]
[null,{"$f":"IF(A1700=\"\",\"\",Notes!$B$4)","v":""},null,null,null,null,null,null,null,null,null,null,"",""]
[null,{"$f":"IF(A1701=\"\",\"\",Notes!$B$4)","v":""},null,null,null,null,null,null,null,null,null,null,"",""]
[null,{"$f":"IF(A1702=\"\",\"\",Notes!$B$4)","v":""},null,null,null,null,null,null,null,null,null,null,"",""]
[null,{"$f":"IF(A1703=\"\",\"\",Notes!$B$4)","v":""},null,null,null,null,null,null,null,null,null,null,"",""]
[null,{"$f":"IF(A1704=\"\",\"\",Notes!$B$4)","v":""},null,null,null,null,null,null,null,null,null,null,"",""]
[null,{"$f":"IF(A1705=\"\",\"\",Notes!$B$4)","v":""},null,null,null,null,null,null,null,null,null,null,"",""]
[null,{"$f":"IF(A1706=\"\",\"\",Notes!$B$4)","v":""},null,null,null,null,null,null,null,null,null,null,"",""]
[null,{"$f":"IF(A1707=\"\",\"\",Notes!$B$4)","v":""},null,null,null,null,null,null,null,null,null,null,"",""]
[null,{"$f":"IF(A1708=\"\",\"\",Notes!$B$4)","v":""},null,null,null,null,null,null,null,null,null,null,"",""]
[null,{"$f":"IF(A1709=\"\",\"\",Notes!$B$4)","v":""},null,null,null,null,null,null,null,null,null,null,"",""]
[null,{"$f":"IF(A1710=\"\",\"\",Notes!$B$4)","v":""},null,null,null,null,null,null,null,null,null,null,"",""]
[null,{"$f":"IF(A1711=\"\",\"\",Notes!$B$4)","v":""},null,null,null,null,null,null,null,null,null,null,"",""]
[null,{"$f":"IF(A1712=\"\",\"\",Notes!$B$4)","v":""},null,null,null,null,null,null,null,null,null,null,"",""]
[null,{"$f":"IF(A1713=\"\",\"\",Notes!$B$4)","v":""},null,null,null,null,null,null,null,null,null,null,"",""]
[null,{"$f":"IF(A1714=\"\",\"\",Notes!$B$4)","v":""},null,null,null,null,null,null,null,null,null,null,"",""]
[null,{"$f":"IF(A1715=\"\",\"\",Notes!$B$4)","v":""},null,null,null,null,null,null,null,null,null,null,"",""]
[null,{"$f":"IF(A1716=\"\",\"\",Notes!$B$4)","v":""},null,null,null,null,null,null,null,null,null,null,"",""]
[null,{"$f":"IF(A1717=\"\",\"\",Notes!$B$4)","v":""},null,null,null,null,null,null,null,null,null,null,"",""]
[null,{"$f":"IF(A1718=\"\",\"\",Notes!$B$4)","v":""},null,null,null,null,null,null,null,null,null,null,"",""]
[null,{"$f":"IF(A1719=\"\",\"\",Notes!$B$4)","v":""},null,null,null,null,null,null,null,null,null,null,"",""]
[null,{"$f":"IF(A1720=\"\",\"\",Notes!$B$4)","v":""},null,null,null,null,null,null,null,null,null,null,"",""]
[null,{"$f":"IF(A1721=\"\",\"\",Notes!$B$4)","v":""},null,null,null,null,null,null,null,null,null,null,"",""]
[null,{"$f":"IF(A1722=\"\",\"\",Notes!$B$4)","v":""},null,null,null,null,null,null,null,null,null,null,"",""]
[null,{"$f":"IF(A1723=\"\",\"\",Notes!$B$4)","v":""},null,null,null,null,null,null,null,null,null,null,"",""]
[null,{"$f":"IF(A1724=\"\",\"\",Notes!$B$4)","v":""},null,null,null,null,null,null,null,null,null,null,"",""]
[null,{"$f":"IF(A1725=\"\",\"\",Notes!$B$4)","v":""},null,null,null,null,null,null,null,null,null,null,"",""]
[null,{"$f":"IF(A1726=\"\",\"\",Notes!$B$4)","v":""},null,null,null,null,null,null,null,null,null,null,"",""]
[null,{"$f":"IF(A1727=\"\",\"\",Notes!$B$4)","v":""},null,null,null,null,null,null,null,null,null,null,"",""]
[null,{"$f":"IF(A1728=\"\",\"\",Notes!$B$4)","v":""},null,null,null,null,null,null,null,null,null,null,"",""]
[null,{"$f":"IF(A1729=\"\",\"\",Notes!$B$4)","v":""},null,null,null,null,null,null,null,null,null,null,"",""]
[null,{"$f":"IF(A1730=\"\",\"\",Notes!$B$4)","v":""},null,null,null,null,null,null,null,null,null,null,{"$f":"IF(A1730=\"\",\"\",VLOOKUP(B1730,SchoolID,2,FALSE))","v":""},""]
[null,{"$f":"IF(A1731=\"\",\"\",Notes!$B$4)","v":""},null,null,null,null,null,null,null,null,null,null,"",""]
[null,{"$f":"IF(A1732=\"\",\"\",Notes!$B$4)","v":""},null,null,null,null,null,null,null,null,null,null,"",""]
[null,{"$f":"IF(A1733=\"\",\"\",Notes!$B$4)","v":""},null,null,null,null,null,null,null,null,null,null,"",""]
[null,{"$f":"IF(A1734=\"\",\"\",Notes!$B$4)","v":""},null,null,null,null,null,null,null,null,null,null,"",""]
[null,{"$f":"IF(A1735=\"\",\"\",Notes!$B$4)","v":""},null,null,null,null,null,null,null,null,null,null,"",""]
[null,{"$f":"IF(A1736=\"\",\"\",Notes!$B$4)","v":""},null,null,null,null,null,null,null,null,null,null,"",""]
[null,{"$f":"IF(A1737=\"\",\"\",Notes!$B$4)","v":""},null,null,null,null,null,null,null,null,null,null,"",""]
[null,{"$f":"IF(A1738=\"\",\"\",Notes!$B$4)","v":""},null,null,null,null,null,null,null,null,null,null,"",""]
[null,{"$f":"IF(A1739=\"\",\"\",Notes!$B$4)","v":""},null,null,null,null,null,null,null,null,null,null,"",""]
[null,{"$f":"IF(A1740=\"\",\"\",Notes!$B$4)","v":""},null,null,null,null,null,null,null,null,null,null,"",""]
[null,{"$f":"IF(A1741=\"\",\"\",Notes!$B$4)","v":""},null,null,null,null,null,null,null,null,null,null,"",""]
[null,{"$f":"IF(A1742=\"\",\"\",Notes!$B$4)","v":""},null,null,null,null,null,null,null,null,null,null,"",""]
[null,{"$f":"IF(A1743=\"\",\"\",Notes!$B$4)","v":""},null,null,null,null,null,null,null,null,null,null,"",{"$f":"M1743&A1743","v":""}]
[null,{"$f":"IF(A1744=\"\",\"\",Notes!$B$4)","v":""},null,null,null,null,null,null,null,null,null,null,"",""]
[null,{"$f":"IF(A1745=\"\",\"\",Notes!$B$4)","v":""},null,null,null,null,null,null,null,null,null,null,"",""]
[null,{"$f":"IF(A1746=\"\",\"\",Notes!$B$4)","v":""},null,null,null,null,null,null,null,null,null,null,"",""]
[null,{"$f":"IF(A1747=\"\",\"\",Notes!$B$4)","v":""},null,null,null,null,null,null,null,null,null,null,"",""]
[null,{"$f":"IF(A1748=\"\",\"\",Notes!$B$4)","v":""},null,null,null,null,null,null,null,null,null,null,"",""]
[null,{"$f":"IF(A1749=\"\",\"\",Notes!$B$4)","v":""},null,null,null,null,null,null,null,null,null,null,"",""]
[null,{"$f":"IF(A1750=\"\",\"\",Notes!$B$4)","v":""},null,null,null,null,null,null,null,null,null,null,"",""]
[null,{"$f":"IF(A1751=\"\",\"\",Notes!$B$4)","v":""},null,null,null,null,null,null,null,null,null,null,"",""]
[null,{"$f":"IF(A1752=\"\",\"\",Notes!$B$4)","v":""},null,null,null,null,null,null,null,null,null,null,"",""]
[null,{"$f":"IF(A1753=\"\",\"\",Notes!$B$4)","v":""},null,null,null,null,null,null,null,null,null,null,"",""]
[null,{"$f":"IF(A1754=\"\",\"\",Notes!$B$4)","v":""},null,null,null,null,null,null,null,null,null,null,"",""]
[null,{"$f":"IF(A1755=\"\",\"\",Notes!$B$4)","v":""},null,null,null,null,null,null,null,null,null,null,"",""]
[null,{"$f":"IF(A1756=\"\",\"\",Notes!$B$4)","v":""},null,null,null,null,null,null,null,null,null,null,"",""]
[null,{"$f":"IF(A1757=\"\",\"\",Notes!$B$4)","v":""},null,null,null,null,null,null,null,null,null,null,"",""]
[null,{"$f":"IF(A1758=\"\",\"\",Notes!$B$4)","v":""},null,null,null,null,null,null,null,null,null,null,"",""]
[null,{"$f":"IF(A1759=\"\",\"\",Notes!$B$4)","v":""},null,null,null,null,null,null,null,null,null,null,"",""]
[null,{"$f":"IF(A1760=\"\",\"\",Notes!$B$4)","v":""},null,null,null,null,null,null,null,null,null,null,"",""]
[null,{"$f":"IF(A1761=\"\",\"\",Notes!$B$4)","v":""},null,null,null,null,null,null,null,null,null,null,"",""]
[null,{"$f":"IF(A1762=\"\",\"\",Notes!$B$4)","v":""},null,null,null,null,null,null,null,null,null,null,"",""]
[null,{"$f":"IF(A1763=\"\",\"\",Notes!$B$4)","v":""},null,null,null,null,null,null,null,null,null,null,"",""]
[null,{"$f":"IF(A1764=\"\",\"\",Notes!$B$4)","v":""},null,null,null,null,null,null,null,null,null,null,"",""]
[null,{"$f":"IF(A1765=\"\",\"\",Notes!$B$4)","v":""},null,null,null,null,null,null,null,null,null,null,"",""]
[null,{"$f":"IF(A1766=\"\",\"\",Notes!$B$4)","v":""},null,null,null,null,null,null,null,null,null,null,"",""]
[null,{"$f":"IF(A1767=\"\",\"\",Notes!$B$4)","v":""},null,null,null,null,null,null,null,null,null,null,"",""]
[null,{"$f":"IF(A1768=\"\",\"\",Notes!$B$4)","v":""},null,null,null,null,null,null,null,null,null,null,"",""]
[null,{"$f":"IF(A1769=\"\",\"\",Notes!$B$4)","v":""},null,null,null,null,null,null,null,null,null,null,"",""]
[null,{"$f":"IF(A1770=\"\",\"\",Notes!$B$4)","v":""},null,null,null,null,null,null,null,null,null,null,"",""]
[null,{"$f":"IF(A1771=\"\",\"\",Notes!$B$4)","v":""},null,null,null,null,null,null,null,null,null,null,"",""]
[null,{"$f":"IF(A1772=\"\",\"\",Notes!$B$4)","v":""},null,null,null,null,null,null,null,null,null,null,"",""]
[null,{"$f":"IF(A1773=\"\",\"\",Notes!$B$4)","v":""},null,null,null,null,null,null,null,null,null,null,"",""]
[null,{"$f":"IF(A1774=\"\",\"\",Notes!$B$4)","v":""},null,null,null,null,null,null,null,null,null,null,"",""]
[null,{"$f":"IF(A1775=\"\",\"\",Notes!$B$4)","v":""},null,null,null,null,null,null,null,null,null,null,"",""]
[null,{"$f":"IF(A1776=\"\",\"\",Notes!$B$4)","v":""},null,null,null,null,null,null,null,null,null,null,"",""]
[null,{"$f":"IF(A1777=\"\",\"\",Notes!$B$4)","v":""},null,null,null,null,null,null,null,null,null,null,"",""]
[null,{"$f":"IF(A1778=\"\",\"\",Notes!$B$4)","v":""},null,null,null,null,null,null,null,null,null,null,"",""]
[null,{"$f":"IF(A1779=\"\",\"\",Notes!$B$4)","v":""},null,null,null,null,null,null,null,null,null,null,"",""]
[null,{"$f":"IF(A1780=\"\",\"\",Notes!$B$4)","v":""},null,null,null,null,null,null,null,null,null,null,"",""]
[null,{"$f":"IF(A1781=\"\",\"\",Notes!$B$4)","v":""},null,null,null,null,null,null,null,null,null,null,"",""]
[null,{"$f":"IF(A1782=\"\",\"\",Notes!$B$4)","v":""},null,null,null,null,null,null,null,null,null,null,"",""]
[null,{"$f":"IF(A1783=\"\",\"\",Notes!$B$4)","v":""},null,null,null,null,null,null,null,null,null,null,"",""]
[null,{"$f":"IF(A1784=\"\",\"\",Notes!$B$4)","v":""},null,null,null,null,null,null,null,null,null,null,"",""]
[null,{"$f":"IF(A1785=\"\",\"\",Notes!$B$4)","v":""},null,null,null,null,null,null,null,null,null,null,"",""]
[null,{"$f":"IF(A1786=\"\",\"\",Notes!$B$4)","v":""},null,null,null,null,null,null,null,null,null,null,"",""]
[null,{"$f":"IF(A1787=\"\",\"\",Notes!$B$4)","v":""},null,null,null,null,null,null,null,null,null,null,"",""]
[null,{"$f":"IF(A1788=\"\",\"\",Notes!$B$4)","v":""},null,null,null,null,null,null,null,null,null,null,"",""]
[null,{"$f":"IF(A1789=\"\",\"\",Notes!$B$4)","v":""},null,null,null,null,null,null,null,null,null,null,"",""]
[null,{"$f":"IF(A1790=\"\",\"\",Notes!$B$4)","v":""},null,null,null,null,null,null,null,null,null,null,"",""]
[null,{"$f":"IF(A1791=\"\",\"\",Notes!$B$4)","v":""},null,null,null,null,null,null,null,null,null,null,"",""]
[null,{"$f":"IF(A1792=\"\",\"\",Notes!$B$4)","v":""},null,null,null,null,null,null,null,null,null,null,"",""]
[null,{"$f":"IF(A1793=\"\",\"\",Notes!$B$4)","v":""},null,null,null,null,null,null,null,null,null,null,"",""]
[null,{"$f":"IF(A1794=\"\",\"\",Notes!$B$4)","v":""},null,null,null,null,null,null,null,null,null,null,{"$f":"IF(A1794=\"\",\"\",VLOOKUP(B1794,SchoolID,2,FALSE))","v":""},""]
[null,{"$f":"IF(A1795=\"\",\"\",Notes!$B$4)","v":""},null,null,null,null,null,null,null,null,null,null,"",""]
[null,{"$f":"IF(A1796=\"\",\"\",Notes!$B$4)","v":""},null,null,null,null,null,null,null,null,null,null,"",""]
[null,{"$f":"IF(A1797=\"\",\"\",Notes!$B$4)","v":""},null,null,null,null,null,null,null,null,null,null,"",""]
[null,{"$f":"IF(A1798=\"\",\"\",Notes!$B$4)","v":""},null,null,null,null,null,null,null,null,null,null,"",""]
[null,{"$f":"IF(A1799=\"\",\"\",Notes!$B$4)","v":""},null,null,null,null,null,null,null,null,null,null,"",""]
[null,{"$f":"IF(A1800=\"\",\"\",Notes!$B$4)","v":""},null,null,null,null,null,null,null,null,null,null,"",""]
[null,{"$f":"IF(A1801=\"\",\"\",Notes!$B$4)","v":""},null,null,null,null,null,null,null,null,null,null,"",""]
[null,{"$f":"IF(A1802=\"\",\"\",Notes!$B$4)","v":""},null,null,null,null,null,null,null,null,null,null,"",""]
[null,{"$f":"IF(A1803=\"\",\"\",Notes!$B$4)","v":""},null,null,null,null,null,null,null,null,null,null,"",""]
[null,{"$f":"IF(A1804=\"\",\"\",Notes!$B$4)","v":""},null,null,null,null,null,null,null,null,null,null,"",""]
[null,{"$f":"IF(A1805=\"\",\"\",Notes!$B$4)","v":""},null,null,null,null,null,null,null,null,null,null,"",""]
[null,{"$f":"IF(A1806=\"\",\"\",Notes!$B$4)","v":""},null,null,null,null,null,null,null,null,null,null,"",""]
[null,{"$f":"IF(A1807=\"\",\"\",Notes!$B$4)","v":""},null,null,null,null,null,null,null,null,null,null,"",{"$f":"M1807&A1807","v":""}]
[null,{"$f":"IF(A1808=\"\",\"\",Notes!$B$4)","v":""},null,null,null,null,null,null,null,null,null,null,"",""]
[null,{"$f":"IF(A1809=\"\",\"\",Notes!$B$4)","v":""},null,null,null,null,null,null,null,null,null,null,"",""]
[null,{"$f":"IF(A1810=\"\",\"\",Notes!$B$4)","v":""},null,null,null,null,null,null,null,null,null,null,"",""]
[null,{"$f":"IF(A1811=\"\",\"\",Notes!$B$4)","v":""},null,null,null,null,null,null,null,null,null,null,"",""]
[null,{"$f":"IF(A1812=\"\",\"\",Notes!$B$4)","v":""},null,null,null,null,null,null,null,null,null,null,"",""]
[null,{"$f":"IF(A1813=\"\",\"\",Notes!$B$4)","v":""},null,null,null,null,null,null,null,null,null,null,"",""]
[null,{"$f":"IF(A1814=\"\",\"\",Notes!$B$4)","v":""},null,null,null,null,null,null,null,null,null,null,"",""]
[null,{"$f":"IF(A1815=\"\",\"\",Notes!$B$4)","v":""},null,null,null,null,null,null,null,null,null,null,"",""]
[null,{"$f":"IF(A1816=\"\",\"\",Notes!$B$4)","v":""},null,null,null,null,null,null,null,null,null,null,"",""]
[null,{"$f":"IF(A1817=\"\",\"\",Notes!$B$4)","v":""},null,null,null,null,null,null,null,null,null,null,"",""]
[null,{"$f":"IF(A1818=\"\",\"\",Notes!$B$4)","v":""},null,null,null,null,null,null,null,null,null,null,"",""]
[null,{"$f":"IF(A1819=\"\",\"\",Notes!$B$4)","v":""},null,null,null,null,null,null,null,null,null,null,"",""]
[null,{"$f":"IF(A1820=\"\",\"\",Notes!$B$4)","v":""},null,null,null,null,null,null,null,null,null,null,"",""]
[null,{"$f":"IF(A1821=\"\",\"\",Notes!$B$4)","v":""},null,null,null,null,null,null,null,null,null,null,"",""]
[null,{"$f":"IF(A1822=\"\",\"\",Notes!$B$4)","v":""},null,null,null,null,null,null,null,null,null,null,"",""]
[null,{"$f":"IF(A1823=\"\",\"\",Notes!$B$4)","v":""},null,null,null,null,null,null,null,null,null,null,"",""]
[null,{"$f":"IF(A1824=\"\",\"\",Notes!$B$4)","v":""},null,null,null,null,null,null,null,null,null,null,"",""]
[null,{"$f":"IF(A1825=\"\",\"\",Notes!$B$4)","v":""},null,null,null,null,null,null,null,null,null,null,"",""]
[null,{"$f":"IF(A1826=\"\",\"\",Notes!$B$4)","v":""},null,null,null,null,null,null,null,null,null,null,"",""]
[null,{"$f":"IF(A1827=\"\",\"\",Notes!$B$4)","v":""},null,null,null,null,null,null,null,null,null,null,"",""]
[null,{"$f":"IF(A1828=\"\",\"\",Notes!$B$4)","v":""},null,null,null,null,null,null,null,null,null,null,"",""]
[null,{"$f":"IF(A1829=\"\",\"\",Notes!$B$4)","v":""},null,null,null,null,null,null,null,null,null,null,"",""]
[null,{"$f":"IF(A1830=\"\",\"\",Notes!$B$4)","v":""},null,null,null,null,null,null,null,null,null,null,"",""]
[null,{"$f":"IF(A1831=\"\",\"\",Notes!$B$4)","v":""},null,null,null,null,null,null,null,null,null,null,"",""]
[null,{"$f":"IF(A1832=\"\",\"\",Notes!$B$4)","v":""},null,null,null,null,null,null,null,null,null,null,"",""]
[null,{"$f":"IF(A1833=\"\",\"\",Notes!$B$4)","v":""},null,null,null,null,null,null,null,null,null,null,"",""]
[null,{"$f":"IF(A1834=\"\",\"\",Notes!$B$4)","v":""},null,null,null,null,null,null,null,null,null,null,"",""]
[null,{"$f":"IF(A1835=\"\",\"\",Notes!$B$4)","v":""},null,null,null,null,null,null,null,null,null,null,"",""]
[null,{"$f":"IF(A1836=\"\",\"\",Notes!$B$4)","v":""},null,null,null,null,null,null,null,null,null,null,"",""]
[null,{"$f":"IF(A1837=\"\",\"\",Notes!$B$4)","v":""},null,null,null,null,null,null,null,null,null,null,"",""]
[null,{"$f":"IF(A1838=\"\",\"\",Notes!$B$4)","v":""},null,null,null,null,null,null,null,null,null,null,"",""]
[null,{"$f":"IF(A1839=\"\",\"\",Notes!$B$4)","v":""},null,null,null,null,null,null,null,null,null,null,"",""]
[null,{"$f":"IF(A1840=\"\",\"\",Notes!$B$4)","v":""},null,null,null,null,null,null,null,null,null,null,"",""]
[null,{"$f":"IF(A1841=\"\",\"\",Notes!$B$4)","v":""},null,null,null,null,null,null,null,null,null,null,"",""]
[null,{"$f":"IF(A1842=\"\",\"\",Notes!$B$4)","v":""},null,null,null,null,null,null,null,null,null,null,"",""]
[null,{"$f":"IF(A1843=\"\",\"\",Notes!$B$4)","v":""},null,null,null,null,null,null,null,null,null,null,"",""]
[null,{"$f":"IF(A1844=\"\",\"\",Notes!$B$4)","v":""},null,null,null,null,null,null,null,null,null,null,"",""]
[null,{"$f":"IF(A1845=\"\",\"\",Notes!$B$4)","v":""},null,null,null,null,null,null,null,null,null,null,"",""]
[null,{"$f":"IF(A1846=\"\",\"\",Notes!$B$4)","v":""},null,null,null,null,null,null,null,null,null,null,"",""]
[null,{"$f":"IF(A1847=\"\",\"\",Notes!$B$4)","v":""},null,null,null,null,null,null,null,null,null,null,"",""]
[null,{"$f":"IF(A1848=\"\",\"\",Notes!$B$4)","v":""},null,null,null,null,null,null,null,null,null,null,"",""]
[null,{"$f":"IF(A1849=\"\",\"\",Notes!$B$4)","v":""},null,null,null,null,null,null,null,null,null,null,"",""]
[null,{"$f":"IF(A1850=\"\",\"\",Notes!$B$4)","v":""},null,null,null,null,null,null,null,null,null,null,"",""]
[null,{"$f":"IF(A1851=\"\",\"\",Notes!$B$4)","v":""},null,null,null,null,null,null,null,null,null,null,"",""]
[null,{"$f":"IF(A1852=\"\",\"\",Notes!$B$4)","v":""},null,null,null,null,null,null,null,null,null,null,"",""]
[null,{"$f":"IF(A1853=\"\",\"\",Notes!$B$4)","v":""},null,null,null,null,null,null,null,null,null,null,"",""]
[null,{"$f":"IF(A1854=\"\",\"\",Notes!$B$4)","v":""},null,null,null,null,null,null,null,null,null,null,"",""]
[null,{"$f":"IF(A1855=\"\",\"\",Notes!$B$4)","v":""},null,null,null,null,null,null,null,null,null,null,"",""]
[null,{"$f":"IF(A1856=\"\",\"\",Notes!$B$4)","v":""},null,null,null,null,null,null,null,null,null,null,"",""]
[null,{"$f":"IF(A1857=\"\",\"\",Notes!$B$4)","v":""},null,null,null,null,null,null,null,null,null,null,"",""]
[null,{"$f":"IF(A1858=\"\",\"\",Notes!$B$4)","v":""},null,null,null,null,null,null,null,null,null,null,{"$f":"IF(A1858=\"\",\"\",VLOOKUP(B1858,SchoolID,2,FALSE))","v":""},""]
[null,{"$f":"IF(A1859=\"\",\"\",Notes!$B$4)","v":""},null,null,null,null,null,null,null,null,null,null,"",""]
[null,{"$f":"IF(A1860=\"\",\"\",Notes!$B$4)","v":""},null,null,null,null,null,null,null,null,null,null,"",""]
[null,{"$f":"IF(A1861=\"\",\"\",Notes!$B$4)","v":""},null,null,null,null,null,null,null,null,null,null,"",""]
[null,{"$f":"IF(A1862=\"\",\"\",Notes!$B$4)","v":""},null,null,null,null,null,null,null,null,null,null,"",""]
[null,{"$f":"IF(A1863=\"\",\"\",Notes!$B$4)","v":""},null,null,null,null,null,null,null,null,null,null,"",""]
[null,{"$f":"IF(A1864=\"\",\"\",Notes!$B$4)","v":""},null,null,null,null,null,null,null,null,null,null,"",""]
[null,{"$f":"IF(A1865=\"\",\"\",Notes!$B$4)","v":""},null,null,null,null,null,null,null,null,null,null,"",""]
[null,{"$f":"IF(A1866=\"\",\"\",Notes!$B$4)","v":""},null,null,null,null,null,null,null,null,null,null,"",""]
[null,{"$f":"IF(A1867=\"\",\"\",Notes!$B$4)","v":""},null,null,null,null,null,null,null,null,null,null,"",""]
[null,{"$f":"IF(A1868=\"\",\"\",Notes!$B$4)","v":""},null,null,null,null,null,null,null,null,null,null,"",""]
[null,{"$f":"IF(A1869=\"\",\"\",Notes!$B$4)","v":""},null,null,null,null,null,null,null,null,null,null,"",""]
[null,{"$f":"IF(A1870=\"\",\"\",Notes!$B$4)","v":""},null,null,null,null,null,null,null,null,null,null,"",""]
[null,{"$f":"IF(A1871=\"\",\"\",Notes!$B$4)","v":""},null,null,null,null,null,null,null,null,null,null,"",{"$f":"M1871&A1871","v":""}]
[null,{"$f":"IF(A1872=\"\",\"\",Notes!$B$4)","v":""},null,null,null,null,null,null,null,null,null,null,"",""]
[null,{"$f":"IF(A1873=\"\",\"\",Notes!$B$4)","v":""},null,null,null,null,null,null,null,null,null,null,"",""]
[null,{"$f":"IF(A1874=\"\",\"\",Notes!$B$4)","v":""},null,null,null,null,null,null,null,null,null,null,"",""]
[null,{"$f":"IF(A1875=\"\",\"\",Notes!$B$4)","v":""},null,null,null,null,null,null,null,null,null,null,"",""]
[null,{"$f":"IF(A1876=\"\",\"\",Notes!$B$4)","v":""},null,null,null,null,null,null,null,null,null,null,"",""]
[null,{"$f":"IF(A1877=\"\",\"\",Notes!$B$4)","v":""},null,null,null,null,null,null,null,null,null,null,"",""]
[null,{"$f":"IF(A1878=\"\",\"\",Notes!$B$4)","v":""},null,null,null,null,null,null,null,null,null,null,"",""]
[null,{"$f":"IF(A1879=\"\",\"\",Notes!$B$4)","v":""},null,null,null,null,null,null,null,null,null,null,"",""]
[null,{"$f":"IF(A1880=\"\",\"\",Notes!$B$4)","v":""},null,null,null,null,null,null,null,null,null,null,"",""]
[null,{"$f":"IF(A1881=\"\",\"\",Notes!$B$4)","v":""},null,null,null,null,null,null,null,null,null,null,"",""]
[null,{"$f":"IF(A1882=\"\",\"\",Notes!$B$4)","v":""},null,null,null,null,null,null,null,null,null,null,"",""]
[null,{"$f":"IF(A1883=\"\",\"\",Notes!$B$4)","v":""},null,null,null,null,null,null,null,null,null,null,"",""]
[null,{"$f":"IF(A1884=\"\",\"\",Notes!$B$4)","v":""},null,null,null,null,null,null,null,null,null,null,"",""]
[null,{"$f":"IF(A1885=\"\",\"\",Notes!$B$4)","v":""},null,null,null,null,null,null,null,null,null,null,"",""]
[null,{"$f":"IF(A1886=\"\",\"\",Notes!$B$4)","v":""},null,null,null,null,null,null,null,null,null,null,"",""]
[null,{"$f":"IF(A1887=\"\",\"\",Notes!$B$4)","v":""},null,null,null,null,null,null,null,null,null,null,"",""]
[null,{"$f":"IF(A1888=\"\",\"\",Notes!$B$4)","v":""},null,null,null,null,null,null,null,null,null,null,"",""]
[null,{"$f":"IF(A1889=\"\",\"\",Notes!$B$4)","v":""},null,null,null,null,null,null,null,null,null,null,"",""]
[null,{"$f":"IF(A1890=\"\",\"\",Notes!$B$4)","v":""},null,null,null,null,null,null,null,null,null,null,"",""]
[null,{"$f":"IF(A1891=\"\",\"\",Notes!$B$4)","v":""},null,null,null,null,null,null,null,null,null,null,"",""]
[null,{"$f":"IF(A1892=\"\",\"\",Notes!$B$4)","v":""},null,null,null,null,null,null,null,null,null,null,"",""]
[null,{"$f":"IF(A1893=\"\",\"\",Notes!$B$4)","v":""},null,null,null,null,null,null,null,null,null,null,"",""]
[null,{"$f":"IF(A1894=\"\",\"\",Notes!$B$4)","v":""},null,null,null,null,null,null,null,null,null,null,"",""]
[null,{"$f":"IF(A1895=\"\",\"\",Notes!$B$4)","v":""},null,null,null,null,null,null,null,null,null,null,"",""]
[null,{"$f":"IF(A1896=\"\",\"\",Notes!$B$4)","v":""},null,null,null,null,null,null,null,null,null,null,"",""]
[null,{"$f":"IF(A1897=\"\",\"\",Notes!$B$4)","v":""},null,null,null,null,null,null,null,null,null,null,"",""]
[null,{"$f":"IF(A1898=\"\",\"\",Notes!$B$4)","v":""},null,null,null,null,null,null,null,null,null,null,"",""]
[null,{"$f":"IF(A1899=\"\",\"\",Notes!$B$4)","v":""},null,null,null,null,null,null,null,null,null,null,"",""]
[null,{"$f":"IF(A1900=\"\",\"\",Notes!$B$4)","v":""},null,null,null,null,null,null,null,null,null,null,"",""]
[null,{"$f":"IF(A1901=\"\",\"\",Notes!$B$4)","v":""},null,null,null,null,null,null,null,null,null,null,"",""]
[null,{"$f":"IF(A1902=\"\",\"\",Notes!$B$4)","v":""},null,null,null,null,null,null,null,null,null,null,"",""]
[null,{"$f":"IF(A1903=\"\",\"\",Notes!$B$4)","v":""},null,null,null,null,null,null,null,null,null,null,"",""]
[null,{"$f":"IF(A1904=\"\",\"\",Notes!$B$4)","v":""},null,null,null,null,null,null,null,null,null,null,"",""]
[null,{"$f":"IF(A1905=\"\",\"\",Notes!$B$4)","v":""},null,null,null,null,null,null,null,null,null,null,"",""]
[null,{"$f":"IF(A1906=\"\",\"\",Notes!$B$4)","v":""},null,null,null,null,null,null,null,null,null,null,"",""]
[null,{"$f":"IF(A1907=\"\",\"\",Notes!$B$4)","v":""},null,null,null,null,null,null,null,null,null,null,"",""]
[null,{"$f":"IF(A1908=\"\",\"\",Notes!$B$4)","v":""},null,null,null,null,null,null,null,null,null,null,"",""]
[null,{"$f":"IF(A1909=\"\",\"\",Notes!$B$4)","v":""},null,null,null,null,null,null,null,null,null,null,"",""]
[null,{"$f":"IF(A1910=\"\",\"\",Notes!$B$4)","v":""},null,null,null,null,null,null,null,null,null,null,"",""]
[null,{"$f":"IF(A1911=\"\",\"\",Notes!$B$4)","v":""},null,null,null,null,null,null,null,null,null,null,"",""]
[null,{"$f":"IF(A1912=\"\",\"\",Notes!$B$4)","v":""},null,null,null,null,null,null,null,null,null,null,"",""]
[null,{"$f":"IF(A1913=\"\",\"\",Notes!$B$4)","v":""},null,null,null,null,null,null,null,null,null,null,"",""]
[null,{"$f":"IF(A1914=\"\",\"\",Notes!$B$4)","v":""},null,null,null,null,null,null,null,null,null,null,"",""]
[null,{"$f":"IF(A1915=\"\",\"\",Notes!$B$4)","v":""},null,null,null,null,null,null,null,null,null,null,"",""]
[null,{"$f":"IF(A1916=\"\",\"\",Notes!$B$4)","v":""},null,null,null,null,null,null,null,null,null,null,"",""]
[null,{"$f":"IF(A1917=\"\",\"\",Notes!$B$4)","v":""},null,null,null,null,null,null,null,null,null,null,"",""]
[null,{"$f":"IF(A1918=\"\",\"\",Notes!$B$4)","v":""},null,null,null,null,null,null,null,null,null,null,"",""]
[null,{"$f":"IF(A1919=\"\",\"\",Notes!$B$4)","v":""},null,null,null,null,null,null,null,null,null,null,"",""]
[null,{"$f":"IF(A1920=\"\",\"\",Notes!$B$4)","v":""},null,null,null,null,null,null,null,null,null,null,"",""]
[null,{"$f":"IF(A1921=\"\",\"\",Notes!$B$4)","v":""},null,null,null,null,null,null,null,null,null,null,"",""]
[null,{"$f":"IF(A1922=\"\",\"\",Notes!$B$4)","v":""},null,null,null,null,null,null,null,null,null,null,{"$f":"IF(A1922=\"\",\"\",VLOOKUP(B1922,SchoolID,2,FALSE))","v":""},""]
[null,{"$f":"IF(A1923=\"\",\"\",Notes!$B$4)","v":""},null,null,null,null,null,null,null,null,null,null,"",""]
[null,{"$f":"IF(A1924=\"\",\"\",Notes!$B$4)","v":""},null,null,null,null,null,null,null,null,null,null,"",""]
[null,{"$f":"IF(A1925=\"\",\"\",Notes!$B$4)","v":""},null,null,null,null,null,null,null,null,null,null,"",""]
[null,{"$f":"IF(A1926=\"\",\"\",Notes!$B$4)","v":""},null,null,null,null,null,null,null,null,null,null,"",""]
[null,{"$f":"IF(A1927=\"\",\"\",Notes!$B$4)","v":""},null,null,null,null,null,null,null,null,null,null,"",""]
[null,{"$f":"IF(A1928=\"\",\"\",Notes!$B$4)","v":""},null,null,null,null,null,null,null,null,null,null,"",""]
[null,{"$f":"IF(A1929=\"\",\"\",Notes!$B$4)","v":""},null,null,null,null,null,null,null,null,null,null,"",""]
[null,{"$f":"IF(A1930=\"\",\"\",Notes!$B$4)","v":""},null,null,null,null,null,null,null,null,null,null,"",""]
[null,{"$f":"IF(A1931=\"\",\"\",Notes!$B$4)","v":""},null,null,null,null,null,null,null,null,null,null,"",""]
[null,{"$f":"IF(A1932=\"\",\"\",Notes!$B$4)","v":""},null,null,null,null,null,null,null,null,null,null,"",""]
[null,{"$f":"IF(A1933=\"\",\"\",Notes!$B$4)","v":""},null,null,null,null,null,null,null,null,null,null,"",""]
[null,{"$f":"IF(A1934=\"\",\"\",Notes!$B$4)","v":""},null,null,null,null,null,null,null,null,null,null,"",""]
[null,{"$f":"IF(A1935=\"\",\"\",Notes!$B$4)","v":""},null,null,null,null,null,null,null,null,null,null,"",{"$f":"M1935&A1935","v":""}]
[null,{"$f":"IF(A1936=\"\",\"\",Notes!$B$4)","v":""},null,null,null,null,null,null,null,null,null,null,"",""]
[null,{"$f":"IF(A1937=\"\",\"\",Notes!$B$4)","v":""},null,null,null,null,null,null,null,null,null,null,"",""]
[null,{"$f":"IF(A1938=\"\",\"\",Notes!$B$4)","v":""},null,null,null,null,null,null,null,null,null,null,"",""]
[null,{"$f":"IF(A1939=\"\",\"\",Notes!$B$4)","v":""},null,null,null,null,null,null,null,null,null,null,"",""]
[null,{"$f":"IF(A1940=\"\",\"\",Notes!$B$4)","v":""},null,null,null,null,null,null,null,null,null,null,"",""]
[null,{"$f":"IF(A1941=\"\",\"\",Notes!$B$4)","v":""},null,null,null,null,null,null,null,null,null,null,"",""]
[null,{"$f":"IF(A1942=\"\",\"\",Notes!$B$4)","v":""},null,null,null,null,null,null,null,null,null,null,"",""]
[null,{"$f":"IF(A1943=\"\",\"\",Notes!$B$4)","v":""},null,null,null,null,null,null,null,null,null,null,"",""]
[null,{"$f":"IF(A1944=\"\",\"\",Notes!$B$4)","v":""},null,null,null,null,null,null,null,null,null,null,"",""]
[null,{"$f":"IF(A1945=\"\",\"\",Notes!$B$4)","v":""},null,null,null,null,null,null,null,null,null,null,"",""]
[null,{"$f":"IF(A1946=\"\",\"\",Notes!$B$4)","v":""},null,null,null,null,null,null,null,null,null,null,"",""]
[null,{"$f":"IF(A1947=\"\",\"\",Notes!$B$4)","v":""},null,null,null,null,null,null,null,null,null,null,"",""]
[null,{"$f":"IF(A1948=\"\",\"\",Notes!$B$4)","v":""},null,null,null,null,null,null,null,null,null,null,"",""]
[null,{"$f":"IF(A1949=\"\",\"\",Notes!$B$4)","v":""},null,null,null,null,null,null,null,null,null,null,"",""]
[null,{"$f":"IF(A1950=\"\",\"\",Notes!$B$4)","v":""},null,null,null,null,null,null,null,null,null,null,"",""]
[null,{"$f":"IF(A1951=\"\",\"\",Notes!$B$4)","v":""},null,null,null,null,null,null,null,null,null,null,"",""]
[null,{"$f":"IF(A1952=\"\",\"\",Notes!$B$4)","v":""},null,null,null,null,null,null,null,null,null,null,"",""]
[null,{"$f":"IF(A1953=\"\",\"\",Notes!$B$4)","v":""},null,null,null,null,null,null,null,null,null,null,"",""]
[null,{"$f":"IF(A1954=\"\",\"\",Notes!$B$4)","v":""},null,null,null,null,null,null,null,null,null,null,"",""]
[null,{"$f":"IF(A1955=\"\",\"\",Notes!$B$4)","v":""},null,null,null,null,null,null,null,null,null,null,"",""]
[null,{"$f":"IF(A1956=\"\",\"\",Notes!$B$4)","v":""},null,null,null,null,null,null,null,null,null,null,"",""]
[null,{"$f":"IF(A1957=\"\",\"\",Notes!$B$4)","v":""},null,null,null,null,null,null,null,null,null,null,"",""]
[null,{"$f":"IF(A1958=\"\",\"\",Notes!$B$4)","v":""},null,null,null,null,null,null,null,null,null,null,"",""]
[null,{"$f":"IF(A1959=\"\",\"\",Notes!$B$4)","v":""},null,null,null,null,null,null,null,null,null,null,"",""]
[null,{"$f":"IF(A1960=\"\",\"\",Notes!$B$4)","v":""},null,null,null,null,null,null,null,null,null,null,"",""]
[null,{"$f":"IF(A1961=\"\",\"\",Notes!$B$4)","v":""},null,null,null,null,null,null,null,null,null,null,"",""]
[null,{"$f":"IF(A1962=\"\",\"\",Notes!$B$4)","v":""},null,null,null,null,null,null,null,null,null,null,"",""]
[null,{"$f":"IF(A1963=\"\",\"\",Notes!$B$4)","v":""},null,null,null,null,null,null,null,null,null,null,"",""]
[null,{"$f":"IF(A1964=\"\",\"\",Notes!$B$4)","v":""},null,null,null,null,null,null,null,null,null,null,"",""]
[null,{"$f":"IF(A1965=\"\",\"\",Notes!$B$4)","v":""},null,null,null,null,null,null,null,null,null,null,"",""]
[null,{"$f":"IF(A1966=\"\",\"\",Notes!$B$4)","v":""},null,null,null,null,null,null,null,null,null,null,"",""]
[null,{"$f":"IF(A1967=\"\",\"\",Notes!$B$4)","v":""},null,null,null,null,null,null,null,null,null,null,"",""]
[null,{"$f":"IF(A1968=\"\",\"\",Notes!$B$4)","v":""},null,null,null,null,null,null,null,null,null,null,"",""]
[null,{"$f":"IF(A1969=\"\",\"\",Notes!$B$4)","v":""},null,null,null,null,null,null,null,null,null,null,"",""]
[null,{"$f":"IF(A1970=\"\",\"\",Notes!$B$4)","v":""},null,null,null,null,null,null,null,null,null,null,"",""]
[null,{"$f":"IF(A1971=\"\",\"\",Notes!$B$4)","v":""},null,null,null,null,null,null,null,null,null,null,"",""]
[null,{"$f":"IF(A1972=\"\",\"\",Notes!$B$4)","v":""},null,null,null,null,null,null,null,null,null,null,"",""]
[null,{"$f":"IF(A1973=\"\",\"\",Notes!$B$4)","v":""},null,null,null,null,null,null,null,null,null,null,"",""]
[null,{"$f":"IF(A1974=\"\",\"\",Notes!$B$4)","v":""},null,null,null,null,null,null,null,null,null,null,"",""]
[null,{"$f":"IF(A1975=\"\",\"\",Notes!$B$4)","v":""},null,null,null,null,null,null,null,null,null,null,"",""]
[null,{"$f":"IF(A1976=\"\",\"\",Notes!$B$4)","v":""},null,null,null,null,null,null,null,null,null,null,"",""]
[null,{"$f":"IF(A1977=\"\",\"\",Notes!$B$4)","v":""},null,null,null,null,null,null,null,null,null,null,"",""]
[null,{"$f":"IF(A1978=\"\",\"\",Notes!$B$4)","v":""},null,null,null,null,null,null,null,null,null,null,"",""]
[null,{"$f":"IF(A1979=\"\",\"\",Notes!$B$4)","v":""},null,null,null,null,null,null,null,null,null,null,"",""]
[null,{"$f":"IF(A1980=\"\",\"\",Notes!$B$4)","v":""},null,null,null,null,null,null,null,null,null,null,"",""]
[null,{"$f":"IF(A1981=\"\",\"\",Notes!$B$4)","v":""},null,null,null,null,null,null,null,null,null,null,"",""]
[null,{"$f":"IF(A1982=\"\",\"\",Notes!$B$4)","v":""},null,null,null,null,null,null,null,null,null,null,"",""]
[null,{"$f":"IF(A1983=\"\",\"\",Notes!$B$4)","v":""},null,null,null,null,null,null,null,null,null,null,"",""]
[null,{"$f":"IF(A1984=\"\",\"\",Notes!$B$4)","v":""},null,null,null,null,null,null,null,null,null,null,"",""]
[null,{"$f":"IF(A1985=\"\",\"\",Notes!$B$4)","v":""},null,null,null,null,null,null,null,null,null,null,"",""]
[null,{"$f":"IF(A1986=\"\",\"\",Notes!$B$4)","v":""},null,null,null,null,null,null,null,null,null,null,{"$f":"IF(A1986=\"\",\"\",VLOOKUP(B1986,SchoolID,2,FALSE))","v":""},""]
[null,{"$f":"IF(A1987=\"\",\"\",Notes!$B$4)","v":""},null,null,null,null,null,null,null,null,null,null,"",""]
[null,{"$f":"IF(A1988=\"\",\"\",Notes!$B$4)","v":""},null,null,null,null,null,null,null,null,null,null,"",""]
[null,{"$f":"IF(A1989=\"\",\"\",Notes!$B$4)","v":""},null,null,null,null,null,null,null,null,null,null,"",""]
[null,{"$f":"IF(A1990=\"\",\"\",Notes!$B$4)","v":""},null,null,null,null,null,null,null,null,null,null,"",""]
[null,{"$f":"IF(A1991=\"\",\"\",Notes!$B$4)","v":""},null,null,null,null,null,null,null,null,null,null,"",""]
[null,{"$f":"IF(A1992=\"\",\"\",Notes!$B$4)","v":""},null,null,null,null,null,null,null,null,null,null,"",""]
[null,{"$f":"IF(A1993=\"\",\"\",Notes!$B$4)","v":""},null,null,null,null,null,null,null,null,null,null,"",""]
[null,{"$f":"IF(A1994=\"\",\"\",Notes!$B$4)","v":""},null,null,null,null,null,null,null,null,null,null,"",""]
[null,{"$f":"IF(A1995=\"\",\"\",Notes!$B$4)","v":""},null,null,null,null,null,null,null,null,null,null,"",""]
[null,{"$f":"IF(A1996=\"\",\"\",Notes!$B$4)","v":""},null,null,null,null,null,null,null,null,null,null,"",""]
[null,{"$f":"IF(A1997=\"\",\"\",Notes!$B$4)","v":""},null,null,null,null,null,null,null,null,null,null,"",""]
[null,{"$f":"IF(A1998=\"\",\"\",Notes!$B$4)","v":""},null,null,null,null,null,null,null,null,null,null,"",""]
[null,{"$f":"IF(A1999=\"\",\"\",Notes!$B$4)","v":""},null,null,null,null,null,null,null,null,null,null,"",{"$f":"M1999&A1999","v":""}]
[null,{"$f":"IF(A2000=\"\",\"\",Notes!$B$4)","v":""},null,null,null,null,null,null,null,null,null,null,"",""]
[null,{"$f":"IF(A2002=\"\",\"\",Notes!$B$4)","v":""},null,null,null,null,null,null,null,null,null,null,"",""]
[null,{"$f":"IF(A2013=\"\",\"\",Notes!$B$4)","v":""},null,null,null,null,null,null,null,null,null,null,"",""]
[null,{"$f":"IF(A2025=\"\",\"\",Notes!$B$4)","v":""},null,null,null,null,null,null,null,null,null,null,"",""]
[null,{"$f":"IF(A2032=\"\",\"\",Notes!$B$4)","v":""},null,null,null,null,null,null,null,null,null,null,"",""]
[null,{"$f":"IF(A2041=\"\",\"\",Notes!$B$4)","v":""},null,null,null,null,null,null,null,null,null,null,"",""]
[null,{"$f":"IF(A2046=\"\",\"\",Notes!$B$4)","v":""},null,null,null,null,null,null,null,null,null,null,"",""]
[null,{"$f":"IF(A2053=\"\",\"\",Notes!$B$4)","v":""},null,null,null,null,null,null,null,null,null,null,"",""]
[null,{"$f":"IF(A2065=\"\",\"\",Notes!$B$4)","v":""},null,null,null,null,null,null,null,null,null,null,"",""]
[null,{"$f":"IF(A2072=\"\",\"\",Notes!$B$4)","v":""},null,null,null,null,null,null,null,null,null,null,"",""]
[null,{"$f":"IF(A2083=\"\",\"\",Notes!$B$4)","v":""},null,null,null,null,null,null,null,null,null,null,"",""]
[null,{"$f":"IF(A2095=\"\",\"\",Notes!$B$4)","v":""},null,null,null,null,null,null,null,null,null,null,"",""]
[null,{"$f":"IF(A2102=\"\",\"\",Notes!$B$4)","v":""},null,null,null,null,null,null,null,null,null,null,"",""]
[null,{"$f":"IF(A2111=\"\",\"\",Notes!$B$4)","v":""},null,null,null,null,null,null,null,null,null,null,"",""]
[null,{"$f":"IF(A2116=\"\",\"\",Notes!$B$4)","v":""},null,null,null,null,null,null,null,null,null,null,"",""]
[null,{"$f":"IF(A2123=\"\",\"\",Notes!$B$4)","v":""},null,null,null,null,null,null,null,null,null,null,"",""]
[null,{"$f":"IF(A2135=\"\",\"\",Notes!$B$4)","v":""},null,null,null,null,null,null,null,null,null,null,"",""]
[null,{"$f":"IF(A2142=\"\",\"\",Notes!$B$4)","v":""},null,null,null,null,null,null,null,null,null,null,"",""]
[null,{"$f":"IF(A2153=\"\",\"\",Notes!$B$4)","v":""},null,null,null,null,null,null,null,null,null,null,"",""]
[null,{"$f":"IF(A2165=\"\",\"\",Notes!$B$4)","v":""},null,null,null,null,null,null,null,null,null,null,"",""]
[null,{"$f":"IF(A2172=\"\",\"\",Notes!$B$4)","v":""},null,null,null,null,null,null,null,null,null,null,"",""]
[null,{"$f":"IF(A2181=\"\",\"\",Notes!$B$4)","v":""},null,null,null,null,null,null,null,null,null,null,"",""]
[null,{"$f":"IF(A2190=\"\",\"\",Notes!$B$4)","v":""},null,null,null,null,null,null,null,null,null,null,"",""]
[null,{"$f":"IF(A2193=\"\",\"\",Notes!$B$4)","v":""},null,null,null,null,null,null,null,null,null,null,"",""]
[null,{"$f":"IF(A2205=\"\",\"\",Notes!$B$4)","v":""},null,null,null,null,null,null,null,null,null,null,"",""]
[null,{"$f":"IF(A2212=\"\",\"\",Notes!$B$4)","v":""},null,null,null,null,null,null,null,null,null,null,"",""]
[null,{"$f":"IF(A2223=\"\",\"\",Notes!$B$4)","v":""},null,null,null,null,null,null,null,null,null,null,"",""]
[null,{"$f":"IF(A2235=\"\",\"\",Notes!$B$4)","v":""},null,null,null,null,null,null,null,null,null,null,"",""]
[null,{"$f":"IF(A2242=\"\",\"\",Notes!$B$4)","v":""},null,null,null,null,null,null,null,null,null,null,{"$f":"IF(A2242=\"\",\"\",VLOOKUP(B2242,SchoolID,2,FALSE))","v":""},""]
[null,{"$f":"IF(A2251=\"\",\"\",Notes!$B$4)","v":""},null,null,null,null,null,null,null,null,null,null,"",""]
[null,{"$f":"IF(A2260=\"\",\"\",Notes!$B$4)","v":""},null,null,null,null,null,null,null,null,null,null,"",""]
[null,{"$f":"IF(A2263=\"\",\"\",Notes!$B$4)","v":""},null,null,null,null,null,null,null,null,null,null,"",""]
[null,{"$f":"IF(A2275=\"\",\"\",Notes!$B$4)","v":""},null,null,null,null,null,null,null,null,null,null,"",""]
[null,{"$f":"IF(A2282=\"\",\"\",Notes!$B$4)","v":""},null,null,null,null,null,null,null,null,null,null,"",""]
[null,{"$f":"IF(A2293=\"\",\"\",Notes!$B$4)","v":""},null,null,null,null,null,null,null,null,null,null,"",""]
[null,{"$f":"IF(A2305=\"\",\"\",Notes!$B$4)","v":""},null,null,null,null,null,null,null,null,null,null,"",""]
[null,{"$f":"IF(A2312=\"\",\"\",Notes!$B$4)","v":""},null,null,null,null,null,null,null,null,null,null,"",""]
[null,{"$f":"IF(A2321=\"\",\"\",Notes!$B$4)","v":""},null,null,null,null,null,null,null,null,null,null,"",""]
[null,{"$f":"IF(A2330=\"\",\"\",Notes!$B$4)","v":""},null,null,null,null,null,null,null,null,null,null,"",""]
[null,{"$f":"IF(A2333=\"\",\"\",Notes!$B$4)","v":""},null,null,null,null,null,null,null,null,null,null,"",""]
[null,{"$f":"IF(A2345=\"\",\"\",Notes!$B$4)","v":""},null,null,null,null,null,null,null,null,null,null,"",""]
[null,{"$f":"IF(A2352=\"\",\"\",Notes!$B$4)","v":""},null,null,null,null,null,null,null,null,null,null,"",""]
[null,{"$f":"IF(A2363=\"\",\"\",Notes!$B$4)","v":""},null,null,null,null,null,null,null,null,null,null,"",""]
[null,{"$f":"IF(A2370=\"\",\"\",Notes!$B$4)","v":""},null,null,null,null,null,null,null,null,null,null,{"$f":"IF(A2370=\"\",\"\",VLOOKUP(B2370,SchoolID,2,FALSE))","v":""},""]
[null,{"$f":"IF(A2382=\"\",\"\",Notes!$B$4)","v":""},null,null,null,null,null,null,null,null,null,null,"",""]
[null,{"$f":"IF(A2391=\"\",\"\",Notes!$B$4)","v":""},null,null,null,null,null,null,null,null,null,null,"",""]
[null,{"$f":"IF(A2400=\"\",\"\",Notes!$B$4)","v":""},null,null,null,null,null,null,null,null,null,null,"",""]
[null,{"$f":"IF(A2403=\"\",\"\",Notes!$B$4)","v":""},null,null,null,null,null,null,null,null,null,null,"",""]
[null,{"$f":"IF(A2415=\"\",\"\",Notes!$B$4)","v":""},null,null,null,null,null,null,null,null,null,null,"",""]
[null,{"$f":"IF(A2422=\"\",\"\",Notes!$B$4)","v":""},null,null,null,null,null,null,null,null,null,null,"",""]
[null,{"$f":"IF(A2433=\"\",\"\",Notes!$B$4)","v":""},null,null,null,null,null,null,null,null,null,null,"",""]
[null,{"$f":"IF(A2440=\"\",\"\",Notes!$B$4)","v":""},null,null,null,null,null,null,null,null,null,null,"",""]
[null,{"$f":"IF(A2452=\"\",\"\",Notes!$B$4)","v":""},null,null,null,null,null,null,null,null,null,null,"",""]
[null,{"$f":"IF(A2461=\"\",\"\",Notes!$B$4)","v":""},null,null,null,null,null,null,null,null,null,null,"",""]
[null,{"$f":"IF(A2470=\"\",\"\",Notes!$B$4)","v":""},null,null,null,null,null,null,null,null,null,null,"",""]
[null,{"$f":"IF(A2473=\"\",\"\",Notes!$B$4)","v":""},null,null,null,null,null,null,null,null,null,null,"",""]
[null,{"$f":"IF(A2489=\"\",\"\",Notes!$B$4)","v":""},null,null,null,null,null,null,null,null,null,null,"",""]
[null,{"$f":"IF(A2492=\"\",\"\",Notes!$B$4)","v":""},null,null,null,null,null,null,null,null,null,null,"",""]
[null,{"$f":"IF(A2503=\"\",\"\",Notes!$B$4)","v":""},null,null,null,null,null,null,null,null,null,null,"",""]
[null,{"$f":"IF(A2510=\"\",\"\",Notes!$B$4)","v":""},null,null,null,null,null,null,null,null,null,null,"",""]
[null,{"$f":"IF(A2522=\"\",\"\",Notes!$B$4)","v":""},null,null,null,null,null,null,null,null,null,null,"",""]
[null,{"$f":"IF(A2531=\"\",\"\",Notes!$B$4)","v":""},null,null,null,null,null,null,null,null,null,null,"",""]
[null,{"$f":"IF(A2540=\"\",\"\",Notes!$B$4)","v":""},null,null,null,null,null,null,null,null,null,null,"",""]
[null,{"$f":"IF(A2543=\"\",\"\",Notes!$B$4)","v":""},null,null,null,null,null,null,null,null,null,null,"",""]
[null,{"$f":"IF(A2559=\"\",\"\",Notes!$B$4)","v":""},null,null,null,null,null,null,null,null,null,null,"",""]
[null,{"$f":"IF(A2562=\"\",\"\",Notes!$B$4)","v":""},null,null,null,null,null,null,null,null,null,null,{"$f":"IF(A2562=\"\",\"\",VLOOKUP(B2562,SchoolID,2,FALSE))","v":""},""]
[null,{"$f":"IF(A2573=\"\",\"\",Notes!$B$4)","v":""},null,null,null,null,null,null,null,null,null,null,"",""]
[null,{"$f":"IF(A2580=\"\",\"\",Notes!$B$4)","v":""},null,null,null,null,null,null,null,null,null,null,"",""]
[null,{"$f":"IF(A2592=\"\",\"\",Notes!$B$4)","v":""},null,null,null,null,null,null,null,null,null,null,"",""]
[null,{"$f":"IF(A2601=\"\",\"\",Notes!$B$4)","v":""},null,null,null,null,null,null,null,null,null,null,"",""]
[null,{"$f":"IF(A2610=\"\",\"\",Notes!$B$4)","v":""},null,null,null,null,null,null,null,null,null,null,"",""]
[null,{"$f":"IF(A2613=\"\",\"\",Notes!$B$4)","v":""},null,null,null,null,null,null,null,null,null,null,"",""]
[null,{"$f":"IF(A2629=\"\",\"\",Notes!$B$4)","v":""},null,null,null,null,null,null,null,null,null,null,"",""]
[null,{"$f":"IF(A2632=\"\",\"\",Notes!$B$4)","v":""},null,null,null,null,null,null,null,null,null,null,"",""]
[null,{"$f":"IF(A2643=\"\",\"\",Notes!$B$4)","v":""},null,null,null,null,null,null,null,null,null,null,"",""]
[null,{"$f":"IF(A2650=\"\",\"\",Notes!$B$4)","v":""},null,null,null,null,null,null,null,null,null,null,"",""]
[null,{"$f":"IF(A2662=\"\",\"\",Notes!$B$4)","v":""},null,null,null,null,null,null,null,null,null,null,"",""]
[null,{"$f":"IF(A2671=\"\",\"\",Notes!$B$4)","v":""},null,null,null,null,null,null,null,null,null,null,"",""]
[null,{"$f":"IF(A2680=\"\",\"\",Notes!$B$4)","v":""},null,null,null,null,null,null,null,null,null,null,"",""]
[null,{"$f":"IF(A2683=\"\",\"\",Notes!$B$4)","v":""},null,null,null,null,null,null,null,null,null,null,"",""]
[null,{"$f":"IF(A2699=\"\",\"\",Notes!$B$4)","v":""},null,null,null,null,null,null,null,null,null,null,"",""]
[null,{"$f":"IF(A2702=\"\",\"\",Notes!$B$4)","v":""},null,null,null,null,null,null,null,null,null,null,"",""]
[null,{"$f":"IF(A2713=\"\",\"\",Notes!$B$4)","v":""},null,null,null,null,null,null,null,null,null,null,"",""]
[null,{"$f":"IF(A2720=\"\",\"\",Notes!$B$4)","v":""},null,null,null,null,null,null,null,null,null,null,"",""]
[null,{"$f":"IF(A2732=\"\",\"\",Notes!$B$4)","v":""},null,null,null,null,null,null,null,null,null,null,"",""]
[null,{"$f":"IF(A2741=\"\",\"\",Notes!$B$4)","v":""},null,null,null,null,null,null,null,null,null,null,"",""]
[null,{"$f":"IF(A2750=\"\",\"\",Notes!$B$4)","v":""},null,null,null,null,null,null,null,null,null,null,"",""]
[null,{"$f":"IF(A2753=\"\",\"\",Notes!$B$4)","v":""},null,null,null,null,null,null,null,null,null,null,"",""]
[null,{"$f":"IF(A2769=\"\",\"\",Notes!$B$4)","v":""},null,null,null,null,null,null,null,null,null,null,"",""]
[null,{"$f":"IF(A2772=\"\",\"\",Notes!$B$4)","v":""},null,null,null,null,null,null,null,null,null,null,"",""]
[null,{"$f":"IF(A2783=\"\",\"\",Notes!$B$4)","v":""},null,null,null,null,null,null,null,null,null,null,"",""]
[null,{"$f":"IF(A2790=\"\",\"\",Notes!$B$4)","v":""},null,null,null,null,null,null,null,null,null,null,"",""]
[null,{"$f":"IF(A2802=\"\",\"\",Notes!$B$4)","v":""},null,null,null,null,null,null,null,null,null,null,"",""]
[null,{"$f":"IF(A2811=\"\",\"\",Notes!$B$4)","v":""},null,null,null,null,null,null,null,null,null,null,"",""]
[null,{"$f":"IF(A2820=\"\",\"\",Notes!$B$4)","v":""},null,null,null,null,null,null,null,null,null,null,"",""]
[null,{"$f":"IF(A2823=\"\",\"\",Notes!$B$4)","v":""},null,null,null,null,null,null,null,null,null,null,"",""]
[null,{"$f":"IF(A2839=\"\",\"\",Notes!$B$4)","v":""},null,null,null,null,null,null,null,null,null,null,"",""]
[null,{"$f":"IF(A2842=\"\",\"\",Notes!$B$4)","v":""},null,null,null,null,null,null,null,null,null,null,"",""]
[null,{"$f":"IF(A2857=\"\",\"\",Notes!$B$4)","v":""},null,null,null,null,null,null,null,null,null,null,"",""]
[null,{"$f":"IF(A2860=\"\",\"\",Notes!$B$4)","v":""},null,null,null,null,null,null,null,null,null,null,"",""]
[null,{"$f":"IF(A2872=\"\",\"\",Notes!$B$4)","v":""},null,null,null,null,null,null,null,null,null,null,"",""]
[null,{"$f":"IF(A2881=\"\",\"\",Notes!$B$4)","v":""},null,null,null,null,null,null,null,null,null,null,"",""]
[null,{"$f":"IF(A2890=\"\",\"\",Notes!$B$4)","v":""},null,null,null,null,null,null,null,null,null,null,"",""]
[null,{"$f":"IF(A2893=\"\",\"\",Notes!$B$4)","v":""},null,null,null,null,null,null,null,null,null,null,"",""]
[null,{"$f":"IF(A2909=\"\",\"\",Notes!$B$4)","v":""},null,null,null,null,null,null,null,null,null,null,"",""]
[null,{"$f":"IF(A2912=\"\",\"\",Notes!$B$4)","v":""},null,null,null,null,null,null,null,null,null,null,"",""]
[null,{"$f":"IF(A2927=\"\",\"\",Notes!$B$4)","v":""},null,null,null,null,null,null,null,null,null,null,"",""]
[null,{"$f":"IF(A2930=\"\",\"\",Notes!$B$4)","v":""},null,null,null,null,null,null,null,null,null,null,"",""]
[null,{"$f":"IF(A2942=\"\",\"\",Notes!$B$4)","v":""},null,null,null,null,null,null,null,null,null,null,"",""]
[null,{"$f":"IF(A2951=\"\",\"\",Notes!$B$4)","v":""},null,null,null,null,null,null,null,null,null,null,"",""]
[null,{"$f":"IF(A2960=\"\",\"\",Notes!$B$4)","v":""},null,null,null,null,null,null,null,null,null,null,"",""]
[null,{"$f":"IF(A2967=\"\",\"\",Notes!$B$4)","v":""},null,null,null,null,null,null,null,null,null,null,"",""]
[null,{"$f":"IF(A2979=\"\",\"\",Notes!$B$4)","v":""},null,null,null,null,null,null,null,null,null,null,"",""]
[null,{"$f":"IF(A2982=\"\",\"\",Notes!$B$4)","v":""},null,null,null,null,null,null,null,null,null,null,"",""]
[null,{"$f":"IF(A2997=\"\",\"\",Notes!$B$4)","v":""},null,null,null,null,null,null,null,null,null,null,"",""]
[null,{"$f":"IF(A3000=\"\",\"\",Notes!$B$4)","v":""},null,null,null,null,null,null,null,null,null,null,"",""]
[null,{"$f":"IF(A3012=\"\",\"\",Notes!$B$4)","v":""},null,null,null,null,null,null,null,null,null,null,"",""]
[null,{"$f":"IF(A3021=\"\",\"\",Notes!$B$4)","v":""},null,null,null,null,null,null,null,null,null,null,"",""]
[null,{"$f":"IF(A3030=\"\",\"\",Notes!$B$4)","v":""},null,null,null,null,null,null,null,null,null,null,"",""]
[null,{"$f":"IF(A3037=\"\",\"\",Notes!$B$4)","v":""},null,null,null,null,null,null,null,null,null,null,"",""]
[null,{"$f":"IF(A3049=\"\",\"\",Notes!$B$4)","v":""},null,null,null,null,null,null,null,null,null,null,"",""]
[null,{"$f":"IF(A3052=\"\",\"\",Notes!$B$4)","v":""},null,null,null,null,null,null,null,null,null,null,"",""]
[null,{"$f":"IF(A3067=\"\",\"\",Notes!$B$4)","v":""},null,null,null,null,null,null,null,null,null,null,"",""]
[null,{"$f":"IF(A3070=\"\",\"\",Notes!$B$4)","v":""},null,null,null,null,null,null,null,null,null,null,"",""]
[null,{"$f":"IF(A3082=\"\",\"\",Notes!$B$4)","v":""},null,null,null,null,null,null,null,null,null,null,"",""]
[null,{"$f":"IF(A3091=\"\",\"\",Notes!$B$4)","v":""},null,null,null,null,null,null,null,null,null,null,"",""]
[null,{"$f":"IF(A3100=\"\",\"\",Notes!$B$4)","v":""},null,null,null,null,null,null,null,null,null,null,"",""]
[null,{"$f":"IF(A3107=\"\",\"\",Notes!$B$4)","v":""},null,null,null,null,null,null,null,null,null,null,"",""]
[null,{"$f":"IF(A3119=\"\",\"\",Notes!$B$4)","v":""},null,null,null,null,null,null,null,null,null,null,"",""]
[null,{"$f":"IF(A3122=\"\",\"\",Notes!$B$4)","v":""},null,null,null,null,null,null,null,null,null,null,"",""]
[null,{"$f":"IF(A3137=\"\",\"\",Notes!$B$4)","v":""},null,null,null,null,null,null,null,null,null,null,"",""]
[null,{"$f":"IF(A3140=\"\",\"\",Notes!$B$4)","v":""},null,null,null,null,null,null,null,null,null,null,"",""]
[null,{"$f":"IF(A3147=\"\",\"\",Notes!$B$4)","v":""},null,null,null,null,null,null,null,null,null,null,"",""]
[null,{"$f":"IF(A3161=\"\",\"\",Notes!$B$4)","v":""},null,null,null,null,null,null,null,null,null,null,"",""]
[null,{"$f":"IF(A3170=\"\",\"\",Notes!$B$4)","v":""},null,null,null,null,null,null,null,null,null,null,"",""]
[null,{"$f":"IF(A3177=\"\",\"\",Notes!$B$4)","v":""},null,null,null,null,null,null,null,null,null,null,"",""]
[null,{"$f":"IF(A3189=\"\",\"\",Notes!$B$4)","v":""},null,null,null,null,null,null,null,null,null,null,"",""]
[null,{"$f":"IF(A3192=\"\",\"\",Notes!$B$4)","v":""},null,null,null,null,null,null,null,null,null,null,"",""]
[null,{"$f":"IF(A3207=\"\",\"\",Notes!$B$4)","v":""},null,null,null,null,null,null,null,null,null,null,"",""]
[null,{"$f":"IF(A3210=\"\",\"\",Notes!$B$4)","v":""},null,null,null,null,null,null,null,null,null,null,"",""]
[null,{"$f":"IF(A3217=\"\",\"\",Notes!$B$4)","v":""},null,null,null,null,null,null,null,null,null,null,"",""]
[null,{"$f":"IF(A3231=\"\",\"\",Notes!$B$4)","v":""},null,null,null,null,null,null,null,null,null,null,"",""]
[null,{"$f":"IF(A3240=\"\",\"\",Notes!$B$4)","v":""},null,null,null,null,null,null,null,null,null,null,"",""]
[null,{"$f":"IF(A3247=\"\",\"\",Notes!$B$4)","v":""},null,null,null,null,null,null,null,null,null,null,"",""]
[null,{"$f":"IF(A3259=\"\",\"\",Notes!$B$4)","v":""},null,null,null,null,null,null,null,null,null,null,"",""]
[null,{"$f":"IF(A3262=\"\",\"\",Notes!$B$4)","v":""},null,null,null,null,null,null,null,null,null,null,"",""]
[null,{"$f":"IF(A3277=\"\",\"\",Notes!$B$4)","v":""},null,null,null,null,null,null,null,null,null,null,"",""]
[null,{"$f":"IF(A3280=\"\",\"\",Notes!$B$4)","v":""},null,null,null,null,null,null,null,null,null,null,"",""]
[null,{"$f":"IF(A3287=\"\",\"\",Notes!$B$4)","v":""},null,null,null,null,null,null,null,null,null,null,"",""]
[null,{"$f":"IF(A3301=\"\",\"\",Notes!$B$4)","v":""},null,null,null,null,null,null,null,null,null,null,"",""]
[null,{"$f":"IF(A3310=\"\",\"\",Notes!$B$4)","v":""},null,null,null,null,null,null,null,null,null,null,"",""]
[null,{"$f":"IF(A3317=\"\",\"\",Notes!$B$4)","v":""},null,null,null,null,null,null,null,null,null,null,"",""]
[null,{"$f":"IF(A3329=\"\",\"\",Notes!$B$4)","v":""},null,null,null,null,null,null,null,null,null,null,"",""]
[null,{"$f":"IF(A3332=\"\",\"\",Notes!$B$4)","v":""},null,null,null,null,null,null,null,null,null,null,"",""]
[null,{"$f":"IF(A3347=\"\",\"\",Notes!$B$4)","v":""},null,null,null,null,null,null,null,null,null,null,"",""]
[null,{"$f":"IF(A3350=\"\",\"\",Notes!$B$4)","v":""},null,null,null,null,null,null,null,null,null,null,"",""]
[null,{"$f":"IF(A3357=\"\",\"\",Notes!$B$4)","v":""},null,null,null,null,null,null,null,null,null,null,"",""]
[null,{"$f":"IF(A3371=\"\",\"\",Notes!$B$4)","v":""},null,null,null,null,null,null,null,null,null,null,"",""]
[null,{"$f":"IF(A3380=\"\",\"\",Notes!$B$4)","v":""},null,null,null,null,null,null,null,null,null,null,"",""]
[null,{"$f":"IF(A3387=\"\",\"\",Notes!$B$4)","v":""},null,null,null,null,null,null,null,null,null,null,"",""]
[null,{"$f":"IF(A3399=\"\",\"\",Notes!$B$4)","v":""},null,null,null,null,null,null,null,null,null,null,"",""]
[null,{"$f":"IF(A3402=\"\",\"\",Notes!$B$4)","v":""},null,null,null,null,null,null,null,null,null,null,"",""]
[null,{"$f":"IF(A3417=\"\",\"\",Notes!$B$4)","v":""},null,null,null,null,null,null,null,null,null,null,"",""]
[null,{"$f":"IF(A3420=\"\",\"\",Notes!$B$4)","v":""},null,null,null,null,null,null,null,null,null,null,"",""]
[null,{"$f":"IF(A3427=\"\",\"\",Notes!$B$4)","v":""},null,null,null,null,null,null,null,null,null,null,"",""]
[null,{"$f":"IF(A3441=\"\",\"\",Notes!$B$4)","v":""},null,null,null,null,null,null,null,null,null,null,"",""]
[null,{"$f":"IF(A3445=\"\",\"\",Notes!$B$4)","v":""},null,null,null,null,null,null,null,null,null,null,"",""]
[null,{"$f":"IF(A3457=\"\",\"\",Notes!$B$4)","v":""},null,null,null,null,null,null,null,null,null,null,"",""]
[null,{"$f":"IF(A3469=\"\",\"\",Notes!$B$4)","v":""},null,null,null,null,null,null,null,null,null,null,"",""]
[null,{"$f":"IF(A3472=\"\",\"\",Notes!$B$4)","v":""},null,null,null,null,null,null,null,null,null,null,"",""]
[null,{"$f":"IF(A3487=\"\",\"\",Notes!$B$4)","v":""},null,null,null,null,null,null,null,null,null,null,"",""]
[null,{"$f":"IF(A3490=\"\",\"\",Notes!$B$4)","v":""},null,null,null,null,null,null,null,null,null,null,"",""]
[null,{"$f":"IF(A3497=\"\",\"\",Notes!$B$4)","v":""},null,null,null,null,null,null,null,null,null,null,"",""]
[null,{"$f":"IF(A3511=\"\",\"\",Notes!$B$4)","v":""},null,null,null,null,null,null,null,null,null,null,"",""]
[null,{"$f":"IF(A3515=\"\",\"\",Notes!$B$4)","v":""},null,null,null,null,null,null,null,null,null,null,"",""]
[null,{"$f":"IF(A3527=\"\",\"\",Notes!$B$4)","v":""},null,null,null,null,null,null,null,null,null,null,"",""]
[null,{"$f":"IF(A3539=\"\",\"\",Notes!$B$4)","v":""},null,null,null,null,null,null,null,null,null,null,"",""]
[null,{"$f":"IF(A3542=\"\",\"\",Notes!$B$4)","v":""},null,null,null,null,null,null,null,null,null,null,"",""]
[null,{"$f":"IF(A3557=\"\",\"\",Notes!$B$4)","v":""},null,null,null,null,null,null,null,null,null,null,"",""]
[null,{"$f":"IF(A3560=\"\",\"\",Notes!$B$4)","v":""},null,null,null,null,null,null,null,null,null,null,"",""]
[null,{"$f":"IF(A3567=\"\",\"\",Notes!$B$4)","v":""},null,null,null,null,null,null,null,null,null,null,"",""]
[null,{"$f":"IF(A3581=\"\",\"\",Notes!$B$4)","v":""},null,null,null,null,null,null,null,null,null,null,"",""]
[null,{"$f":"IF(A3585=\"\",\"\",Notes!$B$4)","v":""},null,null,null,null,null,null,null,null,null,null,"",""]
[null,{"$f":"IF(A3597=\"\",\"\",Notes!$B$4)","v":""},null,null,null,null,null,null,null,null,null,null,"",""]
[null,{"$f":"IF(A3609=\"\",\"\",Notes!$B$4)","v":""},null,null,null,null,null,null,null,null,null,null,"",""]
[null,{"$f":"IF(A3612=\"\",\"\",Notes!$B$4)","v":""},null,null,null,null,null,null,null,null,null,null,"",""]
[null,{"$f":"IF(A3627=\"\",\"\",Notes!$B$4)","v":""},null,null,null,null,null,null,null,null,null,null,"",""]
[null,{"$f":"IF(A3634=\"\",\"\",Notes!$B$4)","v":""},null,null,null,null,null,null,null,null,null,null,"",""]
[null,{"$f":"IF(A3637=\"\",\"\",Notes!$B$4)","v":""},null,null,null,null,null,null,null,null,null,null,"",""]
[null,{"$f":"IF(A3651=\"\",\"\",Notes!$B$4)","v":""},null,null,null,null,null,null,null,null,null,null,"",""]
[null,{"$f":"IF(A3655=\"\",\"\",Notes!$B$4)","v":""},null,null,null,null,null,null,null,null,null,null,"",""]
[null,{"$f":"IF(A3667=\"\",\"\",Notes!$B$4)","v":""},null,null,null,null,null,null,null,null,null,null,"",""]
[null,{"$f":"IF(A3679=\"\",\"\",Notes!$B$4)","v":""},null,null,null,null,null,null,null,null,null,null,"",""]
[null,{"$f":"IF(A3682=\"\",\"\",Notes!$B$4)","v":""},null,null,null,null,null,null,null,null,null,null,"",""]
[null,{"$f":"IF(A3697=\"\",\"\",Notes!$B$4)","v":""},null,null,null,null,null,null,null,null,null,null,"",""]
[null,{"$f":"IF(A3704=\"\",\"\",Notes!$B$4)","v":""},null,null,null,null,null,null,null,null,null,null,"",""]
[null,{"$f":"IF(A3707=\"\",\"\",Notes!$B$4)","v":""},null,null,null,null,null,null,null,null,null,null,"",""]
[null,{"$f":"IF(A3721=\"\",\"\",Notes!$B$4)","v":""},null,null,null,null,null,null,null,null,null,null,"",""]
[null,{"$f":"IF(A3725=\"\",\"\",Notes!$B$4)","v":""},null,null,null,null,null,null,null,null,null,null,"",""]
[null,{"$f":"IF(A3737=\"\",\"\",Notes!$B$4)","v":""},null,null,null,null,null,null,null,null,null,null,"",""]
[null,{"$f":"IF(A3744=\"\",\"\",Notes!$B$4)","v":""},null,null,null,null,null,null,null,null,null,null,"",""]
[null,{"$f":"IF(A3752=\"\",\"\",Notes!$B$4)","v":""},null,null,null,null,null,null,null,null,null,null,"",""]
[null,{"$f":"IF(A3767=\"\",\"\",Notes!$B$4)","v":""},null,null,null,null,null,null,null,null,null,null,"",""]
[null,{"$f":"IF(A3774=\"\",\"\",Notes!$B$4)","v":""},null,null,null,null,null,null,null,null,null,null,"",""]
[null,{"$f":"IF(A3777=\"\",\"\",Notes!$B$4)","v":""},null,null,null,null,null,null,null,null,null,null,"",""]
[null,{"$f":"IF(A3791=\"\",\"\",Notes!$B$4)","v":""},null,null,null,null,null,null,null,null,null,null,"",{"$f":"M3791&A3791","v":""}]
[null,{"$f":"IF(A3795=\"\",\"\",Notes!$B$4)","v":""},null,null,null,null,null,null,null,null,null,null,"",""]
[null,{"$f":"IF(A3807=\"\",\"\",Notes!$B$4)","v":""},null,null,null,null,null,null,null,null,null,null,"",""]
[null,{"$f":"IF(A3814=\"\",\"\",Notes!$B$4)","v":""},null,null,null,null,null,null,null,null,null,null,"",""]
[null,{"$f":"IF(A3822=\"\",\"\",Notes!$B$4)","v":""},null,null,null,null,null,null,null,null,null,null,"",""]
[null,{"$f":"IF(A3837=\"\",\"\",Notes!$B$4)","v":""},null,null,null,null,null,null,null,null,null,null,"",""]
[null,{"$f":"IF(A3844=\"\",\"\",Notes!$B$4)","v":""},null,null,null,null,null,null,null,null,null,null,"",""]
[null,{"$f":"IF(A3847=\"\",\"\",Notes!$B$4)","v":""},null,null,null,null,null,null,null,null,null,null,"",""]
[null,{"$f":"IF(A3861=\"\",\"\",Notes!$B$4)","v":""},null,null,null,null,null,null,null,null,null,null,"",""]
[null,{"$f":"IF(A3865=\"\",\"\",Notes!$B$4)","v":""},null,null,null,null,null,null,null,null,null,null,"",""]
[null,{"$f":"IF(A3877=\"\",\"\",Notes!$B$4)","v":""},null,null,null,null,null,null,null,null,null,null,"",""]
[null,{"$f":"IF(A3884=\"\",\"\",Notes!$B$4)","v":""},null,null,null,null,null,null,null,null,null,null,"",""]
[null,{"$f":"IF(A3892=\"\",\"\",Notes!$B$4)","v":""},null,null,null,null,null,null,null,null,null,null,"",""]
[null,{"$f":"IF(A3907=\"\",\"\",Notes!$B$4)","v":""},null,null,null,null,null,null,null,null,null,null,"",""]
[null,{"$f":"IF(A3914=\"\",\"\",Notes!$B$4)","v":""},null,null,null,null,null,null,null,null,null,null,"",""]
[null,{"$f":"IF(A3917=\"\",\"\",Notes!$B$4)","v":""},null,null,null,null,null,null,null,null,null,null,"",""]
[null,{"$f":"IF(A3931=\"\",\"\",Notes!$B$4)","v":""},null,null,null,null,null,null,null,null,null,null,"",""]
[null,{"$f":"IF(A3935=\"\",\"\",Notes!$B$4)","v":""},null,null,null,null,null,null,null,null,null,null,"",""]
[null,{"$f":"IF(A3947=\"\",\"\",Notes!$B$4)","v":""},null,null,null,null,null,null,null,null,null,null,"",""]
[null,{"$f":"IF(A3954=\"\",\"\",Notes!$B$4)","v":""},null,null,null,null,null,null,null,null,null,null,"",""]
[null,{"$f":"IF(A3962=\"\",\"\",Notes!$B$4)","v":""},null,null,null,null,null,null,null,null,null,null,"",""]
[null,{"$f":"IF(A3977=\"\",\"\",Notes!$B$4)","v":""},null,null,null,null,null,null,null,null,null,null,"",""]
[null,{"$f":"IF(A3984=\"\",\"\",Notes!$B$4)","v":""},null,null,null,null,null,null,null,null,null,null,"",""]
[null,{"$f":"IF(A3987=\"\",\"\",Notes!$B$4)","v":""},null,null,null,null,null,null,null,null,null,null,"",""]
[null,{"$f":"IF(A4001=\"\",\"\",Notes!$B$4)","v":""},null,null,null,null,null,null,null,null,null,null,"",""]
[null,{"$f":"IF(A4005=\"\",\"\",Notes!$B$4)","v":""},null,null,null,null,null,null,null,null,null,null,"",""]
[null,{"$f":"IF(A4017=\"\",\"\",Notes!$B$4)","v":""},null,null,null,null,null,null,null,null,null,null,"",""]
[null,{"$f":"IF(A4024=\"\",\"\",Notes!$B$4)","v":""},null,null,null,null,null,null,null,null,null,null,"",""]
[null,{"$f":"IF(A4032=\"\",\"\",Notes!$B$4)","v":""},null,null,null,null,null,null,null,null,null,null,"",""]
[null,{"$f":"IF(A4047=\"\",\"\",Notes!$B$4)","v":""},null,null,null,null,null,null,null,null,null,null,"",{"$f":"M4047&A4047","v":""}]
[null,{"$f":"IF(A4054=\"\",\"\",Notes!$B$4)","v":""},null,null,null,null,null,null,null,null,null,null,"",""]
[null,{"$f":"IF(A4057=\"\",\"\",Notes!$B$4)","v":""},null,null,null,null,null,null,null,null,null,null,"",""]
[null,{"$f":"IF(A4071=\"\",\"\",Notes!$B$4)","v":""},null,null,null,null,null,null,null,null,null,null,"",""]
[null,{"$f":"IF(A4075=\"\",\"\",Notes!$B$4)","v":""},null,null,null,null,null,null,null,null,null,null,"",""]
[null,{"$f":"IF(A4087=\"\",\"\",Notes!$B$4)","v":""},null,null,null,null,null,null,null,null,null,null,"",""]
[null,{"$f":"IF(A4094=\"\",\"\",Notes!$B$4)","v":""},null,null,null,null,null,null,null,null,null,null,"",""]
[null,{"$f":"IF(A4102=\"\",\"\",Notes!$B$4)","v":""},null,null,null,null,null,null,null,null,null,null,"",""]
[null,{"$f":"IF(A4112=\"\",\"\",Notes!$B$4)","v":""},null,null,null,null,null,null,null,null,null,null,"",""]
[null,{"$f":"IF(A4124=\"\",\"\",Notes!$B$4)","v":""},null,null,null,null,null,null,null,null,null,null,"",""]
[null,{"$f":"IF(A4127=\"\",\"\",Notes!$B$4)","v":""},null,null,null,null,null,null,null,null,null,null,"",""]
[null,{"$f":"IF(A4141=\"\",\"\",Notes!$B$4)","v":""},null,null,null,null,null,null,null,null,null,null,"",""]
[null,{"$f":"IF(A4145=\"\",\"\",Notes!$B$4)","v":""},null,null,null,null,null,null,null,null,null,null,"",""]
[null,{"$f":"IF(A4157=\"\",\"\",Notes!$B$4)","v":""},null,null,null,null,null,null,null,null,null,null,"",""]
[null,{"$f":"IF(A4164=\"\",\"\",Notes!$B$4)","v":""},null,null,null,null,null,null,null,null,null,null,"",""]
[null,{"$f":"IF(A4172=\"\",\"\",Notes!$B$4)","v":""},null,null,null,null,null,null,null,null,null,null,"",""]
[null,{"$f":"IF(A4182=\"\",\"\",Notes!$B$4)","v":""},null,null,null,null,null,null,null,null,null,null,"",""]
[null,{"$f":"IF(A4194=\"\",\"\",Notes!$B$4)","v":""},null,null,null,null,null,null,null,null,null,null,"",""]
[null,{"$f":"IF(A4197=\"\",\"\",Notes!$B$4)","v":""},null,null,null,null,null,null,null,null,null,null,"",""]
[null,{"$f":"IF(A4211=\"\",\"\",Notes!$B$4)","v":""},null,null,null,null,null,null,null,null,null,null,"",""]
[null,{"$f":"IF(A4215=\"\",\"\",Notes!$B$4)","v":""},null,null,null,null,null,null,null,null,null,null,"",""]
[null,{"$f":"IF(A4231=\"\",\"\",Notes!$B$4)","v":""},null,null,null,null,null,null,null,null,null,null,"",""]
[null,{"$f":"IF(A4234=\"\",\"\",Notes!$B$4)","v":""},null,null,null,null,null,null,null,null,null,null,"",""]
[null,{"$f":"IF(A4242=\"\",\"\",Notes!$B$4)","v":""},null,null,null,null,null,null,null,null,null,null,"",""]
[null,{"$f":"IF(A4252=\"\",\"\",Notes!$B$4)","v":""},null,null,null,null,null,null,null,null,null,null,"",""]
[null,{"$f":"IF(A4264=\"\",\"\",Notes!$B$4)","v":""},null,null,null,null,null,null,null,null,null,null,"",""]
[null,{"$f":"IF(A4267=\"\",\"\",Notes!$B$4)","v":""},null,null,null,null,null,null,null,null,null,null,"",""]
[null,{"$f":"IF(A4281=\"\",\"\",Notes!$B$4)","v":""},null,null,null,null,null,null,null,null,null,null,"",""]
[null,{"$f":"IF(A4285=\"\",\"\",Notes!$B$4)","v":""},null,null,null,null,null,null,null,null,null,null,"",""]
[null,{"$f":"IF(A4301=\"\",\"\",Notes!$B$4)","v":""},null,null,null,null,null,null,null,null,null,null,"",""]
[null,{"$f":"IF(A4304=\"\",\"\",Notes!$B$4)","v":""},null,null,null,null,null,null,null,null,null,null,"",""]
[null,{"$f":"IF(A4312=\"\",\"\",Notes!$B$4)","v":""},null,null,null,null,null,null,null,null,null,null,"",""]
[null,{"$f":"IF(A4322=\"\",\"\",Notes!$B$4)","v":""},null,null,null,null,null,null,null,null,null,null,"",""]
[null,{"$f":"IF(A4334=\"\",\"\",Notes!$B$4)","v":""},null,null,null,null,null,null,null,null,null,null,"",""]
[null,{"$f":"IF(A4337=\"\",\"\",Notes!$B$4)","v":""},null,null,null,null,null,null,null,null,null,null,"",""]
[null,{"$f":"IF(A4351=\"\",\"\",Notes!$B$4)","v":""},null,null,null,null,null,null,null,null,null,null,"",""]
[null,{"$f":"IF(A4355=\"\",\"\",Notes!$B$4)","v":""},null,null,null,null,null,null,null,null,null,null,"",""]
[null,{"$f":"IF(A4371=\"\",\"\",Notes!$B$4)","v":""},null,null,null,null,null,null,null,null,null,null,"",""]
[null,{"$f":"IF(A4374=\"\",\"\",Notes!$B$4)","v":""},null,null,null,null,null,null,null,null,null,null,"",""]
[null,{"$f":"IF(A4382=\"\",\"\",Notes!$B$4)","v":""},null,null,null,null,null,null,null,null,null,null,"",""]
[null,{"$f":"IF(A4392=\"\",\"\",Notes!$B$4)","v":""},null,null,null,null,null,null,null,null,null,null,"",""]
[null,{"$f":"IF(A4404=\"\",\"\",Notes!$B$4)","v":""},null,null,null,null,null,null,null,null,null,null,"",""]
[null,{"$f":"IF(A4411=\"\",\"\",Notes!$B$4)","v":""},null,null,null,null,null,null,null,null,null,null,"",""]
[null,{"$f":"IF(A4421=\"\",\"\",Notes!$B$4)","v":""},null,null,null,null,null,null,null,null,null,null,"",""]
[null,{"$f":"IF(A4425=\"\",\"\",Notes!$B$4)","v":""},null,null,null,null,null,null,null,null,null,null,"",""]
[null,{"$f":"IF(A4441=\"\",\"\",Notes!$B$4)","v":""},null,null,null,null,null,null,null,null,null,null,"",""]
[null,{"$f":"IF(A4444=\"\",\"\",Notes!$B$4)","v":""},null,null,null,null,null,null,null,null,null,null,"",""]
[null,{"$f":"IF(A4452=\"\",\"\",Notes!$B$4)","v":""},null,null,null,null,null,null,null,null,null,null,"",""]
[null,{"$f":"IF(A4462=\"\",\"\",Notes!$B$4)","v":""},null,null,null,null,null,null,null,null,null,null,"",""]
[null,{"$f":"IF(A4474=\"\",\"\",Notes!$B$4)","v":""},null,null,null,null,null,null,null,null,null,null,"",""]
[null,{"$f":"IF(A4481=\"\",\"\",Notes!$B$4)","v":""},null,null,null,null,null,null,null,null,null,null,"",""]
[null,{"$f":"IF(A4491=\"\",\"\",Notes!$B$4)","v":""},null,null,null,null,null,null,null,null,null,null,"",""]
[null,{"$f":"IF(A4495=\"\",\"\",Notes!$B$4)","v":""},null,null,null,null,null,null,null,null,null,null,"",{"$f":"M4495&A4495","v":""}]
[null,{"$f":"IF(A4511=\"\",\"\",Notes!$B$4)","v":""},null,null,null,null,null,null,null,null,null,null,"",""]
[null,{"$f":"IF(A4514=\"\",\"\",Notes!$B$4)","v":""},null,null,null,null,null,null,null,null,null,null,"",""]
[null,{"$f":"IF(A4522=\"\",\"\",Notes!$B$4)","v":""},null,null,null,null,null,null,null,null,null,null,"",""]
[null,{"$f":"IF(A4532=\"\",\"\",Notes!$B$4)","v":""},null,null,null,null,null,null,null,null,null,null,"",""]
[null,{"$f":"IF(A4544=\"\",\"\",Notes!$B$4)","v":""},null,null,null,null,null,null,null,null,null,null,"",""]
[null,{"$f":"IF(A4551=\"\",\"\",Notes!$B$4)","v":""},null,null,null,null,null,null,null,null,null,null,"",""]
[null,{"$f":"IF(A4561=\"\",\"\",Notes!$B$4)","v":""},null,null,null,null,null,null,null,null,null,null,"",""]
[null,{"$f":"IF(A4565=\"\",\"\",Notes!$B$4)","v":""},null,null,null,null,null,null,null,null,null,null,"",""]
[null,{"$f":"IF(A4581=\"\",\"\",Notes!$B$4)","v":""},null,null,null,null,null,null,null,null,null,null,"",""]
[null,{"$f":"IF(A4584=\"\",\"\",Notes!$B$4)","v":""},null,null,null,null,null,null,null,null,null,null,"",""]
[null,{"$f":"IF(A4592=\"\",\"\",Notes!$B$4)","v":""},null,null,null,null,null,null,null,null,null,null,"",""]
[null,{"$f":"IF(A4602=\"\",\"\",Notes!$B$4)","v":""},null,null,null,null,null,null,null,null,null,null,"",""]
[null,{"$f":"IF(A4614=\"\",\"\",Notes!$B$4)","v":""},null,null,null,null,null,null,null,null,null,null,"",""]
[null,{"$f":"IF(A4621=\"\",\"\",Notes!$B$4)","v":""},null,null,null,null,null,null,null,null,null,null,"",""]
[null,{"$f":"IF(A4631=\"\",\"\",Notes!$B$4)","v":""},null,null,null,null,null,null,null,null,null,null,"",""]
[null,{"$f":"IF(A4635=\"\",\"\",Notes!$B$4)","v":""},null,null,null,null,null,null,null,null,null,null,"",""]
[null,{"$f":"IF(A4651=\"\",\"\",Notes!$B$4)","v":""},null,null,null,null,null,null,null,null,null,null,"",""]
[null,{"$f":"IF(A4654=\"\",\"\",Notes!$B$4)","v":""},null,null,null,null,null,null,null,null,null,null,"",""]
[null,{"$f":"IF(A4662=\"\",\"\",Notes!$B$4)","v":""},null,null,null,null,null,null,null,null,null,null,"",""]
[null,{"$f":"IF(A4672=\"\",\"\",Notes!$B$4)","v":""},null,null,null,null,null,null,null,null,null,null,"",""]
[null,{"$f":"IF(A4684=\"\",\"\",Notes!$B$4)","v":""},null,null,null,null,null,null,null,null,null,null,"",""]
[null,{"$f":"IF(A4691=\"\",\"\",Notes!$B$4)","v":""},null,null,null,null,null,null,null,null,null,null,"",""]
[null,{"$f":"IF(A4701=\"\",\"\",Notes!$B$4)","v":""},null,null,null,null,null,null,null,null,null,null,"",""]
[null,{"$f":"IF(A4709=\"\",\"\",Notes!$B$4)","v":""},null,null,null,null,null,null,null,null,null,null,"",""]
[null,{"$f":"IF(A4721=\"\",\"\",Notes!$B$4)","v":""},null,null,null,null,null,null,null,null,null,null,"",""]
[null,{"$f":"IF(A4724=\"\",\"\",Notes!$B$4)","v":""},null,null,null,null,null,null,null,null,null,null,"",""]
[null,{"$f":"IF(A4732=\"\",\"\",Notes!$B$4)","v":""},null,null,null,null,null,null,null,null,null,null,"",""]
[null,{"$f":"IF(A4742=\"\",\"\",Notes!$B$4)","v":""},null,null,null,null,null,null,null,null,null,null,"",""]
[null,{"$f":"IF(A4754=\"\",\"\",Notes!$B$4)","v":""},null,null,null,null,null,null,null,null,null,null,"",""]
[null,{"$f":"IF(A4761=\"\",\"\",Notes!$B$4)","v":""},null,null,null,null,null,null,null,null,null,null,"",""]
[null,{"$f":"IF(A4771=\"\",\"\",Notes!$B$4)","v":""},null,null,null,null,null,null,null,null,null,null,"",""]
[null,{"$f":"IF(A4779=\"\",\"\",Notes!$B$4)","v":""},null,null,null,null,null,null,null,null,null,null,"",""]
[null,{"$f":"IF(A4791=\"\",\"\",Notes!$B$4)","v":""},null,null,null,null,null,null,null,null,null,null,"",""]
[null,{"$f":"IF(A4794=\"\",\"\",Notes!$B$4)","v":""},null,null,null,null,null,null,null,null,null,null,"",""]
[null,{"$f":"IF(A4802=\"\",\"\",Notes!$B$4)","v":""},null,null,null,null,null,null,null,null,null,null,{"$f":"IF(A4802=\"\",\"\",VLOOKUP(B4802,SchoolID,2,FALSE))","v":""},""]
[null,{"$f":"IF(A4812=\"\",\"\",Notes!$B$4)","v":""},null,null,null,null,null,null,null,null,null,null,"",""]
[null,{"$f":"IF(A4824=\"\",\"\",Notes!$B$4)","v":""},null,null,null,null,null,null,null,null,null,null,"",""]
[null,{"$f":"IF(A4831=\"\",\"\",Notes!$B$4)","v":""},null,null,null,null,null,null,null,null,null,null,"",""]
[null,{"$f":"IF(A4841=\"\",\"\",Notes!$B$4)","v":""},null,null,null,null,null,null,null,null,null,null,"",""]
[null,{"$f":"IF(A4849=\"\",\"\",Notes!$B$4)","v":""},null,null,null,null,null,null,null,null,null,null,"",""]
[null,{"$f":"IF(A4861=\"\",\"\",Notes!$B$4)","v":""},null,null,null,null,null,null,null,null,null,null,"",""]
[null,{"$f":"IF(A4864=\"\",\"\",Notes!$B$4)","v":""},null,null,null,null,null,null,null,null,null,null,"",""]
[null,{"$f":"IF(A4872=\"\",\"\",Notes!$B$4)","v":""},null,null,null,null,null,null,null,null,null,null,"",""]
[null,{"$f":"IF(A4882=\"\",\"\",Notes!$B$4)","v":""},null,null,null,null,null,null,null,null,null,null,"",""]
[null,{"$f":"IF(A4889=\"\",\"\",Notes!$B$4)","v":""},null,null,null,null,null,null,null,null,null,null,"",""]
[null,{"$f":"IF(A4901=\"\",\"\",Notes!$B$4)","v":""},null,null,null,null,null,null,null,null,null,null,"",""]
[null,{"$f":"IF(A4911=\"\",\"\",Notes!$B$4)","v":""},null,null,null,null,null,null,null,null,null,null,"",""]
[null,{"$f":"IF(A4919=\"\",\"\",Notes!$B$4)","v":""},null,null,null,null,null,null,null,null,null,null,"",""]
[null,{"$f":"IF(A4931=\"\",\"\",Notes!$B$4)","v":""},null,null,null,null,null,null,null,null,null,null,"",""]
[null,{"$f":"IF(A4934=\"\",\"\",Notes!$B$4)","v":""},null,null,null,null,null,null,null,null,null,null,"",""]
[null,{"$f":"IF(A4942=\"\",\"\",Notes!$B$4)","v":""},null,null,null,null,null,null,null,null,null,null,"",""]
[null,{"$f":"IF(A4952=\"\",\"\",Notes!$B$4)","v":""},null,null,null,null,null,null,null,null,null,null,"",""]
[null,{"$f":"IF(A4959=\"\",\"\",Notes!$B$4)","v":""},null,null,null,null,null,null,null,null,null,null,"",""]
[null,{"$f":"IF(A4971=\"\",\"\",Notes!$B$4)","v":""},null,null,null,null,null,null,null,null,null,null,"",""]
[null,{"$f":"IF(A4981=\"\",\"\",Notes!$B$4)","v":""},null,null,null,null,null,null,null,null,null,null,"",""]
[null,{"$f":"IF(A4989=\"\",\"\",Notes!$B$4)","v":""},null,null,null,null,null,null,null,null,null,null,"",""]
[null,{"$f":"IF(A5001=\"\",\"\",Notes!$B$4)","v":""},null,null,null,null,null,null,null,null,null,null,"",""]
[null,{"$f":"IF(A5008=\"\",\"\",Notes!$B$4)","v":""},null,null,null,null,null,null,null,null,null,null,"",""]
[null,{"$f":"IF(A5012=\"\",\"\",Notes!$B$4)","v":""},null,null,null,null,null,null,null,null,null,null,"",""]
[null,{"$f":"IF(A5022=\"\",\"\",Notes!$B$4)","v":""},null,null,null,null,null,null,null,null,null,null,"",""]
[null,{"$f":"IF(A5029=\"\",\"\",Notes!$B$4)","v":""},null,null,null,null,null,null,null,null,null,null,"",""]
[null,{"$f":"IF(A5041=\"\",\"\",Notes!$B$4)","v":""},null,null,null,null,null,null,null,null,null,null,"",""]
[null,{"$f":"IF(A5051=\"\",\"\",Notes!$B$4)","v":""},null,null,null,null,null,null,null,null,null,null,"",""]
[null,{"$f":"IF(A5059=\"\",\"\",Notes!$B$4)","v":""},null,null,null,null,null,null,null,null,null,null,"",""]
[null,{"$f":"IF(A5071=\"\",\"\",Notes!$B$4)","v":""},null,null,null,null,null,null,null,null,null,null,"",{"$f":"M5071&A5071","v":""}]
[null,{"$f":"IF(A5078=\"\",\"\",Notes!$B$4)","v":""},null,null,null,null,null,null,null,null,null,null,"",""]
[null,{"$f":"IF(A5082=\"\",\"\",Notes!$B$4)","v":""},null,null,null,null,null,null,null,null,null,null,"",""]
[null,{"$f":"IF(A5092=\"\",\"\",Notes!$B$4)","v":""},null,null,null,null,null,null,null,null,null,null,"",""]
[null,{"$f":"IF(A5099=\"\",\"\",Notes!$B$4)","v":""},null,null,null,null,null,null,null,null,null,null,"",""]
[null,{"$f":"IF(A5111=\"\",\"\",Notes!$B$4)","v":""},null,null,null,null,null,null,null,null,null,null,"",""]
[null,{"$f":"IF(A5121=\"\",\"\",Notes!$B$4)","v":""},null,null,null,null,null,null,null,null,null,null,"",""]
[null,{"$f":"IF(A5129=\"\",\"\",Notes!$B$4)","v":""},null,null,null,null,null,null,null,null,null,null,"",""]
[null,{"$f":"IF(A5141=\"\",\"\",Notes!$B$4)","v":""},null,null,null,null,null,null,null,null,null,null,"",""]
[null,{"$f":"IF(A5148=\"\",\"\",Notes!$B$4)","v":""},null,null,null,null,null,null,null,null,null,null,"",""]
[null,{"$f":"IF(A5152=\"\",\"\",Notes!$B$4)","v":""},null,null,null,null,null,null,null,null,null,null,"",""]
[null,{"$f":"IF(A5162=\"\",\"\",Notes!$B$4)","v":""},null,null,null,null,null,null,null,null,null,null,"",""]
[null,{"$f":"IF(A5169=\"\",\"\",Notes!$B$4)","v":""},null,null,null,null,null,null,null,null,null,null,"",""]
[null,{"$f":"IF(A5181=\"\",\"\",Notes!$B$4)","v":""},null,null,null,null,null,null,null,null,null,null,"",""]
[null,{"$f":"IF(A5191=\"\",\"\",Notes!$B$4)","v":""},null,null,null,null,null,null,null,null,null,null,"",""]
[null,{"$f":"IF(A5199=\"\",\"\",Notes!$B$4)","v":""},null,null,null,null,null,null,null,null,null,null,"",{"$f":"M5199&A5199","v":""}]
[null,{"$f":"IF(A5211=\"\",\"\",Notes!$B$4)","v":""},null,null,null,null,null,null,null,null,null,null,"",""]
[null,{"$f":"IF(A5218=\"\",\"\",Notes!$B$4)","v":""},null,null,null,null,null,null,null,null,null,null,"",""]
[null,{"$f":"IF(A5222=\"\",\"\",Notes!$B$4)","v":""},null,null,null,null,null,null,null,null,null,null,"",""]
[null,{"$f":"IF(A5232=\"\",\"\",Notes!$B$4)","v":""},null,null,null,null,null,null,null,null,null,null,"",""]
[null,{"$f":"IF(A5239=\"\",\"\",Notes!$B$4)","v":""},null,null,null,null,null,null,null,null,null,null,"",""]
[null,{"$f":"IF(A5251=\"\",\"\",Notes!$B$4)","v":""},null,null,null,null,null,null,null,null,null,null,"",""]
[null,{"$f":"IF(A5261=\"\",\"\",Notes!$B$4)","v":""},null,null,null,null,null,null,null,null,null,null,"",""]
[null,{"$f":"IF(A5269=\"\",\"\",Notes!$B$4)","v":""},null,null,null,null,null,null,null,null,null,null,"",""]
[null,{"$f":"IF(A5281=\"\",\"\",Notes!$B$4)","v":""},null,null,null,null,null,null,null,null,null,null,"",""]
[null,{"$f":"IF(A5288=\"\",\"\",Notes!$B$4)","v":""},null,null,null,null,null,null,null,null,null,null,"",""]
[null,{"$f":"IF(A5292=\"\",\"\",Notes!$B$4)","v":""},null,null,null,null,null,null,null,null,null,null,"",""]
[null,{"$f":"IF(A5306=\"\",\"\",Notes!$B$4)","v":""},null,null,null,null,null,null,null,null,null,null,"",""]
[null,{"$f":"IF(A5309=\"\",\"\",Notes!$B$4)","v":""},null,null,null,null,null,null,null,null,null,null,"",""]
[null,{"$f":"IF(A5321=\"\",\"\",Notes!$B$4)","v":""},null,null,null,null,null,null,null,null,null,null,"",""]
[null,{"$f":"IF(A5331=\"\",\"\",Notes!$B$4)","v":""},null,null,null,null,null,null,null,null,null,null,"",""]
[null,{"$f":"IF(A5339=\"\",\"\",Notes!$B$4)","v":""},null,null,null,null,null,null,null,null,null,null,"",""]
[null,{"$f":"IF(A5351=\"\",\"\",Notes!$B$4)","v":""},null,null,null,null,null,null,null,null,null,null,"",""]
[null,{"$f":"IF(A5358=\"\",\"\",Notes!$B$4)","v":""},null,null,null,null,null,null,null,null,null,null,"",""]
[null,{"$f":"IF(A5362=\"\",\"\",Notes!$B$4)","v":""},null,null,null,null,null,null,null,null,null,null,"",""]
[null,{"$f":"IF(A5376=\"\",\"\",Notes!$B$4)","v":""},null,null,null,null,null,null,null,null,null,null,"",""]
[null,{"$f":"IF(A5379=\"\",\"\",Notes!$B$4)","v":""},null,null,null,null,null,null,null,null,null,null,"",""]
[null,{"$f":"IF(A5391=\"\",\"\",Notes!$B$4)","v":""},null,null,null,null,null,null,null,null,null,null,"",{"$f":"M5391&A5391","v":""}]
[null,{"$f":"IF(A5401=\"\",\"\",Notes!$B$4)","v":""},null,null,null,null,null,null,null,null,null,null,"",""]
[null,{"$f":"IF(A5409=\"\",\"\",Notes!$B$4)","v":""},null,null,null,null,null,null,null,null,null,null,"",""]
[null,{"$f":"IF(A5421=\"\",\"\",Notes!$B$4)","v":""},null,null,null,null,null,null,null,null,null,null,"",""]
[null,{"$f":"IF(A5428=\"\",\"\",Notes!$B$4)","v":""},null,null,null,null,null,null,null,null,null,null,"",""]
[null,{"$f":"IF(A5432=\"\",\"\",Notes!$B$4)","v":""},null,null,null,null,null,null,null,null,null,null,"",""]
[null,{"$f":"IF(A5446=\"\",\"\",Notes!$B$4)","v":""},null,null,null,null,null,null,null,null,null,null,"",""]
[null,{"$f":"IF(A5449=\"\",\"\",Notes!$B$4)","v":""},null,null,null,null,null,null,null,null,null,null,"",""]
[null,{"$f":"IF(A5461=\"\",\"\",Notes!$B$4)","v":""},null,null,null,null,null,null,null,null,null,null,"",""]
[null,{"$f":"IF(A5471=\"\",\"\",Notes!$B$4)","v":""},null,null,null,null,null,null,null,null,null,null,"",""]
[null,{"$f":"IF(A5479=\"\",\"\",Notes!$B$4)","v":""},null,null,null,null,null,null,null,null,null,null,"",""]
[null,{"$f":"IF(A5486=\"\",\"\",Notes!$B$4)","v":""},null,null,null,null,null,null,null,null,null,null,"",""]
[null,{"$f":"IF(A5498=\"\",\"\",Notes!$B$4)","v":""},null,null,null,null,null,null,null,null,null,null,"",""]
[null,{"$f":"IF(A5502=\"\",\"\",Notes!$B$4)","v":""},null,null,null,null,null,null,null,null,null,null,"",""]
[null,{"$f":"IF(A5516=\"\",\"\",Notes!$B$4)","v":""},null,null,null,null,null,null,null,null,null,null,"",""]
[null,{"$f":"IF(A5519=\"\",\"\",Notes!$B$4)","v":""},null,null,null,null,null,null,null,null,null,null,"",{"$f":"M5519&A5519","v":""}]
[null,{"$f":"IF(A5531=\"\",\"\",Notes!$B$4)","v":""},null,null,null,null,null,null,null,null,null,null,"",""]
[null,{"$f":"IF(A5541=\"\",\"\",Notes!$B$4)","v":""},null,null,null,null,null,null,null,null,null,null,"",""]
[null,{"$f":"IF(A5549=\"\",\"\",Notes!$B$4)","v":""},null,null,null,null,null,null,null,null,null,null,"",""]
[null,{"$f":"IF(A5556=\"\",\"\",Notes!$B$4)","v":""},null,null,null,null,null,null,null,null,null,null,"",""]
[null,{"$f":"IF(A5568=\"\",\"\",Notes!$B$4)","v":""},null,null,null,null,null,null,null,null,null,null,"",""]
[null,{"$f":"IF(A5572=\"\",\"\",Notes!$B$4)","v":""},null,null,null,null,null,null,null,null,null,null,"",""]
[null,{"$f":"IF(A5586=\"\",\"\",Notes!$B$4)","v":""},null,null,null,null,null,null,null,null,null,null,"",""]
[null,{"$f":"IF(A5589=\"\",\"\",Notes!$B$4)","v":""},null,null,null,null,null,null,null,null,null,null,"",""]
[null,{"$f":"IF(A5601=\"\",\"\",Notes!$B$4)","v":""},null,null,null,null,null,null,null,null,null,null,"",""]
[null,{"$f":"IF(A5611=\"\",\"\",Notes!$B$4)","v":""},null,null,null,null,null,null,null,null,null,null,"",""]
[null,{"$f":"IF(A5619=\"\",\"\",Notes!$B$4)","v":""},null,null,null,null,null,null,null,null,null,null,"",""]
[null,{"$f":"IF(A5626=\"\",\"\",Notes!$B$4)","v":""},null,null,null,null,null,null,null,null,null,null,"",""]
[null,{"$f":"IF(A5638=\"\",\"\",Notes!$B$4)","v":""},null,null,null,null,null,null,null,null,null,null,"",""]
[null,{"$f":"IF(A5642=\"\",\"\",Notes!$B$4)","v":""},null,null,null,null,null,null,null,null,null,null,"",""]
[null,{"$f":"IF(A5656=\"\",\"\",Notes!$B$4)","v":""},null,null,null,null,null,null,null,null,null,null,"",""]
[null,{"$f":"IF(A5659=\"\",\"\",Notes!$B$4)","v":""},null,null,null,null,null,null,null,null,null,null,"",""]
[null,{"$f":"IF(A5675=\"\",\"\",Notes!$B$4)","v":""},null,null,null,null,null,null,null,null,null,null,"",""]
[null,{"$f":"IF(A5681=\"\",\"\",Notes!$B$4)","v":""},null,null,null,null,null,null,null,null,null,null,"",""]
[null,{"$f":"IF(A5689=\"\",\"\",Notes!$B$4)","v":""},null,null,null,null,null,null,null,null,null,null,"",""]
[null,{"$f":"IF(A5696=\"\",\"\",Notes!$B$4)","v":""},null,null,null,null,null,null,null,null,null,null,"",""]
[null,{"$f":"IF(A5708=\"\",\"\",Notes!$B$4)","v":""},null,null,null,null,null,null,null,null,null,null,"",""]
[null,{"$f":"IF(A5712=\"\",\"\",Notes!$B$4)","v":""},null,null,null,null,null,null,null,null,null,null,"",""]
[null,{"$f":"IF(A5726=\"\",\"\",Notes!$B$4)","v":""},null,null,null,null,null,null,null,null,null,null,"",""]
[null,{"$f":"IF(A5729=\"\",\"\",Notes!$B$4)","v":""},null,null,null,null,null,null,null,null,null,null,"",""]
[null,{"$f":"IF(A5745=\"\",\"\",Notes!$B$4)","v":""},null,null,null,null,null,null,null,null,null,null,"",""]
[null,{"$f":"IF(A5751=\"\",\"\",Notes!$B$4)","v":""},null,null,null,null,null,null,null,null,null,null,"",""]
[null,{"$f":"IF(A5759=\"\",\"\",Notes!$B$4)","v":""},null,null,null,null,null,null,null,null,null,null,"",""]
[null,{"$f":"IF(A5766=\"\",\"\",Notes!$B$4)","v":""},null,null,null,null,null,null,null,null,null,null,"",""]
[null,{"$f":"IF(A5778=\"\",\"\",Notes!$B$4)","v":""},null,null,null,null,null,null,null,null,null,null,"",""]
[null,{"$f":"IF(A5782=\"\",\"\",Notes!$B$4)","v":""},null,null,null,null,null,null,null,null,null,null,"",""]
[null,{"$f":"IF(A5796=\"\",\"\",Notes!$B$4)","v":""},null,null,null,null,null,null,null,null,null,null,"",""]
[null,{"$f":"IF(A5799=\"\",\"\",Notes!$B$4)","v":""},null,null,null,null,null,null,null,null,null,null,"",""]
[null,{"$f":"IF(A5815=\"\",\"\",Notes!$B$4)","v":""},null,null,null,null,null,null,null,null,null,null,"",""]
[null,{"$f":"IF(A5821=\"\",\"\",Notes!$B$4)","v":""},null,null,null,null,null,null,null,null,null,null,"",""]
[null,{"$f":"IF(A5829=\"\",\"\",Notes!$B$4)","v":""},null,null,null,null,null,null,null,null,null,null,"",""]
[null,{"$f":"IF(A5836=\"\",\"\",Notes!$B$4)","v":""},null,null,null,null,null,null,null,null,null,null,"",""]
[null,{"$f":"IF(A5848=\"\",\"\",Notes!$B$4)","v":""},null,null,null,null,null,null,null,null,null,null,"",""]
[null,{"$f":"IF(A5852=\"\",\"\",Notes!$B$4)","v":""},null,null,null,null,null,null,null,null,null,null,"",""]
[null,{"$f":"IF(A5866=\"\",\"\",Notes!$B$4)","v":""},null,null,null,null,null,null,null,null,null,null,"",""]
[null,{"$f":"IF(A5869=\"\",\"\",Notes!$B$4)","v":""},null,null,null,null,null,null,null,null,null,null,"",""]
[null,{"$f":"IF(A5885=\"\",\"\",Notes!$B$4)","v":""},null,null,null,null,null,null,null,null,null,null,"",""]
[null,{"$f":"IF(A5891=\"\",\"\",Notes!$B$4)","v":""},null,null,null,null,null,null,null,null,null,null,"",""]
[null,{"$f":"IF(A5899=\"\",\"\",Notes!$B$4)","v":""},null,null,null,null,null,null,null,null,null,null,"",""]
[null,{"$f":"IF(A5906=\"\",\"\",Notes!$B$4)","v":""},null,null,null,null,null,null,null,null,null,null,"",""]
[null,{"$f":"IF(A5918=\"\",\"\",Notes!$B$4)","v":""},null,null,null,null,null,null,null,null,null,null,"",""]
[null,{"$f":"IF(A5922=\"\",\"\",Notes!$B$4)","v":""},null,null,null,null,null,null,null,null,null,null,"",""]
[null,{"$f":"IF(A5936=\"\",\"\",Notes!$B$4)","v":""},null,null,null,null,null,null,null,null,null,null,"",""]
[null,{"$f":"IF(A5939=\"\",\"\",Notes!$B$4)","v":""},null,null,null,null,null,null,null,null,null,null,"",""]
[null,{"$f":"IF(A5955=\"\",\"\",Notes!$B$4)","v":""},null,null,null,null,null,null,null,null,null,null,"",""]
[null,{"$f":"IF(A5961=\"\",\"\",Notes!$B$4)","v":""},null,null,null,null,null,null,null,null,null,null,"",""]
[null,{"$f":"IF(A5964=\"\",\"\",Notes!$B$4)","v":""},null,null,null,null,null,null,null,null,null,null,"",""]
[null,{"$f":"IF(A5976=\"\",\"\",Notes!$B$4)","v":""},null,null,null,null,null,null,null,null,null,null,"",""]
[null,{"$f":"IF(A5988=\"\",\"\",Notes!$B$4)","v":""},null,null,null,null,null,null,null,null,null,null,"",""]
[null,{"$f":"IF(A5992=\"\",\"\",Notes!$B$4)","v":""},null,null,null,null,null,null,null,null,null,null,"",""]
[null,{"$f":"IF(A6006=\"\",\"\",Notes!$B$4)","v":""},null,null,null,null,null,null,null,null,null,null,"",""]
[null,{"$f":"IF(A6009=\"\",\"\",Notes!$B$4)","v":""},null,null,null,null,null,null,null,null,null,null,"",""]
[null,{"$f":"IF(A6025=\"\",\"\",Notes!$B$4)","v":""},null,null,null,null,null,null,null,null,null,null,"",""]
[null,{"$f":"IF(A6031=\"\",\"\",Notes!$B$4)","v":""},null,null,null,null,null,null,null,null,null,null,"",{"$f":"M6031&A6031","v":""}]
[null,{"$f":"IF(A6034=\"\",\"\",Notes!$B$4)","v":""},null,null,null,null,null,null,null,null,null,null,"",""]
[null,{"$f":"IF(A6046=\"\",\"\",Notes!$B$4)","v":""},null,null,null,null,null,null,null,null,null,null,"",""]
[null,{"$f":"IF(A6058=\"\",\"\",Notes!$B$4)","v":""},null,null,null,null,null,null,null,null,null,null,"",""]
[null,{"$f":"IF(A6062=\"\",\"\",Notes!$B$4)","v":""},null,null,null,null,null,null,null,null,null,null,"",""]
[null,{"$f":"IF(A6076=\"\",\"\",Notes!$B$4)","v":""},null,null,null,null,null,null,null,null,null,null,"",""]
[null,{"$f":"IF(A6079=\"\",\"\",Notes!$B$4)","v":""},null,null,null,null,null,null,null,null,null,null,"",""]
[null,{"$f":"IF(A6095=\"\",\"\",Notes!$B$4)","v":""},null,null,null,null,null,null,null,null,null,null,"",{"$f":"M6095&A6095","v":""}]
[null,{"$f":"IF(A6101=\"\",\"\",Notes!$B$4)","v":""},null,null,null,null,null,null,null,null,null,null,"",""]
[null,{"$f":"IF(A6104=\"\",\"\",Notes!$B$4)","v":""},null,null,null,null,null,null,null,null,null,null,"",""]
[null,{"$f":"IF(A6116=\"\",\"\",Notes!$B$4)","v":""},null,null,null,null,null,null,null,null,null,null,"",""]
[null,{"$f":"IF(A6128=\"\",\"\",Notes!$B$4)","v":""},null,null,null,null,null,null,null,null,null,null,"",""]
[null,{"$f":"IF(A6132=\"\",\"\",Notes!$B$4)","v":""},null,null,null,null,null,null,null,null,null,null,"",""]
[null,{"$f":"IF(A6146=\"\",\"\",Notes!$B$4)","v":""},null,null,null,null,null,null,null,null,null,null,{"$f":"IF(A6146=\"\",\"\",VLOOKUP(B6146,SchoolID,2,FALSE))","v":""},""]
[null,{"$f":"IF(A6153=\"\",\"\",Notes!$B$4)","v":""},null,null,null,null,null,null,null,null,null,null,"",""]
[null,{"$f":"IF(A6165=\"\",\"\",Notes!$B$4)","v":""},null,null,null,null,null,null,null,null,null,null,"",""]
[null,{"$f":"IF(A6171=\"\",\"\",Notes!$B$4)","v":""},null,null,null,null,null,null,null,null,null,null,"",""]
[null,{"$f":"IF(A6174=\"\",\"\",Notes!$B$4)","v":""},null,null,null,null,null,null,null,null,null,null,"",""]
[null,{"$f":"IF(A6186=\"\",\"\",Notes!$B$4)","v":""},null,null,null,null,null,null,null,null,null,null,"",""]
[null,{"$f":"IF(A6198=\"\",\"\",Notes!$B$4)","v":""},null,null,null,null,null,null,null,null,null,null,"",""]
[null,{"$f":"IF(A6202=\"\",\"\",Notes!$B$4)","v":""},null,null,null,null,null,null,null,null,null,null,"",""]
[null,{"$f":"IF(A6216=\"\",\"\",Notes!$B$4)","v":""},null,null,null,null,null,null,null,null,null,null,"",""]
[null,{"$f":"IF(A6223=\"\",\"\",Notes!$B$4)","v":""},null,null,null,null,null,null,null,null,null,null,"",{"$f":"M6223&A6223","v":""}]
[null,{"$f":"IF(A6235=\"\",\"\",Notes!$B$4)","v":""},null,null,null,null,null,null,null,null,null,null,"",""]
[null,{"$f":"IF(A6241=\"\",\"\",Notes!$B$4)","v":""},null,null,null,null,null,null,null,null,null,null,"",""]
[null,{"$f":"IF(A6244=\"\",\"\",Notes!$B$4)","v":""},null,null,null,null,null,null,null,null,null,null,"",""]
[null,{"$f":"IF(A6256=\"\",\"\",Notes!$B$4)","v":""},null,null,null,null,null,null,null,null,null,null,"",""]
[null,{"$f":"IF(A6263=\"\",\"\",Notes!$B$4)","v":""},null,null,null,null,null,null,null,null,null,null,"",""]
[null,{"$f":"IF(A6272=\"\",\"\",Notes!$B$4)","v":""},null,null,null,null,null,null,null,null,null,null,"",""]
[null,{"$f":"IF(A6286=\"\",\"\",Notes!$B$4)","v":""},null,null,null,null,null,null,null,null,null,null,"",""]
[null,{"$f":"IF(A6293=\"\",\"\",Notes!$B$4)","v":""},null,null,null,null,null,null,null,null,null,null,"",""]
[null,{"$f":"IF(A6305=\"\",\"\",Notes!$B$4)","v":""},null,null,null,null,null,null,null,null,null,null,"",""]
[null,{"$f":"IF(A6311=\"\",\"\",Notes!$B$4)","v":""},null,null,null,null,null,null,null,null,null,null,"",""]
[null,{"$f":"IF(A6314=\"\",\"\",Notes!$B$4)","v":""},null,null,null,null,null,null,null,null,null,null,"",""]
[null,{"$f":"IF(A6326=\"\",\"\",Notes!$B$4)","v":""},null,null,null,null,null,null,null,null,null,null,"",""]
[null,{"$f":"IF(A6333=\"\",\"\",Notes!$B$4)","v":""},null,null,null,null,null,null,null,null,null,null,"",""]
[null,{"$f":"IF(A6342=\"\",\"\",Notes!$B$4)","v":""},null,null,null,null,null,null,null,null,null,null,"",""]
[null,{"$f":"IF(A6356=\"\",\"\",Notes!$B$4)","v":""},null,null,null,null,null,null,null,null,null,null,"",""]
[null,{"$f":"IF(A6363=\"\",\"\",Notes!$B$4)","v":""},null,null,null,null,null,null,null,null,null,null,"",""]
[null,{"$f":"IF(A6375=\"\",\"\",Notes!$B$4)","v":""},null,null,null,null,null,null,null,null,null,null,"",""]
[null,{"$f":"IF(A6381=\"\",\"\",Notes!$B$4)","v":""},null,null,null,null,null,null,null,null,null,null,"",""]
[null,{"$f":"IF(A6384=\"\",\"\",Notes!$B$4)","v":""},null,null,null,null,null,null,null,null,null,null,"",""]
[null,{"$f":"IF(A6396=\"\",\"\",Notes!$B$4)","v":""},null,null,null,null,null,null,null,null,null,null,"",""]
[null,{"$f":"IF(A6403=\"\",\"\",Notes!$B$4)","v":""},null,null,null,null,null,null,null,null,null,null,"",""]
[null,{"$f":"IF(A6412=\"\",\"\",Notes!$B$4)","v":""},null,null,null,null,null,null,null,null,null,null,"",""]
[null,{"$f":"IF(A6426=\"\",\"\",Notes!$B$4)","v":""},null,null,null,null,null,null,null,null,null,null,"",""]
[null,{"$f":"IF(A6433=\"\",\"\",Notes!$B$4)","v":""},null,null,null,null,null,null,null,null,null,null,"",""]
[null,{"$f":"IF(A6445=\"\",\"\",Notes!$B$4)","v":""},null,null,null,null,null,null,null,null,null,null,"",""]
[null,{"$f":"IF(A6451=\"\",\"\",Notes!$B$4)","v":""},null,null,null,null,null,null,null,null,null,null,"",""]
[null,{"$f":"IF(A6454=\"\",\"\",Notes!$B$4)","v":""},null,null,null,null,null,null,null,null,null,null,"",""]
[null,{"$f":"IF(A6466=\"\",\"\",Notes!$B$4)","v":""},null,null,null,null,null,null,null,null,null,null,{"$f":"IF(A6466=\"\",\"\",VLOOKUP(B6466,SchoolID,2,FALSE))","v":""},""]
[null,{"$f":"IF(A6473=\"\",\"\",Notes!$B$4)","v":""},null,null,null,null,null,null,null,null,null,null,"",""]
[null,{"$f":"IF(A6482=\"\",\"\",Notes!$B$4)","v":""},null,null,null,null,null,null,null,null,null,null,"",""]
[null,{"$f":"IF(A6496=\"\",\"\",Notes!$B$4)","v":""},null,null,null,null,null,null,null,null,null,null,"",""]
[null,{"$f":"IF(A6503=\"\",\"\",Notes!$B$4)","v":""},null,null,null,null,null,null,null,null,null,null,"",""]
[null,{"$f":"IF(A6515=\"\",\"\",Notes!$B$4)","v":""},null,null,null,null,null,null,null,null,null,null,"",""]
[null,{"$f":"IF(A6521=\"\",\"\",Notes!$B$4)","v":""},null,null,null,null,null,null,null,null,null,null,"",""]
[null,{"$f":"IF(A6524=\"\",\"\",Notes!$B$4)","v":""},null,null,null,null,null,null,null,null,null,null,"",""]
[null,{"$f":"IF(A6536=\"\",\"\",Notes!$B$4)","v":""},null,null,null,null,null,null,null,null,null,null,"",""]
[null,{"$f":"IF(A6543=\"\",\"\",Notes!$B$4)","v":""},null,null,null,null,null,null,null,null,null,null,"",{"$f":"M6543&A6543","v":""}]
[null,{"$f":"IF(A6552=\"\",\"\",Notes!$B$4)","v":""},null,null,null,null,null,null,null,null,null,null,"",""]
[null,{"$f":"IF(A6561=\"\",\"\",Notes!$B$4)","v":""},null,null,null,null,null,null,null,null,null,null,"",""]
[null,{"$f":"IF(A6573=\"\",\"\",Notes!$B$4)","v":""},null,null,null,null,null,null,null,null,null,null,"",""]
[null,{"$f":"IF(A6585=\"\",\"\",Notes!$B$4)","v":""},null,null,null,null,null,null,null,null,null,null,"",""]
[null,{"$f":"IF(A6591=\"\",\"\",Notes!$B$4)","v":""},null,null,null,null,null,null,null,null,null,null,"",""]
[null,{"$f":"IF(A6594=\"\",\"\",Notes!$B$4)","v":""},null,null,null,null,null,null,null,null,null,null,{"$f":"IF(A6594=\"\",\"\",VLOOKUP(B6594,SchoolID,2,FALSE))","v":""},""]
[null,{"$f":"IF(A6606=\"\",\"\",Notes!$B$4)","v":""},null,null,null,null,null,null,null,null,null,null,"",""]
[null,{"$f":"IF(A6613=\"\",\"\",Notes!$B$4)","v":""},null,null,null,null,null,null,null,null,null,null,"",""]
[null,{"$f":"IF(A6622=\"\",\"\",Notes!$B$4)","v":""},null,null,null,null,null,null,null,null,null,null,"",""]
[null,{"$f":"IF(A6631=\"\",\"\",Notes!$B$4)","v":""},null,null,null,null,null,null,null,null,null,null,"",""]
[null,{"$f":"IF(A6643=\"\",\"\",Notes!$B$4)","v":""},null,null,null,null,null,null,null,null,null,null,"",""]
[null,{"$f":"IF(A6655=\"\",\"\",Notes!$B$4)","v":""},null,null,null,null,null,null,null,null,null,null,"",""]
[null,{"$f":"IF(A6661=\"\",\"\",Notes!$B$4)","v":""},null,null,null,null,null,null,null,null,null,null,"",""]
[null,{"$f":"IF(A6664=\"\",\"\",Notes!$B$4)","v":""},null,null,null,null,null,null,null,null,null,null,"",""]
[null,{"$f":"IF(A6676=\"\",\"\",Notes!$B$4)","v":""},null,null,null,null,null,null,null,null,null,null,"",""]
[null,{"$f":"IF(A6683=\"\",\"\",Notes!$B$4)","v":""},null,null,null,null,null,null,null,null,null,null,"",""]
[null,{"$f":"IF(A6692=\"\",\"\",Notes!$B$4)","v":""},null,null,null,null,null,null,null,null,null,null,"",""]
[null,{"$f":"IF(A6701=\"\",\"\",Notes!$B$4)","v":""},null,null,null,null,null,null,null,null,null,null,"",""]
[null,{"$f":"IF(A6713=\"\",\"\",Notes!$B$4)","v":""},null,null,null,null,null,null,null,null,null,null,"",""]
[null,{"$f":"IF(A6725=\"\",\"\",Notes!$B$4)","v":""},null,null,null,null,null,null,null,null,null,null,"",""]
[null,{"$f":"IF(A6731=\"\",\"\",Notes!$B$4)","v":""},null,null,null,null,null,null,null,null,null,null,"",""]
[null,{"$f":"IF(A6734=\"\",\"\",Notes!$B$4)","v":""},null,null,null,null,null,null,null,null,null,null,"",""]
[null,{"$f":"IF(A6750=\"\",\"\",Notes!$B$4)","v":""},null,null,null,null,null,null,null,null,null,null,"",""]
[null,{"$f":"IF(A6753=\"\",\"\",Notes!$B$4)","v":""},null,null,null,null,null,null,null,null,null,null,"",""]
[null,{"$f":"IF(A6762=\"\",\"\",Notes!$B$4)","v":""},null,null,null,null,null,null,null,null,null,null,"",""]
[null,{"$f":"IF(A6771=\"\",\"\",Notes!$B$4)","v":""},null,null,null,null,null,null,null,null,null,null,"",""]
[null,{"$f":"IF(A6783=\"\",\"\",Notes!$B$4)","v":""},null,null,null,null,null,null,null,null,null,null,"",""]
[null,{"$f":"IF(A6795=\"\",\"\",Notes!$B$4)","v":""},null,null,null,null,null,null,null,null,null,null,"",""]
[null,{"$f":"IF(A6801=\"\",\"\",Notes!$B$4)","v":""},null,null,null,null,null,null,null,null,null,null,"",""]
[null,{"$f":"IF(A6804=\"\",\"\",Notes!$B$4)","v":""},null,null,null,null,null,null,null,null,null,null,"",""]
[null,{"$f":"IF(A6820=\"\",\"\",Notes!$B$4)","v":""},null,null,null,null,null,null,null,null,null,null,"",""]
[null,{"$f":"IF(A6823=\"\",\"\",Notes!$B$4)","v":""},null,null,null,null,null,null,null,null,null,null,"",""]
[null,{"$f":"IF(A6832=\"\",\"\",Notes!$B$4)","v":""},null,null,null,null,null,null,null,null,null,null,"",""]
[null,{"$f":"IF(A6841=\"\",\"\",Notes!$B$4)","v":""},null,null,null,null,null,null,null,null,null,null,"",""]
[null,{"$f":"IF(A6853=\"\",\"\",Notes!$B$4)","v":""},null,null,null,null,null,null,null,null,null,null,"",""]
[null,{"$f":"IF(A6865=\"\",\"\",Notes!$B$4)","v":""},null,null,null,null,null,null,null,null,null,null,"",""]
[null,{"$f":"IF(A6871=\"\",\"\",Notes!$B$4)","v":""},null,null,null,null,null,null,null,null,null,null,"",""]
[null,{"$f":"IF(A6874=\"\",\"\",Notes!$B$4)","v":""},null,null,null,null,null,null,null,null,null,null,"",""]
[null,{"$f":"IF(A6890=\"\",\"\",Notes!$B$4)","v":""},null,null,null,null,null,null,null,null,null,null,"",""]
[null,{"$f":"IF(A6893=\"\",\"\",Notes!$B$4)","v":""},null,null,null,null,null,null,null,null,null,null,"",""]
[null,{"$f":"IF(A6902=\"\",\"\",Notes!$B$4)","v":""},null,null,null,null,null,null,null,null,null,null,"",""]
[null,{"$f":"IF(A6911=\"\",\"\",Notes!$B$4)","v":""},null,null,null,null,null,null,null,null,null,null,"",""]
[null,{"$f":"IF(A6923=\"\",\"\",Notes!$B$4)","v":""},null,null,null,null,null,null,null,null,null,null,"",""]
[null,{"$f":"IF(A6930=\"\",\"\",Notes!$B$4)","v":""},null,null,null,null,null,null,null,null,null,null,"",""]
[null,{"$f":"IF(A6941=\"\",\"\",Notes!$B$4)","v":""},null,null,null,null,null,null,null,null,null,null,"",""]
[null,{"$f":"IF(A6944=\"\",\"\",Notes!$B$4)","v":""},null,null,null,null,null,null,null,null,null,null,"",""]
[null,{"$f":"IF(A6960=\"\",\"\",Notes!$B$4)","v":""},null,null,null,null,null,null,null,null,null,null,"",""]
[null,{"$f":"IF(A6963=\"\",\"\",Notes!$B$4)","v":""},null,null,null,null,null,null,null,null,null,null,"",""]
[null,{"$f":"IF(A6972=\"\",\"\",Notes!$B$4)","v":""},null,null,null,null,null,null,null,null,null,null,"",""]
[null,{"$f":"IF(A6981=\"\",\"\",Notes!$B$4)","v":""},null,null,null,null,null,null,null,null,null,null,"",""]
[null,{"$f":"IF(A6993=\"\",\"\",Notes!$B$4)","v":""},null,null,null,null,null,null,null,null,null,null,"",""]
[null,{"$f":"IF(A7000=\"\",\"\",Notes!$B$4)","v":""},null,null,null,null,null,null,null,null,null,null,"",""]
[null,{"$f":"IF(A7011=\"\",\"\",Notes!$B$4)","v":""},null,null,null,null,null,null,null,null,null,null,"",""]
[null,{"$f":"IF(A7014=\"\",\"\",Notes!$B$4)","v":""},null,null,null,null,null,null,null,null,null,null,"",""]
[null,{"$f":"IF(A7030=\"\",\"\",Notes!$B$4)","v":""},null,null,null,null,null,null,null,null,null,null,"",""]
[null,{"$f":"IF(A7033=\"\",\"\",Notes!$B$4)","v":""},null,null,null,null,null,null,null,null,null,null,"",""]
[null,{"$f":"IF(A7042=\"\",\"\",Notes!$B$4)","v":""},null,null,null,null,null,null,null,null,null,null,{"$f":"IF(A7042=\"\",\"\",VLOOKUP(B7042,SchoolID,2,FALSE))","v":""},""]
[null,{"$f":"IF(A7051=\"\",\"\",Notes!$B$4)","v":""},null,null,null,null,null,null,null,null,null,null,"",""]
[null,{"$f":"IF(A7063=\"\",\"\",Notes!$B$4)","v":""},null,null,null,null,null,null,null,null,null,null,"",""]
[null,{"$f":"IF(A7070=\"\",\"\",Notes!$B$4)","v":""},null,null,null,null,null,null,null,null,null,null,"",""]
[null,{"$f":"IF(A7081=\"\",\"\",Notes!$B$4)","v":""},null,null,null,null,null,null,null,null,null,null,"",""]
[null,{"$f":"IF(A7084=\"\",\"\",Notes!$B$4)","v":""},null,null,null,null,null,null,null,null,null,null,"",""]
[null,{"$f":"IF(A7100=\"\",\"\",Notes!$B$4)","v":""},null,null,null,null,null,null,null,null,null,null,"",""]
[null,{"$f":"IF(A7103=\"\",\"\",Notes!$B$4)","v":""},null,null,null,null,null,null,null,null,null,null,"",""]
[null,{"$f":"IF(A7112=\"\",\"\",Notes!$B$4)","v":""},null,null,null,null,null,null,null,null,null,null,"",""]
[null,{"$f":"IF(A7121=\"\",\"\",Notes!$B$4)","v":""},null,null,null,null,null,null,null,null,null,null,"",""]
[null,{"$f":"IF(A7133=\"\",\"\",Notes!$B$4)","v":""},null,null,null,null,null,null,null,null,null,null,"",""]
[null,{"$f":"IF(A7140=\"\",\"\",Notes!$B$4)","v":""},null,null,null,null,null,null,null,null,null,null,"",""]
[null,{"$f":"IF(A7151=\"\",\"\",Notes!$B$4)","v":""},null,null,null,null,null,null,null,null,null,null,"",""]
[null,{"$f":"IF(A7154=\"\",\"\",Notes!$B$4)","v":""},null,null,null,null,null,null,null,null,null,null,"",""]
[null,{"$f":"IF(A7170=\"\",\"\",Notes!$B$4)","v":""},null,null,null,null,null,null,null,null,null,null,{"$f":"IF(A7170=\"\",\"\",VLOOKUP(B7170,SchoolID,2,FALSE))","v":""},""]
[null,{"$f":"IF(A7173=\"\",\"\",Notes!$B$4)","v":""},null,null,null,null,null,null,null,null,null,null,"",""]
[null,{"$f":"IF(A7182=\"\",\"\",Notes!$B$4)","v":""},null,null,null,null,null,null,null,null,null,null,"",""]
[null,{"$f":"IF(A7191=\"\",\"\",Notes!$B$4)","v":""},null,null,null,null,null,null,null,null,null,null,"",""]
[null,{"$f":"IF(A7203=\"\",\"\",Notes!$B$4)","v":""},null,null,null,null,null,null,null,null,null,null,"",""]
[null,{"$f":"IF(A7210=\"\",\"\",Notes!$B$4)","v":""},null,null,null,null,null,null,null,null,null,null,"",""]
[null,{"$f":"IF(A7221=\"\",\"\",Notes!$B$4)","v":""},null,null,null,null,null,null,null,null,null,null,"",""]
[null,{"$f":"IF(A7228=\"\",\"\",Notes!$B$4)","v":""},null,null,null,null,null,null,null,null,null,null,"",""]
[null,{"$f":"IF(A7240=\"\",\"\",Notes!$B$4)","v":""},null,null,null,null,null,null,null,null,null,null,"",""]
[null,{"$f":"IF(A7243=\"\",\"\",Notes!$B$4)","v":""},null,null,null,null,null,null,null,null,null,null,"",""]
[null,{"$f":"IF(A7252=\"\",\"\",Notes!$B$4)","v":""},null,null,null,null,null,null,null,null,null,null,"",""]
[null,{"$f":"IF(A7261=\"\",\"\",Notes!$B$4)","v":""},null,null,null,null,null,null,null,null,null,null,"",""]
[null,{"$f":"IF(A7273=\"\",\"\",Notes!$B$4)","v":""},null,null,null,null,null,null,null,null,null,null,"",""]
[null,{"$f":"IF(A7280=\"\",\"\",Notes!$B$4)","v":""},null,null,null,null,null,null,null,null,null,null,"",""]
[null,{"$f":"IF(A7291=\"\",\"\",Notes!$B$4)","v":""},null,null,null,null,null,null,null,null,null,null,"",""]
[null,{"$f":"IF(A7298=\"\",\"\",Notes!$B$4)","v":""},null,null,null,null,null,null,null,null,null,null,{"$f":"IF(A7298=\"\",\"\",VLOOKUP(B7298,SchoolID,2,FALSE))","v":""},""]
[null,{"$f":"IF(A7310=\"\",\"\",Notes!$B$4)","v":""},null,null,null,null,null,null,null,null,null,null,"",""]
[null,{"$f":"IF(A7313=\"\",\"\",Notes!$B$4)","v":""},null,null,null,null,null,null,null,null,null,null,"",""]
[null,{"$f":"IF(A7322=\"\",\"\",Notes!$B$4)","v":""},null,null,null,null,null,null,null,null,null,null,"",""]
[null,{"$f":"IF(A7331=\"\",\"\",Notes!$B$4)","v":""},null,null,null,null,null,null,null,null,null,null,"",""]
[null,{"$f":"IF(A7343=\"\",\"\",Notes!$B$4)","v":""},null,null,null,null,null,null,null,null,null,null,"",""]
[null,{"$f":"IF(A7350=\"\",\"\",Notes!$B$4)","v":""},null,null,null,null,null,null,null,null,null,null,"",""]
[null,{"$f":"IF(A7361=\"\",\"\",Notes!$B$4)","v":""},null,null,null,null,null,null,null,null,null,null,"",""]
[null,{"$f":"IF(A7368=\"\",\"\",Notes!$B$4)","v":""},null,null,null,null,null,null,null,null,null,null,"",""]
[null,{"$f":"IF(A7380=\"\",\"\",Notes!$B$4)","v":""},null,null,null,null,null,null,null,null,null,null,"",""]
[null,{"$f":"IF(A7383=\"\",\"\",Notes!$B$4)","v":""},null,null,null,null,null,null,null,null,null,null,"",""]
[null,{"$f":"IF(A7392=\"\",\"\",Notes!$B$4)","v":""},null,null,null,null,null,null,null,null,null,null,"",""]
[null,{"$f":"IF(A7401=\"\",\"\",Notes!$B$4)","v":""},null,null,null,null,null,null,null,null,null,null,"",""]
[null,{"$f":"IF(A7408=\"\",\"\",Notes!$B$4)","v":""},null,null,null,null,null,null,null,null,null,null,"",""]
[null,{"$f":"IF(A7420=\"\",\"\",Notes!$B$4)","v":""},null,null,null,null,null,null,null,null,null,null,"",""]
[null,{"$f":"IF(A7431=\"\",\"\",Notes!$B$4)","v":""},null,null,null,null,null,null,null,null,null,null,"",""]
[null,{"$f":"IF(A7438=\"\",\"\",Notes!$B$4)","v":""},null,null,null,null,null,null,null,null,null,null,"",""]
[null,{"$f":"IF(A7450=\"\",\"\",Notes!$B$4)","v":""},null,null,null,null,null,null,null,null,null,null,"",""]
[null,{"$f":"IF(A7453=\"\",\"\",Notes!$B$4)","v":""},null,null,null,null,null,null,null,null,null,null,"",""]
[null,{"$f":"IF(A7462=\"\",\"\",Notes!$B$4)","v":""},null,null,null,null,null,null,null,null,null,null,"",""]
[null,{"$f":"IF(A7471=\"\",\"\",Notes!$B$4)","v":""},null,null,null,null,null,null,null,null,null,null,"",""]
[null,{"$f":"IF(A7478=\"\",\"\",Notes!$B$4)","v":""},null,null,null,null,null,null,null,null,null,null,"",""]
[null,{"$f":"IF(A7490=\"\",\"\",Notes!$B$4)","v":""},null,null,null,null,null,null,null,null,null,null,{"$f":"IF(A7490=\"\",\"\",VLOOKUP(B7490,SchoolID,2,FALSE))","v":""},""]
[null,{"$f":"IF(A7501=\"\",\"\",Notes!$B$4)","v":""},null,null,null,null,null,null,null,null,null,null,"",""]
[null,{"$f":"IF(A7508=\"\",\"\",Notes!$B$4)","v":""},null,null,null,null,null,null,null,null,null,null,"",""]
[null,{"$f":"IF(A7520=\"\",\"\",Notes!$B$4)","v":""},null,null,null,null,null,null,null,null,null,null,"",""]
[null,{"$f":"IF(A7527=\"\",\"\",Notes!$B$4)","v":""},null,null,null,null,null,null,null,null,null,null,"",""]
[null,{"$f":"IF(A7532=\"\",\"\",Notes!$B$4)","v":""},null,null,null,null,null,null,null,null,null,null,"",""]
[null,{"$f":"IF(A7541=\"\",\"\",Notes!$B$4)","v":""},null,null,null,null,null,null,null,null,null,null,"",""]
[null,{"$f":"IF(A7548=\"\",\"\",Notes!$B$4)","v":""},null,null,null,null,null,null,null,null,null,null,"",""]
[null,{"$f":"IF(A7560=\"\",\"\",Notes!$B$4)","v":""},null,null,null,null,null,null,null,null,null,null,"",""]
[null,{"$f":"IF(A7571=\"\",\"\",Notes!$B$4)","v":""},null,null,null,null,null,null,null,null,null,null,"",""]
[null,{"$f":"IF(A7578=\"\",\"\",Notes!$B$4)","v":""},null,null,null,null,null,null,null,null,null,null,"",""]
[null,{"$f":"IF(A7590=\"\",\"\",Notes!$B$4)","v":""},null,null,null,null,null,null,null,null,null,null,"",""]
[null,{"$f":"IF(A7597=\"\",\"\",Notes!$B$4)","v":""},null,null,null,null,null,null,null,null,null,null,"",""]
[null,{"$f":"IF(A7602=\"\",\"\",Notes!$B$4)","v":""},null,null,null,null,null,null,null,null,null,null,"",""]
[null,{"$f":"IF(A7611=\"\",\"\",Notes!$B$4)","v":""},null,null,null,null,null,null,null,null,null,null,"",""]
[null,{"$f":"IF(A7618=\"\",\"\",Notes!$B$4)","v":""},null,null,null,null,null,null,null,null,null,null,{"$f":"IF(A7618=\"\",\"\",VLOOKUP(B7618,SchoolID,2,FALSE))","v":""},""]
[null,{"$f":"IF(A7630=\"\",\"\",Notes!$B$4)","v":""},null,null,null,null,null,null,null,null,null,null,"",""]
[null,{"$f":"IF(A7641=\"\",\"\",Notes!$B$4)","v":""},null,null,null,null,null,null,null,null,null,null,"",""]
[null,{"$f":"IF(A7648=\"\",\"\",Notes!$B$4)","v":""},null,null,null,null,null,null,null,null,null,null,"",""]
[null,{"$f":"IF(A7660=\"\",\"\",Notes!$B$4)","v":""},null,null,null,null,null,null,null,null,null,null,"",""]
[null,{"$f":"IF(A7667=\"\",\"\",Notes!$B$4)","v":""},null,null,null,null,null,null,null,null,null,null,"",""]
[null,{"$f":"IF(A7672=\"\",\"\",Notes!$B$4)","v":""},null,null,null,null,null,null,null,null,null,null,"",""]
[null,{"$f":"IF(A7681=\"\",\"\",Notes!$B$4)","v":""},null,null,null,null,null,null,null,null,null,null,"",""]
[null,{"$f":"IF(A7688=\"\",\"\",Notes!$B$4)","v":""},null,null,null,null,null,null,null,null,null,null,"",""]
[null,{"$f":"IF(A7700=\"\",\"\",Notes!$B$4)","v":""},null,null,null,null,null,null,null,null,null,null,"",""]
[null,{"$f":"IF(A7711=\"\",\"\",Notes!$B$4)","v":""},null,null,null,null,null,null,null,null,null,null,"",""]
[null,{"$f":"IF(A7718=\"\",\"\",Notes!$B$4)","v":""},null,null,null,null,null,null,null,null,null,null,"",""]
[null,{"$f":"IF(A7730=\"\",\"\",Notes!$B$4)","v":""},null,null,null,null,null,null,null,null,null,null,"",""]
[null,{"$f":"IF(A7737=\"\",\"\",Notes!$B$4)","v":""},null,null,null,null,null,null,null,null,null,null,"",""]
[null,{"$f":"IF(A7742=\"\",\"\",Notes!$B$4)","v":""},null,null,null,null,null,null,null,null,null,null,"",""]
[null,{"$f":"IF(A7751=\"\",\"\",Notes!$B$4)","v":""},null,null,null,null,null,null,null,null,null,null,"",""]
[null,{"$f":"IF(A7758=\"\",\"\",Notes!$B$4)","v":""},null,null,null,null,null,null,null,null,null,null,"",""]
[null,{"$f":"IF(A7770=\"\",\"\",Notes!$B$4)","v":""},null,null,null,null,null,null,null,null,null,null,"",""]
[null,{"$f":"IF(A7781=\"\",\"\",Notes!$B$4)","v":""},null,null,null,null,null,null,null,null,null,null,"",""]
[null,{"$f":"IF(A7788=\"\",\"\",Notes!$B$4)","v":""},null,null,null,null,null,null,null,null,null,null,"",""]
[null,{"$f":"IF(A7800=\"\",\"\",Notes!$B$4)","v":""},null,null,null,null,null,null,null,null,null,null,"",""]
[null,{"$f":"IF(A7807=\"\",\"\",Notes!$B$4)","v":""},null,null,null,null,null,null,null,null,null,null,"",""]
[null,{"$f":"IF(A7812=\"\",\"\",Notes!$B$4)","v":""},null,null,null,null,null,null,null,null,null,null,"",""]
[null,{"$f":"IF(A7825=\"\",\"\",Notes!$B$4)","v":""},null,null,null,null,null,null,null,null,null,null,"",""]
[null,{"$f":"IF(A7828=\"\",\"\",Notes!$B$4)","v":""},null,null,null,null,null,null,null,null,null,null,"",""]
[null,{"$f":"IF(A7840=\"\",\"\",Notes!$B$4)","v":""},null,null,null,null,null,null,null,null,null,null,"",""]
[null,{"$f":"IF(A7851=\"\",\"\",Notes!$B$4)","v":""},null,null,null,null,null,null,null,null,null,null,"",""]
[null,{"$f":"IF(A7858=\"\",\"\",Notes!$B$4)","v":""},null,null,null,null,null,null,null,null,null,null,"",""]
[null,{"$f":"IF(A7870=\"\",\"\",Notes!$B$4)","v":""},null,null,null,null,null,null,null,null,null,null,"",""]
[null,{"$f":"IF(A7877=\"\",\"\",Notes!$B$4)","v":""},null,null,null,null,null,null,null,null,null,null,"",""]
[null,{"$f":"IF(A7882=\"\",\"\",Notes!$B$4)","v":""},null,null,null,null,null,null,null,null,null,null,"",""]
[null,{"$f":"IF(A7895=\"\",\"\",Notes!$B$4)","v":""},null,null,null,null,null,null,null,null,null,null,"",""]
[null,{"$f":"IF(A7898=\"\",\"\",Notes!$B$4)","v":""},null,null,null,null,null,null,null,null,null,null,"",""]
[null,{"$f":"IF(A7910=\"\",\"\",Notes!$B$4)","v":""},null,null,null,null,null,null,null,null,null,null,"",""]
[null,{"$f":"IF(A7921=\"\",\"\",Notes!$B$4)","v":""},null,null,null,null,null,null,null,null,null,null,"",""]
[null,{"$f":"IF(A7928=\"\",\"\",Notes!$B$4)","v":""},null,null,null,null,null,null,null,null,null,null,"",""]
[null,{"$f":"IF(A7940=\"\",\"\",Notes!$B$4)","v":""},null,null,null,null,null,null,null,null,null,null,"",""]
[null,{"$f":"IF(A7947=\"\",\"\",Notes!$B$4)","v":""},null,null,null,null,null,null,null,null,null,null,"",""]
[null,{"$f":"IF(A7952=\"\",\"\",Notes!$B$4)","v":""},null,null,null,null,null,null,null,null,null,null,"",""]
[null,{"$f":"IF(A7965=\"\",\"\",Notes!$B$4)","v":""},null,null,null,null,null,null,null,null,null,null,"",""]
[null,{"$f":"IF(A7968=\"\",\"\",Notes!$B$4)","v":""},null,null,null,null,null,null,null,null,null,null,"",""]
[null,{"$f":"IF(A7980=\"\",\"\",Notes!$B$4)","v":""},null,null,null,null,null,null,null,null,null,null,"",""]
[null,{"$f":"IF(A7991=\"\",\"\",Notes!$B$4)","v":""},null,null,null,null,null,null,null,null,null,null,"",""]
[null,{"$f":"IF(A7998=\"\",\"\",Notes!$B$4)","v":""},null,null,null,null,null,null,null,null,null,null,"",""]
[null,{"$f":"IF(A8005=\"\",\"\",Notes!$B$4)","v":""},null,null,null,null,null,null,null,null,null,null,"",""]
[null,{"$f":"IF(A8017=\"\",\"\",Notes!$B$4)","v":""},null,null,null,null,null,null,null,null,null,null,"",""]
[null,{"$f":"IF(A8022=\"\",\"\",Notes!$B$4)","v":""},null,null,null,null,null,null,null,null,null,null,"",""]
[null,{"$f":"IF(A8035=\"\",\"\",Notes!$B$4)","v":""},null,null,null,null,null,null,null,null,null,null,"",""]
[null,{"$f":"IF(A8038=\"\",\"\",Notes!$B$4)","v":""},null,null,null,null,null,null,null,null,null,null,"",""]
[null,{"$f":"IF(A8050=\"\",\"\",Notes!$B$4)","v":""},null,null,null,null,null,null,null,null,null,null,"",""]
[null,{"$f":"IF(A8061=\"\",\"\",Notes!$B$4)","v":""},null,null,null,null,null,null,null,null,null,null,"",""]
[null,{"$f":"IF(A8068=\"\",\"\",Notes!$B$4)","v":""},null,null,null,null,null,null,null,null,null,null,"",""]
[null,{"$f":"IF(A8075=\"\",\"\",Notes!$B$4)","v":""},null,null,null,null,null,null,null,null,null,null,"",""]
[null,{"$f":"IF(A8087=\"\",\"\",Notes!$B$4)","v":""},null,null,null,null,null,null,null,null,null,null,"",""]
[null,{"$f":"IF(A8092=\"\",\"\",Notes!$B$4)","v":""},null,null,null,null,null,null,null,null,null,null,"",""]
[null,{"$f":"IF(A8105=\"\",\"\",Notes!$B$4)","v":""},null,null,null,null,null,null,null,null,null,null,"",""]
[null,{"$f":"IF(A8108=\"\",\"\",Notes!$B$4)","v":""},null,null,null,null,null,null,null,null,null,null,"",""]
[null,{"$f":"IF(A8120=\"\",\"\",Notes!$B$4)","v":""},null,null,null,null,null,null,null,null,null,null,"",""]
[null,{"$f":"IF(A8131=\"\",\"\",Notes!$B$4)","v":""},null,null,null,null,null,null,null,null,null,null,"",""]
[null,{"$f":"IF(A8138=\"\",\"\",Notes!$B$4)","v":""},null,null,null,null,null,null,null,null,null,null,"",""]
[null,{"$f":"IF(A8145=\"\",\"\",Notes!$B$4)","v":""},null,null,null,null,null,null,null,null,null,null,"",""]
[null,{"$f":"IF(A8157=\"\",\"\",Notes!$B$4)","v":""},null,null,null,null,null,null,null,null,null,null,"",""]
[null,{"$f":"IF(A8162=\"\",\"\",Notes!$B$4)","v":""},null,null,null,null,null,null,null,null,null,null,"",""]
[null,{"$f":"IF(A8175=\"\",\"\",Notes!$B$4)","v":""},null,null,null,null,null,null,null,null,null,null,"",""]
[null,{"$f":"IF(A8178=\"\",\"\",Notes!$B$4)","v":""},null,null,null,null,null,null,null,null,null,null,"",""]
[null,{"$f":"IF(A8194=\"\",\"\",Notes!$B$4)","v":""},null,null,null,null,null,null,null,null,null,null,{"$f":"IF(A8194=\"\",\"\",VLOOKUP(B8194,SchoolID,2,FALSE))","v":""},""]
[null,{"$f":"IF(A8201=\"\",\"\",Notes!$B$4)","v":""},null,null,null,null,null,null,null,null,null,null,"",""]
[null,{"$f":"IF(A8208=\"\",\"\",Notes!$B$4)","v":""},null,null,null,null,null,null,null,null,null,null,"",""]
[null,{"$f":"IF(A8215=\"\",\"\",Notes!$B$4)","v":""},null,null,null,null,null,null,null,null,null,null,"",""]
[null,{"$f":"IF(A8227=\"\",\"\",Notes!$B$4)","v":""},null,null,null,null,null,null,null,null,null,null,"",""]
[null,{"$f":"IF(A8232=\"\",\"\",Notes!$B$4)","v":""},null,null,null,null,null,null,null,null,null,null,"",""]
[null,{"$f":"IF(A8245=\"\",\"\",Notes!$B$4)","v":""},null,null,null,null,null,null,null,null,null,null,"",""]
[null,{"$f":"IF(A8248=\"\",\"\",Notes!$B$4)","v":""},null,null,null,null,null,null,null,null,null,null,"",""]
[null,{"$f":"IF(A8264=\"\",\"\",Notes!$B$4)","v":""},null,null,null,null,null,null,null,null,null,null,"",""]
[null,{"$f":"IF(A8271=\"\",\"\",Notes!$B$4)","v":""},null,null,null,null,null,null,null,null,null,null,"",{"$f":"M8271&A8271","v":""}]
[null,{"$f":"IF(A8278=\"\",\"\",Notes!$B$4)","v":""},null,null,null,null,null,null,null,null,null,null,"",""]
[null,{"$f":"IF(A8285=\"\",\"\",Notes!$B$4)","v":""},null,null,null,null,null,null,null,null,null,null,"",""]
[null,{"$f":"IF(A8297=\"\",\"\",Notes!$B$4)","v":""},null,null,null,null,null,null,null,null,null,null,"",""]
[null,{"$f":"IF(A8302=\"\",\"\",Notes!$B$4)","v":""},null,null,null,null,null,null,null,null,null,null,"",""]
[null,{"$f":"IF(A8315=\"\",\"\",Notes!$B$4)","v":""},null,null,null,null,null,null,null,null,null,null,"",""]
[null,{"$f":"IF(A8318=\"\",\"\",Notes!$B$4)","v":""},null,null,null,null,null,null,null,null,null,null,"",""]
[null,{"$f":"IF(A8334=\"\",\"\",Notes!$B$4)","v":""},null,null,null,null,null,null,null,null,null,null,"",""]
[null,{"$f":"IF(A8341=\"\",\"\",Notes!$B$4)","v":""},null,null,null,null,null,null,null,null,null,null,"",""]
[null,{"$f":"IF(A8348=\"\",\"\",Notes!$B$4)","v":""},null,null,null,null,null,null,null,null,null,null,"",""]
[null,{"$f":"IF(A8355=\"\",\"\",Notes!$B$4)","v":""},null,null,null,null,null,null,null,null,null,null,"",""]
[null,{"$f":"IF(A8367=\"\",\"\",Notes!$B$4)","v":""},null,null,null,null,null,null,null,null,null,null,"",""]
[null,{"$f":"IF(A8372=\"\",\"\",Notes!$B$4)","v":""},null,null,null,null,null,null,null,null,null,null,"",""]
[null,{"$f":"IF(A8385=\"\",\"\",Notes!$B$4)","v":""},null,null,null,null,null,null,null,null,null,null,"",""]
[null,{"$f":"IF(A8388=\"\",\"\",Notes!$B$4)","v":""},null,null,null,null,null,null,null,null,null,null,"",""]
[null,{"$f":"IF(A8404=\"\",\"\",Notes!$B$4)","v":""},null,null,null,null,null,null,null,null,null,null,"",""]
[null,{"$f":"IF(A8411=\"\",\"\",Notes!$B$4)","v":""},null,null,null,null,null,null,null,null,null,null,"",""]
[null,{"$f":"IF(A8418=\"\",\"\",Notes!$B$4)","v":""},null,null,null,null,null,null,null,null,null,null,"",""]
[null,{"$f":"IF(A8425=\"\",\"\",Notes!$B$4)","v":""},null,null,null,null,null,null,null,null,null,null,"",""]
[null,{"$f":"IF(A8437=\"\",\"\",Notes!$B$4)","v":""},null,null,null,null,null,null,null,null,null,null,"",""]
[null,{"$f":"IF(A8442=\"\",\"\",Notes!$B$4)","v":""},null,null,null,null,null,null,null,null,null,null,"",""]
[null,{"$f":"IF(A8455=\"\",\"\",Notes!$B$4)","v":""},null,null,null,null,null,null,null,null,null,null,"",""]
[null,{"$f":"IF(A8458=\"\",\"\",Notes!$B$4)","v":""},null,null,null,null,null,null,null,null,null,null,"",""]
[null,{"$f":"IF(A8474=\"\",\"\",Notes!$B$4)","v":""},null,null,null,null,null,null,null,null,null,null,"",""]
[null,{"$f":"IF(A8481=\"\",\"\",Notes!$B$4)","v":""},null,null,null,null,null,null,null,null,null,null,"",""]
[null,{"$f":"IF(A8492=\"\",\"\",Notes!$B$4)","v":""},null,null,null,null,null,null,null,null,null,null,"",""]
[null,{"$f":"IF(A8495=\"\",\"\",Notes!$B$4)","v":""},null,null,null,null,null,null,null,null,null,null,"",""]
[null,{"$f":"IF(A8507=\"\",\"\",Notes!$B$4)","v":""},null,null,null,null,null,null,null,null,null,null,"",""]
[null,{"$f":"IF(A8512=\"\",\"\",Notes!$B$4)","v":""},null,null,null,null,null,null,null,null,null,null,"",""]
[null,{"$f":"IF(A8525=\"\",\"\",Notes!$B$4)","v":""},null,null,null,null,null,null,null,null,null,null,"",""]
[null,{"$f":"IF(A8528=\"\",\"\",Notes!$B$4)","v":""},null,null,null,null,null,null,null,null,null,null,"",""]
[null,{"$f":"IF(A8544=\"\",\"\",Notes!$B$4)","v":""},null,null,null,null,null,null,null,null,null,null,"",""]
[null,{"$f":"IF(A8551=\"\",\"\",Notes!$B$4)","v":""},null,null,null,null,null,null,null,null,null,null,"",""]
[null,{"$f":"IF(A8562=\"\",\"\",Notes!$B$4)","v":""},null,null,null,null,null,null,null,null,null,null,"",""]
[null,{"$f":"IF(A8565=\"\",\"\",Notes!$B$4)","v":""},null,null,null,null,null,null,null,null,null,null,"",""]
[null,{"$f":"IF(A8577=\"\",\"\",Notes!$B$4)","v":""},null,null,null,null,null,null,null,null,null,null,"",""]
[null,{"$f":"IF(A8582=\"\",\"\",Notes!$B$4)","v":""},null,null,null,null,null,null,null,null,null,null,"",""]
[null,{"$f":"IF(A8595=\"\",\"\",Notes!$B$4)","v":""},null,null,null,null,null,null,null,null,null,null,"",""]
[null,{"$f":"IF(A8602=\"\",\"\",Notes!$B$4)","v":""},null,null,null,null,null,null,null,null,null,null,"",""]
[null,{"$f":"IF(A8614=\"\",\"\",Notes!$B$4)","v":""},null,null,null,null,null,null,null,null,null,null,"",""]
[null,{"$f":"IF(A8621=\"\",\"\",Notes!$B$4)","v":""},null,null,null,null,null,null,null,null,null,null,"",""]
[null,{"$f":"IF(A8632=\"\",\"\",Notes!$B$4)","v":""},null,null,null,null,null,null,null,null,null,null,"",""]
[null,{"$f":"IF(A8635=\"\",\"\",Notes!$B$4)","v":""},null,null,null,null,null,null,null,null,null,null,"",""]
[null,{"$f":"IF(A8647=\"\",\"\",Notes!$B$4)","v":""},null,null,null,null,null,null,null,null,null,null,"",""]
[null,{"$f":"IF(A8652=\"\",\"\",Notes!$B$4)","v":""},null,null,null,null,null,null,null,null,null,null,"",""]
[null,{"$f":"IF(A8665=\"\",\"\",Notes!$B$4)","v":""},null,null,null,null,null,null,null,null,null,null,"",""]
[null,{"$f":"IF(A8672=\"\",\"\",Notes!$B$4)","v":""},null,null,null,null,null,null,null,null,null,null,"",""]
[null,{"$f":"IF(A8684=\"\",\"\",Notes!$B$4)","v":""},null,null,null,null,null,null,null,null,null,null,"",""]
[null,{"$f":"IF(A8691=\"\",\"\",Notes!$B$4)","v":""},null,null,null,null,null,null,null,null,null,null,"",""]
[null,{"$f":"IF(A8702=\"\",\"\",Notes!$B$4)","v":""},null,null,null,null,null,null,null,null,null,null,"",""]
[null,{"$f":"IF(A8705=\"\",\"\",Notes!$B$4)","v":""},null,null,null,null,null,null,null,null,null,null,"",""]
[null,{"$f":"IF(A8717=\"\",\"\",Notes!$B$4)","v":""},null,null,null,null,null,null,null,null,null,null,"",""]
[null,{"$f":"IF(A8722=\"\",\"\",Notes!$B$4)","v":""},null,null,null,null,null,null,null,null,null,null,"",""]
[null,{"$f":"IF(A8735=\"\",\"\",Notes!$B$4)","v":""},null,null,null,null,null,null,null,null,null,null,"",""]
[null,{"$f":"IF(A8742=\"\",\"\",Notes!$B$4)","v":""},null,null,null,null,null,null,null,null,null,null,"",""]
[null,{"$f":"IF(A8754=\"\",\"\",Notes!$B$4)","v":""},null,null,null,null,null,null,null,null,null,null,"",""]
[null,{"$f":"IF(A8761=\"\",\"\",Notes!$B$4)","v":""},null,null,null,null,null,null,null,null,null,null,"",""]
[null,{"$f":"IF(A8772=\"\",\"\",Notes!$B$4)","v":""},null,null,null,null,null,null,null,null,null,null,"",""]
[null,{"$f":"IF(A8775=\"\",\"\",Notes!$B$4)","v":""},null,null,null,null,null,null,null,null,null,null,"",""]
[null,{"$f":"IF(A8782=\"\",\"\",Notes!$B$4)","v":""},null,null,null,null,null,null,null,null,null,null,"",""]
[null,{"$f":"IF(A8792=\"\",\"\",Notes!$B$4)","v":""},null,null,null,null,null,null,null,null,null,null,"",""]
[null,{"$f":"IF(A8805=\"\",\"\",Notes!$B$4)","v":""},null,null,null,null,null,null,null,null,null,null,"",""]
[null,{"$f":"IF(A8812=\"\",\"\",Notes!$B$4)","v":""},null,null,null,null,null,null,null,null,null,null,"",""]
[null,{"$f":"IF(A8824=\"\",\"\",Notes!$B$4)","v":""},null,null,null,null,null,null,null,null,null,null,"",""]
[null,{"$f":"IF(A8831=\"\",\"\",Notes!$B$4)","v":""},null,null,null,null,null,null,null,null,null,null,"",""]
[null,{"$f":"IF(A8842=\"\",\"\",Notes!$B$4)","v":""},null,null,null,null,null,null,null,null,null,null,"",""]
[null,{"$f":"IF(A8845=\"\",\"\",Notes!$B$4)","v":""},null,null,null,null,null,null,null,null,null,null,"",""]
[null,{"$f":"IF(A8852=\"\",\"\",Notes!$B$4)","v":""},null,null,null,null,null,null,null,null,null,null,"",""]
[null,{"$f":"IF(A8862=\"\",\"\",Notes!$B$4)","v":""},null,null,null,null,null,null,null,null,null,null,"",""]
[null,{"$f":"IF(A8875=\"\",\"\",Notes!$B$4)","v":""},null,null,null,null,null,null,null,null,null,null,"",""]
[null,{"$f":"IF(A8882=\"\",\"\",Notes!$B$4)","v":""},null,null,null,null,null,null,null,null,null,null,"",""]
[null,{"$f":"IF(A8894=\"\",\"\",Notes!$B$4)","v":""},null,null,null,null,null,null,null,null,null,null,"",""]
[null,{"$f":"IF(A8901=\"\",\"\",Notes!$B$4)","v":""},null,null,null,null,null,null,null,null,null,null,"",""]
[null,{"$f":"IF(A8912=\"\",\"\",Notes!$B$4)","v":""},null,null,null,null,null,null,null,null,null,null,"",""]
[null,{"$f":"IF(A8915=\"\",\"\",Notes!$B$4)","v":""},null,null,null,null,null,null,null,null,null,null,"",""]
[null,{"$f":"IF(A8922=\"\",\"\",Notes!$B$4)","v":""},null,null,null,null,null,null,null,null,null,null,"",""]
[null,{"$f":"IF(A8932=\"\",\"\",Notes!$B$4)","v":""},null,null,null,null,null,null,null,null,null,null,"",""]
[null,{"$f":"IF(A8945=\"\",\"\",Notes!$B$4)","v":""},null,null,null,null,null,null,null,null,null,null,"",""]
[null,{"$f":"IF(A8952=\"\",\"\",Notes!$B$4)","v":""},null,null,null,null,null,null,null,null,null,null,"",""]
[null,{"$f":"IF(A8964=\"\",\"\",Notes!$B$4)","v":""},null,null,null,null,null,null,null,null,null,null,"",""]
[null,{"$f":"IF(A8971=\"\",\"\",Notes!$B$4)","v":""},null,null,null,null,null,null,null,null,null,null,"",""]
[null,{"$f":"IF(A8982=\"\",\"\",Notes!$B$4)","v":""},null,null,null,null,null,null,null,null,null,null,"",""]
[null,{"$f":"IF(A8985=\"\",\"\",Notes!$B$4)","v":""},null,null,null,null,null,null,null,null,null,null,"",""]
[null,{"$f":"IF(A8992=\"\",\"\",Notes!$B$4)","v":""},null,null,null,null,null,null,null,null,null,null,"",""]
[null,{"$f":"IF(A9002=\"\",\"\",Notes!$B$4)","v":""},null,null,null,null,null,null,null,null,null,null,"",""]
[null,{"$f":"IF(A9015=\"\",\"\",Notes!$B$4)","v":""},null,null,null,null,null,null,null,null,null,null,"",""]
[null,{"$f":"IF(A9022=\"\",\"\",Notes!$B$4)","v":""},null,null,null,null,null,null,null,null,null,null,"",""]
[null,{"$f":"IF(A9034=\"\",\"\",Notes!$B$4)","v":""},null,null,null,null,null,null,null,null,null,null,"",""]
[null,{"$f":"IF(A9041=\"\",\"\",Notes!$B$4)","v":""},null,null,null,null,null,null,null,null,null,null,"",""]
[null,{"$f":"IF(A9052=\"\",\"\",Notes!$B$4)","v":""},null,null,null,null,null,null,null,null,null,null,"",""]
[null,{"$f":"IF(A9055=\"\",\"\",Notes!$B$4)","v":""},null,null,null,null,null,null,null,null,null,null,"",""]
[null,{"$f":"IF(A9062=\"\",\"\",Notes!$B$4)","v":""},null,null,null,null,null,null,null,null,null,null,"",""]
[null,{"$f":"IF(A9072=\"\",\"\",Notes!$B$4)","v":""},null,null,null,null,null,null,null,null,null,null,"",""]
[null,{"$f":"IF(A9080=\"\",\"\",Notes!$B$4)","v":""},null,null,null,null,null,null,null,null,null,null,"",""]
[null,{"$f":"IF(A9092=\"\",\"\",Notes!$B$4)","v":""},null,null,null,null,null,null,null,null,null,null,"",""]
[null,{"$f":"IF(A9104=\"\",\"\",Notes!$B$4)","v":""},null,null,null,null,null,null,null,null,null,null,"",""]
[null,{"$f":"IF(A9111=\"\",\"\",Notes!$B$4)","v":""},null,null,null,null,null,null,null,null,null,null,"",""]
[null,{"$f":"IF(A9122=\"\",\"\",Notes!$B$4)","v":""},null,null,null,null,null,null,null,null,null,null,"",""]
[null,{"$f":"IF(A9125=\"\",\"\",Notes!$B$4)","v":""},null,null,null,null,null,null,null,null,null,null,"",""]
[null,{"$f":"IF(A9132=\"\",\"\",Notes!$B$4)","v":""},null,null,null,null,null,null,null,null,null,null,"",""]
[null,{"$f":"IF(A9142=\"\",\"\",Notes!$B$4)","v":""},null,null,null,null,null,null,null,null,null,null,"",""]
[null,{"$f":"IF(A9150=\"\",\"\",Notes!$B$4)","v":""},null,null,null,null,null,null,null,null,null,null,"",""]
[null,{"$f":"IF(A9162=\"\",\"\",Notes!$B$4)","v":""},null,null,null,null,null,null,null,null,null,null,"",""]
[null,{"$f":"IF(A9174=\"\",\"\",Notes!$B$4)","v":""},null,null,null,null,null,null,null,null,null,null,"",""]
[null,{"$f":"IF(A9181=\"\",\"\",Notes!$B$4)","v":""},null,null,null,null,null,null,null,null,null,null,"",""]
[null,{"$f":"IF(A9192=\"\",\"\",Notes!$B$4)","v":""},null,null,null,null,null,null,null,null,null,null,"",""]
[null,{"$f":"IF(A9195=\"\",\"\",Notes!$B$4)","v":""},null,null,null,null,null,null,null,null,null,null,"",""]
[null,{"$f":"IF(A9202=\"\",\"\",Notes!$B$4)","v":""},null,null,null,null,null,null,null,null,null,null,"",""]
[null,{"$f":"IF(A9212=\"\",\"\",Notes!$B$4)","v":""},null,null,null,null,null,null,null,null,null,null,"",""]
[null,{"$f":"IF(A9220=\"\",\"\",Notes!$B$4)","v":""},null,null,null,null,null,null,null,null,null,null,"",""]
[null,{"$f":"IF(A9232=\"\",\"\",Notes!$B$4)","v":""},null,null,null,null,null,null,null,null,null,null,"",""]
[null,{"$f":"IF(A9244=\"\",\"\",Notes!$B$4)","v":""},null,null,null,null,null,null,null,null,null,null,"",""]
[null,{"$f":"IF(A9251=\"\",\"\",Notes!$B$4)","v":""},null,null,null,null,null,null,null,null,null,null,"",""]
[null,{"$f":"IF(A9262=\"\",\"\",Notes!$B$4)","v":""},null,null,null,null,null,null,null,null,null,null,"",""]
[null,{"$f":"IF(A9269=\"\",\"\",Notes!$B$4)","v":""},null,null,null,null,null,null,null,null,null,null,"",""]
[null,{"$f":"IF(A9272=\"\",\"\",Notes!$B$4)","v":""},null,null,null,null,null,null,null,null,null,null,"",""]
[null,{"$f":"IF(A9282=\"\",\"\",Notes!$B$4)","v":""},null,null,null,null,null,null,null,null,null,null,{"$f":"IF(A9282=\"\",\"\",VLOOKUP(B9282,SchoolID,2,FALSE))","v":""},""]
[null,{"$f":"IF(A9290=\"\",\"\",Notes!$B$4)","v":""},null,null,null,null,null,null,null,null,null,null,"",""]
[null,{"$f":"IF(A9302=\"\",\"\",Notes!$B$4)","v":""},null,null,null,null,null,null,null,null,null,null,"",""]
[null,{"$f":"IF(A9314=\"\",\"\",Notes!$B$4)","v":""},null,null,null,null,null,null,null,null,null,null,"",""]
[null,{"$f":"IF(A9321=\"\",\"\",Notes!$B$4)","v":""},null,null,null,null,null,null,null,null,null,null,"",""]
[null,{"$f":"IF(A9332=\"\",\"\",Notes!$B$4)","v":""},null,null,null,null,null,null,null,null,null,null,"",""]
[null,{"$f":"IF(A9339=\"\",\"\",Notes!$B$4)","v":""},null,null,null,null,null,null,null,null,null,null,"",""]
[null,{"$f":"IF(A9342=\"\",\"\",Notes!$B$4)","v":""},null,null,null,null,null,null,null,null,null,null,"",""]
[null,{"$f":"IF(A9352=\"\",\"\",Notes!$B$4)","v":""},null,null,null,null,null,null,null,null,null,null,"",""]
[null,{"$f":"IF(A9360=\"\",\"\",Notes!$B$4)","v":""},null,null,null,null,null,null,null,null,null,null,"",""]
[null,{"$f":"IF(A9372=\"\",\"\",Notes!$B$4)","v":""},null,null,null,null,null,null,null,null,null,null,"",""]
[null,{"$f":"IF(A9384=\"\",\"\",Notes!$B$4)","v":""},null,null,null,null,null,null,null,null,null,null,"",""]
[null,{"$f":"IF(A9391=\"\",\"\",Notes!$B$4)","v":""},null,null,null,null,null,null,null,null,null,null,"",""]
[null,{"$f":"IF(A9402=\"\",\"\",Notes!$B$4)","v":""},null,null,null,null,null,null,null,null,null,null,"",""]
[null,{"$f":"IF(A9409=\"\",\"\",Notes!$B$4)","v":""},null,null,null,null,null,null,null,null,null,null,"",""]
[null,{"$f":"IF(A9412=\"\",\"\",Notes!$B$4)","v":""},null,null,null,null,null,null,null,null,null,null,"",""]
[null,{"$f":"IF(A9422=\"\",\"\",Notes!$B$4)","v":""},null,null,null,null,null,null,null,null,null,null,"",""]
[null,{"$f":"IF(A9430=\"\",\"\",Notes!$B$4)","v":""},null,null,null,null,null,null,null,null,null,null,"",""]
[null,{"$f":"IF(A9442=\"\",\"\",Notes!$B$4)","v":""},null,null,null,null,null,null,null,null,null,null,"",""]
[null,{"$f":"IF(A9449=\"\",\"\",Notes!$B$4)","v":""},null,null,null,null,null,null,null,null,null,null,"",""]
[null,{"$f":"IF(A9461=\"\",\"\",Notes!$B$4)","v":""},null,null,null,null,null,null,null,null,null,null,"",""]
[null,{"$f":"IF(A9472=\"\",\"\",Notes!$B$4)","v":""},null,null,null,null,null,null,null,null,null,null,"",""]
[null,{"$f":"IF(A9479=\"\",\"\",Notes!$B$4)","v":""},null,null,null,null,null,null,null,null,null,null,"",""]
[null,{"$f":"IF(A9482=\"\",\"\",Notes!$B$4)","v":""},null,null,null,null,null,null,null,null,null,null,"",""]
[null,{"$f":"IF(A9492=\"\",\"\",Notes!$B$4)","v":""},null,null,null,null,null,null,null,null,null,null,"",""]
[null,{"$f":"IF(A9500=\"\",\"\",Notes!$B$4)","v":""},null,null,null,null,null,null,null,null,null,null,"",""]
[null,{"$f":"IF(A9512=\"\",\"\",Notes!$B$4)","v":""},null,null,null,null,null,null,null,null,null,null,"",""]
[null,{"$f":"IF(A9519=\"\",\"\",Notes!$B$4)","v":""},null,null,null,null,null,null,null,null,null,null,"",""]
[null,{"$f":"IF(A9531=\"\",\"\",Notes!$B$4)","v":""},null,null,null,null,null,null,null,null,null,null,"",""]
[null,{"$f":"IF(A9542=\"\",\"\",Notes!$B$4)","v":""},null,null,null,null,null,null,null,null,null,null,"",""]
[null,{"$f":"IF(A9549=\"\",\"\",Notes!$B$4)","v":""},null,null,null,null,null,null,null,null,null,null,"",""]
[null,{"$f":"IF(A9552=\"\",\"\",Notes!$B$4)","v":""},null,null,null,null,null,null,null,null,null,null,"",""]
[null,{"$f":"IF(A9562=\"\",\"\",Notes!$B$4)","v":""},null,null,null,null,null,null,null,null,null,null,"",""]
[null,{"$f":"IF(A9570=\"\",\"\",Notes!$B$4)","v":""},null,null,null,null,null,null,null,null,null,null,"",""]
[null,{"$f":"IF(A9582=\"\",\"\",Notes!$B$4)","v":""},null,null,null,null,null,null,null,null,null,null,"",""]
[null,{"$f":"IF(A9589=\"\",\"\",Notes!$B$4)","v":""},null,null,null,null,null,null,null,null,null,null,"",""]
[null,{"$f":"IF(A9601=\"\",\"\",Notes!$B$4)","v":""},null,null,null,null,null,null,null,null,null,null,"",""]
[null,{"$f":"IF(A9612=\"\",\"\",Notes!$B$4)","v":""},null,null,null,null,null,null,null,null,null,null,"",""]
[null,{"$f":"IF(A9619=\"\",\"\",Notes!$B$4)","v":""},null,null,null,null,null,null,null,null,null,null,"",""]
[null,{"$f":"IF(A9622=\"\",\"\",Notes!$B$4)","v":""},null,null,null,null,null,null,null,null,null,null,"",""]
[null,{"$f":"IF(A9632=\"\",\"\",Notes!$B$4)","v":""},null,null,null,null,null,null,null,null,null,null,"",""]
[null,{"$f":"IF(A9640=\"\",\"\",Notes!$B$4)","v":""},null,null,null,null,null,null,null,null,null,null,"",""]
[null,{"$f":"IF(A9652=\"\",\"\",Notes!$B$4)","v":""},null,null,null,null,null,null,null,null,null,null,"",""]
[null,{"$f":"IF(A9659=\"\",\"\",Notes!$B$4)","v":""},null,null,null,null,null,null,null,null,null,null,"",""]
[null,{"$f":"IF(A9671=\"\",\"\",Notes!$B$4)","v":""},null,null,null,null,null,null,null,null,null,null,"",""]
[null,{"$f":"IF(A9682=\"\",\"\",Notes!$B$4)","v":""},null,null,null,null,null,null,null,null,null,null,"",""]
[null,{"$f":"IF(A9689=\"\",\"\",Notes!$B$4)","v":""},null,null,null,null,null,null,null,null,null,null,"",""]
[null,{"$f":"IF(A9692=\"\",\"\",Notes!$B$4)","v":""},null,null,null,null,null,null,null,null,null,null,"",""]
[null,{"$f":"IF(A9702=\"\",\"\",Notes!$B$4)","v":""},null,null,null,null,null,null,null,null,null,null,"",""]
[null,{"$f":"IF(A9710=\"\",\"\",Notes!$B$4)","v":""},null,null,null,null,null,null,null,null,null,null,"",""]
[null,{"$f":"IF(A9722=\"\",\"\",Notes!$B$4)","v":""},null,null,null,null,null,null,null,null,null,null,"",""]
[null,{"$f":"IF(A9729=\"\",\"\",Notes!$B$4)","v":""},null,null,null,null,null,null,null,null,null,null,"",""]
[null,{"$f":"IF(A9741=\"\",\"\",Notes!$B$4)","v":""},null,null,null,null,null,null,null,null,null,null,"",""]
[null,{"$f":"IF(A9747=\"\",\"\",Notes!$B$4)","v":""},null,null,null,null,null,null,null,null,null,null,"",""]
[null,{"$f":"IF(A9759=\"\",\"\",Notes!$B$4)","v":""},null,null,null,null,null,null,null,null,null,null,"",""]
[null,{"$f":"IF(A9762=\"\",\"\",Notes!$B$4)","v":""},null,null,null,null,null,null,null,null,null,null,"",""]
[null,{"$f":"IF(A9772=\"\",\"\",Notes!$B$4)","v":""},null,null,null,null,null,null,null,null,null,null,"",""]
[null,{"$f":"IF(A9780=\"\",\"\",Notes!$B$4)","v":""},null,null,null,null,null,null,null,null,null,null,"",""]
[null,{"$f":"IF(A9792=\"\",\"\",Notes!$B$4)","v":""},null,null,null,null,null,null,null,null,null,null,"",""]
[null,{"$f":"IF(A9799=\"\",\"\",Notes!$B$4)","v":""},null,null,null,null,null,null,null,null,null,null,"",""]
[null,{"$f":"IF(A9811=\"\",\"\",Notes!$B$4)","v":""},null,null,null,null,null,null,null,null,null,null,"",""]
[null,{"$f":"IF(A9817=\"\",\"\",Notes!$B$4)","v":""},null,null,null,null,null,null,null,null,null,null,"",""]
[null,{"$f":"IF(A9829=\"\",\"\",Notes!$B$4)","v":""},null,null,null,null,null,null,null,null,null,null,"",""]
[null,{"$f":"IF(A9832=\"\",\"\",Notes!$B$4)","v":""},null,null,null,null,null,null,null,null,null,null,"",""]
[null,{"$f":"IF(A9842=\"\",\"\",Notes!$B$4)","v":""},null,null,null,null,null,null,null,null,null,null,"",""]
[null,{"$f":"IF(A9850=\"\",\"\",Notes!$B$4)","v":""},null,null,null,null,null,null,null,null,null,null,"",""]
[null,{"$f":"IF(A9866=\"\",\"\",Notes!$B$4)","v":""},null,null,null,null,null,null,null,null,null,null,"",""]
[null,{"$f":"IF(A9869=\"\",\"\",Notes!$B$4)","v":""},null,null,null,null,null,null,null,null,null,null,"",""]
[null,{"$f":"IF(A9881=\"\",\"\",Notes!$B$4)","v":""},null,null,null,null,null,null,null,null,null,null,"",""]
[null,{"$f":"IF(A9887=\"\",\"\",Notes!$B$4)","v":""},null,null,null,null,null,null,null,null,null,null,"",""]
[null,{"$f":"IF(A9899=\"\",\"\",Notes!$B$4)","v":""},null,null,null,null,null,null,null,null,null,null,"",""]
[null,{"$f":"IF(A9902=\"\",\"\",Notes!$B$4)","v":""},null,null,null,null,null,null,null,null,null,null,"",""]
[null,{"$f":"IF(A9912=\"\",\"\",Notes!$B$4)","v":""},null,null,null,null,null,null,null,null,null,null,"",""]
[null,{"$f":"IF(A9920=\"\",\"\",Notes!$B$4)","v":""},null,null,null,null,null,null,null,null,null,null,"",""]
[null,{"$f":"IF(A9936=\"\",\"\",Notes!$B$4)","v":""},null,null,null,null,null,null,null,null,null,null,"",""]
[null,{"$f":"IF(A9939=\"\",\"\",Notes!$B$4)","v":""},null,null,null,null,null,null,null,null,null,null,"",""]
[null,{"$f":"IF(A9951=\"\",\"\",Notes!$B$4)","v":""},null,null,null,null,null,null,null,null,null,null,"",""]
[null,{"$f":"IF(A9957=\"\",\"\",Notes!$B$4)","v":""},null,null,null,null,null,null,null,null,null,null,"",""]
[null,{"$f":"IF(A9969=\"\",\"\",Notes!$B$4)","v":""},null,null,null,null,null,null,null,null,null,null,"",""]
[null,{"$f":"IF(A9972=\"\",\"\",Notes!$B$4)","v":""},null,null,null,null,null,null,null,null,null,null,"",""]
[null,{"$f":"IF(A9982=\"\",\"\",Notes!$B$4)","v":""},null,null,null,null,null,null,null,null,null,null,"",""]
[null,{"$f":"IF(A9990=\"\",\"\",Notes!$B$4)","v":""},null,null,null,null,null,null,null,null,null,null,"",""]
[null,{"$f":"IF(A10006=\"\",\"\",Notes!$B$4)","v":""},null,null,null,null,null,null,null,null,null,null,"",""]
[null,{"$f":"IF(A10009=\"\",\"\",Notes!$B$4)","v":""},null,null,null,null,null,null,null,null,null,null,"",""]
[null,{"$f":"IF(A10021=\"\",\"\",Notes!$B$4)","v":""},null,null,null,null,null,null,null,null,null,null,"",""]
[null,{"$f":"IF(A10027=\"\",\"\",Notes!$B$4)","v":""},null,null,null,null,null,null,null,null,null,null,"",""]
[null,{"$f":"IF(A10039=\"\",\"\",Notes!$B$4)","v":""},null,null,null,null,null,null,null,null,null,null,"",""]
[null,{"$f":"IF(A10046=\"\",\"\",Notes!$B$4)","v":""},null,null,null,null,null,null,null,null,null,null,"",""]
[null,{"$f":"IF(A10052=\"\",\"\",Notes!$B$4)","v":""},null,null,null,null,null,null,null,null,null,null,"",""]
[null,{"$f":"IF(A10060=\"\",\"\",Notes!$B$4)","v":""},null,null,null,null,null,null,null,null,null,null,"",""]
[null,{"$f":"IF(A10076=\"\",\"\",Notes!$B$4)","v":""},null,null,null,null,null,null,null,null,null,null,"",""]
[null,{"$f":"IF(A10079=\"\",\"\",Notes!$B$4)","v":""},null,null,null,null,null,null,null,null,null,null,"",""]
[null,{"$f":"IF(A10091=\"\",\"\",Notes!$B$4)","v":""},null,null,null,null,null,null,null,null,null,null,"",""]
[null,{"$f":"IF(A10097=\"\",\"\",Notes!$B$4)","v":""},null,null,null,null,null,null,null,null,null,null,"",""]
[null,{"$f":"IF(A10109=\"\",\"\",Notes!$B$4)","v":""},null,null,null,null,null,null,null,null,null,null,"",""]
[null,{"$f":"IF(A10116=\"\",\"\",Notes!$B$4)","v":""},null,null,null,null,null,null,null,null,null,null,"",""]
[null,{"$f":"IF(A10122=\"\",\"\",Notes!$B$4)","v":""},null,null,null,null,null,null,null,null,null,null,"",""]
[null,{"$f":"IF(A10130=\"\",\"\",Notes!$B$4)","v":""},null,null,null,null,null,null,null,null,null,null,"",""]
[null,{"$f":"IF(A10146=\"\",\"\",Notes!$B$4)","v":""},null,null,null,null,null,null,null,null,null,null,"",""]
[null,{"$f":"IF(A10149=\"\",\"\",Notes!$B$4)","v":""},null,null,null,null,null,null,null,null,null,null,"",""]
[null,{"$f":"IF(A10161=\"\",\"\",Notes!$B$4)","v":""},null,null,null,null,null,null,null,null,null,null,"",""]
[null,{"$f":"IF(A10167=\"\",\"\",Notes!$B$4)","v":""},null,null,null,null,null,null,null,null,null,null,"",""]
[null,{"$f":"IF(A10179=\"\",\"\",Notes!$B$4)","v":""},null,null,null,null,null,null,null,null,null,null,"",""]
[null,{"$f":"IF(A10186=\"\",\"\",Notes!$B$4)","v":""},null,null,null,null,null,null,null,null,null,null,"",""]
[null,{"$f":"IF(A10192=\"\",\"\",Notes!$B$4)","v":""},null,null,null,null,null,null,null,null,null,null,"",""]
[null,{"$f":"IF(A10200=\"\",\"\",Notes!$B$4)","v":""},null,null,null,null,null,null,null,null,null,null,"",""]
[null,{"$f":"IF(A10216=\"\",\"\",Notes!$B$4)","v":""},null,null,null,null,null,null,null,null,null,null,"",""]
[null,{"$f":"IF(A10219=\"\",\"\",Notes!$B$4)","v":""},null,null,null,null,null,null,null,null,null,null,"",""]
[null,{"$f":"IF(A10231=\"\",\"\",Notes!$B$4)","v":""},null,null,null,null,null,null,null,null,null,null,"",""]
[null,{"$f":"IF(A10237=\"\",\"\",Notes!$B$4)","v":""},null,null,null,null,null,null,null,null,null,null,"",""]
[null,{"$f":"IF(A10249=\"\",\"\",Notes!$B$4)","v":""},null,null,null,null,null,null,null,null,null,null,"",""]
[null,{"$f":"IF(A10256=\"\",\"\",Notes!$B$4)","v":""},null,null,null,null,null,null,null,null,null,null,"",""]
[null,{"$f":"IF(A10262=\"\",\"\",Notes!$B$4)","v":""},null,null,null,null,null,null,null,null,null,null,"",""]
[null,{"$f":"IF(A10270=\"\",\"\",Notes!$B$4)","v":""},null,null,null,null,null,null,null,null,null,null,"",""]
[null,{"$f":"IF(A10286=\"\",\"\",Notes!$B$4)","v":""},null,null,null,null,null,null,null,null,null,null,"",""]
[null,{"$f":"IF(A10289=\"\",\"\",Notes!$B$4)","v":""},null,null,null,null,null,null,null,null,null,null,"",""]
[null,{"$f":"IF(A10301=\"\",\"\",Notes!$B$4)","v":""},null,null,null,null,null,null,null,null,null,null,"",""]
[null,{"$f":"IF(A10307=\"\",\"\",Notes!$B$4)","v":""},null,null,null,null,null,null,null,null,null,null,"",""]
[null,{"$f":"IF(A10319=\"\",\"\",Notes!$B$4)","v":""},null,null,null,null,null,null,null,null,null,null,"",{"$f":"M10319&A10319","v":""}]
[null,{"$f":"IF(A10326=\"\",\"\",Notes!$B$4)","v":""},null,null,null,null,null,null,null,null,null,null,"",""]
[null,{"$f":"IF(A10332=\"\",\"\",Notes!$B$4)","v":""},null,null,null,null,null,null,null,null,null,null,"",""]
[null,{"$f":"IF(A10344=\"\",\"\",Notes!$B$4)","v":""},null,null,null,null,null,null,null,null,null,null,"",""]
[null,{"$f":"IF(A10356=\"\",\"\",Notes!$B$4)","v":""},null,null,null,null,null,null,null,null,null,null,"",""]
[null,{"$f":"IF(A10359=\"\",\"\",Notes!$B$4)","v":""},null,null,null,null,null,null,null,null,null,null,"",""]
[null,{"$f":"IF(A10371=\"\",\"\",Notes!$B$4)","v":""},null,null,null,null,null,null,null,null,null,null,"",""]
[null,{"$f":"IF(A10377=\"\",\"\",Notes!$B$4)","v":""},null,null,null,null,null,null,null,null,null,null,"",""]
[null,{"$f":"IF(A10389=\"\",\"\",Notes!$B$4)","v":""},null,null,null,null,null,null,null,null,null,null,"",""]
[null,{"$f":"IF(A10396=\"\",\"\",Notes!$B$4)","v":""},null,null,null,null,null,null,null,null,null,null,"",""]
[null,{"$f":"IF(A10402=\"\",\"\",Notes!$B$4)","v":""},null,null,null,null,null,null,null,null,null,null,"",""]
[null,{"$f":"IF(A10414=\"\",\"\",Notes!$B$4)","v":""},null,null,null,null,null,null,null,null,null,null,"",""]
[null,{"$f":"IF(A10426=\"\",\"\",Notes!$B$4)","v":""},null,null,null,null,null,null,null,null,null,null,"",""]
[null,{"$f":"IF(A10429=\"\",\"\",Notes!$B$4)","v":""},null,null,null,null,null,null,null,null,null,null,"",""]
[null,{"$f":"IF(A10441=\"\",\"\",Notes!$B$4)","v":""},null,null,null,null,null,null,null,null,null,null,"",""]
[null,{"$f":"IF(A10447=\"\",\"\",Notes!$B$4)","v":""},null,null,null,null,null,null,null,null,null,null,"",{"$f":"M10447&A10447","v":""}]
[null,{"$f":"IF(A10459=\"\",\"\",Notes!$B$4)","v":""},null,null,null,null,null,null,null,null,null,null,"",""]
[null,{"$f":"IF(A10466=\"\",\"\",Notes!$B$4)","v":""},null,null,null,null,null,null,null,null,null,null,"",""]
[null,{"$f":"IF(A10472=\"\",\"\",Notes!$B$4)","v":""},null,null,null,null,null,null,null,null,null,null,"",""]
[null,{"$f":"IF(A10484=\"\",\"\",Notes!$B$4)","v":""},null,null,null,null,null,null,null,null,null,null,"",""]
[null,{"$f":"IF(A10496=\"\",\"\",Notes!$B$4)","v":""},null,null,null,null,null,null,null,null,null,null,"",""]
[null,{"$f":"IF(A10499=\"\",\"\",Notes!$B$4)","v":""},null,null,null,null,null,null,null,null,null,null,"",""]
[null,{"$f":"IF(A10511=\"\",\"\",Notes!$B$4)","v":""},null,null,null,null,null,null,null,null,null,null,"",{"$f":"M10511&A10511","v":""}]
[null,{"$f":"IF(A10517=\"\",\"\",Notes!$B$4)","v":""},null,null,null,null,null,null,null,null,null,null,"",""]
[null,{"$f":"IF(A10524=\"\",\"\",Notes!$B$4)","v":""},null,null,null,null,null,null,null,null,null,null,"",""]
[null,{"$f":"IF(A10536=\"\",\"\",Notes!$B$4)","v":""},null,null,null,null,null,null,null,null,null,null,"",""]
[null,{"$f":"IF(A10542=\"\",\"\",Notes!$B$4)","v":""},null,null,null,null,null,null,null,null,null,null,"",""]
[null,{"$f":"IF(A10554=\"\",\"\",Notes!$B$4)","v":""},null,null,null,null,null,null,null,null,null,null,"",""]
[null,{"$f":"IF(A10566=\"\",\"\",Notes!$B$4)","v":""},null,null,null,null,null,null,null,null,null,null,"",""]
[null,{"$f":"IF(A10569=\"\",\"\",Notes!$B$4)","v":""},null,null,null,null,null,null,null,null,null,null,"",""]
[null,{"$f":"IF(A10581=\"\",\"\",Notes!$B$4)","v":""},null,null,null,null,null,null,null,null,null,null,"",""]
[null,{"$f":"IF(A10587=\"\",\"\",Notes!$B$4)","v":""},null,null,null,null,null,null,null,null,null,null,"",""]
[null,{"$f":"IF(A10594=\"\",\"\",Notes!$B$4)","v":""},null,null,null,null,null,null,null,null,null,null,"",""]
[null,{"$f":"IF(A10606=\"\",\"\",Notes!$B$4)","v":""},null,null,null,null,null,null,null,null,null,null,"",""]
[null,{"$f":"IF(A10612=\"\",\"\",Notes!$B$4)","v":""},null,null,null,null,null,null,null,null,null,null,"",""]
[null,{"$f":"IF(A10624=\"\",\"\",Notes!$B$4)","v":""},null,null,null,null,null,null,null,null,null,null,"",""]
[null,{"$f":"IF(A10636=\"\",\"\",Notes!$B$4)","v":""},null,null,null,null,null,null,null,null,null,null,"",""]
[null,{"$f":"IF(A10643=\"\",\"\",Notes!$B$4)","v":""},null,null,null,null,null,null,null,null,null,null,"",""]
[null,{"$f":"IF(A10651=\"\",\"\",Notes!$B$4)","v":""},null,null,null,null,null,null,null,null,null,null,"",""]
[null,{"$f":"IF(A10657=\"\",\"\",Notes!$B$4)","v":""},null,null,null,null,null,null,null,null,null,null,"",""]
[null,{"$f":"IF(A10664=\"\",\"\",Notes!$B$4)","v":""},null,null,null,null,null,null,null,null,null,null,"",""]
[null,{"$f":"IF(A10676=\"\",\"\",Notes!$B$4)","v":""},null,null,null,null,null,null,null,null,null,null,"",""]
[null,{"$f":"IF(A10682=\"\",\"\",Notes!$B$4)","v":""},null,null,null,null,null,null,null,null,null,null,"",""]
[null,{"$f":"IF(A10694=\"\",\"\",Notes!$B$4)","v":""},null,null,null,null,null,null,null,null,null,null,"",""]
[null,{"$f":"IF(A10706=\"\",\"\",Notes!$B$4)","v":""},null,null,null,null,null,null,null,null,null,null,"",""]
[null,{"$f":"IF(A10713=\"\",\"\",Notes!$B$4)","v":""},null,null,null,null,null,null,null,null,null,null,"",""]
[null,{"$f":"IF(A10721=\"\",\"\",Notes!$B$4)","v":""},null,null,null,null,null,null,null,null,null,null,"",""]
[null,{"$f":"IF(A10727=\"\",\"\",Notes!$B$4)","v":""},null,null,null,null,null,null,null,null,null,null,"",""]
[null,{"$f":"IF(A10734=\"\",\"\",Notes!$B$4)","v":""},null,null,null,null,null,null,null,null,null,null,"",""]
[null,{"$f":"IF(A10746=\"\",\"\",Notes!$B$4)","v":""},null,null,null,null,null,null,null,null,null,null,"",""]
[null,{"$f":"IF(A10752=\"\",\"\",Notes!$B$4)","v":""},null,null,null,null,null,null,null,null,null,null,"",""]
[null,{"$f":"IF(A10764=\"\",\"\",Notes!$B$4)","v":""},null,null,null,null,null,null,null,null,null,null,"",""]
[null,{"$f":"IF(A10776=\"\",\"\",Notes!$B$4)","v":""},null,null,null,null,null,null,null,null,null,null,"",""]
[null,{"$f":"IF(A10783=\"\",\"\",Notes!$B$4)","v":""},null,null,null,null,null,null,null,null,null,null,"",""]
[null,{"$f":"IF(A10791=\"\",\"\",Notes!$B$4)","v":""},null,null,null,null,null,null,null,null,null,null,"",""]
[null,{"$f":"IF(A10797=\"\",\"\",Notes!$B$4)","v":""},null,null,null,null,null,null,null,null,null,null,"",""]
[null,{"$f":"IF(A10804=\"\",\"\",Notes!$B$4)","v":""},null,null,null,null,null,null,null,null,null,null,"",""]
[null,{"$f":"IF(A10816=\"\",\"\",Notes!$B$4)","v":""},null,null,null,null,null,null,null,null,null,null,"",""]
[null,{"$f":"IF(A10822=\"\",\"\",Notes!$B$4)","v":""},null,null,null,null,null,null,null,null,null,null,"",""]
[null,{"$f":"IF(A10834=\"\",\"\",Notes!$B$4)","v":""},null,null,null,null,null,null,null,null,null,null,"",""]
[null,{"$f":"IF(A10846=\"\",\"\",Notes!$B$4)","v":""},null,null,null,null,null,null,null,null,null,null,"",""]
[null,{"$f":"IF(A10853=\"\",\"\",Notes!$B$4)","v":""},null,null,null,null,null,null,null,null,null,null,"",""]
[null,{"$f":"IF(A10861=\"\",\"\",Notes!$B$4)","v":""},null,null,null,null,null,null,null,null,null,null,"",""]
[null,{"$f":"IF(A10867=\"\",\"\",Notes!$B$4)","v":""},null,null,null,null,null,null,null,null,null,null,"",""]
[null,{"$f":"IF(A10874=\"\",\"\",Notes!$B$4)","v":""},null,null,null,null,null,null,null,null,null,null,"",""]
[null,{"$f":"IF(A10886=\"\",\"\",Notes!$B$4)","v":""},null,null,null,null,null,null,null,null,null,null,"",""]
[null,{"$f":"IF(A10892=\"\",\"\",Notes!$B$4)","v":""},null,null,null,null,null,null,null,null,null,null,"",""]
[null,{"$f":"IF(A10904=\"\",\"\",Notes!$B$4)","v":""},null,null,null,null,null,null,null,null,null,null,"",""]
[null,{"$f":"IF(A10916=\"\",\"\",Notes!$B$4)","v":""},null,null,null,null,null,null,null,null,null,null,"",""]
[null,{"$f":"IF(A10923=\"\",\"\",Notes!$B$4)","v":""},null,null,null,null,null,null,null,null,null,null,"",""]
[null,{"$f":"IF(A10931=\"\",\"\",Notes!$B$4)","v":""},null,null,null,null,null,null,null,null,null,null,"",""]
[null,{"$f":"IF(A10937=\"\",\"\",Notes!$B$4)","v":""},null,null,null,null,null,null,null,null,null,null,"",""]
[null,{"$f":"IF(A10944=\"\",\"\",Notes!$B$4)","v":""},null,null,null,null,null,null,null,null,null,null,"",""]
[null,{"$f":"IF(A10956=\"\",\"\",Notes!$B$4)","v":""},null,null,null,null,null,null,null,null,null,null,"",""]
[null,{"$f":"IF(A10962=\"\",\"\",Notes!$B$4)","v":""},null,null,null,null,null,null,null,null,null,null,"",""]
[null,{"$f":"IF(A10974=\"\",\"\",Notes!$B$4)","v":""},null,null,null,null,null,null,null,null,null,null,"",""]
[null,{"$f":"IF(A10986=\"\",\"\",Notes!$B$4)","v":""},null,null,null,null,null,null,null,null,null,null,"",""]
[null,{"$f":"IF(A10993=\"\",\"\",Notes!$B$4)","v":""},null,null,null,null,null,null,null,null,null,null,"",""]
[null,{"$f":"IF(A11001=\"\",\"\",Notes!$B$4)","v":""},null,null,null,null,null,null,null,null,null,null,"",""]
[null,{"$f":"IF(A11011=\"\",\"\",Notes!$B$4)","v":""},null,null,null,null,null,null,null,null,null,null,"",""]
[null,{"$f":"IF(A11014=\"\",\"\",Notes!$B$4)","v":""},null,null,null,null,null,null,null,null,null,null,"",""]
[null,{"$f":"IF(A11026=\"\",\"\",Notes!$B$4)","v":""},null,null,null,null,null,null,null,null,null,null,"",""]
[null,{"$f":"IF(A11032=\"\",\"\",Notes!$B$4)","v":""},null,null,null,null,null,null,null,null,null,null,"",""]
[null,{"$f":"IF(A11044=\"\",\"\",Notes!$B$4)","v":""},null,null,null,null,null,null,null,null,null,null,"",""]
[null,{"$f":"IF(A11056=\"\",\"\",Notes!$B$4)","v":""},null,null,null,null,null,null,null,null,null,null,"",""]
[null,{"$f":"IF(A11063=\"\",\"\",Notes!$B$4)","v":""},null,null,null,null,null,null,null,null,null,null,"",""]
[null,{"$f":"IF(A11071=\"\",\"\",Notes!$B$4)","v":""},null,null,null,null,null,null,null,null,null,null,"",""]
[null,{"$f":"IF(A11081=\"\",\"\",Notes!$B$4)","v":""},null,null,null,null,null,null,null,null,null,null,"",""]
[null,{"$f":"IF(A11084=\"\",\"\",Notes!$B$4)","v":""},null,null,null,null,null,null,null,null,null,null,"",""]
[null,{"$f":"IF(A11096=\"\",\"\",Notes!$B$4)","v":""},null,null,null,null,null,null,null,null,null,null,"",""]
[null,{"$f":"IF(A11102=\"\",\"\",Notes!$B$4)","v":""},null,null,null,null,null,null,null,null,null,null,"",""]
[null,{"$f":"IF(A11114=\"\",\"\",Notes!$B$4)","v":""},null,null,null,null,null,null,null,null,null,null,"",""]
[null,{"$f":"IF(A11121=\"\",\"\",Notes!$B$4)","v":""},null,null,null,null,null,null,null,null,null,null,"",""]
[null,{"$f":"IF(A11133=\"\",\"\",Notes!$B$4)","v":""},null,null,null,null,null,null,null,null,null,null,"",""]
[null,{"$f":"IF(A11141=\"\",\"\",Notes!$B$4)","v":""},null,null,null,null,null,null,null,null,null,null,"",""]
[null,{"$f":"IF(A11151=\"\",\"\",Notes!$B$4)","v":""},null,null,null,null,null,null,null,null,null,null,"",{"$f":"M11151&A11151","v":""}]
[null,{"$f":"IF(A11154=\"\",\"\",Notes!$B$4)","v":""},null,null,null,null,null,null,null,null,null,null,"",""]
[null,{"$f":"IF(A11166=\"\",\"\",Notes!$B$4)","v":""},null,null,null,null,null,null,null,null,null,null,"",""]
[null,{"$f":"IF(A11172=\"\",\"\",Notes!$B$4)","v":""},null,null,null,null,null,null,null,null,null,null,"",""]
[null,{"$f":"IF(A11184=\"\",\"\",Notes!$B$4)","v":""},null,null,null,null,null,null,null,null,null,null,"",""]
[null,{"$f":"IF(A11191=\"\",\"\",Notes!$B$4)","v":""},null,null,null,null,null,null,null,null,null,null,"",""]
[null,{"$f":"IF(A11203=\"\",\"\",Notes!$B$4)","v":""},null,null,null,null,null,null,null,null,null,null,"",""]
[null,{"$f":"IF(A11211=\"\",\"\",Notes!$B$4)","v":""},null,null,null,null,null,null,null,null,null,null,"",""]
[null,{"$f":"IF(A11221=\"\",\"\",Notes!$B$4)","v":""},null,null,null,null,null,null,null,null,null,null,"",""]
[null,{"$f":"IF(A11224=\"\",\"\",Notes!$B$4)","v":""},null,null,null,null,null,null,null,null,null,null,"",""]
[null,{"$f":"IF(A11236=\"\",\"\",Notes!$B$4)","v":""},null,null,null,null,null,null,null,null,null,null,"",""]
[null,{"$f":"IF(A11242=\"\",\"\",Notes!$B$4)","v":""},null,null,null,null,null,null,null,null,null,null,"",""]
[null,{"$f":"IF(A11254=\"\",\"\",Notes!$B$4)","v":""},null,null,null,null,null,null,null,null,null,null,"",""]
[null,{"$f":"IF(A11261=\"\",\"\",Notes!$B$4)","v":""},null,null,null,null,null,null,null,null,null,null,"",""]
[null,{"$f":"IF(A11273=\"\",\"\",Notes!$B$4)","v":""},null,null,null,null,null,null,null,null,null,null,"",""]
[null,{"$f":"IF(A11281=\"\",\"\",Notes!$B$4)","v":""},null,null,null,null,null,null,null,null,null,null,"",""]
[null,{"$f":"IF(A11291=\"\",\"\",Notes!$B$4)","v":""},null,null,null,null,null,null,null,null,null,null,"",""]
[null,{"$f":"IF(A11294=\"\",\"\",Notes!$B$4)","v":""},null,null,null,null,null,null,null,null,null,null,"",""]
[null,{"$f":"IF(A11310=\"\",\"\",Notes!$B$4)","v":""},null,null,null,null,null,null,null,null,null,null,"",""]
[null,{"$f":"IF(A11312=\"\",\"\",Notes!$B$4)","v":""},null,null,null,null,null,null,null,null,null,null,"",""]
[null,{"$f":"IF(A11324=\"\",\"\",Notes!$B$4)","v":""},null,null,null,null,null,null,null,null,null,null,"",""]
[null,{"$f":"IF(A11331=\"\",\"\",Notes!$B$4)","v":""},null,null,null,null,null,null,null,null,null,null,"",""]
[null,{"$f":"IF(A11343=\"\",\"\",Notes!$B$4)","v":""},null,null,null,null,null,null,null,null,null,null,"",{"$f":"M11343&A11343","v":""}]
[null,{"$f":"IF(A11351=\"\",\"\",Notes!$B$4)","v":""},null,null,null,null,null,null,null,null,null,null,"",""]
[null,{"$f":"IF(A11361=\"\",\"\",Notes!$B$4)","v":""},null,null,null,null,null,null,null,null,null,null,"",""]
[null,{"$f":"IF(A11364=\"\",\"\",Notes!$B$4)","v":""},null,null,null,null,null,null,null,null,null,null,"",""]
[null,{"$f":"IF(A11380=\"\",\"\",Notes!$B$4)","v":""},null,null,null,null,null,null,null,null,null,null,"",""]
[null,{"$f":"IF(A11382=\"\",\"\",Notes!$B$4)","v":""},null,null,null,null,null,null,null,null,null,null,"",""]
[null,{"$f":"IF(A11394=\"\",\"\",Notes!$B$4)","v":""},null,null,null,null,null,null,null,null,null,null,{"$f":"IF(A11394=\"\",\"\",VLOOKUP(B11394,SchoolID,2,FALSE))","v":""},""]
[null,{"$f":"IF(A11401=\"\",\"\",Notes!$B$4)","v":""},null,null,null,null,null,null,null,null,null,null,"",""]
[null,{"$f":"IF(A11413=\"\",\"\",Notes!$B$4)","v":""},null,null,null,null,null,null,null,null,null,null,"",""]
[null,{"$f":"IF(A11421=\"\",\"\",Notes!$B$4)","v":""},null,null,null,null,null,null,null,null,null,null,"",""]
[null,{"$f":"IF(A11431=\"\",\"\",Notes!$B$4)","v":""},null,null,null,null,null,null,null,null,null,null,"",""]
[null,{"$f":"IF(A11434=\"\",\"\",Notes!$B$4)","v":""},null,null,null,null,null,null,null,null,null,null,"",""]
[null,{"$f":"IF(A11450=\"\",\"\",Notes!$B$4)","v":""},null,null,null,null,null,null,null,null,null,null,"",""]
[null,{"$f":"IF(A11452=\"\",\"\",Notes!$B$4)","v":""},null,null,null,null,null,null,null,null,null,null,"",""]
[null,{"$f":"IF(A11464=\"\",\"\",Notes!$B$4)","v":""},null,null,null,null,null,null,null,null,null,null,"",""]
[null,{"$f":"IF(A11471=\"\",\"\",Notes!$B$4)","v":""},null,null,null,null,null,null,null,null,null,null,"",{"$f":"M11471&A11471","v":""}]
[null,{"$f":"IF(A11483=\"\",\"\",Notes!$B$4)","v":""},null,null,null,null,null,null,null,null,null,null,"",""]
[null,{"$f":"IF(A11491=\"\",\"\",Notes!$B$4)","v":""},null,null,null,null,null,null,null,null,null,null,"",""]
[null,{"$f":"IF(A11501=\"\",\"\",Notes!$B$4)","v":""},null,null,null,null,null,null,null,null,null,null,"",""]
[null,{"$f":"IF(A11504=\"\",\"\",Notes!$B$4)","v":""},null,null,null,null,null,null,null,null,null,null,"",""]
[null,{"$f":"IF(A11520=\"\",\"\",Notes!$B$4)","v":""},null,null,null,null,null,null,null,null,null,null,"",""]
[null,{"$f":"IF(A11522=\"\",\"\",Notes!$B$4)","v":""},null,null,null,null,null,null,null,null,null,null,{"$f":"IF(A11522=\"\",\"\",VLOOKUP(B11522,SchoolID,2,FALSE))","v":""},""]
[null,{"$f":"IF(A11534=\"\",\"\",Notes!$B$4)","v":""},null,null,null,null,null,null,null,null,null,null,"",""]
[null,{"$f":"IF(A11541=\"\",\"\",Notes!$B$4)","v":""},null,null,null,null,null,null,null,null,null,null,"",""]
[null,{"$f":"IF(A11553=\"\",\"\",Notes!$B$4)","v":""},null,null,null,null,null,null,null,null,null,null,"",""]
[null,{"$f":"IF(A11561=\"\",\"\",Notes!$B$4)","v":""},null,null,null,null,null,null,null,null,null,null,"",""]
[null,{"$f":"IF(A11571=\"\",\"\",Notes!$B$4)","v":""},null,null,null,null,null,null,null,null,null,null,"",""]
[null,{"$f":"IF(A11574=\"\",\"\",Notes!$B$4)","v":""},null,null,null,null,null,null,null,null,null,null,"",""]
[null,{"$f":"IF(A11590=\"\",\"\",Notes!$B$4)","v":""},null,null,null,null,null,null,null,null,null,null,"",""]
[null,{"$f":"IF(A11592=\"\",\"\",Notes!$B$4)","v":""},null,null,null,null,null,null,null,null,null,null,"",""]
[null,{"$f":"IF(A11599=\"\",\"\",Notes!$B$4)","v":""},null,null,null,null,null,null,null,null,null,null,"",{"$f":"M11599&A11599","v":""}]
[null,{"$f":"IF(A11611=\"\",\"\",Notes!$B$4)","v":""},null,null,null,null,null,null,null,null,null,null,"",""]
[null,{"$f":"IF(A11623=\"\",\"\",Notes!$B$4)","v":""},null,null,null,null,null,null,null,null,null,null,"",""]
[null,{"$f":"IF(A11631=\"\",\"\",Notes!$B$4)","v":""},null,null,null,null,null,null,null,null,null,null,"",""]
[null,{"$f":"IF(A11641=\"\",\"\",Notes!$B$4)","v":""},null,null,null,null,null,null,null,null,null,null,"",""]
[null,{"$f":"IF(A11644=\"\",\"\",Notes!$B$4)","v":""},null,null,null,null,null,null,null,null,null,null,"",""]
[null,{"$f":"IF(A11660=\"\",\"\",Notes!$B$4)","v":""},null,null,null,null,null,null,null,null,null,null,"",""]
[null,{"$f":"IF(A11662=\"\",\"\",Notes!$B$4)","v":""},null,null,null,null,null,null,null,null,null,null,"",""]
[null,{"$f":"IF(A11669=\"\",\"\",Notes!$B$4)","v":""},null,null,null,null,null,null,null,null,null,null,"",""]
[null,{"$f":"IF(A11681=\"\",\"\",Notes!$B$4)","v":""},null,null,null,null,null,null,null,null,null,null,"",""]
[null,{"$f":"IF(A11693=\"\",\"\",Notes!$B$4)","v":""},null,null,null,null,null,null,null,null,null,null,"",""]
[null,{"$f":"IF(A11701=\"\",\"\",Notes!$B$4)","v":""},null,null,null,null,null,null,null,null,null,null,"",""]
[null,{"$f":"IF(A11711=\"\",\"\",Notes!$B$4)","v":""},null,null,null,null,null,null,null,null,null,null,"",""]
[null,{"$f":"IF(A11714=\"\",\"\",Notes!$B$4)","v":""},null,null,null,null,null,null,null,null,null,null,{"$f":"IF(A11714=\"\",\"\",VLOOKUP(B11714,SchoolID,2,FALSE))","v":""},""]
[null,{"$f":"IF(A11730=\"\",\"\",Notes!$B$4)","v":""},null,null,null,null,null,null,null,null,null,null,"",""]
[null,{"$f":"IF(A11732=\"\",\"\",Notes!$B$4)","v":""},null,null,null,null,null,null,null,null,null,null,"",""]
[null,{"$f":"IF(A11739=\"\",\"\",Notes!$B$4)","v":""},null,null,null,null,null,null,null,null,null,null,"",""]
[null,{"$f":"IF(A11751=\"\",\"\",Notes!$B$4)","v":""},null,null,null,null,null,null,null,null,null,null,"",""]
[null,{"$f":"IF(A11763=\"\",\"\",Notes!$B$4)","v":""},null,null,null,null,null,null,null,null,null,null,"",""]
[null,{"$f":"IF(A11771=\"\",\"\",Notes!$B$4)","v":""},null,null,null,null,null,null,null,null,null,null,"",""]
[null,{"$f":"IF(A11781=\"\",\"\",Notes!$B$4)","v":""},null,null,null,null,null,null,null,null,null,null,"",""]
[null,{"$f":"IF(A11788=\"\",\"\",Notes!$B$4)","v":""},null,null,null,null,null,null,null,null,null,null,"",""]
[null,{"$f":"IF(A11800=\"\",\"\",Notes!$B$4)","v":""},null,null,null,null,null,null,null,null,null,null,"",""]
[null,{"$f":"IF(A11802=\"\",\"\",Notes!$B$4)","v":""},null,null,null,null,null,null,null,null,null,null,"",""]
[null,{"$f":"IF(A11809=\"\",\"\",Notes!$B$4)","v":""},null,null,null,null,null,null,null,null,null,null,"",""]
[null,{"$f":"IF(A11821=\"\",\"\",Notes!$B$4)","v":""},null,null,null,null,null,null,null,null,null,null,"",""]
[null,{"$f":"IF(A11833=\"\",\"\",Notes!$B$4)","v":""},null,null,null,null,null,null,null,null,null,null,"",""]
[null,{"$f":"IF(A11841=\"\",\"\",Notes!$B$4)","v":""},null,null,null,null,null,null,null,null,null,null,"",""]
[null,{"$f":"IF(A11851=\"\",\"\",Notes!$B$4)","v":""},null,null,null,null,null,null,null,null,null,null,"",""]
[null,{"$f":"IF(A11858=\"\",\"\",Notes!$B$4)","v":""},null,null,null,null,null,null,null,null,null,null,"",""]
[null,{"$f":"IF(A11870=\"\",\"\",Notes!$B$4)","v":""},null,null,null,null,null,null,null,null,null,null,"",""]
[null,{"$f":"IF(A11872=\"\",\"\",Notes!$B$4)","v":""},null,null,null,null,null,null,null,null,null,null,"",""]
[null,{"$f":"IF(A11879=\"\",\"\",Notes!$B$4)","v":""},null,null,null,null,null,null,null,null,null,null,"",""]
[null,{"$f":"IF(A11891=\"\",\"\",Notes!$B$4)","v":""},null,null,null,null,null,null,null,null,null,null,"",""]
[null,{"$f":"IF(A11898=\"\",\"\",Notes!$B$4)","v":""},null,null,null,null,null,null,null,null,null,null,"",""]
[null,{"$f":"IF(A11911=\"\",\"\",Notes!$B$4)","v":""},null,null,null,null,null,null,null,null,null,null,"",""]
[null,{"$f":"IF(A11921=\"\",\"\",Notes!$B$4)","v":""},null,null,null,null,null,null,null,null,null,null,"",""]
[null,{"$f":"IF(A11928=\"\",\"\",Notes!$B$4)","v":""},null,null,null,null,null,null,null,null,null,null,"",""]
[null,{"$f":"IF(A11940=\"\",\"\",Notes!$B$4)","v":""},null,null,null,null,null,null,null,null,null,null,"",""]
[null,{"$f":"IF(A11942=\"\",\"\",Notes!$B$4)","v":""},null,null,null,null,null,null,null,null,null,null,"",""]
[null,{"$f":"IF(A11949=\"\",\"\",Notes!$B$4)","v":""},null,null,null,null,null,null,null,null,null,null,"",""]
[null,{"$f":"IF(A11961=\"\",\"\",Notes!$B$4)","v":""},null,null,null,null,null,null,null,null,null,null,"",""]
[null,{"$f":"IF(A11968=\"\",\"\",Notes!$B$4)","v":""},null,null,null,null,null,null,null,null,null,null,"",""]
[null,{"$f":"IF(A11981=\"\",\"\",Notes!$B$4)","v":""},null,null,null,null,null,null,null,null,null,null,"",""]
[null,{"$f":"IF(A11991=\"\",\"\",Notes!$B$4)","v":""},null,null,null,null,null,null,null,null,null,null,"",""]
[null,{"$f":"IF(A11998=\"\",\"\",Notes!$B$4)","v":""},null,null,null,null,null,null,null,null,null,null,"",""]
[null,{"$f":"IF(A12010=\"\",\"\",Notes!$B$4)","v":""},null,null,null,null,null,null,null,null,null,null,"",""]
[null,{"$f":"IF(A12012=\"\",\"\",Notes!$B$4)","v":""},null,null,null,null,null,null,null,null,null,null,"",""]
[null,{"$f":"IF(A12019=\"\",\"\",Notes!$B$4)","v":""},null,null,null,null,null,null,null,null,null,null,"",""]
[null,{"$f":"IF(A12031=\"\",\"\",Notes!$B$4)","v":""},null,null,null,null,null,null,null,null,null,null,"",""]
[null,{"$f":"IF(A12038=\"\",\"\",Notes!$B$4)","v":""},null,null,null,null,null,null,null,null,null,null,"",""]
[null,{"$f":"IF(A12051=\"\",\"\",Notes!$B$4)","v":""},null,null,null,null,null,null,null,null,null,null,"",""]
[null,{"$f":"IF(A12061=\"\",\"\",Notes!$B$4)","v":""},null,null,null,null,null,null,null,null,null,null,"",""]
[null,{"$f":"IF(A12068=\"\",\"\",Notes!$B$4)","v":""},null,null,null,null,null,null,null,null,null,null,"",""]
[null,{"$f":"IF(A12080=\"\",\"\",Notes!$B$4)","v":""},null,null,null,null,null,null,null,null,null,null,"",""]
[null,{"$f":"IF(A12082=\"\",\"\",Notes!$B$4)","v":""},null,null,null,null,null,null,null,null,null,null,"",""]
[null,{"$f":"IF(A12089=\"\",\"\",Notes!$B$4)","v":""},null,null,null,null,null,null,null,null,null,null,"",""]
[null,{"$f":"IF(A12101=\"\",\"\",Notes!$B$4)","v":""},null,null,null,null,null,null,null,null,null,null,"",""]
[null,{"$f":"IF(A12108=\"\",\"\",Notes!$B$4)","v":""},null,null,null,null,null,null,null,null,null,null,"",""]
[null,{"$f":"IF(A12121=\"\",\"\",Notes!$B$4)","v":""},null,null,null,null,null,null,null,null,null,null,"",""]
[null,{"$f":"IF(A12131=\"\",\"\",Notes!$B$4)","v":""},null,null,null,null,null,null,null,null,null,null,"",""]
[null,{"$f":"IF(A12138=\"\",\"\",Notes!$B$4)","v":""},null,null,null,null,null,null,null,null,null,null,"",""]
[null,{"$f":"IF(A12150=\"\",\"\",Notes!$B$4)","v":""},null,null,null,null,null,null,null,null,null,null,"",""]
[null,{"$f":"IF(A12152=\"\",\"\",Notes!$B$4)","v":""},null,null,null,null,null,null,null,null,null,null,"",""]
[null,{"$f":"IF(A12159=\"\",\"\",Notes!$B$4)","v":""},null,null,null,null,null,null,null,null,null,null,"",""]
[null,{"$f":"IF(A12171=\"\",\"\",Notes!$B$4)","v":""},null,null,null,null,null,null,null,null,null,null,"",""]
[null,{"$f":"IF(A12178=\"\",\"\",Notes!$B$4)","v":""},null,null,null,null,null,null,null,null,null,null,"",""]
[null,{"$f":"IF(A12191=\"\",\"\",Notes!$B$4)","v":""},null,null,null,null,null,null,null,null,null,null,"",""]
[null,{"$f":"IF(A12201=\"\",\"\",Notes!$B$4)","v":""},null,null,null,null,null,null,null,null,null,null,"",""]
[null,{"$f":"IF(A12208=\"\",\"\",Notes!$B$4)","v":""},null,null,null,null,null,null,null,null,null,null,"",""]
[null,{"$f":"IF(A12220=\"\",\"\",Notes!$B$4)","v":""},null,null,null,null,null,null,null,null,null,null,"",""]
[null,{"$f":"IF(A12222=\"\",\"\",Notes!$B$4)","v":""},null,null,null,null,null,null,null,null,null,null,"",""]
[null,{"$f":"IF(A12229=\"\",\"\",Notes!$B$4)","v":""},null,null,null,null,null,null,null,null,null,null,"",""]
[null,{"$f":"IF(A12241=\"\",\"\",Notes!$B$4)","v":""},null,null,null,null,null,null,null,null,null,null,"",""]
[null,{"$f":"IF(A12248=\"\",\"\",Notes!$B$4)","v":""},null,null,null,null,null,null,null,null,null,null,"",""]
[null,{"$f":"IF(A12261=\"\",\"\",Notes!$B$4)","v":""},null,null,null,null,null,null,null,null,null,null,"",""]
[null,{"$f":"IF(A12266=\"\",\"\",Notes!$B$4)","v":""},null,null,null,null,null,null,null,null,null,null,"",""]
[null,{"$f":"IF(A12278=\"\",\"\",Notes!$B$4)","v":""},null,null,null,null,null,null,null,null,null,null,"",""]
[null,{"$f":"IF(A12290=\"\",\"\",Notes!$B$4)","v":""},null,null,null,null,null,null,null,null,null,null,{"$f":"IF(A12290=\"\",\"\",VLOOKUP(B12290,SchoolID,2,FALSE))","v":""},""]
[null,{"$f":"IF(A12292=\"\",\"\",Notes!$B$4)","v":""},null,null,null,null,null,null,null,null,null,null,"",""]
[null,{"$f":"IF(A12299=\"\",\"\",Notes!$B$4)","v":""},null,null,null,null,null,null,null,null,null,null,"",""]
[null,{"$f":"IF(A12311=\"\",\"\",Notes!$B$4)","v":""},null,null,null,null,null,null,null,null,null,null,"",""]
[null,{"$f":"IF(A12318=\"\",\"\",Notes!$B$4)","v":""},null,null,null,null,null,null,null,null,null,null,"",""]
[null,{"$f":"IF(A12331=\"\",\"\",Notes!$B$4)","v":""},null,null,null,null,null,null,null,null,null,null,"",""]
[null,{"$f":"IF(A12336=\"\",\"\",Notes!$B$4)","v":""},null,null,null,null,null,null,null,null,null,null,"",""]
[null,{"$f":"IF(A12348=\"\",\"\",Notes!$B$4)","v":""},null,null,null,null,null,null,null,null,null,null,"",""]
[null,{"$f":"IF(A12360=\"\",\"\",Notes!$B$4)","v":""},null,null,null,null,null,null,null,null,null,null,"",""]
[null,{"$f":"IF(A12362=\"\",\"\",Notes!$B$4)","v":""},null,null,null,null,null,null,null,null,null,null,"",""]
[null,{"$f":"IF(A12369=\"\",\"\",Notes!$B$4)","v":""},null,null,null,null,null,null,null,null,null,null,"",""]
[null,{"$f":"IF(A12385=\"\",\"\",Notes!$B$4)","v":""},null,null,null,null,null,null,null,null,null,null,"",""]
[null,{"$f":"IF(A12388=\"\",\"\",Notes!$B$4)","v":""},null,null,null,null,null,null,null,null,null,null,"",""]
[null,{"$f":"IF(A12401=\"\",\"\",Notes!$B$4)","v":""},null,null,null,null,null,null,null,null,null,null,"",""]
[null,{"$f":"IF(A12406=\"\",\"\",Notes!$B$4)","v":""},null,null,null,null,null,null,null,null,null,null,"",""]
[null,{"$f":"IF(A12418=\"\",\"\",Notes!$B$4)","v":""},null,null,null,null,null,null,null,null,null,null,{"$f":"IF(A12418=\"\",\"\",VLOOKUP(B12418,SchoolID,2,FALSE))","v":""},""]
[null,{"$f":"IF(A12430=\"\",\"\",Notes!$B$4)","v":""},null,null,null,null,null,null,null,null,null,null,"",""]
[null,{"$f":"IF(A12432=\"\",\"\",Notes!$B$4)","v":""},null,null,null,null,null,null,null,null,null,null,"",""]
[null,{"$f":"IF(A12439=\"\",\"\",Notes!$B$4)","v":""},null,null,null,null,null,null,null,null,null,null,"",""]
[null,{"$f":"IF(A12455=\"\",\"\",Notes!$B$4)","v":""},null,null,null,null,null,null,null,null,null,null,"",""]
[null,{"$f":"IF(A12458=\"\",\"\",Notes!$B$4)","v":""},null,null,null,null,null,null,null,null,null,null,"",""]
[null,{"$f":"IF(A12471=\"\",\"\",Notes!$B$4)","v":""},null,null,null,null,null,null,null,null,null,null,"",""]
[null,{"$f":"IF(A12476=\"\",\"\",Notes!$B$4)","v":""},null,null,null,null,null,null,null,null,null,null,"",""]
[null,{"$f":"IF(A12488=\"\",\"\",Notes!$B$4)","v":""},null,null,null,null,null,null,null,null,null,null,"",""]
[null,{"$f":"IF(A12500=\"\",\"\",Notes!$B$4)","v":""},null,null,null,null,null,null,null,null,null,null,"",""]
[null,{"$f":"IF(A12502=\"\",\"\",Notes!$B$4)","v":""},null,null,null,null,null,null,null,null,null,null,"",""]
[null,{"$f":"IF(A12509=\"\",\"\",Notes!$B$4)","v":""},null,null,null,null,null,null,null,null,null,null,"",""]
[null,{"$f":"IF(A12525=\"\",\"\",Notes!$B$4)","v":""},null,null,null,null,null,null,null,null,null,null,"",""]
[null,{"$f":"IF(A12528=\"\",\"\",Notes!$B$4)","v":""},null,null,null,null,null,null,null,null,null,null,"",""]
[null,{"$f":"IF(A12541=\"\",\"\",Notes!$B$4)","v":""},null,null,null,null,null,null,null,null,null,null,"",""]
[null,{"$f":"IF(A12546=\"\",\"\",Notes!$B$4)","v":""},null,null,null,null,null,null,null,null,null,null,{"$f":"IF(A12546=\"\",\"\",VLOOKUP(B12546,SchoolID,2,FALSE))","v":""},""]
[null,{"$f":"IF(A12558=\"\",\"\",Notes!$B$4)","v":""},null,null,null,null,null,null,null,null,null,null,"",""]
[null,{"$f":"IF(A12565=\"\",\"\",Notes!$B$4)","v":""},null,null,null,null,null,null,null,null,null,null,"",""]
[null,{"$f":"IF(A12572=\"\",\"\",Notes!$B$4)","v":""},null,null,null,null,null,null,null,null,null,null,"",""]
[null,{"$f":"IF(A12579=\"\",\"\",Notes!$B$4)","v":""},null,null,null,null,null,null,null,null,null,null,"",""]
[null,{"$f":"IF(A12595=\"\",\"\",Notes!$B$4)","v":""},null,null,null,null,null,null,null,null,null,null,"",""]
[null,{"$f":"IF(A12598=\"\",\"\",Notes!$B$4)","v":""},null,null,null,null,null,null,null,null,null,null,"",""]
[null,{"$f":"IF(A12611=\"\",\"\",Notes!$B$4)","v":""},null,null,null,null,null,null,null,null,null,null,"",""]
[null,{"$f":"IF(A12616=\"\",\"\",Notes!$B$4)","v":""},null,null,null,null,null,null,null,null,null,null,"",""]
[null,{"$f":"IF(A12628=\"\",\"\",Notes!$B$4)","v":""},null,null,null,null,null,null,null,null,null,null,"",""]
[null,{"$f":"IF(A12635=\"\",\"\",Notes!$B$4)","v":""},null,null,null,null,null,null,null,null,null,null,"",""]
[null,{"$f":"IF(A12642=\"\",\"\",Notes!$B$4)","v":""},null,null,null,null,null,null,null,null,null,null,"",""]
[null,{"$f":"IF(A12649=\"\",\"\",Notes!$B$4)","v":""},null,null,null,null,null,null,null,null,null,null,"",""]
[null,{"$f":"IF(A12665=\"\",\"\",Notes!$B$4)","v":""},null,null,null,null,null,null,null,null,null,null,"",""]
[null,{"$f":"IF(A12668=\"\",\"\",Notes!$B$4)","v":""},null,null,null,null,null,null,null,null,null,null,"",""]
[null,{"$f":"IF(A12681=\"\",\"\",Notes!$B$4)","v":""},null,null,null,null,null,null,null,null,null,null,"",""]
[null,{"$f":"IF(A12686=\"\",\"\",Notes!$B$4)","v":""},null,null,null,null,null,null,null,null,null,null,"",""]
[null,{"$f":"IF(A12698=\"\",\"\",Notes!$B$4)","v":""},null,null,null,null,null,null,null,null,null,null,"",""]
[null,{"$f":"IF(A12705=\"\",\"\",Notes!$B$4)","v":""},null,null,null,null,null,null,null,null,null,null,"",""]
[null,{"$f":"IF(A12712=\"\",\"\",Notes!$B$4)","v":""},null,null,null,null,null,null,null,null,null,null,"",""]
[null,{"$f":"IF(A12719=\"\",\"\",Notes!$B$4)","v":""},null,null,null,null,null,null,null,null,null,null,"",""]
[null,{"$f":"IF(A12735=\"\",\"\",Notes!$B$4)","v":""},null,null,null,null,null,null,null,null,null,null,"",""]
[null,{"$f":"IF(A12738=\"\",\"\",Notes!$B$4)","v":""},null,null,null,null,null,null,null,null,null,null,{"$f":"IF(A12738=\"\",\"\",VLOOKUP(B12738,SchoolID,2,FALSE))","v":""},""]
[null,{"$f":"IF(A12751=\"\",\"\",Notes!$B$4)","v":""},null,null,null,null,null,null,null,null,null,null,"",{"$f":"M12751&A12751","v":""}]
[null,{"$f":"IF(A12756=\"\",\"\",Notes!$B$4)","v":""},null,null,null,null,null,null,null,null,null,null,"",""]
[null,{"$f":"IF(A12768=\"\",\"\",Notes!$B$4)","v":""},null,null,null,null,null,null,null,null,null,null,"",""]
[null,{"$f":"IF(A12775=\"\",\"\",Notes!$B$4)","v":""},null,null,null,null,null,null,null,null,null,null,"",""]
[null,{"$f":"IF(A12782=\"\",\"\",Notes!$B$4)","v":""},null,null,null,null,null,null,null,null,null,null,"",""]
[null,{"$f":"IF(A12789=\"\",\"\",Notes!$B$4)","v":""},null,null,null,null,null,null,null,null,null,null,"",""]
[null,{"$f":"IF(A12805=\"\",\"\",Notes!$B$4)","v":""},null,null,null,null,null,null,null,null,null,null,"",""]
[null,{"$f":"IF(A12808=\"\",\"\",Notes!$B$4)","v":""},null,null,null,null,null,null,null,null,null,null,"",""]
[null,{"$f":"IF(A12821=\"\",\"\",Notes!$B$4)","v":""},null,null,null,null,null,null,null,null,null,null,"",""]
[null,{"$f":"IF(A12826=\"\",\"\",Notes!$B$4)","v":""},null,null,null,null,null,null,null,null,null,null,"",""]
[null,{"$f":"IF(A12838=\"\",\"\",Notes!$B$4)","v":""},null,null,null,null,null,null,null,null,null,null,"",""]
[null,{"$f":"IF(A12845=\"\",\"\",Notes!$B$4)","v":""},null,null,null,null,null,null,null,null,null,null,"",""]
[null,{"$f":"IF(A12852=\"\",\"\",Notes!$B$4)","v":""},null,null,null,null,null,null,null,null,null,null,"",""]
[null,{"$f":"IF(A12863=\"\",\"\",Notes!$B$4)","v":""},null,null,null,null,null,null,null,null,null,null,"",""]
[null,{"$f":"IF(A12875=\"\",\"\",Notes!$B$4)","v":""},null,null,null,null,null,null,null,null,null,null,"",""]
[null,{"$f":"IF(A12878=\"\",\"\",Notes!$B$4)","v":""},null,null,null,null,null,null,null,null,null,null,"",""]
[null,{"$f":"IF(A12891=\"\",\"\",Notes!$B$4)","v":""},null,null,null,null,null,null,null,null,null,null,"",""]
[null,{"$f":"IF(A12896=\"\",\"\",Notes!$B$4)","v":""},null,null,null,null,null,null,null,null,null,null,"",""]
[null,{"$f":"IF(A12908=\"\",\"\",Notes!$B$4)","v":""},null,null,null,null,null,null,null,null,null,null,"",""]
[null,{"$f":"IF(A12915=\"\",\"\",Notes!$B$4)","v":""},null,null,null,null,null,null,null,null,null,null,"",""]
[null,{"$f":"IF(A12922=\"\",\"\",Notes!$B$4)","v":""},null,null,null,null,null,null,null,null,null,null,"",""]
[null,{"$f":"IF(A12933=\"\",\"\",Notes!$B$4)","v":""},null,null,null,null,null,null,null,null,null,null,"",""]
[null,{"$f":"IF(A12945=\"\",\"\",Notes!$B$4)","v":""},null,null,null,null,null,null,null,null,null,null,"",""]
[null,{"$f":"IF(A12948=\"\",\"\",Notes!$B$4)","v":""},null,null,null,null,null,null,null,null,null,null,"",""]
[null,{"$f":"IF(A12961=\"\",\"\",Notes!$B$4)","v":""},null,null,null,null,null,null,null,null,null,null,"",""]
[null,{"$f":"IF(A12966=\"\",\"\",Notes!$B$4)","v":""},null,null,null,null,null,null,null,null,null,null,"",""]
[null,{"$f":"IF(A12978=\"\",\"\",Notes!$B$4)","v":""},null,null,null,null,null,null,null,null,null,null,"",""]
[null,{"$f":"IF(A12985=\"\",\"\",Notes!$B$4)","v":""},null,null,null,null,null,null,null,null,null,null,"",""]
[null,{"$f":"IF(A12992=\"\",\"\",Notes!$B$4)","v":""},null,null,null,null,null,null,null,null,null,null,"",""]
[null,{"$f":"IF(A13003=\"\",\"\",Notes!$B$4)","v":""},null,null,null,null,null,null,null,null,null,null,"",""]
[null,{"$f":"IF(A13015=\"\",\"\",Notes!$B$4)","v":""},null,null,null,null,null,null,null,null,null,null,"",""]
[null,{"$f":"IF(A13018=\"\",\"\",Notes!$B$4)","v":""},null,null,null,null,null,null,null,null,null,null,"",""]
[null,{"$f":"IF(A13031=\"\",\"\",Notes!$B$4)","v":""},null,null,null,null,null,null,null,null,null,null,"",""]
[null,{"$f":"IF(A13036=\"\",\"\",Notes!$B$4)","v":""},null,null,null,null,null,null,null,null,null,null,"",""]
[null,{"$f":"IF(A13043=\"\",\"\",Notes!$B$4)","v":""},null,null,null,null,null,null,null,null,null,null,"",""]
[null,{"$f":"IF(A13055=\"\",\"\",Notes!$B$4)","v":""},null,null,null,null,null,null,null,null,null,null,"",""]
[null,{"$f":"IF(A13062=\"\",\"\",Notes!$B$4)","v":""},null,null,null,null,null,null,null,null,null,null,"",""]
[null,{"$f":"IF(A13073=\"\",\"\",Notes!$B$4)","v":""},null,null,null,null,null,null,null,null,null,null,"",""]
[null,{"$f":"IF(A13085=\"\",\"\",Notes!$B$4)","v":""},null,null,null,null,null,null,null,null,null,null,"",""]
[null,{"$f":"IF(A13088=\"\",\"\",Notes!$B$4)","v":""},null,null,null,null,null,null,null,null,null,null,"",""]
[null,{"$f":"IF(A13101=\"\",\"\",Notes!$B$4)","v":""},null,null,null,null,null,null,null,null,null,null,"",""]
[null,{"$f":"IF(A13106=\"\",\"\",Notes!$B$4)","v":""},null,null,null,null,null,null,null,null,null,null,"",""]
[null,{"$f":"IF(A13113=\"\",\"\",Notes!$B$4)","v":""},null,null,null,null,null,null,null,null,null,null,"",""]
[null,{"$f":"IF(A13125=\"\",\"\",Notes!$B$4)","v":""},null,null,null,null,null,null,null,null,null,null,"",""]
[null,{"$f":"IF(A13132=\"\",\"\",Notes!$B$4)","v":""},null,null,null,null,null,null,null,null,null,null,"",""]
[null,{"$f":"IF(A13143=\"\",\"\",Notes!$B$4)","v":""},null,null,null,null,null,null,null,null,null,null,"",""]
[null,{"$f":"IF(A13155=\"\",\"\",Notes!$B$4)","v":""},null,null,null,null,null,null,null,null,null,null,"",""]
[null,{"$f":"IF(A13162=\"\",\"\",Notes!$B$4)","v":""},null,null,null,null,null,null,null,null,null,null,"",""]
[null,{"$f":"IF(A13171=\"\",\"\",Notes!$B$4)","v":""},null,null,null,null,null,null,null,null,null,null,"",""]
[null,{"$f":"IF(A13176=\"\",\"\",Notes!$B$4)","v":""},null,null,null,null,null,null,null,null,null,null,"",""]
[null,{"$f":"IF(A13183=\"\",\"\",Notes!$B$4)","v":""},null,null,null,null,null,null,null,null,null,null,"",""]
[null,{"$f":"IF(A13195=\"\",\"\",Notes!$B$4)","v":""},null,null,null,null,null,null,null,null,null,null,"",""]
[null,{"$f":"IF(A13202=\"\",\"\",Notes!$B$4)","v":""},null,null,null,null,null,null,null,null,null,null,"",""]
[null,{"$f":"IF(A13213=\"\",\"\",Notes!$B$4)","v":""},null,null,null,null,null,null,null,null,null,null,"",""]
[null,{"$f":"IF(A13225=\"\",\"\",Notes!$B$4)","v":""},null,null,null,null,null,null,null,null,null,null,"",""]
[null,{"$f":"IF(A13232=\"\",\"\",Notes!$B$4)","v":""},null,null,null,null,null,null,null,null,null,null,"",""]
[null,{"$f":"IF(A13241=\"\",\"\",Notes!$B$4)","v":""},null,null,null,null,null,null,null,null,null,null,"",""]
[null,{"$f":"IF(A13246=\"\",\"\",Notes!$B$4)","v":""},null,null,null,null,null,null,null,null,null,null,"",""]
[null,{"$f":"IF(A13253=\"\",\"\",Notes!$B$4)","v":""},null,null,null,null,null,null,null,null,null,null,"",""]
[null,{"$f":"IF(A13265=\"\",\"\",Notes!$B$4)","v":""},null,null,null,null,null,null,null,null,null,null,"",""]
[null,{"$f":"IF(A13272=\"\",\"\",Notes!$B$4)","v":""},null,null,null,null,null,null,null,null,null,null,"",""]
[null,{"$f":"IF(A13283=\"\",\"\",Notes!$B$4)","v":""},null,null,null,null,null,null,null,null,null,null,"",""]
[null,{"$f":"IF(A13295=\"\",\"\",Notes!$B$4)","v":""},null,null,null,null,null,null,null,null,null,null,"",""]
[null,{"$f":"IF(A13302=\"\",\"\",Notes!$B$4)","v":""},null,null,null,null,null,null,null,null,null,null,"",""]
[null,{"$f":"IF(A13311=\"\",\"\",Notes!$B$4)","v":""},null,null,null,null,null,null,null,null,null,null,"",""]
[null,{"$f":"IF(A13316=\"\",\"\",Notes!$B$4)","v":""},null,null,null,null,null,null,null,null,null,null,"",""]
[null,{"$f":"IF(A13323=\"\",\"\",Notes!$B$4)","v":""},null,null,null,null,null,null,null,null,null,null,"",""]
[null,{"$f":"IF(A13335=\"\",\"\",Notes!$B$4)","v":""},null,null,null,null,null,null,null,null,null,null,"",""]
[null,{"$f":"IF(A13342=\"\",\"\",Notes!$B$4)","v":""},null,null,null,null,null,null,null,null,null,null,"",""]
[null,{"$f":"IF(A13353=\"\",\"\",Notes!$B$4)","v":""},null,null,null,null,null,null,null,null,null,null,"",""]
[null,{"$f":"IF(A13365=\"\",\"\",Notes!$B$4)","v":""},null,null,null,null,null,null,null,null,null,null,"",""]
[null,{"$f":"IF(A13372=\"\",\"\",Notes!$B$4)","v":""},null,null,null,null,null,null,null,null,null,null,"",""]
[null,{"$f":"IF(A13381=\"\",\"\",Notes!$B$4)","v":""},null,null,null,null,null,null,null,null,null,null,"",""]
[null,{"$f":"IF(A13386=\"\",\"\",Notes!$B$4)","v":""},null,null,null,null,null,null,null,null,null,null,"",""]
[null,{"$f":"IF(A13393=\"\",\"\",Notes!$B$4)","v":""},null,null,null,null,null,null,null,null,null,null,"",""]
[null,{"$f":"IF(A13405=\"\",\"\",Notes!$B$4)","v":""},null,null,null,null,null,null,null,null,null,null,"",""]
[null,{"$f":"IF(A13412=\"\",\"\",Notes!$B$4)","v":""},null,null,null,null,null,null,null,null,null,null,"",""]
[null,{"$f":"IF(A13423=\"\",\"\",Notes!$B$4)","v":""},null,null,null,null,null,null,null,null,null,null,"",""]
[null,{"$f":"IF(A13435=\"\",\"\",Notes!$B$4)","v":""},null,null,null,null,null,null,null,null,null,null,"",""]
[null,{"$f":"IF(A13442=\"\",\"\",Notes!$B$4)","v":""},null,null,null,null,null,null,null,null,null,null,{"$f":"IF(A13442=\"\",\"\",VLOOKUP(B13442,SchoolID,2,FALSE))","v":""},""]
[null,{"$f":"IF(A13451=\"\",\"\",Notes!$B$4)","v":""},null,null,null,null,null,null,null,null,null,null,"",""]
[null,{"$f":"IF(A13456=\"\",\"\",Notes!$B$4)","v":""},null,null,null,null,null,null,null,null,null,null,"",""]
[null,{"$f":"IF(A13463=\"\",\"\",Notes!$B$4)","v":""},null,null,null,null,null,null,null,null,null,null,"",""]
[null,{"$f":"IF(A13475=\"\",\"\",Notes!$B$4)","v":""},null,null,null,null,null,null,null,null,null,null,"",""]
[null,{"$f":"IF(A13482=\"\",\"\",Notes!$B$4)","v":""},null,null,null,null,null,null,null,null,null,null,"",""]
[null,{"$f":"IF(A13493=\"\",\"\",Notes!$B$4)","v":""},null,null,null,null,null,null,null,null,null,null,"",""]
[null,{"$f":"IF(A13505=\"\",\"\",Notes!$B$4)","v":""},null,null,null,null,null,null,null,null,null,null,"",""]
[null,{"$f":"IF(A13512=\"\",\"\",Notes!$B$4)","v":""},null,null,null,null,null,null,null,null,null,null,"",""]
[null,{"$f":"IF(A13521=\"\",\"\",Notes!$B$4)","v":""},null,null,null,null,null,null,null,null,null,null,"",""]
[null,{"$f":"IF(A13530=\"\",\"\",Notes!$B$4)","v":""},null,null,null,null,null,null,null,null,null,null,"",""]
[null,{"$f":"IF(A13533=\"\",\"\",Notes!$B$4)","v":""},null,null,null,null,null,null,null,null,null,null,"",""]
[null,{"$f":"IF(A13545=\"\",\"\",Notes!$B$4)","v":""},null,null,null,null,null,null,null,null,null,null,"",""]
[null,{"$f":"IF(A13552=\"\",\"\",Notes!$B$4)","v":""},null,null,null,null,null,null,null,null,null,null,"",""]
[null,{"$f":"IF(A13563=\"\",\"\",Notes!$B$4)","v":""},null,null,null,null,null,null,null,null,null,null,"",""]
[null,{"$f":"IF(A13575=\"\",\"\",Notes!$B$4)","v":""},null,null,null,null,null,null,null,null,null,null,"",""]
[null,{"$f":"IF(A13582=\"\",\"\",Notes!$B$4)","v":""},null,null,null,null,null,null,null,null,null,null,"",""]
[null,{"$f":"IF(A13591=\"\",\"\",Notes!$B$4)","v":""},null,null,null,null,null,null,null,null,null,null,"",""]
[null,{"$f":"IF(A13600=\"\",\"\",Notes!$B$4)","v":""},null,null,null,null,null,null,null,null,null,null,"",""]
[null,{"$f":"IF(A13603=\"\",\"\",Notes!$B$4)","v":""},null,null,null,null,null,null,null,null,null,null,"",""]
[null,{"$f":"IF(A13615=\"\",\"\",Notes!$B$4)","v":""},null,null,null,null,null,null,null,null,null,null,"",""]
[null,{"$f":"IF(A13622=\"\",\"\",Notes!$B$4)","v":""},null,null,null,null,null,null,null,null,null,null,"",""]
[null,{"$f":"IF(A13633=\"\",\"\",Notes!$B$4)","v":""},null,null,null,null,null,null,null,null,null,null,"",""]
[null,{"$f":"IF(A13640=\"\",\"\",Notes!$B$4)","v":""},null,null,null,null,null,null,null,null,null,null,"",""]
[null,{"$f":"IF(A13652=\"\",\"\",Notes!$B$4)","v":""},null,null,null,null,null,null,null,null,null,null,"",""]
[null,{"$f":"IF(A13661=\"\",\"\",Notes!$B$4)","v":""},null,null,null,null,null,null,null,null,null,null,"",""]
[null,{"$f":"IF(A13670=\"\",\"\",Notes!$B$4)","v":""},null,null,null,null,null,null,null,null,null,null,"",""]
[null,{"$f":"IF(A13673=\"\",\"\",Notes!$B$4)","v":""},null,null,null,null,null,null,null,null,null,null,"",""]
[null,{"$f":"IF(A13685=\"\",\"\",Notes!$B$4)","v":""},null,null,null,null,null,null,null,null,null,null,"",""]
[null,{"$f":"IF(A13692=\"\",\"\",Notes!$B$4)","v":""},null,null,null,null,null,null,null,null,null,null,"",""]
[null,{"$f":"IF(A13703=\"\",\"\",Notes!$B$4)","v":""},null,null,null,null,null,null,null,null,null,null,"",""]
[null,{"$f":"IF(A13710=\"\",\"\",Notes!$B$4)","v":""},null,null,null,null,null,null,null,null,null,null,"",""]
[null,{"$f":"IF(A13722=\"\",\"\",Notes!$B$4)","v":""},null,null,null,null,null,null,null,null,null,null,"",""]
[null,{"$f":"IF(A13731=\"\",\"\",Notes!$B$4)","v":""},null,null,null,null,null,null,null,null,null,null,"",""]
[null,{"$f":"IF(A13740=\"\",\"\",Notes!$B$4)","v":""},null,null,null,null,null,null,null,null,null,null,"",""]
[null,{"$f":"IF(A13743=\"\",\"\",Notes!$B$4)","v":""},null,null,null,null,null,null,null,null,null,null,"",""]
[null,{"$f":"IF(A13755=\"\",\"\",Notes!$B$4)","v":""},null,null,null,null,null,null,null,null,null,null,"",""]
[null,{"$f":"IF(A13762=\"\",\"\",Notes!$B$4)","v":""},null,null,null,null,null,null,null,null,null,null,{"$f":"IF(A13762=\"\",\"\",VLOOKUP(B13762,SchoolID,2,FALSE))","v":""},""]
[null,{"$f":"IF(A13773=\"\",\"\",Notes!$B$4)","v":""},null,null,null,null,null,null,null,null,null,null,"",""]
[null,{"$f":"IF(A13780=\"\",\"\",Notes!$B$4)","v":""},null,null,null,null,null,null,null,null,null,null,"",""]
[null,{"$f":"IF(A13792=\"\",\"\",Notes!$B$4)","v":""},null,null,null,null,null,null,null,null,null,null,"",""]
[null,{"$f":"IF(A13801=\"\",\"\",Notes!$B$4)","v":""},null,null,null,null,null,null,null,null,null,null,"",""]
[null,{"$f":"IF(A13810=\"\",\"\",Notes!$B$4)","v":""},null,null,null,null,null,null,null,null,null,null,"",""]
[null,{"$f":"IF(A13813=\"\",\"\",Notes!$B$4)","v":""},null,null,null,null,null,null,null,null,null,null,"",""]
[null,{"$f":"IF(A13829=\"\",\"\",Notes!$B$4)","v":""},null,null,null,null,null,null,null,null,null,null,"",""]
[null,{"$f":"IF(A13832=\"\",\"\",Notes!$B$4)","v":""},null,null,null,null,null,null,null,null,null,null,"",""]
[null,{"$f":"IF(A13843=\"\",\"\",Notes!$B$4)","v":""},null,null,null,null,null,null,null,null,null,null,"",""]
[null,{"$f":"IF(A13850=\"\",\"\",Notes!$B$4)","v":""},null,null,null,null,null,null,null,null,null,null,"",""]
[null,{"$f":"IF(A13862=\"\",\"\",Notes!$B$4)","v":""},null,null,null,null,null,null,null,null,null,null,"",""]
[null,{"$f":"IF(A13871=\"\",\"\",Notes!$B$4)","v":""},null,null,null,null,null,null,null,null,null,null,"",""]
[null,{"$f":"IF(A13880=\"\",\"\",Notes!$B$4)","v":""},null,null,null,null,null,null,null,null,null,null,"",""]
[null,{"$f":"IF(A13883=\"\",\"\",Notes!$B$4)","v":""},null,null,null,null,null,null,null,null,null,null,"",""]
[null,{"$f":"IF(A13899=\"\",\"\",Notes!$B$4)","v":""},null,null,null,null,null,null,null,null,null,null,"",""]
[null,{"$f":"IF(A13902=\"\",\"\",Notes!$B$4)","v":""},null,null,null,null,null,null,null,null,null,null,"",""]
[null,{"$f":"IF(A13913=\"\",\"\",Notes!$B$4)","v":""},null,null,null,null,null,null,null,null,null,null,"",""]
[null,{"$f":"IF(A13920=\"\",\"\",Notes!$B$4)","v":""},null,null,null,null,null,null,null,null,null,null,"",""]
[null,{"$f":"IF(A13932=\"\",\"\",Notes!$B$4)","v":""},null,null,null,null,null,null,null,null,null,null,"",""]
[null,{"$f":"IF(A13941=\"\",\"\",Notes!$B$4)","v":""},null,null,null,null,null,null,null,null,null,null,"",""]
[null,{"$f":"IF(A13950=\"\",\"\",Notes!$B$4)","v":""},null,null,null,null,null,null,null,null,null,null,"",""]
[null,{"$f":"IF(A13953=\"\",\"\",Notes!$B$4)","v":""},null,null,null,null,null,null,null,null,null,null,"",""]
[null,{"$f":"IF(A13969=\"\",\"\",Notes!$B$4)","v":""},null,null,null,null,null,null,null,null,null,null,"",""]
[null,{"$f":"IF(A13972=\"\",\"\",Notes!$B$4)","v":""},null,null,null,null,null,null,null,null,null,null,"",""]
[null,{"$f":"IF(A13983=\"\",\"\",Notes!$B$4)","v":""},null,null,null,null,null,null,null,null,null,null,"",""]
[null,{"$f":"IF(A13990=\"\",\"\",Notes!$B$4)","v":""},null,null,null,null,null,null,null,null,null,null,"",""]
[null,{"$f":"IF(A14002=\"\",\"\",Notes!$B$4)","v":""},null,null,null,null,null,null,null,null,null,null,"",""]
[null,{"$f":"IF(A14011=\"\",\"\",Notes!$B$4)","v":""},null,null,null,null,null,null,null,null,null,null,"",""]
[null,{"$f":"IF(A14020=\"\",\"\",Notes!$B$4)","v":""},null,null,null,null,null,null,null,null,null,null,"",""]
[null,{"$f":"IF(A14023=\"\",\"\",Notes!$B$4)","v":""},null,null,null,null,null,null,null,null,null,null,"",""]
[null,{"$f":"IF(A14039=\"\",\"\",Notes!$B$4)","v":""},null,null,null,null,null,null,null,null,null,null,"",""]
[null,{"$f":"IF(A14042=\"\",\"\",Notes!$B$4)","v":""},null,null,null,null,null,null,null,null,null,null,"",""]
[null,{"$f":"IF(A14053=\"\",\"\",Notes!$B$4)","v":""},null,null,null,null,null,null,null,null,null,null,"",""]
[null,{"$f":"IF(A14060=\"\",\"\",Notes!$B$4)","v":""},null,null,null,null,null,null,null,null,null,null,"",""]
[null,{"$f":"IF(A14072=\"\",\"\",Notes!$B$4)","v":""},null,null,null,null,null,null,null,null,null,null,"",""]
[null,{"$f":"IF(A14081=\"\",\"\",Notes!$B$4)","v":""},null,null,null,null,null,null,null,null,null,null,"",""]
[null,{"$f":"IF(A14090=\"\",\"\",Notes!$B$4)","v":""},null,null,null,null,null,null,null,null,null,null,"",""]
[null,{"$f":"IF(A14093=\"\",\"\",Notes!$B$4)","v":""},null,null,null,null,null,null,null,null,null,null,"",""]
[null,{"$f":"IF(A14109=\"\",\"\",Notes!$B$4)","v":""},null,null,null,null,null,null,null,null,null,null,"",""]
[null,{"$f":"IF(A14112=\"\",\"\",Notes!$B$4)","v":""},null,null,null,null,null,null,null,null,null,null,"",""]
[null,{"$f":"IF(A14127=\"\",\"\",Notes!$B$4)","v":""},null,null,null,null,null,null,null,null,null,null,"",""]
[null,{"$f":"IF(A14130=\"\",\"\",Notes!$B$4)","v":""},null,null,null,null,null,null,null,null,null,null,"",""]
[null,{"$f":"IF(A14142=\"\",\"\",Notes!$B$4)","v":""},null,null,null,null,null,null,null,null,null,null,"",""]
[null,{"$f":"IF(A14151=\"\",\"\",Notes!$B$4)","v":""},null,null,null,null,null,null,null,null,null,null,"",""]
[null,{"$f":"IF(A14160=\"\",\"\",Notes!$B$4)","v":""},null,null,null,null,null,null,null,null,null,null,"",""]
[null,{"$f":"IF(A14163=\"\",\"\",Notes!$B$4)","v":""},null,null,null,null,null,null,null,null,null,null,"",""]
[null,{"$f":"IF(A14179=\"\",\"\",Notes!$B$4)","v":""},null,null,null,null,null,null,null,null,null,null,"",""]
[null,{"$f":"IF(A14182=\"\",\"\",Notes!$B$4)","v":""},null,null,null,null,null,null,null,null,null,null,"",""]
[null,{"$f":"IF(A14197=\"\",\"\",Notes!$B$4)","v":""},null,null,null,null,null,null,null,null,null,null,"",""]
[null,{"$f":"IF(A14200=\"\",\"\",Notes!$B$4)","v":""},null,null,null,null,null,null,null,null,null,null,"",""]
[null,{"$f":"IF(A14212=\"\",\"\",Notes!$B$4)","v":""},null,null,null,null,null,null,null,null,null,null,"",""]
[null,{"$f":"IF(A14221=\"\",\"\",Notes!$B$4)","v":""},null,null,null,null,null,null,null,null,null,null,"",""]
[null,{"$f":"IF(A14230=\"\",\"\",Notes!$B$4)","v":""},null,null,null,null,null,null,null,null,null,null,"",""]
[null,{"$f":"IF(A14233=\"\",\"\",Notes!$B$4)","v":""},null,null,null,null,null,null,null,null,null,null,"",""]
[null,{"$f":"IF(A14249=\"\",\"\",Notes!$B$4)","v":""},null,null,null,null,null,null,null,null,null,null,"",""]
[null,{"$f":"IF(A14252=\"\",\"\",Notes!$B$4)","v":""},null,null,null,null,null,null,null,null,null,null,"",""]
[null,{"$f":"IF(A14267=\"\",\"\",Notes!$B$4)","v":""},null,null,null,null,null,null,null,null,null,null,"",""]
[null,{"$f":"IF(A14270=\"\",\"\",Notes!$B$4)","v":""},null,null,null,null,null,null,null,null,null,null,"",""]
[null,{"$f":"IF(A14282=\"\",\"\",Notes!$B$4)","v":""},null,null,null,null,null,null,null,null,null,null,"",""]
[null,{"$f":"IF(A14291=\"\",\"\",Notes!$B$4)","v":""},null,null,null,null,null,null,null,null,null,null,"",""]
[null,{"$f":"IF(A14300=\"\",\"\",Notes!$B$4)","v":""},null,null,null,null,null,null,null,null,null,null,"",""]
[null,{"$f":"IF(A14307=\"\",\"\",Notes!$B$4)","v":""},null,null,null,null,null,null,null,null,null,null,"",""]
[null,{"$f":"IF(A14319=\"\",\"\",Notes!$B$4)","v":""},null,null,null,null,null,null,null,null,null,null,"",""]
[null,{"$f":"IF(A14322=\"\",\"\",Notes!$B$4)","v":""},null,null,null,null,null,null,null,null,null,null,"",""]
[null,{"$f":"IF(A14337=\"\",\"\",Notes!$B$4)","v":""},null,null,null,null,null,null,null,null,null,null,"",""]
[null,{"$f":"IF(A14340=\"\",\"\",Notes!$B$4)","v":""},null,null,null,null,null,null,null,null,null,null,"",""]
[null,{"$f":"IF(A14352=\"\",\"\",Notes!$B$4)","v":""},null,null,null,null,null,null,null,null,null,null,"",""]
[null,{"$f":"IF(A14361=\"\",\"\",Notes!$B$4)","v":""},null,null,null,null,null,null,null,null,null,null,"",""]
[null,{"$f":"IF(A14370=\"\",\"\",Notes!$B$4)","v":""},null,null,null,null,null,null,null,null,null,null,"",""]
[null,{"$f":"IF(A14377=\"\",\"\",Notes!$B$4)","v":""},null,null,null,null,null,null,null,null,null,null,"",""]
[null,{"$f":"IF(A14389=\"\",\"\",Notes!$B$4)","v":""},null,null,null,null,null,null,null,null,null,null,"",""]
[null,{"$f":"IF(A14392=\"\",\"\",Notes!$B$4)","v":""},null,null,null,null,null,null,null,null,null,null,"",""]
[null,{"$f":"IF(A14407=\"\",\"\",Notes!$B$4)","v":""},null,null,null,null,null,null,null,null,null,null,"",""]
[null,{"$f":"IF(A14410=\"\",\"\",Notes!$B$4)","v":""},null,null,null,null,null,null,null,null,null,null,"",""]
[null,{"$f":"IF(A14417=\"\",\"\",Notes!$B$4)","v":""},null,null,null,null,null,null,null,null,null,null,"",""]
[null,{"$f":"IF(A14431=\"\",\"\",Notes!$B$4)","v":""},null,null,null,null,null,null,null,null,null,null,"",""]
[null,{"$f":"IF(A14440=\"\",\"\",Notes!$B$4)","v":""},null,null,null,null,null,null,null,null,null,null,"",""]
[null,{"$f":"IF(A14447=\"\",\"\",Notes!$B$4)","v":""},null,null,null,null,null,null,null,null,null,null,"",""]
[null,{"$f":"IF(A14459=\"\",\"\",Notes!$B$4)","v":""},null,null,null,null,null,null,null,null,null,null,"",""]
[null,{"$f":"IF(A14462=\"\",\"\",Notes!$B$4)","v":""},null,null,null,null,null,null,null,null,null,null,"",""]
[null,{"$f":"IF(A14477=\"\",\"\",Notes!$B$4)","v":""},null,null,null,null,null,null,null,null,null,null,"",""]
[null,{"$f":"IF(A14480=\"\",\"\",Notes!$B$4)","v":""},null,null,null,null,null,null,null,null,null,null,"",""]
[null,{"$f":"IF(A14487=\"\",\"\",Notes!$B$4)","v":""},null,null,null,null,null,null,null,null,null,null,"",""]
[null,{"$f":"IF(A14501=\"\",\"\",Notes!$B$4)","v":""},null,null,null,null,null,null,null,null,null,null,"",""]
[null,{"$f":"IF(A14510=\"\",\"\",Notes!$B$4)","v":""},null,null,null,null,null,null,null,null,null,null,"",""]
[null,{"$f":"IF(A14517=\"\",\"\",Notes!$B$4)","v":""},null,null,null,null,null,null,null,null,null,null,"",""]
[null,{"$f":"IF(A14529=\"\",\"\",Notes!$B$4)","v":""},null,null,null,null,null,null,null,null,null,null,"",""]
[null,{"$f":"IF(A14532=\"\",\"\",Notes!$B$4)","v":""},null,null,null,null,null,null,null,null,null,null,"",""]
[null,{"$f":"IF(A14547=\"\",\"\",Notes!$B$4)","v":""},null,null,null,null,null,null,null,null,null,null,"",""]
[null,{"$f":"IF(A14550=\"\",\"\",Notes!$B$4)","v":""},null,null,null,null,null,null,null,null,null,null,"",""]
[null,{"$f":"IF(A14557=\"\",\"\",Notes!$B$4)","v":""},null,null,null,null,null,null,null,null,null,null,"",""]
[null,{"$f":"IF(A14571=\"\",\"\",Notes!$B$4)","v":""},null,null,null,null,null,null,null,null,null,null,"",""]
[null,{"$f":"IF(A14580=\"\",\"\",Notes!$B$4)","v":""},null,null,null,null,null,null,null,null,null,null,"",""]
[null,{"$f":"IF(A14587=\"\",\"\",Notes!$B$4)","v":""},null,null,null,null,null,null,null,null,null,null,"",""]
[null,{"$f":"IF(A14599=\"\",\"\",Notes!$B$4)","v":""},null,null,null,null,null,null,null,null,null,null,"",""]
[null,{"$f":"IF(A14602=\"\",\"\",Notes!$B$4)","v":""},null,null,null,null,null,null,null,null,null,null,"",""]
[null,{"$f":"IF(A14617=\"\",\"\",Notes!$B$4)","v":""},null,null,null,null,null,null,null,null,null,null,"",""]
[null,{"$f":"IF(A14620=\"\",\"\",Notes!$B$4)","v":""},null,null,null,null,null,null,null,null,null,null,"",""]
[null,{"$f":"IF(A14627=\"\",\"\",Notes!$B$4)","v":""},null,null,null,null,null,null,null,null,null,null,"",""]
[null,{"$f":"IF(A14641=\"\",\"\",Notes!$B$4)","v":""},null,null,null,null,null,null,null,null,null,null,"",""]
[null,{"$f":"IF(A14650=\"\",\"\",Notes!$B$4)","v":""},null,null,null,null,null,null,null,null,null,null,"",""]
[null,{"$f":"IF(A14657=\"\",\"\",Notes!$B$4)","v":""},null,null,null,null,null,null,null,null,null,null,"",""]
[null,{"$f":"IF(A14669=\"\",\"\",Notes!$B$4)","v":""},null,null,null,null,null,null,null,null,null,null,"",""]
[null,{"$f":"IF(A14672=\"\",\"\",Notes!$B$4)","v":""},null,null,null,null,null,null,null,null,null,null,"",""]
[null,{"$f":"IF(A14687=\"\",\"\",Notes!$B$4)","v":""},null,null,null,null,null,null,null,null,null,null,"",""]
[null,{"$f":"IF(A14690=\"\",\"\",Notes!$B$4)","v":""},null,null,null,null,null,null,null,null,null,null,"",""]
[null,{"$f":"IF(A14697=\"\",\"\",Notes!$B$4)","v":""},null,null,null,null,null,null,null,null,null,null,"",""]
[null,{"$f":"IF(A14711=\"\",\"\",Notes!$B$4)","v":""},null,null,null,null,null,null,null,null,null,null,"",""]
[null,{"$f":"IF(A14720=\"\",\"\",Notes!$B$4)","v":""},null,null,null,null,null,null,null,null,null,null,"",""]
[null,{"$f":"IF(A14727=\"\",\"\",Notes!$B$4)","v":""},null,null,null,null,null,null,null,null,null,null,"",""]
[null,{"$f":"IF(A14739=\"\",\"\",Notes!$B$4)","v":""},null,null,null,null,null,null,null,null,null,null,"",""]
[null,{"$f":"IF(A14742=\"\",\"\",Notes!$B$4)","v":""},null,null,null,null,null,null,null,null,null,null,"",""]
[null,{"$f":"IF(A14757=\"\",\"\",Notes!$B$4)","v":""},null,null,null,null,null,null,null,null,null,null,"",""]
[null,{"$f":"IF(A14760=\"\",\"\",Notes!$B$4)","v":""},null,null,null,null,null,null,null,null,null,null,"",""]
[null,{"$f":"IF(A14767=\"\",\"\",Notes!$B$4)","v":""},null,null,null,null,null,null,null,null,null,null,"",""]
[null,{"$f":"IF(A14781=\"\",\"\",Notes!$B$4)","v":""},null,null,null,null,null,null,null,null,null,null,"",""]
[null,{"$f":"IF(A14785=\"\",\"\",Notes!$B$4)","v":""},null,null,null,null,null,null,null,null,null,null,"",""]
[null,{"$f":"IF(A14797=\"\",\"\",Notes!$B$4)","v":""},null,null,null,null,null,null,null,null,null,null,"",""]
[null,{"$f":"IF(A14809=\"\",\"\",Notes!$B$4)","v":""},null,null,null,null,null,null,null,null,null,null,"",""]
[null,{"$f":"IF(A14812=\"\",\"\",Notes!$B$4)","v":""},null,null,null,null,null,null,null,null,null,null,"",""]
[null,{"$f":"IF(A14827=\"\",\"\",Notes!$B$4)","v":""},null,null,null,null,null,null,null,null,null,null,"",""]
[null,{"$f":"IF(A14830=\"\",\"\",Notes!$B$4)","v":""},null,null,null,null,null,null,null,null,null,null,"",""]
[null,{"$f":"IF(A14837=\"\",\"\",Notes!$B$4)","v":""},null,null,null,null,null,null,null,null,null,null,"",""]
[null,{"$f":"IF(A14851=\"\",\"\",Notes!$B$4)","v":""},null,null,null,null,null,null,null,null,null,null,"",""]
[null,{"$f":"IF(A14855=\"\",\"\",Notes!$B$4)","v":""},null,null,null,null,null,null,null,null,null,null,"",""]
[null,{"$f":"IF(A14867=\"\",\"\",Notes!$B$4)","v":""},null,null,null,null,null,null,null,null,null,null,"",""]
[null,{"$f":"IF(A14879=\"\",\"\",Notes!$B$4)","v":""},null,null,null,null,null,null,null,null,null,null,"",""]
[null,{"$f":"IF(A14882=\"\",\"\",Notes!$B$4)","v":""},null,null,null,null,null,null,null,null,null,null,"",""]
[null,{"$f":"IF(A14897=\"\",\"\",Notes!$B$4)","v":""},null,null,null,null,null,null,null,null,null,null,"",""]
[null,{"$f":"IF(A14904=\"\",\"\",Notes!$B$4)","v":""},null,null,null,null,null,null,null,null,null,null,"",""]
[null,{"$f":"IF(A14907=\"\",\"\",Notes!$B$4)","v":""},null,null,null,null,null,null,null,null,null,null,"",""]
[null,{"$f":"IF(A14921=\"\",\"\",Notes!$B$4)","v":""},null,null,null,null,null,null,null,null,null,null,"",""]
[null,{"$f":"IF(A14925=\"\",\"\",Notes!$B$4)","v":""},null,null,null,null,null,null,null,null,null,null,"",""]
[null,{"$f":"IF(A14937=\"\",\"\",Notes!$B$4)","v":""},null,null,null,null,null,null,null,null,null,null,"",""]
[null,{"$f":"IF(A14949=\"\",\"\",Notes!$B$4)","v":""},null,null,null,null,null,null,null,null,null,null,"",""]
[null,{"$f":"IF(A14952=\"\",\"\",Notes!$B$4)","v":""},null,null,null,null,null,null,null,null,null,null,"",""]
[null,{"$f":"IF(A14967=\"\",\"\",Notes!$B$4)","v":""},null,null,null,null,null,null,null,null,null,null,"",""]
[null,{"$f":"IF(A14974=\"\",\"\",Notes!$B$4)","v":""},null,null,null,null,null,null,null,null,null,null,"",""]
[null,{"$f":"IF(A14977=\"\",\"\",Notes!$B$4)","v":""},null,null,null,null,null,null,null,null,null,null,"",""]
[null,{"$f":"IF(A14991=\"\",\"\",Notes!$B$4)","v":""},null,null,null,null,null,null,null,null,null,null,"",{"$f":"M14991&A14991","v":""}]
[null,{"$f":"IF(A14995=\"\",\"\",Notes!$B$4)","v":""},null,null,null,null,null,null,null,null,null,null,"",""]
[null,{"$f":"IF(A15007=\"\",\"\",Notes!$B$4)","v":""},null,null,null,null,null,null,null,null,null,null,"",""]
[null,{"$f":"IF(A15019=\"\",\"\",Notes!$B$4)","v":""},null,null,null,null,null,null,null,null,null,null,"",""]
[null,{"$f":"IF(A15022=\"\",\"\",Notes!$B$4)","v":""},null,null,null,null,null,null,null,null,null,null,"",""]
[null,{"$f":"IF(A15037=\"\",\"\",Notes!$B$4)","v":""},null,null,null,null,null,null,null,null,null,null,"",""]
[null,{"$f":"IF(A15044=\"\",\"\",Notes!$B$4)","v":""},null,null,null,null,null,null,null,null,null,null,"",""]
[null,{"$f":"IF(A15047=\"\",\"\",Notes!$B$4)","v":""},null,null,null,null,null,null,null,null,null,null,"",""]
[null,{"$f":"IF(A15061=\"\",\"\",Notes!$B$4)","v":""},null,null,null,null,null,null,null,null,null,null,"",""]
[null,{"$f":"IF(A15065=\"\",\"\",Notes!$B$4)","v":""},null,null,null,null,null,null,null,null,null,null,"",""]
[null,{"$f":"IF(A15077=\"\",\"\",Notes!$B$4)","v":""},null,null,null,null,null,null,null,null,null,null,"",""]
[null,{"$f":"IF(A15084=\"\",\"\",Notes!$B$4)","v":""},null,null,null,null,null,null,null,null,null,null,"",""]
[null,{"$f":"IF(A15092=\"\",\"\",Notes!$B$4)","v":""},null,null,null,null,null,null,null,null,null,null,"",""]
[null,{"$f":"IF(A15107=\"\",\"\",Notes!$B$4)","v":""},null,null,null,null,null,null,null,null,null,null,"",""]
[null,{"$f":"IF(A15114=\"\",\"\",Notes!$B$4)","v":""},null,null,null,null,null,null,null,null,null,null,"",""]
[null,{"$f":"IF(A15117=\"\",\"\",Notes!$B$4)","v":""},null,null,null,null,null,null,null,null,null,null,"",""]
[null,{"$f":"IF(A15131=\"\",\"\",Notes!$B$4)","v":""},null,null,null,null,null,null,null,null,null,null,"",""]
[null,{"$f":"IF(A15135=\"\",\"\",Notes!$B$4)","v":""},null,null,null,null,null,null,null,null,null,null,"",""]
[null,{"$f":"IF(A15147=\"\",\"\",Notes!$B$4)","v":""},null,null,null,null,null,null,null,null,null,null,"",""]
[null,{"$f":"IF(A15154=\"\",\"\",Notes!$B$4)","v":""},null,null,null,null,null,null,null,null,null,null,"",""]
[null,{"$f":"IF(A15162=\"\",\"\",Notes!$B$4)","v":""},null,null,null,null,null,null,null,null,null,null,"",""]
[null,{"$f":"IF(A15177=\"\",\"\",Notes!$B$4)","v":""},null,null,null,null,null,null,null,null,null,null,"",""]
[null,{"$f":"IF(A15184=\"\",\"\",Notes!$B$4)","v":""},null,null,null,null,null,null,null,null,null,null,"",""]
[null,{"$f":"IF(A15187=\"\",\"\",Notes!$B$4)","v":""},null,null,null,null,null,null,null,null,null,null,"",""]
[null,{"$f":"IF(A15201=\"\",\"\",Notes!$B$4)","v":""},null,null,null,null,null,null,null,null,null,null,"",""]
[null,{"$f":"IF(A15205=\"\",\"\",Notes!$B$4)","v":""},null,null,null,null,null,null,null,null,null,null,"",""]
[null,{"$f":"IF(A15217=\"\",\"\",Notes!$B$4)","v":""},null,null,null,null,null,null,null,null,null,null,"",""]
[null,{"$f":"IF(A15224=\"\",\"\",Notes!$B$4)","v":""},null,null,null,null,null,null,null,null,null,null,"",""]
[null,{"$f":"IF(A15232=\"\",\"\",Notes!$B$4)","v":""},null,null,null,null,null,null,null,null,null,null,"",""]
[null,{"$f":"IF(A15247=\"\",\"\",Notes!$B$4)","v":""},null,null,null,null,null,null,null,null,null,null,"",{"$f":"M15247&A15247","v":""}]
[null,{"$f":"IF(A15254=\"\",\"\",Notes!$B$4)","v":""},null,null,null,null,null,null,null,null,null,null,"",""]
[null,{"$f":"IF(A15257=\"\",\"\",Notes!$B$4)","v":""},null,null,null,null,null,null,null,null,null,null,"",""]
[null,{"$f":"IF(A15271=\"\",\"\",Notes!$B$4)","v":""},null,null,null,null,null,null,null,null,null,null,"",""]
[null,{"$f":"IF(A15275=\"\",\"\",Notes!$B$4)","v":""},null,null,null,null,null,null,null,null,null,null,"",""]
[null,{"$f":"IF(A15287=\"\",\"\",Notes!$B$4)","v":""},null,null,null,null,null,null,null,null,null,null,"",""]
[null,{"$f":"IF(A15294=\"\",\"\",Notes!$B$4)","v":""},null,null,null,null,null,null,null,null,null,null,"",""]
[null,{"$f":"IF(A15302=\"\",\"\",Notes!$B$4)","v":""},null,null,null,null,null,null,null,null,null,null,"",""]
[null,{"$f":"IF(A15317=\"\",\"\",Notes!$B$4)","v":""},null,null,null,null,null,null,null,null,null,null,"",""]
[null,{"$f":"IF(A15324=\"\",\"\",Notes!$B$4)","v":""},null,null,null,null,null,null,null,null,null,null,"",""]
[null,{"$f":"IF(A15327=\"\",\"\",Notes!$B$4)","v":""},null,null,null,null,null,null,null,null,null,null,"",""]
[null,{"$f":"IF(A15341=\"\",\"\",Notes!$B$4)","v":""},null,null,null,null,null,null,null,null,null,null,"",""]
[null,{"$f":"IF(A15345=\"\",\"\",Notes!$B$4)","v":""},null,null,null,null,null,null,null,null,null,null,"",""]
[null,{"$f":"IF(A15357=\"\",\"\",Notes!$B$4)","v":""},null,null,null,null,null,null,null,null,null,null,"",""]
[null,{"$f":"IF(A15364=\"\",\"\",Notes!$B$4)","v":""},null,null,null,null,null,null,null,null,null,null,"",""]
[null,{"$f":"IF(A15372=\"\",\"\",Notes!$B$4)","v":""},null,null,null,null,null,null,null,null,null,null,"",""]
[null,{"$f":"IF(A15382=\"\",\"\",Notes!$B$4)","v":""},null,null,null,null,null,null,null,null,null,null,"",""]
[null,{"$f":"IF(A15394=\"\",\"\",Notes!$B$4)","v":""},null,null,null,null,null,null,null,null,null,null,"",""]
[null,{"$f":"IF(A15397=\"\",\"\",Notes!$B$4)","v":""},null,null,null,null,null,null,null,null,null,null,"",""]
[null,{"$f":"IF(A15411=\"\",\"\",Notes!$B$4)","v":""},null,null,null,null,null,null,null,null,null,null,"",""]
[null,{"$f":"IF(A15415=\"\",\"\",Notes!$B$4)","v":""},null,null,null,null,null,null,null,null,null,null,"",""]
[null,{"$f":"IF(A15427=\"\",\"\",Notes!$B$4)","v":""},null,null,null,null,null,null,null,null,null,null,"",""]
[null,{"$f":"IF(A15434=\"\",\"\",Notes!$B$4)","v":""},null,null,null,null,null,null,null,null,null,null,"",""]
[null,{"$f":"IF(A15442=\"\",\"\",Notes!$B$4)","v":""},null,null,null,null,null,null,null,null,null,null,"",""]
[null,{"$f":"IF(A15452=\"\",\"\",Notes!$B$4)","v":""},null,null,null,null,null,null,null,null,null,null,"",""]
[null,{"$f":"IF(A15464=\"\",\"\",Notes!$B$4)","v":""},null,null,null,null,null,null,null,null,null,null,"",""]
[null,{"$f":"IF(A15467=\"\",\"\",Notes!$B$4)","v":""},null,null,null,null,null,null,null,null,null,null,"",""]
[null,{"$f":"IF(A15481=\"\",\"\",Notes!$B$4)","v":""},null,null,null,null,null,null,null,null,null,null,"",""]
[null,{"$f":"IF(A15485=\"\",\"\",Notes!$B$4)","v":""},null,null,null,null,null,null,null,null,null,null,"",""]
[null,{"$f":"IF(A15497=\"\",\"\",Notes!$B$4)","v":""},null,null,null,null,null,null,null,null,null,null,"",""]
[null,{"$f":"IF(A15504=\"\",\"\",Notes!$B$4)","v":""},null,null,null,null,null,null,null,null,null,null,"",""]
[null,{"$f":"IF(A15512=\"\",\"\",Notes!$B$4)","v":""},null,null,null,null,null,null,null,null,null,null,"",""]
[null,{"$f":"IF(A15522=\"\",\"\",Notes!$B$4)","v":""},null,null,null,null,null,null,null,null,null,null,"",""]
[null,{"$f":"IF(A15534=\"\",\"\",Notes!$B$4)","v":""},null,null,null,null,null,null,null,null,null,null,"",""]
[null,{"$f":"IF(A15537=\"\",\"\",Notes!$B$4)","v":""},null,null,null,null,null,null,null,null,null,null,"",""]
[null,{"$f":"IF(A15551=\"\",\"\",Notes!$B$4)","v":""},null,null,null,null,null,null,null,null,null,null,"",""]
[null,{"$f":"IF(A15555=\"\",\"\",Notes!$B$4)","v":""},null,null,null,null,null,null,null,null,null,null,"",""]
[null,{"$f":"IF(A15571=\"\",\"\",Notes!$B$4)","v":""},null,null,null,null,null,null,null,null,null,null,"",""]
[null,{"$f":"IF(A15574=\"\",\"\",Notes!$B$4)","v":""},null,null,null,null,null,null,null,null,null,null,"",""]
[null,{"$f":"IF(A15582=\"\",\"\",Notes!$B$4)","v":""},null,null,null,null,null,null,null,null,null,null,"",""]
[null,{"$f":"IF(A15592=\"\",\"\",Notes!$B$4)","v":""},null,null,null,null,null,null,null,null,null,null,"",""]
[null,{"$f":"IF(A15604=\"\",\"\",Notes!$B$4)","v":""},null,null,null,null,null,null,null,null,null,null,"",""]
[null,{"$f":"IF(A15607=\"\",\"\",Notes!$B$4)","v":""},null,null,null,null,null,null,null,null,null,null,"",""]
[null,{"$f":"IF(A15621=\"\",\"\",Notes!$B$4)","v":""},null,null,null,null,null,null,null,null,null,null,"",""]
[null,{"$f":"IF(A15625=\"\",\"\",Notes!$B$4)","v":""},null,null,null,null,null,null,null,null,null,null,"",""]
[null,{"$f":"IF(A15641=\"\",\"\",Notes!$B$4)","v":""},null,null,null,null,null,null,null,null,null,null,"",""]
[null,{"$f":"IF(A15644=\"\",\"\",Notes!$B$4)","v":""},null,null,null,null,null,null,null,null,null,null,"",""]
[null,{"$f":"IF(A15652=\"\",\"\",Notes!$B$4)","v":""},null,null,null,null,null,null,null,null,null,null,"",""]
[null,{"$f":"IF(A15662=\"\",\"\",Notes!$B$4)","v":""},null,null,null,null,null,null,null,null,null,null,"",""]
[null,{"$f":"IF(A15674=\"\",\"\",Notes!$B$4)","v":""},null,null,null,null,null,null,null,null,null,null,"",""]
[null,{"$f":"IF(A15681=\"\",\"\",Notes!$B$4)","v":""},null,null,null,null,null,null,null,null,null,null,"",""]
[null,{"$f":"IF(A15691=\"\",\"\",Notes!$B$4)","v":""},null,null,null,null,null,null,null,null,null,null,"",""]
[null,{"$f":"IF(A15695=\"\",\"\",Notes!$B$4)","v":""},null,null,null,null,null,null,null,null,null,null,"",{"$f":"M15695&A15695","v":""}]
[null,{"$f":"IF(A15711=\"\",\"\",Notes!$B$4)","v":""},null,null,null,null,null,null,null,null,null,null,"",""]
[null,{"$f":"IF(A15714=\"\",\"\",Notes!$B$4)","v":""},null,null,null,null,null,null,null,null,null,null,"",""]
[null,{"$f":"IF(A15722=\"\",\"\",Notes!$B$4)","v":""},null,null,null,null,null,null,null,null,null,null,"",""]
[null,{"$f":"IF(A15732=\"\",\"\",Notes!$B$4)","v":""},null,null,null,null,null,null,null,null,null,null,"",""]
[null,{"$f":"IF(A15744=\"\",\"\",Notes!$B$4)","v":""},null,null,null,null,null,null,null,null,null,null,"",""]
[null,{"$f":"IF(A15751=\"\",\"\",Notes!$B$4)","v":""},null,null,null,null,null,null,null,null,null,null,"",""]
[null,{"$f":"IF(A15761=\"\",\"\",Notes!$B$4)","v":""},null,null,null,null,null,null,null,null,null,null,"",""]
[null,{"$f":"IF(A15765=\"\",\"\",Notes!$B$4)","v":""},null,null,null,null,null,null,null,null,null,null,"",""]
[null,{"$f":"IF(A15781=\"\",\"\",Notes!$B$4)","v":""},null,null,null,null,null,null,null,null,null,null,"",""]
[null,{"$f":"IF(A15784=\"\",\"\",Notes!$B$4)","v":""},null,null,null,null,null,null,null,null,null,null,"",""]
[null,{"$f":"IF(A15792=\"\",\"\",Notes!$B$4)","v":""},null,null,null,null,null,null,null,null,null,null,"",""]
[null,{"$f":"IF(A15802=\"\",\"\",Notes!$B$4)","v":""},null,null,null,null,null,null,null,null,null,null,"",""]
[null,{"$f":"IF(A15814=\"\",\"\",Notes!$B$4)","v":""},null,null,null,null,null,null,null,null,null,null,"",""]
[null,{"$f":"IF(A15821=\"\",\"\",Notes!$B$4)","v":""},null,null,null,null,null,null,null,null,null,null,"",""]
[null,{"$f":"IF(A15831=\"\",\"\",Notes!$B$4)","v":""},null,null,null,null,null,null,null,null,null,null,"",""]
[null,{"$f":"IF(A15835=\"\",\"\",Notes!$B$4)","v":""},null,null,null,null,null,null,null,null,null,null,"",""]
[null,{"$f":"IF(A15851=\"\",\"\",Notes!$B$4)","v":""},null,null,null,null,null,null,null,null,null,null,"",""]
[null,{"$f":"IF(A15854=\"\",\"\",Notes!$B$4)","v":""},null,null,null,null,null,null,null,null,null,null,"",""]
[null,{"$f":"IF(A15862=\"\",\"\",Notes!$B$4)","v":""},null,null,null,null,null,null,null,null,null,null,"",""]
[null,{"$f":"IF(A15872=\"\",\"\",Notes!$B$4)","v":""},null,null,null,null,null,null,null,null,null,null,"",""]
[null,{"$f":"IF(A15884=\"\",\"\",Notes!$B$4)","v":""},null,null,null,null,null,null,null,null,null,null,"",""]
[null,{"$f":"IF(A15891=\"\",\"\",Notes!$B$4)","v":""},null,null,null,null,null,null,null,null,null,null,"",""]
[null,{"$f":"IF(A15901=\"\",\"\",Notes!$B$4)","v":""},null,null,null,null,null,null,null,null,null,null,"",""]
[null,{"$f":"IF(A15905=\"\",\"\",Notes!$B$4)","v":""},null,null,null,null,null,null,null,null,null,null,"",""]
[null,{"$f":"IF(A15921=\"\",\"\",Notes!$B$4)","v":""},null,null,null,null,null,null,null,null,null,null,"",""]
[null,{"$f":"IF(A15924=\"\",\"\",Notes!$B$4)","v":""},null,null,null,null,null,null,null,null,null,null,"",""]
[null,{"$f":"IF(A15932=\"\",\"\",Notes!$B$4)","v":""},null,null,null,null,null,null,null,null,null,null,"",""]
[null,{"$f":"IF(A15942=\"\",\"\",Notes!$B$4)","v":""},null,null,null,null,null,null,null,null,null,null,"",""]
[null,{"$f":"IF(A15954=\"\",\"\",Notes!$B$4)","v":""},null,null,null,null,null,null,null,null,null,null,"",""]
[null,{"$f":"IF(A15961=\"\",\"\",Notes!$B$4)","v":""},null,null,null,null,null,null,null,null,null,null,"",""]
[null,{"$f":"IF(A15971=\"\",\"\",Notes!$B$4)","v":""},null,null,null,null,null,null,null,null,null,null,"",""]
[null,{"$f":"IF(A15975=\"\",\"\",Notes!$B$4)","v":""},null,null,null,null,null,null,null,null,null,null,"",""]
[null,{"$f":"IF(A15991=\"\",\"\",Notes!$B$4)","v":""},null,null,null,null,null,null,null,null,null,null,"",""]
[null,{"$f":"IF(A15994=\"\",\"\",Notes!$B$4)","v":""},null,null,null,null,null,null,null,null,null,null,"",""]
[null,{"$f":"IF(A16002=\"\",\"\",Notes!$B$4)","v":""},null,null,null,null,null,null,null,null,null,null,{"$f":"IF(A16002=\"\",\"\",VLOOKUP(B16002,SchoolID,2,FALSE))","v":""},""]
[null,{"$f":"IF(A16012=\"\",\"\",Notes!$B$4)","v":""},null,null,null,null,null,null,null,null,null,null,"",""]
[null,{"$f":"IF(A16024=\"\",\"\",Notes!$B$4)","v":""},null,null,null,null,null,null,null,null,null,null,"",""]
[null,{"$f":"IF(A16031=\"\",\"\",Notes!$B$4)","v":""},null,null,null,null,null,null,null,null,null,null,"",""]
[null,{"$f":"IF(A16041=\"\",\"\",Notes!$B$4)","v":""},null,null,null,null,null,null,null,null,null,null,"",""]
[null,{"$f":"IF(A16049=\"\",\"\",Notes!$B$4)","v":""},null,null,null,null,null,null,null,null,null,null,"",""]
[null,{"$f":"IF(A16061=\"\",\"\",Notes!$B$4)","v":""},null,null,null,null,null,null,null,null,null,null,"",""]
[null,{"$f":"IF(A16064=\"\",\"\",Notes!$B$4)","v":""},null,null,null,null,null,null,null,null,null,null,"",""]
[null,{"$f":"IF(A16072=\"\",\"\",Notes!$B$4)","v":""},null,null,null,null,null,null,null,null,null,null,"",""]
[null,{"$f":"IF(A16082=\"\",\"\",Notes!$B$4)","v":""},null,null,null,null,null,null,null,null,null,null,"",""]
[null,{"$f":"IF(A16094=\"\",\"\",Notes!$B$4)","v":""},null,null,null,null,null,null,null,null,null,null,"",""]
[null,{"$f":"IF(A16101=\"\",\"\",Notes!$B$4)","v":""},null,null,null,null,null,null,null,null,null,null,"",""]
[null,{"$f":"IF(A16111=\"\",\"\",Notes!$B$4)","v":""},null,null,null,null,null,null,null,null,null,null,"",""]
[null,{"$f":"IF(A16119=\"\",\"\",Notes!$B$4)","v":""},null,null,null,null,null,null,null,null,null,null,"",""]
[null,{"$f":"IF(A16131=\"\",\"\",Notes!$B$4)","v":""},null,null,null,null,null,null,null,null,null,null,"",""]
[null,{"$f":"IF(A16134=\"\",\"\",Notes!$B$4)","v":""},null,null,null,null,null,null,null,null,null,null,"",""]
[null,{"$f":"IF(A16142=\"\",\"\",Notes!$B$4)","v":""},null,null,null,null,null,null,null,null,null,null,"",""]
[null,{"$f":"IF(A16152=\"\",\"\",Notes!$B$4)","v":""},null,null,null,null,null,null,null,null,null,null,"",""]
[null,{"$f":"IF(A16159=\"\",\"\",Notes!$B$4)","v":""},null,null,null,null,null,null,null,null,null,null,"",""]
[null,{"$f":"IF(A16171=\"\",\"\",Notes!$B$4)","v":""},null,null,null,null,null,null,null,null,null,null,"",""]
[null,{"$f":"IF(A16181=\"\",\"\",Notes!$B$4)","v":""},null,null,null,null,null,null,null,null,null,null,"",""]
[null,{"$f":"IF(A16189=\"\",\"\",Notes!$B$4)","v":""},null,null,null,null,null,null,null,null,null,null,"",""]
[null,{"$f":"IF(A16201=\"\",\"\",Notes!$B$4)","v":""},null,null,null,null,null,null,null,null,null,null,"",""]
[null,{"$f":"IF(A16204=\"\",\"\",Notes!$B$4)","v":""},null,null,null,null,null,null,null,null,null,null,"",""]
[null,{"$f":"IF(A16212=\"\",\"\",Notes!$B$4)","v":""},null,null,null,null,null,null,null,null,null,null,"",""]
[null,{"$f":"IF(A16222=\"\",\"\",Notes!$B$4)","v":""},null,null,null,null,null,null,null,null,null,null,"",""]
[null,{"$f":"IF(A16229=\"\",\"\",Notes!$B$4)","v":""},null,null,null,null,null,null,null,null,null,null,"",""]
[null,{"$f":"IF(A16241=\"\",\"\",Notes!$B$4)","v":""},null,null,null,null,null,null,null,null,null,null,"",""]
[null,{"$f":"IF(A16251=\"\",\"\",Notes!$B$4)","v":""},null,null,null,null,null,null,null,null,null,null,"",""]
[null,{"$f":"IF(A16259=\"\",\"\",Notes!$B$4)","v":""},null,null,null,null,null,null,null,null,null,null,"",""]
[null,{"$f":"IF(A16271=\"\",\"\",Notes!$B$4)","v":""},null,null,null,null,null,null,null,null,null,null,"",{"$f":"M16271&A16271","v":""}]
[null,{"$f":"IF(A16274=\"\",\"\",Notes!$B$4)","v":""},null,null,null,null,null,null,null,null,null,null,"",""]
[null,{"$f":"IF(A16282=\"\",\"\",Notes!$B$4)","v":""},null,null,null,null,null,null,null,null,null,null,"",""]
[null,{"$f":"IF(A16292=\"\",\"\",Notes!$B$4)","v":""},null,null,null,null,null,null,null,null,null,null,"",""]
[null,{"$f":"IF(A16299=\"\",\"\",Notes!$B$4)","v":""},null,null,null,null,null,null,null,null,null,null,"",""]
[null,{"$f":"IF(A16311=\"\",\"\",Notes!$B$4)","v":""},null,null,null,null,null,null,null,null,null,null,"",""]
[null,{"$f":"IF(A16321=\"\",\"\",Notes!$B$4)","v":""},null,null,null,null,null,null,null,null,null,null,"",""]
[null,{"$f":"IF(A16329=\"\",\"\",Notes!$B$4)","v":""},null,null,null,null,null,null,null,null,null,null,"",""]
[null,{"$f":"IF(A16341=\"\",\"\",Notes!$B$4)","v":""},null,null,null,null,null,null,null,null,null,null,"",""]
[null,{"$f":"IF(A16348=\"\",\"\",Notes!$B$4)","v":""},null,null,null,null,null,null,null,null,null,null,"",""]
[null,{"$f":"IF(A16352=\"\",\"\",Notes!$B$4)","v":""},null,null,null,null,null,null,null,null,null,null,"",""]
[null,{"$f":"IF(A16362=\"\",\"\",Notes!$B$4)","v":""},null,null,null,null,null,null,null,null,null,null,"",""]
[null,{"$f":"IF(A16369=\"\",\"\",Notes!$B$4)","v":""},null,null,null,null,null,null,null,null,null,null,"",""]
[null,{"$f":"IF(A16381=\"\",\"\",Notes!$B$4)","v":""},null,null,null,null,null,null,null,null,null,null,"",""]
[null,{"$f":"IF(A16391=\"\",\"\",Notes!$B$4)","v":""},null,null,null,null,null,null,null,null,null,null,"",""]
[null,{"$f":"IF(A16399=\"\",\"\",Notes!$B$4)","v":""},null,null,null,null,null,null,null,null,null,null,"",{"$f":"M16399&A16399","v":""}]
[null,{"$f":"IF(A16411=\"\",\"\",Notes!$B$4)","v":""},null,null,null,null,null,null,null,null,null,null,"",""]
[null,{"$f":"IF(A16418=\"\",\"\",Notes!$B$4)","v":""},null,null,null,null,null,null,null,null,null,null,"",""]
[null,{"$f":"IF(A16422=\"\",\"\",Notes!$B$4)","v":""},null,null,null,null,null,null,null,null,null,null,"",""]
[null,{"$f":"IF(A16432=\"\",\"\",Notes!$B$4)","v":""},null,null,null,null,null,null,null,null,null,null,"",""]
[null,{"$f":"IF(A16439=\"\",\"\",Notes!$B$4)","v":""},null,null,null,null,null,null,null,null,null,null,"",""]
[null,{"$f":"IF(A16451=\"\",\"\",Notes!$B$4)","v":""},null,null,null,null,null,null,null,null,null,null,"",""]
[null,{"$f":"IF(A16461=\"\",\"\",Notes!$B$4)","v":""},null,null,null,null,null,null,null,null,null,null,"",""]
[null,{"$f":"IF(A16469=\"\",\"\",Notes!$B$4)","v":""},null,null,null,null,null,null,null,null,null,null,"",""]
[null,{"$f":"IF(A16481=\"\",\"\",Notes!$B$4)","v":""},null,null,null,null,null,null,null,null,null,null,"",""]
[null,{"$f":"IF(A16488=\"\",\"\",Notes!$B$4)","v":""},null,null,null,null,null,null,null,null,null,null,"",""]
[null,{"$f":"IF(A16492=\"\",\"\",Notes!$B$4)","v":""},null,null,null,null,null,null,null,null,null,null,"",""]
[null,{"$f":"IF(A16502=\"\",\"\",Notes!$B$4)","v":""},null,null,null,null,null,null,null,null,null,null,"",""]
[null,{"$f":"IF(A16509=\"\",\"\",Notes!$B$4)","v":""},null,null,null,null,null,null,null,null,null,null,"",""]
[null,{"$f":"IF(A16521=\"\",\"\",Notes!$B$4)","v":""},null,null,null,null,null,null,null,null,null,null,"",""]
[null,{"$f":"IF(A16531=\"\",\"\",Notes!$B$4)","v":""},null,null,null,null,null,null,null,null,null,null,"",""]
[null,{"$f":"IF(A16539=\"\",\"\",Notes!$B$4)","v":""},null,null,null,null,null,null,null,null,null,null,"",""]
[null,{"$f":"IF(A16551=\"\",\"\",Notes!$B$4)","v":""},null,null,null,null,null,null,null,null,null,null,"",""]
[null,{"$f":"IF(A16558=\"\",\"\",Notes!$B$4)","v":""},null,null,null,null,null,null,null,null,null,null,"",""]
[null,{"$f":"IF(A16562=\"\",\"\",Notes!$B$4)","v":""},null,null,null,null,null,null,null,null,null,null,"",""]
[null,{"$f":"IF(A16572=\"\",\"\",Notes!$B$4)","v":""},null,null,null,null,null,null,null,null,null,null,"",""]
[null,{"$f":"IF(A16579=\"\",\"\",Notes!$B$4)","v":""},null,null,null,null,null,null,null,null,null,null,"",""]
[null,{"$f":"IF(A16591=\"\",\"\",Notes!$B$4)","v":""},null,null,null,null,null,null,null,null,null,null,"",{"$f":"M16591&A16591","v":""}]
[null,{"$f":"IF(A16601=\"\",\"\",Notes!$B$4)","v":""},null,null,null,null,null,null,null,null,null,null,"",""]
[null,{"$f":"IF(A16609=\"\",\"\",Notes!$B$4)","v":""},null,null,null,null,null,null,null,null,null,null,"",""]
[null,{"$f":"IF(A16621=\"\",\"\",Notes!$B$4)","v":""},null,null,null,null,null,null,null,null,null,null,"",""]
[null,{"$f":"IF(A16628=\"\",\"\",Notes!$B$4)","v":""},null,null,null,null,null,null,null,null,null,null,"",""]
[null,{"$f":"IF(A16632=\"\",\"\",Notes!$B$4)","v":""},null,null,null,null,null,null,null,null,null,null,"",""]
[null,{"$f":"IF(A16646=\"\",\"\",Notes!$B$4)","v":""},null,null,null,null,null,null,null,null,null,null,"",""]
[null,{"$f":"IF(A16649=\"\",\"\",Notes!$B$4)","v":""},null,null,null,null,null,null,null,null,null,null,"",""]
[null,{"$f":"IF(A16661=\"\",\"\",Notes!$B$4)","v":""},null,null,null,null,null,null,null,null,null,null,"",""]
[null,{"$f":"IF(A16671=\"\",\"\",Notes!$B$4)","v":""},null,null,null,null,null,null,null,null,null,null,"",""]
[null,{"$f":"IF(A16679=\"\",\"\",Notes!$B$4)","v":""},null,null,null,null,null,null,null,null,null,null,"",""]
[null,{"$f":"IF(A16691=\"\",\"\",Notes!$B$4)","v":""},null,null,null,null,null,null,null,null,null,null,"",""]
[null,{"$f":"IF(A16698=\"\",\"\",Notes!$B$4)","v":""},null,null,null,null,null,null,null,null,null,null,"",""]
[null,{"$f":"IF(A16702=\"\",\"\",Notes!$B$4)","v":""},null,null,null,null,null,null,null,null,null,null,"",""]
[null,{"$f":"IF(A16716=\"\",\"\",Notes!$B$4)","v":""},null,null,null,null,null,null,null,null,null,null,"",""]
[null,{"$f":"IF(A16719=\"\",\"\",Notes!$B$4)","v":""},null,null,null,null,null,null,null,null,null,null,"",{"$f":"M16719&A16719","v":""}]
[null,{"$f":"IF(A16731=\"\",\"\",Notes!$B$4)","v":""},null,null,null,null,null,null,null,null,null,null,"",""]
[null,{"$f":"IF(A16741=\"\",\"\",Notes!$B$4)","v":""},null,null,null,null,null,null,null,null,null,null,"",""]
[null,{"$f":"IF(A16749=\"\",\"\",Notes!$B$4)","v":""},null,null,null,null,null,null,null,null,null,null,"",""]
[null,{"$f":"IF(A16761=\"\",\"\",Notes!$B$4)","v":""},null,null,null,null,null,null,null,null,null,null,"",""]
[null,{"$f":"IF(A16768=\"\",\"\",Notes!$B$4)","v":""},null,null,null,null,null,null,null,null,null,null,"",""]
[null,{"$f":"IF(A16772=\"\",\"\",Notes!$B$4)","v":""},null,null,null,null,null,null,null,null,null,null,"",""]
[null,{"$f":"IF(A16786=\"\",\"\",Notes!$B$4)","v":""},null,null,null,null,null,null,null,null,null,null,"",""]
[null,{"$f":"IF(A16789=\"\",\"\",Notes!$B$4)","v":""},null,null,null,null,null,null,null,null,null,null,"",""]
[null,{"$f":"IF(A16801=\"\",\"\",Notes!$B$4)","v":""},null,null,null,null,null,null,null,null,null,null,"",""]
[null,{"$f":"IF(A16811=\"\",\"\",Notes!$B$4)","v":""},null,null,null,null,null,null,null,null,null,null,"",""]
[null,{"$f":"IF(A16819=\"\",\"\",Notes!$B$4)","v":""},null,null,null,null,null,null,null,null,null,null,"",""]
[null,{"$f":"IF(A16826=\"\",\"\",Notes!$B$4)","v":""},null,null,null,null,null,null,null,null,null,null,"",""]
[null,{"$f":"IF(A16838=\"\",\"\",Notes!$B$4)","v":""},null,null,null,null,null,null,null,null,null,null,"",""]
[null,{"$f":"IF(A16842=\"\",\"\",Notes!$B$4)","v":""},null,null,null,null,null,null,null,null,null,null,"",""]
[null,{"$f":"IF(A16856=\"\",\"\",Notes!$B$4)","v":""},null,null,null,null,null,null,null,null,null,null,"",""]
[null,{"$f":"IF(A16859=\"\",\"\",Notes!$B$4)","v":""},null,null,null,null,null,null,null,null,null,null,"",""]
[null,{"$f":"IF(A16871=\"\",\"\",Notes!$B$4)","v":""},null,null,null,null,null,null,null,null,null,null,"",""]
[null,{"$f":"IF(A16881=\"\",\"\",Notes!$B$4)","v":""},null,null,null,null,null,null,null,null,null,null,"",""]
[null,{"$f":"IF(A16889=\"\",\"\",Notes!$B$4)","v":""},null,null,null,null,null,null,null,null,null,null,"",""]
[null,{"$f":"IF(A16896=\"\",\"\",Notes!$B$4)","v":""},null,null,null,null,null,null,null,null,null,null,"",""]
[null,{"$f":"IF(A16908=\"\",\"\",Notes!$B$4)","v":""},null,null,null,null,null,null,null,null,null,null,"",""]
[null,{"$f":"IF(A16912=\"\",\"\",Notes!$B$4)","v":""},null,null,null,null,null,null,null,null,null,null,"",""]
[null,{"$f":"IF(A16926=\"\",\"\",Notes!$B$4)","v":""},null,null,null,null,null,null,null,null,null,null,"",""]
[null,{"$f":"IF(A16929=\"\",\"\",Notes!$B$4)","v":""},null,null,null,null,null,null,null,null,null,null,"",""]
[null,{"$f":"IF(A16945=\"\",\"\",Notes!$B$4)","v":""},null,null,null,null,null,null,null,null,null,null,"",""]
[null,{"$f":"IF(A16951=\"\",\"\",Notes!$B$4)","v":""},null,null,null,null,null,null,null,null,null,null,"",""]
[null,{"$f":"IF(A16959=\"\",\"\",Notes!$B$4)","v":""},null,null,null,null,null,null,null,null,null,null,"",""]
[null,{"$f":"IF(A16966=\"\",\"\",Notes!$B$4)","v":""},null,null,null,null,null,null,null,null,null,null,"",""]
[null,{"$f":"IF(A16978=\"\",\"\",Notes!$B$4)","v":""},null,null,null,null,null,null,null,null,null,null,"",""]
[null,{"$f":"IF(A16982=\"\",\"\",Notes!$B$4)","v":""},null,null,null,null,null,null,null,null,null,null,"",""]
[null,{"$f":"IF(A16996=\"\",\"\",Notes!$B$4)","v":""},null,null,null,null,null,null,null,null,null,null,"",""]
[null,{"$f":"IF(A16999=\"\",\"\",Notes!$B$4)","v":""},null,null,null,null,null,null,null,null,null,null,"",""]
[null,{"$f":"IF(A17015=\"\",\"\",Notes!$B$4)","v":""},null,null,null,null,null,null,null,null,null,null,"",""]
[null,{"$f":"IF(A17021=\"\",\"\",Notes!$B$4)","v":""},null,null,null,null,null,null,null,null,null,null,"",""]
[null,{"$f":"IF(A17029=\"\",\"\",Notes!$B$4)","v":""},null,null,null,null,null,null,null,null,null,null,"",""]
[null,{"$f":"IF(A17036=\"\",\"\",Notes!$B$4)","v":""},null,null,null,null,null,null,null,null,null,null,"",""]
[null,{"$f":"IF(A17048=\"\",\"\",Notes!$B$4)","v":""},null,null,null,null,null,null,null,null,null,null,"",""]
[null,{"$f":"IF(A17052=\"\",\"\",Notes!$B$4)","v":""},null,null,null,null,null,null,null,null,null,null,"",""]
[null,{"$f":"IF(A17066=\"\",\"\",Notes!$B$4)","v":""},null,null,null,null,null,null,null,null,null,null,"",""]
[null,{"$f":"IF(A17069=\"\",\"\",Notes!$B$4)","v":""},null,null,null,null,null,null,null,null,null,null,"",""]
[null,{"$f":"IF(A17085=\"\",\"\",Notes!$B$4)","v":""},null,null,null,null,null,null,null,null,null,null,"",""]
[null,{"$f":"IF(A17091=\"\",\"\",Notes!$B$4)","v":""},null,null,null,null,null,null,null,null,null,null,"",""]
[null,{"$f":"IF(A17099=\"\",\"\",Notes!$B$4)","v":""},null,null,null,null,null,null,null,null,null,null,"",""]
[null,{"$f":"IF(A17106=\"\",\"\",Notes!$B$4)","v":""},null,null,null,null,null,null,null,null,null,null,"",""]
[null,{"$f":"IF(A17118=\"\",\"\",Notes!$B$4)","v":""},null,null,null,null,null,null,null,null,null,null,"",""]
[null,{"$f":"IF(A17122=\"\",\"\",Notes!$B$4)","v":""},null,null,null,null,null,null,null,null,null,null,"",""]
[null,{"$f":"IF(A17136=\"\",\"\",Notes!$B$4)","v":""},null,null,null,null,null,null,null,null,null,null,"",""]
[null,{"$f":"IF(A17139=\"\",\"\",Notes!$B$4)","v":""},null,null,null,null,null,null,null,null,null,null,"",""]
[null,{"$f":"IF(A17155=\"\",\"\",Notes!$B$4)","v":""},null,null,null,null,null,null,null,null,null,null,"",""]
[null,{"$f":"IF(A17161=\"\",\"\",Notes!$B$4)","v":""},null,null,null,null,null,null,null,null,null,null,"",""]
[null,{"$f":"IF(A17169=\"\",\"\",Notes!$B$4)","v":""},null,null,null,null,null,null,null,null,null,null,"",""]
[null,{"$f":"IF(A17176=\"\",\"\",Notes!$B$4)","v":""},null,null,null,null,null,null,null,null,null,null,"",""]
[null,{"$f":"IF(A17188=\"\",\"\",Notes!$B$4)","v":""},null,null,null,null,null,null,null,null,null,null,"",""]
[null,{"$f":"IF(A17192=\"\",\"\",Notes!$B$4)","v":""},null,null,null,null,null,null,null,null,null,null,"",""]
[null,{"$f":"IF(A17206=\"\",\"\",Notes!$B$4)","v":""},null,null,null,null,null,null,null,null,null,null,"",""]
[null,{"$f":"IF(A17209=\"\",\"\",Notes!$B$4)","v":""},null,null,null,null,null,null,null,null,null,null,"",""]
[null,{"$f":"IF(A17225=\"\",\"\",Notes!$B$4)","v":""},null,null,null,null,null,null,null,null,null,null,"",""]
[null,{"$f":"IF(A17231=\"\",\"\",Notes!$B$4)","v":""},null,null,null,null,null,null,null,null,null,null,"",{"$f":"M17231&A17231","v":""}]
[null,{"$f":"IF(A17234=\"\",\"\",Notes!$B$4)","v":""},null,null,null,null,null,null,null,null,null,null,"",""]
[null,{"$f":"IF(A17246=\"\",\"\",Notes!$B$4)","v":""},null,null,null,null,null,null,null,null,null,null,"",""]
[null,{"$f":"IF(A17258=\"\",\"\",Notes!$B$4)","v":""},null,null,null,null,null,null,null,null,null,null,"",""]
[null,{"$f":"IF(A17262=\"\",\"\",Notes!$B$4)","v":""},null,null,null,null,null,null,null,null,null,null,"",""]
[null,{"$f":"IF(A17276=\"\",\"\",Notes!$B$4)","v":""},null,null,null,null,null,null,null,null,null,null,"",""]
[null,{"$f":"IF(A17279=\"\",\"\",Notes!$B$4)","v":""},null,null,null,null,null,null,null,null,null,null,"",""]
[null,{"$f":"IF(A17295=\"\",\"\",Notes!$B$4)","v":""},null,null,null,null,null,null,null,null,null,null,"",{"$f":"M17295&A17295","v":""}]
[null,{"$f":"IF(A17301=\"\",\"\",Notes!$B$4)","v":""},null,null,null,null,null,null,null,null,null,null,"",""]
[null,{"$f":"IF(A17304=\"\",\"\",Notes!$B$4)","v":""},null,null,null,null,null,null,null,null,null,null,"",""]
[null,{"$f":"IF(A17316=\"\",\"\",Notes!$B$4)","v":""},null,null,null,null,null,null,null,null,null,null,"",""]
[null,{"$f":"IF(A17328=\"\",\"\",Notes!$B$4)","v":""},null,null,null,null,null,null,null,null,null,null,"",""]
[null,{"$f":"IF(A17332=\"\",\"\",Notes!$B$4)","v":""},null,null,null,null,null,null,null,null,null,null,"",""]
[null,{"$f":"IF(A17346=\"\",\"\",Notes!$B$4)","v":""},null,null,null,null,null,null,null,null,null,null,{"$f":"IF(A17346=\"\",\"\",VLOOKUP(B17346,SchoolID,2,FALSE))","v":""},""]
[null,{"$f":"IF(A17349=\"\",\"\",Notes!$B$4)","v":""},null,null,null,null,null,null,null,null,null,null,"",""]
[null,{"$f":"IF(A17365=\"\",\"\",Notes!$B$4)","v":""},null,null,null,null,null,null,null,null,null,null,"",""]
[null,{"$f":"IF(A17371=\"\",\"\",Notes!$B$4)","v":""},null,null,null,null,null,null,null,null,null,null,"",""]
[null,{"$f":"IF(A17374=\"\",\"\",Notes!$B$4)","v":""},null,null,null,null,null,null,null,null,null,null,"",""]
[null,{"$f":"IF(A17386=\"\",\"\",Notes!$B$4)","v":""},null,null,null,null,null,null,null,null,null,null,"",""]
[null,{"$f":"IF(A17398=\"\",\"\",Notes!$B$4)","v":""},null,null,null,null,null,null,null,null,null,null,"",""]
[null,{"$f":"IF(A17402=\"\",\"\",Notes!$B$4)","v":""},null,null,null,null,null,null,null,null,null,null,"",""]
[null,{"$f":"IF(A17416=\"\",\"\",Notes!$B$4)","v":""},null,null,null,null,null,null,null,null,null,null,"",""]
[null,{"$f":"IF(A17423=\"\",\"\",Notes!$B$4)","v":""},null,null,null,null,null,null,null,null,null,null,"",{"$f":"M17423&A17423","v":""}]
[null,{"$f":"IF(A17435=\"\",\"\",Notes!$B$4)","v":""},null,null,null,null,null,null,null,null,null,null,"",""]
[null,{"$f":"IF(A17441=\"\",\"\",Notes!$B$4)","v":""},null,null,null,null,null,null,null,null,null,null,"",""]
[null,{"$f":"IF(A17444=\"\",\"\",Notes!$B$4)","v":""},null,null,null,null,null,null,null,null,null,null,"",""]
[null,{"$f":"IF(A17456=\"\",\"\",Notes!$B$4)","v":""},null,null,null,null,null,null,null,null,null,null,"",""]
[null,{"$f":"IF(A17468=\"\",\"\",Notes!$B$4)","v":""},null,null,null,null,null,null,null,null,null,null,"",""]
[null,{"$f":"IF(A17472=\"\",\"\",Notes!$B$4)","v":""},null,null,null,null,null,null,null,null,null,null,"",""]
[null,{"$f":"IF(A17486=\"\",\"\",Notes!$B$4)","v":""},null,null,null,null,null,null,null,null,null,null,"",""]
[null,{"$f":"IF(A17493=\"\",\"\",Notes!$B$4)","v":""},null,null,null,null,null,null,null,null,null,null,"",""]
[null,{"$f":"IF(A17505=\"\",\"\",Notes!$B$4)","v":""},null,null,null,null,null,null,null,null,null,null,"",""]
[null,{"$f":"IF(A17511=\"\",\"\",Notes!$B$4)","v":""},null,null,null,null,null,null,null,null,null,null,"",""]
[null,{"$f":"IF(A17514=\"\",\"\",Notes!$B$4)","v":""},null,null,null,null,null,null,null,null,null,null,"",""]
[null,{"$f":"IF(A17526=\"\",\"\",Notes!$B$4)","v":""},null,null,null,null,null,null,null,null,null,null,"",""]
[null,{"$f":"IF(A17538=\"\",\"\",Notes!$B$4)","v":""},null,null,null,null,null,null,null,null,null,null,{"$f":"IF(A17538=\"\",\"\",VLOOKUP(B17538,SchoolID,2,FALSE))","v":""},""]
[null,{"$f":"IF(A17542=\"\",\"\",Notes!$B$4)","v":""},null,null,null,null,null,null,null,null,null,null,"",""]
[null,{"$f":"IF(A17556=\"\",\"\",Notes!$B$4)","v":""},null,null,null,null,null,null,null,null,null,null,"",""]
[null,{"$f":"IF(A17563=\"\",\"\",Notes!$B$4)","v":""},null,null,null,null,null,null,null,null,null,null,"",""]
[null,{"$f":"IF(A17575=\"\",\"\",Notes!$B$4)","v":""},null,null,null,null,null,null,null,null,null,null,"",""]
[null,{"$f":"IF(A17581=\"\",\"\",Notes!$B$4)","v":""},null,null,null,null,null,null,null,null,null,null,"",""]
[null,{"$f":"IF(A17584=\"\",\"\",Notes!$B$4)","v":""},null,null,null,null,null,null,null,null,null,null,"",""]
[null,{"$f":"IF(A17596=\"\",\"\",Notes!$B$4)","v":""},null,null,null,null,null,null,null,null,null,null,"",""]
[null,{"$f":"IF(A17603=\"\",\"\",Notes!$B$4)","v":""},null,null,null,null,null,null,null,null,null,null,"",""]
[null,{"$f":"IF(A17612=\"\",\"\",Notes!$B$4)","v":""},null,null,null,null,null,null,null,null,null,null,"",""]
[null,{"$f":"IF(A17626=\"\",\"\",Notes!$B$4)","v":""},null,null,null,null,null,null,null,null,null,null,"",""]
[null,{"$f":"IF(A17633=\"\",\"\",Notes!$B$4)","v":""},null,null,null,null,null,null,null,null,null,null,"",""]
[null,{"$f":"IF(A17645=\"\",\"\",Notes!$B$4)","v":""},null,null,null,null,null,null,null,null,null,null,"",""]
[null,{"$f":"IF(A17651=\"\",\"\",Notes!$B$4)","v":""},null,null,null,null,null,null,null,null,null,null,"",""]
[null,{"$f":"IF(A17654=\"\",\"\",Notes!$B$4)","v":""},null,null,null,null,null,null,null,null,null,null,"",""]
[null,{"$f":"IF(A17666=\"\",\"\",Notes!$B$4)","v":""},null,null,null,null,null,null,null,null,null,null,{"$f":"IF(A17666=\"\",\"\",VLOOKUP(B17666,SchoolID,2,FALSE))","v":""},""]
[null,{"$f":"IF(A17673=\"\",\"\",Notes!$B$4)","v":""},null,null,null,null,null,null,null,null,null,null,"",""]
[null,{"$f":"IF(A17682=\"\",\"\",Notes!$B$4)","v":""},null,null,null,null,null,null,null,null,null,null,"",""]
[null,{"$f":"IF(A17696=\"\",\"\",Notes!$B$4)","v":""},null,null,null,null,null,null,null,null,null,null,"",""]
[null,{"$f":"IF(A17703=\"\",\"\",Notes!$B$4)","v":""},null,null,null,null,null,null,null,null,null,null,"",""]
[null,{"$f":"IF(A17715=\"\",\"\",Notes!$B$4)","v":""},null,null,null,null,null,null,null,null,null,null,"",""]
[null,{"$f":"IF(A17721=\"\",\"\",Notes!$B$4)","v":""},null,null,null,null,null,null,null,null,null,null,"",""]
[null,{"$f":"IF(A17724=\"\",\"\",Notes!$B$4)","v":""},null,null,null,null,null,null,null,null,null,null,"",""]
[null,{"$f":"IF(A17736=\"\",\"\",Notes!$B$4)","v":""},null,null,null,null,null,null,null,null,null,null,"",""]
[null,{"$f":"IF(A17743=\"\",\"\",Notes!$B$4)","v":""},null,null,null,null,null,null,null,null,null,null,"",{"$f":"M17743&A17743","v":""}]
[null,{"$f":"IF(A17752=\"\",\"\",Notes!$B$4)","v":""},null,null,null,null,null,null,null,null,null,null,"",""]
[null,{"$f":"IF(A17766=\"\",\"\",Notes!$B$4)","v":""},null,null,null,null,null,null,null,null,null,null,"",""]
[null,{"$f":"IF(A17773=\"\",\"\",Notes!$B$4)","v":""},null,null,null,null,null,null,null,null,null,null,"",""]
[null,{"$f":"IF(A17785=\"\",\"\",Notes!$B$4)","v":""},null,null,null,null,null,null,null,null,null,null,"",""]
[null,{"$f":"IF(A17791=\"\",\"\",Notes!$B$4)","v":""},null,null,null,null,null,null,null,null,null,null,"",""]
[null,{"$f":"IF(A17794=\"\",\"\",Notes!$B$4)","v":""},null,null,null,null,null,null,null,null,null,null,{"$f":"IF(A17794=\"\",\"\",VLOOKUP(B17794,SchoolID,2,FALSE))","v":""},""]
[null,{"$f":"IF(A17806=\"\",\"\",Notes!$B$4)","v":""},null,null,null,null,null,null,null,null,null,null,"",""]
[null,{"$f":"IF(A17813=\"\",\"\",Notes!$B$4)","v":""},null,null,null,null,null,null,null,null,null,null,"",""]
[null,{"$f":"IF(A17822=\"\",\"\",Notes!$B$4)","v":""},null,null,null,null,null,null,null,null,null,null,"",""]
[null,{"$f":"IF(A17836=\"\",\"\",Notes!$B$4)","v":""},null,null,null,null,null,null,null,null,null,null,"",""]
[null,{"$f":"IF(A17843=\"\",\"\",Notes!$B$4)","v":""},null,null,null,null,null,null,null,null,null,null,"",""]
[null,{"$f":"IF(A17855=\"\",\"\",Notes!$B$4)","v":""},null,null,null,null,null,null,null,null,null,null,"",""]
[null,{"$f":"IF(A17861=\"\",\"\",Notes!$B$4)","v":""},null,null,null,null,null,null,null,null,null,null,"",""]
[null,{"$f":"IF(A17864=\"\",\"\",Notes!$B$4)","v":""},null,null,null,null,null,null,null,null,null,null,"",""]
[null,{"$f":"IF(A17876=\"\",\"\",Notes!$B$4)","v":""},null,null,null,null,null,null,null,null,null,null,"",""]
[null,{"$f":"IF(A17883=\"\",\"\",Notes!$B$4)","v":""},null,null,null,null,null,null,null,null,null,null,"",""]
[null,{"$f":"IF(A17892=\"\",\"\",Notes!$B$4)","v":""},null,null,null,null,null,null,null,null,null,null,"",""]
[null,{"$f":"IF(A17901=\"\",\"\",Notes!$B$4)","v":""},null,null,null,null,null,null,null,null,null,null,"",""]
[null,{"$f":"IF(A17913=\"\",\"\",Notes!$B$4)","v":""},null,null,null,null,null,null,null,null,null,null,"",""]
[null,{"$f":"IF(A17925=\"\",\"\",Notes!$B$4)","v":""},null,null,null,null,null,null,null,null,null,null,"",""]
[null,{"$f":"IF(A17931=\"\",\"\",Notes!$B$4)","v":""},null,null,null,null,null,null,null,null,null,null,"",""]
[null,{"$f":"IF(A17934=\"\",\"\",Notes!$B$4)","v":""},null,null,null,null,null,null,null,null,null,null,"",""]
[null,{"$f":"IF(A17946=\"\",\"\",Notes!$B$4)","v":""},null,null,null,null,null,null,null,null,null,null,"",""]
[null,{"$f":"IF(A17953=\"\",\"\",Notes!$B$4)","v":""},null,null,null,null,null,null,null,null,null,null,"",""]
[null,{"$f":"IF(A17962=\"\",\"\",Notes!$B$4)","v":""},null,null,null,null,null,null,null,null,null,null,"",""]
[null,{"$f":"IF(A17971=\"\",\"\",Notes!$B$4)","v":""},null,null,null,null,null,null,null,null,null,null,"",""]
[null,{"$f":"IF(A17983=\"\",\"\",Notes!$B$4)","v":""},null,null,null,null,null,null,null,null,null,null,"",""]
[null,{"$f":"IF(A17995=\"\",\"\",Notes!$B$4)","v":""},null,null,null,null,null,null,null,null,null,null,"",""]
[null,{"$f":"IF(A18001=\"\",\"\",Notes!$B$4)","v":""},null,null,null,null,null,null,null,null,null,null,"",""]
[null,{"$f":"IF(A18004=\"\",\"\",Notes!$B$4)","v":""},null,null,null,null,null,null,null,null,null,null,"",""]
[null,{"$f":"IF(A18016=\"\",\"\",Notes!$B$4)","v":""},null,null,null,null,null,null,null,null,null,null,"",""]
[null,{"$f":"IF(A18023=\"\",\"\",Notes!$B$4)","v":""},null,null,null,null,null,null,null,null,null,null,"",""]
[null,{"$f":"IF(A18032=\"\",\"\",Notes!$B$4)","v":""},null,null,null,null,null,null,null,null,null,null,"",""]
[null,{"$f":"IF(A18041=\"\",\"\",Notes!$B$4)","v":""},null,null,null,null,null,null,null,null,null,null,"",""]
[null,{"$f":"IF(A18053=\"\",\"\",Notes!$B$4)","v":""},null,null,null,null,null,null,null,null,null,null,"",""]
[null,{"$f":"IF(A18065=\"\",\"\",Notes!$B$4)","v":""},null,null,null,null,null,null,null,null,null,null,"",""]
[null,{"$f":"IF(A18071=\"\",\"\",Notes!$B$4)","v":""},null,null,null,null,null,null,null,null,null,null,"",""]
[null,{"$f":"IF(A18074=\"\",\"\",Notes!$B$4)","v":""},null,null,null,null,null,null,null,null,null,null,"",""]
[null,{"$f":"IF(A18090=\"\",\"\",Notes!$B$4)","v":""},null,null,null,null,null,null,null,null,null,null,"",""]
[null,{"$f":"IF(A18093=\"\",\"\",Notes!$B$4)","v":""},null,null,null,null,null,null,null,null,null,null,"",""]
[null,{"$f":"IF(A18102=\"\",\"\",Notes!$B$4)","v":""},null,null,null,null,null,null,null,null,null,null,"",""]
[null,{"$f":"IF(A18111=\"\",\"\",Notes!$B$4)","v":""},null,null,null,null,null,null,null,null,null,null,"",""]
[null,{"$f":"IF(A18123=\"\",\"\",Notes!$B$4)","v":""},null,null,null,null,null,null,null,null,null,null,"",""]
[null,{"$f":"IF(A18135=\"\",\"\",Notes!$B$4)","v":""},null,null,null,null,null,null,null,null,null,null,"",""]
[null,{"$f":"IF(A18141=\"\",\"\",Notes!$B$4)","v":""},null,null,null,null,null,null,null,null,null,null,"",""]
[null,{"$f":"IF(A18144=\"\",\"\",Notes!$B$4)","v":""},null,null,null,null,null,null,null,null,null,null,"",""]
[null,{"$f":"IF(A18160=\"\",\"\",Notes!$B$4)","v":""},null,null,null,null,null,null,null,null,null,null,"",""]
[null,{"$f":"IF(A18163=\"\",\"\",Notes!$B$4)","v":""},null,null,null,null,null,null,null,null,null,null,"",""]
[null,{"$f":"IF(A18172=\"\",\"\",Notes!$B$4)","v":""},null,null,null,null,null,null,null,null,null,null,"",""]
[null,{"$f":"IF(A18181=\"\",\"\",Notes!$B$4)","v":""},null,null,null,null,null,null,null,null,null,null,"",""]
[null,{"$f":"IF(A18193=\"\",\"\",Notes!$B$4)","v":""},null,null,null,null,null,null,null,null,null,null,"",""]
[null,{"$f":"IF(A18200=\"\",\"\",Notes!$B$4)","v":""},null,null,null,null,null,null,null,null,null,null,"",""]
[null,{"$f":"IF(A18211=\"\",\"\",Notes!$B$4)","v":""},null,null,null,null,null,null,null,null,null,null,"",""]
[null,{"$f":"IF(A18214=\"\",\"\",Notes!$B$4)","v":""},null,null,null,null,null,null,null,null,null,null,"",""]
[null,{"$f":"IF(A18230=\"\",\"\",Notes!$B$4)","v":""},null,null,null,null,null,null,null,null,null,null,"",""]
[null,{"$f":"IF(A18233=\"\",\"\",Notes!$B$4)","v":""},null,null,null,null,null,null,null,null,null,null,"",""]
[null,{"$f":"IF(A18242=\"\",\"\",Notes!$B$4)","v":""},null,null,null,null,null,null,null,null,null,null,{"$f":"IF(A18242=\"\",\"\",VLOOKUP(B18242,SchoolID,2,FALSE))","v":""},""]
[null,{"$f":"IF(A18251=\"\",\"\",Notes!$B$4)","v":""},null,null,null,null,null,null,null,null,null,null,"",""]
[null,{"$f":"IF(A18263=\"\",\"\",Notes!$B$4)","v":""},null,null,null,null,null,null,null,null,null,null,"",""]
[null,{"$f":"IF(A18270=\"\",\"\",Notes!$B$4)","v":""},null,null,null,null,null,null,null,null,null,null,"",""]
[null,{"$f":"IF(A18281=\"\",\"\",Notes!$B$4)","v":""},null,null,null,null,null,null,null,null,null,null,"",""]
[null,{"$f":"IF(A18284=\"\",\"\",Notes!$B$4)","v":""},null,null,null,null,null,null,null,null,null,null,"",""]
[null,{"$f":"IF(A18300=\"\",\"\",Notes!$B$4)","v":""},null,null,null,null,null,null,null,null,null,null,"",""]
[null,{"$f":"IF(A18303=\"\",\"\",Notes!$B$4)","v":""},null,null,null,null,null,null,null,null,null,null,"",""]
[null,{"$f":"IF(A18312=\"\",\"\",Notes!$B$4)","v":""},null,null,null,null,null,null,null,null,null,null,"",""]
[null,{"$f":"IF(A18321=\"\",\"\",Notes!$B$4)","v":""},null,null,null,null,null,null,null,null,null,null,"",""]
[null,{"$f":"IF(A18333=\"\",\"\",Notes!$B$4)","v":""},null,null,null,null,null,null,null,null,null,null,"",""]
[null,{"$f":"IF(A18340=\"\",\"\",Notes!$B$4)","v":""},null,null,null,null,null,null,null,null,null,null,"",""]
[null,{"$f":"IF(A18351=\"\",\"\",Notes!$B$4)","v":""},null,null,null,null,null,null,null,null,null,null,"",""]
[null,{"$f":"IF(A18354=\"\",\"\",Notes!$B$4)","v":""},null,null,null,null,null,null,null,null,null,null,"",""]
[null,{"$f":"IF(A18370=\"\",\"\",Notes!$B$4)","v":""},null,null,null,null,null,null,null,null,null,null,{"$f":"IF(A18370=\"\",\"\",VLOOKUP(B18370,SchoolID,2,FALSE))","v":""},""]
[null,{"$f":"IF(A18373=\"\",\"\",Notes!$B$4)","v":""},null,null,null,null,null,null,null,null,null,null,"",""]
[null,{"$f":"IF(A18382=\"\",\"\",Notes!$B$4)","v":""},null,null,null,null,null,null,null,null,null,null,"",""]
[null,{"$f":"IF(A18391=\"\",\"\",Notes!$B$4)","v":""},null,null,null,null,null,null,null,null,null,null,"",""]
[null,{"$f":"IF(A18403=\"\",\"\",Notes!$B$4)","v":""},null,null,null,null,null,null,null,null,null,null,"",""]
[null,{"$f":"IF(A18410=\"\",\"\",Notes!$B$4)","v":""},null,null,null,null,null,null,null,null,null,null,"",""]
[null,{"$f":"IF(A18421=\"\",\"\",Notes!$B$4)","v":""},null,null,null,null,null,null,null,null,null,null,"",""]
[null,{"$f":"IF(A18424=\"\",\"\",Notes!$B$4)","v":""},null,null,null,null,null,null,null,null,null,null,"",""]
[null,{"$f":"IF(A18440=\"\",\"\",Notes!$B$4)","v":""},null,null,null,null,null,null,null,null,null,null,"",""]
[null,{"$f":"IF(A18443=\"\",\"\",Notes!$B$4)","v":""},null,null,null,null,null,null,null,null,null,null,"",""]
[null,{"$f":"IF(A18452=\"\",\"\",Notes!$B$4)","v":""},null,null,null,null,null,null,null,null,null,null,"",""]
[null,{"$f":"IF(A18461=\"\",\"\",Notes!$B$4)","v":""},null,null,null,null,null,null,null,null,null,null,"",""]
[null,{"$f":"IF(A18473=\"\",\"\",Notes!$B$4)","v":""},null,null,null,null,null,null,null,null,null,null,"",""]
[null,{"$f":"IF(A18480=\"\",\"\",Notes!$B$4)","v":""},null,null,null,null,null,null,null,null,null,null,"",""]
[null,{"$f":"IF(A18491=\"\",\"\",Notes!$B$4)","v":""},null,null,null,null,null,null,null,null,null,null,"",""]
[null,{"$f":"IF(A18498=\"\",\"\",Notes!$B$4)","v":""},null,null,null,null,null,null,null,null,null,null,{"$f":"IF(A18498=\"\",\"\",VLOOKUP(B18498,SchoolID,2,FALSE))","v":""},""]
[null,{"$f":"IF(A18510=\"\",\"\",Notes!$B$4)","v":""},null,null,null,null,null,null,null,null,null,null,"",""]
[null,{"$f":"IF(A18513=\"\",\"\",Notes!$B$4)","v":""},null,null,null,null,null,null,null,null,null,null,"",""]
[null,{"$f":"IF(A18522=\"\",\"\",Notes!$B$4)","v":""},null,null,null,null,null,null,null,null,null,null,"",""]
[null,{"$f":"IF(A18531=\"\",\"\",Notes!$B$4)","v":""},null,null,null,null,null,null,null,null,null,null,"",""]
[null,{"$f":"IF(A18543=\"\",\"\",Notes!$B$4)","v":""},null,null,null,null,null,null,null,null,null,null,"",""]
[null,{"$f":"IF(A18550=\"\",\"\",Notes!$B$4)","v":""},null,null,null,null,null,null,null,null,null,null,"",""]
[null,{"$f":"IF(A18561=\"\",\"\",Notes!$B$4)","v":""},null,null,null,null,null,null,null,null,null,null,"",""]
[null,{"$f":"IF(A18568=\"\",\"\",Notes!$B$4)","v":""},null,null,null,null,null,null,null,null,null,null,"",""]
[null,{"$f":"IF(A18580=\"\",\"\",Notes!$B$4)","v":""},null,null,null,null,null,null,null,null,null,null,"",""]
[null,{"$f":"IF(A18583=\"\",\"\",Notes!$B$4)","v":""},null,null,null,null,null,null,null,null,null,null,"",""]
[null,{"$f":"IF(A18592=\"\",\"\",Notes!$B$4)","v":""},null,null,null,null,null,null,null,null,null,null,"",""]
[null,{"$f":"IF(A18601=\"\",\"\",Notes!$B$4)","v":""},null,null,null,null,null,null,null,null,null,null,"",""]
[null,{"$f":"IF(A18613=\"\",\"\",Notes!$B$4)","v":""},null,null,null,null,null,null,null,null,null,null,"",""]
[null,{"$f":"IF(A18620=\"\",\"\",Notes!$B$4)","v":""},null,null,null,null,null,null,null,null,null,null,"",""]
[null,{"$f":"IF(A18631=\"\",\"\",Notes!$B$4)","v":""},null,null,null,null,null,null,null,null,null,null,"",""]
[null,{"$f":"IF(A18638=\"\",\"\",Notes!$B$4)","v":""},null,null,null,null,null,null,null,null,null,null,"",""]
[null,{"$f":"IF(A18650=\"\",\"\",Notes!$B$4)","v":""},null,null,null,null,null,null,null,null,null,null,"",""]
[null,{"$f":"IF(A18653=\"\",\"\",Notes!$B$4)","v":""},null,null,null,null,null,null,null,null,null,null,"",""]
[null,{"$f":"IF(A18662=\"\",\"\",Notes!$B$4)","v":""},null,null,null,null,null,null,null,null,null,null,"",""]
[null,{"$f":"IF(A18671=\"\",\"\",Notes!$B$4)","v":""},null,null,null,null,null,null,null,null,null,null,"",""]
[null,{"$f":"IF(A18678=\"\",\"\",Notes!$B$4)","v":""},null,null,null,null,null,null,null,null,null,null,"",""]
[null,{"$f":"IF(A18690=\"\",\"\",Notes!$B$4)","v":""},null,null,null,null,null,null,null,null,null,null,{"$f":"IF(A18690=\"\",\"\",VLOOKUP(B18690,SchoolID,2,FALSE))","v":""},""]
[null,{"$f":"IF(A18701=\"\",\"\",Notes!$B$4)","v":""},null,null,null,null,null,null,null,null,null,null,"",""]
[null,{"$f":"IF(A18708=\"\",\"\",Notes!$B$4)","v":""},null,null,null,null,null,null,null,null,null,null,"",""]
[null,{"$f":"IF(A18720=\"\",\"\",Notes!$B$4)","v":""},null,null,null,null,null,null,null,null,null,null,"",""]
[null,{"$f":"IF(A18723=\"\",\"\",Notes!$B$4)","v":""},null,null,null,null,null,null,null,null,null,null,"",""]
[null,{"$f":"IF(A18732=\"\",\"\",Notes!$B$4)","v":""},null,null,null,null,null,null,null,null,null,null,"",""]
[null,{"$f":"IF(A18741=\"\",\"\",Notes!$B$4)","v":""},null,null,null,null,null,null,null,null,null,null,"",""]
[null,{"$f":"IF(A18748=\"\",\"\",Notes!$B$4)","v":""},null,null,null,null,null,null,null,null,null,null,"",""]
[null,{"$f":"IF(A18760=\"\",\"\",Notes!$B$4)","v":""},null,null,null,null,null,null,null,null,null,null,"",""]
[null,{"$f":"IF(A18771=\"\",\"\",Notes!$B$4)","v":""},null,null,null,null,null,null,null,null,null,null,"",""]
[null,{"$f":"IF(A18778=\"\",\"\",Notes!$B$4)","v":""},null,null,null,null,null,null,null,null,null,null,"",""]
[null,{"$f":"IF(A18790=\"\",\"\",Notes!$B$4)","v":""},null,null,null,null,null,null,null,null,null,null,"",""]
[null,{"$f":"IF(A18793=\"\",\"\",Notes!$B$4)","v":""},null,null,null,null,null,null,null,null,null,null,"",""]
[null,{"$f":"IF(A18802=\"\",\"\",Notes!$B$4)","v":""},null,null,null,null,null,null,null,null,null,null,"",""]
[null,{"$f":"IF(A18811=\"\",\"\",Notes!$B$4)","v":""},null,null,null,null,null,null,null,null,null,null,"",""]
[null,{"$f":"IF(A18818=\"\",\"\",Notes!$B$4)","v":""},null,null,null,null,null,null,null,null,null,null,{"$f":"IF(A18818=\"\",\"\",VLOOKUP(B18818,SchoolID,2,FALSE))","v":""},""]
[null,{"$f":"IF(A18830=\"\",\"\",Notes!$B$4)","v":""},null,null,null,null,null,null,null,null,null,null,"",""]
[null,{"$f":"IF(A18841=\"\",\"\",Notes!$B$4)","v":""},null,null,null,null,null,null,null,null,null,null,"",""]
[null,{"$f":"IF(A18848=\"\",\"\",Notes!$B$4)","v":""},null,null,null,null,null,null,null,null,null,null,"",""]
[null,{"$f":"IF(A18860=\"\",\"\",Notes!$B$4)","v":""},null,null,null,null,null,null,null,null,null,null,"",""]
[null,{"$f":"IF(A18867=\"\",\"\",Notes!$B$4)","v":""},null,null,null,null,null,null,null,null,null,null,"",""]
[null,{"$f":"IF(A18872=\"\",\"\",Notes!$B$4)","v":""},null,null,null,null,null,null,null,null,null,null,"",""]
[null,{"$f":"IF(A18881=\"\",\"\",Notes!$B$4)","v":""},null,null,null,null,null,null,null,null,null,null,"",""]
[null,{"$f":"IF(A18888=\"\",\"\",Notes!$B$4)","v":""},null,null,null,null,null,null,null,null,null,null,"",""]
[null,{"$f":"IF(A18900=\"\",\"\",Notes!$B$4)","v":""},null,null,null,null,null,null,null,null,null,null,"",""]
[null,{"$f":"IF(A18911=\"\",\"\",Notes!$B$4)","v":""},null,null,null,null,null,null,null,null,null,null,"",""]
[null,{"$f":"IF(A18918=\"\",\"\",Notes!$B$4)","v":""},null,null,null,null,null,null,null,null,null,null,"",""]
[null,{"$f":"IF(A18930=\"\",\"\",Notes!$B$4)","v":""},null,null,null,null,null,null,null,null,null,null,"",""]
[null,{"$f":"IF(A18937=\"\",\"\",Notes!$B$4)","v":""},null,null,null,null,null,null,null,null,null,null,"",""]
[null,{"$f":"IF(A18942=\"\",\"\",Notes!$B$4)","v":""},null,null,null,null,null,null,null,null,null,null,"",""]
[null,{"$f":"IF(A18951=\"\",\"\",Notes!$B$4)","v":""},null,null,null,null,null,null,null,null,null,null,"",""]
[null,{"$f":"IF(A18958=\"\",\"\",Notes!$B$4)","v":""},null,null,null,null,null,null,null,null,null,null,"",""]
[null,{"$f":"IF(A18970=\"\",\"\",Notes!$B$4)","v":""},null,null,null,null,null,null,null,null,null,null,"",""]
[null,{"$f":"IF(A18981=\"\",\"\",Notes!$B$4)","v":""},null,null,null,null,null,null,null,null,null,null,"",""]
[null,{"$f":"IF(A18988=\"\",\"\",Notes!$B$4)","v":""},null,null,null,null,null,null,null,null,null,null,"",""]
[null,{"$f":"IF(A19000=\"\",\"\",Notes!$B$4)","v":""},null,null,null,null,null,null,null,null,null,null,"",""]
[null,{"$f":"IF(A19007=\"\",\"\",Notes!$B$4)","v":""},null,null,null,null,null,null,null,null,null,null,"",""]
[null,{"$f":"IF(A19012=\"\",\"\",Notes!$B$4)","v":""},null,null,null,null,null,null,null,null,null,null,"",""]
[null,{"$f":"IF(A19021=\"\",\"\",Notes!$B$4)","v":""},null,null,null,null,null,null,null,null,null,null,"",""]
[null,{"$f":"IF(A19028=\"\",\"\",Notes!$B$4)","v":""},null,null,null,null,null,null,null,null,null,null,"",""]
[null,{"$f":"IF(A19040=\"\",\"\",Notes!$B$4)","v":""},null,null,null,null,null,null,null,null,null,null,"",""]
[null,{"$f":"IF(A19051=\"\",\"\",Notes!$B$4)","v":""},null,null,null,null,null,null,null,null,null,null,"",""]
[null,{"$f":"IF(A19058=\"\",\"\",Notes!$B$4)","v":""},null,null,null,null,null,null,null,null,null,null,"",""]
[null,{"$f":"IF(A19070=\"\",\"\",Notes!$B$4)","v":""},null,null,null,null,null,null,null,null,null,null,"",""]
[null,{"$f":"IF(A19077=\"\",\"\",Notes!$B$4)","v":""},null,null,null,null,null,null,null,null,null,null,"",""]
[null,{"$f":"IF(A19082=\"\",\"\",Notes!$B$4)","v":""},null,null,null,null,null,null,null,null,null,null,"",""]
[null,{"$f":"IF(A19091=\"\",\"\",Notes!$B$4)","v":""},null,null,null,null,null,null,null,null,null,null,"",""]
[null,{"$f":"IF(A19098=\"\",\"\",Notes!$B$4)","v":""},null,null,null,null,null,null,null,null,null,null,"",""]
[null,{"$f":"IF(A19110=\"\",\"\",Notes!$B$4)","v":""},null,null,null,null,null,null,null,null,null,null,"",""]
[null,{"$f":"IF(A19121=\"\",\"\",Notes!$B$4)","v":""},null,null,null,null,null,null,null,null,null,null,"",""]
[null,{"$f":"IF(A19128=\"\",\"\",Notes!$B$4)","v":""},null,null,null,null,null,null,null,null,null,null,"",""]
[null,{"$f":"IF(A19140=\"\",\"\",Notes!$B$4)","v":""},null,null,null,null,null,null,null,null,null,null,"",""]
[null,{"$f":"IF(A19147=\"\",\"\",Notes!$B$4)","v":""},null,null,null,null,null,null,null,null,null,null,"",""]
[null,{"$f":"IF(A19152=\"\",\"\",Notes!$B$4)","v":""},null,null,null,null,null,null,null,null,null,null,"",""]
[null,{"$f":"IF(A19165=\"\",\"\",Notes!$B$4)","v":""},null,null,null,null,null,null,null,null,null,null,"",""]
[null,{"$f":"IF(A19168=\"\",\"\",Notes!$B$4)","v":""},null,null,null,null,null,null,null,null,null,null,"",""]
[null,{"$f":"IF(A19180=\"\",\"\",Notes!$B$4)","v":""},null,null,null,null,null,null,null,null,null,null,"",""]
[null,{"$f":"IF(A19191=\"\",\"\",Notes!$B$4)","v":""},null,null,null,null,null,null,null,null,null,null,"",""]
[null,{"$f":"IF(A19198=\"\",\"\",Notes!$B$4)","v":""},null,null,null,null,null,null,null,null,null,null,"",""]
[null,{"$f":"IF(A19210=\"\",\"\",Notes!$B$4)","v":""},null,null,null,null,null,null,null,null,null,null,"",""]
[null,{"$f":"IF(A19217=\"\",\"\",Notes!$B$4)","v":""},null,null,null,null,null,null,null,null,null,null,"",""]
[null,{"$f":"IF(A19222=\"\",\"\",Notes!$B$4)","v":""},null,null,null,null,null,null,null,null,null,null,"",""]
[null,{"$f":"IF(A19235=\"\",\"\",Notes!$B$4)","v":""},null,null,null,null,null,null,null,null,null,null,"",""]
[null,{"$f":"IF(A19238=\"\",\"\",Notes!$B$4)","v":""},null,null,null,null,null,null,null,null,null,null,"",""]
[null,{"$f":"IF(A19250=\"\",\"\",Notes!$B$4)","v":""},null,null,null,null,null,null,null,null,null,null,"",""]
[null,{"$f":"IF(A19261=\"\",\"\",Notes!$B$4)","v":""},null,null,null,null,null,null,null,null,null,null,"",""]
[null,{"$f":"IF(A19268=\"\",\"\",Notes!$B$4)","v":""},null,null,null,null,null,null,null,null,null,null,"",""]
[null,{"$f":"IF(A19275=\"\",\"\",Notes!$B$4)","v":""},null,null,null,null,null,null,null,null,null,null,"",""]
[null,{"$f":"IF(A19287=\"\",\"\",Notes!$B$4)","v":""},null,null,null,null,null,null,null,null,null,null,"",""]
[null,{"$f":"IF(A19292=\"\",\"\",Notes!$B$4)","v":""},null,null,null,null,null,null,null,null,null,null,"",""]
[null,{"$f":"IF(A19305=\"\",\"\",Notes!$B$4)","v":""},null,null,null,null,null,null,null,null,null,null,"",""]
[null,{"$f":"IF(A19308=\"\",\"\",Notes!$B$4)","v":""},null,null,null,null,null,null,null,null,null,null,"",""]
[null,{"$f":"IF(A19320=\"\",\"\",Notes!$B$4)","v":""},null,null,null,null,null,null,null,null,null,null,"",""]
[null,{"$f":"IF(A19331=\"\",\"\",Notes!$B$4)","v":""},null,null,null,null,null,null,null,null,null,null,"",""]
[null,{"$f":"IF(A19338=\"\",\"\",Notes!$B$4)","v":""},null,null,null,null,null,null,null,null,null,null,"",""]
[null,{"$f":"IF(A19345=\"\",\"\",Notes!$B$4)","v":""},null,null,null,null,null,null,null,null,null,null,"",""]
[null,{"$f":"IF(A19357=\"\",\"\",Notes!$B$4)","v":""},null,null,null,null,null,null,null,null,null,null,"",""]
[null,{"$f":"IF(A19362=\"\",\"\",Notes!$B$4)","v":""},null,null,null,null,null,null,null,null,null,null,"",""]
[null,{"$f":"IF(A19375=\"\",\"\",Notes!$B$4)","v":""},null,null,null,null,null,null,null,null,null,null,"",""]
[null,{"$f":"IF(A19378=\"\",\"\",Notes!$B$4)","v":""},null,null,null,null,null,null,null,null,null,null,"",""]
[null,{"$f":"IF(A19390=\"\",\"\",Notes!$B$4)","v":""},null,null,null,null,null,null,null,null,null,null,"",""]
[null,{"$f":"IF(A19401=\"\",\"\",Notes!$B$4)","v":""},null,null,null,null,null,null,null,null,null,null,"",""]
[null,{"$f":"IF(A19408=\"\",\"\",Notes!$B$4)","v":""},null,null,null,null,null,null,null,null,null,null,"",""]
[null,{"$f":"IF(A19415=\"\",\"\",Notes!$B$4)","v":""},null,null,null,null,null,null,null,null,null,null,"",""]
[null,{"$f":"IF(A19427=\"\",\"\",Notes!$B$4)","v":""},null,null,null,null,null,null,null,null,null,null,"",""]
[null,{"$f":"IF(A19432=\"\",\"\",Notes!$B$4)","v":""},null,null,null,null,null,null,null,null,null,null,"",""]
[null,{"$f":"IF(A19445=\"\",\"\",Notes!$B$4)","v":""},null,null,null,null,null,null,null,null,null,null,"",""]
[null,{"$f":"IF(A19448=\"\",\"\",Notes!$B$4)","v":""},null,null,null,null,null,null,null,null,null,null,"",""]
[null,{"$f":"IF(A19464=\"\",\"\",Notes!$B$4)","v":""},null,null,null,null,null,null,null,null,null,null,"",""]
[null,{"$f":"IF(A19471=\"\",\"\",Notes!$B$4)","v":""},null,null,null,null,null,null,null,null,null,null,"",{"$f":"M19471&A19471","v":""}]
[null,{"$f":"IF(A19478=\"\",\"\",Notes!$B$4)","v":""},null,null,null,null,null,null,null,null,null,null,"",""]
[null,{"$f":"IF(A19485=\"\",\"\",Notes!$B$4)","v":""},null,null,null,null,null,null,null,null,null,null,"",""]
[null,{"$f":"IF(A19497=\"\",\"\",Notes!$B$4)","v":""},null,null,null,null,null,null,null,null,null,null,"",""]
[null,{"$f":"IF(A19501=\"\",\"\",Notes!$B$4)","v":""},null,null,null,null,null,null,null,null,null,null,"",""]
[null,{"$f":"IF(A19502=\"\",\"\",Notes!$B$4)","v":""},null,null,null,null,null,null,null,null,null,null,"",""]
[null,{"$f":"IF(A19503=\"\",\"\",Notes!$B$4)","v":""},null,null,null,null,null,null,null,null,null,null,"",""]
[null,{"$f":"IF(A19504=\"\",\"\",Notes!$B$4)","v":""},null,null,null,null,null,null,null,null,null,null,"",""]
[null,{"$f":"IF(A19505=\"\",\"\",Notes!$B$4)","v":""},null,null,null,null,null,null,null,null,null,null,"",""]
[null,{"$f":"IF(A19506=\"\",\"\",Notes!$B$4)","v":""},null,null,null,null,null,null,null,null,null,null,"",""]
[null,{"$f":"IF(A19507=\"\",\"\",Notes!$B$4)","v":""},null,null,null,null,null,null,null,null,null,null,"",""]
[null,{"$f":"IF(A19508=\"\",\"\",Notes!$B$4)","v":""},null,null,null,null,null,null,null,null,null,null,"",""]
[null,{"$f":"IF(A19509=\"\",\"\",Notes!$B$4)","v":""},null,null,null,null,null,null,null,null,null,null,"",""]
[null,{"$f":"IF(A19510=\"\",\"\",Notes!$B$4)","v":""},null,null,null,null,null,null,null,null,null,null,"",""]
[null,{"$f":"IF(A19511=\"\",\"\",Notes!$B$4)","v":""},null,null,null,null,null,null,null,null,null,null,"",""]
[null,{"$f":"IF(A19512=\"\",\"\",Notes!$B$4)","v":""},null,null,null,null,null,null,null,null,null,null,"",""]
[null,{"$f":"IF(A19513=\"\",\"\",Notes!$B$4)","v":""},null,null,null,null,null,null,null,null,null,null,"",""]
[null,{"$f":"IF(A19514=\"\",\"\",Notes!$B$4)","v":""},null,null,null,null,null,null,null,null,null,null,"",""]
[null,{"$f":"IF(A19515=\"\",\"\",Notes!$B$4)","v":""},null,null,null,null,null,null,null,null,null,null,"",""]
[null,{"$f":"IF(A19516=\"\",\"\",Notes!$B$4)","v":""},null,null,null,null,null,null,null,null,null,null,"",""]
[null,{"$f":"IF(A19517=\"\",\"\",Notes!$B$4)","v":""},null,null,null,null,null,null,null,null,null,null,"",""]
[null,{"$f":"IF(A19518=\"\",\"\",Notes!$B$4)","v":""},null,null,null,null,null,null,null,null,null,null,"",""]
[null,{"$f":"IF(A19519=\"\",\"\",Notes!$B$4)","v":""},null,null,null,null,null,null,null,null,null,null,"",""]
[null,{"$f":"IF(A19520=\"\",\"\",Notes!$B$4)","v":""},null,null,null,null,null,null,null,null,null,null,"",""]
[null,{"$f":"IF(A19521=\"\",\"\",Notes!$B$4)","v":""},null,null,null,null,null,null,null,null,null,null,"",""]
[null,{"$f":"IF(A19522=\"\",\"\",Notes!$B$4)","v":""},null,null,null,null,null,null,null,null,null,null,{"$f":"IF(A19522=\"\",\"\",VLOOKUP(B19522,SchoolID,2,FALSE))","v":""},""]
[null,{"$f":"IF(A19523=\"\",\"\",Notes!$B$4)","v":""},null,null,null,null,null,null,null,null,null,null,"",""]
[null,{"$f":"IF(A19524=\"\",\"\",Notes!$B$4)","v":""},null,null,null,null,null,null,null,null,null,null,"",""]
[null,{"$f":"IF(A19525=\"\",\"\",Notes!$B$4)","v":""},null,null,null,null,null,null,null,null,null,null,"",""]
[null,{"$f":"IF(A19526=\"\",\"\",Notes!$B$4)","v":""},null,null,null,null,null,null,null,null,null,null,"",""]
[null,{"$f":"IF(A19527=\"\",\"\",Notes!$B$4)","v":""},null,null,null,null,null,null,null,null,null,null,"",""]
[null,{"$f":"IF(A19528=\"\",\"\",Notes!$B$4)","v":""},null,null,null,null,null,null,null,null,null,null,"",""]
[null,{"$f":"IF(A19529=\"\",\"\",Notes!$B$4)","v":""},null,null,null,null,null,null,null,null,null,null,"",""]
[null,{"$f":"IF(A19530=\"\",\"\",Notes!$B$4)","v":""},null,null,null,null,null,null,null,null,null,null,"",""]
[null,{"$f":"IF(A19531=\"\",\"\",Notes!$B$4)","v":""},null,null,null,null,null,null,null,null,null,null,"",""]
[null,{"$f":"IF(A19532=\"\",\"\",Notes!$B$4)","v":""},null,null,null,null,null,null,null,null,null,null,"",""]
[null,{"$f":"IF(A19533=\"\",\"\",Notes!$B$4)","v":""},null,null,null,null,null,null,null,null,null,null,"",""]
[null,{"$f":"IF(A19534=\"\",\"\",Notes!$B$4)","v":""},null,null,null,null,null,null,null,null,null,null,"",""]
[null,{"$f":"IF(A19535=\"\",\"\",Notes!$B$4)","v":""},null,null,null,null,null,null,null,null,null,null,"",{"$f":"M19535&A19535","v":""}]
[null,{"$f":"IF(A19536=\"\",\"\",Notes!$B$4)","v":""},null,null,null,null,null,null,null,null,null,null,"",""]
[null,{"$f":"IF(A19537=\"\",\"\",Notes!$B$4)","v":""},null,null,null,null,null,null,null,null,null,null,"",""]
[null,{"$f":"IF(A19538=\"\",\"\",Notes!$B$4)","v":""},null,null,null,null,null,null,null,null,null,null,"",""]
[null,{"$f":"IF(A19539=\"\",\"\",Notes!$B$4)","v":""},null,null,null,null,null,null,null,null,null,null,"",""]
[null,{"$f":"IF(A19540=\"\",\"\",Notes!$B$4)","v":""},null,null,null,null,null,null,null,null,null,null,"",""]
[null,{"$f":"IF(A19541=\"\",\"\",Notes!$B$4)","v":""},null,null,null,null,null,null,null,null,null,null,"",""]
[null,{"$f":"IF(A19542=\"\",\"\",Notes!$B$4)","v":""},null,null,null,null,null,null,null,null,null,null,"",""]
[null,{"$f":"IF(A19543=\"\",\"\",Notes!$B$4)","v":""},null,null,null,null,null,null,null,null,null,null,"",""]
[null,{"$f":"IF(A19544=\"\",\"\",Notes!$B$4)","v":""},null,null,null,null,null,null,null,null,null,null,"",""]
[null,{"$f":"IF(A19545=\"\",\"\",Notes!$B$4)","v":""},null,null,null,null,null,null,null,null,null,null,"",""]
[null,{"$f":"IF(A19546=\"\",\"\",Notes!$B$4)","v":""},null,null,null,null,null,null,null,null,null,null,"",""]
[null,{"$f":"IF(A19547=\"\",\"\",Notes!$B$4)","v":""},null,null,null,null,null,null,null,null,null,null,"",""]
[null,{"$f":"IF(A19548=\"\",\"\",Notes!$B$4)","v":""},null,null,null,null,null,null,null,null,null,null,"",""]
[null,{"$f":"IF(A19549=\"\",\"\",Notes!$B$4)","v":""},null,null,null,null,null,null,null,null,null,null,"",""]
[null,{"$f":"IF(A19550=\"\",\"\",Notes!$B$4)","v":""},null,null,null,null,null,null,null,null,null,null,"",""]
[null,{"$f":"IF(A19551=\"\",\"\",Notes!$B$4)","v":""},null,null,null,null,null,null,null,null,null,null,"",""]
[null,{"$f":"IF(A19552=\"\",\"\",Notes!$B$4)","v":""},null,null,null,null,null,null,null,null,null,null,"",""]
[null,{"$f":"IF(A19553=\"\",\"\",Notes!$B$4)","v":""},null,null,null,null,null,null,null,null,null,null,"",""]
[null,{"$f":"IF(A19554=\"\",\"\",Notes!$B$4)","v":""},null,null,null,null,null,null,null,null,null,null,"",""]
[null,{"$f":"IF(A19555=\"\",\"\",Notes!$B$4)","v":""},null,null,null,null,null,null,null,null,null,null,"",""]
[null,{"$f":"IF(A19556=\"\",\"\",Notes!$B$4)","v":""},null,null,null,null,null,null,null,null,null,null,"",""]
[null,{"$f":"IF(A19557=\"\",\"\",Notes!$B$4)","v":""},null,null,null,null,null,null,null,null,null,null,"",""]
[null,{"$f":"IF(A19558=\"\",\"\",Notes!$B$4)","v":""},null,null,null,null,null,null,null,null,null,null,"",""]
[null,{"$f":"IF(A19559=\"\",\"\",Notes!$B$4)","v":""},null,null,null,null,null,null,null,null,null,null,"",""]
[null,{"$f":"IF(A19560=\"\",\"\",Notes!$B$4)","v":""},null,null,null,null,null,null,null,null,null,null,"",""]
[null,{"$f":"IF(A19561=\"\",\"\",Notes!$B$4)","v":""},null,null,null,null,null,null,null,null,null,null,"",""]
[null,{"$f":"IF(A19562=\"\",\"\",Notes!$B$4)","v":""},null,null,null,null,null,null,null,null,null,null,"",""]
[null,{"$f":"IF(A19563=\"\",\"\",Notes!$B$4)","v":""},null,null,null,null,null,null,null,null,null,null,"",""]
[null,{"$f":"IF(A19564=\"\",\"\",Notes!$B$4)","v":""},null,null,null,null,null,null,null,null,null,null,"",""]
[null,{"$f":"IF(A19565=\"\",\"\",Notes!$B$4)","v":""},null,null,null,null,null,null,null,null,null,null,"",""]
[null,{"$f":"IF(A19566=\"\",\"\",Notes!$B$4)","v":""},null,null,null,null,null,null,null,null,null,null,"",""]
[null,{"$f":"IF(A19567=\"\",\"\",Notes!$B$4)","v":""},null,null,null,null,null,null,null,null,null,null,"",""]
[null,{"$f":"IF(A19568=\"\",\"\",Notes!$B$4)","v":""},null,null,null,null,null,null,null,null,null,null,"",""]
[null,{"$f":"IF(A19569=\"\",\"\",Notes!$B$4)","v":""},null,null,null,null,null,null,null,null,null,null,"",""]
[null,{"$f":"IF(A19570=\"\",\"\",Notes!$B$4)","v":""},null,null,null,null,null,null,null,null,null,null,"",""]
[null,{"$f":"IF(A19571=\"\",\"\",Notes!$B$4)","v":""},null,null,null,null,null,null,null,null,null,null,"",""]
[null,{"$f":"IF(A19572=\"\",\"\",Notes!$B$4)","v":""},null,null,null,null,null,null,null,null,null,null,"",""]
[null,{"$f":"IF(A19573=\"\",\"\",Notes!$B$4)","v":""},null,null,null,null,null,null,null,null,null,null,"",""]
[null,{"$f":"IF(A19574=\"\",\"\",Notes!$B$4)","v":""},null,null,null,null,null,null,null,null,null,null,"",""]
[null,{"$f":"IF(A19575=\"\",\"\",Notes!$B$4)","v":""},null,null,null,null,null,null,null,null,null,null,"",""]
[null,{"$f":"IF(A19576=\"\",\"\",Notes!$B$4)","v":""},null,null,null,null,null,null,null,null,null,null,"",""]
[null,{"$f":"IF(A19577=\"\",\"\",Notes!$B$4)","v":""},null,null,null,null,null,null,null,null,null,null,"",""]
[null,{"$f":"IF(A19578=\"\",\"\",Notes!$B$4)","v":""},null,null,null,null,null,null,null,null,null,null,"",""]
[null,{"$f":"IF(A19579=\"\",\"\",Notes!$B$4)","v":""},null,null,null,null,null,null,null,null,null,null,"",""]
[null,{"$f":"IF(A19580=\"\",\"\",Notes!$B$4)","v":""},null,null,null,null,null,null,null,null,null,null,"",""]
[null,{"$f":"IF(A19581=\"\",\"\",Notes!$B$4)","v":""},null,null,null,null,null,null,null,null,null,null,"",""]
[null,{"$f":"IF(A19582=\"\",\"\",Notes!$B$4)","v":""},null,null,null,null,null,null,null,null,null,null,"",""]
[null,{"$f":"IF(A19583=\"\",\"\",Notes!$B$4)","v":""},null,null,null,null,null,null,null,null,null,null,"",""]
[null,{"$f":"IF(A19584=\"\",\"\",Notes!$B$4)","v":""},null,null,null,null,null,null,null,null,null,null,"",""]
[null,{"$f":"IF(A19585=\"\",\"\",Notes!$B$4)","v":""},null,null,null,null,null,null,null,null,null,null,"",""]
[null,{"$f":"IF(A19586=\"\",\"\",Notes!$B$4)","v":""},null,null,null,null,null,null,null,null,null,null,{"$f":"IF(A19586=\"\",\"\",VLOOKUP(B19586,SchoolID,2,FALSE))","v":""},""]
[null,{"$f":"IF(A19587=\"\",\"\",Notes!$B$4)","v":""},null,null,null,null,null,null,null,null,null,null,"",""]
[null,{"$f":"IF(A19588=\"\",\"\",Notes!$B$4)","v":""},null,null,null,null,null,null,null,null,null,null,"",""]
[null,{"$f":"IF(A19589=\"\",\"\",Notes!$B$4)","v":""},null,null,null,null,null,null,null,null,null,null,"",""]
[null,{"$f":"IF(A19590=\"\",\"\",Notes!$B$4)","v":""},null,null,null,null,null,null,null,null,null,null,"",""]
[null,{"$f":"IF(A19591=\"\",\"\",Notes!$B$4)","v":""},null,null,null,null,null,null,null,null,null,null,"",""]
[null,{"$f":"IF(A19592=\"\",\"\",Notes!$B$4)","v":""},null,null,null,null,null,null,null,null,null,null,"",""]
[null,{"$f":"IF(A19593=\"\",\"\",Notes!$B$4)","v":""},null,null,null,null,null,null,null,null,null,null,"",""]
[null,{"$f":"IF(A19594=\"\",\"\",Notes!$B$4)","v":""},null,null,null,null,null,null,null,null,null,null,"",""]
[null,{"$f":"IF(A19595=\"\",\"\",Notes!$B$4)","v":""},null,null,null,null,null,null,null,null,null,null,"",""]
[null,{"$f":"IF(A19596=\"\",\"\",Notes!$B$4)","v":""},null,null,null,null,null,null,null,null,null,null,"",""]
[null,{"$f":"IF(A19597=\"\",\"\",Notes!$B$4)","v":""},null,null,null,null,null,null,null,null,null,null,"",""]
[null,{"$f":"IF(A19598=\"\",\"\",Notes!$B$4)","v":""},null,null,null,null,null,null,null,null,null,null,"",""]
[null,{"$f":"IF(A19599=\"\",\"\",Notes!$B$4)","v":""},null,null,null,null,null,null,null,null,null,null,"",{"$f":"M19599&A19599","v":""}]
[null,{"$f":"IF(A19600=\"\",\"\",Notes!$B$4)","v":""},null,null,null,null,null,null,null,null,null,null,"",""]
[null,{"$f":"IF(A19601=\"\",\"\",Notes!$B$4)","v":""},null,null,null,null,null,null,null,null,null,null,"",""]
[null,{"$f":"IF(A19602=\"\",\"\",Notes!$B$4)","v":""},null,null,null,null,null,null,null,null,null,null,"",""]
[null,{"$f":"IF(A19603=\"\",\"\",Notes!$B$4)","v":""},null,null,null,null,null,null,null,null,null,null,"",""]
[null,{"$f":"IF(A19604=\"\",\"\",Notes!$B$4)","v":""},null,null,null,null,null,null,null,null,null,null,"",""]
[null,{"$f":"IF(A19605=\"\",\"\",Notes!$B$4)","v":""},null,null,null,null,null,null,null,null,null,null,"",""]
[null,{"$f":"IF(A19606=\"\",\"\",Notes!$B$4)","v":""},null,null,null,null,null,null,null,null,null,null,"",""]
[null,{"$f":"IF(A19607=\"\",\"\",Notes!$B$4)","v":""},null,null,null,null,null,null,null,null,null,null,"",""]
[null,{"$f":"IF(A19608=\"\",\"\",Notes!$B$4)","v":""},null,null,null,null,null,null,null,null,null,null,"",""]
[null,{"$f":"IF(A19609=\"\",\"\",Notes!$B$4)","v":""},null,null,null,null,null,null,null,null,null,null,"",""]
[null,{"$f":"IF(A19610=\"\",\"\",Notes!$B$4)","v":""},null,null,null,null,null,null,null,null,null,null,"",""]
[null,{"$f":"IF(A19611=\"\",\"\",Notes!$B$4)","v":""},null,null,null,null,null,null,null,null,null,null,"",""]
[null,{"$f":"IF(A19612=\"\",\"\",Notes!$B$4)","v":""},null,null,null,null,null,null,null,null,null,null,"",""]
[null,{"$f":"IF(A19613=\"\",\"\",Notes!$B$4)","v":""},null,null,null,null,null,null,null,null,null,null,"",""]
[null,{"$f":"IF(A19614=\"\",\"\",Notes!$B$4)","v":""},null,null,null,null,null,null,null,null,null,null,"",""]
[null,{"$f":"IF(A19615=\"\",\"\",Notes!$B$4)","v":""},null,null,null,null,null,null,null,null,null,null,"",""]
[null,{"$f":"IF(A19616=\"\",\"\",Notes!$B$4)","v":""},null,null,null,null,null,null,null,null,null,null,"",""]
[null,{"$f":"IF(A19617=\"\",\"\",Notes!$B$4)","v":""},null,null,null,null,null,null,null,null,null,null,"",""]
[null,{"$f":"IF(A19618=\"\",\"\",Notes!$B$4)","v":""},null,null,null,null,null,null,null,null,null,null,"",""]
[null,{"$f":"IF(A19619=\"\",\"\",Notes!$B$4)","v":""},null,null,null,null,null,null,null,null,null,null,"",""]
[null,{"$f":"IF(A19620=\"\",\"\",Notes!$B$4)","v":""},null,null,null,null,null,null,null,null,null,null,"",""]
[null,{"$f":"IF(A19621=\"\",\"\",Notes!$B$4)","v":""},null,null,null,null,null,null,null,null,null,null,"",""]
[null,{"$f":"IF(A19622=\"\",\"\",Notes!$B$4)","v":""},null,null,null,null,null,null,null,null,null,null,"",""]
[null,{"$f":"IF(A19623=\"\",\"\",Notes!$B$4)","v":""},null,null,null,null,null,null,null,null,null,null,"",""]
[null,{"$f":"IF(A19624=\"\",\"\",Notes!$B$4)","v":""},null,null,null,null,null,null,null,null,null,null,"",""]
[null,{"$f":"IF(A19625=\"\",\"\",Notes!$B$4)","v":""},null,null,null,null,null,null,null,null,null,null,"",""]
[null,{"$f":"IF(A19626=\"\",\"\",Notes!$B$4)","v":""},null,null,null,null,null,null,null,null,null,null,"",""]
[null,{"$f":"IF(A19627=\"\",\"\",Notes!$B$4)","v":""},null,null,null,null,null,null,null,null,null,null,"",""]
[null,{"$f":"IF(A19628=\"\",\"\",Notes!$B$4)","v":""},null,null,null,null,null,null,null,null,null,null,"",""]
[null,{"$f":"IF(A19629=\"\",\"\",Notes!$B$4)","v":""},null,null,null,null,null,null,null,null,null,null,"",""]
[null,{"$f":"IF(A19630=\"\",\"\",Notes!$B$4)","v":""},null,null,null,null,null,null,null,null,null,null,"",""]
[null,{"$f":"IF(A19631=\"\",\"\",Notes!$B$4)","v":""},null,null,null,null,null,null,null,null,null,null,"",""]
[null,{"$f":"IF(A19632=\"\",\"\",Notes!$B$4)","v":""},null,null,null,null,null,null,null,null,null,null,"",""]
[null,{"$f":"IF(A19633=\"\",\"\",Notes!$B$4)","v":""},null,null,null,null,null,null,null,null,null,null,"",""]
[null,{"$f":"IF(A19634=\"\",\"\",Notes!$B$4)","v":""},null,null,null,null,null,null,null,null,null,null,"",""]
[null,{"$f":"IF(A19635=\"\",\"\",Notes!$B$4)","v":""},null,null,null,null,null,null,null,null,null,null,"",""]
[null,{"$f":"IF(A19636=\"\",\"\",Notes!$B$4)","v":""},null,null,null,null,null,null,null,null,null,null,"",""]
[null,{"$f":"IF(A19637=\"\",\"\",Notes!$B$4)","v":""},null,null,null,null,null,null,null,null,null,null,"",""]
[null,{"$f":"IF(A19638=\"\",\"\",Notes!$B$4)","v":""},null,null,null,null,null,null,null,null,null,null,"",""]
[null,{"$f":"IF(A19639=\"\",\"\",Notes!$B$4)","v":""},null,null,null,null,null,null,null,null,null,null,"",""]
[null,{"$f":"IF(A19640=\"\",\"\",Notes!$B$4)","v":""},null,null,null,null,null,null,null,null,null,null,"",""]
[null,{"$f":"IF(A19641=\"\",\"\",Notes!$B$4)","v":""},null,null,null,null,null,null,null,null,null,null,"",""]
[null,{"$f":"IF(A19642=\"\",\"\",Notes!$B$4)","v":""},null,null,null,null,null,null,null,null,null,null,"",""]
[null,{"$f":"IF(A19643=\"\",\"\",Notes!$B$4)","v":""},null,null,null,null,null,null,null,null,null,null,"",""]
[null,{"$f":"IF(A19644=\"\",\"\",Notes!$B$4)","v":""},null,null,null,null,null,null,null,null,null,null,"",""]
[null,{"$f":"IF(A19645=\"\",\"\",Notes!$B$4)","v":""},null,null,null,null,null,null,null,null,null,null,"",""]
[null,{"$f":"IF(A19646=\"\",\"\",Notes!$B$4)","v":""},null,null,null,null,null,null,null,null,null,null,"",""]
[null,{"$f":"IF(A19647=\"\",\"\",Notes!$B$4)","v":""},null,null,null,null,null,null,null,null,null,null,"",""]
[null,{"$f":"IF(A19648=\"\",\"\",Notes!$B$4)","v":""},null,null,null,null,null,null,null,null,null,null,"",""]
[null,{"$f":"IF(A19649=\"\",\"\",Notes!$B$4)","v":""},null,null,null,null,null,null,null,null,null,null,"",""]
[null,{"$f":"IF(A19650=\"\",\"\",Notes!$B$4)","v":""},null,null,null,null,null,null,null,null,null,null,{"$f":"IF(A19650=\"\",\"\",VLOOKUP(B19650,SchoolID,2,FALSE))","v":""},""]
[null,{"$f":"IF(A19651=\"\",\"\",Notes!$B$4)","v":""},null,null,null,null,null,null,null,null,null,null,"",""]
[null,{"$f":"IF(A19652=\"\",\"\",Notes!$B$4)","v":""},null,null,null,null,null,null,null,null,null,null,"",""]
[null,{"$f":"IF(A19653=\"\",\"\",Notes!$B$4)","v":""},null,null,null,null,null,null,null,null,null,null,"",""]
[null,{"$f":"IF(A19654=\"\",\"\",Notes!$B$4)","v":""},null,null,null,null,null,null,null,null,null,null,"",""]
[null,{"$f":"IF(A19655=\"\",\"\",Notes!$B$4)","v":""},null,null,null,null,null,null,null,null,null,null,"",""]
[null,{"$f":"IF(A19656=\"\",\"\",Notes!$B$4)","v":""},null,null,null,null,null,null,null,null,null,null,"",""]
[null,{"$f":"IF(A19657=\"\",\"\",Notes!$B$4)","v":""},null,null,null,null,null,null,null,null,null,null,"",""]
[null,{"$f":"IF(A19658=\"\",\"\",Notes!$B$4)","v":""},null,null,null,null,null,null,null,null,null,null,"",""]
[null,{"$f":"IF(A19659=\"\",\"\",Notes!$B$4)","v":""},null,null,null,null,null,null,null,null,null,null,"",""]
[null,{"$f":"IF(A19660=\"\",\"\",Notes!$B$4)","v":""},null,null,null,null,null,null,null,null,null,null,"",""]
[null,{"$f":"IF(A19661=\"\",\"\",Notes!$B$4)","v":""},null,null,null,null,null,null,null,null,null,null,"",""]
[null,{"$f":"IF(A19662=\"\",\"\",Notes!$B$4)","v":""},null,null,null,null,null,null,null,null,null,null,"",""]
[null,{"$f":"IF(A19663=\"\",\"\",Notes!$B$4)","v":""},null,null,null,null,null,null,null,null,null,null,"",{"$f":"M19663&A19663","v":""}]
[null,{"$f":"IF(A19664=\"\",\"\",Notes!$B$4)","v":""},null,null,null,null,null,null,null,null,null,null,"",""]
[null,{"$f":"IF(A19665=\"\",\"\",Notes!$B$4)","v":""},null,null,null,null,null,null,null,null,null,null,"",""]
[null,{"$f":"IF(A19666=\"\",\"\",Notes!$B$4)","v":""},null,null,null,null,null,null,null,null,null,null,"",""]
[null,{"$f":"IF(A19667=\"\",\"\",Notes!$B$4)","v":""},null,null,null,null,null,null,null,null,null,null,"",""]
[null,{"$f":"IF(A19668=\"\",\"\",Notes!$B$4)","v":""},null,null,null,null,null,null,null,null,null,null,"",""]
[null,{"$f":"IF(A19669=\"\",\"\",Notes!$B$4)","v":""},null,null,null,null,null,null,null,null,null,null,"",""]
[null,{"$f":"IF(A19670=\"\",\"\",Notes!$B$4)","v":""},null,null,null,null,null,null,null,null,null,null,"",""]
[null,{"$f":"IF(A19671=\"\",\"\",Notes!$B$4)","v":""},null,null,null,null,null,null,null,null,null,null,"",""]
[null,{"$f":"IF(A19672=\"\",\"\",Notes!$B$4)","v":""},null,null,null,null,null,null,null,null,null,null,"",""]
[null,{"$f":"IF(A19673=\"\",\"\",Notes!$B$4)","v":""},null,null,null,null,null,null,null,null,null,null,"",""]
[null,{"$f":"IF(A19674=\"\",\"\",Notes!$B$4)","v":""},null,null,null,null,null,null,null,null,null,null,"",""]
[null,{"$f":"IF(A19675=\"\",\"\",Notes!$B$4)","v":""},null,null,null,null,null,null,null,null,null,null,"",""]
[null,{"$f":"IF(A19676=\"\",\"\",Notes!$B$4)","v":""},null,null,null,null,null,null,null,null,null,null,"",""]
[null,{"$f":"IF(A19677=\"\",\"\",Notes!$B$4)","v":""},null,null,null,null,null,null,null,null,null,null,"",""]
[null,{"$f":"IF(A19678=\"\",\"\",Notes!$B$4)","v":""},null,null,null,null,null,null,null,null,null,null,"",""]
[null,{"$f":"IF(A19679=\"\",\"\",Notes!$B$4)","v":""},null,null,null,null,null,null,null,null,null,null,"",""]
[null,{"$f":"IF(A19680=\"\",\"\",Notes!$B$4)","v":""},null,null,null,null,null,null,null,null,null,null,"",""]
[null,{"$f":"IF(A19681=\"\",\"\",Notes!$B$4)","v":""},null,null,null,null,null,null,null,null,null,null,"",""]
[null,{"$f":"IF(A19682=\"\",\"\",Notes!$B$4)","v":""},null,null,null,null,null,null,null,null,null,null,"",""]
[null,{"$f":"IF(A19683=\"\",\"\",Notes!$B$4)","v":""},null,null,null,null,null,null,null,null,null,null,"",""]
[null,{"$f":"IF(A19684=\"\",\"\",Notes!$B$4)","v":""},null,null,null,null,null,null,null,null,null,null,"",""]
[null,{"$f":"IF(A19685=\"\",\"\",Notes!$B$4)","v":""},null,null,null,null,null,null,null,null,null,null,"",""]
[null,{"$f":"IF(A19686=\"\",\"\",Notes!$B$4)","v":""},null,null,null,null,null,null,null,null,null,null,"",""]
[null,{"$f":"IF(A19687=\"\",\"\",Notes!$B$4)","v":""},null,null,null,null,null,null,null,null,null,null,"",""]
[null,{"$f":"IF(A19688=\"\",\"\",Notes!$B$4)","v":""},null,null,null,null,null,null,null,null,null,null,"",""]
[null,{"$f":"IF(A19689=\"\",\"\",Notes!$B$4)","v":""},null,null,null,null,null,null,null,null,null,null,"",""]
[null,{"$f":"IF(A19690=\"\",\"\",Notes!$B$4)","v":""},null,null,null,null,null,null,null,null,null,null,"",""]
[null,{"$f":"IF(A19691=\"\",\"\",Notes!$B$4)","v":""},null,null,null,null,null,null,null,null,null,null,"",""]
[null,{"$f":"IF(A19692=\"\",\"\",Notes!$B$4)","v":""},null,null,null,null,null,null,null,null,null,null,"",""]
[null,{"$f":"IF(A19693=\"\",\"\",Notes!$B$4)","v":""},null,null,null,null,null,null,null,null,null,null,"",""]
[null,{"$f":"IF(A19694=\"\",\"\",Notes!$B$4)","v":""},null,null,null,null,null,null,null,null,null,null,"",""]
[null,{"$f":"IF(A19695=\"\",\"\",Notes!$B$4)","v":""},null,null,null,null,null,null,null,null,null,null,"",""]
[null,{"$f":"IF(A19696=\"\",\"\",Notes!$B$4)","v":""},null,null,null,null,null,null,null,null,null,null,"",""]
[null,{"$f":"IF(A19697=\"\",\"\",Notes!$B$4)","v":""},null,null,null,null,null,null,null,null,null,null,"",""]
[null,{"$f":"IF(A19698=\"\",\"\",Notes!$B$4)","v":""},null,null,null,null,null,null,null,null,null,null,"",""]
[null,{"$f":"IF(A19699=\"\",\"\",Notes!$B$4)","v":""},null,null,null,null,null,null,null,null,null,null,"",""]
[null,{"$f":"IF(A19700=\"\",\"\",Notes!$B$4)","v":""},null,null,null,null,null,null,null,null,null,null,"",""]
[null,{"$f":"IF(A19701=\"\",\"\",Notes!$B$4)","v":""},null,null,null,null,null,null,null,null,null,null,"",""]
[null,{"$f":"IF(A19702=\"\",\"\",Notes!$B$4)","v":""},null,null,null,null,null,null,null,null,null,null,"",""]
[null,{"$f":"IF(A19703=\"\",\"\",Notes!$B$4)","v":""},null,null,null,null,null,null,null,null,null,null,"",""]
[null,{"$f":"IF(A19704=\"\",\"\",Notes!$B$4)","v":""},null,null,null,null,null,null,null,null,null,null,"",""]
[null,{"$f":"IF(A19705=\"\",\"\",Notes!$B$4)","v":""},null,null,null,null,null,null,null,null,null,null,"",""]
[null,{"$f":"IF(A19706=\"\",\"\",Notes!$B$4)","v":""},null,null,null,null,null,null,null,null,null,null,"",""]
[null,{"$f":"IF(A19707=\"\",\"\",Notes!$B$4)","v":""},null,null,null,null,null,null,null,null,null,null,"",""]
[null,{"$f":"IF(A19708=\"\",\"\",Notes!$B$4)","v":""},null,null,null,null,null,null,null,null,null,null,"",""]
[null,{"$f":"IF(A19709=\"\",\"\",Notes!$B$4)","v":""},null,null,null,null,null,null,null,null,null,null,"",""]
[null,{"$f":"IF(A19710=\"\",\"\",Notes!$B$4)","v":""},null,null,null,null,null,null,null,null,null,null,"",""]
[null,{"$f":"IF(A19711=\"\",\"\",Notes!$B$4)","v":""},null,null,null,null,null,null,null,null,null,null,"",""]
[null,{"$f":"IF(A19712=\"\",\"\",Notes!$B$4)","v":""},null,null,null,null,null,null,null,null,null,null,"",""]
[null,{"$f":"IF(A19713=\"\",\"\",Notes!$B$4)","v":""},null,null,null,null,null,null,null,null,null,null,"",""]
[null,{"$f":"IF(A19714=\"\",\"\",Notes!$B$4)","v":""},null,null,null,null,null,null,null,null,null,null,{"$f":"IF(A19714=\"\",\"\",VLOOKUP(B19714,SchoolID,2,FALSE))","v":""},""]
[null,{"$f":"IF(A19715=\"\",\"\",Notes!$B$4)","v":""},null,null,null,null,null,null,null,null,null,null,"",""]
[null,{"$f":"IF(A19716=\"\",\"\",Notes!$B$4)","v":""},null,null,null,null,null,null,null,null,null,null,"",""]
[null,{"$f":"IF(A19717=\"\",\"\",Notes!$B$4)","v":""},null,null,null,null,null,null,null,null,null,null,"",""]
[null,{"$f":"IF(A19718=\"\",\"\",Notes!$B$4)","v":""},null,null,null,null,null,null,null,null,null,null,"",""]
[null,{"$f":"IF(A19719=\"\",\"\",Notes!$B$4)","v":""},null,null,null,null,null,null,null,null,null,null,"",""]
[null,{"$f":"IF(A19720=\"\",\"\",Notes!$B$4)","v":""},null,null,null,null,null,null,null,null,null,null,"",""]
[null,{"$f":"IF(A19721=\"\",\"\",Notes!$B$4)","v":""},null,null,null,null,null,null,null,null,null,null,"",""]
[null,{"$f":"IF(A19722=\"\",\"\",Notes!$B$4)","v":""},null,null,null,null,null,null,null,null,null,null,"",""]
[null,{"$f":"IF(A19723=\"\",\"\",Notes!$B$4)","v":""},null,null,null,null,null,null,null,null,null,null,"",""]
[null,{"$f":"IF(A19724=\"\",\"\",Notes!$B$4)","v":""},null,null,null,null,null,null,null,null,null,null,"",""]
[null,{"$f":"IF(A19725=\"\",\"\",Notes!$B$4)","v":""},null,null,null,null,null,null,null,null,null,null,"",""]
[null,{"$f":"IF(A19726=\"\",\"\",Notes!$B$4)","v":""},null,null,null,null,null,null,null,null,null,null,"",""]
[null,{"$f":"IF(A19727=\"\",\"\",Notes!$B$4)","v":""},null,null,null,null,null,null,null,null,null,null,"",{"$f":"M19727&A19727","v":""}]
[null,{"$f":"IF(A19728=\"\",\"\",Notes!$B$4)","v":""},null,null,null,null,null,null,null,null,null,null,"",""]
[null,{"$f":"IF(A19729=\"\",\"\",Notes!$B$4)","v":""},null,null,null,null,null,null,null,null,null,null,"",""]
[null,{"$f":"IF(A19730=\"\",\"\",Notes!$B$4)","v":""},null,null,null,null,null,null,null,null,null,null,"",""]
[null,{"$f":"IF(A19731=\"\",\"\",Notes!$B$4)","v":""},null,null,null,null,null,null,null,null,null,null,"",""]
[null,{"$f":"IF(A19732=\"\",\"\",Notes!$B$4)","v":""},null,null,null,null,null,null,null,null,null,null,"",""]
[null,{"$f":"IF(A19733=\"\",\"\",Notes!$B$4)","v":""},null,null,null,null,null,null,null,null,null,null,"",""]
[null,{"$f":"IF(A19734=\"\",\"\",Notes!$B$4)","v":""},null,null,null,null,null,null,null,null,null,null,"",""]
[null,{"$f":"IF(A19735=\"\",\"\",Notes!$B$4)","v":""},null,null,null,null,null,null,null,null,null,null,"",""]
[null,{"$f":"IF(A19736=\"\",\"\",Notes!$B$4)","v":""},null,null,null,null,null,null,null,null,null,null,"",""]
[null,{"$f":"IF(A19737=\"\",\"\",Notes!$B$4)","v":""},null,null,null,null,null,null,null,null,null,null,"",""]
[null,{"$f":"IF(A19738=\"\",\"\",Notes!$B$4)","v":""},null,null,null,null,null,null,null,null,null,null,"",""]
[null,{"$f":"IF(A19739=\"\",\"\",Notes!$B$4)","v":""},null,null,null,null,null,null,null,null,null,null,"",""]
[null,{"$f":"IF(A19740=\"\",\"\",Notes!$B$4)","v":""},null,null,null,null,null,null,null,null,null,null,"",""]
[null,{"$f":"IF(A19741=\"\",\"\",Notes!$B$4)","v":""},null,null,null,null,null,null,null,null,null,null,"",""]
[null,{"$f":"IF(A19742=\"\",\"\",Notes!$B$4)","v":""},null,null,null,null,null,null,null,null,null,null,"",""]
[null,{"$f":"IF(A19743=\"\",\"\",Notes!$B$4)","v":""},null,null,null,null,null,null,null,null,null,null,"",""]
[null,{"$f":"IF(A19744=\"\",\"\",Notes!$B$4)","v":""},null,null,null,null,null,null,null,null,null,null,"",""]
[null,{"$f":"IF(A19745=\"\",\"\",Notes!$B$4)","v":""},null,null,null,null,null,null,null,null,null,null,"",""]
[null,{"$f":"IF(A19746=\"\",\"\",Notes!$B$4)","v":""},null,null,null,null,null,null,null,null,null,null,"",""]
[null,{"$f":"IF(A19747=\"\",\"\",Notes!$B$4)","v":""},null,null,null,null,null,null,null,null,null,null,"",""]
[null,{"$f":"IF(A19748=\"\",\"\",Notes!$B$4)","v":""},null,null,null,null,null,null,null,null,null,null,"",""]
[null,{"$f":"IF(A19749=\"\",\"\",Notes!$B$4)","v":""},null,null,null,null,null,null,null,null,null,null,"",""]
[null,{"$f":"IF(A19750=\"\",\"\",Notes!$B$4)","v":""},null,null,null,null,null,null,null,null,null,null,"",""]
[null,{"$f":"IF(A19751=\"\",\"\",Notes!$B$4)","v":""},null,null,null,null,null,null,null,null,null,null,"",""]
[null,{"$f":"IF(A19752=\"\",\"\",Notes!$B$4)","v":""},null,null,null,null,null,null,null,null,null,null,"",""]
[null,{"$f":"IF(A19753=\"\",\"\",Notes!$B$4)","v":""},null,null,null,null,null,null,null,null,null,null,"",""]
[null,{"$f":"IF(A19754=\"\",\"\",Notes!$B$4)","v":""},null,null,null,null,null,null,null,null,null,null,"",""]
[null,{"$f":"IF(A19755=\"\",\"\",Notes!$B$4)","v":""},null,null,null,null,null,null,null,null,null,null,"",""]
[null,{"$f":"IF(A19756=\"\",\"\",Notes!$B$4)","v":""},null,null,null,null,null,null,null,null,null,null,"",""]
[null,{"$f":"IF(A19757=\"\",\"\",Notes!$B$4)","v":""},null,null,null,null,null,null,null,null,null,null,"",""]
[null,{"$f":"IF(A19758=\"\",\"\",Notes!$B$4)","v":""},null,null,null,null,null,null,null,null,null,null,"",""]
[null,{"$f":"IF(A19759=\"\",\"\",Notes!$B$4)","v":""},null,null,null,null,null,null,null,null,null,null,"",""]
[null,{"$f":"IF(A19760=\"\",\"\",Notes!$B$4)","v":""},null,null,null,null,null,null,null,null,null,null,"",""]
[null,{"$f":"IF(A19761=\"\",\"\",Notes!$B$4)","v":""},null,null,null,null,null,null,null,null,null,null,"",""]
[null,{"$f":"IF(A19762=\"\",\"\",Notes!$B$4)","v":""},null,null,null,null,null,null,null,null,null,null,"",""]
[null,{"$f":"IF(A19763=\"\",\"\",Notes!$B$4)","v":""},null,null,null,null,null,null,null,null,null,null,"",""]
[null,{"$f":"IF(A19764=\"\",\"\",Notes!$B$4)","v":""},null,null,null,null,null,null,null,null,null,null,"",""]
[null,{"$f":"IF(A19765=\"\",\"\",Notes!$B$4)","v":""},null,null,null,null,null,null,null,null,null,null,"",""]
[null,{"$f":"IF(A19766=\"\",\"\",Notes!$B$4)","v":""},null,null,null,null,null,null,null,null,null,null,"",""]
[null,{"$f":"IF(A19767=\"\",\"\",Notes!$B$4)","v":""},null,null,null,null,null,null,null,null,null,null,"",""]
[null,{"$f":"IF(A19768=\"\",\"\",Notes!$B$4)","v":""},null,null,null,null,null,null,null,null,null,null,"",""]
[null,{"$f":"IF(A19769=\"\",\"\",Notes!$B$4)","v":""},null,null,null,null,null,null,null,null,null,null,"",""]
[null,{"$f":"IF(A19770=\"\",\"\",Notes!$B$4)","v":""},null,null,null,null,null,null,null,null,null,null,"",""]
[null,{"$f":"IF(A19771=\"\",\"\",Notes!$B$4)","v":""},null,null,null,null,null,null,null,null,null,null,"",""]
[null,{"$f":"IF(A19772=\"\",\"\",Notes!$B$4)","v":""},null,null,null,null,null,null,null,null,null,null,"",""]
[null,{"$f":"IF(A19773=\"\",\"\",Notes!$B$4)","v":""},null,null,null,null,null,null,null,null,null,null,"",""]
[null,{"$f":"IF(A19774=\"\",\"\",Notes!$B$4)","v":""},null,null,null,null,null,null,null,null,null,null,"",""]
[null,{"$f":"IF(A19775=\"\",\"\",Notes!$B$4)","v":""},null,null,null,null,null,null,null,null,null,null,"",""]
[null,{"$f":"IF(A19776=\"\",\"\",Notes!$B$4)","v":""},null,null,null,null,null,null,null,null,null,null,"",""]
[null,{"$f":"IF(A19777=\"\",\"\",Notes!$B$4)","v":""},null,null,null,null,null,null,null,null,null,null,"",""]
[null,{"$f":"IF(A19778=\"\",\"\",Notes!$B$4)","v":""},null,null,null,null,null,null,null,null,null,null,{"$f":"IF(A19778=\"\",\"\",VLOOKUP(B19778,SchoolID,2,FALSE))","v":""},""]
[null,{"$f":"IF(A19779=\"\",\"\",Notes!$B$4)","v":""},null,null,null,null,null,null,null,null,null,null,"",""]
[null,{"$f":"IF(A19780=\"\",\"\",Notes!$B$4)","v":""},null,null,null,null,null,null,null,null,null,null,"",""]
[null,{"$f":"IF(A19781=\"\",\"\",Notes!$B$4)","v":""},null,null,null,null,null,null,null,null,null,null,"",""]
[null,{"$f":"IF(A19782=\"\",\"\",Notes!$B$4)","v":""},null,null,null,null,null,null,null,null,null,null,"",""]
[null,{"$f":"IF(A19783=\"\",\"\",Notes!$B$4)","v":""},null,null,null,null,null,null,null,null,null,null,"",""]
[null,{"$f":"IF(A19784=\"\",\"\",Notes!$B$4)","v":""},null,null,null,null,null,null,null,null,null,null,"",""]
[null,{"$f":"IF(A19785=\"\",\"\",Notes!$B$4)","v":""},null,null,null,null,null,null,null,null,null,null,"",""]
[null,{"$f":"IF(A19786=\"\",\"\",Notes!$B$4)","v":""},null,null,null,null,null,null,null,null,null,null,"",""]
[null,{"$f":"IF(A19787=\"\",\"\",Notes!$B$4)","v":""},null,null,null,null,null,null,null,null,null,null,"",""]
[null,{"$f":"IF(A19788=\"\",\"\",Notes!$B$4)","v":""},null,null,null,null,null,null,null,null,null,null,"",""]
[null,{"$f":"IF(A19789=\"\",\"\",Notes!$B$4)","v":""},null,null,null,null,null,null,null,null,null,null,"",""]
[null,{"$f":"IF(A19790=\"\",\"\",Notes!$B$4)","v":""},null,null,null,null,null,null,null,null,null,null,"",""]
[null,{"$f":"IF(A19791=\"\",\"\",Notes!$B$4)","v":""},null,null,null,null,null,null,null,null,null,null,"",{"$f":"M19791&A19791","v":""}]
[null,{"$f":"IF(A19792=\"\",\"\",Notes!$B$4)","v":""},null,null,null,null,null,null,null,null,null,null,"",""]
[null,{"$f":"IF(A19793=\"\",\"\",Notes!$B$4)","v":""},null,null,null,null,null,null,null,null,null,null,"",""]
[null,{"$f":"IF(A19794=\"\",\"\",Notes!$B$4)","v":""},null,null,null,null,null,null,null,null,null,null,"",""]
[null,{"$f":"IF(A19795=\"\",\"\",Notes!$B$4)","v":""},null,null,null,null,null,null,null,null,null,null,"",""]
[null,{"$f":"IF(A19796=\"\",\"\",Notes!$B$4)","v":""},null,null,null,null,null,null,null,null,null,null,"",""]
[null,{"$f":"IF(A19797=\"\",\"\",Notes!$B$4)","v":""},null,null,null,null,null,null,null,null,null,null,"",""]
[null,{"$f":"IF(A19798=\"\",\"\",Notes!$B$4)","v":""},null,null,null,null,null,null,null,null,null,null,"",""]
[null,{"$f":"IF(A19799=\"\",\"\",Notes!$B$4)","v":""},null,null,null,null,null,null,null,null,null,null,"",""]
[null,{"$f":"IF(A19800=\"\",\"\",Notes!$B$4)","v":""},null,null,null,null,null,null,null,null,null,null,"",""]
[null,{"$f":"IF(A19801=\"\",\"\",Notes!$B$4)","v":""},null,null,null,null,null,null,null,null,null,null,"",""]
[null,{"$f":"IF(A19802=\"\",\"\",Notes!$B$4)","v":""},null,null,null,null,null,null,null,null,null,null,"",""]
[null,{"$f":"IF(A19803=\"\",\"\",Notes!$B$4)","v":""},null,null,null,null,null,null,null,null,null,null,"",""]
[null,{"$f":"IF(A19804=\"\",\"\",Notes!$B$4)","v":""},null,null,null,null,null,null,null,null,null,null,"",""]
[null,{"$f":"IF(A19805=\"\",\"\",Notes!$B$4)","v":""},null,null,null,null,null,null,null,null,null,null,"",""]
[null,{"$f":"IF(A19806=\"\",\"\",Notes!$B$4)","v":""},null,null,null,null,null,null,null,null,null,null,"",""]
[null,{"$f":"IF(A19807=\"\",\"\",Notes!$B$4)","v":""},null,null,null,null,null,null,null,null,null,null,"",""]
[null,{"$f":"IF(A19808=\"\",\"\",Notes!$B$4)","v":""},null,null,null,null,null,null,null,null,null,null,"",""]
[null,{"$f":"IF(A19809=\"\",\"\",Notes!$B$4)","v":""},null,null,null,null,null,null,null,null,null,null,"",""]
[null,{"$f":"IF(A19810=\"\",\"\",Notes!$B$4)","v":""},null,null,null,null,null,null,null,null,null,null,"",""]
[null,{"$f":"IF(A19811=\"\",\"\",Notes!$B$4)","v":""},null,null,null,null,null,null,null,null,null,null,"",""]
[null,{"$f":"IF(A19812=\"\",\"\",Notes!$B$4)","v":""},null,null,null,null,null,null,null,null,null,null,"",""]
[null,{"$f":"IF(A19813=\"\",\"\",Notes!$B$4)","v":""},null,null,null,null,null,null,null,null,null,null,"",""]
[null,{"$f":"IF(A19814=\"\",\"\",Notes!$B$4)","v":""},null,null,null,null,null,null,null,null,null,null,"",""]
[null,{"$f":"IF(A19815=\"\",\"\",Notes!$B$4)","v":""},null,null,null,null,null,null,null,null,null,null,"",""]
[null,{"$f":"IF(A19816=\"\",\"\",Notes!$B$4)","v":""},null,null,null,null,null,null,null,null,null,null,"",""]
[null,{"$f":"IF(A19817=\"\",\"\",Notes!$B$4)","v":""},null,null,null,null,null,null,null,null,null,null,"",""]
[null,{"$f":"IF(A19818=\"\",\"\",Notes!$B$4)","v":""},null,null,null,null,null,null,null,null,null,null,"",""]
[null,{"$f":"IF(A19819=\"\",\"\",Notes!$B$4)","v":""},null,null,null,null,null,null,null,null,null,null,"",""]
[null,{"$f":"IF(A19820=\"\",\"\",Notes!$B$4)","v":""},null,null,null,null,null,null,null,null,null,null,"",""]
[null,{"$f":"IF(A19821=\"\",\"\",Notes!$B$4)","v":""},null,null,null,null,null,null,null,null,null,null,"",""]
[null,{"$f":"IF(A19822=\"\",\"\",Notes!$B$4)","v":""},null,null,null,null,null,null,null,null,null,null,"",""]
[null,{"$f":"IF(A19823=\"\",\"\",Notes!$B$4)","v":""},null,null,null,null,null,null,null,null,null,null,"",""]
[null,{"$f":"IF(A19824=\"\",\"\",Notes!$B$4)","v":""},null,null,null,null,null,null,null,null,null,null,"",""]
[null,{"$f":"IF(A19825=\"\",\"\",Notes!$B$4)","v":""},null,null,null,null,null,null,null,null,null,null,"",""]
[null,{"$f":"IF(A19826=\"\",\"\",Notes!$B$4)","v":""},null,null,null,null,null,null,null,null,null,null,"",""]
[null,{"$f":"IF(A19827=\"\",\"\",Notes!$B$4)","v":""},null,null,null,null,null,null,null,null,null,null,"",""]
[null,{"$f":"IF(A19828=\"\",\"\",Notes!$B$4)","v":""},null,null,null,null,null,null,null,null,null,null,"",""]
[null,{"$f":"IF(A19829=\"\",\"\",Notes!$B$4)","v":""},null,null,null,null,null,null,null,null,null,null,"",""]
[null,{"$f":"IF(A19830=\"\",\"\",Notes!$B$4)","v":""},null,null,null,null,null,null,null,null,null,null,"",""]
[null,{"$f":"IF(A19831=\"\",\"\",Notes!$B$4)","v":""},null,null,null,null,null,null,null,null,null,null,"",""]
[null,{"$f":"IF(A19832=\"\",\"\",Notes!$B$4)","v":""},null,null,null,null,null,null,null,null,null,null,"",""]
[null,{"$f":"IF(A19833=\"\",\"\",Notes!$B$4)","v":""},null,null,null,null,null,null,null,null,null,null,"",""]
[null,{"$f":"IF(A19834=\"\",\"\",Notes!$B$4)","v":""},null,null,null,null,null,null,null,null,null,null,"",""]
[null,{"$f":"IF(A19835=\"\",\"\",Notes!$B$4)","v":""},null,null,null,null,null,null,null,null,null,null,"",""]
[null,{"$f":"IF(A19836=\"\",\"\",Notes!$B$4)","v":""},null,null,null,null,null,null,null,null,null,null,"",""]
[null,{"$f":"IF(A19837=\"\",\"\",Notes!$B$4)","v":""},null,null,null,null,null,null,null,null,null,null,"",""]
[null,{"$f":"IF(A19838=\"\",\"\",Notes!$B$4)","v":""},null,null,null,null,null,null,null,null,null,null,"",""]
[null,{"$f":"IF(A19839=\"\",\"\",Notes!$B$4)","v":""},null,null,null,null,null,null,null,null,null,null,"",""]
[null,{"$f":"IF(A19840=\"\",\"\",Notes!$B$4)","v":""},null,null,null,null,null,null,null,null,null,null,"",""]
[null,{"$f":"IF(A19841=\"\",\"\",Notes!$B$4)","v":""},null,null,null,null,null,null,null,null,null,null,"",""]
[null,{"$f":"IF(A19842=\"\",\"\",Notes!$B$4)","v":""},null,null,null,null,null,null,null,null,null,null,{"$f":"IF(A19842=\"\",\"\",VLOOKUP(B19842,SchoolID,2,FALSE))","v":""},""]
[null,{"$f":"IF(A19843=\"\",\"\",Notes!$B$4)","v":""},null,null,null,null,null,null,null,null,null,null,"",""]
[null,{"$f":"IF(A19844=\"\",\"\",Notes!$B$4)","v":""},null,null,null,null,null,null,null,null,null,null,"",""]
[null,{"$f":"IF(A19845=\"\",\"\",Notes!$B$4)","v":""},null,null,null,null,null,null,null,null,null,null,"",""]
[null,{"$f":"IF(A19846=\"\",\"\",Notes!$B$4)","v":""},null,null,null,null,null,null,null,null,null,null,"",""]
[null,{"$f":"IF(A19847=\"\",\"\",Notes!$B$4)","v":""},null,null,null,null,null,null,null,null,null,null,"",""]
[null,{"$f":"IF(A19848=\"\",\"\",Notes!$B$4)","v":""},null,null,null,null,null,null,null,null,null,null,"",""]
[null,{"$f":"IF(A19849=\"\",\"\",Notes!$B$4)","v":""},null,null,null,null,null,null,null,null,null,null,"",""]
[null,{"$f":"IF(A19850=\"\",\"\",Notes!$B$4)","v":""},null,null,null,null,null,null,null,null,null,null,"",""]
[null,{"$f":"IF(A19851=\"\",\"\",Notes!$B$4)","v":""},null,null,null,null,null,null,null,null,null,null,"",""]
[null,{"$f":"IF(A19852=\"\",\"\",Notes!$B$4)","v":""},null,null,null,null,null,null,null,null,null,null,"",""]
[null,{"$f":"IF(A19853=\"\",\"\",Notes!$B$4)","v":""},null,null,null,null,null,null,null,null,null,null,"",""]
[null,{"$f":"IF(A19854=\"\",\"\",Notes!$B$4)","v":""},null,null,null,null,null,null,null,null,null,null,"",""]
[null,{"$f":"IF(A19855=\"\",\"\",Notes!$B$4)","v":""},null,null,null,null,null,null,null,null,null,null,"",{"$f":"M19855&A19855","v":""}]
[null,{"$f":"IF(A19856=\"\",\"\",Notes!$B$4)","v":""},null,null,null,null,null,null,null,null,null,null,"",""]
[null,{"$f":"IF(A19857=\"\",\"\",Notes!$B$4)","v":""},null,null,null,null,null,null,null,null,null,null,"",""]
[null,{"$f":"IF(A19858=\"\",\"\",Notes!$B$4)","v":""},null,null,null,null,null,null,null,null,null,null,"",""]
[null,{"$f":"IF(A19859=\"\",\"\",Notes!$B$4)","v":""},null,null,null,null,null,null,null,null,null,null,"",""]
[null,{"$f":"IF(A19860=\"\",\"\",Notes!$B$4)","v":""},null,null,null,null,null,null,null,null,null,null,"",""]
[null,{"$f":"IF(A19861=\"\",\"\",Notes!$B$4)","v":""},null,null,null,null,null,null,null,null,null,null,"",""]
[null,{"$f":"IF(A19862=\"\",\"\",Notes!$B$4)","v":""},null,null,null,null,null,null,null,null,null,null,"",""]
[null,{"$f":"IF(A19863=\"\",\"\",Notes!$B$4)","v":""},null,null,null,null,null,null,null,null,null,null,"",""]
[null,{"$f":"IF(A19864=\"\",\"\",Notes!$B$4)","v":""},null,null,null,null,null,null,null,null,null,null,"",""]
[null,{"$f":"IF(A19865=\"\",\"\",Notes!$B$4)","v":""},null,null,null,null,null,null,null,null,null,null,"",""]
[null,{"$f":"IF(A19866=\"\",\"\",Notes!$B$4)","v":""},null,null,null,null,null,null,null,null,null,null,"",""]
[null,{"$f":"IF(A19867=\"\",\"\",Notes!$B$4)","v":""},null,null,null,null,null,null,null,null,null,null,"",""]
[null,{"$f":"IF(A19868=\"\",\"\",Notes!$B$4)","v":""},null,null,null,null,null,null,null,null,null,null,"",""]
[null,{"$f":"IF(A19869=\"\",\"\",Notes!$B$4)","v":""},null,null,null,null,null,null,null,null,null,null,"",""]
[null,{"$f":"IF(A19870=\"\",\"\",Notes!$B$4)","v":""},null,null,null,null,null,null,null,null,null,null,"",""]
[null,{"$f":"IF(A19871=\"\",\"\",Notes!$B$4)","v":""},null,null,null,null,null,null,null,null,null,null,"",""]
[null,{"$f":"IF(A19872=\"\",\"\",Notes!$B$4)","v":""},null,null,null,null,null,null,null,null,null,null,"",""]
[null,{"$f":"IF(A19873=\"\",\"\",Notes!$B$4)","v":""},null,null,null,null,null,null,null,null,null,null,"",""]
[null,{"$f":"IF(A19874=\"\",\"\",Notes!$B$4)","v":""},null,null,null,null,null,null,null,null,null,null,"",""]
[null,{"$f":"IF(A19875=\"\",\"\",Notes!$B$4)","v":""},null,null,null,null,null,null,null,null,null,null,"",""]
[null,{"$f":"IF(A19876=\"\",\"\",Notes!$B$4)","v":""},null,null,null,null,null,null,null,null,null,null,"",""]
[null,{"$f":"IF(A19877=\"\",\"\",Notes!$B$4)","v":""},null,null,null,null,null,null,null,null,null,null,"",""]
[null,{"$f":"IF(A19878=\"\",\"\",Notes!$B$4)","v":""},null,null,null,null,null,null,null,null,null,null,"",""]
[null,{"$f":"IF(A19879=\"\",\"\",Notes!$B$4)","v":""},null,null,null,null,null,null,null,null,null,null,"",""]
[null,{"$f":"IF(A19880=\"\",\"\",Notes!$B$4)","v":""},null,null,null,null,null,null,null,null,null,null,"",""]
[null,{"$f":"IF(A19881=\"\",\"\",Notes!$B$4)","v":""},null,null,null,null,null,null,null,null,null,null,"",""]
[null,{"$f":"IF(A19882=\"\",\"\",Notes!$B$4)","v":""},null,null,null,null,null,null,null,null,null,null,"",""]
[null,{"$f":"IF(A19883=\"\",\"\",Notes!$B$4)","v":""},null,null,null,null,null,null,null,null,null,null,"",""]
[null,{"$f":"IF(A19884=\"\",\"\",Notes!$B$4)","v":""},null,null,null,null,null,null,null,null,null,null,"",""]
[null,{"$f":"IF(A19885=\"\",\"\",Notes!$B$4)","v":""},null,null,null,null,null,null,null,null,null,null,"",""]
[null,{"$f":"IF(A19886=\"\",\"\",Notes!$B$4)","v":""},null,null,null,null,null,null,null,null,null,null,"",""]
[null,{"$f":"IF(A19887=\"\",\"\",Notes!$B$4)","v":""},null,null,null,null,null,null,null,null,null,null,"",""]
[null,{"$f":"IF(A19888=\"\",\"\",Notes!$B$4)","v":""},null,null,null,null,null,null,null,null,null,null,"",""]
[null,{"$f":"IF(A19889=\"\",\"\",Notes!$B$4)","v":""},null,null,null,null,null,null,null,null,null,null,"",""]
[null,{"$f":"IF(A19890=\"\",\"\",Notes!$B$4)","v":""},null,null,null,null,null,null,null,null,null,null,"",""]
[null,{"$f":"IF(A19891=\"\",\"\",Notes!$B$4)","v":""},null,null,null,null,null,null,null,null,null,null,"",""]
[null,{"$f":"IF(A19892=\"\",\"\",Notes!$B$4)","v":""},null,null,null,null,null,null,null,null,null,null,"",""]
[null,{"$f":"IF(A19893=\"\",\"\",Notes!$B$4)","v":""},null,null,null,null,null,null,null,null,null,null,"",""]
[null,{"$f":"IF(A19894=\"\",\"\",Notes!$B$4)","v":""},null,null,null,null,null,null,null,null,null,null,"",""]
[null,{"$f":"IF(A19895=\"\",\"\",Notes!$B$4)","v":""},null,null,null,null,null,null,null,null,null,null,"",""]
[null,{"$f":"IF(A19896=\"\",\"\",Notes!$B$4)","v":""},null,null,null,null,null,null,null,null,null,null,"",""]
[null,{"$f":"IF(A19897=\"\",\"\",Notes!$B$4)","v":""},null,null,null,null,null,null,null,null,null,null,"",""]
[null,{"$f":"IF(A19898=\"\",\"\",Notes!$B$4)","v":""},null,null,null,null,null,null,null,null,null,null,"",""]
[null,{"$f":"IF(A19899=\"\",\"\",Notes!$B$4)","v":""},null,null,null,null,null,null,null,null,null,null,"",""]
[null,{"$f":"IF(A19900=\"\",\"\",Notes!$B$4)","v":""},null,null,null,null,null,null,null,null,null,null,"",""]
[null,{"$f":"IF(A19901=\"\",\"\",Notes!$B$4)","v":""},null,null,null,null,null,null,null,null,null,null,"",""]
[null,{"$f":"IF(A19902=\"\",\"\",Notes!$B$4)","v":""},null,null,null,null,null,null,null,null,null,null,"",""]
[null,{"$f":"IF(A19903=\"\",\"\",Notes!$B$4)","v":""},null,null,null,null,null,null,null,null,null,null,"",""]
[null,{"$f":"IF(A19904=\"\",\"\",Notes!$B$4)","v":""},null,null,null,null,null,null,null,null,null,null,"",""]
[null,{"$f":"IF(A19905=\"\",\"\",Notes!$B$4)","v":""},null,null,null,null,null,null,null,null,null,null,"",""]
[null,{"$f":"IF(A19906=\"\",\"\",Notes!$B$4)","v":""},null,null,null,null,null,null,null,null,null,null,{"$f":"IF(A19906=\"\",\"\",VLOOKUP(B19906,SchoolID,2,FALSE))","v":""},""]
[null,{"$f":"IF(A19907=\"\",\"\",Notes!$B$4)","v":""},null,null,null,null,null,null,null,null,null,null,"",""]
[null,{"$f":"IF(A19908=\"\",\"\",Notes!$B$4)","v":""},null,null,null,null,null,null,null,null,null,null,"",""]
[null,{"$f":"IF(A19909=\"\",\"\",Notes!$B$4)","v":""},null,null,null,null,null,null,null,null,null,null,"",""]
[null,{"$f":"IF(A19910=\"\",\"\",Notes!$B$4)","v":""},null,null,null,null,null,null,null,null,null,null,"",""]
[null,{"$f":"IF(A19911=\"\",\"\",Notes!$B$4)","v":""},null,null,null,null,null,null,null,null,null,null,"",""]
[null,{"$f":"IF(A19912=\"\",\"\",Notes!$B$4)","v":""},null,null,null,null,null,null,null,null,null,null,"",""]
[null,{"$f":"IF(A19913=\"\",\"\",Notes!$B$4)","v":""},null,null,null,null,null,null,null,null,null,null,"",""]
[null,{"$f":"IF(A19914=\"\",\"\",Notes!$B$4)","v":""},null,null,null,null,null,null,null,null,null,null,"",""]
[null,{"$f":"IF(A19915=\"\",\"\",Notes!$B$4)","v":""},null,null,null,null,null,null,null,null,null,null,"",""]
[null,{"$f":"IF(A19916=\"\",\"\",Notes!$B$4)","v":""},null,null,null,null,null,null,null,null,null,null,"",""]
[null,{"$f":"IF(A19917=\"\",\"\",Notes!$B$4)","v":""},null,null,null,null,null,null,null,null,null,null,"",""]
[null,{"$f":"IF(A19918=\"\",\"\",Notes!$B$4)","v":""},null,null,null,null,null,null,null,null,null,null,"",""]
[null,{"$f":"IF(A19919=\"\",\"\",Notes!$B$4)","v":""},null,null,null,null,null,null,null,null,null,null,"",{"$f":"M19919&A19919","v":""}]
[null,{"$f":"IF(A19920=\"\",\"\",Notes!$B$4)","v":""},null,null,null,null,null,null,null,null,null,null,"",""]
[null,{"$f":"IF(A19921=\"\",\"\",Notes!$B$4)","v":""},null,null,null,null,null,null,null,null,null,null,"",""]
[null,{"$f":"IF(A19922=\"\",\"\",Notes!$B$4)","v":""},null,null,null,null,null,null,null,null,null,null,"",""]
[null,{"$f":"IF(A19923=\"\",\"\",Notes!$B$4)","v":""},null,null,null,null,null,null,null,null,null,null,"",""]
[null,{"$f":"IF(A19924=\"\",\"\",Notes!$B$4)","v":""},null,null,null,null,null,null,null,null,null,null,"",""]
[null,{"$f":"IF(A19925=\"\",\"\",Notes!$B$4)","v":""},null,null,null,null,null,null,null,null,null,null,"",""]
[null,{"$f":"IF(A19926=\"\",\"\",Notes!$B$4)","v":""},null,null,null,null,null,null,null,null,null,null,"",""]
[null,{"$f":"IF(A19927=\"\",\"\",Notes!$B$4)","v":""},null,null,null,null,null,null,null,null,null,null,"",""]
[null,{"$f":"IF(A19928=\"\",\"\",Notes!$B$4)","v":""},null,null,null,null,null,null,null,null,null,null,"",""]
[null,{"$f":"IF(A19929=\"\",\"\",Notes!$B$4)","v":""},null,null,null,null,null,null,null,null,null,null,"",""]
[null,{"$f":"IF(A19930=\"\",\"\",Notes!$B$4)","v":""},null,null,null,null,null,null,null,null,null,null,"",""]
[null,{"$f":"IF(A19931=\"\",\"\",Notes!$B$4)","v":""},null,null,null,null,null,null,null,null,null,null,"",""]
[null,{"$f":"IF(A19932=\"\",\"\",Notes!$B$4)","v":""},null,null,null,null,null,null,null,null,null,null,"",""]
[null,{"$f":"IF(A19933=\"\",\"\",Notes!$B$4)","v":""},null,null,null,null,null,null,null,null,null,null,"",""]
[null,{"$f":"IF(A19934=\"\",\"\",Notes!$B$4)","v":""},null,null,null,null,null,null,null,null,null,null,"",""]
[null,{"$f":"IF(A19935=\"\",\"\",Notes!$B$4)","v":""},null,null,null,null,null,null,null,null,null,null,"",""]
[null,{"$f":"IF(A19936=\"\",\"\",Notes!$B$4)","v":""},null,null,null,null,null,null,null,null,null,null,"",""]
[null,{"$f":"IF(A19937=\"\",\"\",Notes!$B$4)","v":""},null,null,null,null,null,null,null,null,null,null,"",""]
[null,{"$f":"IF(A19938=\"\",\"\",Notes!$B$4)","v":""},null,null,null,null,null,null,null,null,null,null,"",""]
[null,{"$f":"IF(A19939=\"\",\"\",Notes!$B$4)","v":""},null,null,null,null,null,null,null,null,null,null,"",""]
[null,{"$f":"IF(A19940=\"\",\"\",Notes!$B$4)","v":""},null,null,null,null,null,null,null,null,null,null,"",""]
[null,{"$f":"IF(A19941=\"\",\"\",Notes!$B$4)","v":""},null,null,null,null,null,null,null,null,null,null,"",""]
[null,{"$f":"IF(A19942=\"\",\"\",Notes!$B$4)","v":""},null,null,null,null,null,null,null,null,null,null,"",""]
[null,{"$f":"IF(A19943=\"\",\"\",Notes!$B$4)","v":""},null,null,null,null,null,null,null,null,null,null,"",""]
[null,{"$f":"IF(A19944=\"\",\"\",Notes!$B$4)","v":""},null,null,null,null,null,null,null,null,null,null,"",""]
[null,{"$f":"IF(A19945=\"\",\"\",Notes!$B$4)","v":""},null,null,null,null,null,null,null,null,null,null,"",""]
[null,{"$f":"IF(A19946=\"\",\"\",Notes!$B$4)","v":""},null,null,null,null,null,null,null,null,null,null,"",""]
[null,{"$f":"IF(A19947=\"\",\"\",Notes!$B$4)","v":""},null,null,null,null,null,null,null,null,null,null,"",""]
[null,{"$f":"IF(A19948=\"\",\"\",Notes!$B$4)","v":""},null,null,null,null,null,null,null,null,null,null,"",""]
[null,{"$f":"IF(A19949=\"\",\"\",Notes!$B$4)","v":""},null,null,null,null,null,null,null,null,null,null,"",""]
[null,{"$f":"IF(A19950=\"\",\"\",Notes!$B$4)","v":""},null,null,null,null,null,null,null,null,null,null,"",""]
[null,{"$f":"IF(A19951=\"\",\"\",Notes!$B$4)","v":""},null,null,null,null,null,null,null,null,null,null,"",""]
[null,{"$f":"IF(A19952=\"\",\"\",Notes!$B$4)","v":""},null,null,null,null,null,null,null,null,null,null,"",""]
[null,{"$f":"IF(A19953=\"\",\"\",Notes!$B$4)","v":""},null,null,null,null,null,null,null,null,null,null,"",""]
[null,{"$f":"IF(A19954=\"\",\"\",Notes!$B$4)","v":""},null,null,null,null,null,null,null,null,null,null,"",""]
[null,{"$f":"IF(A19955=\"\",\"\",Notes!$B$4)","v":""},null,null,null,null,null,null,null,null,null,null,"",""]
[null,{"$f":"IF(A19956=\"\",\"\",Notes!$B$4)","v":""},null,null,null,null,null,null,null,null,null,null,"",""]
[null,{"$f":"IF(A19957=\"\",\"\",Notes!$B$4)","v":""},null,null,null,null,null,null,null,null,null,null,"",""]
[null,{"$f":"IF(A19958=\"\",\"\",Notes!$B$4)","v":""},null,null,null,null,null,null,null,null,null,null,"",""]
[null,{"$f":"IF(A19959=\"\",\"\",Notes!$B$4)","v":""},null,null,null,null,null,null,null,null,null,null,"",""]
[null,{"$f":"IF(A19960=\"\",\"\",Notes!$B$4)","v":""},null,null,null,null,null,null,null,null,null,null,"",""]
[null,{"$f":"IF(A19961=\"\",\"\",Notes!$B$4)","v":""},null,null,null,null,null,null,null,null,null,null,"",""]
[null,{"$f":"IF(A19962=\"\",\"\",Notes!$B$4)","v":""},null,null,null,null,null,null,null,null,null,null,"",""]
[null,{"$f":"IF(A19963=\"\",\"\",Notes!$B$4)","v":""},null,null,null,null,null,null,null,null,null,null,"",""]
[null,{"$f":"IF(A19964=\"\",\"\",Notes!$B$4)","v":""},null,null,null,null,null,null,null,null,null,null,"",""]
[null,{"$f":"IF(A19965=\"\",\"\",Notes!$B$4)","v":""},null,null,null,null,null,null,null,null,null,null,"",""]
[null,{"$f":"IF(A19966=\"\",\"\",Notes!$B$4)","v":""},null,null,null,null,null,null,null,null,null,null,"",""]
[null,{"$f":"IF(A19967=\"\",\"\",Notes!$B$4)","v":""},null,null,null,null,null,null,null,null,null,null,"",""]
[null,{"$f":"IF(A19968=\"\",\"\",Notes!$B$4)","v":""},null,null,null,null,null,null,null,null,null,null,"",""]
[null,{"$f":"IF(A19969=\"\",\"\",Notes!$B$4)","v":""},null,null,null,null,null,null,null,null,null,null,"",""]
[null,{"$f":"IF(A19970=\"\",\"\",Notes!$B$4)","v":""},null,null,null,null,null,null,null,null,null,null,{"$f":"IF(A19970=\"\",\"\",VLOOKUP(B19970,SchoolID,2,FALSE))","v":""},""]
[null,{"$f":"IF(A19971=\"\",\"\",Notes!$B$4)","v":""},null,null,null,null,null,null,null,null,null,null,"",""]
[null,{"$f":"IF(A19972=\"\",\"\",Notes!$B$4)","v":""},null,null,null,null,null,null,null,null,null,null,"",""]
[null,{"$f":"IF(A19973=\"\",\"\",Notes!$B$4)","v":""},null,null,null,null,null,null,null,null,null,null,"",""]
[null,{"$f":"IF(A19974=\"\",\"\",Notes!$B$4)","v":""},null,null,null,null,null,null,null,null,null,null,"",""]
[null,{"$f":"IF(A19975=\"\",\"\",Notes!$B$4)","v":""},null,null,null,null,null,null,null,null,null,null,"",""]
[null,{"$f":"IF(A19976=\"\",\"\",Notes!$B$4)","v":""},null,null,null,null,null,null,null,null,null,null,"",""]
[null,{"$f":"IF(A19977=\"\",\"\",Notes!$B$4)","v":""},null,null,null,null,null,null,null,null,null,null,"",""]
[null,{"$f":"IF(A19978=\"\",\"\",Notes!$B$4)","v":""},null,null,null,null,null,null,null,null,null,null,"",""]
[null,{"$f":"IF(A19979=\"\",\"\",Notes!$B$4)","v":""},null,null,null,null,null,null,null,null,null,null,"",""]
[null,{"$f":"IF(A19980=\"\",\"\",Notes!$B$4)","v":""},null,null,null,null,null,null,null,null,null,null,"",""]
[null,{"$f":"IF(A19981=\"\",\"\",Notes!$B$4)","v":""},null,null,null,null,null,null,null,null,null,null,"",""]
[null,{"$f":"IF(A19982=\"\",\"\",Notes!$B$4)","v":""},null,null,null,null,null,null,null,null,null,null,"",""]
[null,{"$f":"IF(A19983=\"\",\"\",Notes!$B$4)","v":""},null,null,null,null,null,null,null,null,null,null,"",{"$f":"M19983&A19983","v":""}]
[null,{"$f":"IF(A19984=\"\",\"\",Notes!$B$4)","v":""},null,null,null,null,null,null,null,null,null,null,"",""]
[null,{"$f":"IF(A19985=\"\",\"\",Notes!$B$4)","v":""},null,null,null,null,null,null,null,null,null,null,"",""]
[null,{"$f":"IF(A19986=\"\",\"\",Notes!$B$4)","v":""},null,null,null,null,null,null,null,null,null,null,"",""]
[null,{"$f":"IF(A19987=\"\",\"\",Notes!$B$4)","v":""},null,null,null,null,null,null,null,null,null,null,"",""]
[null,{"$f":"IF(A19988=\"\",\"\",Notes!$B$4)","v":""},null,null,null,null,null,null,null,null,null,null,"",""]
[null,{"$f":"IF(A19989=\"\",\"\",Notes!$B$4)","v":""},null,null,null,null,null,null,null,null,null,null,"",""]
[null,{"$f":"IF(A19990=\"\",\"\",Notes!$B$4)","v":""},null,null,null,null,null,null,null,null,null,null,"",""]
[null,{"$f":"IF(A19991=\"\",\"\",Notes!$B$4)","v":""},null,null,null,null,null,null,null,null,null,null,"",""]
[null,{"$f":"IF(A19992=\"\",\"\",Notes!$B$4)","v":""},null,null,null,null,null,null,null,null,null,null,"",""]
[null,{"$f":"IF(A19993=\"\",\"\",Notes!$B$4)","v":""},null,null,null,null,null,null,null,null,null,null,"",""]
[null,{"$f":"IF(A19994=\"\",\"\",Notes!$B$4)","v":""},null,null,null,null,null,null,null,null,null,null,"",""]
[null,{"$f":"IF(A19995=\"\",\"\",Notes!$B$4)","v":""},null,null,null,null,null,null,null,null,null,null,"",""]
[null,{"$f":"IF(A19996=\"\",\"\",Notes!$B$4)","v":""},null,null,null,null,null,null,null,null,null,null,"",""]
[null,{"$f":"IF(A19997=\"\",\"\",Notes!$B$4)","v":""},null,null,null,null,null,null,null,null,null,null,"",""]
[null,{"$f":"IF(A19998=\"\",\"\",Notes!$B$4)","v":""},null,null,null,null,null,null,null,null,null,null,"",""]
[null,{"$f":"IF(A19999=\"\",\"\",Notes!$B$4)","v":""},null,null,null,null,null,null,null,null,null,null,"",""]
[null,{"$f":"IF(A20000=\"\",\"\",Notes!$B$4)","v":""},null,null,null,null,null,null,null,null,null,null,"",""]

{"sheet":"AggregatedData","index":3,"n_rows":207,"n_cols":9,"rows_kept":207,"cut":false,"hidden":false,"merged":[[0,3,0,5],[0,6,0,8]]}
[null,null,null,"Pupils",null,null,"Staff"]
["School","Date","Total Tests","Positive","Negative","Void","Positive","Negative","Void"]
[{"$f":"Datasheet!$B$2","v":""},"2021-01-07",{"$f":"COUNTIF(Datasheet!$K$2:$K$200000,\"=\"&AggregatedData!B3)","v":0},{"$f":"COUNTIFS(Datasheet!$K$2:$K$200000,\"=\"&AggregatedData!$B3,Datasheet!$C$2:$C$200000,\"Pupil\",Datasheet!$L$2:$L$200000,\"Positive\")","v":0},{"$f":"COUNTIFS(Datasheet!$K$2:$K$200000,\"=\"&AggregatedData!$B3,Datasheet!$C$2:$C$200000,\"Pupil\",Datasheet!$L$2:$L$200000,\"Negative\")","v":0},{"$f":"COUNTIFS(Datasheet!$K$2:$K$200000,\"=\"&AggregatedData!$B3,Datasheet!$C$2:$C$200000,\"Pupil\",Datasheet!$L$2:$L$200000,\"Void\")","v":0},{"$f":"COUNTIFS(Datasheet!$K$2:$K$200000,\"=\"&AggregatedData!$B3,Datasheet!$C$2:$C$200000,\"Staff\",Datasheet!$L$2:$L$200000,\"Positive\")","v":0},{"$f":"COUNTIFS(Datasheet!$K$2:$K$200000,\"=\"&AggregatedData!$B3,Datasheet!$C$2:$C$200000,\"Staff\",Datasheet!$L$2:$L$200000,\"Negative\")","v":0},{"$f":"COUNTIFS(Datasheet!$K$2:$K$200000,\"=\"&AggregatedData!$B3,Datasheet!$C$2:$C$200000,\"Staff\",Datasheet!$L$2:$L$200000,\"Void\")","v":0}]
[{"$f":"Datasheet!$B$2","v":""},"2021-01-08",{"$f":"COUNTIF(Datasheet!$K$2:$K$200000,\"=\"&AggregatedData!B4)","v":0},{"$f":"COUNTIFS(Datasheet!$K$2:$K$200000,\"=\"&AggregatedData!$B4,Datasheet!$C$2:$C$200000,\"Pupil\",Datasheet!$L$2:$L$200000,\"Positive\")","v":0},{"$f":"COUNTIFS(Datasheet!$K$2:$K$200000,\"=\"&AggregatedData!$B4,Datasheet!$C$2:$C$200000,\"Pupil\",Datasheet!$L$2:$L$200000,\"Negative\")","v":0},{"$f":"COUNTIFS(Datasheet!$K$2:$K$200000,\"=\"&AggregatedData!$B4,Datasheet!$C$2:$C$200000,\"Pupil\",Datasheet!$L$2:$L$200000,\"Void\")","v":0},{"$f":"COUNTIFS(Datasheet!$K$2:$K$200000,\"=\"&AggregatedData!$B4,Datasheet!$C$2:$C$200000,\"Staff\",Datasheet!$L$2:$L$200000,\"Positive\")","v":0},{"$f":"COUNTIFS(Datasheet!$K$2:$K$200000,\"=\"&AggregatedData!$B4,Datasheet!$C$2:$C$200000,\"Staff\",Datasheet!$L$2:$L$200000,\"Negative\")","v":0},{"$f":"COUNTIFS(Datasheet!$K$2:$K$200000,\"=\"&AggregatedData!$B4,Datasheet!$C$2:$C$200000,\"Staff\",Datasheet!$L$2:$L$200000,\"Void\")","v":0}]
[{"$f":"Datasheet!$B$2","v":""},"2021-01-09",{"$f":"COUNTIF(Datasheet!$K$2:$K$200000,\"=\"&AggregatedData!B5)","v":0},{"$f":"COUNTIFS(Datasheet!$K$2:$K$200000,\"=\"&AggregatedData!$B5,Datasheet!$C$2:$C$200000,\"Pupil\",Datasheet!$L$2:$L$200000,\"Positive\")","v":0},{"$f":"COUNTIFS(Datasheet!$K$2:$K$200000,\"=\"&AggregatedData!$B5,Datasheet!$C$2:$C$200000,\"Pupil\",Datasheet!$L$2:$L$200000,\"Negative\")","v":0},{"$f":"COUNTIFS(Datasheet!$K$2:$K$200000,\"=\"&AggregatedData!$B5,Datasheet!$C$2:$C$200000,\"Pupil\",Datasheet!$L$2:$L$200000,\"Void\")","v":0},{"$f":"COUNTIFS(Datasheet!$K$2:$K$200000,\"=\"&AggregatedData!$B5,Datasheet!$C$2:$C$200000,\"Staff\",Datasheet!$L$2:$L$200000,\"Positive\")","v":0},{"$f":"COUNTIFS(Datasheet!$K$2:$K$200000,\"=\"&AggregatedData!$B5,Datasheet!$C$2:$C$200000,\"Staff\",Datasheet!$L$2:$L$200000,\"Negative\")","v":0},{"$f":"COUNTIFS(Datasheet!$K$2:$K$200000,\"=\"&AggregatedData!$B5,Datasheet!$C$2:$C$200000,\"Staff\",Datasheet!$L$2:$L$200000,\"Void\")","v":0}]
[{"$f":"Datasheet!$B$2","v":""},"2021-01-10",{"$f":"COUNTIF(Datasheet!$K$2:$K$200000,\"=\"&AggregatedData!B6)","v":0},{"$f":"COUNTIFS(Datasheet!$K$2:$K$200000,\"=\"&AggregatedData!$B6,Datasheet!$C$2:$C$200000,\"Pupil\",Datasheet!$L$2:$L$200000,\"Positive\")","v":0},{"$f":"COUNTIFS(Datasheet!$K$2:$K$200000,\"=\"&AggregatedData!$B6,Datasheet!$C$2:$C$200000,\"Pupil\",Datasheet!$L$2:$L$200000,\"Negative\")","v":0},{"$f":"COUNTIFS(Datasheet!$K$2:$K$200000,\"=\"&AggregatedData!$B6,Datasheet!$C$2:$C$200000,\"Pupil\",Datasheet!$L$2:$L$200000,\"Void\")","v":0},{"$f":"COUNTIFS(Datasheet!$K$2:$K$200000,\"=\"&AggregatedData!$B6,Datasheet!$C$2:$C$200000,\"Staff\",Datasheet!$L$2:$L$200000,\"Positive\")","v":0},{"$f":"COUNTIFS(Datasheet!$K$2:$K$200000,\"=\"&AggregatedData!$B6,Datasheet!$C$2:$C$200000,\"Staff\",Datasheet!$L$2:$L$200000,\"Negative\")","v":0},{"$f":"COUNTIFS(Datasheet!$K$2:$K$200000,\"=\"&AggregatedData!$B6,Datasheet!$C$2:$C$200000,\"Staff\",Datasheet!$L$2:$L$200000,\"Void\")","v":0}]
[{"$f":"Datasheet!$B$2","v":""},"2021-01-11",{"$f":"COUNTIF(Datasheet!$K$2:$K$200000,\"=\"&AggregatedData!B7)","v":0},{"$f":"COUNTIFS(Datasheet!$K$2:$K$200000,\"=\"&AggregatedData!$B7,Datasheet!$C$2:$C$200000,\"Pupil\",Datasheet!$L$2:$L$200000,\"Positive\")","v":0},{"$f":"COUNTIFS(Datasheet!$K$2:$K$200000,\"=\"&AggregatedData!$B7,Datasheet!$C$2:$C$200000,\"Pupil\",Datasheet!$L$2:$L$200000,\"Negative\")","v":0},{"$f":"COUNTIFS(Datasheet!$K$2:$K$200000,\"=\"&AggregatedData!$B7,Datasheet!$C$2:$C$200000,\"Pupil\",Datasheet!$L$2:$L$200000,\"Void\")","v":0},{"$f":"COUNTIFS(Datasheet!$K$2:$K$200000,\"=\"&AggregatedData!$B7,Datasheet!$C$2:$C$200000,\"Staff\",Datasheet!$L$2:$L$200000,\"Positive\")","v":0},{"$f":"COUNTIFS(Datasheet!$K$2:$K$200000,\"=\"&AggregatedData!$B7,Datasheet!$C$2:$C$200000,\"Staff\",Datasheet!$L$2:$L$200000,\"Negative\")","v":0},{"$f":"COUNTIFS(Datasheet!$K$2:$K$200000,\"=\"&AggregatedData!$B7,Datasheet!$C$2:$C$200000,\"Staff\",Datasheet!$L$2:$L$200000,\"Void\")","v":0}]
[{"$f":"Datasheet!$B$2","v":""},"2021-01-12",{"$f":"COUNTIF(Datasheet!$K$2:$K$200000,\"=\"&AggregatedData!B8)","v":0},{"$f":"COUNTIFS(Datasheet!$K$2:$K$200000,\"=\"&AggregatedData!$B8,Datasheet!$C$2:$C$200000,\"Pupil\",Datasheet!$L$2:$L$200000,\"Positive\")","v":0},{"$f":"COUNTIFS(Datasheet!$K$2:$K$200000,\"=\"&AggregatedData!$B8,Datasheet!$C$2:$C$200000,\"Pupil\",Datasheet!$L$2:$L$200000,\"Negative\")","v":0},{"$f":"COUNTIFS(Datasheet!$K$2:$K$200000,\"=\"&AggregatedData!$B8,Datasheet!$C$2:$C$200000,\"Pupil\",Datasheet!$L$2:$L$200000,\"Void\")","v":0},{"$f":"COUNTIFS(Datasheet!$K$2:$K$200000,\"=\"&AggregatedData!$B8,Datasheet!$C$2:$C$200000,\"Staff\",Datasheet!$L$2:$L$200000,\"Positive\")","v":0},{"$f":"COUNTIFS(Datasheet!$K$2:$K$200000,\"=\"&AggregatedData!$B8,Datasheet!$C$2:$C$200000,\"Staff\",Datasheet!$L$2:$L$200000,\"Negative\")","v":0},{"$f":"COUNTIFS(Datasheet!$K$2:$K$200000,\"=\"&AggregatedData!$B8,Datasheet!$C$2:$C$200000,\"Staff\",Datasheet!$L$2:$L$200000,\"Void\")","v":0}]
[{"$f":"Datasheet!$B$2","v":""},"2021-01-13",{"$f":"COUNTIF(Datasheet!$K$2:$K$200000,\"=\"&AggregatedData!B9)","v":0},{"$f":"COUNTIFS(Datasheet!$K$2:$K$200000,\"=\"&AggregatedData!$B9,Datasheet!$C$2:$C$200000,\"Pupil\",Datasheet!$L$2:$L$200000,\"Positive\")","v":0},{"$f":"COUNTIFS(Datasheet!$K$2:$K$200000,\"=\"&AggregatedData!$B9,Datasheet!$C$2:$C$200000,\"Pupil\",Datasheet!$L$2:$L$200000,\"Negative\")","v":0},{"$f":"COUNTIFS(Datasheet!$K$2:$K$200000,\"=\"&AggregatedData!$B9,Datasheet!$C$2:$C$200000,\"Pupil\",Datasheet!$L$2:$L$200000,\"Void\")","v":0},{"$f":"COUNTIFS(Datasheet!$K$2:$K$200000,\"=\"&AggregatedData!$B9,Datasheet!$C$2:$C$200000,\"Staff\",Datasheet!$L$2:$L$200000,\"Positive\")","v":0},{"$f":"COUNTIFS(Datasheet!$K$2:$K$200000,\"=\"&AggregatedData!$B9,Datasheet!$C$2:$C$200000,\"Staff\",Datasheet!$L$2:$L$200000,\"Negative\")","v":0},{"$f":"COUNTIFS(Datasheet!$K$2:$K$200000,\"=\"&AggregatedData!$B9,Datasheet!$C$2:$C$200000,\"Staff\",Datasheet!$L$2:$L$200000,\"Void\")","v":0}]
[{"$f":"Datasheet!$B$2","v":""},"2021-01-14",{"$f":"COUNTIF(Datasheet!$K$2:$K$200000,\"=\"&AggregatedData!B10)","v":0},{"$f":"COUNTIFS(Datasheet!$K$2:$K$200000,\"=\"&AggregatedData!$B10,Datasheet!$C$2:$C$200000,\"Pupil\",Datasheet!$L$2:$L$200000,\"Positive\")","v":0},{"$f":"COUNTIFS(Datasheet!$K$2:$K$200000,\"=\"&AggregatedData!$B10,Datasheet!$C$2:$C$200000,\"Pupil\",Datasheet!$L$2:$L$200000,\"Negative\")","v":0},{"$f":"COUNTIFS(Datasheet!$K$2:$K$200000,\"=\"&AggregatedData!$B10,Datasheet!$C$2:$C$200000,\"Pupil\",Datasheet!$L$2:$L$200000,\"Void\")","v":0},{"$f":"COUNTIFS(Datasheet!$K$2:$K$200000,\"=\"&AggregatedData!$B10,Datasheet!$C$2:$C$200000,\"Staff\",Datasheet!$L$2:$L$200000,\"Positive\")","v":0},{"$f":"COUNTIFS(Datasheet!$K$2:$K$200000,\"=\"&AggregatedData!$B10,Datasheet!$C$2:$C$200000,\"Staff\",Datasheet!$L$2:$L$200000,\"Negative\")","v":0},{"$f":"COUNTIFS(Datasheet!$K$2:$K$200000,\"=\"&AggregatedData!$B10,Datasheet!$C$2:$C$200000,\"Staff\",Datasheet!$L$2:$L$200000,\"Void\")","v":0}]
[{"$f":"Datasheet!$B$2","v":""},"2021-01-15",{"$f":"COUNTIF(Datasheet!$K$2:$K$200000,\"=\"&AggregatedData!B11)","v":0},{"$f":"COUNTIFS(Datasheet!$K$2:$K$200000,\"=\"&AggregatedData!$B11,Datasheet!$C$2:$C$200000,\"Pupil\",Datasheet!$L$2:$L$200000,\"Positive\")","v":0},{"$f":"COUNTIFS(Datasheet!$K$2:$K$200000,\"=\"&AggregatedData!$B11,Datasheet!$C$2:$C$200000,\"Pupil\",Datasheet!$L$2:$L$200000,\"Negative\")","v":0},{"$f":"COUNTIFS(Datasheet!$K$2:$K$200000,\"=\"&AggregatedData!$B11,Datasheet!$C$2:$C$200000,\"Pupil\",Datasheet!$L$2:$L$200000,\"Void\")","v":0},{"$f":"COUNTIFS(Datasheet!$K$2:$K$200000,\"=\"&AggregatedData!$B11,Datasheet!$C$2:$C$200000,\"Staff\",Datasheet!$L$2:$L$200000,\"Positive\")","v":0},{"$f":"COUNTIFS(Datasheet!$K$2:$K$200000,\"=\"&AggregatedData!$B11,Datasheet!$C$2:$C$200000,\"Staff\",Datasheet!$L$2:$L$200000,\"Negative\")","v":0},{"$f":"COUNTIFS(Datasheet!$K$2:$K$200000,\"=\"&AggregatedData!$B11,Datasheet!$C$2:$C$200000,\"Staff\",Datasheet!$L$2:$L$200000,\"Void\")","v":0}]
[{"$f":"Datasheet!$B$2","v":""},"2021-01-16",{"$f":"COUNTIF(Datasheet!$K$2:$K$200000,\"=\"&AggregatedData!B12)","v":0},{"$f":"COUNTIFS(Datasheet!$K$2:$K$200000,\"=\"&AggregatedData!$B12,Datasheet!$C$2:$C$200000,\"Pupil\",Datasheet!$L$2:$L$200000,\"Positive\")","v":0},{"$f":"COUNTIFS(Datasheet!$K$2:$K$200000,\"=\"&AggregatedData!$B12,Datasheet!$C$2:$C$200000,\"Pupil\",Datasheet!$L$2:$L$200000,\"Negative\")","v":0},{"$f":"COUNTIFS(Datasheet!$K$2:$K$200000,\"=\"&AggregatedData!$B12,Datasheet!$C$2:$C$200000,\"Pupil\",Datasheet!$L$2:$L$200000,\"Void\")","v":0},{"$f":"COUNTIFS(Datasheet!$K$2:$K$200000,\"=\"&AggregatedData!$B12,Datasheet!$C$2:$C$200000,\"Staff\",Datasheet!$L$2:$L$200000,\"Positive\")","v":0},{"$f":"COUNTIFS(Datasheet!$K$2:$K$200000,\"=\"&AggregatedData!$B12,Datasheet!$C$2:$C$200000,\"Staff\",Datasheet!$L$2:$L$200000,\"Negative\")","v":0},{"$f":"COUNTIFS(Datasheet!$K$2:$K$200000,\"=\"&AggregatedData!$B12,Datasheet!$C$2:$C$200000,\"Staff\",Datasheet!$L$2:$L$200000,\"Void\")","v":0}]
[{"$f":"Datasheet!$B$2","v":""},"2021-01-17",{"$f":"COUNTIF(Datasheet!$K$2:$K$200000,\"=\"&AggregatedData!B13)","v":0},{"$f":"COUNTIFS(Datasheet!$K$2:$K$200000,\"=\"&AggregatedData!$B13,Datasheet!$C$2:$C$200000,\"Pupil\",Datasheet!$L$2:$L$200000,\"Positive\")","v":0},{"$f":"COUNTIFS(Datasheet!$K$2:$K$200000,\"=\"&AggregatedData!$B13,Datasheet!$C$2:$C$200000,\"Pupil\",Datasheet!$L$2:$L$200000,\"Negative\")","v":0},{"$f":"COUNTIFS(Datasheet!$K$2:$K$200000,\"=\"&AggregatedData!$B13,Datasheet!$C$2:$C$200000,\"Pupil\",Datasheet!$L$2:$L$200000,\"Void\")","v":0},{"$f":"COUNTIFS(Datasheet!$K$2:$K$200000,\"=\"&AggregatedData!$B13,Datasheet!$C$2:$C$200000,\"Staff\",Datasheet!$L$2:$L$200000,\"Positive\")","v":0},{"$f":"COUNTIFS(Datasheet!$K$2:$K$200000,\"=\"&AggregatedData!$B13,Datasheet!$C$2:$C$200000,\"Staff\",Datasheet!$L$2:$L$200000,\"Negative\")","v":0},{"$f":"COUNTIFS(Datasheet!$K$2:$K$200000,\"=\"&AggregatedData!$B13,Datasheet!$C$2:$C$200000,\"Staff\",Datasheet!$L$2:$L$200000,\"Void\")","v":0}]
[{"$f":"Datasheet!$B$2","v":""},"2021-01-18",{"$f":"COUNTIF(Datasheet!$K$2:$K$200000,\"=\"&AggregatedData!B14)","v":0},{"$f":"COUNTIFS(Datasheet!$K$2:$K$200000,\"=\"&AggregatedData!$B14,Datasheet!$C$2:$C$200000,\"Pupil\",Datasheet!$L$2:$L$200000,\"Positive\")","v":0},{"$f":"COUNTIFS(Datasheet!$K$2:$K$200000,\"=\"&AggregatedData!$B14,Datasheet!$C$2:$C$200000,\"Pupil\",Datasheet!$L$2:$L$200000,\"Negative\")","v":0},{"$f":"COUNTIFS(Datasheet!$K$2:$K$200000,\"=\"&AggregatedData!$B14,Datasheet!$C$2:$C$200000,\"Pupil\",Datasheet!$L$2:$L$200000,\"Void\")","v":0},{"$f":"COUNTIFS(Datasheet!$K$2:$K$200000,\"=\"&AggregatedData!$B14,Datasheet!$C$2:$C$200000,\"Staff\",Datasheet!$L$2:$L$200000,\"Positive\")","v":0},{"$f":"COUNTIFS(Datasheet!$K$2:$K$200000,\"=\"&AggregatedData!$B14,Datasheet!$C$2:$C$200000,\"Staff\",Datasheet!$L$2:$L$200000,\"Negative\")","v":0},{"$f":"COUNTIFS(Datasheet!$K$2:$K$200000,\"=\"&AggregatedData!$B14,Datasheet!$C$2:$C$200000,\"Staff\",Datasheet!$L$2:$L$200000,\"Void\")","v":0}]
[{"$f":"Datasheet!$B$2","v":""},"2021-01-19",{"$f":"COUNTIF(Datasheet!$K$2:$K$200000,\"=\"&AggregatedData!B15)","v":0},{"$f":"COUNTIFS(Datasheet!$K$2:$K$200000,\"=\"&AggregatedData!$B15,Datasheet!$C$2:$C$200000,\"Pupil\",Datasheet!$L$2:$L$200000,\"Positive\")","v":0},{"$f":"COUNTIFS(Datasheet!$K$2:$K$200000,\"=\"&AggregatedData!$B15,Datasheet!$C$2:$C$200000,\"Pupil\",Datasheet!$L$2:$L$200000,\"Negative\")","v":0},{"$f":"COUNTIFS(Datasheet!$K$2:$K$200000,\"=\"&AggregatedData!$B15,Datasheet!$C$2:$C$200000,\"Pupil\",Datasheet!$L$2:$L$200000,\"Void\")","v":0},{"$f":"COUNTIFS(Datasheet!$K$2:$K$200000,\"=\"&AggregatedData!$B15,Datasheet!$C$2:$C$200000,\"Staff\",Datasheet!$L$2:$L$200000,\"Positive\")","v":0},{"$f":"COUNTIFS(Datasheet!$K$2:$K$200000,\"=\"&AggregatedData!$B15,Datasheet!$C$2:$C$200000,\"Staff\",Datasheet!$L$2:$L$200000,\"Negative\")","v":0},{"$f":"COUNTIFS(Datasheet!$K$2:$K$200000,\"=\"&AggregatedData!$B15,Datasheet!$C$2:$C$200000,\"Staff\",Datasheet!$L$2:$L$200000,\"Void\")","v":0}]
[{"$f":"Datasheet!$B$2","v":""},"2021-01-20",{"$f":"COUNTIF(Datasheet!$K$2:$K$200000,\"=\"&AggregatedData!B16)","v":0},{"$f":"COUNTIFS(Datasheet!$K$2:$K$200000,\"=\"&AggregatedData!$B16,Datasheet!$C$2:$C$200000,\"Pupil\",Datasheet!$L$2:$L$200000,\"Positive\")","v":0},{"$f":"COUNTIFS(Datasheet!$K$2:$K$200000,\"=\"&AggregatedData!$B16,Datasheet!$C$2:$C$200000,\"Pupil\",Datasheet!$L$2:$L$200000,\"Negative\")","v":0},{"$f":"COUNTIFS(Datasheet!$K$2:$K$200000,\"=\"&AggregatedData!$B16,Datasheet!$C$2:$C$200000,\"Pupil\",Datasheet!$L$2:$L$200000,\"Void\")","v":0},{"$f":"COUNTIFS(Datasheet!$K$2:$K$200000,\"=\"&AggregatedData!$B16,Datasheet!$C$2:$C$200000,\"Staff\",Datasheet!$L$2:$L$200000,\"Positive\")","v":0},{"$f":"COUNTIFS(Datasheet!$K$2:$K$200000,\"=\"&AggregatedData!$B16,Datasheet!$C$2:$C$200000,\"Staff\",Datasheet!$L$2:$L$200000,\"Negative\")","v":0},{"$f":"COUNTIFS(Datasheet!$K$2:$K$200000,\"=\"&AggregatedData!$B16,Datasheet!$C$2:$C$200000,\"Staff\",Datasheet!$L$2:$L$200000,\"Void\")","v":0}]
[{"$f":"Datasheet!$B$2","v":""},"2021-01-21",{"$f":"COUNTIF(Datasheet!$K$2:$K$200000,\"=\"&AggregatedData!B17)","v":0},{"$f":"COUNTIFS(Datasheet!$K$2:$K$200000,\"=\"&AggregatedData!$B17,Datasheet!$C$2:$C$200000,\"Pupil\",Datasheet!$L$2:$L$200000,\"Positive\")","v":0},{"$f":"COUNTIFS(Datasheet!$K$2:$K$200000,\"=\"&AggregatedData!$B17,Datasheet!$C$2:$C$200000,\"Pupil\",Datasheet!$L$2:$L$200000,\"Negative\")","v":0},{"$f":"COUNTIFS(Datasheet!$K$2:$K$200000,\"=\"&AggregatedData!$B17,Datasheet!$C$2:$C$200000,\"Pupil\",Datasheet!$L$2:$L$200000,\"Void\")","v":0},{"$f":"COUNTIFS(Datasheet!$K$2:$K$200000,\"=\"&AggregatedData!$B17,Datasheet!$C$2:$C$200000,\"Staff\",Datasheet!$L$2:$L$200000,\"Positive\")","v":0},{"$f":"COUNTIFS(Datasheet!$K$2:$K$200000,\"=\"&AggregatedData!$B17,Datasheet!$C$2:$C$200000,\"Staff\",Datasheet!$L$2:$L$200000,\"Negative\")","v":0},{"$f":"COUNTIFS(Datasheet!$K$2:$K$200000,\"=\"&AggregatedData!$B17,Datasheet!$C$2:$C$200000,\"Staff\",Datasheet!$L$2:$L$200000,\"Void\")","v":0}]
[{"$f":"Datasheet!$B$2","v":""},"2021-01-22",{"$f":"COUNTIF(Datasheet!$K$2:$K$200000,\"=\"&AggregatedData!B18)","v":0},{"$f":"COUNTIFS(Datasheet!$K$2:$K$200000,\"=\"&AggregatedData!$B18,Datasheet!$C$2:$C$200000,\"Pupil\",Datasheet!$L$2:$L$200000,\"Positive\")","v":0},{"$f":"COUNTIFS(Datasheet!$K$2:$K$200000,\"=\"&AggregatedData!$B18,Datasheet!$C$2:$C$200000,\"Pupil\",Datasheet!$L$2:$L$200000,\"Negative\")","v":0},{"$f":"COUNTIFS(Datasheet!$K$2:$K$200000,\"=\"&AggregatedData!$B18,Datasheet!$C$2:$C$200000,\"Pupil\",Datasheet!$L$2:$L$200000,\"Void\")","v":0},{"$f":"COUNTIFS(Datasheet!$K$2:$K$200000,\"=\"&AggregatedData!$B18,Datasheet!$C$2:$C$200000,\"Staff\",Datasheet!$L$2:$L$200000,\"Positive\")","v":0},{"$f":"COUNTIFS(Datasheet!$K$2:$K$200000,\"=\"&AggregatedData!$B18,Datasheet!$C$2:$C$200000,\"Staff\",Datasheet!$L$2:$L$200000,\"Negative\")","v":0},{"$f":"COUNTIFS(Datasheet!$K$2:$K$200000,\"=\"&AggregatedData!$B18,Datasheet!$C$2:$C$200000,\"Staff\",Datasheet!$L$2:$L$200000,\"Void\")","v":0}]
[{"$f":"Datasheet!$B$2","v":""},"2021-01-23",{"$f":"COUNTIF(Datasheet!$K$2:$K$200000,\"=\"&AggregatedData!B19)","v":0},{"$f":"COUNTIFS(Datasheet!$K$2:$K$200000,\"=\"&AggregatedData!$B19,Datasheet!$C$2:$C$200000,\"Pupil\",Datasheet!$L$2:$L$200000,\"Positive\")","v":0},{"$f":"COUNTIFS(Datasheet!$K$2:$K$200000,\"=\"&AggregatedData!$B19,Datasheet!$C$2:$C$200000,\"Pupil\",Datasheet!$L$2:$L$200000,\"Negative\")","v":0},{"$f":"COUNTIFS(Datasheet!$K$2:$K$200000,\"=\"&AggregatedData!$B19,Datasheet!$C$2:$C$200000,\"Pupil\",Datasheet!$L$2:$L$200000,\"Void\")","v":0},{"$f":"COUNTIFS(Datasheet!$K$2:$K$200000,\"=\"&AggregatedData!$B19,Datasheet!$C$2:$C$200000,\"Staff\",Datasheet!$L$2:$L$200000,\"Positive\")","v":0},{"$f":"COUNTIFS(Datasheet!$K$2:$K$200000,\"=\"&AggregatedData!$B19,Datasheet!$C$2:$C$200000,\"Staff\",Datasheet!$L$2:$L$200000,\"Negative\")","v":0},{"$f":"COUNTIFS(Datasheet!$K$2:$K$200000,\"=\"&AggregatedData!$B19,Datasheet!$C$2:$C$200000,\"Staff\",Datasheet!$L$2:$L$200000,\"Void\")","v":0}]
[{"$f":"Datasheet!$B$2","v":""},"2021-01-24",{"$f":"COUNTIF(Datasheet!$K$2:$K$200000,\"=\"&AggregatedData!B20)","v":0},{"$f":"COUNTIFS(Datasheet!$K$2:$K$200000,\"=\"&AggregatedData!$B20,Datasheet!$C$2:$C$200000,\"Pupil\",Datasheet!$L$2:$L$200000,\"Positive\")","v":0},{"$f":"COUNTIFS(Datasheet!$K$2:$K$200000,\"=\"&AggregatedData!$B20,Datasheet!$C$2:$C$200000,\"Pupil\",Datasheet!$L$2:$L$200000,\"Negative\")","v":0},{"$f":"COUNTIFS(Datasheet!$K$2:$K$200000,\"=\"&AggregatedData!$B20,Datasheet!$C$2:$C$200000,\"Pupil\",Datasheet!$L$2:$L$200000,\"Void\")","v":0},{"$f":"COUNTIFS(Datasheet!$K$2:$K$200000,\"=\"&AggregatedData!$B20,Datasheet!$C$2:$C$200000,\"Staff\",Datasheet!$L$2:$L$200000,\"Positive\")","v":0},{"$f":"COUNTIFS(Datasheet!$K$2:$K$200000,\"=\"&AggregatedData!$B20,Datasheet!$C$2:$C$200000,\"Staff\",Datasheet!$L$2:$L$200000,\"Negative\")","v":0},{"$f":"COUNTIFS(Datasheet!$K$2:$K$200000,\"=\"&AggregatedData!$B20,Datasheet!$C$2:$C$200000,\"Staff\",Datasheet!$L$2:$L$200000,\"Void\")","v":0}]
[{"$f":"Datasheet!$B$2","v":""},"2021-01-25",{"$f":"COUNTIF(Datasheet!$K$2:$K$200000,\"=\"&AggregatedData!B21)","v":0},{"$f":"COUNTIFS(Datasheet!$K$2:$K$200000,\"=\"&AggregatedData!$B21,Datasheet!$C$2:$C$200000,\"Pupil\",Datasheet!$L$2:$L$200000,\"Positive\")","v":0},{"$f":"COUNTIFS(Datasheet!$K$2:$K$200000,\"=\"&AggregatedData!$B21,Datasheet!$C$2:$C$200000,\"Pupil\",Datasheet!$L$2:$L$200000,\"Negative\")","v":0},{"$f":"COUNTIFS(Datasheet!$K$2:$K$200000,\"=\"&AggregatedData!$B21,Datasheet!$C$2:$C$200000,\"Pupil\",Datasheet!$L$2:$L$200000,\"Void\")","v":0},{"$f":"COUNTIFS(Datasheet!$K$2:$K$200000,\"=\"&AggregatedData!$B21,Datasheet!$C$2:$C$200000,\"Staff\",Datasheet!$L$2:$L$200000,\"Positive\")","v":0},{"$f":"COUNTIFS(Datasheet!$K$2:$K$200000,\"=\"&AggregatedData!$B21,Datasheet!$C$2:$C$200000,\"Staff\",Datasheet!$L$2:$L$200000,\"Negative\")","v":0},{"$f":"COUNTIFS(Datasheet!$K$2:$K$200000,\"=\"&AggregatedData!$B21,Datasheet!$C$2:$C$200000,\"Staff\",Datasheet!$L$2:$L$200000,\"Void\")","v":0}]
[{"$f":"Datasheet!$B$2","v":""},"2021-01-26",{"$f":"COUNTIF(Datasheet!$K$2:$K$200000,\"=\"&AggregatedData!B22)","v":0},{"$f":"COUNTIFS(Datasheet!$K$2:$K$200000,\"=\"&AggregatedData!$B22,Datasheet!$C$2:$C$200000,\"Pupil\",Datasheet!$L$2:$L$200000,\"Positive\")","v":0},{"$f":"COUNTIFS(Datasheet!$K$2:$K$200000,\"=\"&AggregatedData!$B22,Datasheet!$C$2:$C$200000,\"Pupil\",Datasheet!$L$2:$L$200000,\"Negative\")","v":0},{"$f":"COUNTIFS(Datasheet!$K$2:$K$200000,\"=\"&AggregatedData!$B22,Datasheet!$C$2:$C$200000,\"Pupil\",Datasheet!$L$2:$L$200000,\"Void\")","v":0},{"$f":"COUNTIFS(Datasheet!$K$2:$K$200000,\"=\"&AggregatedData!$B22,Datasheet!$C$2:$C$200000,\"Staff\",Datasheet!$L$2:$L$200000,\"Positive\")","v":0},{"$f":"COUNTIFS(Datasheet!$K$2:$K$200000,\"=\"&AggregatedData!$B22,Datasheet!$C$2:$C$200000,\"Staff\",Datasheet!$L$2:$L$200000,\"Negative\")","v":0},{"$f":"COUNTIFS(Datasheet!$K$2:$K$200000,\"=\"&AggregatedData!$B22,Datasheet!$C$2:$C$200000,\"Staff\",Datasheet!$L$2:$L$200000,\"Void\")","v":0}]
[{"$f":"Datasheet!$B$2","v":""},"2021-01-27",{"$f":"COUNTIF(Datasheet!$K$2:$K$200000,\"=\"&AggregatedData!B23)","v":0},{"$f":"COUNTIFS(Datasheet!$K$2:$K$200000,\"=\"&AggregatedData!$B23,Datasheet!$C$2:$C$200000,\"Pupil\",Datasheet!$L$2:$L$200000,\"Positive\")","v":0},{"$f":"COUNTIFS(Datasheet!$K$2:$K$200000,\"=\"&AggregatedData!$B23,Datasheet!$C$2:$C$200000,\"Pupil\",Datasheet!$L$2:$L$200000,\"Negative\")","v":0},{"$f":"COUNTIFS(Datasheet!$K$2:$K$200000,\"=\"&AggregatedData!$B23,Datasheet!$C$2:$C$200000,\"Pupil\",Datasheet!$L$2:$L$200000,\"Void\")","v":0},{"$f":"COUNTIFS(Datasheet!$K$2:$K$200000,\"=\"&AggregatedData!$B23,Datasheet!$C$2:$C$200000,\"Staff\",Datasheet!$L$2:$L$200000,\"Positive\")","v":0},{"$f":"COUNTIFS(Datasheet!$K$2:$K$200000,\"=\"&AggregatedData!$B23,Datasheet!$C$2:$C$200000,\"Staff\",Datasheet!$L$2:$L$200000,\"Negative\")","v":0},{"$f":"COUNTIFS(Datasheet!$K$2:$K$200000,\"=\"&AggregatedData!$B23,Datasheet!$C$2:$C$200000,\"Staff\",Datasheet!$L$2:$L$200000,\"Void\")","v":0}]
[{"$f":"Datasheet!$B$2","v":""},"2021-01-28",{"$f":"COUNTIF(Datasheet!$K$2:$K$200000,\"=\"&AggregatedData!B24)","v":0},{"$f":"COUNTIFS(Datasheet!$K$2:$K$200000,\"=\"&AggregatedData!$B24,Datasheet!$C$2:$C$200000,\"Pupil\",Datasheet!$L$2:$L$200000,\"Positive\")","v":0},{"$f":"COUNTIFS(Datasheet!$K$2:$K$200000,\"=\"&AggregatedData!$B24,Datasheet!$C$2:$C$200000,\"Pupil\",Datasheet!$L$2:$L$200000,\"Negative\")","v":0},{"$f":"COUNTIFS(Datasheet!$K$2:$K$200000,\"=\"&AggregatedData!$B24,Datasheet!$C$2:$C$200000,\"Pupil\",Datasheet!$L$2:$L$200000,\"Void\")","v":0},{"$f":"COUNTIFS(Datasheet!$K$2:$K$200000,\"=\"&AggregatedData!$B24,Datasheet!$C$2:$C$200000,\"Staff\",Datasheet!$L$2:$L$200000,\"Positive\")","v":0},{"$f":"COUNTIFS(Datasheet!$K$2:$K$200000,\"=\"&AggregatedData!$B24,Datasheet!$C$2:$C$200000,\"Staff\",Datasheet!$L$2:$L$200000,\"Negative\")","v":0},{"$f":"COUNTIFS(Datasheet!$K$2:$K$200000,\"=\"&AggregatedData!$B24,Datasheet!$C$2:$C$200000,\"Staff\",Datasheet!$L$2:$L$200000,\"Void\")","v":0}]
[{"$f":"Datasheet!$B$2","v":""},"2021-01-29",{"$f":"COUNTIF(Datasheet!$K$2:$K$200000,\"=\"&AggregatedData!B25)","v":0},{"$f":"COUNTIFS(Datasheet!$K$2:$K$200000,\"=\"&AggregatedData!$B25,Datasheet!$C$2:$C$200000,\"Pupil\",Datasheet!$L$2:$L$200000,\"Positive\")","v":0},{"$f":"COUNTIFS(Datasheet!$K$2:$K$200000,\"=\"&AggregatedData!$B25,Datasheet!$C$2:$C$200000,\"Pupil\",Datasheet!$L$2:$L$200000,\"Negative\")","v":0},{"$f":"COUNTIFS(Datasheet!$K$2:$K$200000,\"=\"&AggregatedData!$B25,Datasheet!$C$2:$C$200000,\"Pupil\",Datasheet!$L$2:$L$200000,\"Void\")","v":0},{"$f":"COUNTIFS(Datasheet!$K$2:$K$200000,\"=\"&AggregatedData!$B25,Datasheet!$C$2:$C$200000,\"Staff\",Datasheet!$L$2:$L$200000,\"Positive\")","v":0},{"$f":"COUNTIFS(Datasheet!$K$2:$K$200000,\"=\"&AggregatedData!$B25,Datasheet!$C$2:$C$200000,\"Staff\",Datasheet!$L$2:$L$200000,\"Negative\")","v":0},{"$f":"COUNTIFS(Datasheet!$K$2:$K$200000,\"=\"&AggregatedData!$B25,Datasheet!$C$2:$C$200000,\"Staff\",Datasheet!$L$2:$L$200000,\"Void\")","v":0}]
[{"$f":"Datasheet!$B$2","v":""},"2021-01-30",{"$f":"COUNTIF(Datasheet!$K$2:$K$200000,\"=\"&AggregatedData!B26)","v":0},{"$f":"COUNTIFS(Datasheet!$K$2:$K$200000,\"=\"&AggregatedData!$B26,Datasheet!$C$2:$C$200000,\"Pupil\",Datasheet!$L$2:$L$200000,\"Positive\")","v":0},{"$f":"COUNTIFS(Datasheet!$K$2:$K$200000,\"=\"&AggregatedData!$B26,Datasheet!$C$2:$C$200000,\"Pupil\",Datasheet!$L$2:$L$200000,\"Negative\")","v":0},{"$f":"COUNTIFS(Datasheet!$K$2:$K$200000,\"=\"&AggregatedData!$B26,Datasheet!$C$2:$C$200000,\"Pupil\",Datasheet!$L$2:$L$200000,\"Void\")","v":0},{"$f":"COUNTIFS(Datasheet!$K$2:$K$200000,\"=\"&AggregatedData!$B26,Datasheet!$C$2:$C$200000,\"Staff\",Datasheet!$L$2:$L$200000,\"Positive\")","v":0},{"$f":"COUNTIFS(Datasheet!$K$2:$K$200000,\"=\"&AggregatedData!$B26,Datasheet!$C$2:$C$200000,\"Staff\",Datasheet!$L$2:$L$200000,\"Negative\")","v":0},{"$f":"COUNTIFS(Datasheet!$K$2:$K$200000,\"=\"&AggregatedData!$B26,Datasheet!$C$2:$C$200000,\"Staff\",Datasheet!$L$2:$L$200000,\"Void\")","v":0}]
[{"$f":"Datasheet!$B$2","v":""},"2021-01-31",{"$f":"COUNTIF(Datasheet!$K$2:$K$200000,\"=\"&AggregatedData!B27)","v":0},{"$f":"COUNTIFS(Datasheet!$K$2:$K$200000,\"=\"&AggregatedData!$B27,Datasheet!$C$2:$C$200000,\"Pupil\",Datasheet!$L$2:$L$200000,\"Positive\")","v":0},{"$f":"COUNTIFS(Datasheet!$K$2:$K$200000,\"=\"&AggregatedData!$B27,Datasheet!$C$2:$C$200000,\"Pupil\",Datasheet!$L$2:$L$200000,\"Negative\")","v":0},{"$f":"COUNTIFS(Datasheet!$K$2:$K$200000,\"=\"&AggregatedData!$B27,Datasheet!$C$2:$C$200000,\"Pupil\",Datasheet!$L$2:$L$200000,\"Void\")","v":0},{"$f":"COUNTIFS(Datasheet!$K$2:$K$200000,\"=\"&AggregatedData!$B27,Datasheet!$C$2:$C$200000,\"Staff\",Datasheet!$L$2:$L$200000,\"Positive\")","v":0},{"$f":"COUNTIFS(Datasheet!$K$2:$K$200000,\"=\"&AggregatedData!$B27,Datasheet!$C$2:$C$200000,\"Staff\",Datasheet!$L$2:$L$200000,\"Negative\")","v":0},{"$f":"COUNTIFS(Datasheet!$K$2:$K$200000,\"=\"&AggregatedData!$B27,Datasheet!$C$2:$C$200000,\"Staff\",Datasheet!$L$2:$L$200000,\"Void\")","v":0}]
[{"$f":"Datasheet!$B$2","v":""},"2021-02-01",{"$f":"COUNTIF(Datasheet!$K$2:$K$200000,\"=\"&AggregatedData!B28)","v":0},{"$f":"COUNTIFS(Datasheet!$K$2:$K$200000,\"=\"&AggregatedData!$B28,Datasheet!$C$2:$C$200000,\"Pupil\",Datasheet!$L$2:$L$200000,\"Positive\")","v":0},{"$f":"COUNTIFS(Datasheet!$K$2:$K$200000,\"=\"&AggregatedData!$B28,Datasheet!$C$2:$C$200000,\"Pupil\",Datasheet!$L$2:$L$200000,\"Negative\")","v":0},{"$f":"COUNTIFS(Datasheet!$K$2:$K$200000,\"=\"&AggregatedData!$B28,Datasheet!$C$2:$C$200000,\"Pupil\",Datasheet!$L$2:$L$200000,\"Void\")","v":0},{"$f":"COUNTIFS(Datasheet!$K$2:$K$200000,\"=\"&AggregatedData!$B28,Datasheet!$C$2:$C$200000,\"Staff\",Datasheet!$L$2:$L$200000,\"Positive\")","v":0},{"$f":"COUNTIFS(Datasheet!$K$2:$K$200000,\"=\"&AggregatedData!$B28,Datasheet!$C$2:$C$200000,\"Staff\",Datasheet!$L$2:$L$200000,\"Negative\")","v":0},{"$f":"COUNTIFS(Datasheet!$K$2:$K$200000,\"=\"&AggregatedData!$B28,Datasheet!$C$2:$C$200000,\"Staff\",Datasheet!$L$2:$L$200000,\"Void\")","v":0}]
[{"$f":"Datasheet!$B$2","v":""},"2021-02-02",{"$f":"COUNTIF(Datasheet!$K$2:$K$200000,\"=\"&AggregatedData!B29)","v":0},{"$f":"COUNTIFS(Datasheet!$K$2:$K$200000,\"=\"&AggregatedData!$B29,Datasheet!$C$2:$C$200000,\"Pupil\",Datasheet!$L$2:$L$200000,\"Positive\")","v":0},{"$f":"COUNTIFS(Datasheet!$K$2:$K$200000,\"=\"&AggregatedData!$B29,Datasheet!$C$2:$C$200000,\"Pupil\",Datasheet!$L$2:$L$200000,\"Negative\")","v":0},{"$f":"COUNTIFS(Datasheet!$K$2:$K$200000,\"=\"&AggregatedData!$B29,Datasheet!$C$2:$C$200000,\"Pupil\",Datasheet!$L$2:$L$200000,\"Void\")","v":0},{"$f":"COUNTIFS(Datasheet!$K$2:$K$200000,\"=\"&AggregatedData!$B29,Datasheet!$C$2:$C$200000,\"Staff\",Datasheet!$L$2:$L$200000,\"Positive\")","v":0},{"$f":"COUNTIFS(Datasheet!$K$2:$K$200000,\"=\"&AggregatedData!$B29,Datasheet!$C$2:$C$200000,\"Staff\",Datasheet!$L$2:$L$200000,\"Negative\")","v":0},{"$f":"COUNTIFS(Datasheet!$K$2:$K$200000,\"=\"&AggregatedData!$B29,Datasheet!$C$2:$C$200000,\"Staff\",Datasheet!$L$2:$L$200000,\"Void\")","v":0}]
[{"$f":"Datasheet!$B$2","v":""},"2021-02-03",{"$f":"COUNTIF(Datasheet!$K$2:$K$200000,\"=\"&AggregatedData!B30)","v":0},{"$f":"COUNTIFS(Datasheet!$K$2:$K$200000,\"=\"&AggregatedData!$B30,Datasheet!$C$2:$C$200000,\"Pupil\",Datasheet!$L$2:$L$200000,\"Positive\")","v":0},{"$f":"COUNTIFS(Datasheet!$K$2:$K$200000,\"=\"&AggregatedData!$B30,Datasheet!$C$2:$C$200000,\"Pupil\",Datasheet!$L$2:$L$200000,\"Negative\")","v":0},{"$f":"COUNTIFS(Datasheet!$K$2:$K$200000,\"=\"&AggregatedData!$B30,Datasheet!$C$2:$C$200000,\"Pupil\",Datasheet!$L$2:$L$200000,\"Void\")","v":0},{"$f":"COUNTIFS(Datasheet!$K$2:$K$200000,\"=\"&AggregatedData!$B30,Datasheet!$C$2:$C$200000,\"Staff\",Datasheet!$L$2:$L$200000,\"Positive\")","v":0},{"$f":"COUNTIFS(Datasheet!$K$2:$K$200000,\"=\"&AggregatedData!$B30,Datasheet!$C$2:$C$200000,\"Staff\",Datasheet!$L$2:$L$200000,\"Negative\")","v":0},{"$f":"COUNTIFS(Datasheet!$K$2:$K$200000,\"=\"&AggregatedData!$B30,Datasheet!$C$2:$C$200000,\"Staff\",Datasheet!$L$2:$L$200000,\"Void\")","v":0}]
[{"$f":"Datasheet!$B$2","v":""},"2021-02-04",{"$f":"COUNTIF(Datasheet!$K$2:$K$200000,\"=\"&AggregatedData!B31)","v":0},{"$f":"COUNTIFS(Datasheet!$K$2:$K$200000,\"=\"&AggregatedData!$B31,Datasheet!$C$2:$C$200000,\"Pupil\",Datasheet!$L$2:$L$200000,\"Positive\")","v":0},{"$f":"COUNTIFS(Datasheet!$K$2:$K$200000,\"=\"&AggregatedData!$B31,Datasheet!$C$2:$C$200000,\"Pupil\",Datasheet!$L$2:$L$200000,\"Negative\")","v":0},{"$f":"COUNTIFS(Datasheet!$K$2:$K$200000,\"=\"&AggregatedData!$B31,Datasheet!$C$2:$C$200000,\"Pupil\",Datasheet!$L$2:$L$200000,\"Void\")","v":0},{"$f":"COUNTIFS(Datasheet!$K$2:$K$200000,\"=\"&AggregatedData!$B31,Datasheet!$C$2:$C$200000,\"Staff\",Datasheet!$L$2:$L$200000,\"Positive\")","v":0},{"$f":"COUNTIFS(Datasheet!$K$2:$K$200000,\"=\"&AggregatedData!$B31,Datasheet!$C$2:$C$200000,\"Staff\",Datasheet!$L$2:$L$200000,\"Negative\")","v":0},{"$f":"COUNTIFS(Datasheet!$K$2:$K$200000,\"=\"&AggregatedData!$B31,Datasheet!$C$2:$C$200000,\"Staff\",Datasheet!$L$2:$L$200000,\"Void\")","v":0}]
[{"$f":"Datasheet!$B$2","v":""},"2021-02-05",{"$f":"COUNTIF(Datasheet!$K$2:$K$200000,\"=\"&AggregatedData!B32)","v":0},{"$f":"COUNTIFS(Datasheet!$K$2:$K$200000,\"=\"&AggregatedData!$B32,Datasheet!$C$2:$C$200000,\"Pupil\",Datasheet!$L$2:$L$200000,\"Positive\")","v":0},{"$f":"COUNTIFS(Datasheet!$K$2:$K$200000,\"=\"&AggregatedData!$B32,Datasheet!$C$2:$C$200000,\"Pupil\",Datasheet!$L$2:$L$200000,\"Negative\")","v":0},{"$f":"COUNTIFS(Datasheet!$K$2:$K$200000,\"=\"&AggregatedData!$B32,Datasheet!$C$2:$C$200000,\"Pupil\",Datasheet!$L$2:$L$200000,\"Void\")","v":0},{"$f":"COUNTIFS(Datasheet!$K$2:$K$200000,\"=\"&AggregatedData!$B32,Datasheet!$C$2:$C$200000,\"Staff\",Datasheet!$L$2:$L$200000,\"Positive\")","v":0},{"$f":"COUNTIFS(Datasheet!$K$2:$K$200000,\"=\"&AggregatedData!$B32,Datasheet!$C$2:$C$200000,\"Staff\",Datasheet!$L$2:$L$200000,\"Negative\")","v":0},{"$f":"COUNTIFS(Datasheet!$K$2:$K$200000,\"=\"&AggregatedData!$B32,Datasheet!$C$2:$C$200000,\"Staff\",Datasheet!$L$2:$L$200000,\"Void\")","v":0}]
[{"$f":"Datasheet!$B$2","v":""},"2021-02-06",{"$f":"COUNTIF(Datasheet!$K$2:$K$200000,\"=\"&AggregatedData!B33)","v":0},{"$f":"COUNTIFS(Datasheet!$K$2:$K$200000,\"=\"&AggregatedData!$B33,Datasheet!$C$2:$C$200000,\"Pupil\",Datasheet!$L$2:$L$200000,\"Positive\")","v":0},{"$f":"COUNTIFS(Datasheet!$K$2:$K$200000,\"=\"&AggregatedData!$B33,Datasheet!$C$2:$C$200000,\"Pupil\",Datasheet!$L$2:$L$200000,\"Negative\")","v":0},{"$f":"COUNTIFS(Datasheet!$K$2:$K$200000,\"=\"&AggregatedData!$B33,Datasheet!$C$2:$C$200000,\"Pupil\",Datasheet!$L$2:$L$200000,\"Void\")","v":0},{"$f":"COUNTIFS(Datasheet!$K$2:$K$200000,\"=\"&AggregatedData!$B33,Datasheet!$C$2:$C$200000,\"Staff\",Datasheet!$L$2:$L$200000,\"Positive\")","v":0},{"$f":"COUNTIFS(Datasheet!$K$2:$K$200000,\"=\"&AggregatedData!$B33,Datasheet!$C$2:$C$200000,\"Staff\",Datasheet!$L$2:$L$200000,\"Negative\")","v":0},{"$f":"COUNTIFS(Datasheet!$K$2:$K$200000,\"=\"&AggregatedData!$B33,Datasheet!$C$2:$C$200000,\"Staff\",Datasheet!$L$2:$L$200000,\"Void\")","v":0}]
[{"$f":"Datasheet!$B$2","v":""},"2021-02-07",{"$f":"COUNTIF(Datasheet!$K$2:$K$200000,\"=\"&AggregatedData!B34)","v":0},{"$f":"COUNTIFS(Datasheet!$K$2:$K$200000,\"=\"&AggregatedData!$B34,Datasheet!$C$2:$C$200000,\"Pupil\",Datasheet!$L$2:$L$200000,\"Positive\")","v":0},{"$f":"COUNTIFS(Datasheet!$K$2:$K$200000,\"=\"&AggregatedData!$B34,Datasheet!$C$2:$C$200000,\"Pupil\",Datasheet!$L$2:$L$200000,\"Negative\")","v":0},{"$f":"COUNTIFS(Datasheet!$K$2:$K$200000,\"=\"&AggregatedData!$B34,Datasheet!$C$2:$C$200000,\"Pupil\",Datasheet!$L$2:$L$200000,\"Void\")","v":0},{"$f":"COUNTIFS(Datasheet!$K$2:$K$200000,\"=\"&AggregatedData!$B34,Datasheet!$C$2:$C$200000,\"Staff\",Datasheet!$L$2:$L$200000,\"Positive\")","v":0},{"$f":"COUNTIFS(Datasheet!$K$2:$K$200000,\"=\"&AggregatedData!$B34,Datasheet!$C$2:$C$200000,\"Staff\",Datasheet!$L$2:$L$200000,\"Negative\")","v":0},{"$f":"COUNTIFS(Datasheet!$K$2:$K$200000,\"=\"&AggregatedData!$B34,Datasheet!$C$2:$C$200000,\"Staff\",Datasheet!$L$2:$L$200000,\"Void\")","v":0}]
[{"$f":"Datasheet!$B$2","v":""},"2021-02-08",{"$f":"COUNTIF(Datasheet!$K$2:$K$200000,\"=\"&AggregatedData!B35)","v":0},{"$f":"COUNTIFS(Datasheet!$K$2:$K$200000,\"=\"&AggregatedData!$B35,Datasheet!$C$2:$C$200000,\"Pupil\",Datasheet!$L$2:$L$200000,\"Positive\")","v":0},{"$f":"COUNTIFS(Datasheet!$K$2:$K$200000,\"=\"&AggregatedData!$B35,Datasheet!$C$2:$C$200000,\"Pupil\",Datasheet!$L$2:$L$200000,\"Negative\")","v":0},{"$f":"COUNTIFS(Datasheet!$K$2:$K$200000,\"=\"&AggregatedData!$B35,Datasheet!$C$2:$C$200000,\"Pupil\",Datasheet!$L$2:$L$200000,\"Void\")","v":0},{"$f":"COUNTIFS(Datasheet!$K$2:$K$200000,\"=\"&AggregatedData!$B35,Datasheet!$C$2:$C$200000,\"Staff\",Datasheet!$L$2:$L$200000,\"Positive\")","v":0},{"$f":"COUNTIFS(Datasheet!$K$2:$K$200000,\"=\"&AggregatedData!$B35,Datasheet!$C$2:$C$200000,\"Staff\",Datasheet!$L$2:$L$200000,\"Negative\")","v":0},{"$f":"COUNTIFS(Datasheet!$K$2:$K$200000,\"=\"&AggregatedData!$B35,Datasheet!$C$2:$C$200000,\"Staff\",Datasheet!$L$2:$L$200000,\"Void\")","v":0}]
[{"$f":"Datasheet!$B$2","v":""},"2021-02-09",{"$f":"COUNTIF(Datasheet!$K$2:$K$200000,\"=\"&AggregatedData!B36)","v":0},{"$f":"COUNTIFS(Datasheet!$K$2:$K$200000,\"=\"&AggregatedData!$B36,Datasheet!$C$2:$C$200000,\"Pupil\",Datasheet!$L$2:$L$200000,\"Positive\")","v":0},{"$f":"COUNTIFS(Datasheet!$K$2:$K$200000,\"=\"&AggregatedData!$B36,Datasheet!$C$2:$C$200000,\"Pupil\",Datasheet!$L$2:$L$200000,\"Negative\")","v":0},{"$f":"COUNTIFS(Datasheet!$K$2:$K$200000,\"=\"&AggregatedData!$B36,Datasheet!$C$2:$C$200000,\"Pupil\",Datasheet!$L$2:$L$200000,\"Void\")","v":0},{"$f":"COUNTIFS(Datasheet!$K$2:$K$200000,\"=\"&AggregatedData!$B36,Datasheet!$C$2:$C$200000,\"Staff\",Datasheet!$L$2:$L$200000,\"Positive\")","v":0},{"$f":"COUNTIFS(Datasheet!$K$2:$K$200000,\"=\"&AggregatedData!$B36,Datasheet!$C$2:$C$200000,\"Staff\",Datasheet!$L$2:$L$200000,\"Negative\")","v":0},{"$f":"COUNTIFS(Datasheet!$K$2:$K$200000,\"=\"&AggregatedData!$B36,Datasheet!$C$2:$C$200000,\"Staff\",Datasheet!$L$2:$L$200000,\"Void\")","v":0}]
[{"$f":"Datasheet!$B$2","v":""},"2021-02-10",{"$f":"COUNTIF(Datasheet!$K$2:$K$200000,\"=\"&AggregatedData!B37)","v":0},{"$f":"COUNTIFS(Datasheet!$K$2:$K$200000,\"=\"&AggregatedData!$B37,Datasheet!$C$2:$C$200000,\"Pupil\",Datasheet!$L$2:$L$200000,\"Positive\")","v":0},{"$f":"COUNTIFS(Datasheet!$K$2:$K$200000,\"=\"&AggregatedData!$B37,Datasheet!$C$2:$C$200000,\"Pupil\",Datasheet!$L$2:$L$200000,\"Negative\")","v":0},{"$f":"COUNTIFS(Datasheet!$K$2:$K$200000,\"=\"&AggregatedData!$B37,Datasheet!$C$2:$C$200000,\"Pupil\",Datasheet!$L$2:$L$200000,\"Void\")","v":0},{"$f":"COUNTIFS(Datasheet!$K$2:$K$200000,\"=\"&AggregatedData!$B37,Datasheet!$C$2:$C$200000,\"Staff\",Datasheet!$L$2:$L$200000,\"Positive\")","v":0},{"$f":"COUNTIFS(Datasheet!$K$2:$K$200000,\"=\"&AggregatedData!$B37,Datasheet!$C$2:$C$200000,\"Staff\",Datasheet!$L$2:$L$200000,\"Negative\")","v":0},{"$f":"COUNTIFS(Datasheet!$K$2:$K$200000,\"=\"&AggregatedData!$B37,Datasheet!$C$2:$C$200000,\"Staff\",Datasheet!$L$2:$L$200000,\"Void\")","v":0}]
[{"$f":"Datasheet!$B$2","v":""},"2021-02-11",{"$f":"COUNTIF(Datasheet!$K$2:$K$200000,\"=\"&AggregatedData!B38)","v":0},{"$f":"COUNTIFS(Datasheet!$K$2:$K$200000,\"=\"&AggregatedData!$B38,Datasheet!$C$2:$C$200000,\"Pupil\",Datasheet!$L$2:$L$200000,\"Positive\")","v":0},{"$f":"COUNTIFS(Datasheet!$K$2:$K$200000,\"=\"&AggregatedData!$B38,Datasheet!$C$2:$C$200000,\"Pupil\",Datasheet!$L$2:$L$200000,\"Negative\")","v":0},{"$f":"COUNTIFS(Datasheet!$K$2:$K$200000,\"=\"&AggregatedData!$B38,Datasheet!$C$2:$C$200000,\"Pupil\",Datasheet!$L$2:$L$200000,\"Void\")","v":0},{"$f":"COUNTIFS(Datasheet!$K$2:$K$200000,\"=\"&AggregatedData!$B38,Datasheet!$C$2:$C$200000,\"Staff\",Datasheet!$L$2:$L$200000,\"Positive\")","v":0},{"$f":"COUNTIFS(Datasheet!$K$2:$K$200000,\"=\"&AggregatedData!$B38,Datasheet!$C$2:$C$200000,\"Staff\",Datasheet!$L$2:$L$200000,\"Negative\")","v":0},{"$f":"COUNTIFS(Datasheet!$K$2:$K$200000,\"=\"&AggregatedData!$B38,Datasheet!$C$2:$C$200000,\"Staff\",Datasheet!$L$2:$L$200000,\"Void\")","v":0}]
[{"$f":"Datasheet!$B$2","v":""},"2021-02-12",{"$f":"COUNTIF(Datasheet!$K$2:$K$200000,\"=\"&AggregatedData!B39)","v":0},{"$f":"COUNTIFS(Datasheet!$K$2:$K$200000,\"=\"&AggregatedData!$B39,Datasheet!$C$2:$C$200000,\"Pupil\",Datasheet!$L$2:$L$200000,\"Positive\")","v":0},{"$f":"COUNTIFS(Datasheet!$K$2:$K$200000,\"=\"&AggregatedData!$B39,Datasheet!$C$2:$C$200000,\"Pupil\",Datasheet!$L$2:$L$200000,\"Negative\")","v":0},{"$f":"COUNTIFS(Datasheet!$K$2:$K$200000,\"=\"&AggregatedData!$B39,Datasheet!$C$2:$C$200000,\"Pupil\",Datasheet!$L$2:$L$200000,\"Void\")","v":0},{"$f":"COUNTIFS(Datasheet!$K$2:$K$200000,\"=\"&AggregatedData!$B39,Datasheet!$C$2:$C$200000,\"Staff\",Datasheet!$L$2:$L$200000,\"Positive\")","v":0},{"$f":"COUNTIFS(Datasheet!$K$2:$K$200000,\"=\"&AggregatedData!$B39,Datasheet!$C$2:$C$200000,\"Staff\",Datasheet!$L$2:$L$200000,\"Negative\")","v":0},{"$f":"COUNTIFS(Datasheet!$K$2:$K$200000,\"=\"&AggregatedData!$B39,Datasheet!$C$2:$C$200000,\"Staff\",Datasheet!$L$2:$L$200000,\"Void\")","v":0}]
[{"$f":"Datasheet!$B$2","v":""},"2021-02-13",{"$f":"COUNTIF(Datasheet!$K$2:$K$200000,\"=\"&AggregatedData!B40)","v":0},{"$f":"COUNTIFS(Datasheet!$K$2:$K$200000,\"=\"&AggregatedData!$B40,Datasheet!$C$2:$C$200000,\"Pupil\",Datasheet!$L$2:$L$200000,\"Positive\")","v":0},{"$f":"COUNTIFS(Datasheet!$K$2:$K$200000,\"=\"&AggregatedData!$B40,Datasheet!$C$2:$C$200000,\"Pupil\",Datasheet!$L$2:$L$200000,\"Negative\")","v":0},{"$f":"COUNTIFS(Datasheet!$K$2:$K$200000,\"=\"&AggregatedData!$B40,Datasheet!$C$2:$C$200000,\"Pupil\",Datasheet!$L$2:$L$200000,\"Void\")","v":0},{"$f":"COUNTIFS(Datasheet!$K$2:$K$200000,\"=\"&AggregatedData!$B40,Datasheet!$C$2:$C$200000,\"Staff\",Datasheet!$L$2:$L$200000,\"Positive\")","v":0},{"$f":"COUNTIFS(Datasheet!$K$2:$K$200000,\"=\"&AggregatedData!$B40,Datasheet!$C$2:$C$200000,\"Staff\",Datasheet!$L$2:$L$200000,\"Negative\")","v":0},{"$f":"COUNTIFS(Datasheet!$K$2:$K$200000,\"=\"&AggregatedData!$B40,Datasheet!$C$2:$C$200000,\"Staff\",Datasheet!$L$2:$L$200000,\"Void\")","v":0}]
[{"$f":"Datasheet!$B$2","v":""},"2021-02-14",{"$f":"COUNTIF(Datasheet!$K$2:$K$200000,\"=\"&AggregatedData!B41)","v":0},{"$f":"COUNTIFS(Datasheet!$K$2:$K$200000,\"=\"&AggregatedData!$B41,Datasheet!$C$2:$C$200000,\"Pupil\",Datasheet!$L$2:$L$200000,\"Positive\")","v":0},{"$f":"COUNTIFS(Datasheet!$K$2:$K$200000,\"=\"&AggregatedData!$B41,Datasheet!$C$2:$C$200000,\"Pupil\",Datasheet!$L$2:$L$200000,\"Negative\")","v":0},{"$f":"COUNTIFS(Datasheet!$K$2:$K$200000,\"=\"&AggregatedData!$B41,Datasheet!$C$2:$C$200000,\"Pupil\",Datasheet!$L$2:$L$200000,\"Void\")","v":0},{"$f":"COUNTIFS(Datasheet!$K$2:$K$200000,\"=\"&AggregatedData!$B41,Datasheet!$C$2:$C$200000,\"Staff\",Datasheet!$L$2:$L$200000,\"Positive\")","v":0},{"$f":"COUNTIFS(Datasheet!$K$2:$K$200000,\"=\"&AggregatedData!$B41,Datasheet!$C$2:$C$200000,\"Staff\",Datasheet!$L$2:$L$200000,\"Negative\")","v":0},{"$f":"COUNTIFS(Datasheet!$K$2:$K$200000,\"=\"&AggregatedData!$B41,Datasheet!$C$2:$C$200000,\"Staff\",Datasheet!$L$2:$L$200000,\"Void\")","v":0}]
[{"$f":"Datasheet!$B$2","v":""},"2021-02-15",{"$f":"COUNTIF(Datasheet!$K$2:$K$200000,\"=\"&AggregatedData!B42)","v":0},{"$f":"COUNTIFS(Datasheet!$K$2:$K$200000,\"=\"&AggregatedData!$B42,Datasheet!$C$2:$C$200000,\"Pupil\",Datasheet!$L$2:$L$200000,\"Positive\")","v":0},{"$f":"COUNTIFS(Datasheet!$K$2:$K$200000,\"=\"&AggregatedData!$B42,Datasheet!$C$2:$C$200000,\"Pupil\",Datasheet!$L$2:$L$200000,\"Negative\")","v":0},{"$f":"COUNTIFS(Datasheet!$K$2:$K$200000,\"=\"&AggregatedData!$B42,Datasheet!$C$2:$C$200000,\"Pupil\",Datasheet!$L$2:$L$200000,\"Void\")","v":0},{"$f":"COUNTIFS(Datasheet!$K$2:$K$200000,\"=\"&AggregatedData!$B42,Datasheet!$C$2:$C$200000,\"Staff\",Datasheet!$L$2:$L$200000,\"Positive\")","v":0},{"$f":"COUNTIFS(Datasheet!$K$2:$K$200000,\"=\"&AggregatedData!$B42,Datasheet!$C$2:$C$200000,\"Staff\",Datasheet!$L$2:$L$200000,\"Negative\")","v":0},{"$f":"COUNTIFS(Datasheet!$K$2:$K$200000,\"=\"&AggregatedData!$B42,Datasheet!$C$2:$C$200000,\"Staff\",Datasheet!$L$2:$L$200000,\"Void\")","v":0}]
[{"$f":"Datasheet!$B$2","v":""},"2021-02-16",{"$f":"COUNTIF(Datasheet!$K$2:$K$200000,\"=\"&AggregatedData!B43)","v":0},{"$f":"COUNTIFS(Datasheet!$K$2:$K$200000,\"=\"&AggregatedData!$B43,Datasheet!$C$2:$C$200000,\"Pupil\",Datasheet!$L$2:$L$200000,\"Positive\")","v":0},{"$f":"COUNTIFS(Datasheet!$K$2:$K$200000,\"=\"&AggregatedData!$B43,Datasheet!$C$2:$C$200000,\"Pupil\",Datasheet!$L$2:$L$200000,\"Negative\")","v":0},{"$f":"COUNTIFS(Datasheet!$K$2:$K$200000,\"=\"&AggregatedData!$B43,Datasheet!$C$2:$C$200000,\"Pupil\",Datasheet!$L$2:$L$200000,\"Void\")","v":0},{"$f":"COUNTIFS(Datasheet!$K$2:$K$200000,\"=\"&AggregatedData!$B43,Datasheet!$C$2:$C$200000,\"Staff\",Datasheet!$L$2:$L$200000,\"Positive\")","v":0},{"$f":"COUNTIFS(Datasheet!$K$2:$K$200000,\"=\"&AggregatedData!$B43,Datasheet!$C$2:$C$200000,\"Staff\",Datasheet!$L$2:$L$200000,\"Negative\")","v":0},{"$f":"COUNTIFS(Datasheet!$K$2:$K$200000,\"=\"&AggregatedData!$B43,Datasheet!$C$2:$C$200000,\"Staff\",Datasheet!$L$2:$L$200000,\"Void\")","v":0}]
[{"$f":"Datasheet!$B$2","v":""},"2021-02-17",{"$f":"COUNTIF(Datasheet!$K$2:$K$200000,\"=\"&AggregatedData!B44)","v":0},{"$f":"COUNTIFS(Datasheet!$K$2:$K$200000,\"=\"&AggregatedData!$B44,Datasheet!$C$2:$C$200000,\"Pupil\",Datasheet!$L$2:$L$200000,\"Positive\")","v":0},{"$f":"COUNTIFS(Datasheet!$K$2:$K$200000,\"=\"&AggregatedData!$B44,Datasheet!$C$2:$C$200000,\"Pupil\",Datasheet!$L$2:$L$200000,\"Negative\")","v":0},{"$f":"COUNTIFS(Datasheet!$K$2:$K$200000,\"=\"&AggregatedData!$B44,Datasheet!$C$2:$C$200000,\"Pupil\",Datasheet!$L$2:$L$200000,\"Void\")","v":0},{"$f":"COUNTIFS(Datasheet!$K$2:$K$200000,\"=\"&AggregatedData!$B44,Datasheet!$C$2:$C$200000,\"Staff\",Datasheet!$L$2:$L$200000,\"Positive\")","v":0},{"$f":"COUNTIFS(Datasheet!$K$2:$K$200000,\"=\"&AggregatedData!$B44,Datasheet!$C$2:$C$200000,\"Staff\",Datasheet!$L$2:$L$200000,\"Negative\")","v":0},{"$f":"COUNTIFS(Datasheet!$K$2:$K$200000,\"=\"&AggregatedData!$B44,Datasheet!$C$2:$C$200000,\"Staff\",Datasheet!$L$2:$L$200000,\"Void\")","v":0}]
[{"$f":"Datasheet!$B$2","v":""},"2021-02-18",{"$f":"COUNTIF(Datasheet!$K$2:$K$200000,\"=\"&AggregatedData!B45)","v":0},{"$f":"COUNTIFS(Datasheet!$K$2:$K$200000,\"=\"&AggregatedData!$B45,Datasheet!$C$2:$C$200000,\"Pupil\",Datasheet!$L$2:$L$200000,\"Positive\")","v":0},{"$f":"COUNTIFS(Datasheet!$K$2:$K$200000,\"=\"&AggregatedData!$B45,Datasheet!$C$2:$C$200000,\"Pupil\",Datasheet!$L$2:$L$200000,\"Negative\")","v":0},{"$f":"COUNTIFS(Datasheet!$K$2:$K$200000,\"=\"&AggregatedData!$B45,Datasheet!$C$2:$C$200000,\"Pupil\",Datasheet!$L$2:$L$200000,\"Void\")","v":0},{"$f":"COUNTIFS(Datasheet!$K$2:$K$200000,\"=\"&AggregatedData!$B45,Datasheet!$C$2:$C$200000,\"Staff\",Datasheet!$L$2:$L$200000,\"Positive\")","v":0},{"$f":"COUNTIFS(Datasheet!$K$2:$K$200000,\"=\"&AggregatedData!$B45,Datasheet!$C$2:$C$200000,\"Staff\",Datasheet!$L$2:$L$200000,\"Negative\")","v":0},{"$f":"COUNTIFS(Datasheet!$K$2:$K$200000,\"=\"&AggregatedData!$B45,Datasheet!$C$2:$C$200000,\"Staff\",Datasheet!$L$2:$L$200000,\"Void\")","v":0}]
[{"$f":"Datasheet!$B$2","v":""},"2021-02-19",{"$f":"COUNTIF(Datasheet!$K$2:$K$200000,\"=\"&AggregatedData!B46)","v":0},{"$f":"COUNTIFS(Datasheet!$K$2:$K$200000,\"=\"&AggregatedData!$B46,Datasheet!$C$2:$C$200000,\"Pupil\",Datasheet!$L$2:$L$200000,\"Positive\")","v":0},{"$f":"COUNTIFS(Datasheet!$K$2:$K$200000,\"=\"&AggregatedData!$B46,Datasheet!$C$2:$C$200000,\"Pupil\",Datasheet!$L$2:$L$200000,\"Negative\")","v":0},{"$f":"COUNTIFS(Datasheet!$K$2:$K$200000,\"=\"&AggregatedData!$B46,Datasheet!$C$2:$C$200000,\"Pupil\",Datasheet!$L$2:$L$200000,\"Void\")","v":0},{"$f":"COUNTIFS(Datasheet!$K$2:$K$200000,\"=\"&AggregatedData!$B46,Datasheet!$C$2:$C$200000,\"Staff\",Datasheet!$L$2:$L$200000,\"Positive\")","v":0},{"$f":"COUNTIFS(Datasheet!$K$2:$K$200000,\"=\"&AggregatedData!$B46,Datasheet!$C$2:$C$200000,\"Staff\",Datasheet!$L$2:$L$200000,\"Negative\")","v":0},{"$f":"COUNTIFS(Datasheet!$K$2:$K$200000,\"=\"&AggregatedData!$B46,Datasheet!$C$2:$C$200000,\"Staff\",Datasheet!$L$2:$L$200000,\"Void\")","v":0}]
[{"$f":"Datasheet!$B$2","v":""},"2021-02-20",{"$f":"COUNTIF(Datasheet!$K$2:$K$200000,\"=\"&AggregatedData!B47)","v":0},{"$f":"COUNTIFS(Datasheet!$K$2:$K$200000,\"=\"&AggregatedData!$B47,Datasheet!$C$2:$C$200000,\"Pupil\",Datasheet!$L$2:$L$200000,\"Positive\")","v":0},{"$f":"COUNTIFS(Datasheet!$K$2:$K$200000,\"=\"&AggregatedData!$B47,Datasheet!$C$2:$C$200000,\"Pupil\",Datasheet!$L$2:$L$200000,\"Negative\")","v":0},{"$f":"COUNTIFS(Datasheet!$K$2:$K$200000,\"=\"&AggregatedData!$B47,Datasheet!$C$2:$C$200000,\"Pupil\",Datasheet!$L$2:$L$200000,\"Void\")","v":0},{"$f":"COUNTIFS(Datasheet!$K$2:$K$200000,\"=\"&AggregatedData!$B47,Datasheet!$C$2:$C$200000,\"Staff\",Datasheet!$L$2:$L$200000,\"Positive\")","v":0},{"$f":"COUNTIFS(Datasheet!$K$2:$K$200000,\"=\"&AggregatedData!$B47,Datasheet!$C$2:$C$200000,\"Staff\",Datasheet!$L$2:$L$200000,\"Negative\")","v":0},{"$f":"COUNTIFS(Datasheet!$K$2:$K$200000,\"=\"&AggregatedData!$B47,Datasheet!$C$2:$C$200000,\"Staff\",Datasheet!$L$2:$L$200000,\"Void\")","v":0}]
[{"$f":"Datasheet!$B$2","v":""},"2021-02-21",{"$f":"COUNTIF(Datasheet!$K$2:$K$200000,\"=\"&AggregatedData!B48)","v":0},{"$f":"COUNTIFS(Datasheet!$K$2:$K$200000,\"=\"&AggregatedData!$B48,Datasheet!$C$2:$C$200000,\"Pupil\",Datasheet!$L$2:$L$200000,\"Positive\")","v":0},{"$f":"COUNTIFS(Datasheet!$K$2:$K$200000,\"=\"&AggregatedData!$B48,Datasheet!$C$2:$C$200000,\"Pupil\",Datasheet!$L$2:$L$200000,\"Negative\")","v":0},{"$f":"COUNTIFS(Datasheet!$K$2:$K$200000,\"=\"&AggregatedData!$B48,Datasheet!$C$2:$C$200000,\"Pupil\",Datasheet!$L$2:$L$200000,\"Void\")","v":0},{"$f":"COUNTIFS(Datasheet!$K$2:$K$200000,\"=\"&AggregatedData!$B48,Datasheet!$C$2:$C$200000,\"Staff\",Datasheet!$L$2:$L$200000,\"Positive\")","v":0},{"$f":"COUNTIFS(Datasheet!$K$2:$K$200000,\"=\"&AggregatedData!$B48,Datasheet!$C$2:$C$200000,\"Staff\",Datasheet!$L$2:$L$200000,\"Negative\")","v":0},{"$f":"COUNTIFS(Datasheet!$K$2:$K$200000,\"=\"&AggregatedData!$B48,Datasheet!$C$2:$C$200000,\"Staff\",Datasheet!$L$2:$L$200000,\"Void\")","v":0}]
[{"$f":"Datasheet!$B$2","v":""},"2021-02-22",{"$f":"COUNTIF(Datasheet!$K$2:$K$200000,\"=\"&AggregatedData!B49)","v":0},{"$f":"COUNTIFS(Datasheet!$K$2:$K$200000,\"=\"&AggregatedData!$B49,Datasheet!$C$2:$C$200000,\"Pupil\",Datasheet!$L$2:$L$200000,\"Positive\")","v":0},{"$f":"COUNTIFS(Datasheet!$K$2:$K$200000,\"=\"&AggregatedData!$B49,Datasheet!$C$2:$C$200000,\"Pupil\",Datasheet!$L$2:$L$200000,\"Negative\")","v":0},{"$f":"COUNTIFS(Datasheet!$K$2:$K$200000,\"=\"&AggregatedData!$B49,Datasheet!$C$2:$C$200000,\"Pupil\",Datasheet!$L$2:$L$200000,\"Void\")","v":0},{"$f":"COUNTIFS(Datasheet!$K$2:$K$200000,\"=\"&AggregatedData!$B49,Datasheet!$C$2:$C$200000,\"Staff\",Datasheet!$L$2:$L$200000,\"Positive\")","v":0},{"$f":"COUNTIFS(Datasheet!$K$2:$K$200000,\"=\"&AggregatedData!$B49,Datasheet!$C$2:$C$200000,\"Staff\",Datasheet!$L$2:$L$200000,\"Negative\")","v":0},{"$f":"COUNTIFS(Datasheet!$K$2:$K$200000,\"=\"&AggregatedData!$B49,Datasheet!$C$2:$C$200000,\"Staff\",Datasheet!$L$2:$L$200000,\"Void\")","v":0}]
[{"$f":"Datasheet!$B$2","v":""},"2021-02-23",{"$f":"COUNTIF(Datasheet!$K$2:$K$200000,\"=\"&AggregatedData!B50)","v":0},{"$f":"COUNTIFS(Datasheet!$K$2:$K$200000,\"=\"&AggregatedData!$B50,Datasheet!$C$2:$C$200000,\"Pupil\",Datasheet!$L$2:$L$200000,\"Positive\")","v":0},{"$f":"COUNTIFS(Datasheet!$K$2:$K$200000,\"=\"&AggregatedData!$B50,Datasheet!$C$2:$C$200000,\"Pupil\",Datasheet!$L$2:$L$200000,\"Negative\")","v":0},{"$f":"COUNTIFS(Datasheet!$K$2:$K$200000,\"=\"&AggregatedData!$B50,Datasheet!$C$2:$C$200000,\"Pupil\",Datasheet!$L$2:$L$200000,\"Void\")","v":0},{"$f":"COUNTIFS(Datasheet!$K$2:$K$200000,\"=\"&AggregatedData!$B50,Datasheet!$C$2:$C$200000,\"Staff\",Datasheet!$L$2:$L$200000,\"Positive\")","v":0},{"$f":"COUNTIFS(Datasheet!$K$2:$K$200000,\"=\"&AggregatedData!$B50,Datasheet!$C$2:$C$200000,\"Staff\",Datasheet!$L$2:$L$200000,\"Negative\")","v":0},{"$f":"COUNTIFS(Datasheet!$K$2:$K$200000,\"=\"&AggregatedData!$B50,Datasheet!$C$2:$C$200000,\"Staff\",Datasheet!$L$2:$L$200000,\"Void\")","v":0}]
[{"$f":"Datasheet!$B$2","v":""},"2021-02-24",{"$f":"COUNTIF(Datasheet!$K$2:$K$200000,\"=\"&AggregatedData!B51)","v":0},{"$f":"COUNTIFS(Datasheet!$K$2:$K$200000,\"=\"&AggregatedData!$B51,Datasheet!$C$2:$C$200000,\"Pupil\",Datasheet!$L$2:$L$200000,\"Positive\")","v":0},{"$f":"COUNTIFS(Datasheet!$K$2:$K$200000,\"=\"&AggregatedData!$B51,Datasheet!$C$2:$C$200000,\"Pupil\",Datasheet!$L$2:$L$200000,\"Negative\")","v":0},{"$f":"COUNTIFS(Datasheet!$K$2:$K$200000,\"=\"&AggregatedData!$B51,Datasheet!$C$2:$C$200000,\"Pupil\",Datasheet!$L$2:$L$200000,\"Void\")","v":0},{"$f":"COUNTIFS(Datasheet!$K$2:$K$200000,\"=\"&AggregatedData!$B51,Datasheet!$C$2:$C$200000,\"Staff\",Datasheet!$L$2:$L$200000,\"Positive\")","v":0},{"$f":"COUNTIFS(Datasheet!$K$2:$K$200000,\"=\"&AggregatedData!$B51,Datasheet!$C$2:$C$200000,\"Staff\",Datasheet!$L$2:$L$200000,\"Negative\")","v":0},{"$f":"COUNTIFS(Datasheet!$K$2:$K$200000,\"=\"&AggregatedData!$B51,Datasheet!$C$2:$C$200000,\"Staff\",Datasheet!$L$2:$L$200000,\"Void\")","v":0}]
[{"$f":"Datasheet!$B$2","v":""},"2021-02-25",{"$f":"COUNTIF(Datasheet!$K$2:$K$200000,\"=\"&AggregatedData!B52)","v":0},{"$f":"COUNTIFS(Datasheet!$K$2:$K$200000,\"=\"&AggregatedData!$B52,Datasheet!$C$2:$C$200000,\"Pupil\",Datasheet!$L$2:$L$200000,\"Positive\")","v":0},{"$f":"COUNTIFS(Datasheet!$K$2:$K$200000,\"=\"&AggregatedData!$B52,Datasheet!$C$2:$C$200000,\"Pupil\",Datasheet!$L$2:$L$200000,\"Negative\")","v":0},{"$f":"COUNTIFS(Datasheet!$K$2:$K$200000,\"=\"&AggregatedData!$B52,Datasheet!$C$2:$C$200000,\"Pupil\",Datasheet!$L$2:$L$200000,\"Void\")","v":0},{"$f":"COUNTIFS(Datasheet!$K$2:$K$200000,\"=\"&AggregatedData!$B52,Datasheet!$C$2:$C$200000,\"Staff\",Datasheet!$L$2:$L$200000,\"Positive\")","v":0},{"$f":"COUNTIFS(Datasheet!$K$2:$K$200000,\"=\"&AggregatedData!$B52,Datasheet!$C$2:$C$200000,\"Staff\",Datasheet!$L$2:$L$200000,\"Negative\")","v":0},{"$f":"COUNTIFS(Datasheet!$K$2:$K$200000,\"=\"&AggregatedData!$B52,Datasheet!$C$2:$C$200000,\"Staff\",Datasheet!$L$2:$L$200000,\"Void\")","v":0}]
[{"$f":"Datasheet!$B$2","v":""},"2021-02-26",{"$f":"COUNTIF(Datasheet!$K$2:$K$200000,\"=\"&AggregatedData!B53)","v":0},{"$f":"COUNTIFS(Datasheet!$K$2:$K$200000,\"=\"&AggregatedData!$B53,Datasheet!$C$2:$C$200000,\"Pupil\",Datasheet!$L$2:$L$200000,\"Positive\")","v":0},{"$f":"COUNTIFS(Datasheet!$K$2:$K$200000,\"=\"&AggregatedData!$B53,Datasheet!$C$2:$C$200000,\"Pupil\",Datasheet!$L$2:$L$200000,\"Negative\")","v":0},{"$f":"COUNTIFS(Datasheet!$K$2:$K$200000,\"=\"&AggregatedData!$B53,Datasheet!$C$2:$C$200000,\"Pupil\",Datasheet!$L$2:$L$200000,\"Void\")","v":0},{"$f":"COUNTIFS(Datasheet!$K$2:$K$200000,\"=\"&AggregatedData!$B53,Datasheet!$C$2:$C$200000,\"Staff\",Datasheet!$L$2:$L$200000,\"Positive\")","v":0},{"$f":"COUNTIFS(Datasheet!$K$2:$K$200000,\"=\"&AggregatedData!$B53,Datasheet!$C$2:$C$200000,\"Staff\",Datasheet!$L$2:$L$200000,\"Negative\")","v":0},{"$f":"COUNTIFS(Datasheet!$K$2:$K$200000,\"=\"&AggregatedData!$B53,Datasheet!$C$2:$C$200000,\"Staff\",Datasheet!$L$2:$L$200000,\"Void\")","v":0}]
[{"$f":"Datasheet!$B$2","v":""},"2021-02-27",{"$f":"COUNTIF(Datasheet!$K$2:$K$200000,\"=\"&AggregatedData!B54)","v":0},{"$f":"COUNTIFS(Datasheet!$K$2:$K$200000,\"=\"&AggregatedData!$B54,Datasheet!$C$2:$C$200000,\"Pupil\",Datasheet!$L$2:$L$200000,\"Positive\")","v":0},{"$f":"COUNTIFS(Datasheet!$K$2:$K$200000,\"=\"&AggregatedData!$B54,Datasheet!$C$2:$C$200000,\"Pupil\",Datasheet!$L$2:$L$200000,\"Negative\")","v":0},{"$f":"COUNTIFS(Datasheet!$K$2:$K$200000,\"=\"&AggregatedData!$B54,Datasheet!$C$2:$C$200000,\"Pupil\",Datasheet!$L$2:$L$200000,\"Void\")","v":0},{"$f":"COUNTIFS(Datasheet!$K$2:$K$200000,\"=\"&AggregatedData!$B54,Datasheet!$C$2:$C$200000,\"Staff\",Datasheet!$L$2:$L$200000,\"Positive\")","v":0},{"$f":"COUNTIFS(Datasheet!$K$2:$K$200000,\"=\"&AggregatedData!$B54,Datasheet!$C$2:$C$200000,\"Staff\",Datasheet!$L$2:$L$200000,\"Negative\")","v":0},{"$f":"COUNTIFS(Datasheet!$K$2:$K$200000,\"=\"&AggregatedData!$B54,Datasheet!$C$2:$C$200000,\"Staff\",Datasheet!$L$2:$L$200000,\"Void\")","v":0}]
[{"$f":"Datasheet!$B$2","v":""},"2021-02-28",{"$f":"COUNTIF(Datasheet!$K$2:$K$200000,\"=\"&AggregatedData!B55)","v":0},{"$f":"COUNTIFS(Datasheet!$K$2:$K$200000,\"=\"&AggregatedData!$B55,Datasheet!$C$2:$C$200000,\"Pupil\",Datasheet!$L$2:$L$200000,\"Positive\")","v":0},{"$f":"COUNTIFS(Datasheet!$K$2:$K$200000,\"=\"&AggregatedData!$B55,Datasheet!$C$2:$C$200000,\"Pupil\",Datasheet!$L$2:$L$200000,\"Negative\")","v":0},{"$f":"COUNTIFS(Datasheet!$K$2:$K$200000,\"=\"&AggregatedData!$B55,Datasheet!$C$2:$C$200000,\"Pupil\",Datasheet!$L$2:$L$200000,\"Void\")","v":0},{"$f":"COUNTIFS(Datasheet!$K$2:$K$200000,\"=\"&AggregatedData!$B55,Datasheet!$C$2:$C$200000,\"Staff\",Datasheet!$L$2:$L$200000,\"Positive\")","v":0},{"$f":"COUNTIFS(Datasheet!$K$2:$K$200000,\"=\"&AggregatedData!$B55,Datasheet!$C$2:$C$200000,\"Staff\",Datasheet!$L$2:$L$200000,\"Negative\")","v":0},{"$f":"COUNTIFS(Datasheet!$K$2:$K$200000,\"=\"&AggregatedData!$B55,Datasheet!$C$2:$C$200000,\"Staff\",Datasheet!$L$2:$L$200000,\"Void\")","v":0}]
[{"$f":"Datasheet!$B$2","v":""},"2021-03-01",{"$f":"COUNTIF(Datasheet!$K$2:$K$200000,\"=\"&AggregatedData!B56)","v":0},{"$f":"COUNTIFS(Datasheet!$K$2:$K$200000,\"=\"&AggregatedData!$B56,Datasheet!$C$2:$C$200000,\"Pupil\",Datasheet!$L$2:$L$200000,\"Positive\")","v":0},{"$f":"COUNTIFS(Datasheet!$K$2:$K$200000,\"=\"&AggregatedData!$B56,Datasheet!$C$2:$C$200000,\"Pupil\",Datasheet!$L$2:$L$200000,\"Negative\")","v":0},{"$f":"COUNTIFS(Datasheet!$K$2:$K$200000,\"=\"&AggregatedData!$B56,Datasheet!$C$2:$C$200000,\"Pupil\",Datasheet!$L$2:$L$200000,\"Void\")","v":0},{"$f":"COUNTIFS(Datasheet!$K$2:$K$200000,\"=\"&AggregatedData!$B56,Datasheet!$C$2:$C$200000,\"Staff\",Datasheet!$L$2:$L$200000,\"Positive\")","v":0},{"$f":"COUNTIFS(Datasheet!$K$2:$K$200000,\"=\"&AggregatedData!$B56,Datasheet!$C$2:$C$200000,\"Staff\",Datasheet!$L$2:$L$200000,\"Negative\")","v":0},{"$f":"COUNTIFS(Datasheet!$K$2:$K$200000,\"=\"&AggregatedData!$B56,Datasheet!$C$2:$C$200000,\"Staff\",Datasheet!$L$2:$L$200000,\"Void\")","v":0}]
[{"$f":"Datasheet!$B$2","v":""},"2021-03-02",{"$f":"COUNTIF(Datasheet!$K$2:$K$200000,\"=\"&AggregatedData!B57)","v":0},{"$f":"COUNTIFS(Datasheet!$K$2:$K$200000,\"=\"&AggregatedData!$B57,Datasheet!$C$2:$C$200000,\"Pupil\",Datasheet!$L$2:$L$200000,\"Positive\")","v":0},{"$f":"COUNTIFS(Datasheet!$K$2:$K$200000,\"=\"&AggregatedData!$B57,Datasheet!$C$2:$C$200000,\"Pupil\",Datasheet!$L$2:$L$200000,\"Negative\")","v":0},{"$f":"COUNTIFS(Datasheet!$K$2:$K$200000,\"=\"&AggregatedData!$B57,Datasheet!$C$2:$C$200000,\"Pupil\",Datasheet!$L$2:$L$200000,\"Void\")","v":0},{"$f":"COUNTIFS(Datasheet!$K$2:$K$200000,\"=\"&AggregatedData!$B57,Datasheet!$C$2:$C$200000,\"Staff\",Datasheet!$L$2:$L$200000,\"Positive\")","v":0},{"$f":"COUNTIFS(Datasheet!$K$2:$K$200000,\"=\"&AggregatedData!$B57,Datasheet!$C$2:$C$200000,\"Staff\",Datasheet!$L$2:$L$200000,\"Negative\")","v":0},{"$f":"COUNTIFS(Datasheet!$K$2:$K$200000,\"=\"&AggregatedData!$B57,Datasheet!$C$2:$C$200000,\"Staff\",Datasheet!$L$2:$L$200000,\"Void\")","v":0}]
[{"$f":"Datasheet!$B$2","v":""},"2021-03-03",{"$f":"COUNTIF(Datasheet!$K$2:$K$200000,\"=\"&AggregatedData!B58)","v":0},{"$f":"COUNTIFS(Datasheet!$K$2:$K$200000,\"=\"&AggregatedData!$B58,Datasheet!$C$2:$C$200000,\"Pupil\",Datasheet!$L$2:$L$200000,\"Positive\")","v":0},{"$f":"COUNTIFS(Datasheet!$K$2:$K$200000,\"=\"&AggregatedData!$B58,Datasheet!$C$2:$C$200000,\"Pupil\",Datasheet!$L$2:$L$200000,\"Negative\")","v":0},{"$f":"COUNTIFS(Datasheet!$K$2:$K$200000,\"=\"&AggregatedData!$B58,Datasheet!$C$2:$C$200000,\"Pupil\",Datasheet!$L$2:$L$200000,\"Void\")","v":0},{"$f":"COUNTIFS(Datasheet!$K$2:$K$200000,\"=\"&AggregatedData!$B58,Datasheet!$C$2:$C$200000,\"Staff\",Datasheet!$L$2:$L$200000,\"Positive\")","v":0},{"$f":"COUNTIFS(Datasheet!$K$2:$K$200000,\"=\"&AggregatedData!$B58,Datasheet!$C$2:$C$200000,\"Staff\",Datasheet!$L$2:$L$200000,\"Negative\")","v":0},{"$f":"COUNTIFS(Datasheet!$K$2:$K$200000,\"=\"&AggregatedData!$B58,Datasheet!$C$2:$C$200000,\"Staff\",Datasheet!$L$2:$L$200000,\"Void\")","v":0}]
[{"$f":"Datasheet!$B$2","v":""},"2021-03-04",{"$f":"COUNTIF(Datasheet!$K$2:$K$200000,\"=\"&AggregatedData!B59)","v":0},{"$f":"COUNTIFS(Datasheet!$K$2:$K$200000,\"=\"&AggregatedData!$B59,Datasheet!$C$2:$C$200000,\"Pupil\",Datasheet!$L$2:$L$200000,\"Positive\")","v":0},{"$f":"COUNTIFS(Datasheet!$K$2:$K$200000,\"=\"&AggregatedData!$B59,Datasheet!$C$2:$C$200000,\"Pupil\",Datasheet!$L$2:$L$200000,\"Negative\")","v":0},{"$f":"COUNTIFS(Datasheet!$K$2:$K$200000,\"=\"&AggregatedData!$B59,Datasheet!$C$2:$C$200000,\"Pupil\",Datasheet!$L$2:$L$200000,\"Void\")","v":0},{"$f":"COUNTIFS(Datasheet!$K$2:$K$200000,\"=\"&AggregatedData!$B59,Datasheet!$C$2:$C$200000,\"Staff\",Datasheet!$L$2:$L$200000,\"Positive\")","v":0},{"$f":"COUNTIFS(Datasheet!$K$2:$K$200000,\"=\"&AggregatedData!$B59,Datasheet!$C$2:$C$200000,\"Staff\",Datasheet!$L$2:$L$200000,\"Negative\")","v":0},{"$f":"COUNTIFS(Datasheet!$K$2:$K$200000,\"=\"&AggregatedData!$B59,Datasheet!$C$2:$C$200000,\"Staff\",Datasheet!$L$2:$L$200000,\"Void\")","v":0}]
[{"$f":"Datasheet!$B$2","v":""},"2021-03-05",{"$f":"COUNTIF(Datasheet!$K$2:$K$200000,\"=\"&AggregatedData!B60)","v":0},{"$f":"COUNTIFS(Datasheet!$K$2:$K$200000,\"=\"&AggregatedData!$B60,Datasheet!$C$2:$C$200000,\"Pupil\",Datasheet!$L$2:$L$200000,\"Positive\")","v":0},{"$f":"COUNTIFS(Datasheet!$K$2:$K$200000,\"=\"&AggregatedData!$B60,Datasheet!$C$2:$C$200000,\"Pupil\",Datasheet!$L$2:$L$200000,\"Negative\")","v":0},{"$f":"COUNTIFS(Datasheet!$K$2:$K$200000,\"=\"&AggregatedData!$B60,Datasheet!$C$2:$C$200000,\"Pupil\",Datasheet!$L$2:$L$200000,\"Void\")","v":0},{"$f":"COUNTIFS(Datasheet!$K$2:$K$200000,\"=\"&AggregatedData!$B60,Datasheet!$C$2:$C$200000,\"Staff\",Datasheet!$L$2:$L$200000,\"Positive\")","v":0},{"$f":"COUNTIFS(Datasheet!$K$2:$K$200000,\"=\"&AggregatedData!$B60,Datasheet!$C$2:$C$200000,\"Staff\",Datasheet!$L$2:$L$200000,\"Negative\")","v":0},{"$f":"COUNTIFS(Datasheet!$K$2:$K$200000,\"=\"&AggregatedData!$B60,Datasheet!$C$2:$C$200000,\"Staff\",Datasheet!$L$2:$L$200000,\"Void\")","v":0}]
[{"$f":"Datasheet!$B$2","v":""},"2021-03-06",{"$f":"COUNTIF(Datasheet!$K$2:$K$200000,\"=\"&AggregatedData!B61)","v":0},{"$f":"COUNTIFS(Datasheet!$K$2:$K$200000,\"=\"&AggregatedData!$B61,Datasheet!$C$2:$C$200000,\"Pupil\",Datasheet!$L$2:$L$200000,\"Positive\")","v":0},{"$f":"COUNTIFS(Datasheet!$K$2:$K$200000,\"=\"&AggregatedData!$B61,Datasheet!$C$2:$C$200000,\"Pupil\",Datasheet!$L$2:$L$200000,\"Negative\")","v":0},{"$f":"COUNTIFS(Datasheet!$K$2:$K$200000,\"=\"&AggregatedData!$B61,Datasheet!$C$2:$C$200000,\"Pupil\",Datasheet!$L$2:$L$200000,\"Void\")","v":0},{"$f":"COUNTIFS(Datasheet!$K$2:$K$200000,\"=\"&AggregatedData!$B61,Datasheet!$C$2:$C$200000,\"Staff\",Datasheet!$L$2:$L$200000,\"Positive\")","v":0},{"$f":"COUNTIFS(Datasheet!$K$2:$K$200000,\"=\"&AggregatedData!$B61,Datasheet!$C$2:$C$200000,\"Staff\",Datasheet!$L$2:$L$200000,\"Negative\")","v":0},{"$f":"COUNTIFS(Datasheet!$K$2:$K$200000,\"=\"&AggregatedData!$B61,Datasheet!$C$2:$C$200000,\"Staff\",Datasheet!$L$2:$L$200000,\"Void\")","v":0}]
[{"$f":"Datasheet!$B$2","v":""},"2021-03-07",{"$f":"COUNTIF(Datasheet!$K$2:$K$200000,\"=\"&AggregatedData!B62)","v":0},{"$f":"COUNTIFS(Datasheet!$K$2:$K$200000,\"=\"&AggregatedData!$B62,Datasheet!$C$2:$C$200000,\"Pupil\",Datasheet!$L$2:$L$200000,\"Positive\")","v":0},{"$f":"COUNTIFS(Datasheet!$K$2:$K$200000,\"=\"&AggregatedData!$B62,Datasheet!$C$2:$C$200000,\"Pupil\",Datasheet!$L$2:$L$200000,\"Negative\")","v":0},{"$f":"COUNTIFS(Datasheet!$K$2:$K$200000,\"=\"&AggregatedData!$B62,Datasheet!$C$2:$C$200000,\"Pupil\",Datasheet!$L$2:$L$200000,\"Void\")","v":0},{"$f":"COUNTIFS(Datasheet!$K$2:$K$200000,\"=\"&AggregatedData!$B62,Datasheet!$C$2:$C$200000,\"Staff\",Datasheet!$L$2:$L$200000,\"Positive\")","v":0},{"$f":"COUNTIFS(Datasheet!$K$2:$K$200000,\"=\"&AggregatedData!$B62,Datasheet!$C$2:$C$200000,\"Staff\",Datasheet!$L$2:$L$200000,\"Negative\")","v":0},{"$f":"COUNTIFS(Datasheet!$K$2:$K$200000,\"=\"&AggregatedData!$B62,Datasheet!$C$2:$C$200000,\"Staff\",Datasheet!$L$2:$L$200000,\"Void\")","v":0}]
[{"$f":"Datasheet!$B$2","v":""},"2021-03-08",{"$f":"COUNTIF(Datasheet!$K$2:$K$200000,\"=\"&AggregatedData!B63)","v":0},{"$f":"COUNTIFS(Datasheet!$K$2:$K$200000,\"=\"&AggregatedData!$B63,Datasheet!$C$2:$C$200000,\"Pupil\",Datasheet!$L$2:$L$200000,\"Positive\")","v":0},{"$f":"COUNTIFS(Datasheet!$K$2:$K$200000,\"=\"&AggregatedData!$B63,Datasheet!$C$2:$C$200000,\"Pupil\",Datasheet!$L$2:$L$200000,\"Negative\")","v":0},{"$f":"COUNTIFS(Datasheet!$K$2:$K$200000,\"=\"&AggregatedData!$B63,Datasheet!$C$2:$C$200000,\"Pupil\",Datasheet!$L$2:$L$200000,\"Void\")","v":0},{"$f":"COUNTIFS(Datasheet!$K$2:$K$200000,\"=\"&AggregatedData!$B63,Datasheet!$C$2:$C$200000,\"Staff\",Datasheet!$L$2:$L$200000,\"Positive\")","v":0},{"$f":"COUNTIFS(Datasheet!$K$2:$K$200000,\"=\"&AggregatedData!$B63,Datasheet!$C$2:$C$200000,\"Staff\",Datasheet!$L$2:$L$200000,\"Negative\")","v":0},{"$f":"COUNTIFS(Datasheet!$K$2:$K$200000,\"=\"&AggregatedData!$B63,Datasheet!$C$2:$C$200000,\"Staff\",Datasheet!$L$2:$L$200000,\"Void\")","v":0}]
[{"$f":"Datasheet!$B$2","v":""},"2021-03-09",{"$f":"COUNTIF(Datasheet!$K$2:$K$200000,\"=\"&AggregatedData!B64)","v":0},{"$f":"COUNTIFS(Datasheet!$K$2:$K$200000,\"=\"&AggregatedData!$B64,Datasheet!$C$2:$C$200000,\"Pupil\",Datasheet!$L$2:$L$200000,\"Positive\")","v":0},{"$f":"COUNTIFS(Datasheet!$K$2:$K$200000,\"=\"&AggregatedData!$B64,Datasheet!$C$2:$C$200000,\"Pupil\",Datasheet!$L$2:$L$200000,\"Negative\")","v":0},{"$f":"COUNTIFS(Datasheet!$K$2:$K$200000,\"=\"&AggregatedData!$B64,Datasheet!$C$2:$C$200000,\"Pupil\",Datasheet!$L$2:$L$200000,\"Void\")","v":0},{"$f":"COUNTIFS(Datasheet!$K$2:$K$200000,\"=\"&AggregatedData!$B64,Datasheet!$C$2:$C$200000,\"Staff\",Datasheet!$L$2:$L$200000,\"Positive\")","v":0},{"$f":"COUNTIFS(Datasheet!$K$2:$K$200000,\"=\"&AggregatedData!$B64,Datasheet!$C$2:$C$200000,\"Staff\",Datasheet!$L$2:$L$200000,\"Negative\")","v":0},{"$f":"COUNTIFS(Datasheet!$K$2:$K$200000,\"=\"&AggregatedData!$B64,Datasheet!$C$2:$C$200000,\"Staff\",Datasheet!$L$2:$L$200000,\"Void\")","v":0}]
[{"$f":"Datasheet!$B$2","v":""},"2021-03-10",{"$f":"COUNTIF(Datasheet!$K$2:$K$200000,\"=\"&AggregatedData!B65)","v":0},{"$f":"COUNTIFS(Datasheet!$K$2:$K$200000,\"=\"&AggregatedData!$B65,Datasheet!$C$2:$C$200000,\"Pupil\",Datasheet!$L$2:$L$200000,\"Positive\")","v":0},{"$f":"COUNTIFS(Datasheet!$K$2:$K$200000,\"=\"&AggregatedData!$B65,Datasheet!$C$2:$C$200000,\"Pupil\",Datasheet!$L$2:$L$200000,\"Negative\")","v":0},{"$f":"COUNTIFS(Datasheet!$K$2:$K$200000,\"=\"&AggregatedData!$B65,Datasheet!$C$2:$C$200000,\"Pupil\",Datasheet!$L$2:$L$200000,\"Void\")","v":0},{"$f":"COUNTIFS(Datasheet!$K$2:$K$200000,\"=\"&AggregatedData!$B65,Datasheet!$C$2:$C$200000,\"Staff\",Datasheet!$L$2:$L$200000,\"Positive\")","v":0},{"$f":"COUNTIFS(Datasheet!$K$2:$K$200000,\"=\"&AggregatedData!$B65,Datasheet!$C$2:$C$200000,\"Staff\",Datasheet!$L$2:$L$200000,\"Negative\")","v":0},{"$f":"COUNTIFS(Datasheet!$K$2:$K$200000,\"=\"&AggregatedData!$B65,Datasheet!$C$2:$C$200000,\"Staff\",Datasheet!$L$2:$L$200000,\"Void\")","v":0}]
[{"$f":"Datasheet!$B$2","v":""},"2021-03-11",{"$f":"COUNTIF(Datasheet!$K$2:$K$200000,\"=\"&AggregatedData!B66)","v":0},{"$f":"COUNTIFS(Datasheet!$K$2:$K$200000,\"=\"&AggregatedData!$B66,Datasheet!$C$2:$C$200000,\"Pupil\",Datasheet!$L$2:$L$200000,\"Positive\")","v":0},{"$f":"COUNTIFS(Datasheet!$K$2:$K$200000,\"=\"&AggregatedData!$B66,Datasheet!$C$2:$C$200000,\"Pupil\",Datasheet!$L$2:$L$200000,\"Negative\")","v":0},{"$f":"COUNTIFS(Datasheet!$K$2:$K$200000,\"=\"&AggregatedData!$B66,Datasheet!$C$2:$C$200000,\"Pupil\",Datasheet!$L$2:$L$200000,\"Void\")","v":0},{"$f":"COUNTIFS(Datasheet!$K$2:$K$200000,\"=\"&AggregatedData!$B66,Datasheet!$C$2:$C$200000,\"Staff\",Datasheet!$L$2:$L$200000,\"Positive\")","v":0},{"$f":"COUNTIFS(Datasheet!$K$2:$K$200000,\"=\"&AggregatedData!$B66,Datasheet!$C$2:$C$200000,\"Staff\",Datasheet!$L$2:$L$200000,\"Negative\")","v":0},{"$f":"COUNTIFS(Datasheet!$K$2:$K$200000,\"=\"&AggregatedData!$B66,Datasheet!$C$2:$C$200000,\"Staff\",Datasheet!$L$2:$L$200000,\"Void\")","v":0}]
[{"$f":"Datasheet!$B$2","v":""},"2021-03-12",{"$f":"COUNTIF(Datasheet!$K$2:$K$200000,\"=\"&AggregatedData!B67)","v":0},{"$f":"COUNTIFS(Datasheet!$K$2:$K$200000,\"=\"&AggregatedData!$B67,Datasheet!$C$2:$C$200000,\"Pupil\",Datasheet!$L$2:$L$200000,\"Positive\")","v":0},{"$f":"COUNTIFS(Datasheet!$K$2:$K$200000,\"=\"&AggregatedData!$B67,Datasheet!$C$2:$C$200000,\"Pupil\",Datasheet!$L$2:$L$200000,\"Negative\")","v":0},{"$f":"COUNTIFS(Datasheet!$K$2:$K$200000,\"=\"&AggregatedData!$B67,Datasheet!$C$2:$C$200000,\"Pupil\",Datasheet!$L$2:$L$200000,\"Void\")","v":0},{"$f":"COUNTIFS(Datasheet!$K$2:$K$200000,\"=\"&AggregatedData!$B67,Datasheet!$C$2:$C$200000,\"Staff\",Datasheet!$L$2:$L$200000,\"Positive\")","v":0},{"$f":"COUNTIFS(Datasheet!$K$2:$K$200000,\"=\"&AggregatedData!$B67,Datasheet!$C$2:$C$200000,\"Staff\",Datasheet!$L$2:$L$200000,\"Negative\")","v":0},{"$f":"COUNTIFS(Datasheet!$K$2:$K$200000,\"=\"&AggregatedData!$B67,Datasheet!$C$2:$C$200000,\"Staff\",Datasheet!$L$2:$L$200000,\"Void\")","v":0}]
[{"$f":"Datasheet!$B$2","v":""},"2021-03-13",{"$f":"COUNTIF(Datasheet!$K$2:$K$200000,\"=\"&AggregatedData!B68)","v":0},{"$f":"COUNTIFS(Datasheet!$K$2:$K$200000,\"=\"&AggregatedData!$B68,Datasheet!$C$2:$C$200000,\"Pupil\",Datasheet!$L$2:$L$200000,\"Positive\")","v":0},{"$f":"COUNTIFS(Datasheet!$K$2:$K$200000,\"=\"&AggregatedData!$B68,Datasheet!$C$2:$C$200000,\"Pupil\",Datasheet!$L$2:$L$200000,\"Negative\")","v":0},{"$f":"COUNTIFS(Datasheet!$K$2:$K$200000,\"=\"&AggregatedData!$B68,Datasheet!$C$2:$C$200000,\"Pupil\",Datasheet!$L$2:$L$200000,\"Void\")","v":0},{"$f":"COUNTIFS(Datasheet!$K$2:$K$200000,\"=\"&AggregatedData!$B68,Datasheet!$C$2:$C$200000,\"Staff\",Datasheet!$L$2:$L$200000,\"Positive\")","v":0},{"$f":"COUNTIFS(Datasheet!$K$2:$K$200000,\"=\"&AggregatedData!$B68,Datasheet!$C$2:$C$200000,\"Staff\",Datasheet!$L$2:$L$200000,\"Negative\")","v":0},{"$f":"COUNTIFS(Datasheet!$K$2:$K$200000,\"=\"&AggregatedData!$B68,Datasheet!$C$2:$C$200000,\"Staff\",Datasheet!$L$2:$L$200000,\"Void\")","v":0}]
[{"$f":"Datasheet!$B$2","v":""},"2021-03-14",{"$f":"COUNTIF(Datasheet!$K$2:$K$200000,\"=\"&AggregatedData!B69)","v":0},{"$f":"COUNTIFS(Datasheet!$K$2:$K$200000,\"=\"&AggregatedData!$B69,Datasheet!$C$2:$C$200000,\"Pupil\",Datasheet!$L$2:$L$200000,\"Positive\")","v":0},{"$f":"COUNTIFS(Datasheet!$K$2:$K$200000,\"=\"&AggregatedData!$B69,Datasheet!$C$2:$C$200000,\"Pupil\",Datasheet!$L$2:$L$200000,\"Negative\")","v":0},{"$f":"COUNTIFS(Datasheet!$K$2:$K$200000,\"=\"&AggregatedData!$B69,Datasheet!$C$2:$C$200000,\"Pupil\",Datasheet!$L$2:$L$200000,\"Void\")","v":0},{"$f":"COUNTIFS(Datasheet!$K$2:$K$200000,\"=\"&AggregatedData!$B69,Datasheet!$C$2:$C$200000,\"Staff\",Datasheet!$L$2:$L$200000,\"Positive\")","v":0},{"$f":"COUNTIFS(Datasheet!$K$2:$K$200000,\"=\"&AggregatedData!$B69,Datasheet!$C$2:$C$200000,\"Staff\",Datasheet!$L$2:$L$200000,\"Negative\")","v":0},{"$f":"COUNTIFS(Datasheet!$K$2:$K$200000,\"=\"&AggregatedData!$B69,Datasheet!$C$2:$C$200000,\"Staff\",Datasheet!$L$2:$L$200000,\"Void\")","v":0}]
[{"$f":"Datasheet!$B$2","v":""},"2021-03-15",{"$f":"COUNTIF(Datasheet!$K$2:$K$200000,\"=\"&AggregatedData!B70)","v":0},{"$f":"COUNTIFS(Datasheet!$K$2:$K$200000,\"=\"&AggregatedData!$B70,Datasheet!$C$2:$C$200000,\"Pupil\",Datasheet!$L$2:$L$200000,\"Positive\")","v":0},{"$f":"COUNTIFS(Datasheet!$K$2:$K$200000,\"=\"&AggregatedData!$B70,Datasheet!$C$2:$C$200000,\"Pupil\",Datasheet!$L$2:$L$200000,\"Negative\")","v":0},{"$f":"COUNTIFS(Datasheet!$K$2:$K$200000,\"=\"&AggregatedData!$B70,Datasheet!$C$2:$C$200000,\"Pupil\",Datasheet!$L$2:$L$200000,\"Void\")","v":0},{"$f":"COUNTIFS(Datasheet!$K$2:$K$200000,\"=\"&AggregatedData!$B70,Datasheet!$C$2:$C$200000,\"Staff\",Datasheet!$L$2:$L$200000,\"Positive\")","v":0},{"$f":"COUNTIFS(Datasheet!$K$2:$K$200000,\"=\"&AggregatedData!$B70,Datasheet!$C$2:$C$200000,\"Staff\",Datasheet!$L$2:$L$200000,\"Negative\")","v":0},{"$f":"COUNTIFS(Datasheet!$K$2:$K$200000,\"=\"&AggregatedData!$B70,Datasheet!$C$2:$C$200000,\"Staff\",Datasheet!$L$2:$L$200000,\"Void\")","v":0}]
[{"$f":"Datasheet!$B$2","v":""},"2021-03-16",{"$f":"COUNTIF(Datasheet!$K$2:$K$200000,\"=\"&AggregatedData!B71)","v":0},{"$f":"COUNTIFS(Datasheet!$K$2:$K$200000,\"=\"&AggregatedData!$B71,Datasheet!$C$2:$C$200000,\"Pupil\",Datasheet!$L$2:$L$200000,\"Positive\")","v":0},{"$f":"COUNTIFS(Datasheet!$K$2:$K$200000,\"=\"&AggregatedData!$B71,Datasheet!$C$2:$C$200000,\"Pupil\",Datasheet!$L$2:$L$200000,\"Negative\")","v":0},{"$f":"COUNTIFS(Datasheet!$K$2:$K$200000,\"=\"&AggregatedData!$B71,Datasheet!$C$2:$C$200000,\"Pupil\",Datasheet!$L$2:$L$200000,\"Void\")","v":0},{"$f":"COUNTIFS(Datasheet!$K$2:$K$200000,\"=\"&AggregatedData!$B71,Datasheet!$C$2:$C$200000,\"Staff\",Datasheet!$L$2:$L$200000,\"Positive\")","v":0},{"$f":"COUNTIFS(Datasheet!$K$2:$K$200000,\"=\"&AggregatedData!$B71,Datasheet!$C$2:$C$200000,\"Staff\",Datasheet!$L$2:$L$200000,\"Negative\")","v":0},{"$f":"COUNTIFS(Datasheet!$K$2:$K$200000,\"=\"&AggregatedData!$B71,Datasheet!$C$2:$C$200000,\"Staff\",Datasheet!$L$2:$L$200000,\"Void\")","v":0}]
[{"$f":"Datasheet!$B$2","v":""},"2021-03-17",{"$f":"COUNTIF(Datasheet!$K$2:$K$200000,\"=\"&AggregatedData!B72)","v":0},{"$f":"COUNTIFS(Datasheet!$K$2:$K$200000,\"=\"&AggregatedData!$B72,Datasheet!$C$2:$C$200000,\"Pupil\",Datasheet!$L$2:$L$200000,\"Positive\")","v":0},{"$f":"COUNTIFS(Datasheet!$K$2:$K$200000,\"=\"&AggregatedData!$B72,Datasheet!$C$2:$C$200000,\"Pupil\",Datasheet!$L$2:$L$200000,\"Negative\")","v":0},{"$f":"COUNTIFS(Datasheet!$K$2:$K$200000,\"=\"&AggregatedData!$B72,Datasheet!$C$2:$C$200000,\"Pupil\",Datasheet!$L$2:$L$200000,\"Void\")","v":0},{"$f":"COUNTIFS(Datasheet!$K$2:$K$200000,\"=\"&AggregatedData!$B72,Datasheet!$C$2:$C$200000,\"Staff\",Datasheet!$L$2:$L$200000,\"Positive\")","v":0},{"$f":"COUNTIFS(Datasheet!$K$2:$K$200000,\"=\"&AggregatedData!$B72,Datasheet!$C$2:$C$200000,\"Staff\",Datasheet!$L$2:$L$200000,\"Negative\")","v":0},{"$f":"COUNTIFS(Datasheet!$K$2:$K$200000,\"=\"&AggregatedData!$B72,Datasheet!$C$2:$C$200000,\"Staff\",Datasheet!$L$2:$L$200000,\"Void\")","v":0}]
[{"$f":"Datasheet!$B$2","v":""},"2021-03-18",{"$f":"COUNTIF(Datasheet!$K$2:$K$200000,\"=\"&AggregatedData!B73)","v":0},{"$f":"COUNTIFS(Datasheet!$K$2:$K$200000,\"=\"&AggregatedData!$B73,Datasheet!$C$2:$C$200000,\"Pupil\",Datasheet!$L$2:$L$200000,\"Positive\")","v":0},{"$f":"COUNTIFS(Datasheet!$K$2:$K$200000,\"=\"&AggregatedData!$B73,Datasheet!$C$2:$C$200000,\"Pupil\",Datasheet!$L$2:$L$200000,\"Negative\")","v":0},{"$f":"COUNTIFS(Datasheet!$K$2:$K$200000,\"=\"&AggregatedData!$B73,Datasheet!$C$2:$C$200000,\"Pupil\",Datasheet!$L$2:$L$200000,\"Void\")","v":0},{"$f":"COUNTIFS(Datasheet!$K$2:$K$200000,\"=\"&AggregatedData!$B73,Datasheet!$C$2:$C$200000,\"Staff\",Datasheet!$L$2:$L$200000,\"Positive\")","v":0},{"$f":"COUNTIFS(Datasheet!$K$2:$K$200000,\"=\"&AggregatedData!$B73,Datasheet!$C$2:$C$200000,\"Staff\",Datasheet!$L$2:$L$200000,\"Negative\")","v":0},{"$f":"COUNTIFS(Datasheet!$K$2:$K$200000,\"=\"&AggregatedData!$B73,Datasheet!$C$2:$C$200000,\"Staff\",Datasheet!$L$2:$L$200000,\"Void\")","v":0}]
[{"$f":"Datasheet!$B$2","v":""},"2021-03-19",{"$f":"COUNTIF(Datasheet!$K$2:$K$200000,\"=\"&AggregatedData!B74)","v":0},{"$f":"COUNTIFS(Datasheet!$K$2:$K$200000,\"=\"&AggregatedData!$B74,Datasheet!$C$2:$C$200000,\"Pupil\",Datasheet!$L$2:$L$200000,\"Positive\")","v":0},{"$f":"COUNTIFS(Datasheet!$K$2:$K$200000,\"=\"&AggregatedData!$B74,Datasheet!$C$2:$C$200000,\"Pupil\",Datasheet!$L$2:$L$200000,\"Negative\")","v":0},{"$f":"COUNTIFS(Datasheet!$K$2:$K$200000,\"=\"&AggregatedData!$B74,Datasheet!$C$2:$C$200000,\"Pupil\",Datasheet!$L$2:$L$200000,\"Void\")","v":0},{"$f":"COUNTIFS(Datasheet!$K$2:$K$200000,\"=\"&AggregatedData!$B74,Datasheet!$C$2:$C$200000,\"Staff\",Datasheet!$L$2:$L$200000,\"Positive\")","v":0},{"$f":"COUNTIFS(Datasheet!$K$2:$K$200000,\"=\"&AggregatedData!$B74,Datasheet!$C$2:$C$200000,\"Staff\",Datasheet!$L$2:$L$200000,\"Negative\")","v":0},{"$f":"COUNTIFS(Datasheet!$K$2:$K$200000,\"=\"&AggregatedData!$B74,Datasheet!$C$2:$C$200000,\"Staff\",Datasheet!$L$2:$L$200000,\"Void\")","v":0}]
[{"$f":"Datasheet!$B$2","v":""},"2021-03-20",{"$f":"COUNTIF(Datasheet!$K$2:$K$200000,\"=\"&AggregatedData!B75)","v":0},{"$f":"COUNTIFS(Datasheet!$K$2:$K$200000,\"=\"&AggregatedData!$B75,Datasheet!$C$2:$C$200000,\"Pupil\",Datasheet!$L$2:$L$200000,\"Positive\")","v":0},{"$f":"COUNTIFS(Datasheet!$K$2:$K$200000,\"=\"&AggregatedData!$B75,Datasheet!$C$2:$C$200000,\"Pupil\",Datasheet!$L$2:$L$200000,\"Negative\")","v":0},{"$f":"COUNTIFS(Datasheet!$K$2:$K$200000,\"=\"&AggregatedData!$B75,Datasheet!$C$2:$C$200000,\"Pupil\",Datasheet!$L$2:$L$200000,\"Void\")","v":0},{"$f":"COUNTIFS(Datasheet!$K$2:$K$200000,\"=\"&AggregatedData!$B75,Datasheet!$C$2:$C$200000,\"Staff\",Datasheet!$L$2:$L$200000,\"Positive\")","v":0},{"$f":"COUNTIFS(Datasheet!$K$2:$K$200000,\"=\"&AggregatedData!$B75,Datasheet!$C$2:$C$200000,\"Staff\",Datasheet!$L$2:$L$200000,\"Negative\")","v":0},{"$f":"COUNTIFS(Datasheet!$K$2:$K$200000,\"=\"&AggregatedData!$B75,Datasheet!$C$2:$C$200000,\"Staff\",Datasheet!$L$2:$L$200000,\"Void\")","v":0}]
[{"$f":"Datasheet!$B$2","v":""},"2021-03-21",{"$f":"COUNTIF(Datasheet!$K$2:$K$200000,\"=\"&AggregatedData!B76)","v":0},{"$f":"COUNTIFS(Datasheet!$K$2:$K$200000,\"=\"&AggregatedData!$B76,Datasheet!$C$2:$C$200000,\"Pupil\",Datasheet!$L$2:$L$200000,\"Positive\")","v":0},{"$f":"COUNTIFS(Datasheet!$K$2:$K$200000,\"=\"&AggregatedData!$B76,Datasheet!$C$2:$C$200000,\"Pupil\",Datasheet!$L$2:$L$200000,\"Negative\")","v":0},{"$f":"COUNTIFS(Datasheet!$K$2:$K$200000,\"=\"&AggregatedData!$B76,Datasheet!$C$2:$C$200000,\"Pupil\",Datasheet!$L$2:$L$200000,\"Void\")","v":0},{"$f":"COUNTIFS(Datasheet!$K$2:$K$200000,\"=\"&AggregatedData!$B76,Datasheet!$C$2:$C$200000,\"Staff\",Datasheet!$L$2:$L$200000,\"Positive\")","v":0},{"$f":"COUNTIFS(Datasheet!$K$2:$K$200000,\"=\"&AggregatedData!$B76,Datasheet!$C$2:$C$200000,\"Staff\",Datasheet!$L$2:$L$200000,\"Negative\")","v":0},{"$f":"COUNTIFS(Datasheet!$K$2:$K$200000,\"=\"&AggregatedData!$B76,Datasheet!$C$2:$C$200000,\"Staff\",Datasheet!$L$2:$L$200000,\"Void\")","v":0}]
[{"$f":"Datasheet!$B$2","v":""},"2021-03-22",{"$f":"COUNTIF(Datasheet!$K$2:$K$200000,\"=\"&AggregatedData!B77)","v":0},{"$f":"COUNTIFS(Datasheet!$K$2:$K$200000,\"=\"&AggregatedData!$B77,Datasheet!$C$2:$C$200000,\"Pupil\",Datasheet!$L$2:$L$200000,\"Positive\")","v":0},{"$f":"COUNTIFS(Datasheet!$K$2:$K$200000,\"=\"&AggregatedData!$B77,Datasheet!$C$2:$C$200000,\"Pupil\",Datasheet!$L$2:$L$200000,\"Negative\")","v":0},{"$f":"COUNTIFS(Datasheet!$K$2:$K$200000,\"=\"&AggregatedData!$B77,Datasheet!$C$2:$C$200000,\"Pupil\",Datasheet!$L$2:$L$200000,\"Void\")","v":0},{"$f":"COUNTIFS(Datasheet!$K$2:$K$200000,\"=\"&AggregatedData!$B77,Datasheet!$C$2:$C$200000,\"Staff\",Datasheet!$L$2:$L$200000,\"Positive\")","v":0},{"$f":"COUNTIFS(Datasheet!$K$2:$K$200000,\"=\"&AggregatedData!$B77,Datasheet!$C$2:$C$200000,\"Staff\",Datasheet!$L$2:$L$200000,\"Negative\")","v":0},{"$f":"COUNTIFS(Datasheet!$K$2:$K$200000,\"=\"&AggregatedData!$B77,Datasheet!$C$2:$C$200000,\"Staff\",Datasheet!$L$2:$L$200000,\"Void\")","v":0}]
[{"$f":"Datasheet!$B$2","v":""},"2021-03-23",{"$f":"COUNTIF(Datasheet!$K$2:$K$200000,\"=\"&AggregatedData!B78)","v":0},{"$f":"COUNTIFS(Datasheet!$K$2:$K$200000,\"=\"&AggregatedData!$B78,Datasheet!$C$2:$C$200000,\"Pupil\",Datasheet!$L$2:$L$200000,\"Positive\")","v":0},{"$f":"COUNTIFS(Datasheet!$K$2:$K$200000,\"=\"&AggregatedData!$B78,Datasheet!$C$2:$C$200000,\"Pupil\",Datasheet!$L$2:$L$200000,\"Negative\")","v":0},{"$f":"COUNTIFS(Datasheet!$K$2:$K$200000,\"=\"&AggregatedData!$B78,Datasheet!$C$2:$C$200000,\"Pupil\",Datasheet!$L$2:$L$200000,\"Void\")","v":0},{"$f":"COUNTIFS(Datasheet!$K$2:$K$200000,\"=\"&AggregatedData!$B78,Datasheet!$C$2:$C$200000,\"Staff\",Datasheet!$L$2:$L$200000,\"Positive\")","v":0},{"$f":"COUNTIFS(Datasheet!$K$2:$K$200000,\"=\"&AggregatedData!$B78,Datasheet!$C$2:$C$200000,\"Staff\",Datasheet!$L$2:$L$200000,\"Negative\")","v":0},{"$f":"COUNTIFS(Datasheet!$K$2:$K$200000,\"=\"&AggregatedData!$B78,Datasheet!$C$2:$C$200000,\"Staff\",Datasheet!$L$2:$L$200000,\"Void\")","v":0}]
[{"$f":"Datasheet!$B$2","v":""},"2021-03-24",{"$f":"COUNTIF(Datasheet!$K$2:$K$200000,\"=\"&AggregatedData!B79)","v":0},{"$f":"COUNTIFS(Datasheet!$K$2:$K$200000,\"=\"&AggregatedData!$B79,Datasheet!$C$2:$C$200000,\"Pupil\",Datasheet!$L$2:$L$200000,\"Positive\")","v":0},{"$f":"COUNTIFS(Datasheet!$K$2:$K$200000,\"=\"&AggregatedData!$B79,Datasheet!$C$2:$C$200000,\"Pupil\",Datasheet!$L$2:$L$200000,\"Negative\")","v":0},{"$f":"COUNTIFS(Datasheet!$K$2:$K$200000,\"=\"&AggregatedData!$B79,Datasheet!$C$2:$C$200000,\"Pupil\",Datasheet!$L$2:$L$200000,\"Void\")","v":0},{"$f":"COUNTIFS(Datasheet!$K$2:$K$200000,\"=\"&AggregatedData!$B79,Datasheet!$C$2:$C$200000,\"Staff\",Datasheet!$L$2:$L$200000,\"Positive\")","v":0},{"$f":"COUNTIFS(Datasheet!$K$2:$K$200000,\"=\"&AggregatedData!$B79,Datasheet!$C$2:$C$200000,\"Staff\",Datasheet!$L$2:$L$200000,\"Negative\")","v":0},{"$f":"COUNTIFS(Datasheet!$K$2:$K$200000,\"=\"&AggregatedData!$B79,Datasheet!$C$2:$C$200000,\"Staff\",Datasheet!$L$2:$L$200000,\"Void\")","v":0}]
[{"$f":"Datasheet!$B$2","v":""},"2021-03-25",{"$f":"COUNTIF(Datasheet!$K$2:$K$200000,\"=\"&AggregatedData!B80)","v":0},{"$f":"COUNTIFS(Datasheet!$K$2:$K$200000,\"=\"&AggregatedData!$B80,Datasheet!$C$2:$C$200000,\"Pupil\",Datasheet!$L$2:$L$200000,\"Positive\")","v":0},{"$f":"COUNTIFS(Datasheet!$K$2:$K$200000,\"=\"&AggregatedData!$B80,Datasheet!$C$2:$C$200000,\"Pupil\",Datasheet!$L$2:$L$200000,\"Negative\")","v":0},{"$f":"COUNTIFS(Datasheet!$K$2:$K$200000,\"=\"&AggregatedData!$B80,Datasheet!$C$2:$C$200000,\"Pupil\",Datasheet!$L$2:$L$200000,\"Void\")","v":0},{"$f":"COUNTIFS(Datasheet!$K$2:$K$200000,\"=\"&AggregatedData!$B80,Datasheet!$C$2:$C$200000,\"Staff\",Datasheet!$L$2:$L$200000,\"Positive\")","v":0},{"$f":"COUNTIFS(Datasheet!$K$2:$K$200000,\"=\"&AggregatedData!$B80,Datasheet!$C$2:$C$200000,\"Staff\",Datasheet!$L$2:$L$200000,\"Negative\")","v":0},{"$f":"COUNTIFS(Datasheet!$K$2:$K$200000,\"=\"&AggregatedData!$B80,Datasheet!$C$2:$C$200000,\"Staff\",Datasheet!$L$2:$L$200000,\"Void\")","v":0}]
[{"$f":"Datasheet!$B$2","v":""},"2021-03-26",{"$f":"COUNTIF(Datasheet!$K$2:$K$200000,\"=\"&AggregatedData!B81)","v":0},{"$f":"COUNTIFS(Datasheet!$K$2:$K$200000,\"=\"&AggregatedData!$B81,Datasheet!$C$2:$C$200000,\"Pupil\",Datasheet!$L$2:$L$200000,\"Positive\")","v":0},{"$f":"COUNTIFS(Datasheet!$K$2:$K$200000,\"=\"&AggregatedData!$B81,Datasheet!$C$2:$C$200000,\"Pupil\",Datasheet!$L$2:$L$200000,\"Negative\")","v":0},{"$f":"COUNTIFS(Datasheet!$K$2:$K$200000,\"=\"&AggregatedData!$B81,Datasheet!$C$2:$C$200000,\"Pupil\",Datasheet!$L$2:$L$200000,\"Void\")","v":0},{"$f":"COUNTIFS(Datasheet!$K$2:$K$200000,\"=\"&AggregatedData!$B81,Datasheet!$C$2:$C$200000,\"Staff\",Datasheet!$L$2:$L$200000,\"Positive\")","v":0},{"$f":"COUNTIFS(Datasheet!$K$2:$K$200000,\"=\"&AggregatedData!$B81,Datasheet!$C$2:$C$200000,\"Staff\",Datasheet!$L$2:$L$200000,\"Negative\")","v":0},{"$f":"COUNTIFS(Datasheet!$K$2:$K$200000,\"=\"&AggregatedData!$B81,Datasheet!$C$2:$C$200000,\"Staff\",Datasheet!$L$2:$L$200000,\"Void\")","v":0}]
[{"$f":"Datasheet!$B$2","v":""},"2021-03-27",{"$f":"COUNTIF(Datasheet!$K$2:$K$200000,\"=\"&AggregatedData!B82)","v":0},{"$f":"COUNTIFS(Datasheet!$K$2:$K$200000,\"=\"&AggregatedData!$B82,Datasheet!$C$2:$C$200000,\"Pupil\",Datasheet!$L$2:$L$200000,\"Positive\")","v":0},{"$f":"COUNTIFS(Datasheet!$K$2:$K$200000,\"=\"&AggregatedData!$B82,Datasheet!$C$2:$C$200000,\"Pupil\",Datasheet!$L$2:$L$200000,\"Negative\")","v":0},{"$f":"COUNTIFS(Datasheet!$K$2:$K$200000,\"=\"&AggregatedData!$B82,Datasheet!$C$2:$C$200000,\"Pupil\",Datasheet!$L$2:$L$200000,\"Void\")","v":0},{"$f":"COUNTIFS(Datasheet!$K$2:$K$200000,\"=\"&AggregatedData!$B82,Datasheet!$C$2:$C$200000,\"Staff\",Datasheet!$L$2:$L$200000,\"Positive\")","v":0},{"$f":"COUNTIFS(Datasheet!$K$2:$K$200000,\"=\"&AggregatedData!$B82,Datasheet!$C$2:$C$200000,\"Staff\",Datasheet!$L$2:$L$200000,\"Negative\")","v":0},{"$f":"COUNTIFS(Datasheet!$K$2:$K$200000,\"=\"&AggregatedData!$B82,Datasheet!$C$2:$C$200000,\"Staff\",Datasheet!$L$2:$L$200000,\"Void\")","v":0}]
[{"$f":"Datasheet!$B$2","v":""},"2021-03-28",{"$f":"COUNTIF(Datasheet!$K$2:$K$200000,\"=\"&AggregatedData!B83)","v":0},{"$f":"COUNTIFS(Datasheet!$K$2:$K$200000,\"=\"&AggregatedData!$B83,Datasheet!$C$2:$C$200000,\"Pupil\",Datasheet!$L$2:$L$200000,\"Positive\")","v":0},{"$f":"COUNTIFS(Datasheet!$K$2:$K$200000,\"=\"&AggregatedData!$B83,Datasheet!$C$2:$C$200000,\"Pupil\",Datasheet!$L$2:$L$200000,\"Negative\")","v":0},{"$f":"COUNTIFS(Datasheet!$K$2:$K$200000,\"=\"&AggregatedData!$B83,Datasheet!$C$2:$C$200000,\"Pupil\",Datasheet!$L$2:$L$200000,\"Void\")","v":0},{"$f":"COUNTIFS(Datasheet!$K$2:$K$200000,\"=\"&AggregatedData!$B83,Datasheet!$C$2:$C$200000,\"Staff\",Datasheet!$L$2:$L$200000,\"Positive\")","v":0},{"$f":"COUNTIFS(Datasheet!$K$2:$K$200000,\"=\"&AggregatedData!$B83,Datasheet!$C$2:$C$200000,\"Staff\",Datasheet!$L$2:$L$200000,\"Negative\")","v":0},{"$f":"COUNTIFS(Datasheet!$K$2:$K$200000,\"=\"&AggregatedData!$B83,Datasheet!$C$2:$C$200000,\"Staff\",Datasheet!$L$2:$L$200000,\"Void\")","v":0}]
[{"$f":"Datasheet!$B$2","v":""},"2021-03-29",{"$f":"COUNTIF(Datasheet!$K$2:$K$200000,\"=\"&AggregatedData!B84)","v":0},{"$f":"COUNTIFS(Datasheet!$K$2:$K$200000,\"=\"&AggregatedData!$B84,Datasheet!$C$2:$C$200000,\"Pupil\",Datasheet!$L$2:$L$200000,\"Positive\")","v":0},{"$f":"COUNTIFS(Datasheet!$K$2:$K$200000,\"=\"&AggregatedData!$B84,Datasheet!$C$2:$C$200000,\"Pupil\",Datasheet!$L$2:$L$200000,\"Negative\")","v":0},{"$f":"COUNTIFS(Datasheet!$K$2:$K$200000,\"=\"&AggregatedData!$B84,Datasheet!$C$2:$C$200000,\"Pupil\",Datasheet!$L$2:$L$200000,\"Void\")","v":0},{"$f":"COUNTIFS(Datasheet!$K$2:$K$200000,\"=\"&AggregatedData!$B84,Datasheet!$C$2:$C$200000,\"Staff\",Datasheet!$L$2:$L$200000,\"Positive\")","v":0},{"$f":"COUNTIFS(Datasheet!$K$2:$K$200000,\"=\"&AggregatedData!$B84,Datasheet!$C$2:$C$200000,\"Staff\",Datasheet!$L$2:$L$200000,\"Negative\")","v":0},{"$f":"COUNTIFS(Datasheet!$K$2:$K$200000,\"=\"&AggregatedData!$B84,Datasheet!$C$2:$C$200000,\"Staff\",Datasheet!$L$2:$L$200000,\"Void\")","v":0}]
[{"$f":"Datasheet!$B$2","v":""},"2021-03-30",{"$f":"COUNTIF(Datasheet!$K$2:$K$200000,\"=\"&AggregatedData!B85)","v":0},{"$f":"COUNTIFS(Datasheet!$K$2:$K$200000,\"=\"&AggregatedData!$B85,Datasheet!$C$2:$C$200000,\"Pupil\",Datasheet!$L$2:$L$200000,\"Positive\")","v":0},{"$f":"COUNTIFS(Datasheet!$K$2:$K$200000,\"=\"&AggregatedData!$B85,Datasheet!$C$2:$C$200000,\"Pupil\",Datasheet!$L$2:$L$200000,\"Negative\")","v":0},{"$f":"COUNTIFS(Datasheet!$K$2:$K$200000,\"=\"&AggregatedData!$B85,Datasheet!$C$2:$C$200000,\"Pupil\",Datasheet!$L$2:$L$200000,\"Void\")","v":0},{"$f":"COUNTIFS(Datasheet!$K$2:$K$200000,\"=\"&AggregatedData!$B85,Datasheet!$C$2:$C$200000,\"Staff\",Datasheet!$L$2:$L$200000,\"Positive\")","v":0},{"$f":"COUNTIFS(Datasheet!$K$2:$K$200000,\"=\"&AggregatedData!$B85,Datasheet!$C$2:$C$200000,\"Staff\",Datasheet!$L$2:$L$200000,\"Negative\")","v":0},{"$f":"COUNTIFS(Datasheet!$K$2:$K$200000,\"=\"&AggregatedData!$B85,Datasheet!$C$2:$C$200000,\"Staff\",Datasheet!$L$2:$L$200000,\"Void\")","v":0}]
[{"$f":"Datasheet!$B$2","v":""},"2021-03-31",{"$f":"COUNTIF(Datasheet!$K$2:$K$200000,\"=\"&AggregatedData!B86)","v":0},{"$f":"COUNTIFS(Datasheet!$K$2:$K$200000,\"=\"&AggregatedData!$B86,Datasheet!$C$2:$C$200000,\"Pupil\",Datasheet!$L$2:$L$200000,\"Positive\")","v":0},{"$f":"COUNTIFS(Datasheet!$K$2:$K$200000,\"=\"&AggregatedData!$B86,Datasheet!$C$2:$C$200000,\"Pupil\",Datasheet!$L$2:$L$200000,\"Negative\")","v":0},{"$f":"COUNTIFS(Datasheet!$K$2:$K$200000,\"=\"&AggregatedData!$B86,Datasheet!$C$2:$C$200000,\"Pupil\",Datasheet!$L$2:$L$200000,\"Void\")","v":0},{"$f":"COUNTIFS(Datasheet!$K$2:$K$200000,\"=\"&AggregatedData!$B86,Datasheet!$C$2:$C$200000,\"Staff\",Datasheet!$L$2:$L$200000,\"Positive\")","v":0},{"$f":"COUNTIFS(Datasheet!$K$2:$K$200000,\"=\"&AggregatedData!$B86,Datasheet!$C$2:$C$200000,\"Staff\",Datasheet!$L$2:$L$200000,\"Negative\")","v":0},{"$f":"COUNTIFS(Datasheet!$K$2:$K$200000,\"=\"&AggregatedData!$B86,Datasheet!$C$2:$C$200000,\"Staff\",Datasheet!$L$2:$L$200000,\"Void\")","v":0}]
[{"$f":"Datasheet!$B$2","v":""},"2021-04-01",{"$f":"COUNTIF(Datasheet!$K$2:$K$200000,\"=\"&AggregatedData!B87)","v":0},{"$f":"COUNTIFS(Datasheet!$K$2:$K$200000,\"=\"&AggregatedData!$B87,Datasheet!$C$2:$C$200000,\"Pupil\",Datasheet!$L$2:$L$200000,\"Positive\")","v":0},{"$f":"COUNTIFS(Datasheet!$K$2:$K$200000,\"=\"&AggregatedData!$B87,Datasheet!$C$2:$C$200000,\"Pupil\",Datasheet!$L$2:$L$200000,\"Negative\")","v":0},{"$f":"COUNTIFS(Datasheet!$K$2:$K$200000,\"=\"&AggregatedData!$B87,Datasheet!$C$2:$C$200000,\"Pupil\",Datasheet!$L$2:$L$200000,\"Void\")","v":0},{"$f":"COUNTIFS(Datasheet!$K$2:$K$200000,\"=\"&AggregatedData!$B87,Datasheet!$C$2:$C$200000,\"Staff\",Datasheet!$L$2:$L$200000,\"Positive\")","v":0},{"$f":"COUNTIFS(Datasheet!$K$2:$K$200000,\"=\"&AggregatedData!$B87,Datasheet!$C$2:$C$200000,\"Staff\",Datasheet!$L$2:$L$200000,\"Negative\")","v":0},{"$f":"COUNTIFS(Datasheet!$K$2:$K$200000,\"=\"&AggregatedData!$B87,Datasheet!$C$2:$C$200000,\"Staff\",Datasheet!$L$2:$L$200000,\"Void\")","v":0}]
[{"$f":"Datasheet!$B$2","v":""},"2021-04-02",{"$f":"COUNTIF(Datasheet!$K$2:$K$200000,\"=\"&AggregatedData!B88)","v":0},{"$f":"COUNTIFS(Datasheet!$K$2:$K$200000,\"=\"&AggregatedData!$B88,Datasheet!$C$2:$C$200000,\"Pupil\",Datasheet!$L$2:$L$200000,\"Positive\")","v":0},{"$f":"COUNTIFS(Datasheet!$K$2:$K$200000,\"=\"&AggregatedData!$B88,Datasheet!$C$2:$C$200000,\"Pupil\",Datasheet!$L$2:$L$200000,\"Negative\")","v":0},{"$f":"COUNTIFS(Datasheet!$K$2:$K$200000,\"=\"&AggregatedData!$B88,Datasheet!$C$2:$C$200000,\"Pupil\",Datasheet!$L$2:$L$200000,\"Void\")","v":0},{"$f":"COUNTIFS(Datasheet!$K$2:$K$200000,\"=\"&AggregatedData!$B88,Datasheet!$C$2:$C$200000,\"Staff\",Datasheet!$L$2:$L$200000,\"Positive\")","v":0},{"$f":"COUNTIFS(Datasheet!$K$2:$K$200000,\"=\"&AggregatedData!$B88,Datasheet!$C$2:$C$200000,\"Staff\",Datasheet!$L$2:$L$200000,\"Negative\")","v":0},{"$f":"COUNTIFS(Datasheet!$K$2:$K$200000,\"=\"&AggregatedData!$B88,Datasheet!$C$2:$C$200000,\"Staff\",Datasheet!$L$2:$L$200000,\"Void\")","v":0}]
[{"$f":"Datasheet!$B$2","v":""},"2021-04-03",{"$f":"COUNTIF(Datasheet!$K$2:$K$200000,\"=\"&AggregatedData!B89)","v":0},{"$f":"COUNTIFS(Datasheet!$K$2:$K$200000,\"=\"&AggregatedData!$B89,Datasheet!$C$2:$C$200000,\"Pupil\",Datasheet!$L$2:$L$200000,\"Positive\")","v":0},{"$f":"COUNTIFS(Datasheet!$K$2:$K$200000,\"=\"&AggregatedData!$B89,Datasheet!$C$2:$C$200000,\"Pupil\",Datasheet!$L$2:$L$200000,\"Negative\")","v":0},{"$f":"COUNTIFS(Datasheet!$K$2:$K$200000,\"=\"&AggregatedData!$B89,Datasheet!$C$2:$C$200000,\"Pupil\",Datasheet!$L$2:$L$200000,\"Void\")","v":0},{"$f":"COUNTIFS(Datasheet!$K$2:$K$200000,\"=\"&AggregatedData!$B89,Datasheet!$C$2:$C$200000,\"Staff\",Datasheet!$L$2:$L$200000,\"Positive\")","v":0},{"$f":"COUNTIFS(Datasheet!$K$2:$K$200000,\"=\"&AggregatedData!$B89,Datasheet!$C$2:$C$200000,\"Staff\",Datasheet!$L$2:$L$200000,\"Negative\")","v":0},{"$f":"COUNTIFS(Datasheet!$K$2:$K$200000,\"=\"&AggregatedData!$B89,Datasheet!$C$2:$C$200000,\"Staff\",Datasheet!$L$2:$L$200000,\"Void\")","v":0}]
[{"$f":"Datasheet!$B$2","v":""},"2021-04-04",{"$f":"COUNTIF(Datasheet!$K$2:$K$200000,\"=\"&AggregatedData!B90)","v":0},{"$f":"COUNTIFS(Datasheet!$K$2:$K$200000,\"=\"&AggregatedData!$B90,Datasheet!$C$2:$C$200000,\"Pupil\",Datasheet!$L$2:$L$200000,\"Positive\")","v":0},{"$f":"COUNTIFS(Datasheet!$K$2:$K$200000,\"=\"&AggregatedData!$B90,Datasheet!$C$2:$C$200000,\"Pupil\",Datasheet!$L$2:$L$200000,\"Negative\")","v":0},{"$f":"COUNTIFS(Datasheet!$K$2:$K$200000,\"=\"&AggregatedData!$B90,Datasheet!$C$2:$C$200000,\"Pupil\",Datasheet!$L$2:$L$200000,\"Void\")","v":0},{"$f":"COUNTIFS(Datasheet!$K$2:$K$200000,\"=\"&AggregatedData!$B90,Datasheet!$C$2:$C$200000,\"Staff\",Datasheet!$L$2:$L$200000,\"Positive\")","v":0},{"$f":"COUNTIFS(Datasheet!$K$2:$K$200000,\"=\"&AggregatedData!$B90,Datasheet!$C$2:$C$200000,\"Staff\",Datasheet!$L$2:$L$200000,\"Negative\")","v":0},{"$f":"COUNTIFS(Datasheet!$K$2:$K$200000,\"=\"&AggregatedData!$B90,Datasheet!$C$2:$C$200000,\"Staff\",Datasheet!$L$2:$L$200000,\"Void\")","v":0}]
[{"$f":"Datasheet!$B$2","v":""},"2021-04-05",{"$f":"COUNTIF(Datasheet!$K$2:$K$200000,\"=\"&AggregatedData!B91)","v":0},{"$f":"COUNTIFS(Datasheet!$K$2:$K$200000,\"=\"&AggregatedData!$B91,Datasheet!$C$2:$C$200000,\"Pupil\",Datasheet!$L$2:$L$200000,\"Positive\")","v":0},{"$f":"COUNTIFS(Datasheet!$K$2:$K$200000,\"=\"&AggregatedData!$B91,Datasheet!$C$2:$C$200000,\"Pupil\",Datasheet!$L$2:$L$200000,\"Negative\")","v":0},{"$f":"COUNTIFS(Datasheet!$K$2:$K$200000,\"=\"&AggregatedData!$B91,Datasheet!$C$2:$C$200000,\"Pupil\",Datasheet!$L$2:$L$200000,\"Void\")","v":0},{"$f":"COUNTIFS(Datasheet!$K$2:$K$200000,\"=\"&AggregatedData!$B91,Datasheet!$C$2:$C$200000,\"Staff\",Datasheet!$L$2:$L$200000,\"Positive\")","v":0},{"$f":"COUNTIFS(Datasheet!$K$2:$K$200000,\"=\"&AggregatedData!$B91,Datasheet!$C$2:$C$200000,\"Staff\",Datasheet!$L$2:$L$200000,\"Negative\")","v":0},{"$f":"COUNTIFS(Datasheet!$K$2:$K$200000,\"=\"&AggregatedData!$B91,Datasheet!$C$2:$C$200000,\"Staff\",Datasheet!$L$2:$L$200000,\"Void\")","v":0}]
[{"$f":"Datasheet!$B$2","v":""},"2021-04-06",{"$f":"COUNTIF(Datasheet!$K$2:$K$200000,\"=\"&AggregatedData!B92)","v":0},{"$f":"COUNTIFS(Datasheet!$K$2:$K$200000,\"=\"&AggregatedData!$B92,Datasheet!$C$2:$C$200000,\"Pupil\",Datasheet!$L$2:$L$200000,\"Positive\")","v":0},{"$f":"COUNTIFS(Datasheet!$K$2:$K$200000,\"=\"&AggregatedData!$B92,Datasheet!$C$2:$C$200000,\"Pupil\",Datasheet!$L$2:$L$200000,\"Negative\")","v":0},{"$f":"COUNTIFS(Datasheet!$K$2:$K$200000,\"=\"&AggregatedData!$B92,Datasheet!$C$2:$C$200000,\"Pupil\",Datasheet!$L$2:$L$200000,\"Void\")","v":0},{"$f":"COUNTIFS(Datasheet!$K$2:$K$200000,\"=\"&AggregatedData!$B92,Datasheet!$C$2:$C$200000,\"Staff\",Datasheet!$L$2:$L$200000,\"Positive\")","v":0},{"$f":"COUNTIFS(Datasheet!$K$2:$K$200000,\"=\"&AggregatedData!$B92,Datasheet!$C$2:$C$200000,\"Staff\",Datasheet!$L$2:$L$200000,\"Negative\")","v":0},{"$f":"COUNTIFS(Datasheet!$K$2:$K$200000,\"=\"&AggregatedData!$B92,Datasheet!$C$2:$C$200000,\"Staff\",Datasheet!$L$2:$L$200000,\"Void\")","v":0}]
[{"$f":"Datasheet!$B$2","v":""},"2021-04-07",{"$f":"COUNTIF(Datasheet!$K$2:$K$200000,\"=\"&AggregatedData!B93)","v":0},{"$f":"COUNTIFS(Datasheet!$K$2:$K$200000,\"=\"&AggregatedData!$B93,Datasheet!$C$2:$C$200000,\"Pupil\",Datasheet!$L$2:$L$200000,\"Positive\")","v":0},{"$f":"COUNTIFS(Datasheet!$K$2:$K$200000,\"=\"&AggregatedData!$B93,Datasheet!$C$2:$C$200000,\"Pupil\",Datasheet!$L$2:$L$200000,\"Negative\")","v":0},{"$f":"COUNTIFS(Datasheet!$K$2:$K$200000,\"=\"&AggregatedData!$B93,Datasheet!$C$2:$C$200000,\"Pupil\",Datasheet!$L$2:$L$200000,\"Void\")","v":0},{"$f":"COUNTIFS(Datasheet!$K$2:$K$200000,\"=\"&AggregatedData!$B93,Datasheet!$C$2:$C$200000,\"Staff\",Datasheet!$L$2:$L$200000,\"Positive\")","v":0},{"$f":"COUNTIFS(Datasheet!$K$2:$K$200000,\"=\"&AggregatedData!$B93,Datasheet!$C$2:$C$200000,\"Staff\",Datasheet!$L$2:$L$200000,\"Negative\")","v":0},{"$f":"COUNTIFS(Datasheet!$K$2:$K$200000,\"=\"&AggregatedData!$B93,Datasheet!$C$2:$C$200000,\"Staff\",Datasheet!$L$2:$L$200000,\"Void\")","v":0}]
[{"$f":"Datasheet!$B$2","v":""},"2021-04-08",{"$f":"COUNTIF(Datasheet!$K$2:$K$200000,\"=\"&AggregatedData!B94)","v":0},{"$f":"COUNTIFS(Datasheet!$K$2:$K$200000,\"=\"&AggregatedData!$B94,Datasheet!$C$2:$C$200000,\"Pupil\",Datasheet!$L$2:$L$200000,\"Positive\")","v":0},{"$f":"COUNTIFS(Datasheet!$K$2:$K$200000,\"=\"&AggregatedData!$B94,Datasheet!$C$2:$C$200000,\"Pupil\",Datasheet!$L$2:$L$200000,\"Negative\")","v":0},{"$f":"COUNTIFS(Datasheet!$K$2:$K$200000,\"=\"&AggregatedData!$B94,Datasheet!$C$2:$C$200000,\"Pupil\",Datasheet!$L$2:$L$200000,\"Void\")","v":0},{"$f":"COUNTIFS(Datasheet!$K$2:$K$200000,\"=\"&AggregatedData!$B94,Datasheet!$C$2:$C$200000,\"Staff\",Datasheet!$L$2:$L$200000,\"Positive\")","v":0},{"$f":"COUNTIFS(Datasheet!$K$2:$K$200000,\"=\"&AggregatedData!$B94,Datasheet!$C$2:$C$200000,\"Staff\",Datasheet!$L$2:$L$200000,\"Negative\")","v":0},{"$f":"COUNTIFS(Datasheet!$K$2:$K$200000,\"=\"&AggregatedData!$B94,Datasheet!$C$2:$C$200000,\"Staff\",Datasheet!$L$2:$L$200000,\"Void\")","v":0}]
[{"$f":"Datasheet!$B$2","v":""},"2021-04-09",{"$f":"COUNTIF(Datasheet!$K$2:$K$200000,\"=\"&AggregatedData!B95)","v":0},{"$f":"COUNTIFS(Datasheet!$K$2:$K$200000,\"=\"&AggregatedData!$B95,Datasheet!$C$2:$C$200000,\"Pupil\",Datasheet!$L$2:$L$200000,\"Positive\")","v":0},{"$f":"COUNTIFS(Datasheet!$K$2:$K$200000,\"=\"&AggregatedData!$B95,Datasheet!$C$2:$C$200000,\"Pupil\",Datasheet!$L$2:$L$200000,\"Negative\")","v":0},{"$f":"COUNTIFS(Datasheet!$K$2:$K$200000,\"=\"&AggregatedData!$B95,Datasheet!$C$2:$C$200000,\"Pupil\",Datasheet!$L$2:$L$200000,\"Void\")","v":0},{"$f":"COUNTIFS(Datasheet!$K$2:$K$200000,\"=\"&AggregatedData!$B95,Datasheet!$C$2:$C$200000,\"Staff\",Datasheet!$L$2:$L$200000,\"Positive\")","v":0},{"$f":"COUNTIFS(Datasheet!$K$2:$K$200000,\"=\"&AggregatedData!$B95,Datasheet!$C$2:$C$200000,\"Staff\",Datasheet!$L$2:$L$200000,\"Negative\")","v":0},{"$f":"COUNTIFS(Datasheet!$K$2:$K$200000,\"=\"&AggregatedData!$B95,Datasheet!$C$2:$C$200000,\"Staff\",Datasheet!$L$2:$L$200000,\"Void\")","v":0}]
[{"$f":"Datasheet!$B$2","v":""},"2021-04-10",{"$f":"COUNTIF(Datasheet!$K$2:$K$200000,\"=\"&AggregatedData!B96)","v":0},{"$f":"COUNTIFS(Datasheet!$K$2:$K$200000,\"=\"&AggregatedData!$B96,Datasheet!$C$2:$C$200000,\"Pupil\",Datasheet!$L$2:$L$200000,\"Positive\")","v":0},{"$f":"COUNTIFS(Datasheet!$K$2:$K$200000,\"=\"&AggregatedData!$B96,Datasheet!$C$2:$C$200000,\"Pupil\",Datasheet!$L$2:$L$200000,\"Negative\")","v":0},{"$f":"COUNTIFS(Datasheet!$K$2:$K$200000,\"=\"&AggregatedData!$B96,Datasheet!$C$2:$C$200000,\"Pupil\",Datasheet!$L$2:$L$200000,\"Void\")","v":0},{"$f":"COUNTIFS(Datasheet!$K$2:$K$200000,\"=\"&AggregatedData!$B96,Datasheet!$C$2:$C$200000,\"Staff\",Datasheet!$L$2:$L$200000,\"Positive\")","v":0},{"$f":"COUNTIFS(Datasheet!$K$2:$K$200000,\"=\"&AggregatedData!$B96,Datasheet!$C$2:$C$200000,\"Staff\",Datasheet!$L$2:$L$200000,\"Negative\")","v":0},{"$f":"COUNTIFS(Datasheet!$K$2:$K$200000,\"=\"&AggregatedData!$B96,Datasheet!$C$2:$C$200000,\"Staff\",Datasheet!$L$2:$L$200000,\"Void\")","v":0}]
[{"$f":"Datasheet!$B$2","v":""},"2021-04-11",{"$f":"COUNTIF(Datasheet!$K$2:$K$200000,\"=\"&AggregatedData!B97)","v":0},{"$f":"COUNTIFS(Datasheet!$K$2:$K$200000,\"=\"&AggregatedData!$B97,Datasheet!$C$2:$C$200000,\"Pupil\",Datasheet!$L$2:$L$200000,\"Positive\")","v":0},{"$f":"COUNTIFS(Datasheet!$K$2:$K$200000,\"=\"&AggregatedData!$B97,Datasheet!$C$2:$C$200000,\"Pupil\",Datasheet!$L$2:$L$200000,\"Negative\")","v":0},{"$f":"COUNTIFS(Datasheet!$K$2:$K$200000,\"=\"&AggregatedData!$B97,Datasheet!$C$2:$C$200000,\"Pupil\",Datasheet!$L$2:$L$200000,\"Void\")","v":0},{"$f":"COUNTIFS(Datasheet!$K$2:$K$200000,\"=\"&AggregatedData!$B97,Datasheet!$C$2:$C$200000,\"Staff\",Datasheet!$L$2:$L$200000,\"Positive\")","v":0},{"$f":"COUNTIFS(Datasheet!$K$2:$K$200000,\"=\"&AggregatedData!$B97,Datasheet!$C$2:$C$200000,\"Staff\",Datasheet!$L$2:$L$200000,\"Negative\")","v":0},{"$f":"COUNTIFS(Datasheet!$K$2:$K$200000,\"=\"&AggregatedData!$B97,Datasheet!$C$2:$C$200000,\"Staff\",Datasheet!$L$2:$L$200000,\"Void\")","v":0}]
[{"$f":"Datasheet!$B$2","v":""},"2021-04-12",{"$f":"COUNTIF(Datasheet!$K$2:$K$200000,\"=\"&AggregatedData!B98)","v":0},{"$f":"COUNTIFS(Datasheet!$K$2:$K$200000,\"=\"&AggregatedData!$B98,Datasheet!$C$2:$C$200000,\"Pupil\",Datasheet!$L$2:$L$200000,\"Positive\")","v":0},{"$f":"COUNTIFS(Datasheet!$K$2:$K$200000,\"=\"&AggregatedData!$B98,Datasheet!$C$2:$C$200000,\"Pupil\",Datasheet!$L$2:$L$200000,\"Negative\")","v":0},{"$f":"COUNTIFS(Datasheet!$K$2:$K$200000,\"=\"&AggregatedData!$B98,Datasheet!$C$2:$C$200000,\"Pupil\",Datasheet!$L$2:$L$200000,\"Void\")","v":0},{"$f":"COUNTIFS(Datasheet!$K$2:$K$200000,\"=\"&AggregatedData!$B98,Datasheet!$C$2:$C$200000,\"Staff\",Datasheet!$L$2:$L$200000,\"Positive\")","v":0},{"$f":"COUNTIFS(Datasheet!$K$2:$K$200000,\"=\"&AggregatedData!$B98,Datasheet!$C$2:$C$200000,\"Staff\",Datasheet!$L$2:$L$200000,\"Negative\")","v":0},{"$f":"COUNTIFS(Datasheet!$K$2:$K$200000,\"=\"&AggregatedData!$B98,Datasheet!$C$2:$C$200000,\"Staff\",Datasheet!$L$2:$L$200000,\"Void\")","v":0}]
[{"$f":"Datasheet!$B$2","v":""},"2021-04-13",{"$f":"COUNTIF(Datasheet!$K$2:$K$200000,\"=\"&AggregatedData!B99)","v":0},{"$f":"COUNTIFS(Datasheet!$K$2:$K$200000,\"=\"&AggregatedData!$B99,Datasheet!$C$2:$C$200000,\"Pupil\",Datasheet!$L$2:$L$200000,\"Positive\")","v":0},{"$f":"COUNTIFS(Datasheet!$K$2:$K$200000,\"=\"&AggregatedData!$B99,Datasheet!$C$2:$C$200000,\"Pupil\",Datasheet!$L$2:$L$200000,\"Negative\")","v":0},{"$f":"COUNTIFS(Datasheet!$K$2:$K$200000,\"=\"&AggregatedData!$B99,Datasheet!$C$2:$C$200000,\"Pupil\",Datasheet!$L$2:$L$200000,\"Void\")","v":0},{"$f":"COUNTIFS(Datasheet!$K$2:$K$200000,\"=\"&AggregatedData!$B99,Datasheet!$C$2:$C$200000,\"Staff\",Datasheet!$L$2:$L$200000,\"Positive\")","v":0},{"$f":"COUNTIFS(Datasheet!$K$2:$K$200000,\"=\"&AggregatedData!$B99,Datasheet!$C$2:$C$200000,\"Staff\",Datasheet!$L$2:$L$200000,\"Negative\")","v":0},{"$f":"COUNTIFS(Datasheet!$K$2:$K$200000,\"=\"&AggregatedData!$B99,Datasheet!$C$2:$C$200000,\"Staff\",Datasheet!$L$2:$L$200000,\"Void\")","v":0}]
[{"$f":"Datasheet!$B$2","v":""},"2021-04-14",{"$f":"COUNTIF(Datasheet!$K$2:$K$200000,\"=\"&AggregatedData!B100)","v":0},{"$f":"COUNTIFS(Datasheet!$K$2:$K$200000,\"=\"&AggregatedData!$B100,Datasheet!$C$2:$C$200000,\"Pupil\",Datasheet!$L$2:$L$200000,\"Positive\")","v":0},{"$f":"COUNTIFS(Datasheet!$K$2:$K$200000,\"=\"&AggregatedData!$B100,Datasheet!$C$2:$C$200000,\"Pupil\",Datasheet!$L$2:$L$200000,\"Negative\")","v":0},{"$f":"COUNTIFS(Datasheet!$K$2:$K$200000,\"=\"&AggregatedData!$B100,Datasheet!$C$2:$C$200000,\"Pupil\",Datasheet!$L$2:$L$200000,\"Void\")","v":0},{"$f":"COUNTIFS(Datasheet!$K$2:$K$200000,\"=\"&AggregatedData!$B100,Datasheet!$C$2:$C$200000,\"Staff\",Datasheet!$L$2:$L$200000,\"Positive\")","v":0},{"$f":"COUNTIFS(Datasheet!$K$2:$K$200000,\"=\"&AggregatedData!$B100,Datasheet!$C$2:$C$200000,\"Staff\",Datasheet!$L$2:$L$200000,\"Negative\")","v":0},{"$f":"COUNTIFS(Datasheet!$K$2:$K$200000,\"=\"&AggregatedData!$B100,Datasheet!$C$2:$C$200000,\"Staff\",Datasheet!$L$2:$L$200000,\"Void\")","v":0}]
[{"$f":"Datasheet!$B$2","v":""},"2021-04-15",{"$f":"COUNTIF(Datasheet!$K$2:$K$200000,\"=\"&AggregatedData!B101)","v":0},{"$f":"COUNTIFS(Datasheet!$K$2:$K$200000,\"=\"&AggregatedData!$B101,Datasheet!$C$2:$C$200000,\"Pupil\",Datasheet!$L$2:$L$200000,\"Positive\")","v":0},{"$f":"COUNTIFS(Datasheet!$K$2:$K$200000,\"=\"&AggregatedData!$B101,Datasheet!$C$2:$C$200000,\"Pupil\",Datasheet!$L$2:$L$200000,\"Negative\")","v":0},{"$f":"COUNTIFS(Datasheet!$K$2:$K$200000,\"=\"&AggregatedData!$B101,Datasheet!$C$2:$C$200000,\"Pupil\",Datasheet!$L$2:$L$200000,\"Void\")","v":0},{"$f":"COUNTIFS(Datasheet!$K$2:$K$200000,\"=\"&AggregatedData!$B101,Datasheet!$C$2:$C$200000,\"Staff\",Datasheet!$L$2:$L$200000,\"Positive\")","v":0},{"$f":"COUNTIFS(Datasheet!$K$2:$K$200000,\"=\"&AggregatedData!$B101,Datasheet!$C$2:$C$200000,\"Staff\",Datasheet!$L$2:$L$200000,\"Negative\")","v":0},{"$f":"COUNTIFS(Datasheet!$K$2:$K$200000,\"=\"&AggregatedData!$B101,Datasheet!$C$2:$C$200000,\"Staff\",Datasheet!$L$2:$L$200000,\"Void\")","v":0}]
[{"$f":"Datasheet!$B$2","v":""},"2021-04-16",{"$f":"COUNTIF(Datasheet!$K$2:$K$200000,\"=\"&AggregatedData!B102)","v":0},{"$f":"COUNTIFS(Datasheet!$K$2:$K$200000,\"=\"&AggregatedData!$B102,Datasheet!$C$2:$C$200000,\"Pupil\",Datasheet!$L$2:$L$200000,\"Positive\")","v":0},{"$f":"COUNTIFS(Datasheet!$K$2:$K$200000,\"=\"&AggregatedData!$B102,Datasheet!$C$2:$C$200000,\"Pupil\",Datasheet!$L$2:$L$200000,\"Negative\")","v":0},{"$f":"COUNTIFS(Datasheet!$K$2:$K$200000,\"=\"&AggregatedData!$B102,Datasheet!$C$2:$C$200000,\"Pupil\",Datasheet!$L$2:$L$200000,\"Void\")","v":0},{"$f":"COUNTIFS(Datasheet!$K$2:$K$200000,\"=\"&AggregatedData!$B102,Datasheet!$C$2:$C$200000,\"Staff\",Datasheet!$L$2:$L$200000,\"Positive\")","v":0},{"$f":"COUNTIFS(Datasheet!$K$2:$K$200000,\"=\"&AggregatedData!$B102,Datasheet!$C$2:$C$200000,\"Staff\",Datasheet!$L$2:$L$200000,\"Negative\")","v":0},{"$f":"COUNTIFS(Datasheet!$K$2:$K$200000,\"=\"&AggregatedData!$B102,Datasheet!$C$2:$C$200000,\"Staff\",Datasheet!$L$2:$L$200000,\"Void\")","v":0}]
[{"$f":"Datasheet!$B$2","v":""},"2021-04-17",{"$f":"COUNTIF(Datasheet!$K$2:$K$200000,\"=\"&AggregatedData!B103)","v":0},{"$f":"COUNTIFS(Datasheet!$K$2:$K$200000,\"=\"&AggregatedData!$B103,Datasheet!$C$2:$C$200000,\"Pupil\",Datasheet!$L$2:$L$200000,\"Positive\")","v":0},{"$f":"COUNTIFS(Datasheet!$K$2:$K$200000,\"=\"&AggregatedData!$B103,Datasheet!$C$2:$C$200000,\"Pupil\",Datasheet!$L$2:$L$200000,\"Negative\")","v":0},{"$f":"COUNTIFS(Datasheet!$K$2:$K$200000,\"=\"&AggregatedData!$B103,Datasheet!$C$2:$C$200000,\"Pupil\",Datasheet!$L$2:$L$200000,\"Void\")","v":0},{"$f":"COUNTIFS(Datasheet!$K$2:$K$200000,\"=\"&AggregatedData!$B103,Datasheet!$C$2:$C$200000,\"Staff\",Datasheet!$L$2:$L$200000,\"Positive\")","v":0},{"$f":"COUNTIFS(Datasheet!$K$2:$K$200000,\"=\"&AggregatedData!$B103,Datasheet!$C$2:$C$200000,\"Staff\",Datasheet!$L$2:$L$200000,\"Negative\")","v":0},{"$f":"COUNTIFS(Datasheet!$K$2:$K$200000,\"=\"&AggregatedData!$B103,Datasheet!$C$2:$C$200000,\"Staff\",Datasheet!$L$2:$L$200000,\"Void\")","v":0}]
[{"$f":"Datasheet!$B$2","v":""},"2021-04-18",{"$f":"COUNTIF(Datasheet!$K$2:$K$200000,\"=\"&AggregatedData!B104)","v":0},{"$f":"COUNTIFS(Datasheet!$K$2:$K$200000,\"=\"&AggregatedData!$B104,Datasheet!$C$2:$C$200000,\"Pupil\",Datasheet!$L$2:$L$200000,\"Positive\")","v":0},{"$f":"COUNTIFS(Datasheet!$K$2:$K$200000,\"=\"&AggregatedData!$B104,Datasheet!$C$2:$C$200000,\"Pupil\",Datasheet!$L$2:$L$200000,\"Negative\")","v":0},{"$f":"COUNTIFS(Datasheet!$K$2:$K$200000,\"=\"&AggregatedData!$B104,Datasheet!$C$2:$C$200000,\"Pupil\",Datasheet!$L$2:$L$200000,\"Void\")","v":0},{"$f":"COUNTIFS(Datasheet!$K$2:$K$200000,\"=\"&AggregatedData!$B104,Datasheet!$C$2:$C$200000,\"Staff\",Datasheet!$L$2:$L$200000,\"Positive\")","v":0},{"$f":"COUNTIFS(Datasheet!$K$2:$K$200000,\"=\"&AggregatedData!$B104,Datasheet!$C$2:$C$200000,\"Staff\",Datasheet!$L$2:$L$200000,\"Negative\")","v":0},{"$f":"COUNTIFS(Datasheet!$K$2:$K$200000,\"=\"&AggregatedData!$B104,Datasheet!$C$2:$C$200000,\"Staff\",Datasheet!$L$2:$L$200000,\"Void\")","v":0}]
[{"$f":"Datasheet!$B$2","v":""},"2021-04-19",{"$f":"COUNTIF(Datasheet!$K$2:$K$200000,\"=\"&AggregatedData!B105)","v":0},{"$f":"COUNTIFS(Datasheet!$K$2:$K$200000,\"=\"&AggregatedData!$B105,Datasheet!$C$2:$C$200000,\"Pupil\",Datasheet!$L$2:$L$200000,\"Positive\")","v":0},{"$f":"COUNTIFS(Datasheet!$K$2:$K$200000,\"=\"&AggregatedData!$B105,Datasheet!$C$2:$C$200000,\"Pupil\",Datasheet!$L$2:$L$200000,\"Negative\")","v":0},{"$f":"COUNTIFS(Datasheet!$K$2:$K$200000,\"=\"&AggregatedData!$B105,Datasheet!$C$2:$C$200000,\"Pupil\",Datasheet!$L$2:$L$200000,\"Void\")","v":0},{"$f":"COUNTIFS(Datasheet!$K$2:$K$200000,\"=\"&AggregatedData!$B105,Datasheet!$C$2:$C$200000,\"Staff\",Datasheet!$L$2:$L$200000,\"Positive\")","v":0},{"$f":"COUNTIFS(Datasheet!$K$2:$K$200000,\"=\"&AggregatedData!$B105,Datasheet!$C$2:$C$200000,\"Staff\",Datasheet!$L$2:$L$200000,\"Negative\")","v":0},{"$f":"COUNTIFS(Datasheet!$K$2:$K$200000,\"=\"&AggregatedData!$B105,Datasheet!$C$2:$C$200000,\"Staff\",Datasheet!$L$2:$L$200000,\"Void\")","v":0}]
[{"$f":"Datasheet!$B$2","v":""},"2021-04-20",{"$f":"COUNTIF(Datasheet!$K$2:$K$200000,\"=\"&AggregatedData!B106)","v":0},{"$f":"COUNTIFS(Datasheet!$K$2:$K$200000,\"=\"&AggregatedData!$B106,Datasheet!$C$2:$C$200000,\"Pupil\",Datasheet!$L$2:$L$200000,\"Positive\")","v":0},{"$f":"COUNTIFS(Datasheet!$K$2:$K$200000,\"=\"&AggregatedData!$B106,Datasheet!$C$2:$C$200000,\"Pupil\",Datasheet!$L$2:$L$200000,\"Negative\")","v":0},{"$f":"COUNTIFS(Datasheet!$K$2:$K$200000,\"=\"&AggregatedData!$B106,Datasheet!$C$2:$C$200000,\"Pupil\",Datasheet!$L$2:$L$200000,\"Void\")","v":0},{"$f":"COUNTIFS(Datasheet!$K$2:$K$200000,\"=\"&AggregatedData!$B106,Datasheet!$C$2:$C$200000,\"Staff\",Datasheet!$L$2:$L$200000,\"Positive\")","v":0},{"$f":"COUNTIFS(Datasheet!$K$2:$K$200000,\"=\"&AggregatedData!$B106,Datasheet!$C$2:$C$200000,\"Staff\",Datasheet!$L$2:$L$200000,\"Negative\")","v":0},{"$f":"COUNTIFS(Datasheet!$K$2:$K$200000,\"=\"&AggregatedData!$B106,Datasheet!$C$2:$C$200000,\"Staff\",Datasheet!$L$2:$L$200000,\"Void\")","v":0}]
[{"$f":"Datasheet!$B$2","v":""},"2021-04-21",{"$f":"COUNTIF(Datasheet!$K$2:$K$200000,\"=\"&AggregatedData!B107)","v":0},{"$f":"COUNTIFS(Datasheet!$K$2:$K$200000,\"=\"&AggregatedData!$B107,Datasheet!$C$2:$C$200000,\"Pupil\",Datasheet!$L$2:$L$200000,\"Positive\")","v":0},{"$f":"COUNTIFS(Datasheet!$K$2:$K$200000,\"=\"&AggregatedData!$B107,Datasheet!$C$2:$C$200000,\"Pupil\",Datasheet!$L$2:$L$200000,\"Negative\")","v":0},{"$f":"COUNTIFS(Datasheet!$K$2:$K$200000,\"=\"&AggregatedData!$B107,Datasheet!$C$2:$C$200000,\"Pupil\",Datasheet!$L$2:$L$200000,\"Void\")","v":0},{"$f":"COUNTIFS(Datasheet!$K$2:$K$200000,\"=\"&AggregatedData!$B107,Datasheet!$C$2:$C$200000,\"Staff\",Datasheet!$L$2:$L$200000,\"Positive\")","v":0},{"$f":"COUNTIFS(Datasheet!$K$2:$K$200000,\"=\"&AggregatedData!$B107,Datasheet!$C$2:$C$200000,\"Staff\",Datasheet!$L$2:$L$200000,\"Negative\")","v":0},{"$f":"COUNTIFS(Datasheet!$K$2:$K$200000,\"=\"&AggregatedData!$B107,Datasheet!$C$2:$C$200000,\"Staff\",Datasheet!$L$2:$L$200000,\"Void\")","v":0}]
[{"$f":"Datasheet!$B$2","v":""},"2021-04-22",{"$f":"COUNTIF(Datasheet!$K$2:$K$200000,\"=\"&AggregatedData!B108)","v":0},{"$f":"COUNTIFS(Datasheet!$K$2:$K$200000,\"=\"&AggregatedData!$B108,Datasheet!$C$2:$C$200000,\"Pupil\",Datasheet!$L$2:$L$200000,\"Positive\")","v":0},{"$f":"COUNTIFS(Datasheet!$K$2:$K$200000,\"=\"&AggregatedData!$B108,Datasheet!$C$2:$C$200000,\"Pupil\",Datasheet!$L$2:$L$200000,\"Negative\")","v":0},{"$f":"COUNTIFS(Datasheet!$K$2:$K$200000,\"=\"&AggregatedData!$B108,Datasheet!$C$2:$C$200000,\"Pupil\",Datasheet!$L$2:$L$200000,\"Void\")","v":0},{"$f":"COUNTIFS(Datasheet!$K$2:$K$200000,\"=\"&AggregatedData!$B108,Datasheet!$C$2:$C$200000,\"Staff\",Datasheet!$L$2:$L$200000,\"Positive\")","v":0},{"$f":"COUNTIFS(Datasheet!$K$2:$K$200000,\"=\"&AggregatedData!$B108,Datasheet!$C$2:$C$200000,\"Staff\",Datasheet!$L$2:$L$200000,\"Negative\")","v":0},{"$f":"COUNTIFS(Datasheet!$K$2:$K$200000,\"=\"&AggregatedData!$B108,Datasheet!$C$2:$C$200000,\"Staff\",Datasheet!$L$2:$L$200000,\"Void\")","v":0}]
[{"$f":"Datasheet!$B$2","v":""},"2021-04-23",{"$f":"COUNTIF(Datasheet!$K$2:$K$200000,\"=\"&AggregatedData!B109)","v":0},{"$f":"COUNTIFS(Datasheet!$K$2:$K$200000,\"=\"&AggregatedData!$B109,Datasheet!$C$2:$C$200000,\"Pupil\",Datasheet!$L$2:$L$200000,\"Positive\")","v":0},{"$f":"COUNTIFS(Datasheet!$K$2:$K$200000,\"=\"&AggregatedData!$B109,Datasheet!$C$2:$C$200000,\"Pupil\",Datasheet!$L$2:$L$200000,\"Negative\")","v":0},{"$f":"COUNTIFS(Datasheet!$K$2:$K$200000,\"=\"&AggregatedData!$B109,Datasheet!$C$2:$C$200000,\"Pupil\",Datasheet!$L$2:$L$200000,\"Void\")","v":0},{"$f":"COUNTIFS(Datasheet!$K$2:$K$200000,\"=\"&AggregatedData!$B109,Datasheet!$C$2:$C$200000,\"Staff\",Datasheet!$L$2:$L$200000,\"Positive\")","v":0},{"$f":"COUNTIFS(Datasheet!$K$2:$K$200000,\"=\"&AggregatedData!$B109,Datasheet!$C$2:$C$200000,\"Staff\",Datasheet!$L$2:$L$200000,\"Negative\")","v":0},{"$f":"COUNTIFS(Datasheet!$K$2:$K$200000,\"=\"&AggregatedData!$B109,Datasheet!$C$2:$C$200000,\"Staff\",Datasheet!$L$2:$L$200000,\"Void\")","v":0}]
[{"$f":"Datasheet!$B$2","v":""},"2021-04-24",{"$f":"COUNTIF(Datasheet!$K$2:$K$200000,\"=\"&AggregatedData!B110)","v":0},{"$f":"COUNTIFS(Datasheet!$K$2:$K$200000,\"=\"&AggregatedData!$B110,Datasheet!$C$2:$C$200000,\"Pupil\",Datasheet!$L$2:$L$200000,\"Positive\")","v":0},{"$f":"COUNTIFS(Datasheet!$K$2:$K$200000,\"=\"&AggregatedData!$B110,Datasheet!$C$2:$C$200000,\"Pupil\",Datasheet!$L$2:$L$200000,\"Negative\")","v":0},{"$f":"COUNTIFS(Datasheet!$K$2:$K$200000,\"=\"&AggregatedData!$B110,Datasheet!$C$2:$C$200000,\"Pupil\",Datasheet!$L$2:$L$200000,\"Void\")","v":0},{"$f":"COUNTIFS(Datasheet!$K$2:$K$200000,\"=\"&AggregatedData!$B110,Datasheet!$C$2:$C$200000,\"Staff\",Datasheet!$L$2:$L$200000,\"Positive\")","v":0},{"$f":"COUNTIFS(Datasheet!$K$2:$K$200000,\"=\"&AggregatedData!$B110,Datasheet!$C$2:$C$200000,\"Staff\",Datasheet!$L$2:$L$200000,\"Negative\")","v":0},{"$f":"COUNTIFS(Datasheet!$K$2:$K$200000,\"=\"&AggregatedData!$B110,Datasheet!$C$2:$C$200000,\"Staff\",Datasheet!$L$2:$L$200000,\"Void\")","v":0}]
[{"$f":"Datasheet!$B$2","v":""},"2021-04-25",{"$f":"COUNTIF(Datasheet!$K$2:$K$200000,\"=\"&AggregatedData!B111)","v":0},{"$f":"COUNTIFS(Datasheet!$K$2:$K$200000,\"=\"&AggregatedData!$B111,Datasheet!$C$2:$C$200000,\"Pupil\",Datasheet!$L$2:$L$200000,\"Positive\")","v":0},{"$f":"COUNTIFS(Datasheet!$K$2:$K$200000,\"=\"&AggregatedData!$B111,Datasheet!$C$2:$C$200000,\"Pupil\",Datasheet!$L$2:$L$200000,\"Negative\")","v":0},{"$f":"COUNTIFS(Datasheet!$K$2:$K$200000,\"=\"&AggregatedData!$B111,Datasheet!$C$2:$C$200000,\"Pupil\",Datasheet!$L$2:$L$200000,\"Void\")","v":0},{"$f":"COUNTIFS(Datasheet!$K$2:$K$200000,\"=\"&AggregatedData!$B111,Datasheet!$C$2:$C$200000,\"Staff\",Datasheet!$L$2:$L$200000,\"Positive\")","v":0},{"$f":"COUNTIFS(Datasheet!$K$2:$K$200000,\"=\"&AggregatedData!$B111,Datasheet!$C$2:$C$200000,\"Staff\",Datasheet!$L$2:$L$200000,\"Negative\")","v":0},{"$f":"COUNTIFS(Datasheet!$K$2:$K$200000,\"=\"&AggregatedData!$B111,Datasheet!$C$2:$C$200000,\"Staff\",Datasheet!$L$2:$L$200000,\"Void\")","v":0}]
[{"$f":"Datasheet!$B$2","v":""},"2021-04-26",{"$f":"COUNTIF(Datasheet!$K$2:$K$200000,\"=\"&AggregatedData!B112)","v":0},{"$f":"COUNTIFS(Datasheet!$K$2:$K$200000,\"=\"&AggregatedData!$B112,Datasheet!$C$2:$C$200000,\"Pupil\",Datasheet!$L$2:$L$200000,\"Positive\")","v":0},{"$f":"COUNTIFS(Datasheet!$K$2:$K$200000,\"=\"&AggregatedData!$B112,Datasheet!$C$2:$C$200000,\"Pupil\",Datasheet!$L$2:$L$200000,\"Negative\")","v":0},{"$f":"COUNTIFS(Datasheet!$K$2:$K$200000,\"=\"&AggregatedData!$B112,Datasheet!$C$2:$C$200000,\"Pupil\",Datasheet!$L$2:$L$200000,\"Void\")","v":0},{"$f":"COUNTIFS(Datasheet!$K$2:$K$200000,\"=\"&AggregatedData!$B112,Datasheet!$C$2:$C$200000,\"Staff\",Datasheet!$L$2:$L$200000,\"Positive\")","v":0},{"$f":"COUNTIFS(Datasheet!$K$2:$K$200000,\"=\"&AggregatedData!$B112,Datasheet!$C$2:$C$200000,\"Staff\",Datasheet!$L$2:$L$200000,\"Negative\")","v":0},{"$f":"COUNTIFS(Datasheet!$K$2:$K$200000,\"=\"&AggregatedData!$B112,Datasheet!$C$2:$C$200000,\"Staff\",Datasheet!$L$2:$L$200000,\"Void\")","v":0}]
[{"$f":"Datasheet!$B$2","v":""},"2021-04-27",{"$f":"COUNTIF(Datasheet!$K$2:$K$200000,\"=\"&AggregatedData!B113)","v":0},{"$f":"COUNTIFS(Datasheet!$K$2:$K$200000,\"=\"&AggregatedData!$B113,Datasheet!$C$2:$C$200000,\"Pupil\",Datasheet!$L$2:$L$200000,\"Positive\")","v":0},{"$f":"COUNTIFS(Datasheet!$K$2:$K$200000,\"=\"&AggregatedData!$B113,Datasheet!$C$2:$C$200000,\"Pupil\",Datasheet!$L$2:$L$200000,\"Negative\")","v":0},{"$f":"COUNTIFS(Datasheet!$K$2:$K$200000,\"=\"&AggregatedData!$B113,Datasheet!$C$2:$C$200000,\"Pupil\",Datasheet!$L$2:$L$200000,\"Void\")","v":0},{"$f":"COUNTIFS(Datasheet!$K$2:$K$200000,\"=\"&AggregatedData!$B113,Datasheet!$C$2:$C$200000,\"Staff\",Datasheet!$L$2:$L$200000,\"Positive\")","v":0},{"$f":"COUNTIFS(Datasheet!$K$2:$K$200000,\"=\"&AggregatedData!$B113,Datasheet!$C$2:$C$200000,\"Staff\",Datasheet!$L$2:$L$200000,\"Negative\")","v":0},{"$f":"COUNTIFS(Datasheet!$K$2:$K$200000,\"=\"&AggregatedData!$B113,Datasheet!$C$2:$C$200000,\"Staff\",Datasheet!$L$2:$L$200000,\"Void\")","v":0}]
[{"$f":"Datasheet!$B$2","v":""},"2021-04-28",{"$f":"COUNTIF(Datasheet!$K$2:$K$200000,\"=\"&AggregatedData!B114)","v":0},{"$f":"COUNTIFS(Datasheet!$K$2:$K$200000,\"=\"&AggregatedData!$B114,Datasheet!$C$2:$C$200000,\"Pupil\",Datasheet!$L$2:$L$200000,\"Positive\")","v":0},{"$f":"COUNTIFS(Datasheet!$K$2:$K$200000,\"=\"&AggregatedData!$B114,Datasheet!$C$2:$C$200000,\"Pupil\",Datasheet!$L$2:$L$200000,\"Negative\")","v":0},{"$f":"COUNTIFS(Datasheet!$K$2:$K$200000,\"=\"&AggregatedData!$B114,Datasheet!$C$2:$C$200000,\"Pupil\",Datasheet!$L$2:$L$200000,\"Void\")","v":0},{"$f":"COUNTIFS(Datasheet!$K$2:$K$200000,\"=\"&AggregatedData!$B114,Datasheet!$C$2:$C$200000,\"Staff\",Datasheet!$L$2:$L$200000,\"Positive\")","v":0},{"$f":"COUNTIFS(Datasheet!$K$2:$K$200000,\"=\"&AggregatedData!$B114,Datasheet!$C$2:$C$200000,\"Staff\",Datasheet!$L$2:$L$200000,\"Negative\")","v":0},{"$f":"COUNTIFS(Datasheet!$K$2:$K$200000,\"=\"&AggregatedData!$B114,Datasheet!$C$2:$C$200000,\"Staff\",Datasheet!$L$2:$L$200000,\"Void\")","v":0}]
[{"$f":"Datasheet!$B$2","v":""},"2021-04-29",{"$f":"COUNTIF(Datasheet!$K$2:$K$200000,\"=\"&AggregatedData!B115)","v":0},{"$f":"COUNTIFS(Datasheet!$K$2:$K$200000,\"=\"&AggregatedData!$B115,Datasheet!$C$2:$C$200000,\"Pupil\",Datasheet!$L$2:$L$200000,\"Positive\")","v":0},{"$f":"COUNTIFS(Datasheet!$K$2:$K$200000,\"=\"&AggregatedData!$B115,Datasheet!$C$2:$C$200000,\"Pupil\",Datasheet!$L$2:$L$200000,\"Negative\")","v":0},{"$f":"COUNTIFS(Datasheet!$K$2:$K$200000,\"=\"&AggregatedData!$B115,Datasheet!$C$2:$C$200000,\"Pupil\",Datasheet!$L$2:$L$200000,\"Void\")","v":0},{"$f":"COUNTIFS(Datasheet!$K$2:$K$200000,\"=\"&AggregatedData!$B115,Datasheet!$C$2:$C$200000,\"Staff\",Datasheet!$L$2:$L$200000,\"Positive\")","v":0},{"$f":"COUNTIFS(Datasheet!$K$2:$K$200000,\"=\"&AggregatedData!$B115,Datasheet!$C$2:$C$200000,\"Staff\",Datasheet!$L$2:$L$200000,\"Negative\")","v":0},{"$f":"COUNTIFS(Datasheet!$K$2:$K$200000,\"=\"&AggregatedData!$B115,Datasheet!$C$2:$C$200000,\"Staff\",Datasheet!$L$2:$L$200000,\"Void\")","v":0}]
[{"$f":"Datasheet!$B$2","v":""},"2021-04-30",{"$f":"COUNTIF(Datasheet!$K$2:$K$200000,\"=\"&AggregatedData!B116)","v":0},{"$f":"COUNTIFS(Datasheet!$K$2:$K$200000,\"=\"&AggregatedData!$B116,Datasheet!$C$2:$C$200000,\"Pupil\",Datasheet!$L$2:$L$200000,\"Positive\")","v":0},{"$f":"COUNTIFS(Datasheet!$K$2:$K$200000,\"=\"&AggregatedData!$B116,Datasheet!$C$2:$C$200000,\"Pupil\",Datasheet!$L$2:$L$200000,\"Negative\")","v":0},{"$f":"COUNTIFS(Datasheet!$K$2:$K$200000,\"=\"&AggregatedData!$B116,Datasheet!$C$2:$C$200000,\"Pupil\",Datasheet!$L$2:$L$200000,\"Void\")","v":0},{"$f":"COUNTIFS(Datasheet!$K$2:$K$200000,\"=\"&AggregatedData!$B116,Datasheet!$C$2:$C$200000,\"Staff\",Datasheet!$L$2:$L$200000,\"Positive\")","v":0},{"$f":"COUNTIFS(Datasheet!$K$2:$K$200000,\"=\"&AggregatedData!$B116,Datasheet!$C$2:$C$200000,\"Staff\",Datasheet!$L$2:$L$200000,\"Negative\")","v":0},{"$f":"COUNTIFS(Datasheet!$K$2:$K$200000,\"=\"&AggregatedData!$B116,Datasheet!$C$2:$C$200000,\"Staff\",Datasheet!$L$2:$L$200000,\"Void\")","v":0}]
[{"$f":"Datasheet!$B$2","v":""},"2021-05-01",{"$f":"COUNTIF(Datasheet!$K$2:$K$200000,\"=\"&AggregatedData!B117)","v":0},{"$f":"COUNTIFS(Datasheet!$K$2:$K$200000,\"=\"&AggregatedData!$B117,Datasheet!$C$2:$C$200000,\"Pupil\",Datasheet!$L$2:$L$200000,\"Positive\")","v":0},{"$f":"COUNTIFS(Datasheet!$K$2:$K$200000,\"=\"&AggregatedData!$B117,Datasheet!$C$2:$C$200000,\"Pupil\",Datasheet!$L$2:$L$200000,\"Negative\")","v":0},{"$f":"COUNTIFS(Datasheet!$K$2:$K$200000,\"=\"&AggregatedData!$B117,Datasheet!$C$2:$C$200000,\"Pupil\",Datasheet!$L$2:$L$200000,\"Void\")","v":0},{"$f":"COUNTIFS(Datasheet!$K$2:$K$200000,\"=\"&AggregatedData!$B117,Datasheet!$C$2:$C$200000,\"Staff\",Datasheet!$L$2:$L$200000,\"Positive\")","v":0},{"$f":"COUNTIFS(Datasheet!$K$2:$K$200000,\"=\"&AggregatedData!$B117,Datasheet!$C$2:$C$200000,\"Staff\",Datasheet!$L$2:$L$200000,\"Negative\")","v":0},{"$f":"COUNTIFS(Datasheet!$K$2:$K$200000,\"=\"&AggregatedData!$B117,Datasheet!$C$2:$C$200000,\"Staff\",Datasheet!$L$2:$L$200000,\"Void\")","v":0}]
[{"$f":"Datasheet!$B$2","v":""},"2021-05-02",{"$f":"COUNTIF(Datasheet!$K$2:$K$200000,\"=\"&AggregatedData!B118)","v":0},{"$f":"COUNTIFS(Datasheet!$K$2:$K$200000,\"=\"&AggregatedData!$B118,Datasheet!$C$2:$C$200000,\"Pupil\",Datasheet!$L$2:$L$200000,\"Positive\")","v":0},{"$f":"COUNTIFS(Datasheet!$K$2:$K$200000,\"=\"&AggregatedData!$B118,Datasheet!$C$2:$C$200000,\"Pupil\",Datasheet!$L$2:$L$200000,\"Negative\")","v":0},{"$f":"COUNTIFS(Datasheet!$K$2:$K$200000,\"=\"&AggregatedData!$B118,Datasheet!$C$2:$C$200000,\"Pupil\",Datasheet!$L$2:$L$200000,\"Void\")","v":0},{"$f":"COUNTIFS(Datasheet!$K$2:$K$200000,\"=\"&AggregatedData!$B118,Datasheet!$C$2:$C$200000,\"Staff\",Datasheet!$L$2:$L$200000,\"Positive\")","v":0},{"$f":"COUNTIFS(Datasheet!$K$2:$K$200000,\"=\"&AggregatedData!$B118,Datasheet!$C$2:$C$200000,\"Staff\",Datasheet!$L$2:$L$200000,\"Negative\")","v":0},{"$f":"COUNTIFS(Datasheet!$K$2:$K$200000,\"=\"&AggregatedData!$B118,Datasheet!$C$2:$C$200000,\"Staff\",Datasheet!$L$2:$L$200000,\"Void\")","v":0}]
[{"$f":"Datasheet!$B$2","v":""},"2021-05-03",{"$f":"COUNTIF(Datasheet!$K$2:$K$200000,\"=\"&AggregatedData!B119)","v":0},{"$f":"COUNTIFS(Datasheet!$K$2:$K$200000,\"=\"&AggregatedData!$B119,Datasheet!$C$2:$C$200000,\"Pupil\",Datasheet!$L$2:$L$200000,\"Positive\")","v":0},{"$f":"COUNTIFS(Datasheet!$K$2:$K$200000,\"=\"&AggregatedData!$B119,Datasheet!$C$2:$C$200000,\"Pupil\",Datasheet!$L$2:$L$200000,\"Negative\")","v":0},{"$f":"COUNTIFS(Datasheet!$K$2:$K$200000,\"=\"&AggregatedData!$B119,Datasheet!$C$2:$C$200000,\"Pupil\",Datasheet!$L$2:$L$200000,\"Void\")","v":0},{"$f":"COUNTIFS(Datasheet!$K$2:$K$200000,\"=\"&AggregatedData!$B119,Datasheet!$C$2:$C$200000,\"Staff\",Datasheet!$L$2:$L$200000,\"Positive\")","v":0},{"$f":"COUNTIFS(Datasheet!$K$2:$K$200000,\"=\"&AggregatedData!$B119,Datasheet!$C$2:$C$200000,\"Staff\",Datasheet!$L$2:$L$200000,\"Negative\")","v":0},{"$f":"COUNTIFS(Datasheet!$K$2:$K$200000,\"=\"&AggregatedData!$B119,Datasheet!$C$2:$C$200000,\"Staff\",Datasheet!$L$2:$L$200000,\"Void\")","v":0}]
[{"$f":"Datasheet!$B$2","v":""},"2021-05-04",{"$f":"COUNTIF(Datasheet!$K$2:$K$200000,\"=\"&AggregatedData!B120)","v":0},{"$f":"COUNTIFS(Datasheet!$K$2:$K$200000,\"=\"&AggregatedData!$B120,Datasheet!$C$2:$C$200000,\"Pupil\",Datasheet!$L$2:$L$200000,\"Positive\")","v":0},{"$f":"COUNTIFS(Datasheet!$K$2:$K$200000,\"=\"&AggregatedData!$B120,Datasheet!$C$2:$C$200000,\"Pupil\",Datasheet!$L$2:$L$200000,\"Negative\")","v":0},{"$f":"COUNTIFS(Datasheet!$K$2:$K$200000,\"=\"&AggregatedData!$B120,Datasheet!$C$2:$C$200000,\"Pupil\",Datasheet!$L$2:$L$200000,\"Void\")","v":0},{"$f":"COUNTIFS(Datasheet!$K$2:$K$200000,\"=\"&AggregatedData!$B120,Datasheet!$C$2:$C$200000,\"Staff\",Datasheet!$L$2:$L$200000,\"Positive\")","v":0},{"$f":"COUNTIFS(Datasheet!$K$2:$K$200000,\"=\"&AggregatedData!$B120,Datasheet!$C$2:$C$200000,\"Staff\",Datasheet!$L$2:$L$200000,\"Negative\")","v":0},{"$f":"COUNTIFS(Datasheet!$K$2:$K$200000,\"=\"&AggregatedData!$B120,Datasheet!$C$2:$C$200000,\"Staff\",Datasheet!$L$2:$L$200000,\"Void\")","v":0}]
[{"$f":"Datasheet!$B$2","v":""},"2021-05-05",{"$f":"COUNTIF(Datasheet!$K$2:$K$200000,\"=\"&AggregatedData!B121)","v":0},{"$f":"COUNTIFS(Datasheet!$K$2:$K$200000,\"=\"&AggregatedData!$B121,Datasheet!$C$2:$C$200000,\"Pupil\",Datasheet!$L$2:$L$200000,\"Positive\")","v":0},{"$f":"COUNTIFS(Datasheet!$K$2:$K$200000,\"=\"&AggregatedData!$B121,Datasheet!$C$2:$C$200000,\"Pupil\",Datasheet!$L$2:$L$200000,\"Negative\")","v":0},{"$f":"COUNTIFS(Datasheet!$K$2:$K$200000,\"=\"&AggregatedData!$B121,Datasheet!$C$2:$C$200000,\"Pupil\",Datasheet!$L$2:$L$200000,\"Void\")","v":0},{"$f":"COUNTIFS(Datasheet!$K$2:$K$200000,\"=\"&AggregatedData!$B121,Datasheet!$C$2:$C$200000,\"Staff\",Datasheet!$L$2:$L$200000,\"Positive\")","v":0},{"$f":"COUNTIFS(Datasheet!$K$2:$K$200000,\"=\"&AggregatedData!$B121,Datasheet!$C$2:$C$200000,\"Staff\",Datasheet!$L$2:$L$200000,\"Negative\")","v":0},{"$f":"COUNTIFS(Datasheet!$K$2:$K$200000,\"=\"&AggregatedData!$B121,Datasheet!$C$2:$C$200000,\"Staff\",Datasheet!$L$2:$L$200000,\"Void\")","v":0}]
[{"$f":"Datasheet!$B$2","v":""},"2021-05-06",{"$f":"COUNTIF(Datasheet!$K$2:$K$200000,\"=\"&AggregatedData!B122)","v":0},{"$f":"COUNTIFS(Datasheet!$K$2:$K$200000,\"=\"&AggregatedData!$B122,Datasheet!$C$2:$C$200000,\"Pupil\",Datasheet!$L$2:$L$200000,\"Positive\")","v":0},{"$f":"COUNTIFS(Datasheet!$K$2:$K$200000,\"=\"&AggregatedData!$B122,Datasheet!$C$2:$C$200000,\"Pupil\",Datasheet!$L$2:$L$200000,\"Negative\")","v":0},{"$f":"COUNTIFS(Datasheet!$K$2:$K$200000,\"=\"&AggregatedData!$B122,Datasheet!$C$2:$C$200000,\"Pupil\",Datasheet!$L$2:$L$200000,\"Void\")","v":0},{"$f":"COUNTIFS(Datasheet!$K$2:$K$200000,\"=\"&AggregatedData!$B122,Datasheet!$C$2:$C$200000,\"Staff\",Datasheet!$L$2:$L$200000,\"Positive\")","v":0},{"$f":"COUNTIFS(Datasheet!$K$2:$K$200000,\"=\"&AggregatedData!$B122,Datasheet!$C$2:$C$200000,\"Staff\",Datasheet!$L$2:$L$200000,\"Negative\")","v":0},{"$f":"COUNTIFS(Datasheet!$K$2:$K$200000,\"=\"&AggregatedData!$B122,Datasheet!$C$2:$C$200000,\"Staff\",Datasheet!$L$2:$L$200000,\"Void\")","v":0}]
[{"$f":"Datasheet!$B$2","v":""},"2021-05-07",{"$f":"COUNTIF(Datasheet!$K$2:$K$200000,\"=\"&AggregatedData!B123)","v":0},{"$f":"COUNTIFS(Datasheet!$K$2:$K$200000,\"=\"&AggregatedData!$B123,Datasheet!$C$2:$C$200000,\"Pupil\",Datasheet!$L$2:$L$200000,\"Positive\")","v":0},{"$f":"COUNTIFS(Datasheet!$K$2:$K$200000,\"=\"&AggregatedData!$B123,Datasheet!$C$2:$C$200000,\"Pupil\",Datasheet!$L$2:$L$200000,\"Negative\")","v":0},{"$f":"COUNTIFS(Datasheet!$K$2:$K$200000,\"=\"&AggregatedData!$B123,Datasheet!$C$2:$C$200000,\"Pupil\",Datasheet!$L$2:$L$200000,\"Void\")","v":0},{"$f":"COUNTIFS(Datasheet!$K$2:$K$200000,\"=\"&AggregatedData!$B123,Datasheet!$C$2:$C$200000,\"Staff\",Datasheet!$L$2:$L$200000,\"Positive\")","v":0},{"$f":"COUNTIFS(Datasheet!$K$2:$K$200000,\"=\"&AggregatedData!$B123,Datasheet!$C$2:$C$200000,\"Staff\",Datasheet!$L$2:$L$200000,\"Negative\")","v":0},{"$f":"COUNTIFS(Datasheet!$K$2:$K$200000,\"=\"&AggregatedData!$B123,Datasheet!$C$2:$C$200000,\"Staff\",Datasheet!$L$2:$L$200000,\"Void\")","v":0}]
[{"$f":"Datasheet!$B$2","v":""},"2021-05-08",{"$f":"COUNTIF(Datasheet!$K$2:$K$200000,\"=\"&AggregatedData!B124)","v":0},{"$f":"COUNTIFS(Datasheet!$K$2:$K$200000,\"=\"&AggregatedData!$B124,Datasheet!$C$2:$C$200000,\"Pupil\",Datasheet!$L$2:$L$200000,\"Positive\")","v":0},{"$f":"COUNTIFS(Datasheet!$K$2:$K$200000,\"=\"&AggregatedData!$B124,Datasheet!$C$2:$C$200000,\"Pupil\",Datasheet!$L$2:$L$200000,\"Negative\")","v":0},{"$f":"COUNTIFS(Datasheet!$K$2:$K$200000,\"=\"&AggregatedData!$B124,Datasheet!$C$2:$C$200000,\"Pupil\",Datasheet!$L$2:$L$200000,\"Void\")","v":0},{"$f":"COUNTIFS(Datasheet!$K$2:$K$200000,\"=\"&AggregatedData!$B124,Datasheet!$C$2:$C$200000,\"Staff\",Datasheet!$L$2:$L$200000,\"Positive\")","v":0},{"$f":"COUNTIFS(Datasheet!$K$2:$K$200000,\"=\"&AggregatedData!$B124,Datasheet!$C$2:$C$200000,\"Staff\",Datasheet!$L$2:$L$200000,\"Negative\")","v":0},{"$f":"COUNTIFS(Datasheet!$K$2:$K$200000,\"=\"&AggregatedData!$B124,Datasheet!$C$2:$C$200000,\"Staff\",Datasheet!$L$2:$L$200000,\"Void\")","v":0}]
[{"$f":"Datasheet!$B$2","v":""},"2021-05-09",{"$f":"COUNTIF(Datasheet!$K$2:$K$200000,\"=\"&AggregatedData!B125)","v":0},{"$f":"COUNTIFS(Datasheet!$K$2:$K$200000,\"=\"&AggregatedData!$B125,Datasheet!$C$2:$C$200000,\"Pupil\",Datasheet!$L$2:$L$200000,\"Positive\")","v":0},{"$f":"COUNTIFS(Datasheet!$K$2:$K$200000,\"=\"&AggregatedData!$B125,Datasheet!$C$2:$C$200000,\"Pupil\",Datasheet!$L$2:$L$200000,\"Negative\")","v":0},{"$f":"COUNTIFS(Datasheet!$K$2:$K$200000,\"=\"&AggregatedData!$B125,Datasheet!$C$2:$C$200000,\"Pupil\",Datasheet!$L$2:$L$200000,\"Void\")","v":0},{"$f":"COUNTIFS(Datasheet!$K$2:$K$200000,\"=\"&AggregatedData!$B125,Datasheet!$C$2:$C$200000,\"Staff\",Datasheet!$L$2:$L$200000,\"Positive\")","v":0},{"$f":"COUNTIFS(Datasheet!$K$2:$K$200000,\"=\"&AggregatedData!$B125,Datasheet!$C$2:$C$200000,\"Staff\",Datasheet!$L$2:$L$200000,\"Negative\")","v":0},{"$f":"COUNTIFS(Datasheet!$K$2:$K$200000,\"=\"&AggregatedData!$B125,Datasheet!$C$2:$C$200000,\"Staff\",Datasheet!$L$2:$L$200000,\"Void\")","v":0}]
[{"$f":"Datasheet!$B$2","v":""},"2021-05-10",{"$f":"COUNTIF(Datasheet!$K$2:$K$200000,\"=\"&AggregatedData!B126)","v":0},{"$f":"COUNTIFS(Datasheet!$K$2:$K$200000,\"=\"&AggregatedData!$B126,Datasheet!$C$2:$C$200000,\"Pupil\",Datasheet!$L$2:$L$200000,\"Positive\")","v":0},{"$f":"COUNTIFS(Datasheet!$K$2:$K$200000,\"=\"&AggregatedData!$B126,Datasheet!$C$2:$C$200000,\"Pupil\",Datasheet!$L$2:$L$200000,\"Negative\")","v":0},{"$f":"COUNTIFS(Datasheet!$K$2:$K$200000,\"=\"&AggregatedData!$B126,Datasheet!$C$2:$C$200000,\"Pupil\",Datasheet!$L$2:$L$200000,\"Void\")","v":0},{"$f":"COUNTIFS(Datasheet!$K$2:$K$200000,\"=\"&AggregatedData!$B126,Datasheet!$C$2:$C$200000,\"Staff\",Datasheet!$L$2:$L$200000,\"Positive\")","v":0},{"$f":"COUNTIFS(Datasheet!$K$2:$K$200000,\"=\"&AggregatedData!$B126,Datasheet!$C$2:$C$200000,\"Staff\",Datasheet!$L$2:$L$200000,\"Negative\")","v":0},{"$f":"COUNTIFS(Datasheet!$K$2:$K$200000,\"=\"&AggregatedData!$B126,Datasheet!$C$2:$C$200000,\"Staff\",Datasheet!$L$2:$L$200000,\"Void\")","v":0}]
[{"$f":"Datasheet!$B$2","v":""},"2021-05-11",{"$f":"COUNTIF(Datasheet!$K$2:$K$200000,\"=\"&AggregatedData!B127)","v":0},{"$f":"COUNTIFS(Datasheet!$K$2:$K$200000,\"=\"&AggregatedData!$B127,Datasheet!$C$2:$C$200000,\"Pupil\",Datasheet!$L$2:$L$200000,\"Positive\")","v":0},{"$f":"COUNTIFS(Datasheet!$K$2:$K$200000,\"=\"&AggregatedData!$B127,Datasheet!$C$2:$C$200000,\"Pupil\",Datasheet!$L$2:$L$200000,\"Negative\")","v":0},{"$f":"COUNTIFS(Datasheet!$K$2:$K$200000,\"=\"&AggregatedData!$B127,Datasheet!$C$2:$C$200000,\"Pupil\",Datasheet!$L$2:$L$200000,\"Void\")","v":0},{"$f":"COUNTIFS(Datasheet!$K$2:$K$200000,\"=\"&AggregatedData!$B127,Datasheet!$C$2:$C$200000,\"Staff\",Datasheet!$L$2:$L$200000,\"Positive\")","v":0},{"$f":"COUNTIFS(Datasheet!$K$2:$K$200000,\"=\"&AggregatedData!$B127,Datasheet!$C$2:$C$200000,\"Staff\",Datasheet!$L$2:$L$200000,\"Negative\")","v":0},{"$f":"COUNTIFS(Datasheet!$K$2:$K$200000,\"=\"&AggregatedData!$B127,Datasheet!$C$2:$C$200000,\"Staff\",Datasheet!$L$2:$L$200000,\"Void\")","v":0}]
[{"$f":"Datasheet!$B$2","v":""},"2021-05-12",{"$f":"COUNTIF(Datasheet!$K$2:$K$200000,\"=\"&AggregatedData!B128)","v":0},{"$f":"COUNTIFS(Datasheet!$K$2:$K$200000,\"=\"&AggregatedData!$B128,Datasheet!$C$2:$C$200000,\"Pupil\",Datasheet!$L$2:$L$200000,\"Positive\")","v":0},{"$f":"COUNTIFS(Datasheet!$K$2:$K$200000,\"=\"&AggregatedData!$B128,Datasheet!$C$2:$C$200000,\"Pupil\",Datasheet!$L$2:$L$200000,\"Negative\")","v":0},{"$f":"COUNTIFS(Datasheet!$K$2:$K$200000,\"=\"&AggregatedData!$B128,Datasheet!$C$2:$C$200000,\"Pupil\",Datasheet!$L$2:$L$200000,\"Void\")","v":0},{"$f":"COUNTIFS(Datasheet!$K$2:$K$200000,\"=\"&AggregatedData!$B128,Datasheet!$C$2:$C$200000,\"Staff\",Datasheet!$L$2:$L$200000,\"Positive\")","v":0},{"$f":"COUNTIFS(Datasheet!$K$2:$K$200000,\"=\"&AggregatedData!$B128,Datasheet!$C$2:$C$200000,\"Staff\",Datasheet!$L$2:$L$200000,\"Negative\")","v":0},{"$f":"COUNTIFS(Datasheet!$K$2:$K$200000,\"=\"&AggregatedData!$B128,Datasheet!$C$2:$C$200000,\"Staff\",Datasheet!$L$2:$L$200000,\"Void\")","v":0}]
[{"$f":"Datasheet!$B$2","v":""},"2021-05-13",{"$f":"COUNTIF(Datasheet!$K$2:$K$200000,\"=\"&AggregatedData!B129)","v":0},{"$f":"COUNTIFS(Datasheet!$K$2:$K$200000,\"=\"&AggregatedData!$B129,Datasheet!$C$2:$C$200000,\"Pupil\",Datasheet!$L$2:$L$200000,\"Positive\")","v":0},{"$f":"COUNTIFS(Datasheet!$K$2:$K$200000,\"=\"&AggregatedData!$B129,Datasheet!$C$2:$C$200000,\"Pupil\",Datasheet!$L$2:$L$200000,\"Negative\")","v":0},{"$f":"COUNTIFS(Datasheet!$K$2:$K$200000,\"=\"&AggregatedData!$B129,Datasheet!$C$2:$C$200000,\"Pupil\",Datasheet!$L$2:$L$200000,\"Void\")","v":0},{"$f":"COUNTIFS(Datasheet!$K$2:$K$200000,\"=\"&AggregatedData!$B129,Datasheet!$C$2:$C$200000,\"Staff\",Datasheet!$L$2:$L$200000,\"Positive\")","v":0},{"$f":"COUNTIFS(Datasheet!$K$2:$K$200000,\"=\"&AggregatedData!$B129,Datasheet!$C$2:$C$200000,\"Staff\",Datasheet!$L$2:$L$200000,\"Negative\")","v":0},{"$f":"COUNTIFS(Datasheet!$K$2:$K$200000,\"=\"&AggregatedData!$B129,Datasheet!$C$2:$C$200000,\"Staff\",Datasheet!$L$2:$L$200000,\"Void\")","v":0}]
[{"$f":"Datasheet!$B$2","v":""},"2021-05-14",{"$f":"COUNTIF(Datasheet!$K$2:$K$200000,\"=\"&AggregatedData!B130)","v":0},{"$f":"COUNTIFS(Datasheet!$K$2:$K$200000,\"=\"&AggregatedData!$B130,Datasheet!$C$2:$C$200000,\"Pupil\",Datasheet!$L$2:$L$200000,\"Positive\")","v":0},{"$f":"COUNTIFS(Datasheet!$K$2:$K$200000,\"=\"&AggregatedData!$B130,Datasheet!$C$2:$C$200000,\"Pupil\",Datasheet!$L$2:$L$200000,\"Negative\")","v":0},{"$f":"COUNTIFS(Datasheet!$K$2:$K$200000,\"=\"&AggregatedData!$B130,Datasheet!$C$2:$C$200000,\"Pupil\",Datasheet!$L$2:$L$200000,\"Void\")","v":0},{"$f":"COUNTIFS(Datasheet!$K$2:$K$200000,\"=\"&AggregatedData!$B130,Datasheet!$C$2:$C$200000,\"Staff\",Datasheet!$L$2:$L$200000,\"Positive\")","v":0},{"$f":"COUNTIFS(Datasheet!$K$2:$K$200000,\"=\"&AggregatedData!$B130,Datasheet!$C$2:$C$200000,\"Staff\",Datasheet!$L$2:$L$200000,\"Negative\")","v":0},{"$f":"COUNTIFS(Datasheet!$K$2:$K$200000,\"=\"&AggregatedData!$B130,Datasheet!$C$2:$C$200000,\"Staff\",Datasheet!$L$2:$L$200000,\"Void\")","v":0}]
[{"$f":"Datasheet!$B$2","v":""},"2021-05-15",{"$f":"COUNTIF(Datasheet!$K$2:$K$200000,\"=\"&AggregatedData!B131)","v":0},{"$f":"COUNTIFS(Datasheet!$K$2:$K$200000,\"=\"&AggregatedData!$B131,Datasheet!$C$2:$C$200000,\"Pupil\",Datasheet!$L$2:$L$200000,\"Positive\")","v":0},{"$f":"COUNTIFS(Datasheet!$K$2:$K$200000,\"=\"&AggregatedData!$B131,Datasheet!$C$2:$C$200000,\"Pupil\",Datasheet!$L$2:$L$200000,\"Negative\")","v":0},{"$f":"COUNTIFS(Datasheet!$K$2:$K$200000,\"=\"&AggregatedData!$B131,Datasheet!$C$2:$C$200000,\"Pupil\",Datasheet!$L$2:$L$200000,\"Void\")","v":0},{"$f":"COUNTIFS(Datasheet!$K$2:$K$200000,\"=\"&AggregatedData!$B131,Datasheet!$C$2:$C$200000,\"Staff\",Datasheet!$L$2:$L$200000,\"Positive\")","v":0},{"$f":"COUNTIFS(Datasheet!$K$2:$K$200000,\"=\"&AggregatedData!$B131,Datasheet!$C$2:$C$200000,\"Staff\",Datasheet!$L$2:$L$200000,\"Negative\")","v":0},{"$f":"COUNTIFS(Datasheet!$K$2:$K$200000,\"=\"&AggregatedData!$B131,Datasheet!$C$2:$C$200000,\"Staff\",Datasheet!$L$2:$L$200000,\"Void\")","v":0}]
[{"$f":"Datasheet!$B$2","v":""},"2021-05-16",{"$f":"COUNTIF(Datasheet!$K$2:$K$200000,\"=\"&AggregatedData!B132)","v":0},{"$f":"COUNTIFS(Datasheet!$K$2:$K$200000,\"=\"&AggregatedData!$B132,Datasheet!$C$2:$C$200000,\"Pupil\",Datasheet!$L$2:$L$200000,\"Positive\")","v":0},{"$f":"COUNTIFS(Datasheet!$K$2:$K$200000,\"=\"&AggregatedData!$B132,Datasheet!$C$2:$C$200000,\"Pupil\",Datasheet!$L$2:$L$200000,\"Negative\")","v":0},{"$f":"COUNTIFS(Datasheet!$K$2:$K$200000,\"=\"&AggregatedData!$B132,Datasheet!$C$2:$C$200000,\"Pupil\",Datasheet!$L$2:$L$200000,\"Void\")","v":0},{"$f":"COUNTIFS(Datasheet!$K$2:$K$200000,\"=\"&AggregatedData!$B132,Datasheet!$C$2:$C$200000,\"Staff\",Datasheet!$L$2:$L$200000,\"Positive\")","v":0},{"$f":"COUNTIFS(Datasheet!$K$2:$K$200000,\"=\"&AggregatedData!$B132,Datasheet!$C$2:$C$200000,\"Staff\",Datasheet!$L$2:$L$200000,\"Negative\")","v":0},{"$f":"COUNTIFS(Datasheet!$K$2:$K$200000,\"=\"&AggregatedData!$B132,Datasheet!$C$2:$C$200000,\"Staff\",Datasheet!$L$2:$L$200000,\"Void\")","v":0}]
[{"$f":"Datasheet!$B$2","v":""},"2021-05-17",{"$f":"COUNTIF(Datasheet!$K$2:$K$200000,\"=\"&AggregatedData!B133)","v":0},{"$f":"COUNTIFS(Datasheet!$K$2:$K$200000,\"=\"&AggregatedData!$B133,Datasheet!$C$2:$C$200000,\"Pupil\",Datasheet!$L$2:$L$200000,\"Positive\")","v":0},{"$f":"COUNTIFS(Datasheet!$K$2:$K$200000,\"=\"&AggregatedData!$B133,Datasheet!$C$2:$C$200000,\"Pupil\",Datasheet!$L$2:$L$200000,\"Negative\")","v":0},{"$f":"COUNTIFS(Datasheet!$K$2:$K$200000,\"=\"&AggregatedData!$B133,Datasheet!$C$2:$C$200000,\"Pupil\",Datasheet!$L$2:$L$200000,\"Void\")","v":0},{"$f":"COUNTIFS(Datasheet!$K$2:$K$200000,\"=\"&AggregatedData!$B133,Datasheet!$C$2:$C$200000,\"Staff\",Datasheet!$L$2:$L$200000,\"Positive\")","v":0},{"$f":"COUNTIFS(Datasheet!$K$2:$K$200000,\"=\"&AggregatedData!$B133,Datasheet!$C$2:$C$200000,\"Staff\",Datasheet!$L$2:$L$200000,\"Negative\")","v":0},{"$f":"COUNTIFS(Datasheet!$K$2:$K$200000,\"=\"&AggregatedData!$B133,Datasheet!$C$2:$C$200000,\"Staff\",Datasheet!$L$2:$L$200000,\"Void\")","v":0}]
[{"$f":"Datasheet!$B$2","v":""},"2021-05-18",{"$f":"COUNTIF(Datasheet!$K$2:$K$200000,\"=\"&AggregatedData!B134)","v":0},{"$f":"COUNTIFS(Datasheet!$K$2:$K$200000,\"=\"&AggregatedData!$B134,Datasheet!$C$2:$C$200000,\"Pupil\",Datasheet!$L$2:$L$200000,\"Positive\")","v":0},{"$f":"COUNTIFS(Datasheet!$K$2:$K$200000,\"=\"&AggregatedData!$B134,Datasheet!$C$2:$C$200000,\"Pupil\",Datasheet!$L$2:$L$200000,\"Negative\")","v":0},{"$f":"COUNTIFS(Datasheet!$K$2:$K$200000,\"=\"&AggregatedData!$B134,Datasheet!$C$2:$C$200000,\"Pupil\",Datasheet!$L$2:$L$200000,\"Void\")","v":0},{"$f":"COUNTIFS(Datasheet!$K$2:$K$200000,\"=\"&AggregatedData!$B134,Datasheet!$C$2:$C$200000,\"Staff\",Datasheet!$L$2:$L$200000,\"Positive\")","v":0},{"$f":"COUNTIFS(Datasheet!$K$2:$K$200000,\"=\"&AggregatedData!$B134,Datasheet!$C$2:$C$200000,\"Staff\",Datasheet!$L$2:$L$200000,\"Negative\")","v":0},{"$f":"COUNTIFS(Datasheet!$K$2:$K$200000,\"=\"&AggregatedData!$B134,Datasheet!$C$2:$C$200000,\"Staff\",Datasheet!$L$2:$L$200000,\"Void\")","v":0}]
[{"$f":"Datasheet!$B$2","v":""},"2021-05-19",{"$f":"COUNTIF(Datasheet!$K$2:$K$200000,\"=\"&AggregatedData!B135)","v":0},{"$f":"COUNTIFS(Datasheet!$K$2:$K$200000,\"=\"&AggregatedData!$B135,Datasheet!$C$2:$C$200000,\"Pupil\",Datasheet!$L$2:$L$200000,\"Positive\")","v":0},{"$f":"COUNTIFS(Datasheet!$K$2:$K$200000,\"=\"&AggregatedData!$B135,Datasheet!$C$2:$C$200000,\"Pupil\",Datasheet!$L$2:$L$200000,\"Negative\")","v":0},{"$f":"COUNTIFS(Datasheet!$K$2:$K$200000,\"=\"&AggregatedData!$B135,Datasheet!$C$2:$C$200000,\"Pupil\",Datasheet!$L$2:$L$200000,\"Void\")","v":0},{"$f":"COUNTIFS(Datasheet!$K$2:$K$200000,\"=\"&AggregatedData!$B135,Datasheet!$C$2:$C$200000,\"Staff\",Datasheet!$L$2:$L$200000,\"Positive\")","v":0},{"$f":"COUNTIFS(Datasheet!$K$2:$K$200000,\"=\"&AggregatedData!$B135,Datasheet!$C$2:$C$200000,\"Staff\",Datasheet!$L$2:$L$200000,\"Negative\")","v":0},{"$f":"COUNTIFS(Datasheet!$K$2:$K$200000,\"=\"&AggregatedData!$B135,Datasheet!$C$2:$C$200000,\"Staff\",Datasheet!$L$2:$L$200000,\"Void\")","v":0}]
[{"$f":"Datasheet!$B$2","v":""},"2021-05-20",{"$f":"COUNTIF(Datasheet!$K$2:$K$200000,\"=\"&AggregatedData!B136)","v":0},{"$f":"COUNTIFS(Datasheet!$K$2:$K$200000,\"=\"&AggregatedData!$B136,Datasheet!$C$2:$C$200000,\"Pupil\",Datasheet!$L$2:$L$200000,\"Positive\")","v":0},{"$f":"COUNTIFS(Datasheet!$K$2:$K$200000,\"=\"&AggregatedData!$B136,Datasheet!$C$2:$C$200000,\"Pupil\",Datasheet!$L$2:$L$200000,\"Negative\")","v":0},{"$f":"COUNTIFS(Datasheet!$K$2:$K$200000,\"=\"&AggregatedData!$B136,Datasheet!$C$2:$C$200000,\"Pupil\",Datasheet!$L$2:$L$200000,\"Void\")","v":0},{"$f":"COUNTIFS(Datasheet!$K$2:$K$200000,\"=\"&AggregatedData!$B136,Datasheet!$C$2:$C$200000,\"Staff\",Datasheet!$L$2:$L$200000,\"Positive\")","v":0},{"$f":"COUNTIFS(Datasheet!$K$2:$K$200000,\"=\"&AggregatedData!$B136,Datasheet!$C$2:$C$200000,\"Staff\",Datasheet!$L$2:$L$200000,\"Negative\")","v":0},{"$f":"COUNTIFS(Datasheet!$K$2:$K$200000,\"=\"&AggregatedData!$B136,Datasheet!$C$2:$C$200000,\"Staff\",Datasheet!$L$2:$L$200000,\"Void\")","v":0}]
[{"$f":"Datasheet!$B$2","v":""},"2021-05-21",{"$f":"COUNTIF(Datasheet!$K$2:$K$200000,\"=\"&AggregatedData!B137)","v":0},{"$f":"COUNTIFS(Datasheet!$K$2:$K$200000,\"=\"&AggregatedData!$B137,Datasheet!$C$2:$C$200000,\"Pupil\",Datasheet!$L$2:$L$200000,\"Positive\")","v":0},{"$f":"COUNTIFS(Datasheet!$K$2:$K$200000,\"=\"&AggregatedData!$B137,Datasheet!$C$2:$C$200000,\"Pupil\",Datasheet!$L$2:$L$200000,\"Negative\")","v":0},{"$f":"COUNTIFS(Datasheet!$K$2:$K$200000,\"=\"&AggregatedData!$B137,Datasheet!$C$2:$C$200000,\"Pupil\",Datasheet!$L$2:$L$200000,\"Void\")","v":0},{"$f":"COUNTIFS(Datasheet!$K$2:$K$200000,\"=\"&AggregatedData!$B137,Datasheet!$C$2:$C$200000,\"Staff\",Datasheet!$L$2:$L$200000,\"Positive\")","v":0},{"$f":"COUNTIFS(Datasheet!$K$2:$K$200000,\"=\"&AggregatedData!$B137,Datasheet!$C$2:$C$200000,\"Staff\",Datasheet!$L$2:$L$200000,\"Negative\")","v":0},{"$f":"COUNTIFS(Datasheet!$K$2:$K$200000,\"=\"&AggregatedData!$B137,Datasheet!$C$2:$C$200000,\"Staff\",Datasheet!$L$2:$L$200000,\"Void\")","v":0}]
[{"$f":"Datasheet!$B$2","v":""},"2021-05-22",{"$f":"COUNTIF(Datasheet!$K$2:$K$200000,\"=\"&AggregatedData!B138)","v":0},{"$f":"COUNTIFS(Datasheet!$K$2:$K$200000,\"=\"&AggregatedData!$B138,Datasheet!$C$2:$C$200000,\"Pupil\",Datasheet!$L$2:$L$200000,\"Positive\")","v":0},{"$f":"COUNTIFS(Datasheet!$K$2:$K$200000,\"=\"&AggregatedData!$B138,Datasheet!$C$2:$C$200000,\"Pupil\",Datasheet!$L$2:$L$200000,\"Negative\")","v":0},{"$f":"COUNTIFS(Datasheet!$K$2:$K$200000,\"=\"&AggregatedData!$B138,Datasheet!$C$2:$C$200000,\"Pupil\",Datasheet!$L$2:$L$200000,\"Void\")","v":0},{"$f":"COUNTIFS(Datasheet!$K$2:$K$200000,\"=\"&AggregatedData!$B138,Datasheet!$C$2:$C$200000,\"Staff\",Datasheet!$L$2:$L$200000,\"Positive\")","v":0},{"$f":"COUNTIFS(Datasheet!$K$2:$K$200000,\"=\"&AggregatedData!$B138,Datasheet!$C$2:$C$200000,\"Staff\",Datasheet!$L$2:$L$200000,\"Negative\")","v":0},{"$f":"COUNTIFS(Datasheet!$K$2:$K$200000,\"=\"&AggregatedData!$B138,Datasheet!$C$2:$C$200000,\"Staff\",Datasheet!$L$2:$L$200000,\"Void\")","v":0}]
[{"$f":"Datasheet!$B$2","v":""},"2021-05-23",{"$f":"COUNTIF(Datasheet!$K$2:$K$200000,\"=\"&AggregatedData!B139)","v":0},{"$f":"COUNTIFS(Datasheet!$K$2:$K$200000,\"=\"&AggregatedData!$B139,Datasheet!$C$2:$C$200000,\"Pupil\",Datasheet!$L$2:$L$200000,\"Positive\")","v":0},{"$f":"COUNTIFS(Datasheet!$K$2:$K$200000,\"=\"&AggregatedData!$B139,Datasheet!$C$2:$C$200000,\"Pupil\",Datasheet!$L$2:$L$200000,\"Negative\")","v":0},{"$f":"COUNTIFS(Datasheet!$K$2:$K$200000,\"=\"&AggregatedData!$B139,Datasheet!$C$2:$C$200000,\"Pupil\",Datasheet!$L$2:$L$200000,\"Void\")","v":0},{"$f":"COUNTIFS(Datasheet!$K$2:$K$200000,\"=\"&AggregatedData!$B139,Datasheet!$C$2:$C$200000,\"Staff\",Datasheet!$L$2:$L$200000,\"Positive\")","v":0},{"$f":"COUNTIFS(Datasheet!$K$2:$K$200000,\"=\"&AggregatedData!$B139,Datasheet!$C$2:$C$200000,\"Staff\",Datasheet!$L$2:$L$200000,\"Negative\")","v":0},{"$f":"COUNTIFS(Datasheet!$K$2:$K$200000,\"=\"&AggregatedData!$B139,Datasheet!$C$2:$C$200000,\"Staff\",Datasheet!$L$2:$L$200000,\"Void\")","v":0}]
[{"$f":"Datasheet!$B$2","v":""},"2021-05-24",{"$f":"COUNTIF(Datasheet!$K$2:$K$200000,\"=\"&AggregatedData!B140)","v":0},{"$f":"COUNTIFS(Datasheet!$K$2:$K$200000,\"=\"&AggregatedData!$B140,Datasheet!$C$2:$C$200000,\"Pupil\",Datasheet!$L$2:$L$200000,\"Positive\")","v":0},{"$f":"COUNTIFS(Datasheet!$K$2:$K$200000,\"=\"&AggregatedData!$B140,Datasheet!$C$2:$C$200000,\"Pupil\",Datasheet!$L$2:$L$200000,\"Negative\")","v":0},{"$f":"COUNTIFS(Datasheet!$K$2:$K$200000,\"=\"&AggregatedData!$B140,Datasheet!$C$2:$C$200000,\"Pupil\",Datasheet!$L$2:$L$200000,\"Void\")","v":0},{"$f":"COUNTIFS(Datasheet!$K$2:$K$200000,\"=\"&AggregatedData!$B140,Datasheet!$C$2:$C$200000,\"Staff\",Datasheet!$L$2:$L$200000,\"Positive\")","v":0},{"$f":"COUNTIFS(Datasheet!$K$2:$K$200000,\"=\"&AggregatedData!$B140,Datasheet!$C$2:$C$200000,\"Staff\",Datasheet!$L$2:$L$200000,\"Negative\")","v":0},{"$f":"COUNTIFS(Datasheet!$K$2:$K$200000,\"=\"&AggregatedData!$B140,Datasheet!$C$2:$C$200000,\"Staff\",Datasheet!$L$2:$L$200000,\"Void\")","v":0}]
[{"$f":"Datasheet!$B$2","v":""},"2021-05-25",{"$f":"COUNTIF(Datasheet!$K$2:$K$200000,\"=\"&AggregatedData!B141)","v":0},{"$f":"COUNTIFS(Datasheet!$K$2:$K$200000,\"=\"&AggregatedData!$B141,Datasheet!$C$2:$C$200000,\"Pupil\",Datasheet!$L$2:$L$200000,\"Positive\")","v":0},{"$f":"COUNTIFS(Datasheet!$K$2:$K$200000,\"=\"&AggregatedData!$B141,Datasheet!$C$2:$C$200000,\"Pupil\",Datasheet!$L$2:$L$200000,\"Negative\")","v":0},{"$f":"COUNTIFS(Datasheet!$K$2:$K$200000,\"=\"&AggregatedData!$B141,Datasheet!$C$2:$C$200000,\"Pupil\",Datasheet!$L$2:$L$200000,\"Void\")","v":0},{"$f":"COUNTIFS(Datasheet!$K$2:$K$200000,\"=\"&AggregatedData!$B141,Datasheet!$C$2:$C$200000,\"Staff\",Datasheet!$L$2:$L$200000,\"Positive\")","v":0},{"$f":"COUNTIFS(Datasheet!$K$2:$K$200000,\"=\"&AggregatedData!$B141,Datasheet!$C$2:$C$200000,\"Staff\",Datasheet!$L$2:$L$200000,\"Negative\")","v":0},{"$f":"COUNTIFS(Datasheet!$K$2:$K$200000,\"=\"&AggregatedData!$B141,Datasheet!$C$2:$C$200000,\"Staff\",Datasheet!$L$2:$L$200000,\"Void\")","v":0}]
[{"$f":"Datasheet!$B$2","v":""},"2021-05-26",{"$f":"COUNTIF(Datasheet!$K$2:$K$200000,\"=\"&AggregatedData!B142)","v":0},{"$f":"COUNTIFS(Datasheet!$K$2:$K$200000,\"=\"&AggregatedData!$B142,Datasheet!$C$2:$C$200000,\"Pupil\",Datasheet!$L$2:$L$200000,\"Positive\")","v":0},{"$f":"COUNTIFS(Datasheet!$K$2:$K$200000,\"=\"&AggregatedData!$B142,Datasheet!$C$2:$C$200000,\"Pupil\",Datasheet!$L$2:$L$200000,\"Negative\")","v":0},{"$f":"COUNTIFS(Datasheet!$K$2:$K$200000,\"=\"&AggregatedData!$B142,Datasheet!$C$2:$C$200000,\"Pupil\",Datasheet!$L$2:$L$200000,\"Void\")","v":0},{"$f":"COUNTIFS(Datasheet!$K$2:$K$200000,\"=\"&AggregatedData!$B142,Datasheet!$C$2:$C$200000,\"Staff\",Datasheet!$L$2:$L$200000,\"Positive\")","v":0},{"$f":"COUNTIFS(Datasheet!$K$2:$K$200000,\"=\"&AggregatedData!$B142,Datasheet!$C$2:$C$200000,\"Staff\",Datasheet!$L$2:$L$200000,\"Negative\")","v":0},{"$f":"COUNTIFS(Datasheet!$K$2:$K$200000,\"=\"&AggregatedData!$B142,Datasheet!$C$2:$C$200000,\"Staff\",Datasheet!$L$2:$L$200000,\"Void\")","v":0}]
[{"$f":"Datasheet!$B$2","v":""},"2021-05-27",{"$f":"COUNTIF(Datasheet!$K$2:$K$200000,\"=\"&AggregatedData!B143)","v":0},{"$f":"COUNTIFS(Datasheet!$K$2:$K$200000,\"=\"&AggregatedData!$B143,Datasheet!$C$2:$C$200000,\"Pupil\",Datasheet!$L$2:$L$200000,\"Positive\")","v":0},{"$f":"COUNTIFS(Datasheet!$K$2:$K$200000,\"=\"&AggregatedData!$B143,Datasheet!$C$2:$C$200000,\"Pupil\",Datasheet!$L$2:$L$200000,\"Negative\")","v":0},{"$f":"COUNTIFS(Datasheet!$K$2:$K$200000,\"=\"&AggregatedData!$B143,Datasheet!$C$2:$C$200000,\"Pupil\",Datasheet!$L$2:$L$200000,\"Void\")","v":0},{"$f":"COUNTIFS(Datasheet!$K$2:$K$200000,\"=\"&AggregatedData!$B143,Datasheet!$C$2:$C$200000,\"Staff\",Datasheet!$L$2:$L$200000,\"Positive\")","v":0},{"$f":"COUNTIFS(Datasheet!$K$2:$K$200000,\"=\"&AggregatedData!$B143,Datasheet!$C$2:$C$200000,\"Staff\",Datasheet!$L$2:$L$200000,\"Negative\")","v":0},{"$f":"COUNTIFS(Datasheet!$K$2:$K$200000,\"=\"&AggregatedData!$B143,Datasheet!$C$2:$C$200000,\"Staff\",Datasheet!$L$2:$L$200000,\"Void\")","v":0}]
[{"$f":"Datasheet!$B$2","v":""},"2021-05-28",{"$f":"COUNTIF(Datasheet!$K$2:$K$200000,\"=\"&AggregatedData!B144)","v":0},{"$f":"COUNTIFS(Datasheet!$K$2:$K$200000,\"=\"&AggregatedData!$B144,Datasheet!$C$2:$C$200000,\"Pupil\",Datasheet!$L$2:$L$200000,\"Positive\")","v":0},{"$f":"COUNTIFS(Datasheet!$K$2:$K$200000,\"=\"&AggregatedData!$B144,Datasheet!$C$2:$C$200000,\"Pupil\",Datasheet!$L$2:$L$200000,\"Negative\")","v":0},{"$f":"COUNTIFS(Datasheet!$K$2:$K$200000,\"=\"&AggregatedData!$B144,Datasheet!$C$2:$C$200000,\"Pupil\",Datasheet!$L$2:$L$200000,\"Void\")","v":0},{"$f":"COUNTIFS(Datasheet!$K$2:$K$200000,\"=\"&AggregatedData!$B144,Datasheet!$C$2:$C$200000,\"Staff\",Datasheet!$L$2:$L$200000,\"Positive\")","v":0},{"$f":"COUNTIFS(Datasheet!$K$2:$K$200000,\"=\"&AggregatedData!$B144,Datasheet!$C$2:$C$200000,\"Staff\",Datasheet!$L$2:$L$200000,\"Negative\")","v":0},{"$f":"COUNTIFS(Datasheet!$K$2:$K$200000,\"=\"&AggregatedData!$B144,Datasheet!$C$2:$C$200000,\"Staff\",Datasheet!$L$2:$L$200000,\"Void\")","v":0}]
[{"$f":"Datasheet!$B$2","v":""},"2021-05-29",{"$f":"COUNTIF(Datasheet!$K$2:$K$200000,\"=\"&AggregatedData!B145)","v":0},{"$f":"COUNTIFS(Datasheet!$K$2:$K$200000,\"=\"&AggregatedData!$B145,Datasheet!$C$2:$C$200000,\"Pupil\",Datasheet!$L$2:$L$200000,\"Positive\")","v":0},{"$f":"COUNTIFS(Datasheet!$K$2:$K$200000,\"=\"&AggregatedData!$B145,Datasheet!$C$2:$C$200000,\"Pupil\",Datasheet!$L$2:$L$200000,\"Negative\")","v":0},{"$f":"COUNTIFS(Datasheet!$K$2:$K$200000,\"=\"&AggregatedData!$B145,Datasheet!$C$2:$C$200000,\"Pupil\",Datasheet!$L$2:$L$200000,\"Void\")","v":0},{"$f":"COUNTIFS(Datasheet!$K$2:$K$200000,\"=\"&AggregatedData!$B145,Datasheet!$C$2:$C$200000,\"Staff\",Datasheet!$L$2:$L$200000,\"Positive\")","v":0},{"$f":"COUNTIFS(Datasheet!$K$2:$K$200000,\"=\"&AggregatedData!$B145,Datasheet!$C$2:$C$200000,\"Staff\",Datasheet!$L$2:$L$200000,\"Negative\")","v":0},{"$f":"COUNTIFS(Datasheet!$K$2:$K$200000,\"=\"&AggregatedData!$B145,Datasheet!$C$2:$C$200000,\"Staff\",Datasheet!$L$2:$L$200000,\"Void\")","v":0}]
[{"$f":"Datasheet!$B$2","v":""},"2021-05-30",{"$f":"COUNTIF(Datasheet!$K$2:$K$200000,\"=\"&AggregatedData!B146)","v":0},{"$f":"COUNTIFS(Datasheet!$K$2:$K$200000,\"=\"&AggregatedData!$B146,Datasheet!$C$2:$C$200000,\"Pupil\",Datasheet!$L$2:$L$200000,\"Positive\")","v":0},{"$f":"COUNTIFS(Datasheet!$K$2:$K$200000,\"=\"&AggregatedData!$B146,Datasheet!$C$2:$C$200000,\"Pupil\",Datasheet!$L$2:$L$200000,\"Negative\")","v":0},{"$f":"COUNTIFS(Datasheet!$K$2:$K$200000,\"=\"&AggregatedData!$B146,Datasheet!$C$2:$C$200000,\"Pupil\",Datasheet!$L$2:$L$200000,\"Void\")","v":0},{"$f":"COUNTIFS(Datasheet!$K$2:$K$200000,\"=\"&AggregatedData!$B146,Datasheet!$C$2:$C$200000,\"Staff\",Datasheet!$L$2:$L$200000,\"Positive\")","v":0},{"$f":"COUNTIFS(Datasheet!$K$2:$K$200000,\"=\"&AggregatedData!$B146,Datasheet!$C$2:$C$200000,\"Staff\",Datasheet!$L$2:$L$200000,\"Negative\")","v":0},{"$f":"COUNTIFS(Datasheet!$K$2:$K$200000,\"=\"&AggregatedData!$B146,Datasheet!$C$2:$C$200000,\"Staff\",Datasheet!$L$2:$L$200000,\"Void\")","v":0}]
[{"$f":"Datasheet!$B$2","v":""},"2021-05-31",{"$f":"COUNTIF(Datasheet!$K$2:$K$200000,\"=\"&AggregatedData!B147)","v":0},{"$f":"COUNTIFS(Datasheet!$K$2:$K$200000,\"=\"&AggregatedData!$B147,Datasheet!$C$2:$C$200000,\"Pupil\",Datasheet!$L$2:$L$200000,\"Positive\")","v":0},{"$f":"COUNTIFS(Datasheet!$K$2:$K$200000,\"=\"&AggregatedData!$B147,Datasheet!$C$2:$C$200000,\"Pupil\",Datasheet!$L$2:$L$200000,\"Negative\")","v":0},{"$f":"COUNTIFS(Datasheet!$K$2:$K$200000,\"=\"&AggregatedData!$B147,Datasheet!$C$2:$C$200000,\"Pupil\",Datasheet!$L$2:$L$200000,\"Void\")","v":0},{"$f":"COUNTIFS(Datasheet!$K$2:$K$200000,\"=\"&AggregatedData!$B147,Datasheet!$C$2:$C$200000,\"Staff\",Datasheet!$L$2:$L$200000,\"Positive\")","v":0},{"$f":"COUNTIFS(Datasheet!$K$2:$K$200000,\"=\"&AggregatedData!$B147,Datasheet!$C$2:$C$200000,\"Staff\",Datasheet!$L$2:$L$200000,\"Negative\")","v":0},{"$f":"COUNTIFS(Datasheet!$K$2:$K$200000,\"=\"&AggregatedData!$B147,Datasheet!$C$2:$C$200000,\"Staff\",Datasheet!$L$2:$L$200000,\"Void\")","v":0}]
[{"$f":"Datasheet!$B$2","v":""},"2021-06-01",{"$f":"COUNTIF(Datasheet!$K$2:$K$200000,\"=\"&AggregatedData!B148)","v":0},{"$f":"COUNTIFS(Datasheet!$K$2:$K$200000,\"=\"&AggregatedData!$B148,Datasheet!$C$2:$C$200000,\"Pupil\",Datasheet!$L$2:$L$200000,\"Positive\")","v":0},{"$f":"COUNTIFS(Datasheet!$K$2:$K$200000,\"=\"&AggregatedData!$B148,Datasheet!$C$2:$C$200000,\"Pupil\",Datasheet!$L$2:$L$200000,\"Negative\")","v":0},{"$f":"COUNTIFS(Datasheet!$K$2:$K$200000,\"=\"&AggregatedData!$B148,Datasheet!$C$2:$C$200000,\"Pupil\",Datasheet!$L$2:$L$200000,\"Void\")","v":0},{"$f":"COUNTIFS(Datasheet!$K$2:$K$200000,\"=\"&AggregatedData!$B148,Datasheet!$C$2:$C$200000,\"Staff\",Datasheet!$L$2:$L$200000,\"Positive\")","v":0},{"$f":"COUNTIFS(Datasheet!$K$2:$K$200000,\"=\"&AggregatedData!$B148,Datasheet!$C$2:$C$200000,\"Staff\",Datasheet!$L$2:$L$200000,\"Negative\")","v":0},{"$f":"COUNTIFS(Datasheet!$K$2:$K$200000,\"=\"&AggregatedData!$B148,Datasheet!$C$2:$C$200000,\"Staff\",Datasheet!$L$2:$L$200000,\"Void\")","v":0}]
[{"$f":"Datasheet!$B$2","v":""},"2021-06-02",{"$f":"COUNTIF(Datasheet!$K$2:$K$200000,\"=\"&AggregatedData!B149)","v":0},{"$f":"COUNTIFS(Datasheet!$K$2:$K$200000,\"=\"&AggregatedData!$B149,Datasheet!$C$2:$C$200000,\"Pupil\",Datasheet!$L$2:$L$200000,\"Positive\")","v":0},{"$f":"COUNTIFS(Datasheet!$K$2:$K$200000,\"=\"&AggregatedData!$B149,Datasheet!$C$2:$C$200000,\"Pupil\",Datasheet!$L$2:$L$200000,\"Negative\")","v":0},{"$f":"COUNTIFS(Datasheet!$K$2:$K$200000,\"=\"&AggregatedData!$B149,Datasheet!$C$2:$C$200000,\"Pupil\",Datasheet!$L$2:$L$200000,\"Void\")","v":0},{"$f":"COUNTIFS(Datasheet!$K$2:$K$200000,\"=\"&AggregatedData!$B149,Datasheet!$C$2:$C$200000,\"Staff\",Datasheet!$L$2:$L$200000,\"Positive\")","v":0},{"$f":"COUNTIFS(Datasheet!$K$2:$K$200000,\"=\"&AggregatedData!$B149,Datasheet!$C$2:$C$200000,\"Staff\",Datasheet!$L$2:$L$200000,\"Negative\")","v":0},{"$f":"COUNTIFS(Datasheet!$K$2:$K$200000,\"=\"&AggregatedData!$B149,Datasheet!$C$2:$C$200000,\"Staff\",Datasheet!$L$2:$L$200000,\"Void\")","v":0}]
[{"$f":"Datasheet!$B$2","v":""},"2021-06-03",{"$f":"COUNTIF(Datasheet!$K$2:$K$200000,\"=\"&AggregatedData!B150)","v":0},{"$f":"COUNTIFS(Datasheet!$K$2:$K$200000,\"=\"&AggregatedData!$B150,Datasheet!$C$2:$C$200000,\"Pupil\",Datasheet!$L$2:$L$200000,\"Positive\")","v":0},{"$f":"COUNTIFS(Datasheet!$K$2:$K$200000,\"=\"&AggregatedData!$B150,Datasheet!$C$2:$C$200000,\"Pupil\",Datasheet!$L$2:$L$200000,\"Negative\")","v":0},{"$f":"COUNTIFS(Datasheet!$K$2:$K$200000,\"=\"&AggregatedData!$B150,Datasheet!$C$2:$C$200000,\"Pupil\",Datasheet!$L$2:$L$200000,\"Void\")","v":0},{"$f":"COUNTIFS(Datasheet!$K$2:$K$200000,\"=\"&AggregatedData!$B150,Datasheet!$C$2:$C$200000,\"Staff\",Datasheet!$L$2:$L$200000,\"Positive\")","v":0},{"$f":"COUNTIFS(Datasheet!$K$2:$K$200000,\"=\"&AggregatedData!$B150,Datasheet!$C$2:$C$200000,\"Staff\",Datasheet!$L$2:$L$200000,\"Negative\")","v":0},{"$f":"COUNTIFS(Datasheet!$K$2:$K$200000,\"=\"&AggregatedData!$B150,Datasheet!$C$2:$C$200000,\"Staff\",Datasheet!$L$2:$L$200000,\"Void\")","v":0}]
[{"$f":"Datasheet!$B$2","v":""},"2021-06-04",{"$f":"COUNTIF(Datasheet!$K$2:$K$200000,\"=\"&AggregatedData!B151)","v":0},{"$f":"COUNTIFS(Datasheet!$K$2:$K$200000,\"=\"&AggregatedData!$B151,Datasheet!$C$2:$C$200000,\"Pupil\",Datasheet!$L$2:$L$200000,\"Positive\")","v":0},{"$f":"COUNTIFS(Datasheet!$K$2:$K$200000,\"=\"&AggregatedData!$B151,Datasheet!$C$2:$C$200000,\"Pupil\",Datasheet!$L$2:$L$200000,\"Negative\")","v":0},{"$f":"COUNTIFS(Datasheet!$K$2:$K$200000,\"=\"&AggregatedData!$B151,Datasheet!$C$2:$C$200000,\"Pupil\",Datasheet!$L$2:$L$200000,\"Void\")","v":0},{"$f":"COUNTIFS(Datasheet!$K$2:$K$200000,\"=\"&AggregatedData!$B151,Datasheet!$C$2:$C$200000,\"Staff\",Datasheet!$L$2:$L$200000,\"Positive\")","v":0},{"$f":"COUNTIFS(Datasheet!$K$2:$K$200000,\"=\"&AggregatedData!$B151,Datasheet!$C$2:$C$200000,\"Staff\",Datasheet!$L$2:$L$200000,\"Negative\")","v":0},{"$f":"COUNTIFS(Datasheet!$K$2:$K$200000,\"=\"&AggregatedData!$B151,Datasheet!$C$2:$C$200000,\"Staff\",Datasheet!$L$2:$L$200000,\"Void\")","v":0}]
[{"$f":"Datasheet!$B$2","v":""},"2021-06-05",{"$f":"COUNTIF(Datasheet!$K$2:$K$200000,\"=\"&AggregatedData!B152)","v":0},{"$f":"COUNTIFS(Datasheet!$K$2:$K$200000,\"=\"&AggregatedData!$B152,Datasheet!$C$2:$C$200000,\"Pupil\",Datasheet!$L$2:$L$200000,\"Positive\")","v":0},{"$f":"COUNTIFS(Datasheet!$K$2:$K$200000,\"=\"&AggregatedData!$B152,Datasheet!$C$2:$C$200000,\"Pupil\",Datasheet!$L$2:$L$200000,\"Negative\")","v":0},{"$f":"COUNTIFS(Datasheet!$K$2:$K$200000,\"=\"&AggregatedData!$B152,Datasheet!$C$2:$C$200000,\"Pupil\",Datasheet!$L$2:$L$200000,\"Void\")","v":0},{"$f":"COUNTIFS(Datasheet!$K$2:$K$200000,\"=\"&AggregatedData!$B152,Datasheet!$C$2:$C$200000,\"Staff\",Datasheet!$L$2:$L$200000,\"Positive\")","v":0},{"$f":"COUNTIFS(Datasheet!$K$2:$K$200000,\"=\"&AggregatedData!$B152,Datasheet!$C$2:$C$200000,\"Staff\",Datasheet!$L$2:$L$200000,\"Negative\")","v":0},{"$f":"COUNTIFS(Datasheet!$K$2:$K$200000,\"=\"&AggregatedData!$B152,Datasheet!$C$2:$C$200000,\"Staff\",Datasheet!$L$2:$L$200000,\"Void\")","v":0}]
[{"$f":"Datasheet!$B$2","v":""},"2021-06-06",{"$f":"COUNTIF(Datasheet!$K$2:$K$200000,\"=\"&AggregatedData!B153)","v":0},{"$f":"COUNTIFS(Datasheet!$K$2:$K$200000,\"=\"&AggregatedData!$B153,Datasheet!$C$2:$C$200000,\"Pupil\",Datasheet!$L$2:$L$200000,\"Positive\")","v":0},{"$f":"COUNTIFS(Datasheet!$K$2:$K$200000,\"=\"&AggregatedData!$B153,Datasheet!$C$2:$C$200000,\"Pupil\",Datasheet!$L$2:$L$200000,\"Negative\")","v":0},{"$f":"COUNTIFS(Datasheet!$K$2:$K$200000,\"=\"&AggregatedData!$B153,Datasheet!$C$2:$C$200000,\"Pupil\",Datasheet!$L$2:$L$200000,\"Void\")","v":0},{"$f":"COUNTIFS(Datasheet!$K$2:$K$200000,\"=\"&AggregatedData!$B153,Datasheet!$C$2:$C$200000,\"Staff\",Datasheet!$L$2:$L$200000,\"Positive\")","v":0},{"$f":"COUNTIFS(Datasheet!$K$2:$K$200000,\"=\"&AggregatedData!$B153,Datasheet!$C$2:$C$200000,\"Staff\",Datasheet!$L$2:$L$200000,\"Negative\")","v":0},{"$f":"COUNTIFS(Datasheet!$K$2:$K$200000,\"=\"&AggregatedData!$B153,Datasheet!$C$2:$C$200000,\"Staff\",Datasheet!$L$2:$L$200000,\"Void\")","v":0}]
[{"$f":"Datasheet!$B$2","v":""},"2021-06-07",{"$f":"COUNTIF(Datasheet!$K$2:$K$200000,\"=\"&AggregatedData!B154)","v":0},{"$f":"COUNTIFS(Datasheet!$K$2:$K$200000,\"=\"&AggregatedData!$B154,Datasheet!$C$2:$C$200000,\"Pupil\",Datasheet!$L$2:$L$200000,\"Positive\")","v":0},{"$f":"COUNTIFS(Datasheet!$K$2:$K$200000,\"=\"&AggregatedData!$B154,Datasheet!$C$2:$C$200000,\"Pupil\",Datasheet!$L$2:$L$200000,\"Negative\")","v":0},{"$f":"COUNTIFS(Datasheet!$K$2:$K$200000,\"=\"&AggregatedData!$B154,Datasheet!$C$2:$C$200000,\"Pupil\",Datasheet!$L$2:$L$200000,\"Void\")","v":0},{"$f":"COUNTIFS(Datasheet!$K$2:$K$200000,\"=\"&AggregatedData!$B154,Datasheet!$C$2:$C$200000,\"Staff\",Datasheet!$L$2:$L$200000,\"Positive\")","v":0},{"$f":"COUNTIFS(Datasheet!$K$2:$K$200000,\"=\"&AggregatedData!$B154,Datasheet!$C$2:$C$200000,\"Staff\",Datasheet!$L$2:$L$200000,\"Negative\")","v":0},{"$f":"COUNTIFS(Datasheet!$K$2:$K$200000,\"=\"&AggregatedData!$B154,Datasheet!$C$2:$C$200000,\"Staff\",Datasheet!$L$2:$L$200000,\"Void\")","v":0}]
[{"$f":"Datasheet!$B$2","v":""},"2021-06-08",{"$f":"COUNTIF(Datasheet!$K$2:$K$200000,\"=\"&AggregatedData!B155)","v":0},{"$f":"COUNTIFS(Datasheet!$K$2:$K$200000,\"=\"&AggregatedData!$B155,Datasheet!$C$2:$C$200000,\"Pupil\",Datasheet!$L$2:$L$200000,\"Positive\")","v":0},{"$f":"COUNTIFS(Datasheet!$K$2:$K$200000,\"=\"&AggregatedData!$B155,Datasheet!$C$2:$C$200000,\"Pupil\",Datasheet!$L$2:$L$200000,\"Negative\")","v":0},{"$f":"COUNTIFS(Datasheet!$K$2:$K$200000,\"=\"&AggregatedData!$B155,Datasheet!$C$2:$C$200000,\"Pupil\",Datasheet!$L$2:$L$200000,\"Void\")","v":0},{"$f":"COUNTIFS(Datasheet!$K$2:$K$200000,\"=\"&AggregatedData!$B155,Datasheet!$C$2:$C$200000,\"Staff\",Datasheet!$L$2:$L$200000,\"Positive\")","v":0},{"$f":"COUNTIFS(Datasheet!$K$2:$K$200000,\"=\"&AggregatedData!$B155,Datasheet!$C$2:$C$200000,\"Staff\",Datasheet!$L$2:$L$200000,\"Negative\")","v":0},{"$f":"COUNTIFS(Datasheet!$K$2:$K$200000,\"=\"&AggregatedData!$B155,Datasheet!$C$2:$C$200000,\"Staff\",Datasheet!$L$2:$L$200000,\"Void\")","v":0}]
[{"$f":"Datasheet!$B$2","v":""},"2021-06-09",{"$f":"COUNTIF(Datasheet!$K$2:$K$200000,\"=\"&AggregatedData!B156)","v":0},{"$f":"COUNTIFS(Datasheet!$K$2:$K$200000,\"=\"&AggregatedData!$B156,Datasheet!$C$2:$C$200000,\"Pupil\",Datasheet!$L$2:$L$200000,\"Positive\")","v":0},{"$f":"COUNTIFS(Datasheet!$K$2:$K$200000,\"=\"&AggregatedData!$B156,Datasheet!$C$2:$C$200000,\"Pupil\",Datasheet!$L$2:$L$200000,\"Negative\")","v":0},{"$f":"COUNTIFS(Datasheet!$K$2:$K$200000,\"=\"&AggregatedData!$B156,Datasheet!$C$2:$C$200000,\"Pupil\",Datasheet!$L$2:$L$200000,\"Void\")","v":0},{"$f":"COUNTIFS(Datasheet!$K$2:$K$200000,\"=\"&AggregatedData!$B156,Datasheet!$C$2:$C$200000,\"Staff\",Datasheet!$L$2:$L$200000,\"Positive\")","v":0},{"$f":"COUNTIFS(Datasheet!$K$2:$K$200000,\"=\"&AggregatedData!$B156,Datasheet!$C$2:$C$200000,\"Staff\",Datasheet!$L$2:$L$200000,\"Negative\")","v":0},{"$f":"COUNTIFS(Datasheet!$K$2:$K$200000,\"=\"&AggregatedData!$B156,Datasheet!$C$2:$C$200000,\"Staff\",Datasheet!$L$2:$L$200000,\"Void\")","v":0}]
[{"$f":"Datasheet!$B$2","v":""},"2021-06-10",{"$f":"COUNTIF(Datasheet!$K$2:$K$200000,\"=\"&AggregatedData!B157)","v":0},{"$f":"COUNTIFS(Datasheet!$K$2:$K$200000,\"=\"&AggregatedData!$B157,Datasheet!$C$2:$C$200000,\"Pupil\",Datasheet!$L$2:$L$200000,\"Positive\")","v":0},{"$f":"COUNTIFS(Datasheet!$K$2:$K$200000,\"=\"&AggregatedData!$B157,Datasheet!$C$2:$C$200000,\"Pupil\",Datasheet!$L$2:$L$200000,\"Negative\")","v":0},{"$f":"COUNTIFS(Datasheet!$K$2:$K$200000,\"=\"&AggregatedData!$B157,Datasheet!$C$2:$C$200000,\"Pupil\",Datasheet!$L$2:$L$200000,\"Void\")","v":0},{"$f":"COUNTIFS(Datasheet!$K$2:$K$200000,\"=\"&AggregatedData!$B157,Datasheet!$C$2:$C$200000,\"Staff\",Datasheet!$L$2:$L$200000,\"Positive\")","v":0},{"$f":"COUNTIFS(Datasheet!$K$2:$K$200000,\"=\"&AggregatedData!$B157,Datasheet!$C$2:$C$200000,\"Staff\",Datasheet!$L$2:$L$200000,\"Negative\")","v":0},{"$f":"COUNTIFS(Datasheet!$K$2:$K$200000,\"=\"&AggregatedData!$B157,Datasheet!$C$2:$C$200000,\"Staff\",Datasheet!$L$2:$L$200000,\"Void\")","v":0}]
[{"$f":"Datasheet!$B$2","v":""},"2021-06-11",{"$f":"COUNTIF(Datasheet!$K$2:$K$200000,\"=\"&AggregatedData!B158)","v":0},{"$f":"COUNTIFS(Datasheet!$K$2:$K$200000,\"=\"&AggregatedData!$B158,Datasheet!$C$2:$C$200000,\"Pupil\",Datasheet!$L$2:$L$200000,\"Positive\")","v":0},{"$f":"COUNTIFS(Datasheet!$K$2:$K$200000,\"=\"&AggregatedData!$B158,Datasheet!$C$2:$C$200000,\"Pupil\",Datasheet!$L$2:$L$200000,\"Negative\")","v":0},{"$f":"COUNTIFS(Datasheet!$K$2:$K$200000,\"=\"&AggregatedData!$B158,Datasheet!$C$2:$C$200000,\"Pupil\",Datasheet!$L$2:$L$200000,\"Void\")","v":0},{"$f":"COUNTIFS(Datasheet!$K$2:$K$200000,\"=\"&AggregatedData!$B158,Datasheet!$C$2:$C$200000,\"Staff\",Datasheet!$L$2:$L$200000,\"Positive\")","v":0},{"$f":"COUNTIFS(Datasheet!$K$2:$K$200000,\"=\"&AggregatedData!$B158,Datasheet!$C$2:$C$200000,\"Staff\",Datasheet!$L$2:$L$200000,\"Negative\")","v":0},{"$f":"COUNTIFS(Datasheet!$K$2:$K$200000,\"=\"&AggregatedData!$B158,Datasheet!$C$2:$C$200000,\"Staff\",Datasheet!$L$2:$L$200000,\"Void\")","v":0}]
[{"$f":"Datasheet!$B$2","v":""},"2021-06-12",{"$f":"COUNTIF(Datasheet!$K$2:$K$200000,\"=\"&AggregatedData!B159)","v":0},{"$f":"COUNTIFS(Datasheet!$K$2:$K$200000,\"=\"&AggregatedData!$B159,Datasheet!$C$2:$C$200000,\"Pupil\",Datasheet!$L$2:$L$200000,\"Positive\")","v":0},{"$f":"COUNTIFS(Datasheet!$K$2:$K$200000,\"=\"&AggregatedData!$B159,Datasheet!$C$2:$C$200000,\"Pupil\",Datasheet!$L$2:$L$200000,\"Negative\")","v":0},{"$f":"COUNTIFS(Datasheet!$K$2:$K$200000,\"=\"&AggregatedData!$B159,Datasheet!$C$2:$C$200000,\"Pupil\",Datasheet!$L$2:$L$200000,\"Void\")","v":0},{"$f":"COUNTIFS(Datasheet!$K$2:$K$200000,\"=\"&AggregatedData!$B159,Datasheet!$C$2:$C$200000,\"Staff\",Datasheet!$L$2:$L$200000,\"Positive\")","v":0},{"$f":"COUNTIFS(Datasheet!$K$2:$K$200000,\"=\"&AggregatedData!$B159,Datasheet!$C$2:$C$200000,\"Staff\",Datasheet!$L$2:$L$200000,\"Negative\")","v":0},{"$f":"COUNTIFS(Datasheet!$K$2:$K$200000,\"=\"&AggregatedData!$B159,Datasheet!$C$2:$C$200000,\"Staff\",Datasheet!$L$2:$L$200000,\"Void\")","v":0}]
[{"$f":"Datasheet!$B$2","v":""},"2021-06-13",{"$f":"COUNTIF(Datasheet!$K$2:$K$200000,\"=\"&AggregatedData!B160)","v":0},{"$f":"COUNTIFS(Datasheet!$K$2:$K$200000,\"=\"&AggregatedData!$B160,Datasheet!$C$2:$C$200000,\"Pupil\",Datasheet!$L$2:$L$200000,\"Positive\")","v":0},{"$f":"COUNTIFS(Datasheet!$K$2:$K$200000,\"=\"&AggregatedData!$B160,Datasheet!$C$2:$C$200000,\"Pupil\",Datasheet!$L$2:$L$200000,\"Negative\")","v":0},{"$f":"COUNTIFS(Datasheet!$K$2:$K$200000,\"=\"&AggregatedData!$B160,Datasheet!$C$2:$C$200000,\"Pupil\",Datasheet!$L$2:$L$200000,\"Void\")","v":0},{"$f":"COUNTIFS(Datasheet!$K$2:$K$200000,\"=\"&AggregatedData!$B160,Datasheet!$C$2:$C$200000,\"Staff\",Datasheet!$L$2:$L$200000,\"Positive\")","v":0},{"$f":"COUNTIFS(Datasheet!$K$2:$K$200000,\"=\"&AggregatedData!$B160,Datasheet!$C$2:$C$200000,\"Staff\",Datasheet!$L$2:$L$200000,\"Negative\")","v":0},{"$f":"COUNTIFS(Datasheet!$K$2:$K$200000,\"=\"&AggregatedData!$B160,Datasheet!$C$2:$C$200000,\"Staff\",Datasheet!$L$2:$L$200000,\"Void\")","v":0}]
[{"$f":"Datasheet!$B$2","v":""},"2021-06-14",{"$f":"COUNTIF(Datasheet!$K$2:$K$200000,\"=\"&AggregatedData!B161)","v":0},{"$f":"COUNTIFS(Datasheet!$K$2:$K$200000,\"=\"&AggregatedData!$B161,Datasheet!$C$2:$C$200000,\"Pupil\",Datasheet!$L$2:$L$200000,\"Positive\")","v":0},{"$f":"COUNTIFS(Datasheet!$K$2:$K$200000,\"=\"&AggregatedData!$B161,Datasheet!$C$2:$C$200000,\"Pupil\",Datasheet!$L$2:$L$200000,\"Negative\")","v":0},{"$f":"COUNTIFS(Datasheet!$K$2:$K$200000,\"=\"&AggregatedData!$B161,Datasheet!$C$2:$C$200000,\"Pupil\",Datasheet!$L$2:$L$200000,\"Void\")","v":0},{"$f":"COUNTIFS(Datasheet!$K$2:$K$200000,\"=\"&AggregatedData!$B161,Datasheet!$C$2:$C$200000,\"Staff\",Datasheet!$L$2:$L$200000,\"Positive\")","v":0},{"$f":"COUNTIFS(Datasheet!$K$2:$K$200000,\"=\"&AggregatedData!$B161,Datasheet!$C$2:$C$200000,\"Staff\",Datasheet!$L$2:$L$200000,\"Negative\")","v":0},{"$f":"COUNTIFS(Datasheet!$K$2:$K$200000,\"=\"&AggregatedData!$B161,Datasheet!$C$2:$C$200000,\"Staff\",Datasheet!$L$2:$L$200000,\"Void\")","v":0}]
[{"$f":"Datasheet!$B$2","v":""},"2021-06-15",{"$f":"COUNTIF(Datasheet!$K$2:$K$200000,\"=\"&AggregatedData!B162)","v":0},{"$f":"COUNTIFS(Datasheet!$K$2:$K$200000,\"=\"&AggregatedData!$B162,Datasheet!$C$2:$C$200000,\"Pupil\",Datasheet!$L$2:$L$200000,\"Positive\")","v":0},{"$f":"COUNTIFS(Datasheet!$K$2:$K$200000,\"=\"&AggregatedData!$B162,Datasheet!$C$2:$C$200000,\"Pupil\",Datasheet!$L$2:$L$200000,\"Negative\")","v":0},{"$f":"COUNTIFS(Datasheet!$K$2:$K$200000,\"=\"&AggregatedData!$B162,Datasheet!$C$2:$C$200000,\"Pupil\",Datasheet!$L$2:$L$200000,\"Void\")","v":0},{"$f":"COUNTIFS(Datasheet!$K$2:$K$200000,\"=\"&AggregatedData!$B162,Datasheet!$C$2:$C$200000,\"Staff\",Datasheet!$L$2:$L$200000,\"Positive\")","v":0},{"$f":"COUNTIFS(Datasheet!$K$2:$K$200000,\"=\"&AggregatedData!$B162,Datasheet!$C$2:$C$200000,\"Staff\",Datasheet!$L$2:$L$200000,\"Negative\")","v":0},{"$f":"COUNTIFS(Datasheet!$K$2:$K$200000,\"=\"&AggregatedData!$B162,Datasheet!$C$2:$C$200000,\"Staff\",Datasheet!$L$2:$L$200000,\"Void\")","v":0}]
[{"$f":"Datasheet!$B$2","v":""},"2021-06-16",{"$f":"COUNTIF(Datasheet!$K$2:$K$200000,\"=\"&AggregatedData!B163)","v":0},{"$f":"COUNTIFS(Datasheet!$K$2:$K$200000,\"=\"&AggregatedData!$B163,Datasheet!$C$2:$C$200000,\"Pupil\",Datasheet!$L$2:$L$200000,\"Positive\")","v":0},{"$f":"COUNTIFS(Datasheet!$K$2:$K$200000,\"=\"&AggregatedData!$B163,Datasheet!$C$2:$C$200000,\"Pupil\",Datasheet!$L$2:$L$200000,\"Negative\")","v":0},{"$f":"COUNTIFS(Datasheet!$K$2:$K$200000,\"=\"&AggregatedData!$B163,Datasheet!$C$2:$C$200000,\"Pupil\",Datasheet!$L$2:$L$200000,\"Void\")","v":0},{"$f":"COUNTIFS(Datasheet!$K$2:$K$200000,\"=\"&AggregatedData!$B163,Datasheet!$C$2:$C$200000,\"Staff\",Datasheet!$L$2:$L$200000,\"Positive\")","v":0},{"$f":"COUNTIFS(Datasheet!$K$2:$K$200000,\"=\"&AggregatedData!$B163,Datasheet!$C$2:$C$200000,\"Staff\",Datasheet!$L$2:$L$200000,\"Negative\")","v":0},{"$f":"COUNTIFS(Datasheet!$K$2:$K$200000,\"=\"&AggregatedData!$B163,Datasheet!$C$2:$C$200000,\"Staff\",Datasheet!$L$2:$L$200000,\"Void\")","v":0}]
[{"$f":"Datasheet!$B$2","v":""},"2021-06-17",{"$f":"COUNTIF(Datasheet!$K$2:$K$200000,\"=\"&AggregatedData!B164)","v":0},{"$f":"COUNTIFS(Datasheet!$K$2:$K$200000,\"=\"&AggregatedData!$B164,Datasheet!$C$2:$C$200000,\"Pupil\",Datasheet!$L$2:$L$200000,\"Positive\")","v":0},{"$f":"COUNTIFS(Datasheet!$K$2:$K$200000,\"=\"&AggregatedData!$B164,Datasheet!$C$2:$C$200000,\"Pupil\",Datasheet!$L$2:$L$200000,\"Negative\")","v":0},{"$f":"COUNTIFS(Datasheet!$K$2:$K$200000,\"=\"&AggregatedData!$B164,Datasheet!$C$2:$C$200000,\"Pupil\",Datasheet!$L$2:$L$200000,\"Void\")","v":0},{"$f":"COUNTIFS(Datasheet!$K$2:$K$200000,\"=\"&AggregatedData!$B164,Datasheet!$C$2:$C$200000,\"Staff\",Datasheet!$L$2:$L$200000,\"Positive\")","v":0},{"$f":"COUNTIFS(Datasheet!$K$2:$K$200000,\"=\"&AggregatedData!$B164,Datasheet!$C$2:$C$200000,\"Staff\",Datasheet!$L$2:$L$200000,\"Negative\")","v":0},{"$f":"COUNTIFS(Datasheet!$K$2:$K$200000,\"=\"&AggregatedData!$B164,Datasheet!$C$2:$C$200000,\"Staff\",Datasheet!$L$2:$L$200000,\"Void\")","v":0}]
[{"$f":"Datasheet!$B$2","v":""},"2021-06-18",{"$f":"COUNTIF(Datasheet!$K$2:$K$200000,\"=\"&AggregatedData!B165)","v":0},{"$f":"COUNTIFS(Datasheet!$K$2:$K$200000,\"=\"&AggregatedData!$B165,Datasheet!$C$2:$C$200000,\"Pupil\",Datasheet!$L$2:$L$200000,\"Positive\")","v":0},{"$f":"COUNTIFS(Datasheet!$K$2:$K$200000,\"=\"&AggregatedData!$B165,Datasheet!$C$2:$C$200000,\"Pupil\",Datasheet!$L$2:$L$200000,\"Negative\")","v":0},{"$f":"COUNTIFS(Datasheet!$K$2:$K$200000,\"=\"&AggregatedData!$B165,Datasheet!$C$2:$C$200000,\"Pupil\",Datasheet!$L$2:$L$200000,\"Void\")","v":0},{"$f":"COUNTIFS(Datasheet!$K$2:$K$200000,\"=\"&AggregatedData!$B165,Datasheet!$C$2:$C$200000,\"Staff\",Datasheet!$L$2:$L$200000,\"Positive\")","v":0},{"$f":"COUNTIFS(Datasheet!$K$2:$K$200000,\"=\"&AggregatedData!$B165,Datasheet!$C$2:$C$200000,\"Staff\",Datasheet!$L$2:$L$200000,\"Negative\")","v":0},{"$f":"COUNTIFS(Datasheet!$K$2:$K$200000,\"=\"&AggregatedData!$B165,Datasheet!$C$2:$C$200000,\"Staff\",Datasheet!$L$2:$L$200000,\"Void\")","v":0}]
[{"$f":"Datasheet!$B$2","v":""},"2021-06-19",{"$f":"COUNTIF(Datasheet!$K$2:$K$200000,\"=\"&AggregatedData!B166)","v":0},{"$f":"COUNTIFS(Datasheet!$K$2:$K$200000,\"=\"&AggregatedData!$B166,Datasheet!$C$2:$C$200000,\"Pupil\",Datasheet!$L$2:$L$200000,\"Positive\")","v":0},{"$f":"COUNTIFS(Datasheet!$K$2:$K$200000,\"=\"&AggregatedData!$B166,Datasheet!$C$2:$C$200000,\"Pupil\",Datasheet!$L$2:$L$200000,\"Negative\")","v":0},{"$f":"COUNTIFS(Datasheet!$K$2:$K$200000,\"=\"&AggregatedData!$B166,Datasheet!$C$2:$C$200000,\"Pupil\",Datasheet!$L$2:$L$200000,\"Void\")","v":0},{"$f":"COUNTIFS(Datasheet!$K$2:$K$200000,\"=\"&AggregatedData!$B166,Datasheet!$C$2:$C$200000,\"Staff\",Datasheet!$L$2:$L$200000,\"Positive\")","v":0},{"$f":"COUNTIFS(Datasheet!$K$2:$K$200000,\"=\"&AggregatedData!$B166,Datasheet!$C$2:$C$200000,\"Staff\",Datasheet!$L$2:$L$200000,\"Negative\")","v":0},{"$f":"COUNTIFS(Datasheet!$K$2:$K$200000,\"=\"&AggregatedData!$B166,Datasheet!$C$2:$C$200000,\"Staff\",Datasheet!$L$2:$L$200000,\"Void\")","v":0}]
[{"$f":"Datasheet!$B$2","v":""},"2021-06-20",{"$f":"COUNTIF(Datasheet!$K$2:$K$200000,\"=\"&AggregatedData!B167)","v":0},{"$f":"COUNTIFS(Datasheet!$K$2:$K$200000,\"=\"&AggregatedData!$B167,Datasheet!$C$2:$C$200000,\"Pupil\",Datasheet!$L$2:$L$200000,\"Positive\")","v":0},{"$f":"COUNTIFS(Datasheet!$K$2:$K$200000,\"=\"&AggregatedData!$B167,Datasheet!$C$2:$C$200000,\"Pupil\",Datasheet!$L$2:$L$200000,\"Negative\")","v":0},{"$f":"COUNTIFS(Datasheet!$K$2:$K$200000,\"=\"&AggregatedData!$B167,Datasheet!$C$2:$C$200000,\"Pupil\",Datasheet!$L$2:$L$200000,\"Void\")","v":0},{"$f":"COUNTIFS(Datasheet!$K$2:$K$200000,\"=\"&AggregatedData!$B167,Datasheet!$C$2:$C$200000,\"Staff\",Datasheet!$L$2:$L$200000,\"Positive\")","v":0},{"$f":"COUNTIFS(Datasheet!$K$2:$K$200000,\"=\"&AggregatedData!$B167,Datasheet!$C$2:$C$200000,\"Staff\",Datasheet!$L$2:$L$200000,\"Negative\")","v":0},{"$f":"COUNTIFS(Datasheet!$K$2:$K$200000,\"=\"&AggregatedData!$B167,Datasheet!$C$2:$C$200000,\"Staff\",Datasheet!$L$2:$L$200000,\"Void\")","v":0}]
[{"$f":"Datasheet!$B$2","v":""},"2021-06-21",{"$f":"COUNTIF(Datasheet!$K$2:$K$200000,\"=\"&AggregatedData!B168)","v":0},{"$f":"COUNTIFS(Datasheet!$K$2:$K$200000,\"=\"&AggregatedData!$B168,Datasheet!$C$2:$C$200000,\"Pupil\",Datasheet!$L$2:$L$200000,\"Positive\")","v":0},{"$f":"COUNTIFS(Datasheet!$K$2:$K$200000,\"=\"&AggregatedData!$B168,Datasheet!$C$2:$C$200000,\"Pupil\",Datasheet!$L$2:$L$200000,\"Negative\")","v":0},{"$f":"COUNTIFS(Datasheet!$K$2:$K$200000,\"=\"&AggregatedData!$B168,Datasheet!$C$2:$C$200000,\"Pupil\",Datasheet!$L$2:$L$200000,\"Void\")","v":0},{"$f":"COUNTIFS(Datasheet!$K$2:$K$200000,\"=\"&AggregatedData!$B168,Datasheet!$C$2:$C$200000,\"Staff\",Datasheet!$L$2:$L$200000,\"Positive\")","v":0},{"$f":"COUNTIFS(Datasheet!$K$2:$K$200000,\"=\"&AggregatedData!$B168,Datasheet!$C$2:$C$200000,\"Staff\",Datasheet!$L$2:$L$200000,\"Negative\")","v":0},{"$f":"COUNTIFS(Datasheet!$K$2:$K$200000,\"=\"&AggregatedData!$B168,Datasheet!$C$2:$C$200000,\"Staff\",Datasheet!$L$2:$L$200000,\"Void\")","v":0}]
[{"$f":"Datasheet!$B$2","v":""},"2021-06-22",{"$f":"COUNTIF(Datasheet!$K$2:$K$200000,\"=\"&AggregatedData!B169)","v":0},{"$f":"COUNTIFS(Datasheet!$K$2:$K$200000,\"=\"&AggregatedData!$B169,Datasheet!$C$2:$C$200000,\"Pupil\",Datasheet!$L$2:$L$200000,\"Positive\")","v":0},{"$f":"COUNTIFS(Datasheet!$K$2:$K$200000,\"=\"&AggregatedData!$B169,Datasheet!$C$2:$C$200000,\"Pupil\",Datasheet!$L$2:$L$200000,\"Negative\")","v":0},{"$f":"COUNTIFS(Datasheet!$K$2:$K$200000,\"=\"&AggregatedData!$B169,Datasheet!$C$2:$C$200000,\"Pupil\",Datasheet!$L$2:$L$200000,\"Void\")","v":0},{"$f":"COUNTIFS(Datasheet!$K$2:$K$200000,\"=\"&AggregatedData!$B169,Datasheet!$C$2:$C$200000,\"Staff\",Datasheet!$L$2:$L$200000,\"Positive\")","v":0},{"$f":"COUNTIFS(Datasheet!$K$2:$K$200000,\"=\"&AggregatedData!$B169,Datasheet!$C$2:$C$200000,\"Staff\",Datasheet!$L$2:$L$200000,\"Negative\")","v":0},{"$f":"COUNTIFS(Datasheet!$K$2:$K$200000,\"=\"&AggregatedData!$B169,Datasheet!$C$2:$C$200000,\"Staff\",Datasheet!$L$2:$L$200000,\"Void\")","v":0}]
[{"$f":"Datasheet!$B$2","v":""},"2021-06-23",{"$f":"COUNTIF(Datasheet!$K$2:$K$200000,\"=\"&AggregatedData!B170)","v":0},{"$f":"COUNTIFS(Datasheet!$K$2:$K$200000,\"=\"&AggregatedData!$B170,Datasheet!$C$2:$C$200000,\"Pupil\",Datasheet!$L$2:$L$200000,\"Positive\")","v":0},{"$f":"COUNTIFS(Datasheet!$K$2:$K$200000,\"=\"&AggregatedData!$B170,Datasheet!$C$2:$C$200000,\"Pupil\",Datasheet!$L$2:$L$200000,\"Negative\")","v":0},{"$f":"COUNTIFS(Datasheet!$K$2:$K$200000,\"=\"&AggregatedData!$B170,Datasheet!$C$2:$C$200000,\"Pupil\",Datasheet!$L$2:$L$200000,\"Void\")","v":0},{"$f":"COUNTIFS(Datasheet!$K$2:$K$200000,\"=\"&AggregatedData!$B170,Datasheet!$C$2:$C$200000,\"Staff\",Datasheet!$L$2:$L$200000,\"Positive\")","v":0},{"$f":"COUNTIFS(Datasheet!$K$2:$K$200000,\"=\"&AggregatedData!$B170,Datasheet!$C$2:$C$200000,\"Staff\",Datasheet!$L$2:$L$200000,\"Negative\")","v":0},{"$f":"COUNTIFS(Datasheet!$K$2:$K$200000,\"=\"&AggregatedData!$B170,Datasheet!$C$2:$C$200000,\"Staff\",Datasheet!$L$2:$L$200000,\"Void\")","v":0}]
[{"$f":"Datasheet!$B$2","v":""},"2021-06-24",{"$f":"COUNTIF(Datasheet!$K$2:$K$200000,\"=\"&AggregatedData!B171)","v":0},{"$f":"COUNTIFS(Datasheet!$K$2:$K$200000,\"=\"&AggregatedData!$B171,Datasheet!$C$2:$C$200000,\"Pupil\",Datasheet!$L$2:$L$200000,\"Positive\")","v":0},{"$f":"COUNTIFS(Datasheet!$K$2:$K$200000,\"=\"&AggregatedData!$B171,Datasheet!$C$2:$C$200000,\"Pupil\",Datasheet!$L$2:$L$200000,\"Negative\")","v":0},{"$f":"COUNTIFS(Datasheet!$K$2:$K$200000,\"=\"&AggregatedData!$B171,Datasheet!$C$2:$C$200000,\"Pupil\",Datasheet!$L$2:$L$200000,\"Void\")","v":0},{"$f":"COUNTIFS(Datasheet!$K$2:$K$200000,\"=\"&AggregatedData!$B171,Datasheet!$C$2:$C$200000,\"Staff\",Datasheet!$L$2:$L$200000,\"Positive\")","v":0},{"$f":"COUNTIFS(Datasheet!$K$2:$K$200000,\"=\"&AggregatedData!$B171,Datasheet!$C$2:$C$200000,\"Staff\",Datasheet!$L$2:$L$200000,\"Negative\")","v":0},{"$f":"COUNTIFS(Datasheet!$K$2:$K$200000,\"=\"&AggregatedData!$B171,Datasheet!$C$2:$C$200000,\"Staff\",Datasheet!$L$2:$L$200000,\"Void\")","v":0}]
[{"$f":"Datasheet!$B$2","v":""},"2021-06-25",{"$f":"COUNTIF(Datasheet!$K$2:$K$200000,\"=\"&AggregatedData!B172)","v":0},{"$f":"COUNTIFS(Datasheet!$K$2:$K$200000,\"=\"&AggregatedData!$B172,Datasheet!$C$2:$C$200000,\"Pupil\",Datasheet!$L$2:$L$200000,\"Positive\")","v":0},{"$f":"COUNTIFS(Datasheet!$K$2:$K$200000,\"=\"&AggregatedData!$B172,Datasheet!$C$2:$C$200000,\"Pupil\",Datasheet!$L$2:$L$200000,\"Negative\")","v":0},{"$f":"COUNTIFS(Datasheet!$K$2:$K$200000,\"=\"&AggregatedData!$B172,Datasheet!$C$2:$C$200000,\"Pupil\",Datasheet!$L$2:$L$200000,\"Void\")","v":0},{"$f":"COUNTIFS(Datasheet!$K$2:$K$200000,\"=\"&AggregatedData!$B172,Datasheet!$C$2:$C$200000,\"Staff\",Datasheet!$L$2:$L$200000,\"Positive\")","v":0},{"$f":"COUNTIFS(Datasheet!$K$2:$K$200000,\"=\"&AggregatedData!$B172,Datasheet!$C$2:$C$200000,\"Staff\",Datasheet!$L$2:$L$200000,\"Negative\")","v":0},{"$f":"COUNTIFS(Datasheet!$K$2:$K$200000,\"=\"&AggregatedData!$B172,Datasheet!$C$2:$C$200000,\"Staff\",Datasheet!$L$2:$L$200000,\"Void\")","v":0}]
[{"$f":"Datasheet!$B$2","v":""},"2021-06-26",{"$f":"COUNTIF(Datasheet!$K$2:$K$200000,\"=\"&AggregatedData!B173)","v":0},{"$f":"COUNTIFS(Datasheet!$K$2:$K$200000,\"=\"&AggregatedData!$B173,Datasheet!$C$2:$C$200000,\"Pupil\",Datasheet!$L$2:$L$200000,\"Positive\")","v":0},{"$f":"COUNTIFS(Datasheet!$K$2:$K$200000,\"=\"&AggregatedData!$B173,Datasheet!$C$2:$C$200000,\"Pupil\",Datasheet!$L$2:$L$200000,\"Negative\")","v":0},{"$f":"COUNTIFS(Datasheet!$K$2:$K$200000,\"=\"&AggregatedData!$B173,Datasheet!$C$2:$C$200000,\"Pupil\",Datasheet!$L$2:$L$200000,\"Void\")","v":0},{"$f":"COUNTIFS(Datasheet!$K$2:$K$200000,\"=\"&AggregatedData!$B173,Datasheet!$C$2:$C$200000,\"Staff\",Datasheet!$L$2:$L$200000,\"Positive\")","v":0},{"$f":"COUNTIFS(Datasheet!$K$2:$K$200000,\"=\"&AggregatedData!$B173,Datasheet!$C$2:$C$200000,\"Staff\",Datasheet!$L$2:$L$200000,\"Negative\")","v":0},{"$f":"COUNTIFS(Datasheet!$K$2:$K$200000,\"=\"&AggregatedData!$B173,Datasheet!$C$2:$C$200000,\"Staff\",Datasheet!$L$2:$L$200000,\"Void\")","v":0}]
[{"$f":"Datasheet!$B$2","v":""},"2021-06-27",{"$f":"COUNTIF(Datasheet!$K$2:$K$200000,\"=\"&AggregatedData!B174)","v":0},{"$f":"COUNTIFS(Datasheet!$K$2:$K$200000,\"=\"&AggregatedData!$B174,Datasheet!$C$2:$C$200000,\"Pupil\",Datasheet!$L$2:$L$200000,\"Positive\")","v":0},{"$f":"COUNTIFS(Datasheet!$K$2:$K$200000,\"=\"&AggregatedData!$B174,Datasheet!$C$2:$C$200000,\"Pupil\",Datasheet!$L$2:$L$200000,\"Negative\")","v":0},{"$f":"COUNTIFS(Datasheet!$K$2:$K$200000,\"=\"&AggregatedData!$B174,Datasheet!$C$2:$C$200000,\"Pupil\",Datasheet!$L$2:$L$200000,\"Void\")","v":0},{"$f":"COUNTIFS(Datasheet!$K$2:$K$200000,\"=\"&AggregatedData!$B174,Datasheet!$C$2:$C$200000,\"Staff\",Datasheet!$L$2:$L$200000,\"Positive\")","v":0},{"$f":"COUNTIFS(Datasheet!$K$2:$K$200000,\"=\"&AggregatedData!$B174,Datasheet!$C$2:$C$200000,\"Staff\",Datasheet!$L$2:$L$200000,\"Negative\")","v":0},{"$f":"COUNTIFS(Datasheet!$K$2:$K$200000,\"=\"&AggregatedData!$B174,Datasheet!$C$2:$C$200000,\"Staff\",Datasheet!$L$2:$L$200000,\"Void\")","v":0}]
[{"$f":"Datasheet!$B$2","v":""},"2021-06-28",{"$f":"COUNTIF(Datasheet!$K$2:$K$200000,\"=\"&AggregatedData!B175)","v":0},{"$f":"COUNTIFS(Datasheet!$K$2:$K$200000,\"=\"&AggregatedData!$B175,Datasheet!$C$2:$C$200000,\"Pupil\",Datasheet!$L$2:$L$200000,\"Positive\")","v":0},{"$f":"COUNTIFS(Datasheet!$K$2:$K$200000,\"=\"&AggregatedData!$B175,Datasheet!$C$2:$C$200000,\"Pupil\",Datasheet!$L$2:$L$200000,\"Negative\")","v":0},{"$f":"COUNTIFS(Datasheet!$K$2:$K$200000,\"=\"&AggregatedData!$B175,Datasheet!$C$2:$C$200000,\"Pupil\",Datasheet!$L$2:$L$200000,\"Void\")","v":0},{"$f":"COUNTIFS(Datasheet!$K$2:$K$200000,\"=\"&AggregatedData!$B175,Datasheet!$C$2:$C$200000,\"Staff\",Datasheet!$L$2:$L$200000,\"Positive\")","v":0},{"$f":"COUNTIFS(Datasheet!$K$2:$K$200000,\"=\"&AggregatedData!$B175,Datasheet!$C$2:$C$200000,\"Staff\",Datasheet!$L$2:$L$200000,\"Negative\")","v":0},{"$f":"COUNTIFS(Datasheet!$K$2:$K$200000,\"=\"&AggregatedData!$B175,Datasheet!$C$2:$C$200000,\"Staff\",Datasheet!$L$2:$L$200000,\"Void\")","v":0}]
[{"$f":"Datasheet!$B$2","v":""},"2021-06-29",{"$f":"COUNTIF(Datasheet!$K$2:$K$200000,\"=\"&AggregatedData!B176)","v":0},{"$f":"COUNTIFS(Datasheet!$K$2:$K$200000,\"=\"&AggregatedData!$B176,Datasheet!$C$2:$C$200000,\"Pupil\",Datasheet!$L$2:$L$200000,\"Positive\")","v":0},{"$f":"COUNTIFS(Datasheet!$K$2:$K$200000,\"=\"&AggregatedData!$B176,Datasheet!$C$2:$C$200000,\"Pupil\",Datasheet!$L$2:$L$200000,\"Negative\")","v":0},{"$f":"COUNTIFS(Datasheet!$K$2:$K$200000,\"=\"&AggregatedData!$B176,Datasheet!$C$2:$C$200000,\"Pupil\",Datasheet!$L$2:$L$200000,\"Void\")","v":0},{"$f":"COUNTIFS(Datasheet!$K$2:$K$200000,\"=\"&AggregatedData!$B176,Datasheet!$C$2:$C$200000,\"Staff\",Datasheet!$L$2:$L$200000,\"Positive\")","v":0},{"$f":"COUNTIFS(Datasheet!$K$2:$K$200000,\"=\"&AggregatedData!$B176,Datasheet!$C$2:$C$200000,\"Staff\",Datasheet!$L$2:$L$200000,\"Negative\")","v":0},{"$f":"COUNTIFS(Datasheet!$K$2:$K$200000,\"=\"&AggregatedData!$B176,Datasheet!$C$2:$C$200000,\"Staff\",Datasheet!$L$2:$L$200000,\"Void\")","v":0}]
[{"$f":"Datasheet!$B$2","v":""},"2021-06-30",{"$f":"COUNTIF(Datasheet!$K$2:$K$200000,\"=\"&AggregatedData!B177)","v":0},{"$f":"COUNTIFS(Datasheet!$K$2:$K$200000,\"=\"&AggregatedData!$B177,Datasheet!$C$2:$C$200000,\"Pupil\",Datasheet!$L$2:$L$200000,\"Positive\")","v":0},{"$f":"COUNTIFS(Datasheet!$K$2:$K$200000,\"=\"&AggregatedData!$B177,Datasheet!$C$2:$C$200000,\"Pupil\",Datasheet!$L$2:$L$200000,\"Negative\")","v":0},{"$f":"COUNTIFS(Datasheet!$K$2:$K$200000,\"=\"&AggregatedData!$B177,Datasheet!$C$2:$C$200000,\"Pupil\",Datasheet!$L$2:$L$200000,\"Void\")","v":0},{"$f":"COUNTIFS(Datasheet!$K$2:$K$200000,\"=\"&AggregatedData!$B177,Datasheet!$C$2:$C$200000,\"Staff\",Datasheet!$L$2:$L$200000,\"Positive\")","v":0},{"$f":"COUNTIFS(Datasheet!$K$2:$K$200000,\"=\"&AggregatedData!$B177,Datasheet!$C$2:$C$200000,\"Staff\",Datasheet!$L$2:$L$200000,\"Negative\")","v":0},{"$f":"COUNTIFS(Datasheet!$K$2:$K$200000,\"=\"&AggregatedData!$B177,Datasheet!$C$2:$C$200000,\"Staff\",Datasheet!$L$2:$L$200000,\"Void\")","v":0}]
[{"$f":"Datasheet!$B$2","v":""},"2021-07-01",{"$f":"COUNTIF(Datasheet!$K$2:$K$200000,\"=\"&AggregatedData!B178)","v":0},{"$f":"COUNTIFS(Datasheet!$K$2:$K$200000,\"=\"&AggregatedData!$B178,Datasheet!$C$2:$C$200000,\"Pupil\",Datasheet!$L$2:$L$200000,\"Positive\")","v":0},{"$f":"COUNTIFS(Datasheet!$K$2:$K$200000,\"=\"&AggregatedData!$B178,Datasheet!$C$2:$C$200000,\"Pupil\",Datasheet!$L$2:$L$200000,\"Negative\")","v":0},{"$f":"COUNTIFS(Datasheet!$K$2:$K$200000,\"=\"&AggregatedData!$B178,Datasheet!$C$2:$C$200000,\"Pupil\",Datasheet!$L$2:$L$200000,\"Void\")","v":0},{"$f":"COUNTIFS(Datasheet!$K$2:$K$200000,\"=\"&AggregatedData!$B178,Datasheet!$C$2:$C$200000,\"Staff\",Datasheet!$L$2:$L$200000,\"Positive\")","v":0},{"$f":"COUNTIFS(Datasheet!$K$2:$K$200000,\"=\"&AggregatedData!$B178,Datasheet!$C$2:$C$200000,\"Staff\",Datasheet!$L$2:$L$200000,\"Negative\")","v":0},{"$f":"COUNTIFS(Datasheet!$K$2:$K$200000,\"=\"&AggregatedData!$B178,Datasheet!$C$2:$C$200000,\"Staff\",Datasheet!$L$2:$L$200000,\"Void\")","v":0}]
[{"$f":"Datasheet!$B$2","v":""},"2021-07-02",{"$f":"COUNTIF(Datasheet!$K$2:$K$200000,\"=\"&AggregatedData!B179)","v":0},{"$f":"COUNTIFS(Datasheet!$K$2:$K$200000,\"=\"&AggregatedData!$B179,Datasheet!$C$2:$C$200000,\"Pupil\",Datasheet!$L$2:$L$200000,\"Positive\")","v":0},{"$f":"COUNTIFS(Datasheet!$K$2:$K$200000,\"=\"&AggregatedData!$B179,Datasheet!$C$2:$C$200000,\"Pupil\",Datasheet!$L$2:$L$200000,\"Negative\")","v":0},{"$f":"COUNTIFS(Datasheet!$K$2:$K$200000,\"=\"&AggregatedData!$B179,Datasheet!$C$2:$C$200000,\"Pupil\",Datasheet!$L$2:$L$200000,\"Void\")","v":0},{"$f":"COUNTIFS(Datasheet!$K$2:$K$200000,\"=\"&AggregatedData!$B179,Datasheet!$C$2:$C$200000,\"Staff\",Datasheet!$L$2:$L$200000,\"Positive\")","v":0},{"$f":"COUNTIFS(Datasheet!$K$2:$K$200000,\"=\"&AggregatedData!$B179,Datasheet!$C$2:$C$200000,\"Staff\",Datasheet!$L$2:$L$200000,\"Negative\")","v":0},{"$f":"COUNTIFS(Datasheet!$K$2:$K$200000,\"=\"&AggregatedData!$B179,Datasheet!$C$2:$C$200000,\"Staff\",Datasheet!$L$2:$L$200000,\"Void\")","v":0}]
[{"$f":"Datasheet!$B$2","v":""},"2021-07-03",{"$f":"COUNTIF(Datasheet!$K$2:$K$200000,\"=\"&AggregatedData!B180)","v":0},{"$f":"COUNTIFS(Datasheet!$K$2:$K$200000,\"=\"&AggregatedData!$B180,Datasheet!$C$2:$C$200000,\"Pupil\",Datasheet!$L$2:$L$200000,\"Positive\")","v":0},{"$f":"COUNTIFS(Datasheet!$K$2:$K$200000,\"=\"&AggregatedData!$B180,Datasheet!$C$2:$C$200000,\"Pupil\",Datasheet!$L$2:$L$200000,\"Negative\")","v":0},{"$f":"COUNTIFS(Datasheet!$K$2:$K$200000,\"=\"&AggregatedData!$B180,Datasheet!$C$2:$C$200000,\"Pupil\",Datasheet!$L$2:$L$200000,\"Void\")","v":0},{"$f":"COUNTIFS(Datasheet!$K$2:$K$200000,\"=\"&AggregatedData!$B180,Datasheet!$C$2:$C$200000,\"Staff\",Datasheet!$L$2:$L$200000,\"Positive\")","v":0},{"$f":"COUNTIFS(Datasheet!$K$2:$K$200000,\"=\"&AggregatedData!$B180,Datasheet!$C$2:$C$200000,\"Staff\",Datasheet!$L$2:$L$200000,\"Negative\")","v":0},{"$f":"COUNTIFS(Datasheet!$K$2:$K$200000,\"=\"&AggregatedData!$B180,Datasheet!$C$2:$C$200000,\"Staff\",Datasheet!$L$2:$L$200000,\"Void\")","v":0}]
[{"$f":"Datasheet!$B$2","v":""},"2021-07-04",{"$f":"COUNTIF(Datasheet!$K$2:$K$200000,\"=\"&AggregatedData!B181)","v":0},{"$f":"COUNTIFS(Datasheet!$K$2:$K$200000,\"=\"&AggregatedData!$B181,Datasheet!$C$2:$C$200000,\"Pupil\",Datasheet!$L$2:$L$200000,\"Positive\")","v":0},{"$f":"COUNTIFS(Datasheet!$K$2:$K$200000,\"=\"&AggregatedData!$B181,Datasheet!$C$2:$C$200000,\"Pupil\",Datasheet!$L$2:$L$200000,\"Negative\")","v":0},{"$f":"COUNTIFS(Datasheet!$K$2:$K$200000,\"=\"&AggregatedData!$B181,Datasheet!$C$2:$C$200000,\"Pupil\",Datasheet!$L$2:$L$200000,\"Void\")","v":0},{"$f":"COUNTIFS(Datasheet!$K$2:$K$200000,\"=\"&AggregatedData!$B181,Datasheet!$C$2:$C$200000,\"Staff\",Datasheet!$L$2:$L$200000,\"Positive\")","v":0},{"$f":"COUNTIFS(Datasheet!$K$2:$K$200000,\"=\"&AggregatedData!$B181,Datasheet!$C$2:$C$200000,\"Staff\",Datasheet!$L$2:$L$200000,\"Negative\")","v":0},{"$f":"COUNTIFS(Datasheet!$K$2:$K$200000,\"=\"&AggregatedData!$B181,Datasheet!$C$2:$C$200000,\"Staff\",Datasheet!$L$2:$L$200000,\"Void\")","v":0}]
[{"$f":"Datasheet!$B$2","v":""},"2021-07-05",{"$f":"COUNTIF(Datasheet!$K$2:$K$200000,\"=\"&AggregatedData!B182)","v":0},{"$f":"COUNTIFS(Datasheet!$K$2:$K$200000,\"=\"&AggregatedData!$B182,Datasheet!$C$2:$C$200000,\"Pupil\",Datasheet!$L$2:$L$200000,\"Positive\")","v":0},{"$f":"COUNTIFS(Datasheet!$K$2:$K$200000,\"=\"&AggregatedData!$B182,Datasheet!$C$2:$C$200000,\"Pupil\",Datasheet!$L$2:$L$200000,\"Negative\")","v":0},{"$f":"COUNTIFS(Datasheet!$K$2:$K$200000,\"=\"&AggregatedData!$B182,Datasheet!$C$2:$C$200000,\"Pupil\",Datasheet!$L$2:$L$200000,\"Void\")","v":0},{"$f":"COUNTIFS(Datasheet!$K$2:$K$200000,\"=\"&AggregatedData!$B182,Datasheet!$C$2:$C$200000,\"Staff\",Datasheet!$L$2:$L$200000,\"Positive\")","v":0},{"$f":"COUNTIFS(Datasheet!$K$2:$K$200000,\"=\"&AggregatedData!$B182,Datasheet!$C$2:$C$200000,\"Staff\",Datasheet!$L$2:$L$200000,\"Negative\")","v":0},{"$f":"COUNTIFS(Datasheet!$K$2:$K$200000,\"=\"&AggregatedData!$B182,Datasheet!$C$2:$C$200000,\"Staff\",Datasheet!$L$2:$L$200000,\"Void\")","v":0}]
[{"$f":"Datasheet!$B$2","v":""},"2021-07-06",{"$f":"COUNTIF(Datasheet!$K$2:$K$200000,\"=\"&AggregatedData!B183)","v":0},{"$f":"COUNTIFS(Datasheet!$K$2:$K$200000,\"=\"&AggregatedData!$B183,Datasheet!$C$2:$C$200000,\"Pupil\",Datasheet!$L$2:$L$200000,\"Positive\")","v":0},{"$f":"COUNTIFS(Datasheet!$K$2:$K$200000,\"=\"&AggregatedData!$B183,Datasheet!$C$2:$C$200000,\"Pupil\",Datasheet!$L$2:$L$200000,\"Negative\")","v":0},{"$f":"COUNTIFS(Datasheet!$K$2:$K$200000,\"=\"&AggregatedData!$B183,Datasheet!$C$2:$C$200000,\"Pupil\",Datasheet!$L$2:$L$200000,\"Void\")","v":0},{"$f":"COUNTIFS(Datasheet!$K$2:$K$200000,\"=\"&AggregatedData!$B183,Datasheet!$C$2:$C$200000,\"Staff\",Datasheet!$L$2:$L$200000,\"Positive\")","v":0},{"$f":"COUNTIFS(Datasheet!$K$2:$K$200000,\"=\"&AggregatedData!$B183,Datasheet!$C$2:$C$200000,\"Staff\",Datasheet!$L$2:$L$200000,\"Negative\")","v":0},{"$f":"COUNTIFS(Datasheet!$K$2:$K$200000,\"=\"&AggregatedData!$B183,Datasheet!$C$2:$C$200000,\"Staff\",Datasheet!$L$2:$L$200000,\"Void\")","v":0}]
[{"$f":"Datasheet!$B$2","v":""},"2021-07-07",{"$f":"COUNTIF(Datasheet!$K$2:$K$200000,\"=\"&AggregatedData!B184)","v":0},{"$f":"COUNTIFS(Datasheet!$K$2:$K$200000,\"=\"&AggregatedData!$B184,Datasheet!$C$2:$C$200000,\"Pupil\",Datasheet!$L$2:$L$200000,\"Positive\")","v":0},{"$f":"COUNTIFS(Datasheet!$K$2:$K$200000,\"=\"&AggregatedData!$B184,Datasheet!$C$2:$C$200000,\"Pupil\",Datasheet!$L$2:$L$200000,\"Negative\")","v":0},{"$f":"COUNTIFS(Datasheet!$K$2:$K$200000,\"=\"&AggregatedData!$B184,Datasheet!$C$2:$C$200000,\"Pupil\",Datasheet!$L$2:$L$200000,\"Void\")","v":0},{"$f":"COUNTIFS(Datasheet!$K$2:$K$200000,\"=\"&AggregatedData!$B184,Datasheet!$C$2:$C$200000,\"Staff\",Datasheet!$L$2:$L$200000,\"Positive\")","v":0},{"$f":"COUNTIFS(Datasheet!$K$2:$K$200000,\"=\"&AggregatedData!$B184,Datasheet!$C$2:$C$200000,\"Staff\",Datasheet!$L$2:$L$200000,\"Negative\")","v":0},{"$f":"COUNTIFS(Datasheet!$K$2:$K$200000,\"=\"&AggregatedData!$B184,Datasheet!$C$2:$C$200000,\"Staff\",Datasheet!$L$2:$L$200000,\"Void\")","v":0}]
[{"$f":"Datasheet!$B$2","v":""},"2021-07-08",{"$f":"COUNTIF(Datasheet!$K$2:$K$200000,\"=\"&AggregatedData!B185)","v":0},{"$f":"COUNTIFS(Datasheet!$K$2:$K$200000,\"=\"&AggregatedData!$B185,Datasheet!$C$2:$C$200000,\"Pupil\",Datasheet!$L$2:$L$200000,\"Positive\")","v":0},{"$f":"COUNTIFS(Datasheet!$K$2:$K$200000,\"=\"&AggregatedData!$B185,Datasheet!$C$2:$C$200000,\"Pupil\",Datasheet!$L$2:$L$200000,\"Negative\")","v":0},{"$f":"COUNTIFS(Datasheet!$K$2:$K$200000,\"=\"&AggregatedData!$B185,Datasheet!$C$2:$C$200000,\"Pupil\",Datasheet!$L$2:$L$200000,\"Void\")","v":0},{"$f":"COUNTIFS(Datasheet!$K$2:$K$200000,\"=\"&AggregatedData!$B185,Datasheet!$C$2:$C$200000,\"Staff\",Datasheet!$L$2:$L$200000,\"Positive\")","v":0},{"$f":"COUNTIFS(Datasheet!$K$2:$K$200000,\"=\"&AggregatedData!$B185,Datasheet!$C$2:$C$200000,\"Staff\",Datasheet!$L$2:$L$200000,\"Negative\")","v":0},{"$f":"COUNTIFS(Datasheet!$K$2:$K$200000,\"=\"&AggregatedData!$B185,Datasheet!$C$2:$C$200000,\"Staff\",Datasheet!$L$2:$L$200000,\"Void\")","v":0}]
[{"$f":"Datasheet!$B$2","v":""},"2021-07-09",{"$f":"COUNTIF(Datasheet!$K$2:$K$200000,\"=\"&AggregatedData!B186)","v":0},{"$f":"COUNTIFS(Datasheet!$K$2:$K$200000,\"=\"&AggregatedData!$B186,Datasheet!$C$2:$C$200000,\"Pupil\",Datasheet!$L$2:$L$200000,\"Positive\")","v":0},{"$f":"COUNTIFS(Datasheet!$K$2:$K$200000,\"=\"&AggregatedData!$B186,Datasheet!$C$2:$C$200000,\"Pupil\",Datasheet!$L$2:$L$200000,\"Negative\")","v":0},{"$f":"COUNTIFS(Datasheet!$K$2:$K$200000,\"=\"&AggregatedData!$B186,Datasheet!$C$2:$C$200000,\"Pupil\",Datasheet!$L$2:$L$200000,\"Void\")","v":0},{"$f":"COUNTIFS(Datasheet!$K$2:$K$200000,\"=\"&AggregatedData!$B186,Datasheet!$C$2:$C$200000,\"Staff\",Datasheet!$L$2:$L$200000,\"Positive\")","v":0},{"$f":"COUNTIFS(Datasheet!$K$2:$K$200000,\"=\"&AggregatedData!$B186,Datasheet!$C$2:$C$200000,\"Staff\",Datasheet!$L$2:$L$200000,\"Negative\")","v":0},{"$f":"COUNTIFS(Datasheet!$K$2:$K$200000,\"=\"&AggregatedData!$B186,Datasheet!$C$2:$C$200000,\"Staff\",Datasheet!$L$2:$L$200000,\"Void\")","v":0}]
[{"$f":"Datasheet!$B$2","v":""},"2021-07-10",{"$f":"COUNTIF(Datasheet!$K$2:$K$200000,\"=\"&AggregatedData!B187)","v":0},{"$f":"COUNTIFS(Datasheet!$K$2:$K$200000,\"=\"&AggregatedData!$B187,Datasheet!$C$2:$C$200000,\"Pupil\",Datasheet!$L$2:$L$200000,\"Positive\")","v":0},{"$f":"COUNTIFS(Datasheet!$K$2:$K$200000,\"=\"&AggregatedData!$B187,Datasheet!$C$2:$C$200000,\"Pupil\",Datasheet!$L$2:$L$200000,\"Negative\")","v":0},{"$f":"COUNTIFS(Datasheet!$K$2:$K$200000,\"=\"&AggregatedData!$B187,Datasheet!$C$2:$C$200000,\"Pupil\",Datasheet!$L$2:$L$200000,\"Void\")","v":0},{"$f":"COUNTIFS(Datasheet!$K$2:$K$200000,\"=\"&AggregatedData!$B187,Datasheet!$C$2:$C$200000,\"Staff\",Datasheet!$L$2:$L$200000,\"Positive\")","v":0},{"$f":"COUNTIFS(Datasheet!$K$2:$K$200000,\"=\"&AggregatedData!$B187,Datasheet!$C$2:$C$200000,\"Staff\",Datasheet!$L$2:$L$200000,\"Negative\")","v":0},{"$f":"COUNTIFS(Datasheet!$K$2:$K$200000,\"=\"&AggregatedData!$B187,Datasheet!$C$2:$C$200000,\"Staff\",Datasheet!$L$2:$L$200000,\"Void\")","v":0}]
[{"$f":"Datasheet!$B$2","v":""},"2021-07-11",{"$f":"COUNTIF(Datasheet!$K$2:$K$200000,\"=\"&AggregatedData!B188)","v":0},{"$f":"COUNTIFS(Datasheet!$K$2:$K$200000,\"=\"&AggregatedData!$B188,Datasheet!$C$2:$C$200000,\"Pupil\",Datasheet!$L$2:$L$200000,\"Positive\")","v":0},{"$f":"COUNTIFS(Datasheet!$K$2:$K$200000,\"=\"&AggregatedData!$B188,Datasheet!$C$2:$C$200000,\"Pupil\",Datasheet!$L$2:$L$200000,\"Negative\")","v":0},{"$f":"COUNTIFS(Datasheet!$K$2:$K$200000,\"=\"&AggregatedData!$B188,Datasheet!$C$2:$C$200000,\"Pupil\",Datasheet!$L$2:$L$200000,\"Void\")","v":0},{"$f":"COUNTIFS(Datasheet!$K$2:$K$200000,\"=\"&AggregatedData!$B188,Datasheet!$C$2:$C$200000,\"Staff\",Datasheet!$L$2:$L$200000,\"Positive\")","v":0},{"$f":"COUNTIFS(Datasheet!$K$2:$K$200000,\"=\"&AggregatedData!$B188,Datasheet!$C$2:$C$200000,\"Staff\",Datasheet!$L$2:$L$200000,\"Negative\")","v":0},{"$f":"COUNTIFS(Datasheet!$K$2:$K$200000,\"=\"&AggregatedData!$B188,Datasheet!$C$2:$C$200000,\"Staff\",Datasheet!$L$2:$L$200000,\"Void\")","v":0}]
[{"$f":"Datasheet!$B$2","v":""},"2021-07-12",{"$f":"COUNTIF(Datasheet!$K$2:$K$200000,\"=\"&AggregatedData!B189)","v":0},{"$f":"COUNTIFS(Datasheet!$K$2:$K$200000,\"=\"&AggregatedData!$B189,Datasheet!$C$2:$C$200000,\"Pupil\",Datasheet!$L$2:$L$200000,\"Positive\")","v":0},{"$f":"COUNTIFS(Datasheet!$K$2:$K$200000,\"=\"&AggregatedData!$B189,Datasheet!$C$2:$C$200000,\"Pupil\",Datasheet!$L$2:$L$200000,\"Negative\")","v":0},{"$f":"COUNTIFS(Datasheet!$K$2:$K$200000,\"=\"&AggregatedData!$B189,Datasheet!$C$2:$C$200000,\"Pupil\",Datasheet!$L$2:$L$200000,\"Void\")","v":0},{"$f":"COUNTIFS(Datasheet!$K$2:$K$200000,\"=\"&AggregatedData!$B189,Datasheet!$C$2:$C$200000,\"Staff\",Datasheet!$L$2:$L$200000,\"Positive\")","v":0},{"$f":"COUNTIFS(Datasheet!$K$2:$K$200000,\"=\"&AggregatedData!$B189,Datasheet!$C$2:$C$200000,\"Staff\",Datasheet!$L$2:$L$200000,\"Negative\")","v":0},{"$f":"COUNTIFS(Datasheet!$K$2:$K$200000,\"=\"&AggregatedData!$B189,Datasheet!$C$2:$C$200000,\"Staff\",Datasheet!$L$2:$L$200000,\"Void\")","v":0}]
[{"$f":"Datasheet!$B$2","v":""},"2021-07-13",{"$f":"COUNTIF(Datasheet!$K$2:$K$200000,\"=\"&AggregatedData!B190)","v":0},{"$f":"COUNTIFS(Datasheet!$K$2:$K$200000,\"=\"&AggregatedData!$B190,Datasheet!$C$2:$C$200000,\"Pupil\",Datasheet!$L$2:$L$200000,\"Positive\")","v":0},{"$f":"COUNTIFS(Datasheet!$K$2:$K$200000,\"=\"&AggregatedData!$B190,Datasheet!$C$2:$C$200000,\"Pupil\",Datasheet!$L$2:$L$200000,\"Negative\")","v":0},{"$f":"COUNTIFS(Datasheet!$K$2:$K$200000,\"=\"&AggregatedData!$B190,Datasheet!$C$2:$C$200000,\"Pupil\",Datasheet!$L$2:$L$200000,\"Void\")","v":0},{"$f":"COUNTIFS(Datasheet!$K$2:$K$200000,\"=\"&AggregatedData!$B190,Datasheet!$C$2:$C$200000,\"Staff\",Datasheet!$L$2:$L$200000,\"Positive\")","v":0},{"$f":"COUNTIFS(Datasheet!$K$2:$K$200000,\"=\"&AggregatedData!$B190,Datasheet!$C$2:$C$200000,\"Staff\",Datasheet!$L$2:$L$200000,\"Negative\")","v":0},{"$f":"COUNTIFS(Datasheet!$K$2:$K$200000,\"=\"&AggregatedData!$B190,Datasheet!$C$2:$C$200000,\"Staff\",Datasheet!$L$2:$L$200000,\"Void\")","v":0}]
[{"$f":"Datasheet!$B$2","v":""},"2021-07-14",{"$f":"COUNTIF(Datasheet!$K$2:$K$200000,\"=\"&AggregatedData!B191)","v":0},{"$f":"COUNTIFS(Datasheet!$K$2:$K$200000,\"=\"&AggregatedData!$B191,Datasheet!$C$2:$C$200000,\"Pupil\",Datasheet!$L$2:$L$200000,\"Positive\")","v":0},{"$f":"COUNTIFS(Datasheet!$K$2:$K$200000,\"=\"&AggregatedData!$B191,Datasheet!$C$2:$C$200000,\"Pupil\",Datasheet!$L$2:$L$200000,\"Negative\")","v":0},{"$f":"COUNTIFS(Datasheet!$K$2:$K$200000,\"=\"&AggregatedData!$B191,Datasheet!$C$2:$C$200000,\"Pupil\",Datasheet!$L$2:$L$200000,\"Void\")","v":0},{"$f":"COUNTIFS(Datasheet!$K$2:$K$200000,\"=\"&AggregatedData!$B191,Datasheet!$C$2:$C$200000,\"Staff\",Datasheet!$L$2:$L$200000,\"Positive\")","v":0},{"$f":"COUNTIFS(Datasheet!$K$2:$K$200000,\"=\"&AggregatedData!$B191,Datasheet!$C$2:$C$200000,\"Staff\",Datasheet!$L$2:$L$200000,\"Negative\")","v":0},{"$f":"COUNTIFS(Datasheet!$K$2:$K$200000,\"=\"&AggregatedData!$B191,Datasheet!$C$2:$C$200000,\"Staff\",Datasheet!$L$2:$L$200000,\"Void\")","v":0}]
[{"$f":"Datasheet!$B$2","v":""},"2021-07-15",{"$f":"COUNTIF(Datasheet!$K$2:$K$200000,\"=\"&AggregatedData!B192)","v":0},{"$f":"COUNTIFS(Datasheet!$K$2:$K$200000,\"=\"&AggregatedData!$B192,Datasheet!$C$2:$C$200000,\"Pupil\",Datasheet!$L$2:$L$200000,\"Positive\")","v":0},{"$f":"COUNTIFS(Datasheet!$K$2:$K$200000,\"=\"&AggregatedData!$B192,Datasheet!$C$2:$C$200000,\"Pupil\",Datasheet!$L$2:$L$200000,\"Negative\")","v":0},{"$f":"COUNTIFS(Datasheet!$K$2:$K$200000,\"=\"&AggregatedData!$B192,Datasheet!$C$2:$C$200000,\"Pupil\",Datasheet!$L$2:$L$200000,\"Void\")","v":0},{"$f":"COUNTIFS(Datasheet!$K$2:$K$200000,\"=\"&AggregatedData!$B192,Datasheet!$C$2:$C$200000,\"Staff\",Datasheet!$L$2:$L$200000,\"Positive\")","v":0},{"$f":"COUNTIFS(Datasheet!$K$2:$K$200000,\"=\"&AggregatedData!$B192,Datasheet!$C$2:$C$200000,\"Staff\",Datasheet!$L$2:$L$200000,\"Negative\")","v":0},{"$f":"COUNTIFS(Datasheet!$K$2:$K$200000,\"=\"&AggregatedData!$B192,Datasheet!$C$2:$C$200000,\"Staff\",Datasheet!$L$2:$L$200000,\"Void\")","v":0}]
[{"$f":"Datasheet!$B$2","v":""},"2021-07-16",{"$f":"COUNTIF(Datasheet!$K$2:$K$200000,\"=\"&AggregatedData!B193)","v":0},{"$f":"COUNTIFS(Datasheet!$K$2:$K$200000,\"=\"&AggregatedData!$B193,Datasheet!$C$2:$C$200000,\"Pupil\",Datasheet!$L$2:$L$200000,\"Positive\")","v":0},{"$f":"COUNTIFS(Datasheet!$K$2:$K$200000,\"=\"&AggregatedData!$B193,Datasheet!$C$2:$C$200000,\"Pupil\",Datasheet!$L$2:$L$200000,\"Negative\")","v":0},{"$f":"COUNTIFS(Datasheet!$K$2:$K$200000,\"=\"&AggregatedData!$B193,Datasheet!$C$2:$C$200000,\"Pupil\",Datasheet!$L$2:$L$200000,\"Void\")","v":0},{"$f":"COUNTIFS(Datasheet!$K$2:$K$200000,\"=\"&AggregatedData!$B193,Datasheet!$C$2:$C$200000,\"Staff\",Datasheet!$L$2:$L$200000,\"Positive\")","v":0},{"$f":"COUNTIFS(Datasheet!$K$2:$K$200000,\"=\"&AggregatedData!$B193,Datasheet!$C$2:$C$200000,\"Staff\",Datasheet!$L$2:$L$200000,\"Negative\")","v":0},{"$f":"COUNTIFS(Datasheet!$K$2:$K$200000,\"=\"&AggregatedData!$B193,Datasheet!$C$2:$C$200000,\"Staff\",Datasheet!$L$2:$L$200000,\"Void\")","v":0}]
[{"$f":"Datasheet!$B$2","v":""},"2021-07-17",{"$f":"COUNTIF(Datasheet!$K$2:$K$200000,\"=\"&AggregatedData!B194)","v":0},{"$f":"COUNTIFS(Datasheet!$K$2:$K$200000,\"=\"&AggregatedData!$B194,Datasheet!$C$2:$C$200000,\"Pupil\",Datasheet!$L$2:$L$200000,\"Positive\")","v":0},{"$f":"COUNTIFS(Datasheet!$K$2:$K$200000,\"=\"&AggregatedData!$B194,Datasheet!$C$2:$C$200000,\"Pupil\",Datasheet!$L$2:$L$200000,\"Negative\")","v":0},{"$f":"COUNTIFS(Datasheet!$K$2:$K$200000,\"=\"&AggregatedData!$B194,Datasheet!$C$2:$C$200000,\"Pupil\",Datasheet!$L$2:$L$200000,\"Void\")","v":0},{"$f":"COUNTIFS(Datasheet!$K$2:$K$200000,\"=\"&AggregatedData!$B194,Datasheet!$C$2:$C$200000,\"Staff\",Datasheet!$L$2:$L$200000,\"Positive\")","v":0},{"$f":"COUNTIFS(Datasheet!$K$2:$K$200000,\"=\"&AggregatedData!$B194,Datasheet!$C$2:$C$200000,\"Staff\",Datasheet!$L$2:$L$200000,\"Negative\")","v":0},{"$f":"COUNTIFS(Datasheet!$K$2:$K$200000,\"=\"&AggregatedData!$B194,Datasheet!$C$2:$C$200000,\"Staff\",Datasheet!$L$2:$L$200000,\"Void\")","v":0}]
[{"$f":"Datasheet!$B$2","v":""},"2021-07-18",{"$f":"COUNTIF(Datasheet!$K$2:$K$200000,\"=\"&AggregatedData!B195)","v":0},{"$f":"COUNTIFS(Datasheet!$K$2:$K$200000,\"=\"&AggregatedData!$B195,Datasheet!$C$2:$C$200000,\"Pupil\",Datasheet!$L$2:$L$200000,\"Positive\")","v":0},{"$f":"COUNTIFS(Datasheet!$K$2:$K$200000,\"=\"&AggregatedData!$B195,Datasheet!$C$2:$C$200000,\"Pupil\",Datasheet!$L$2:$L$200000,\"Negative\")","v":0},{"$f":"COUNTIFS(Datasheet!$K$2:$K$200000,\"=\"&AggregatedData!$B195,Datasheet!$C$2:$C$200000,\"Pupil\",Datasheet!$L$2:$L$200000,\"Void\")","v":0},{"$f":"COUNTIFS(Datasheet!$K$2:$K$200000,\"=\"&AggregatedData!$B195,Datasheet!$C$2:$C$200000,\"Staff\",Datasheet!$L$2:$L$200000,\"Positive\")","v":0},{"$f":"COUNTIFS(Datasheet!$K$2:$K$200000,\"=\"&AggregatedData!$B195,Datasheet!$C$2:$C$200000,\"Staff\",Datasheet!$L$2:$L$200000,\"Negative\")","v":0},{"$f":"COUNTIFS(Datasheet!$K$2:$K$200000,\"=\"&AggregatedData!$B195,Datasheet!$C$2:$C$200000,\"Staff\",Datasheet!$L$2:$L$200000,\"Void\")","v":0}]
[{"$f":"Datasheet!$B$2","v":""},"2021-07-19",{"$f":"COUNTIF(Datasheet!$K$2:$K$200000,\"=\"&AggregatedData!B196)","v":0},{"$f":"COUNTIFS(Datasheet!$K$2:$K$200000,\"=\"&AggregatedData!$B196,Datasheet!$C$2:$C$200000,\"Pupil\",Datasheet!$L$2:$L$200000,\"Positive\")","v":0},{"$f":"COUNTIFS(Datasheet!$K$2:$K$200000,\"=\"&AggregatedData!$B196,Datasheet!$C$2:$C$200000,\"Pupil\",Datasheet!$L$2:$L$200000,\"Negative\")","v":0},{"$f":"COUNTIFS(Datasheet!$K$2:$K$200000,\"=\"&AggregatedData!$B196,Datasheet!$C$2:$C$200000,\"Pupil\",Datasheet!$L$2:$L$200000,\"Void\")","v":0},{"$f":"COUNTIFS(Datasheet!$K$2:$K$200000,\"=\"&AggregatedData!$B196,Datasheet!$C$2:$C$200000,\"Staff\",Datasheet!$L$2:$L$200000,\"Positive\")","v":0},{"$f":"COUNTIFS(Datasheet!$K$2:$K$200000,\"=\"&AggregatedData!$B196,Datasheet!$C$2:$C$200000,\"Staff\",Datasheet!$L$2:$L$200000,\"Negative\")","v":0},{"$f":"COUNTIFS(Datasheet!$K$2:$K$200000,\"=\"&AggregatedData!$B196,Datasheet!$C$2:$C$200000,\"Staff\",Datasheet!$L$2:$L$200000,\"Void\")","v":0}]
[{"$f":"Datasheet!$B$2","v":""},"2021-07-20",{"$f":"COUNTIF(Datasheet!$K$2:$K$200000,\"=\"&AggregatedData!B197)","v":0},{"$f":"COUNTIFS(Datasheet!$K$2:$K$200000,\"=\"&AggregatedData!$B197,Datasheet!$C$2:$C$200000,\"Pupil\",Datasheet!$L$2:$L$200000,\"Positive\")","v":0},{"$f":"COUNTIFS(Datasheet!$K$2:$K$200000,\"=\"&AggregatedData!$B197,Datasheet!$C$2:$C$200000,\"Pupil\",Datasheet!$L$2:$L$200000,\"Negative\")","v":0},{"$f":"COUNTIFS(Datasheet!$K$2:$K$200000,\"=\"&AggregatedData!$B197,Datasheet!$C$2:$C$200000,\"Pupil\",Datasheet!$L$2:$L$200000,\"Void\")","v":0},{"$f":"COUNTIFS(Datasheet!$K$2:$K$200000,\"=\"&AggregatedData!$B197,Datasheet!$C$2:$C$200000,\"Staff\",Datasheet!$L$2:$L$200000,\"Positive\")","v":0},{"$f":"COUNTIFS(Datasheet!$K$2:$K$200000,\"=\"&AggregatedData!$B197,Datasheet!$C$2:$C$200000,\"Staff\",Datasheet!$L$2:$L$200000,\"Negative\")","v":0},{"$f":"COUNTIFS(Datasheet!$K$2:$K$200000,\"=\"&AggregatedData!$B197,Datasheet!$C$2:$C$200000,\"Staff\",Datasheet!$L$2:$L$200000,\"Void\")","v":0}]
[{"$f":"Datasheet!$B$2","v":""},"2021-07-21",{"$f":"COUNTIF(Datasheet!$K$2:$K$200000,\"=\"&AggregatedData!B198)","v":0},{"$f":"COUNTIFS(Datasheet!$K$2:$K$200000,\"=\"&AggregatedData!$B198,Datasheet!$C$2:$C$200000,\"Pupil\",Datasheet!$L$2:$L$200000,\"Positive\")","v":0},{"$f":"COUNTIFS(Datasheet!$K$2:$K$200000,\"=\"&AggregatedData!$B198,Datasheet!$C$2:$C$200000,\"Pupil\",Datasheet!$L$2:$L$200000,\"Negative\")","v":0},{"$f":"COUNTIFS(Datasheet!$K$2:$K$200000,\"=\"&AggregatedData!$B198,Datasheet!$C$2:$C$200000,\"Pupil\",Datasheet!$L$2:$L$200000,\"Void\")","v":0},{"$f":"COUNTIFS(Datasheet!$K$2:$K$200000,\"=\"&AggregatedData!$B198,Datasheet!$C$2:$C$200000,\"Staff\",Datasheet!$L$2:$L$200000,\"Positive\")","v":0},{"$f":"COUNTIFS(Datasheet!$K$2:$K$200000,\"=\"&AggregatedData!$B198,Datasheet!$C$2:$C$200000,\"Staff\",Datasheet!$L$2:$L$200000,\"Negative\")","v":0},{"$f":"COUNTIFS(Datasheet!$K$2:$K$200000,\"=\"&AggregatedData!$B198,Datasheet!$C$2:$C$200000,\"Staff\",Datasheet!$L$2:$L$200000,\"Void\")","v":0}]
[{"$f":"Datasheet!$B$2","v":""},"2021-07-22",{"$f":"COUNTIF(Datasheet!$K$2:$K$200000,\"=\"&AggregatedData!B199)","v":0},{"$f":"COUNTIFS(Datasheet!$K$2:$K$200000,\"=\"&AggregatedData!$B199,Datasheet!$C$2:$C$200000,\"Pupil\",Datasheet!$L$2:$L$200000,\"Positive\")","v":0},{"$f":"COUNTIFS(Datasheet!$K$2:$K$200000,\"=\"&AggregatedData!$B199,Datasheet!$C$2:$C$200000,\"Pupil\",Datasheet!$L$2:$L$200000,\"Negative\")","v":0},{"$f":"COUNTIFS(Datasheet!$K$2:$K$200000,\"=\"&AggregatedData!$B199,Datasheet!$C$2:$C$200000,\"Pupil\",Datasheet!$L$2:$L$200000,\"Void\")","v":0},{"$f":"COUNTIFS(Datasheet!$K$2:$K$200000,\"=\"&AggregatedData!$B199,Datasheet!$C$2:$C$200000,\"Staff\",Datasheet!$L$2:$L$200000,\"Positive\")","v":0},{"$f":"COUNTIFS(Datasheet!$K$2:$K$200000,\"=\"&AggregatedData!$B199,Datasheet!$C$2:$C$200000,\"Staff\",Datasheet!$L$2:$L$200000,\"Negative\")","v":0},{"$f":"COUNTIFS(Datasheet!$K$2:$K$200000,\"=\"&AggregatedData!$B199,Datasheet!$C$2:$C$200000,\"Staff\",Datasheet!$L$2:$L$200000,\"Void\")","v":0}]
[{"$f":"Datasheet!$B$2","v":""},"2021-07-23",{"$f":"COUNTIF(Datasheet!$K$2:$K$200000,\"=\"&AggregatedData!B200)","v":0},{"$f":"COUNTIFS(Datasheet!$K$2:$K$200000,\"=\"&AggregatedData!$B200,Datasheet!$C$2:$C$200000,\"Pupil\",Datasheet!$L$2:$L$200000,\"Positive\")","v":0},{"$f":"COUNTIFS(Datasheet!$K$2:$K$200000,\"=\"&AggregatedData!$B200,Datasheet!$C$2:$C$200000,\"Pupil\",Datasheet!$L$2:$L$200000,\"Negative\")","v":0},{"$f":"COUNTIFS(Datasheet!$K$2:$K$200000,\"=\"&AggregatedData!$B200,Datasheet!$C$2:$C$200000,\"Pupil\",Datasheet!$L$2:$L$200000,\"Void\")","v":0},{"$f":"COUNTIFS(Datasheet!$K$2:$K$200000,\"=\"&AggregatedData!$B200,Datasheet!$C$2:$C$200000,\"Staff\",Datasheet!$L$2:$L$200000,\"Positive\")","v":0},{"$f":"COUNTIFS(Datasheet!$K$2:$K$200000,\"=\"&AggregatedData!$B200,Datasheet!$C$2:$C$200000,\"Staff\",Datasheet!$L$2:$L$200000,\"Negative\")","v":0},{"$f":"COUNTIFS(Datasheet!$K$2:$K$200000,\"=\"&AggregatedData!$B200,Datasheet!$C$2:$C$200000,\"Staff\",Datasheet!$L$2:$L$200000,\"Void\")","v":0}]
[{"$f":"Datasheet!$B$2","v":""},"2021-07-24",{"$f":"COUNTIF(Datasheet!$K$2:$K$200000,\"=\"&AggregatedData!B201)","v":0},{"$f":"COUNTIFS(Datasheet!$K$2:$K$200000,\"=\"&AggregatedData!$B201,Datasheet!$C$2:$C$200000,\"Pupil\",Datasheet!$L$2:$L$200000,\"Positive\")","v":0},{"$f":"COUNTIFS(Datasheet!$K$2:$K$200000,\"=\"&AggregatedData!$B201,Datasheet!$C$2:$C$200000,\"Pupil\",Datasheet!$L$2:$L$200000,\"Negative\")","v":0},{"$f":"COUNTIFS(Datasheet!$K$2:$K$200000,\"=\"&AggregatedData!$B201,Datasheet!$C$2:$C$200000,\"Pupil\",Datasheet!$L$2:$L$200000,\"Void\")","v":0},{"$f":"COUNTIFS(Datasheet!$K$2:$K$200000,\"=\"&AggregatedData!$B201,Datasheet!$C$2:$C$200000,\"Staff\",Datasheet!$L$2:$L$200000,\"Positive\")","v":0},{"$f":"COUNTIFS(Datasheet!$K$2:$K$200000,\"=\"&AggregatedData!$B201,Datasheet!$C$2:$C$200000,\"Staff\",Datasheet!$L$2:$L$200000,\"Negative\")","v":0},{"$f":"COUNTIFS(Datasheet!$K$2:$K$200000,\"=\"&AggregatedData!$B201,Datasheet!$C$2:$C$200000,\"Staff\",Datasheet!$L$2:$L$200000,\"Void\")","v":0}]
[{"$f":"Datasheet!$B$2","v":""},"2021-07-25",{"$f":"COUNTIF(Datasheet!$K$2:$K$200000,\"=\"&AggregatedData!B202)","v":0},{"$f":"COUNTIFS(Datasheet!$K$2:$K$200000,\"=\"&AggregatedData!$B202,Datasheet!$C$2:$C$200000,\"Pupil\",Datasheet!$L$2:$L$200000,\"Positive\")","v":0},{"$f":"COUNTIFS(Datasheet!$K$2:$K$200000,\"=\"&AggregatedData!$B202,Datasheet!$C$2:$C$200000,\"Pupil\",Datasheet!$L$2:$L$200000,\"Negative\")","v":0},{"$f":"COUNTIFS(Datasheet!$K$2:$K$200000,\"=\"&AggregatedData!$B202,Datasheet!$C$2:$C$200000,\"Pupil\",Datasheet!$L$2:$L$200000,\"Void\")","v":0},{"$f":"COUNTIFS(Datasheet!$K$2:$K$200000,\"=\"&AggregatedData!$B202,Datasheet!$C$2:$C$200000,\"Staff\",Datasheet!$L$2:$L$200000,\"Positive\")","v":0},{"$f":"COUNTIFS(Datasheet!$K$2:$K$200000,\"=\"&AggregatedData!$B202,Datasheet!$C$2:$C$200000,\"Staff\",Datasheet!$L$2:$L$200000,\"Negative\")","v":0},{"$f":"COUNTIFS(Datasheet!$K$2:$K$200000,\"=\"&AggregatedData!$B202,Datasheet!$C$2:$C$200000,\"Staff\",Datasheet!$L$2:$L$200000,\"Void\")","v":0}]
[{"$f":"Datasheet!$B$2","v":""},"2021-07-26",{"$f":"COUNTIF(Datasheet!$K$2:$K$200000,\"=\"&AggregatedData!B203)","v":0},{"$f":"COUNTIFS(Datasheet!$K$2:$K$200000,\"=\"&AggregatedData!$B203,Datasheet!$C$2:$C$200000,\"Pupil\",Datasheet!$L$2:$L$200000,\"Positive\")","v":0},{"$f":"COUNTIFS(Datasheet!$K$2:$K$200000,\"=\"&AggregatedData!$B203,Datasheet!$C$2:$C$200000,\"Pupil\",Datasheet!$L$2:$L$200000,\"Negative\")","v":0},{"$f":"COUNTIFS(Datasheet!$K$2:$K$200000,\"=\"&AggregatedData!$B203,Datasheet!$C$2:$C$200000,\"Pupil\",Datasheet!$L$2:$L$200000,\"Void\")","v":0},{"$f":"COUNTIFS(Datasheet!$K$2:$K$200000,\"=\"&AggregatedData!$B203,Datasheet!$C$2:$C$200000,\"Staff\",Datasheet!$L$2:$L$200000,\"Positive\")","v":0},{"$f":"COUNTIFS(Datasheet!$K$2:$K$200000,\"=\"&AggregatedData!$B203,Datasheet!$C$2:$C$200000,\"Staff\",Datasheet!$L$2:$L$200000,\"Negative\")","v":0},{"$f":"COUNTIFS(Datasheet!$K$2:$K$200000,\"=\"&AggregatedData!$B203,Datasheet!$C$2:$C$200000,\"Staff\",Datasheet!$L$2:$L$200000,\"Void\")","v":0}]
[{"$f":"Datasheet!$B$2","v":""},"2021-07-27",{"$f":"COUNTIF(Datasheet!$K$2:$K$200000,\"=\"&AggregatedData!B204)","v":0},{"$f":"COUNTIFS(Datasheet!$K$2:$K$200000,\"=\"&AggregatedData!$B204,Datasheet!$C$2:$C$200000,\"Pupil\",Datasheet!$L$2:$L$200000,\"Positive\")","v":0},{"$f":"COUNTIFS(Datasheet!$K$2:$K$200000,\"=\"&AggregatedData!$B204,Datasheet!$C$2:$C$200000,\"Pupil\",Datasheet!$L$2:$L$200000,\"Negative\")","v":0},{"$f":"COUNTIFS(Datasheet!$K$2:$K$200000,\"=\"&AggregatedData!$B204,Datasheet!$C$2:$C$200000,\"Pupil\",Datasheet!$L$2:$L$200000,\"Void\")","v":0},{"$f":"COUNTIFS(Datasheet!$K$2:$K$200000,\"=\"&AggregatedData!$B204,Datasheet!$C$2:$C$200000,\"Staff\",Datasheet!$L$2:$L$200000,\"Positive\")","v":0},{"$f":"COUNTIFS(Datasheet!$K$2:$K$200000,\"=\"&AggregatedData!$B204,Datasheet!$C$2:$C$200000,\"Staff\",Datasheet!$L$2:$L$200000,\"Negative\")","v":0},{"$f":"COUNTIFS(Datasheet!$K$2:$K$200000,\"=\"&AggregatedData!$B204,Datasheet!$C$2:$C$200000,\"Staff\",Datasheet!$L$2:$L$200000,\"Void\")","v":0}]
[{"$f":"Datasheet!$B$2","v":""},"2021-07-28",{"$f":"COUNTIF(Datasheet!$K$2:$K$200000,\"=\"&AggregatedData!B205)","v":0},{"$f":"COUNTIFS(Datasheet!$K$2:$K$200000,\"=\"&AggregatedData!$B205,Datasheet!$C$2:$C$200000,\"Pupil\",Datasheet!$L$2:$L$200000,\"Positive\")","v":0},{"$f":"COUNTIFS(Datasheet!$K$2:$K$200000,\"=\"&AggregatedData!$B205,Datasheet!$C$2:$C$200000,\"Pupil\",Datasheet!$L$2:$L$200000,\"Negative\")","v":0},{"$f":"COUNTIFS(Datasheet!$K$2:$K$200000,\"=\"&AggregatedData!$B205,Datasheet!$C$2:$C$200000,\"Pupil\",Datasheet!$L$2:$L$200000,\"Void\")","v":0},{"$f":"COUNTIFS(Datasheet!$K$2:$K$200000,\"=\"&AggregatedData!$B205,Datasheet!$C$2:$C$200000,\"Staff\",Datasheet!$L$2:$L$200000,\"Positive\")","v":0},{"$f":"COUNTIFS(Datasheet!$K$2:$K$200000,\"=\"&AggregatedData!$B205,Datasheet!$C$2:$C$200000,\"Staff\",Datasheet!$L$2:$L$200000,\"Negative\")","v":0},{"$f":"COUNTIFS(Datasheet!$K$2:$K$200000,\"=\"&AggregatedData!$B205,Datasheet!$C$2:$C$200000,\"Staff\",Datasheet!$L$2:$L$200000,\"Void\")","v":0}]
[{"$f":"Datasheet!$B$2","v":""},"2021-07-29",{"$f":"COUNTIF(Datasheet!$K$2:$K$200000,\"=\"&AggregatedData!B206)","v":0},{"$f":"COUNTIFS(Datasheet!$K$2:$K$200000,\"=\"&AggregatedData!$B206,Datasheet!$C$2:$C$200000,\"Pupil\",Datasheet!$L$2:$L$200000,\"Positive\")","v":0},{"$f":"COUNTIFS(Datasheet!$K$2:$K$200000,\"=\"&AggregatedData!$B206,Datasheet!$C$2:$C$200000,\"Pupil\",Datasheet!$L$2:$L$200000,\"Negative\")","v":0},{"$f":"COUNTIFS(Datasheet!$K$2:$K$200000,\"=\"&AggregatedData!$B206,Datasheet!$C$2:$C$200000,\"Pupil\",Datasheet!$L$2:$L$200000,\"Void\")","v":0},{"$f":"COUNTIFS(Datasheet!$K$2:$K$200000,\"=\"&AggregatedData!$B206,Datasheet!$C$2:$C$200000,\"Staff\",Datasheet!$L$2:$L$200000,\"Positive\")","v":0},{"$f":"COUNTIFS(Datasheet!$K$2:$K$200000,\"=\"&AggregatedData!$B206,Datasheet!$C$2:$C$200000,\"Staff\",Datasheet!$L$2:$L$200000,\"Negative\")","v":0},{"$f":"COUNTIFS(Datasheet!$K$2:$K$200000,\"=\"&AggregatedData!$B206,Datasheet!$C$2:$C$200000,\"Staff\",Datasheet!$L$2:$L$200000,\"Void\")","v":0}]
[{"$f":"Datasheet!$B$2","v":""},"2021-07-30",{"$f":"COUNTIF(Datasheet!$K$2:$K$200000,\"=\"&AggregatedData!B207)","v":0},{"$f":"COUNTIFS(Datasheet!$K$2:$K$200000,\"=\"&AggregatedData!$B207,Datasheet!$C$2:$C$200000,\"Pupil\",Datasheet!$L$2:$L$200000,\"Positive\")","v":0},{"$f":"COUNTIFS(Datasheet!$K$2:$K$200000,\"=\"&AggregatedData!$B207,Datasheet!$C$2:$C$200000,\"Pupil\",Datasheet!$L$2:$L$200000,\"Negative\")","v":0},{"$f":"COUNTIFS(Datasheet!$K$2:$K$200000,\"=\"&AggregatedData!$B207,Datasheet!$C$2:$C$200000,\"Pupil\",Datasheet!$L$2:$L$200000,\"Void\")","v":0},{"$f":"COUNTIFS(Datasheet!$K$2:$K$200000,\"=\"&AggregatedData!$B207,Datasheet!$C$2:$C$200000,\"Staff\",Datasheet!$L$2:$L$200000,\"Positive\")","v":0},{"$f":"COUNTIFS(Datasheet!$K$2:$K$200000,\"=\"&AggregatedData!$B207,Datasheet!$C$2:$C$200000,\"Staff\",Datasheet!$L$2:$L$200000,\"Negative\")","v":0},{"$f":"COUNTIFS(Datasheet!$K$2:$K$200000,\"=\"&AggregatedData!$B207,Datasheet!$C$2:$C$200000,\"Staff\",Datasheet!$L$2:$L$200000,\"Void\")","v":0}]

{"sheet":"Lists","index":4,"n_rows":108,"n_cols":5,"rows_kept":108,"cut":false,"hidden":true,"merged":[]}
["School","Year Group","Consent Given","Test Result","Staff/ Student"]
["Alder Coppice Primary School","Pre- school","Yes","Positive","Staff"]
["Amblecote Primary School","Reception","No","Negative","Pupil"]
["Ashwood Park Primary School",1,null,"Void"]
["Beacon Hill Academy",2]
["Beechwood Church of England Primary School",3]
["Belle Vue Primary School",4]
["Bishop Milner Catholic College",5]
["Blanford Mere Primary School",6]
["Blowers Green Primary School",7]
["Bramford Primary School",8]
["Brierley Hill Primary School",9]
["Brockmoor Primary School",10]
["Bromley Hills Primary School",11]
["Brook Primary School",12]
["Caslon Primary Community School",13]
["Cherry Tree Learning Centre","N/A"]
["Christ Church CofE Primary School"]
["Church of the Ascension CofE Primary School"]
["Colley Lane Primary Academy"]
["Cotwall End Primary School"]
["Cradley CofE Primary School"]
["Crestwood Park Primary School"]
["Dawley Brook Primary School"]
["Dingle Community Primary School"]
["Dudley Wood Primary School"]
["Ellowes Hall Sports College"]
["Fairhaven Primary School"]
["Foxyards Primary School"]
["Gig Mill Primary School"]
["Glynne Primary School"]
["Greenfield Primary School"]
["Halesbury School"]
["Halesowen CofE Primary School"]
["Ham Dingle Primary Academy"]
["Hawbush Primary School"]
["Hob Green Primary School"]
["Howley Grange Primary School"]
["Huntingtree Primary School"]
["Hurst Green Primary School"]
["Hurst Hill Primary School"]
["Jesson's CofE Primary School (VA)"]
["Kates Hill Primary School"]
["Kingswinford Academy"]
["Lapal Primary School"]
["Leasowes High School"]
["Lutley Primary School"]
["Maidensbridge Primary School"]
["Manor Way Primary Academy"]
["Milking Bank Primary School"]
["Mount Pleasant Primary School"]
["Netherbrook Primary School"]
["Netherton CofE Primary School"]
["Netherton Park Nursery School"]
["Newfield Park Primary School"]
["Northfield Road Primary School"]
["Old Swinford Hospital"]
["Oldswinford C of E Primary School"]
["Olive Hill Primary Academy"]
["Our Lady and St Kenelm RC School"]
["Pedmore CE Primary School"]
["Pegasus Academy"]
["Pens Meadow School"]
["Peters Hill Primary School"]
["Priory Primary School"]
["Quarry Bank Primary School"]
["Queen Victoria Primary School"]
["Red Hall Primary School"]
["Redhill School"]
["Ridgewood High School"]
["Roberts Primary School"]
["Rosewood School"]
["Rufford Primary School"]
["Russells Hall Primary School"]
["Sledmere Primary School"]
["St Chad's Catholic Primary School"]
["St James Academy"]
["St James's CofE Primary School"]
["St Joseph's Catholic Primary School (Dudley)"]
["St Joseph's RC Primary School (Norton)"]
["St Margaret's At Hasbury CofE Primary School"]
["St Mark's CofE Primary School"]
["St Mary's CofE (VC) Primary School"]
["St Mary's RC Primary School"]
["Straits Primary School"]
["Summerhill School"]
["Sycamore Short Stay School"]
["Tenterfields Primary School"]
["The Brier School"]
["The Bromley-Pensnett Primary School"]
["The Crestwood School"]
["The Dormston School"]
["The Earls High School"]
["The Link Academy"]
["The Old Park School"]
["The Pedmore High School"]
["The Ridge Primary School"]
["The Sutton School and Specialist College"]
["The Wordsley School Business & Enterprise & Music College"]
["Thorns Collegiate Academy"]
["Thorns Primary School"]
["Wallbrook Primary School"]
["Windsor High School and Sixth Form"]
["Withymoor Primary School"]
["Wollescote Primary School"]
["Woodsetton School"]
["Woodside Primary School and Nursery"]
["Wrens Nest Primary School"]