{"text_format":"1","workbook":"xlsx","n_sheets":57,"sheets":["2011 Census Profile","Chart Hyperlinks","Help","Chart Data","Bespoke Area Name","Bespoke Area Data","Bespoke Area Calculations","Key Stats Number","Quick Stats Number","Variables","Area Labels","Area Types","Comparator Types","Selection Text","Version","Country","Region","Sub-Region","LAD","WMR LADs","Met LADs","Community Forum","Ward","LSOA Code","LSOA Name","Township","Early Help Cluster","Resident Population Chart","Age Structure Chart","Marital Status Chart","Household Composition Chart","Lone Parent Chart","Ethnic Group Chart","Religion Chart","Country Of Birth Chart","Length Of Residence Chart","Passports Chart","General Health Chart","Provision Of Unpaid Care Chart","Disability Chart","Disability 16-64 Chart","Qualifications Chart","Household Language Chart","English Proficiency Chart","Economic Activity Chart","Hours Worked Chart","Unemployment Chart","Occupation Chart","Industry Of Employment Chart","Accommodation Type Chart","Household Tenure Chart","Household Size Chart","Rooms Chart","Central Heating Chart","Travel To Work Chart","Distance To Work Chart","Car Or Van Availability Chart"],"not_rendered":{"charts":60,"images":1,"macros":1,"external_links":1,"defined_names":53,"comments":0,"pivot_tables":0},"unopened":[{"sheet":"Resident Population Chart","index":27,"reason":"not_a_worksheet"},{"sheet":"Age Structure Chart","index":28,"reason":"not_a_worksheet"},{"sheet":"Marital Status Chart","index":29,"reason":"not_a_worksheet"},{"sheet":"Household Composition Chart","index":30,"reason":"not_a_worksheet"},{"sheet":"Lone Parent Chart","index":31,"reason":"not_a_worksheet"},{"sheet":"Ethnic Group Chart","index":32,"reason":"not_a_worksheet"},{"sheet":"Religion Chart","index":33,"reason":"not_a_worksheet"},{"sheet":"Country Of Birth Chart","index":34,"reason":"not_a_worksheet"},{"sheet":"Length Of Residence Chart","index":35,"reason":"not_a_worksheet"},{"sheet":"Passports Chart","index":36,"reason":"not_a_worksheet"},{"sheet":"General Health Chart","index":37,"reason":"not_a_worksheet"},{"sheet":"Provision Of Unpaid Care Chart","index":38,"reason":"not_a_worksheet"},{"sheet":"Disability Chart","index":39,"reason":"not_a_worksheet"},{"sheet":"Disability 16-64 Chart","index":40,"reason":"not_a_worksheet"},{"sheet":"Qualifications Chart","index":41,"reason":"not_a_worksheet"},{"sheet":"Household Language Chart","index":42,"reason":"not_a_worksheet"},{"sheet":"English Proficiency Chart","index":43,"reason":"not_a_worksheet"},{"sheet":"Economic Activity Chart","index":44,"reason":"not_a_worksheet"},{"sheet":"Hours Worked Chart","index":45,"reason":"not_a_worksheet"},{"sheet":"Unemployment Chart","index":46,"reason":"not_a_worksheet"},{"sheet":"Occupation Chart","index":47,"reason":"not_a_worksheet"},{"sheet":"Industry Of Employment Chart","index":48,"reason":"not_a_worksheet"},{"sheet":"Accommodation Type Chart","index":49,"reason":"not_a_worksheet"},{"sheet":"Household Tenure Chart","index":50,"reason":"not_a_worksheet"},{"sheet":"Household Size Chart","index":51,"reason":"not_a_worksheet"},{"sheet":"Rooms Chart","index":52,"reason":"not_a_worksheet"},{"sheet":"Central Heating Chart","index":53,"reason":"not_a_worksheet"},{"sheet":"Travel To Work Chart","index":54,"reason":"not_a_worksheet"},{"sheet":"Distance To Work Chart","index":55,"reason":"not_a_worksheet"},{"sheet":"Car Or Van Availability Chart","index":56,"reason":"not_a_worksheet"}],"bounds":{"document_bytes":16777216,"sheet_cells":100000,"rows_first":2000,"rows_last":500,"rows_between":2000,"halvings":0,"cell_chars":16384,"cell_head_chars":4096},"cells_cut":0,"cells_raw":0,"read":"whole","date_system":"1900"}

{"sheet":"2011 Census Profile","index":0,"n_rows":354,"n_cols":13,"rows_kept":354,"cut":false,"hidden":false,"merged":[[275,0,275,1],[276,0,276,1],[10,11,10,12],[4,1,4,8],[6,1,6,8],[53,2,54,2],[53,3,54,3],[8,1,8,8],[10,1,10,8],[15,6,15,7],[34,3,34,5],[23,9,23,12],[17,2,17,12],[23,3,23,5],[23,7,23,8],[34,9,34,12],[31,7,31,8],[32,7,32,8],[27,7,27,8],[28,7,28,8],[12,2,12,8],[14,2,14,4],[14,6,14,7],[19,2,19,12],[189,7,189,8],[190,7,190,8],[191,7,191,8],[194,7,194,8],[195,7,195,8],[196,7,196,8],[197,7,197,8],[14,9,14,10],[15,2,15,4],[185,10,186,10],[185,7,186,8],[184,2,185,2],[83,9,84,9],[83,10,84,12],[175,9,175,12],[183,10,184,10],[183,11,184,11],[183,9,184,9],[183,7,184,8],[184,3,185,5],[185,9,186,9],[53,4,54,4],[83,7,84,8],[175,3,175,5],[247,10,247,12],[110,7,110,12],[134,10,134,12],[218,10,218,12],[114,9,114,12],[203,10,203,12],[185,12,186,12],[183,12,184,12],[146,10,146,12],[185,11,186,11],[159,10,159,12],[124,10,124,12],[149,7,149,8],[148,7,148,8],[146,7,146,8],[193,7,193,8],[198,7,198,8],[212,7,212,8],[229,7,229,8],[230,7,230,8],[203,7,203,8],[247,7,247,8],[187,7,187,8],[188,7,188,8],[94,10,94,12],[54,7,55,9],[71,7,71,8],[69,7,69,8],[79,7,79,8],[80,7,80,8],[42,7,42,8],[43,7,43,8],[46,7,46,8],[48,7,48,8],[49,7,49,8],[81,7,81,8],[87,7,87,8],[54,10,55,10],[54,11,55,12],[69,10,69,12],[58,7,58,8],[57,7,57,8],[59,7,59,8],[60,7,60,8],[61,7,61,8],[62,7,62,8],[63,7,63,8],[90,7,90,8],[6,11,6,12],[37,7,37,8],[44,7,44,8],[45,7,45,8],[47,7,47,8],[55,5,56,5],[38,7,38,8],[39,7,39,8],[40,7,40,8],[41,7,41,8],[53,5,54,5],[50,7,50,8],[51,7,51,8],[52,7,52,8],[37,0,37,1],[38,0,38,1],[45,0,45,1],[46,0,46,1],[39,0,39,1],[40,0,40,1],[41,0,41,1],[42,0,42,1],[51,0,51,1],[47,0,47,1],[48,0,48,1],[49,0,49,1],[50,0,50,1],[43,0,43,1],[44,0,44,1],[247,3,247,5],[184,0,185,1],[114,3,114,5],[232,3,232,5],[159,3,159,5],[124,4,124,5],[218,3,218,5],[217,2,217,5],[59,0,59,1],[119,0,119,1],[84,5,85,5],[84,4,85,4],[82,4,83,4],[82,5,83,5],[86,0,86,1],[87,0,87,1],[88,0,88,1],[89,0,89,1],[203,3,203,5],[94,4,94,5],[61,0,61,1],[62,0,62,1],[73,0,73,1],[71,0,71,1],[52,0,52,1],[53,0,54,1],[55,0,56,1],[57,0,57,1],[58,0,58,1],[55,2,56,2],[55,3,56,3],[55,4,56,4],[60,0,60,1],[63,0,63,1],[64,0,64,1],[69,3,69,5],[72,0,72,1],[64,7,64,8],[90,0,90,1],[91,0,91,1],[92,0,92,1],[97,0,97,1],[82,2,83,2],[82,3,83,3],[84,2,85,2],[84,3,85,3],[74,0,74,1],[75,0,75,1],[76,0,76,1],[77,0,77,1],[78,0,78,1],[79,0,79,1],[80,0,80,1],[81,0,81,1],[82,0,83,1],[84,0,85,1],[89,7,89,8],[100,7,100,8],[101,7,101,8],[102,7,102,8],[103,7,103,8],[104,7,104,8],[98,0,98,1],[99,0,99,1],[96,0,96,1],[100,0,100,1],[101,0,101,1],[102,0,102,1],[103,0,103,1],[104,0,104,1],[91,7,91,8],[92,7,92,8],[97,7,97,8],[98,7,98,8],[99,7,99,8],[96,7,96,8],[94,7,94,8],[72,7,72,8],[73,7,73,8],[74,7,74,8],[75,7,75,8],[76,7,76,8],[77,7,77,8],[78,7,78,8],[86,7,86,8],[88,7,88,8],[105,7,105,8],[106,7,106,8],[107,7,107,8],[108,7,108,8],[109,7,109,8],[117,0,117,1],[118,0,118,1],[117,7,117,8],[118,7,118,8],[116,0,116,1],[114,7,114,8],[116,7,116,8],[106,0,106,1],[105,0,105,1],[120,0,120,1],[121,0,121,1],[122,0,122,1],[127,0,127,1],[128,0,128,1],[129,0,129,1],[134,3,134,5],[130,7,130,8],[139,7,139,8],[130,0,130,1],[137,0,137,1],[138,0,138,1],[139,0,139,1],[142,0,142,1],[143,0,143,1],[144,0,144,1],[119,7,119,8],[120,7,120,8],[121,7,121,8],[127,7,127,8],[138,7,138,8],[143,7,143,8],[129,7,129,8],[140,7,140,8],[141,7,141,8],[142,7,142,8],[144,7,144,8],[126,0,126,1],[136,0,136,1],[126,7,126,8],[136,7,136,8],[124,7,124,9],[134,7,134,8],[128,7,128,8],[140,0,140,1],[137,7,137,8],[141,0,141,1],[25,0,25,1],[36,0,36,1],[25,7,25,8],[36,7,36,8],[34,7,34,8],[26,7,26,8],[26,0,26,1],[27,0,27,1],[28,0,28,1],[29,0,29,1],[29,7,29,8],[30,7,30,8],[30,0,30,1],[31,0,31,1],[161,0,161,1],[162,0,162,1],[163,0,163,1],[164,0,164,1],[159,7,159,8],[150,7,150,8],[151,7,151,8],[152,7,152,8],[153,7,153,8],[179,0,179,1],[180,0,180,1],[175,0,175,2],[181,0,181,1],[182,0,182,1],[177,0,177,1],[187,0,187,1],[188,0,188,1],[165,0,165,1],[166,0,166,1],[167,0,167,1],[168,0,168,1],[169,0,169,1],[170,0,170,1],[171,0,171,1],[172,0,172,1],[173,0,173,1],[189,0,189,1],[190,0,190,1],[191,0,191,1],[192,0,192,1],[161,7,161,8],[162,7,162,8],[163,7,163,8],[164,7,164,8],[165,7,165,8],[166,7,166,8],[167,7,167,8],[168,7,168,8],[169,7,169,8],[170,7,170,8],[171,7,171,8],[177,7,177,8],[178,7,178,8],[175,7,175,8],[179,7,179,8],[180,7,180,8],[181,7,181,8],[182,7,182,8],[192,7,192,8],[178,0,178,1],[205,0,205,1],[205,7,205,8],[210,0,210,1],[211,0,211,1],[206,0,206,1],[207,0,207,1],[208,0,208,1],[209,0,209,1],[208,7,208,8],[209,7,209,8],[210,7,210,8],[211,7,211,8],[206,7,206,8],[207,7,207,8],[221,0,221,1],[222,0,222,1],[213,7,213,8],[214,7,214,8],[220,0,220,1],[214,0,214,1],[220,7,220,8],[221,7,221,8],[223,0,223,1],[218,7,218,8],[224,0,224,1],[222,7,222,8],[223,7,223,8],[225,0,225,1],[226,0,226,1],[227,0,227,1],[228,0,228,1],[224,7,224,8],[225,7,225,8],[226,7,226,8],[227,7,227,8],[228,7,228,8],[241,0,241,1],[242,0,242,1],[249,0,249,1],[250,0,250,1],[251,0,251,1],[252,0,252,1],[234,0,234,1],[232,0,232,1],[229,0,229,1],[230,0,230,1],[247,0,247,2],[235,0,235,1],[236,0,236,1],[237,0,237,1],[238,0,238,1],[239,0,239,1],[240,0,240,1],[269,0,269,1],[270,0,270,1],[271,0,271,1],[272,0,272,1],[273,0,273,1],[274,0,274,1],[23,0,23,1],[34,0,34,1],[69,0,69,1],[94,0,94,1],[114,0,114,2],[124,0,124,3],[134,0,134,2],[159,0,159,1],[203,0,203,2],[218,0,218,2],[212,0,212,1],[213,0,213,1],[215,0,215,1],[216,0,216,1],[261,0,261,1],[257,0,257,1],[265,0,265,1],[266,0,266,1],[249,7,249,8],[250,7,250,8],[251,7,251,8],[252,7,252,8],[253,7,253,8],[254,7,254,8],[255,7,255,8],[256,7,256,8],[268,0,268,1],[263,0,263,2],[263,3,263,5],[258,0,258,1],[259,0,259,1],[260,0,260,1],[267,0,267,1],[253,0,253,1],[254,0,254,1],[255,0,255,1],[256,0,256,1]]}
["2011 Census Area Profiler"]
[]
["Please select your …","Area and Comparison Area Selection Boxes",null,null,null,null,null,null,"Help to select your areas"]
[]
["Area Type →","CLICK HERE, THEN ON THE DOWN ARROW TO SELECT AREA TYPE",null,null,null,null,null,null,null,{"$f":"IF($B$5=\"CLICK HERE, THEN ON THE DOWN ARROW TO SELECT AREA TYPE\",\"   Not selected\",\"   Selected\")","v":"   Not selected"}]
[]
["Area Name →","CLICK HERE, THEN ON THE DOWN ARROW TO SELECT AREA",null,null,null,null,null,null,null,{"$f":"IF($B$7=\"CLICK HERE, THEN ON THE DOWN ARROW TO SELECT AREA\",\"   Not selected\",\"   Selected\")","v":"   Not selected"}]
[]
["Comparison Area Type →","CLICK HERE, THEN ON THE DOWN ARROW TO SELECT COMPARISON AREA TYPE",null,null,null,null,null,null,null,{"$f":"IF($B$9=\"CLICK HERE, THEN ON THE DOWN ARROW TO SELECT COMPARISON AREA TYPE\",\"   Not selected\",\"   Selected\")","v":"   Not selected"}]
[]
["Comparison Area Name →","CLICK HERE, THEN ON THE DOWN ARROW TO SELECT COMPARISON AREA",null,null,null,null,null,null,null,{"$f":"IF($B$11=\"CLICK HERE, THEN ON THE DOWN ARROW TO SELECT COMPARISON AREA\",\"   Not selected\",IF($B$11=\"CLICK HERE, THEN ON THE DOWN ARROW TO SELECT AREA\",\"   Not selected\",\"   Selected\"))","v":"   Not selected"}]
[]
["Go to section on…"]
[]
["Population Structure",null,"Ethnicity, Religion, Nationality",null,null,null,"Health",null,"Qualifications & Languages","Contact Information",null,null,"Interactive"]
["Employment & Labour Market",null,"Accommodation & Households",null,null,null,"Transport",null,"Glossary","Help"]
[]
["2011 Census Area Profile for:",null,{"$f":"IF($B$7=\"CLICK HERE, THEN ON THE DOWN ARROW TO SELECT AREA\",\"USE AREA TYPE AND AREA NAME SELECTION BOXES ABOVE TO CHOOSE AREA\",VLOOKUP($B$7,AREALABEL,4,FALSE))","v":"USE AREA TYPE AND AREA NAME SELECTION BOXES ABOVE TO CHOOSE AREA"}]
[]
["Showing comparison figures with:",null,{"$f":"IF($B$11=\"CLICK HERE, THEN ON THE DOWN ARROW TO SELECT COMPARISON AREA\",\"USE COMPARISON AREA TYPE AND COMPARISON AREA NAME SELECTION BOXES ABOVE TO CHOOSE AREA\",IF($B$11=\"CLICK HERE, THEN ON THE DOWN ARROW TO SELECT AREA\",\"USE COMPARISON AREA TYPE AND COMPARISON AREA NAME SELECTION BOXES ABOVE TO CHOOSE AREA\",IF($B$11=\"To request a Bespoke area please contact Policy & Research at Dudley Council\",\"USE COMPARISON AREA TYPE AND COMPARISON AREA NAME SELECTION BOXES ABOVE TO CHOOSE AREA\",VLOOKUP($B$11,AREALABEL,4,FALSE))))","v":"USE COMPARISON AREA TYPE AND COMPARISON AREA NAME SELECTION BOXES ABOVE TO CHOOSE AREA"}]
[]
["Population Structure"]
[]
["Resident Population (Source: Table KS101EW)",null,null,"View resident population chart",null,null,null,"Marital / Civil Partnership Status (Source: Table KS103EW)",null,"View marital / civil partnership chart"]
[]
["All Residents",null,"Area No.","%","Compare No.","%",null,"Residents Aged 16+",null,"Area No.","%","Compare No.","%"]
["Male",null,{"$f":"VLOOKUP($C$18,KSNUMBER,4,FALSE)","v":0},{"$f":"IF($C$18=\"USE AREA TYPE AND AREA NAME SELECTION BOXES ABOVE TO CHOOSE AREA\",\"0.0\",C27/C$29*100)","v":"0.0"},{"$f":"VLOOKUP($C$20,KSNUMBER,4,FALSE)","v":0},{"$f":"IF($C$20=\"USE COMPARISON AREA TYPE AND COMPARISON AREA NAME SELECTION BOXES ABOVE TO CHOOSE AREA\",\"0.0\",E27/E$29*100)","v":"0.0"},null,"Single (Never Married/Never Registered Civil Partnership)",null,{"$f":"VLOOKUP($C$18,KSNUMBER,31,FALSE)","v":0},{"$f":"IF($C$18=\"USE AREA TYPE AND AREA NAME SELECTION BOXES ABOVE TO CHOOSE AREA\",\"0.0\",J27/J$33*100)","v":"0.0"},{"$f":"VLOOKUP($C$20,KSNUMBER,31,FALSE)","v":0},{"$f":"IF($C$20=\"USE COMPARISON AREA TYPE AND COMPARISON AREA NAME SELECTION BOXES ABOVE TO CHOOSE AREA\",\"0.0\",L27/L$33*100)","v":"0.0"}]
["Female",null,{"$f":"VLOOKUP($C$18,KSNUMBER,5,FALSE)","v":0},{"$f":"IF($C$18=\"USE AREA TYPE AND AREA NAME SELECTION BOXES ABOVE TO CHOOSE AREA\",\"0.0\",C28/C$29*100)","v":"0.0"},{"$f":"VLOOKUP($C$20,KSNUMBER,5,FALSE)","v":0},{"$f":"IF($C$20=\"USE COMPARISON AREA TYPE AND COMPARISON AREA NAME SELECTION BOXES ABOVE TO CHOOSE AREA\",\"0.0\",E28/E$29*100)","v":"0.0"},null,"Married",null,{"$f":"VLOOKUP($C$18,KSNUMBER,32,FALSE)","v":0},"0.0",{"$f":"VLOOKUP($C$20,KSNUMBER,32,FALSE)","v":0},"0.0"]
["Total",null,{"$f":"C27+C28","v":0},null,{"$f":"E27+E28","v":0},null,null,"In a Registered Same-Sex Civil Partnership",null,{"$f":"VLOOKUP($C$18,KSNUMBER,33,FALSE)","v":0},"0.0",{"$f":"VLOOKUP($C$20,KSNUMBER,33,FALSE)","v":0},"0.0"]
["Population Density (People per Hectare)",null,{"$f":"IF($B$5=\"Bespoke Area\",VLOOKUP($C$18,BESPCALC,4,FALSE),VLOOKUP($C$18,KSNUMBER,10,FALSE))","v":0},null,{"$f":"IF($B$9=\"Bespoke Area\",VLOOKUP($C$20,BESPCALC,4,FALSE),VLOOKUP($C$20,KSNUMBER,10,FALSE))","v":0},null,null,"Separated (Still Legally Married/Registered Civil Partnership)",null,{"$f":"VLOOKUP($C$18,KSNUMBER,34,FALSE)","v":0},"0.0",{"$f":"VLOOKUP($C$20,KSNUMBER,34,FALSE)","v":0},"0.0"]
["Lives in a Household",null,{"$f":"VLOOKUP($C$18,KSNUMBER,6,FALSE)","v":0},{"$f":"IF($C$18=\"USE AREA TYPE AND AREA NAME SELECTION BOXES ABOVE TO CHOOSE AREA\",\"0.0\",C31/C$29*100)","v":"0.0"},{"$f":"VLOOKUP($C$20,KSNUMBER,6,FALSE)","v":0},{"$f":"IF($C$20=\"USE COMPARISON AREA TYPE AND COMPARISON AREA NAME SELECTION BOXES ABOVE TO CHOOSE AREA\",\"0.0\",E31/E$29*100)","v":"0.0"},null,"Divorced/Legally Dissolved Civil Partnership",null,{"$f":"VLOOKUP($C$18,KSNUMBER,35,FALSE)","v":0},"0.0",{"$f":"VLOOKUP($C$20,KSNUMBER,35,FALSE)","v":0},"0.0"]
["Lives in a Communal Establishment",null,{"$f":"VLOOKUP($C$18,KSNUMBER,7,FALSE)","v":0},{"$f":"IF($C$18=\"USE AREA TYPE AND AREA NAME SELECTION BOXES ABOVE TO CHOOSE AREA\",\"0.0\",C32/C$29*100)","v":"0.0"},{"$f":"VLOOKUP($C$20,KSNUMBER,7,FALSE)","v":0},{"$f":"IF($C$20=\"USE COMPARISON AREA TYPE AND COMPARISON AREA NAME SELECTION BOXES ABOVE TO CHOOSE AREA\",\"0.0\",E32/E$29*100)","v":"0.0"},null,"Widowed/Surviving Partner from Registered Civil Partnership",null,{"$f":"VLOOKUP($C$18,KSNUMBER,36,FALSE)","v":0},"0.0",{"$f":"VLOOKUP($C$20,KSNUMBER,36,FALSE)","v":0},"0.0"]
[null,null,null,null,null,null,null,"Total",null,{"$f":"SUM(J27:J32)","v":0},null,{"$f":"SUM(L27:L32)","v":0}]
[]
["Age Structure (Source: Tables KS102EW / PP04)",null,null,"View age structure chart",null,null,null,"Household Composition (Source: Table KS105EW)",null,"View household composition chart"]
[]
["All Residents",null,"Area No.","%","Compare No.","%",null,"All Households",null,"Area No.","%","Compare No.","%"]
["0-4",null,{"$f":"VLOOKUP($C$18,KSNUMBER,12,FALSE)","v":0},{"$f":"IF($C$18=\"USE AREA TYPE AND AREA NAME SELECTION BOXES ABOVE TO CHOOSE AREA\",\"0.0\",C38/C$65*100)","v":"0.0"},{"$f":"VLOOKUP($C$20,KSNUMBER,12,FALSE)","v":0},{"$f":"IF($C$20=\"USE COMPARISON AREA TYPE AND COMPARISON AREA NAME SELECTION BOXES ABOVE TO CHOOSE AREA\",\"0.0\",E38/E$65*100)","v":"0.0"},null,"One Person: Aged 65+",null,{"$f":"VLOOKUP($C$18,KSNUMBER,38,FALSE)","v":0},{"$f":"IF($C$18=\"USE AREA TYPE AND AREA NAME SELECTION BOXES ABOVE TO CHOOSE AREA\",\"0.0\",J38/J$53*100)","v":"0.0"},{"$f":"VLOOKUP($C$20,KSNUMBER,38,FALSE)","v":0},{"$f":"IF($C$20=\"USE COMPARISON AREA TYPE AND COMPARISON AREA NAME SELECTION BOXES ABOVE TO CHOOSE AREA\",\"0.0\",L38/L$53*100)","v":"0.0"}]
["5-7",null,{"$f":"VLOOKUP($C$18,KSNUMBER,13,FALSE)","v":0},"0.0",{"$f":"VLOOKUP($C$20,KSNUMBER,13,FALSE)","v":0},"0.0",null,"One Person: Other",null,{"$f":"VLOOKUP($C$18,KSNUMBER,39,FALSE)","v":0},"0.0",{"$f":"VLOOKUP($C$20,KSNUMBER,39,FALSE)","v":0},"0.0"]
["8-9",null,{"$f":"VLOOKUP($C$18,KSNUMBER,14,FALSE)","v":0},"0.0",{"$f":"VLOOKUP($C$20,KSNUMBER,14,FALSE)","v":0},"0.0",null,"One Family: All Aged 65+",null,{"$f":"VLOOKUP($C$18,KSNUMBER,40,FALSE)","v":0},"0.0",{"$f":"VLOOKUP($C$20,KSNUMBER,40,FALSE)","v":0},"0.0"]
["10",null,{"$f":"VLOOKUP($C$18,QSNUMBER,23,FALSE)","v":0},"0.0",{"$f":"VLOOKUP($C$20,QSNUMBER,23,FALSE)","v":0},"0.0",null,"Married/Civil Partnership Couple: No Children",null,{"$f":"VLOOKUP($C$18,KSNUMBER,41,FALSE)","v":0},"0.0",{"$f":"VLOOKUP($C$20,KSNUMBER,41,FALSE)","v":0},"0.0"]
[11,null,{"$f":"VLOOKUP($C$18,QSNUMBER,24,FALSE)","v":0},"0.0",{"$f":"VLOOKUP($C$20,QSNUMBER,24,FALSE)","v":0},"0.0",null,"Married/Civil Partnership Couple: With Dependent Children",null,{"$f":"VLOOKUP($C$18,KSNUMBER,42,FALSE)","v":0},"0.0",{"$f":"VLOOKUP($C$20,KSNUMBER,42,FALSE)","v":0},"0.0"]
[12,null,{"$f":"VLOOKUP($C$18,QSNUMBER,25,FALSE)","v":0},"0.0",{"$f":"VLOOKUP($C$20,QSNUMBER,25,FALSE)","v":0},"0.0",null,"Married/Civil Partnership Couple: All Children Non-Dependent",null,{"$f":"VLOOKUP($C$18,KSNUMBER,43,FALSE)","v":0},"0.0",{"$f":"VLOOKUP($C$20,KSNUMBER,43,FALSE)","v":0},"0.0"]
["13-14",null,{"$f":"VLOOKUP($C$18,QSNUMBER,26,FALSE)","v":0},"0.0",{"$f":"VLOOKUP($C$20,QSNUMBER,26,FALSE)","v":0},"0.0",null,"Cohabiting Couple: No Children",null,{"$f":"VLOOKUP($C$18,KSNUMBER,44,FALSE)","v":0},"0.0",{"$f":"VLOOKUP($C$20,KSNUMBER,44,FALSE)","v":0},"0.0"]
["15",null,{"$f":"VLOOKUP($C$18,KSNUMBER,16,FALSE)","v":0},"0.0",{"$f":"VLOOKUP($C$20,KSNUMBER,16,FALSE)","v":0},"0.0",null,"Cohabiting Couple: With Dependent Children",null,{"$f":"VLOOKUP($C$18,KSNUMBER,45,FALSE)","v":0},"0.0",{"$f":"VLOOKUP($C$20,KSNUMBER,45,FALSE)","v":0},"0.0"]
["16-17",null,{"$f":"VLOOKUP($C$18,KSNUMBER,17,FALSE)","v":0},"0.0",{"$f":"VLOOKUP($C$20,KSNUMBER,17,FALSE)","v":0},"0.0",null,"Cohabiting Couple: All Children Non-Dependent",null,{"$f":"VLOOKUP($C$18,KSNUMBER,46,FALSE)","v":0},"0.0",{"$f":"VLOOKUP($C$20,KSNUMBER,46,FALSE)","v":0},"0.0"]
["18-19",null,{"$f":"VLOOKUP($C$18,KSNUMBER,18,FALSE)","v":0},"0.0",{"$f":"VLOOKUP($C$20,KSNUMBER,18,FALSE)","v":0},"0.0",null,"Lone Parent: With Dependent Children",null,{"$f":"VLOOKUP($C$18,KSNUMBER,47,FALSE)","v":0},"0.0",{"$f":"VLOOKUP($C$20,KSNUMBER,47,FALSE)","v":0},"0.0"]
["20-24",null,{"$f":"VLOOKUP($C$18,QSNUMBER,8,FALSE)","v":0},"0.0",{"$f":"VLOOKUP($C$20,QSNUMBER,8,FALSE)","v":0},"0.0",null,"Lone Parent: All Children Non-Dependent",null,{"$f":"VLOOKUP($C$18,KSNUMBER,48,FALSE)","v":0},"0.0",{"$f":"VLOOKUP($C$20,KSNUMBER,48,FALSE)","v":0},"0.0"]
["25-29",null,{"$f":"VLOOKUP($C$18,QSNUMBER,9,FALSE)","v":0},"0.0",{"$f":"VLOOKUP($C$20,QSNUMBER,9,FALSE)","v":0},"0.0",null,"Other: With Dependent Children",null,{"$f":"VLOOKUP($C$18,KSNUMBER,49,FALSE)","v":0},"0.0",{"$f":"VLOOKUP($C$20,KSNUMBER,49,FALSE)","v":0},"0.0"]
["30-34",null,{"$f":"VLOOKUP($C$18,QSNUMBER,10,FALSE)","v":0},"0.0",{"$f":"VLOOKUP($C$20,QSNUMBER,10,FALSE)","v":0},"0.0",null,"Other: All Full-Time Students",null,{"$f":"VLOOKUP($C$18,KSNUMBER,50,FALSE)","v":0},"0.0",{"$f":"VLOOKUP($C$20,KSNUMBER,50,FALSE)","v":0},"0.0"]
["35-39",null,{"$f":"VLOOKUP($C$18,QSNUMBER,11,FALSE)","v":0},"0.0",{"$f":"VLOOKUP($C$20,QSNUMBER,11,FALSE)","v":0},"0.0",null,"Other: All Aged 65+",null,{"$f":"VLOOKUP($C$18,KSNUMBER,51,FALSE)","v":0},"0.0",{"$f":"VLOOKUP($C$20,KSNUMBER,51,FALSE)","v":0},"0.0"]
["40-44",null,{"$f":"VLOOKUP($C$18,QSNUMBER,12,FALSE)","v":0},"0.0",{"$f":"VLOOKUP($C$20,QSNUMBER,12,FALSE)","v":0},"0.0",null,"Other",null,{"$f":"VLOOKUP($C$18,KSNUMBER,52,FALSE)","v":0},"0.0",{"$f":"VLOOKUP($C$20,KSNUMBER,52,FALSE)","v":0},"0.0"]
["45-49",null,{"$f":"VLOOKUP($C$18,QSNUMBER,13,FALSE)","v":0},"0.0",{"$f":"VLOOKUP($C$20,QSNUMBER,13,FALSE)","v":0},"0.0",null,"Total",null,{"$f":"SUM(J38:J52)","v":0},null,{"$f":"SUM(L38:L52)","v":0}]
["50-54",null,{"$f":"VLOOKUP($C$18,QSNUMBER,14,FALSE)","v":0},"0.0",{"$f":"VLOOKUP($C$20,QSNUMBER,14,FALSE)","v":0},"0.0"]
[null,null,null,null,null,null,null,"Lone Parent Households With Dependent Children (Source: Table KS107EW)",null,null,null,"View lone parent chart"]
["55-59",null,{"$f":"VLOOKUP($C$18,QSNUMBER,15,FALSE)","v":0},{"$f":"IF($C$18=\"USE AREA TYPE AND AREA NAME SELECTION BOXES ABOVE TO CHOOSE AREA\",\"0.0\",C56/C$65*100)","v":"0.0"},{"$f":"VLOOKUP($C$20,QSNUMBER,15,FALSE)","v":0},{"$f":"IF($C$20=\"USE COMPARISON AREA TYPE AND COMPARISON AREA NAME SELECTION BOXES ABOVE TO CHOOSE AREA\",\"0.0\",E56/E$65*100)","v":"0.0"}]
[]
["60-64",null,{"$f":"VLOOKUP($C$18,QSNUMBER,16,FALSE)","v":0},{"$f":"IF($C$18=\"USE AREA TYPE AND AREA NAME SELECTION BOXES ABOVE TO CHOOSE AREA\",\"0.0\",C58/C$65*100)","v":"0.0"},{"$f":"VLOOKUP($C$20,QSNUMBER,16,FALSE)","v":0},{"$f":"IF($C$20=\"USE COMPARISON AREA TYPE AND COMPARISON AREA NAME SELECTION BOXES ABOVE TO CHOOSE AREA\",\"0.0\",E58/E$65*100)","v":"0.0"},null,"Lone Parent Households With Lone Parent Aged 16-74",null,"Area No.","%","Compare No.","%"]
["65-69",null,{"$f":"VLOOKUP($C$18,QSNUMBER,17,FALSE)","v":0},"0.0",{"$f":"VLOOKUP($C$20,QSNUMBER,17,FALSE)","v":0},"0.0",null,"Male Lone Parent: In Part-Time Employment",null,{"$f":"VLOOKUP($C$18,KSNUMBER,58,FALSE)","v":0},{"$f":"IF($C$18=\"USE AREA TYPE AND AREA NAME SELECTION BOXES ABOVE TO CHOOSE AREA\",\"0.0\",J59/J$65*100)","v":"0.0"},{"$f":"VLOOKUP($C$20,KSNUMBER,58,FALSE)","v":0},{"$f":"IF($C$20=\"USE COMPARISON AREA TYPE AND COMPARISON AREA NAME SELECTION BOXES ABOVE TO CHOOSE AREA\",\"0.0\",L59/L$65*100)","v":"0.0"}]
["70-74",null,{"$f":"VLOOKUP($C$18,QSNUMBER,18,FALSE)","v":0},"0.0",{"$f":"VLOOKUP($C$20,QSNUMBER,18,FALSE)","v":0},"0.0",null,"Male Lone Parent: In Full-Time Employment",null,{"$f":"VLOOKUP($C$18,KSNUMBER,59,FALSE)","v":0},"0.0",{"$f":"VLOOKUP($C$20,KSNUMBER,59,FALSE)","v":0},"0.0"]
["75-79",null,{"$f":"VLOOKUP($C$18,QSNUMBER,19,FALSE)","v":0},"0.0",{"$f":"VLOOKUP($C$20,QSNUMBER,19,FALSE)","v":0},"0.0",null,"Male Lone Parent: Not in Employment",null,{"$f":"VLOOKUP($C$18,KSNUMBER,60,FALSE)","v":0},"0.0",{"$f":"VLOOKUP($C$20,KSNUMBER,60,FALSE)","v":0},"0.0"]
["80-84",null,{"$f":"VLOOKUP($C$18,QSNUMBER,20,FALSE)","v":0},"0.0",{"$f":"VLOOKUP($C$20,QSNUMBER,20,FALSE)","v":0},"0.0",null,"Female Lone Parent: In Part-Time Employment",null,{"$f":"VLOOKUP($C$18,KSNUMBER,62,FALSE)","v":0},"0.0",{"$f":"VLOOKUP($C$20,KSNUMBER,62,FALSE)","v":0},"0.0"]
["85-89",null,{"$f":"VLOOKUP($C$18,QSNUMBER,21,FALSE)","v":0},"0.0",{"$f":"VLOOKUP($C$20,QSNUMBER,21,FALSE)","v":0},"0.0",null,"Female Lone Parent: In Full-Time Employment",null,{"$f":"VLOOKUP($C$18,KSNUMBER,63,FALSE)","v":0},"0.0",{"$f":"VLOOKUP($C$20,KSNUMBER,63,FALSE)","v":0},"0.0"]
["90+",null,{"$f":"VLOOKUP($C$18,QSNUMBER,22,FALSE)","v":0},"0.0",{"$f":"VLOOKUP($C$20,QSNUMBER,22,FALSE)","v":0},"0.0",null,"Female Lone Parent: Not in Employment",null,{"$f":"VLOOKUP($C$18,KSNUMBER,64,FALSE)","v":0},"0.0",{"$f":"VLOOKUP($C$20,KSNUMBER,64,FALSE)","v":0},"0.0"]
["Total",null,{"$f":"SUM(C38:C64)","v":0},null,{"$f":"SUM(E38:E64)","v":0},null,null,"Total",null,{"$f":"SUM(J59:J64)","v":0},null,{"$f":"SUM(L59:L64)","v":0}]
[]
[]
["Ethnicity, Religion, Nationality"]
[]
["Ethnic Group (Source: Table KS201EW)",null,null,"View ethnic group chart",null,null,null,"Country Of Birth (Source: Table KS204EW)",null,null,"View country of birth chart"]
[]
["All Residents",null,"Area No.","%","Compare No.","%",null,"All Residents",null,"Area No.","%","Compare No.","%"]
["White English/Welsh/Scot/N.Irish/British",null,{"$f":"VLOOKUP($C$18,KSNUMBER,66,FALSE)","v":0},{"$f":"IF($C$18=\"USE AREA TYPE AND AREA NAME SELECTION BOXES ABOVE TO CHOOSE AREA\",\"0.0\",C73/C$93*100)","v":"0.0"},{"$f":"VLOOKUP($C$20,KSNUMBER,66,FALSE)","v":0},{"$f":"IF($C$20=\"USE COMPARISON AREA TYPE AND COMPARISON AREA NAME SELECTION BOXES ABOVE TO CHOOSE AREA\",\"0.0\",E73/E$93*100)","v":"0.0"},null,"England",null,{"$f":"VLOOKUP($C$18,KSNUMBER,85,FALSE)","v":0},{"$f":"IF($C$18=\"USE AREA TYPE AND AREA NAME SELECTION BOXES ABOVE TO CHOOSE AREA\",\"0.0\",J73/J$82*100)","v":"0.0"},{"$f":"VLOOKUP($C$20,KSNUMBER,85,FALSE)","v":0},{"$f":"IF($C$20=\"USE COMPARISON AREA TYPE AND COMPARISON AREA NAME SELECTION BOXES ABOVE TO CHOOSE AREA\",\"0.0\",L73/L$82*100)","v":"0.0"}]
["White Irish",null,{"$f":"VLOOKUP($C$18,KSNUMBER,67,FALSE)","v":0},"0.0",{"$f":"VLOOKUP($C$20,KSNUMBER,67,FALSE)","v":0},"0.0",null,"Wales",null,{"$f":"VLOOKUP($C$18,KSNUMBER,88,FALSE)","v":0},"0.0",{"$f":"VLOOKUP($C$20,KSNUMBER,88,FALSE)","v":0},"0.0"]
["White Gypsy or Irish Traveller",null,{"$f":"VLOOKUP($C$18,KSNUMBER,68,FALSE)","v":0},"0.0",{"$f":"VLOOKUP($C$20,KSNUMBER,68,FALSE)","v":0},"0.0",null,"Scotland",null,{"$f":"VLOOKUP($C$18,KSNUMBER,87,FALSE)","v":0},"0.0",{"$f":"VLOOKUP($C$20,KSNUMBER,87,FALSE)","v":0},"0.0"]
["Other White",null,{"$f":"VLOOKUP($C$18,KSNUMBER,69,FALSE)","v":0},"0.0",{"$f":"VLOOKUP($C$20,KSNUMBER,69,FALSE)","v":0},"0.0",null,"Northern Ireland",null,{"$f":"VLOOKUP($C$18,KSNUMBER,86,FALSE)","v":0},"0.0",{"$f":"VLOOKUP($C$20,KSNUMBER,86,FALSE)","v":0},"0.0"]
["White and Black Caribbean",null,{"$f":"VLOOKUP($C$18,KSNUMBER,70,FALSE)","v":0},"0.0",{"$f":"VLOOKUP($C$20,KSNUMBER,70,FALSE)","v":0},"0.0",null,"United Kingdom Not Otherwise Specified",null,{"$f":"VLOOKUP($C$18,KSNUMBER,89,FALSE)","v":0},"0.0",{"$f":"VLOOKUP($C$20,KSNUMBER,89,FALSE)","v":0},"0.0"]
["White and Black African",null,{"$f":"VLOOKUP($C$18,KSNUMBER,71,FALSE)","v":0},"0.0",{"$f":"VLOOKUP($C$20,KSNUMBER,71,FALSE)","v":0},"0.0",null,"Ireland",null,{"$f":"VLOOKUP($C$18,KSNUMBER,90,FALSE)","v":0},"0.0",{"$f":"VLOOKUP($C$20,KSNUMBER,90,FALSE)","v":0},"0.0"]
["White and Asian",null,{"$f":"VLOOKUP($C$18,KSNUMBER,72,FALSE)","v":0},"0.0",{"$f":"VLOOKUP($C$20,KSNUMBER,72,FALSE)","v":0},"0.0",null,"Other EU: Member Countries in March 2001",null,{"$f":"VLOOKUP($C$18,KSNUMBER,91,FALSE)","v":0},"0.0",{"$f":"VLOOKUP($C$20,KSNUMBER,91,FALSE)","v":0},"0.0"]
["Other Mixed Ethnic Group",null,{"$f":"VLOOKUP($C$18,KSNUMBER,73,FALSE)","v":0},"0.0",{"$f":"VLOOKUP($C$20,KSNUMBER,73,FALSE)","v":0},"0.0",null,"Other EU: Accession Countries April 2001 to March 2011",null,{"$f":"VLOOKUP($C$18,KSNUMBER,92,FALSE)","v":0},"0.0",{"$f":"VLOOKUP($C$20,KSNUMBER,92,FALSE)","v":0},"0.0"]
["Indian",null,{"$f":"VLOOKUP($C$18,KSNUMBER,74,FALSE)","v":0},"0.0",{"$f":"VLOOKUP($C$20,KSNUMBER,74,FALSE)","v":0},"0.0",null,"Other Countries",null,{"$f":"VLOOKUP($C$18,KSNUMBER,93,FALSE)","v":0},"0.0",{"$f":"VLOOKUP($C$20,KSNUMBER,93,FALSE)","v":0},"0.0"]
["Pakistani",null,{"$f":"VLOOKUP($C$18,KSNUMBER,75,FALSE)","v":0},"0.0",{"$f":"VLOOKUP($C$20,KSNUMBER,75,FALSE)","v":0},"0.0",null,"Total",null,{"$f":"SUM(J73:J81)","v":0},null,{"$f":"SUM(L73:L81)","v":0}]
["Bangladeshi",null,{"$f":"VLOOKUP($C$18,KSNUMBER,76,FALSE)","v":0},"0.0",{"$f":"VLOOKUP($C$20,KSNUMBER,76,FALSE)","v":0},"0.0"]
[null,null,null,null,null,null,null,"Length Of Residence In The UK (Source: Table QS803EW)",null,null,"View length of residence chart"]
["Chinese",null,{"$f":"VLOOKUP($C$18,KSNUMBER,77,FALSE)","v":0},{"$f":"IF($C$18=\"USE AREA TYPE AND AREA NAME SELECTION BOXES ABOVE TO CHOOSE AREA\",\"0.0\",C85/C$93*100)","v":"0.0"},{"$f":"VLOOKUP($C$20,KSNUMBER,77,FALSE)","v":0},{"$f":"IF($C$20=\"USE COMPARISON AREA TYPE AND COMPARISON AREA NAME SELECTION BOXES ABOVE TO CHOOSE AREA\",\"0.0\",E85/E$93*100)","v":"0.0"}]
[]
["Other Asian",null,{"$f":"VLOOKUP($C$18,KSNUMBER,78,FALSE)","v":0},{"$f":"IF($C$18=\"USE AREA TYPE AND AREA NAME SELECTION BOXES ABOVE TO CHOOSE AREA\",\"0.0\",C87/C$93*100)","v":"0.0"},{"$f":"VLOOKUP($C$20,KSNUMBER,78,FALSE)","v":0},{"$f":"IF($C$20=\"USE COMPARISON AREA TYPE AND COMPARISON AREA NAME SELECTION BOXES ABOVE TO CHOOSE AREA\",\"0.0\",E87/E$93*100)","v":"0.0"},null,"All Residents",null,"Area No.","%","Compare No.","%"]
["Black African",null,{"$f":"VLOOKUP($C$18,KSNUMBER,79,FALSE)","v":0},"0.0",{"$f":"VLOOKUP($C$20,KSNUMBER,79,FALSE)","v":0},"0.0",null,"Born in the UK",null,{"$f":"VLOOKUP($C$18,QSNUMBER,209,FALSE)","v":0},{"$f":"IF($C$18=\"USE AREA TYPE AND AREA NAME SELECTION BOXES ABOVE TO CHOOSE AREA\",\"0.0\",J88/J$93*100)","v":"0.0"},{"$f":"VLOOKUP($C$20,QSNUMBER,209,FALSE)","v":0},{"$f":"IF($C$20=\"USE COMPARISON AREA TYPE AND COMPARISON AREA NAME SELECTION BOXES ABOVE TO CHOOSE AREA\",\"0.0\",L88/L$93*100)","v":"0.0"}]
["Black Caribbean",null,{"$f":"VLOOKUP($C$18,KSNUMBER,80,FALSE)","v":0},"0.0",{"$f":"VLOOKUP($C$20,KSNUMBER,80,FALSE)","v":0},"0.0",null,"Resident in UK: Less Than 2 Years",null,{"$f":"VLOOKUP($C$18,QSNUMBER,210,FALSE)","v":0},{"$f":"IF($C$18=\"USE AREA TYPE AND AREA NAME SELECTION BOXES ABOVE TO CHOOSE AREA\",\"0.0\",J89/J$93*100)","v":"0.0"},{"$f":"VLOOKUP($C$20,QSNUMBER,210,FALSE)","v":0},{"$f":"IF($C$20=\"USE COMPARISON AREA TYPE AND COMPARISON AREA NAME SELECTION BOXES ABOVE TO CHOOSE AREA\",\"0.0\",L89/L$93*100)","v":"0.0"}]
["Other Black",null,{"$f":"VLOOKUP($C$18,KSNUMBER,81,FALSE)","v":0},"0.0",{"$f":"VLOOKUP($C$20,KSNUMBER,81,FALSE)","v":0},"0.0",null,"Resident in UK: 2 Years or More But Less Than 5 Years",null,{"$f":"VLOOKUP($C$18,QSNUMBER,211,FALSE)","v":0},{"$f":"IF($C$18=\"USE AREA TYPE AND AREA NAME SELECTION BOXES ABOVE TO CHOOSE AREA\",\"0.0\",J90/J$93*100)","v":"0.0"},{"$f":"VLOOKUP($C$20,QSNUMBER,211,FALSE)","v":0},{"$f":"IF($C$20=\"USE COMPARISON AREA TYPE AND COMPARISON AREA NAME SELECTION BOXES ABOVE TO CHOOSE AREA\",\"0.0\",L90/L$93*100)","v":"0.0"}]
["Arab",null,{"$f":"VLOOKUP($C$18,KSNUMBER,82,FALSE)","v":0},"0.0",{"$f":"VLOOKUP($C$20,KSNUMBER,82,FALSE)","v":0},"0.0",null,"Resident in UK: 5 Years or More But Less Than 10 Years",null,{"$f":"VLOOKUP($C$18,QSNUMBER,212,FALSE)","v":0},{"$f":"IF($C$18=\"USE AREA TYPE AND AREA NAME SELECTION BOXES ABOVE TO CHOOSE AREA\",\"0.0\",J91/J$93*100)","v":"0.0"},{"$f":"VLOOKUP($C$20,QSNUMBER,212,FALSE)","v":0},{"$f":"IF($C$20=\"USE COMPARISON AREA TYPE AND COMPARISON AREA NAME SELECTION BOXES ABOVE TO CHOOSE AREA\",\"0.0\",L91/L$93*100)","v":"0.0"}]
["Other Ethnic Group",null,{"$f":"VLOOKUP($C$18,KSNUMBER,83,FALSE)","v":0},"0.0",{"$f":"VLOOKUP($C$20,KSNUMBER,83,FALSE)","v":0},"0.0",null,"Resident in UK: 10 Years or More",null,{"$f":"VLOOKUP($C$18,QSNUMBER,213,FALSE)","v":0},{"$f":"IF($C$18=\"USE AREA TYPE AND AREA NAME SELECTION BOXES ABOVE TO CHOOSE AREA\",\"0.0\",J92/J$93*100)","v":"0.0"},{"$f":"VLOOKUP($C$20,QSNUMBER,213,FALSE)","v":0},{"$f":"IF($C$20=\"USE COMPARISON AREA TYPE AND COMPARISON AREA NAME SELECTION BOXES ABOVE TO CHOOSE AREA\",\"0.0\",L92/L$93*100)","v":"0.0"}]
["Total",null,{"$f":"SUM(C73:C92)","v":0},null,{"$f":"SUM(E73:E92)","v":0},null,null,"Total",null,{"$f":"SUM(J88:J92)","v":0},null,{"$f":"SUM(L88:L92)","v":0}]
[]
["Religion (Source: Table KS209EW)",null,null,null,"View religion chart",null,null,"Passports Held (Source: Table KS205EW)",null,null,"View passports held chart"]
[]
["All Residents",null,"Area No.","%","Compare No.","%",null,"All Residents",null,"Area No.","%","Compare No.","%"]
["Christian",null,{"$f":"VLOOKUP($C$18,KSNUMBER,113,FALSE)","v":0},{"$f":"IF($C$18=\"USE AREA TYPE AND AREA NAME SELECTION BOXES ABOVE TO CHOOSE AREA\",\"0.0\",C98/C$107*100)","v":"0.0"},{"$f":"VLOOKUP($C$20,KSNUMBER,113,FALSE)","v":0},{"$f":"IF($C$20=\"USE COMPARISON AREA TYPE AND COMPARISON AREA NAME SELECTION BOXES ABOVE TO CHOOSE AREA\",\"0.0\",E98/E$107*100)","v":"0.0"},null,"No Passport",null,{"$f":"VLOOKUP($C$18,KSNUMBER,95,FALSE)","v":0},{"$f":"IF($C$18=\"USE AREA TYPE AND AREA NAME SELECTION BOXES ABOVE TO CHOOSE AREA\",\"0.0\",J98/J$110*100)","v":"0.0"},{"$f":"VLOOKUP($C$20,KSNUMBER,95,FALSE)","v":0},{"$f":"IF($C$20=\"USE COMPARISON AREA TYPE AND COMPARISON AREA NAME SELECTION BOXES ABOVE TO CHOOSE AREA\",\"0.0\",L98/L$110*100)","v":"0.0"}]
["Buddhist",null,{"$f":"VLOOKUP($C$18,KSNUMBER,114,FALSE)","v":0},"0.0",{"$f":"VLOOKUP($C$20,KSNUMBER,114,FALSE)","v":0},"0.0",null,"United Kingdom",null,{"$f":"VLOOKUP($C$18,KSNUMBER,96,FALSE)","v":0},"0.0",{"$f":"VLOOKUP($C$20,KSNUMBER,96,FALSE)","v":0},"0.0"]
["Hindu",null,{"$f":"VLOOKUP($C$18,KSNUMBER,115,FALSE)","v":0},"0.0",{"$f":"VLOOKUP($C$20,KSNUMBER,115,FALSE)","v":0},"0.0",null,"Republic of Ireland",null,{"$f":"VLOOKUP($C$18,KSNUMBER,97,FALSE)","v":0},"0.0",{"$f":"VLOOKUP($C$20,KSNUMBER,97,FALSE)","v":0},"0.0"]
["Jewish",null,{"$f":"VLOOKUP($C$18,KSNUMBER,116,FALSE)","v":0},"0.0",{"$f":"VLOOKUP($C$20,KSNUMBER,116,FALSE)","v":0},"0.0",null,"Other Europe: EU Countries as of March 2011",null,{"$f":"VLOOKUP($C$18,KSNUMBER,98,FALSE)","v":0},"0.0",{"$f":"VLOOKUP($C$20,KSNUMBER,98,FALSE)","v":0},"0.0"]
["Muslim",null,{"$f":"VLOOKUP($C$18,KSNUMBER,117,FALSE)","v":0},"0.0",{"$f":"VLOOKUP($C$20,KSNUMBER,117,FALSE)","v":0},"0.0",null,"Other Europe: Non EU Countries as of March 2011",null,{"$f":"VLOOKUP($C$18,KSNUMBER,99,FALSE)","v":0},"0.0",{"$f":"VLOOKUP($C$20,KSNUMBER,99,FALSE)","v":0},"0.0"]
["Sikh",null,{"$f":"VLOOKUP($C$18,KSNUMBER,118,FALSE)","v":0},"0.0",{"$f":"VLOOKUP($C$20,KSNUMBER,118,FALSE)","v":0},"0.0",null,"Africa",null,{"$f":"VLOOKUP($C$18,KSNUMBER,100,FALSE)","v":0},"0.0",{"$f":"VLOOKUP($C$20,KSNUMBER,100,FALSE)","v":0},"0.0"]
["Other Religion",null,{"$f":"VLOOKUP($C$18,KSNUMBER,119,FALSE)","v":0},"0.0",{"$f":"VLOOKUP($C$20,KSNUMBER,119,FALSE)","v":0},"0.0",null,"Middle East and Asia",null,{"$f":"VLOOKUP($C$18,KSNUMBER,101,FALSE)","v":0},"0.0",{"$f":"VLOOKUP($C$20,KSNUMBER,101,FALSE)","v":0},"0.0"]
["No Religion",null,{"$f":"VLOOKUP($C$18,KSNUMBER,120,FALSE)","v":0},"0.0",{"$f":"VLOOKUP($C$20,KSNUMBER,120,FALSE)","v":0},"0.0",null,"North America and the Caribbean",null,{"$f":"VLOOKUP($C$18,KSNUMBER,102,FALSE)","v":0},"0.0",{"$f":"VLOOKUP($C$20,KSNUMBER,102,FALSE)","v":0},"0.0"]
["Religion Not Stated",null,{"$f":"VLOOKUP($C$18,KSNUMBER,121,FALSE)","v":0},"0.0",{"$f":"VLOOKUP($C$20,KSNUMBER,121,FALSE)","v":0},"0.0",null,"Central America",null,{"$f":"VLOOKUP($C$18,KSNUMBER,103,FALSE)","v":0},"0.0",{"$f":"VLOOKUP($C$20,KSNUMBER,103,FALSE)","v":0},"0.0"]
["Total",null,{"$f":"SUM(C98:C106)","v":0},null,{"$f":"SUM(E98:E106)","v":0},null,null,"South America",null,{"$f":"VLOOKUP($C$18,KSNUMBER,104,FALSE)","v":0},"0.0",{"$f":"VLOOKUP($C$20,KSNUMBER,104,FALSE)","v":0},"0.0"]
[null,null,null,null,null,null,null,"Antarctica and Oceania",null,{"$f":"VLOOKUP($C$18,KSNUMBER,105,FALSE)","v":0},"0.0",{"$f":"VLOOKUP($C$20,KSNUMBER,105,FALSE)","v":0},"0.0"]
[null,null,null,null,null,null,null,"British Overseas Territories",null,{"$f":"VLOOKUP($C$18,KSNUMBER,106,FALSE)","v":0},"0.0",{"$f":"VLOOKUP($C$20,KSNUMBER,106,FALSE)","v":0},"0.0"]
[null,null,null,null,null,null,null,"Total (Total Number of Residents)",null,{"$f":"VLOOKUP($C$18,KSNUMBER,94,FALSE)","v":0},null,{"$f":"VLOOKUP($C$20,KSNUMBER,94,FALSE)","v":0}]
[null,null,null,null,null,null,null,"If more than one of the passport options was applicable people were asked to indicate all that applied.  People having multiple passports means the total number of passports held by people in an area can exceed the total number of residents in an area."]
[]
["Health"]
[]
["General Health (Source: Table KS301EW)",null,null,"View general health chart",null,null,null,"Provision Of Unpaid Care (Source: Table KS301EW)",null,"View provision of unpaid care chart"]
[]
["All Residents",null,"Area No.","%","Compare No.","%",null,"All Residents",null,"Area No.","%","Compare No.","%"]
["Very Good Health",null,{"$f":"VLOOKUP($C$18,KSNUMBER,129,FALSE)","v":0},{"$f":"IF($C$18=\"USE AREA TYPE AND AREA NAME SELECTION BOXES ABOVE TO CHOOSE AREA\",\"0.0\",C118/C$123*100)","v":"0.0"},{"$f":"VLOOKUP($C$20,KSNUMBER,129,FALSE)","v":0},{"$f":"IF($C$20=\"USE COMPARISON AREA TYPE AND COMPARISON AREA NAME SELECTION BOXES ABOVE TO CHOOSE AREA\",\"0.0\",E118/E$123*100)","v":"0.0"},null,"Provides No Unpaid Care",null,{"$f":"VLOOKUP($C$18,KSNUMBER,134,FALSE)","v":0},{"$f":"IF($C$18=\"USE AREA TYPE AND AREA NAME SELECTION BOXES ABOVE TO CHOOSE AREA\",\"0.0\",J118/J$122*100)","v":"0.0"},{"$f":"VLOOKUP($C$20,KSNUMBER,134,FALSE)","v":0},{"$f":"IF($C$20=\"USE COMPARISON AREA TYPE AND COMPARISON AREA NAME SELECTION BOXES ABOVE TO CHOOSE AREA\",\"0.0\",L118/L$122*100)","v":"0.0"}]
["Good Health",null,{"$f":"VLOOKUP($C$18,KSNUMBER,130,FALSE)","v":0},{"$f":"IF($C$18=\"USE AREA TYPE AND AREA NAME SELECTION BOXES ABOVE TO CHOOSE AREA\",\"0.0\",C119/C$123*100)","v":"0.0"},{"$f":"VLOOKUP($C$20,KSNUMBER,130,FALSE)","v":0},{"$f":"IF($C$20=\"USE COMPARISON AREA TYPE AND COMPARISON AREA NAME SELECTION BOXES ABOVE TO CHOOSE AREA\",\"0.0\",E119/E$123*100)","v":"0.0"},null,"Provides 1-19 Hours Unpaid Care a Week",null,{"$f":"VLOOKUP($C$18,KSNUMBER,135,FALSE)","v":0},{"$f":"IF($C$18=\"USE AREA TYPE AND AREA NAME SELECTION BOXES ABOVE TO CHOOSE AREA\",\"0.0\",J119/J$122*100)","v":"0.0"},{"$f":"VLOOKUP($C$20,KSNUMBER,135,FALSE)","v":0},{"$f":"IF($C$20=\"USE COMPARISON AREA TYPE AND COMPARISON AREA NAME SELECTION BOXES ABOVE TO CHOOSE AREA\",\"0.0\",L119/L$122*100)","v":"0.0"}]
["Fair Health",null,{"$f":"VLOOKUP($C$18,KSNUMBER,131,FALSE)","v":0},{"$f":"IF($C$18=\"USE AREA TYPE AND AREA NAME SELECTION BOXES ABOVE TO CHOOSE AREA\",\"0.0\",C120/C$123*100)","v":"0.0"},{"$f":"VLOOKUP($C$20,KSNUMBER,131,FALSE)","v":0},{"$f":"IF($C$20=\"USE COMPARISON AREA TYPE AND COMPARISON AREA NAME SELECTION BOXES ABOVE TO CHOOSE AREA\",\"0.0\",E120/E$123*100)","v":"0.0"},null,"Provides 20-49 Hours Unpaid Care a Week",null,{"$f":"VLOOKUP($C$18,KSNUMBER,136,FALSE)","v":0},{"$f":"IF($C$18=\"USE AREA TYPE AND AREA NAME SELECTION BOXES ABOVE TO CHOOSE AREA\",\"0.0\",J120/J$122*100)","v":"0.0"},{"$f":"VLOOKUP($C$20,KSNUMBER,136,FALSE)","v":0},{"$f":"IF($C$20=\"USE COMPARISON AREA TYPE AND COMPARISON AREA NAME SELECTION BOXES ABOVE TO CHOOSE AREA\",\"0.0\",L120/L$122*100)","v":"0.0"}]
["Bad Health",null,{"$f":"VLOOKUP($C$18,KSNUMBER,132,FALSE)","v":0},{"$f":"IF($C$18=\"USE AREA TYPE AND AREA NAME SELECTION BOXES ABOVE TO CHOOSE AREA\",\"0.0\",C121/C$123*100)","v":"0.0"},{"$f":"VLOOKUP($C$20,KSNUMBER,132,FALSE)","v":0},{"$f":"IF($C$20=\"USE COMPARISON AREA TYPE AND COMPARISON AREA NAME SELECTION BOXES ABOVE TO CHOOSE AREA\",\"0.0\",E121/E$123*100)","v":"0.0"},null,"Provides 50+ Hours Unpaid Care a Week",null,{"$f":"VLOOKUP($C$18,KSNUMBER,137,FALSE)","v":0},{"$f":"IF($C$18=\"USE AREA TYPE AND AREA NAME SELECTION BOXES ABOVE TO CHOOSE AREA\",\"0.0\",J121/J$122*100)","v":"0.0"},{"$f":"VLOOKUP($C$20,KSNUMBER,137,FALSE)","v":0},{"$f":"IF($C$20=\"USE COMPARISON AREA TYPE AND COMPARISON AREA NAME SELECTION BOXES ABOVE TO CHOOSE AREA\",\"0.0\",L121/L$122*100)","v":"0.0"}]
["Very Bad Health",null,{"$f":"VLOOKUP($C$18,KSNUMBER,133,FALSE)","v":0},{"$f":"IF($C$18=\"USE AREA TYPE AND AREA NAME SELECTION BOXES ABOVE TO CHOOSE AREA\",\"0.0\",C122/C$123*100)","v":"0.0"},{"$f":"VLOOKUP($C$20,KSNUMBER,133,FALSE)","v":0},{"$f":"IF($C$20=\"USE COMPARISON AREA TYPE AND COMPARISON AREA NAME SELECTION BOXES ABOVE TO CHOOSE AREA\",\"0.0\",E122/E$123*100)","v":"0.0"},null,"Total",null,{"$f":"SUM(J118:J121)","v":0},null,{"$f":"SUM(L118:L121)","v":0}]
["Total",null,{"$f":"SUM(C118:C122)","v":0},null,{"$f":"SUM(E118:E122)","v":0}]
[]
["Long-Term Health Problem / Disability (Source: Table KS301EW)",null,null,null,"View disability chart",null,null,"Long-Term Health Problem / Disability, Aged 16-64 (Source: Table KS301EW)",null,null,"View disability 16-64 chart"]
[]
["All Residents",null,"Area No.","%","Compare No.","%",null,"All Residents Aged 16-64",null,"Area No.","%","Compare No.","%"]
["Day-to-day Activities Limited a Lot",null,{"$f":"VLOOKUP($C$18,KSNUMBER,123,FALSE)","v":0},{"$f":"IF($C$18=\"USE AREA TYPE AND AREA NAME SELECTION BOXES ABOVE TO CHOOSE AREA\",\"0.0\",C128/C$131*100)","v":"0.0"},{"$f":"VLOOKUP($C$20,KSNUMBER,123,FALSE)","v":0},{"$f":"IF($C$20=\"USE COMPARISON AREA TYPE AND COMPARISON AREA NAME SELECTION BOXES ABOVE TO CHOOSE AREA\",\"0.0\",E128/E$131*100)","v":"0.0"},null,"Day-to-day Activities Limited a Lot",null,{"$f":"VLOOKUP($C$18,KSNUMBER,126,FALSE)","v":0},{"$f":"IF($C$18=\"USE AREA TYPE AND AREA NAME SELECTION BOXES ABOVE TO CHOOSE AREA\",\"0.0\",J128/J$131*100)","v":"0.0"},{"$f":"VLOOKUP($C$20,KSNUMBER,126,FALSE)","v":0},{"$f":"IF($C$20=\"USE COMPARISON AREA TYPE AND COMPARISON AREA NAME SELECTION BOXES ABOVE TO CHOOSE AREA\",\"0.0\",L128/L$131*100)","v":"0.0"}]
["Day-to-day Activities Limited a Little",null,{"$f":"VLOOKUP($C$18,KSNUMBER,124,FALSE)","v":0},{"$f":"IF($C$18=\"USE AREA TYPE AND AREA NAME SELECTION BOXES ABOVE TO CHOOSE AREA\",\"0.0\",C129/C$131*100)","v":"0.0"},{"$f":"VLOOKUP($C$20,KSNUMBER,124,FALSE)","v":0},{"$f":"IF($C$20=\"USE COMPARISON AREA TYPE AND COMPARISON AREA NAME SELECTION BOXES ABOVE TO CHOOSE AREA\",\"0.0\",E129/E$131*100)","v":"0.0"},null,"Day-to-day Activities Limited a Little",null,{"$f":"VLOOKUP($C$18,KSNUMBER,127,FALSE)","v":0},{"$f":"IF($C$18=\"USE AREA TYPE AND AREA NAME SELECTION BOXES ABOVE TO CHOOSE AREA\",\"0.0\",J129/J$131*100)","v":"0.0"},{"$f":"VLOOKUP($C$20,KSNUMBER,127,FALSE)","v":0},{"$f":"IF($C$20=\"USE COMPARISON AREA TYPE AND COMPARISON AREA NAME SELECTION BOXES ABOVE TO CHOOSE AREA\",\"0.0\",L129/L$131*100)","v":"0.0"}]
["Day-to-day Activities Not Limited",null,{"$f":"VLOOKUP($C$18,KSNUMBER,125,FALSE)","v":0},{"$f":"IF($C$18=\"USE AREA TYPE AND AREA NAME SELECTION BOXES ABOVE TO CHOOSE AREA\",\"0.0\",C130/C$131*100)","v":"0.0"},{"$f":"VLOOKUP($C$20,KSNUMBER,125,FALSE)","v":0},{"$f":"IF($C$20=\"USE COMPARISON AREA TYPE AND COMPARISON AREA NAME SELECTION BOXES ABOVE TO CHOOSE AREA\",\"0.0\",E130/E$131*100)","v":"0.0"},null,"Day-to-day Activities Not Limited",null,{"$f":"VLOOKUP($C$18,KSNUMBER,128,FALSE)","v":0},{"$f":"IF($C$18=\"USE AREA TYPE AND AREA NAME SELECTION BOXES ABOVE TO CHOOSE AREA\",\"0.0\",J130/J$131*100)","v":"0.0"},{"$f":"VLOOKUP($C$20,KSNUMBER,128,FALSE)","v":0},{"$f":"IF($C$20=\"USE COMPARISON AREA TYPE AND COMPARISON AREA NAME SELECTION BOXES ABOVE TO CHOOSE AREA\",\"0.0\",L130/L$131*100)","v":"0.0"}]
["Total",null,{"$f":"SUM(C128:C130)","v":0},null,{"$f":"SUM(E128:E130)","v":0},null,null,"Total",null,{"$f":"SUM(J128:J130)","v":0},null,{"$f":"SUM(L128:L130)","v":0}]
[]
["Qualifications & Languages"]
[]
["Highest Level of Qualification (Source: Table KS501EW)",null,null,"View qualifications chart",null,null,null,"Household Language (Source: Table KS206EW)",null,null,"View household language chart"]
[]
["Residents Aged 16+",null,"Area No.","%","Compare No.","%",null,"Households That Have:",null,"Area No.","%","Compare No.","%"]
["No Qualifications",null,{"$f":"VLOOKUP($C$18,KSNUMBER,177,FALSE)","v":0},{"$f":"IF($C$18=\"USE AREA TYPE AND AREA NAME SELECTION BOXES ABOVE TO CHOOSE AREA\",\"0.0\",C138/C$145*100)","v":"0.0"},{"$f":"VLOOKUP($C$20,KSNUMBER,177,FALSE)","v":0},{"$f":"IF($C$20=\"USE COMPARISON AREA TYPE AND COMPARISON AREA NAME SELECTION BOXES ABOVE TO CHOOSE AREA\",\"0.0\",E138/E$145*100)","v":"0.0"},null,"All People Aged 16+ in Household With English as a "]
["Level 1",null,{"$f":"VLOOKUP($C$18,KSNUMBER,178,FALSE)","v":0},"0.0",{"$f":"VLOOKUP($C$20,KSNUMBER,178,FALSE)","v":0},"0.0",null,"Main Language",null,{"$f":"VLOOKUP($C$18,KSNUMBER,108,FALSE)","v":0},{"$f":"IF($C$18=\"USE AREA TYPE AND AREA NAME SELECTION BOXES ABOVE TO CHOOSE AREA\",\"0.0\",J139/J$145*100)","v":"0.0"},{"$f":"VLOOKUP($C$20,KSNUMBER,108,FALSE)","v":0},{"$f":"IF($C$20=\"USE COMPARISON AREA TYPE AND COMPARISON AREA NAME SELECTION BOXES ABOVE TO CHOOSE AREA\",\"0.0\",L139/L$145*100)","v":"0.0"}]
["Level 2",null,{"$f":"VLOOKUP($C$18,KSNUMBER,179,FALSE)","v":0},"0.0",{"$f":"VLOOKUP($C$20,KSNUMBER,179,FALSE)","v":0},"0.0",null,"At Least One But Not All People Aged 16+ in Household"]
["Apprenticeship",null,{"$f":"VLOOKUP($C$18,KSNUMBER,180,FALSE)","v":0},"0.0",{"$f":"VLOOKUP($C$20,KSNUMBER,180,FALSE)","v":0},"0.0",null,"With English as a Main Language",null,{"$f":"VLOOKUP($C$18,KSNUMBER,109,FALSE)","v":0},{"$f":"IF($C$18=\"USE AREA TYPE AND AREA NAME SELECTION BOXES ABOVE TO CHOOSE AREA\",\"0.0\",J141/J$145*100)","v":"0.0"},{"$f":"VLOOKUP($C$20,KSNUMBER,109,FALSE)","v":0},{"$f":"IF($C$20=\"USE COMPARISON AREA TYPE AND COMPARISON AREA NAME SELECTION BOXES ABOVE TO CHOOSE AREA\",\"0.0\",L141/L$145*100)","v":"0.0"}]
["Level 3",null,{"$f":"VLOOKUP($C$18,KSNUMBER,181,FALSE)","v":0},"0.0",{"$f":"VLOOKUP($C$20,KSNUMBER,181,FALSE)","v":0},"0.0",null,"No People Aged 16+ But at Least One Person Aged 3-15"]
["Level 4 and above",null,{"$f":"VLOOKUP($C$18,KSNUMBER,182,FALSE)","v":0},"0.0",{"$f":"VLOOKUP($C$20,KSNUMBER,182,FALSE)","v":0},"0.0",null,"in Household With English as a Main Language",null,{"$f":"VLOOKUP($C$18,KSNUMBER,110,FALSE)","v":0},{"$f":"IF($C$18=\"USE AREA TYPE AND AREA NAME SELECTION BOXES ABOVE TO CHOOSE AREA\",\"0.0\",J143/J$145*100)","v":"0.0"},{"$f":"VLOOKUP($C$20,KSNUMBER,110,FALSE)","v":0},{"$f":"IF($C$20=\"USE COMPARISON AREA TYPE AND COMPARISON AREA NAME SELECTION BOXES ABOVE TO CHOOSE AREA\",\"0.0\",L143/L$145*100)","v":"0.0"}]
["Other Qualifications",null,{"$f":"VLOOKUP($C$18,KSNUMBER,183,FALSE)","v":0},"0.0",{"$f":"VLOOKUP($C$20,KSNUMBER,183,FALSE)","v":0},"0.0",null,"No People in Household With English as a Main Language",null,{"$f":"VLOOKUP($C$18,KSNUMBER,111,FALSE)","v":0},{"$f":"IF($C$18=\"USE AREA TYPE AND AREA NAME SELECTION BOXES ABOVE TO CHOOSE AREA\",\"0.0\",J144/J$145*100)","v":"0.0"},{"$f":"VLOOKUP($C$20,KSNUMBER,111,FALSE)","v":0},{"$f":"IF($C$20=\"USE COMPARISON AREA TYPE AND COMPARISON AREA NAME SELECTION BOXES ABOVE TO CHOOSE AREA\",\"0.0\",L144/L$145*100)","v":"0.0"}]
["Total",null,{"$f":"SUM(C138:C144)","v":0},null,{"$f":"SUM(E138:E144)","v":0},null,null,"Total",null,{"$f":"SUM(J139:J144)","v":0},null,{"$f":"SUM(L139:L144)","v":0}]
[]
[null,null,null,null,null,null,null,"Proficiency In Spoken English (Source: Table QS205EW)",null,null,"View proficiency in english chart"]
[]
[null,null,null,null,null,null,null,"All Residents Aged 3+",null,"Area No.","%","Compare No.","%"]
[null,null,null,null,null,null,null,"Main Language English",null,{"$f":"VLOOKUP($C$18,QSNUMBER,104,FALSE)","v":0},{"$f":"IF($C$18=\"USE AREA TYPE AND AREA NAME SELECTION BOXES ABOVE TO CHOOSE AREA\",\"0.0\",J150/J$155*100)","v":"0.0"},{"$f":"VLOOKUP($C$20,QSNUMBER,104,FALSE)","v":0},{"$f":"IF($C$20=\"USE COMPARISON AREA TYPE AND COMPARISON AREA NAME SELECTION BOXES ABOVE TO CHOOSE AREA\",\"0.0\",L150/L$155*100)","v":"0.0"}]
[null,null,null,null,null,null,null,"Main Language Not English: Can Speak English Very Well",null,{"$f":"VLOOKUP($C$18,QSNUMBER,105,FALSE)","v":0},{"$f":"IF($C$18=\"USE AREA TYPE AND AREA NAME SELECTION BOXES ABOVE TO CHOOSE AREA\",\"0.0\",J151/J$155*100)","v":"0.0"},{"$f":"VLOOKUP($C$20,QSNUMBER,105,FALSE)","v":0},{"$f":"IF($C$20=\"USE COMPARISON AREA TYPE AND COMPARISON AREA NAME SELECTION BOXES ABOVE TO CHOOSE AREA\",\"0.0\",L151/L$155*100)","v":"0.0"}]
[null,null,null,null,null,null,null,"Main Language Not English: Can Speak English Well",null,{"$f":"VLOOKUP($C$18,QSNUMBER,106,FALSE)","v":0},{"$f":"IF($C$18=\"USE AREA TYPE AND AREA NAME SELECTION BOXES ABOVE TO CHOOSE AREA\",\"0.0\",J152/J$155*100)","v":"0.0"},{"$f":"VLOOKUP($C$20,QSNUMBER,106,FALSE)","v":0},{"$f":"IF($C$20=\"USE COMPARISON AREA TYPE AND COMPARISON AREA NAME SELECTION BOXES ABOVE TO CHOOSE AREA\",\"0.0\",L152/L$155*100)","v":"0.0"}]
[null,null,null,null,null,null,null,"Main Language Not English: Cannot Speak English Well",null,{"$f":"VLOOKUP($C$18,QSNUMBER,107,FALSE)","v":0},{"$f":"IF($C$18=\"USE AREA TYPE AND AREA NAME SELECTION BOXES ABOVE TO CHOOSE AREA\",\"0.0\",J153/J$155*100)","v":"0.0"},{"$f":"VLOOKUP($C$20,QSNUMBER,107,FALSE)","v":0},{"$f":"IF($C$20=\"USE COMPARISON AREA TYPE AND COMPARISON AREA NAME SELECTION BOXES ABOVE TO CHOOSE AREA\",\"0.0\",L153/L$155*100)","v":"0.0"}]
[null,null,null,null,null,null,null,"Main Language Not English: Cannot Speak English",null,{"$f":"VLOOKUP($C$18,QSNUMBER,108,FALSE)","v":0},{"$f":"IF($C$18=\"USE AREA TYPE AND AREA NAME SELECTION BOXES ABOVE TO CHOOSE AREA\",\"0.0\",J154/J$155*100)","v":"0.0"},{"$f":"VLOOKUP($C$20,QSNUMBER,108,FALSE)","v":0},{"$f":"IF($C$20=\"USE COMPARISON AREA TYPE AND COMPARISON AREA NAME SELECTION BOXES ABOVE TO CHOOSE AREA\",\"0.0\",L154/L$155*100)","v":"0.0"}]
[null,null,null,null,null,null,null,"Total",null,{"$f":"SUM(J150:J154)","v":0},null,{"$f":"SUM(L150:L154)","v":0}]
[]
[]
["Employment & Labour Market"]
[]
["Economic Activity (Source: Table KS601EW)",null,null,"View economic activity chart",null,null,null,"Occupation (Source: Table KS608EW)",null,null,"View occupation chart"]
[]
["Residents Aged 16-74 Economically Active",null,"Area No.","%","Compare No.","%",null,"Residents Aged 16-74 In Employment",null,"Area No.","%","Compare No.","%"]
["Employee: Part-time",null,{"$f":"VLOOKUP($C$18,KSNUMBER,190,FALSE)","v":0},{"$f":"IF($C$18=\"USE AREA TYPE AND AREA NAME SELECTION BOXES ABOVE TO CHOOSE AREA\",\"0.0\",C163/C$174*100)","v":"0.0"},{"$f":"VLOOKUP($C$20,KSNUMBER,190,FALSE)","v":0},{"$f":"IF($C$20=\"USE COMPARISON AREA TYPE AND COMPARISON AREA NAME SELECTION BOXES ABOVE TO CHOOSE AREA\",\"0.0\",E163/E$174*100)","v":"0.0"},null,"Managers, Directors and Senior Officials",null,{"$f":"VLOOKUP($C$18,KSNUMBER,239,FALSE)","v":0},{"$f":"IF($C$18=\"USE AREA TYPE AND AREA NAME SELECTION BOXES ABOVE TO CHOOSE AREA\",\"0.0\",J163/J$172*100)","v":"0.0"},{"$f":"VLOOKUP($C$20,KSNUMBER,239,FALSE)","v":0},{"$f":"IF($C$20=\"USE COMPARISON AREA TYPE AND COMPARISON AREA NAME SELECTION BOXES ABOVE TO CHOOSE AREA\",\"0.0\",L163/L$172*100)","v":"0.0"}]
["Employee: Full-time",null,{"$f":"VLOOKUP($C$18,KSNUMBER,191,FALSE)","v":0},{"$f":"IF($C$18=\"USE AREA TYPE AND AREA NAME SELECTION BOXES ABOVE TO CHOOSE AREA\",\"0.0\",C164/C$174*100)","v":"0.0"},{"$f":"VLOOKUP($C$20,KSNUMBER,191,FALSE)","v":0},{"$f":"IF($C$20=\"USE COMPARISON AREA TYPE AND COMPARISON AREA NAME SELECTION BOXES ABOVE TO CHOOSE AREA\",\"0.0\",E164/E$174*100)","v":"0.0"},null,"Professional Occupations",null,{"$f":"VLOOKUP($C$18,KSNUMBER,240,FALSE)","v":0},"0.0",{"$f":"VLOOKUP($C$20,KSNUMBER,240,FALSE)","v":0},"0.0"]
["Self Employed",null,{"$f":"VLOOKUP($C$18,KSNUMBER,192,FALSE)","v":0},{"$f":"IF($C$18=\"USE AREA TYPE AND AREA NAME SELECTION BOXES ABOVE TO CHOOSE AREA\",\"0.0\",C165/C$174*100)","v":"0.0"},{"$f":"VLOOKUP($C$20,KSNUMBER,192,FALSE)","v":0},{"$f":"IF($C$20=\"USE COMPARISON AREA TYPE AND COMPARISON AREA NAME SELECTION BOXES ABOVE TO CHOOSE AREA\",\"0.0\",E165/E$174*100)","v":"0.0"},null,"Associate Professional and Technical",null,{"$f":"VLOOKUP($C$18,KSNUMBER,241,FALSE)","v":0},"0.0",{"$f":"VLOOKUP($C$20,KSNUMBER,241,FALSE)","v":0},"0.0"]
["Unemployed",null,{"$f":"VLOOKUP($C$18,KSNUMBER,193,FALSE)","v":0},{"$f":"IF($C$18=\"USE AREA TYPE AND AREA NAME SELECTION BOXES ABOVE TO CHOOSE AREA\",\"0.0\",C166/C$174*100)","v":"0.0"},{"$f":"VLOOKUP($C$20,KSNUMBER,193,FALSE)","v":0},{"$f":"IF($C$20=\"USE COMPARISON AREA TYPE AND COMPARISON AREA NAME SELECTION BOXES ABOVE TO CHOOSE AREA\",\"0.0\",E166/E$174*100)","v":"0.0"},null,"Administrative and Secretarial",null,{"$f":"VLOOKUP($C$18,KSNUMBER,242,FALSE)","v":0},"0.0",{"$f":"VLOOKUP($C$20,KSNUMBER,242,FALSE)","v":0},"0.0"]
["Full-time Student",null,{"$f":"VLOOKUP($C$18,KSNUMBER,194,FALSE)","v":0},{"$f":"IF($C$18=\"USE AREA TYPE AND AREA NAME SELECTION BOXES ABOVE TO CHOOSE AREA\",\"0.0\",C167/C$174*100)","v":"0.0"},{"$f":"VLOOKUP($C$20,KSNUMBER,194,FALSE)","v":0},{"$f":"IF($C$20=\"USE COMPARISON AREA TYPE AND COMPARISON AREA NAME SELECTION BOXES ABOVE TO CHOOSE AREA\",\"0.0\",E167/E$174*100)","v":"0.0"},null,"Skilled Trades",null,{"$f":"VLOOKUP($C$18,KSNUMBER,243,FALSE)","v":0},"0.0",{"$f":"VLOOKUP($C$20,KSNUMBER,243,FALSE)","v":0},"0.0"]
["Residents Aged 16-74 Economically Inactive",null,"Area No.","%","Compare No.","%",null,"Caring, Leisure and Other Service",null,{"$f":"VLOOKUP($C$18,KSNUMBER,244,FALSE)","v":0},"0.0",{"$f":"VLOOKUP($C$20,KSNUMBER,244,FALSE)","v":0},"0.0"]
["Retired",null,{"$f":"VLOOKUP($C$18,KSNUMBER,195,FALSE)","v":0},{"$f":"IF($C$18=\"USE AREA TYPE AND AREA NAME SELECTION BOXES ABOVE TO CHOOSE AREA\",\"0.0\",C169/C$174*100)","v":"0.0"},{"$f":"VLOOKUP($C$20,KSNUMBER,195,FALSE)","v":0},{"$f":"IF($C$20=\"USE COMPARISON AREA TYPE AND COMPARISON AREA NAME SELECTION BOXES ABOVE TO CHOOSE AREA\",\"0.0\",E169/E$174*100)","v":"0.0"},null,"Sales and Customer Service",null,{"$f":"VLOOKUP($C$18,KSNUMBER,245,FALSE)","v":0},"0.0",{"$f":"VLOOKUP($C$20,KSNUMBER,245,FALSE)","v":0},"0.0"]
["Student (Including Full-time Students)",null,{"$f":"VLOOKUP($C$18,KSNUMBER,196,FALSE)","v":0},{"$f":"IF($C$18=\"USE AREA TYPE AND AREA NAME SELECTION BOXES ABOVE TO CHOOSE AREA\",\"0.0\",C170/C$174*100)","v":"0.0"},{"$f":"VLOOKUP($C$20,KSNUMBER,196,FALSE)","v":0},{"$f":"IF($C$20=\"USE COMPARISON AREA TYPE AND COMPARISON AREA NAME SELECTION BOXES ABOVE TO CHOOSE AREA\",\"0.0\",E170/E$174*100)","v":"0.0"},null,"Process, Plant and Machine Operatives",null,{"$f":"VLOOKUP($C$18,KSNUMBER,246,FALSE)","v":0},"0.0",{"$f":"VLOOKUP($C$20,KSNUMBER,246,FALSE)","v":0},"0.0"]
["Looking After Home or Family",null,{"$f":"VLOOKUP($C$18,KSNUMBER,197,FALSE)","v":0},{"$f":"IF($C$18=\"USE AREA TYPE AND AREA NAME SELECTION BOXES ABOVE TO CHOOSE AREA\",\"0.0\",C171/C$174*100)","v":"0.0"},{"$f":"VLOOKUP($C$20,KSNUMBER,197,FALSE)","v":0},{"$f":"IF($C$20=\"USE COMPARISON AREA TYPE AND COMPARISON AREA NAME SELECTION BOXES ABOVE TO CHOOSE AREA\",\"0.0\",E171/E$174*100)","v":"0.0"},null,"Elementary Occupations",null,{"$f":"VLOOKUP($C$18,KSNUMBER,247,FALSE)","v":0},"0.0",{"$f":"VLOOKUP($C$20,KSNUMBER,247,FALSE)","v":0},"0.0"]
["Long-term Sick or Disabled",null,{"$f":"VLOOKUP($C$18,KSNUMBER,198,FALSE)","v":0},{"$f":"IF($C$18=\"USE AREA TYPE AND AREA NAME SELECTION BOXES ABOVE TO CHOOSE AREA\",\"0.0\",C172/C$174*100)","v":"0.0"},{"$f":"VLOOKUP($C$20,KSNUMBER,198,FALSE)","v":0},{"$f":"IF($C$20=\"USE COMPARISON AREA TYPE AND COMPARISON AREA NAME SELECTION BOXES ABOVE TO CHOOSE AREA\",\"0.0\",E172/E$174*100)","v":"0.0"},null,"Total",null,{"$f":"SUM(J163:J171)","v":0},null,{"$f":"SUM(L163:L171)","v":0}]
["Other",null,{"$f":"VLOOKUP($C$18,KSNUMBER,199,FALSE)","v":0},{"$f":"IF($C$18=\"USE AREA TYPE AND AREA NAME SELECTION BOXES ABOVE TO CHOOSE AREA\",\"0.0\",C173/C$174*100)","v":"0.0"},{"$f":"VLOOKUP($C$20,KSNUMBER,199,FALSE)","v":0},{"$f":"IF($C$20=\"USE COMPARISON AREA TYPE AND COMPARISON AREA NAME SELECTION BOXES ABOVE TO CHOOSE AREA\",\"0.0\",E173/E$174*100)","v":"0.0"}]
["Total",null,{"$f":"SUM(C163:C173)","v":0},null,{"$f":"SUM(E163:E173)","v":0}]
[]
["Hours Worked Per Week (Source: Table KS604EW)",null,null,"View hours worked chart",null,null,null,"Industry of Employment (Source: Table KS605EW)",null,"View industry of employment chart"]
[]
["Residents Aged 16-74 In Employment",null,"Area No.","%","Compare No.","%",null,"Residents Aged 16-74 In Employment",null,"Area No.","%","Compare No.","%"]
["Part-time: 15 Hours or Less",null,{"$f":"VLOOKUP($C$18,KSNUMBER,205,FALSE)","v":0},{"$f":"IF($C$18=\"USE AREA TYPE AND AREA NAME SELECTION BOXES ABOVE TO CHOOSE AREA\",\"0.0\",C179/C$183*100)","v":"0.0"},{"$f":"VLOOKUP($C$20,KSNUMBER,205,FALSE)","v":0},{"$f":"IF($C$20=\"USE COMPARISON AREA TYPE AND COMPARISON AREA NAME SELECTION BOXES ABOVE TO CHOOSE AREA\",\"0.0\",E179/E$183*100)","v":"0.0"},null,"Agriculture, Forestry and Fishing ",null,{"$f":"VLOOKUP($C$18,KSNUMBER,220,FALSE)","v":0},{"$f":"IF($C$18=\"USE AREA TYPE AND AREA NAME SELECTION BOXES ABOVE TO CHOOSE AREA\",\"0.0\",J179/J$199*100)","v":"0.0"},{"$f":"VLOOKUP($C$20,KSNUMBER,220,FALSE)","v":0},{"$f":"IF($C$20=\"USE COMPARISON AREA TYPE AND COMPARISON AREA NAME SELECTION BOXES ABOVE TO CHOOSE AREA\",\"0.0\",L179/L$199*100)","v":"0.0"}]
["Part-time: 16 to 30 Hours",null,{"$f":"VLOOKUP($C$18,KSNUMBER,206,FALSE)","v":0},{"$f":"IF($C$18=\"USE AREA TYPE AND AREA NAME SELECTION BOXES ABOVE TO CHOOSE AREA\",\"0.0\",C180/C$183*100)","v":"0.0"},{"$f":"VLOOKUP($C$20,KSNUMBER,206,FALSE)","v":0},{"$f":"IF($C$20=\"USE COMPARISON AREA TYPE AND COMPARISON AREA NAME SELECTION BOXES ABOVE TO CHOOSE AREA\",\"0.0\",E180/E$183*100)","v":"0.0"},null,"Mining and Quarrying",null,{"$f":"VLOOKUP($C$18,KSNUMBER,221,FALSE)","v":0},"0.0",{"$f":"VLOOKUP($C$20,KSNUMBER,221,FALSE)","v":0},"0.0"]
["Full-time: 31 to 48 Hours",null,{"$f":"VLOOKUP($C$18,KSNUMBER,207,FALSE)","v":0},{"$f":"IF($C$18=\"USE AREA TYPE AND AREA NAME SELECTION BOXES ABOVE TO CHOOSE AREA\",\"0.0\",C181/C$183*100)","v":"0.0"},{"$f":"VLOOKUP($C$20,KSNUMBER,207,FALSE)","v":0},{"$f":"IF($C$20=\"USE COMPARISON AREA TYPE AND COMPARISON AREA NAME SELECTION BOXES ABOVE TO CHOOSE AREA\",\"0.0\",E181/E$183*100)","v":"0.0"},null,"Manufacturing",null,{"$f":"VLOOKUP($C$18,KSNUMBER,222,FALSE)","v":0},"0.0",{"$f":"VLOOKUP($C$20,KSNUMBER,222,FALSE)","v":0},"0.0"]
["Full-time: 49 or More Hours",null,{"$f":"VLOOKUP($C$18,KSNUMBER,208,FALSE)","v":0},{"$f":"IF($C$18=\"USE AREA TYPE AND AREA NAME SELECTION BOXES ABOVE TO CHOOSE AREA\",\"0.0\",C182/C$183*100)","v":"0.0"},{"$f":"VLOOKUP($C$20,KSNUMBER,208,FALSE)","v":0},{"$f":"IF($C$20=\"USE COMPARISON AREA TYPE AND COMPARISON AREA NAME SELECTION BOXES ABOVE TO CHOOSE AREA\",\"0.0\",E182/E$183*100)","v":"0.0"},null,"Electricity, Gas, Steam and Air Conditioning Supply",null,{"$f":"VLOOKUP($C$18,KSNUMBER,223,FALSE)","v":0},"0.0",{"$f":"VLOOKUP($C$20,KSNUMBER,223,FALSE)","v":0},"0.0"]
["Total",null,{"$f":"SUM(C179:C182)","v":0},null,{"$f":"SUM(E179:E182)","v":0},null,null,"Water Supply, Sewerage, Waste Management",null,{"$f":"VLOOKUP($C$18,KSNUMBER,224,FALSE)","v":0},"0.0",{"$f":"VLOOKUP($C$20,KSNUMBER,224,FALSE)","v":0},"0.0"]
[null,null,null,null,null,null,null,"Construction",null,{"$f":"VLOOKUP($C$18,KSNUMBER,225,FALSE)","v":0},"0.0",{"$f":"VLOOKUP($C$20,KSNUMBER,225,FALSE)","v":0},"0.0"]
["Unemployment (Source: Table KS601EW)",null,null,"View unemployment chart"]
[null,null,null,null,null,null,null,"Wholesale and Retail Trade, Motor Vehicle Repair",null,{"$f":"VLOOKUP($C$18,KSNUMBER,226,FALSE)","v":0},{"$f":"IF($C$18=\"USE AREA TYPE AND AREA NAME SELECTION BOXES ABOVE TO CHOOSE AREA\",\"0.0\",J186/J$199*100)","v":"0.0"},{"$f":"VLOOKUP($C$20,KSNUMBER,226,FALSE)","v":0},{"$f":"IF($C$20=\"USE COMPARISON AREA TYPE AND COMPARISON AREA NAME SELECTION BOXES ABOVE TO CHOOSE AREA\",\"0.0\",L186/L$199*100)","v":"0.0"}]
[]
["Residents Aged 16-74",null,"Area No.","%","Compare No.","%",null,"Transport and Storage",null,{"$f":"VLOOKUP($C$18,KSNUMBER,227,FALSE)","v":0},{"$f":"IF($C$18=\"USE AREA TYPE AND AREA NAME SELECTION BOXES ABOVE TO CHOOSE AREA\",\"0.0\",J188/J$199*100)","v":"0.0"},{"$f":"VLOOKUP($C$20,KSNUMBER,227,FALSE)","v":0},{"$f":"IF($C$20=\"USE COMPARISON AREA TYPE AND COMPARISON AREA NAME SELECTION BOXES ABOVE TO CHOOSE AREA\",\"0.0\",L188/L$199*100)","v":"0.0"}]
["Unemployed",null,{"$f":"VLOOKUP($C$18,KSNUMBER,193,FALSE)","v":0},{"$f":"IF($C$18=\"USE AREA TYPE AND AREA NAME SELECTION BOXES ABOVE TO CHOOSE AREA\",\"0.0\",C189/C$174*100)","v":"0.0"},{"$f":"VLOOKUP($C$20,KSNUMBER,193,FALSE)","v":0},{"$f":"IF($C$20=\"USE COMPARISON AREA TYPE AND COMPARISON AREA NAME SELECTION BOXES ABOVE TO CHOOSE AREA\",\"0.0\",E189/E$174*100)","v":"0.0"},null,"Accommodation and Food Services",null,{"$f":"VLOOKUP($C$18,KSNUMBER,228,FALSE)","v":0},"0.0",{"$f":"VLOOKUP($C$20,KSNUMBER,228,FALSE)","v":0},"0.0"]
["Unemployed Aged 16 to 24 ",null,{"$f":"VLOOKUP($C$18,KSNUMBER,200,FALSE)","v":0},{"$f":"IF($C$18=\"USE AREA TYPE AND AREA NAME SELECTION BOXES ABOVE TO CHOOSE AREA\",\"0.0\",C190/C$174*100)","v":"0.0"},{"$f":"VLOOKUP($C$20,KSNUMBER,200,FALSE)","v":0},{"$f":"IF($C$20=\"USE COMPARISON AREA TYPE AND COMPARISON AREA NAME SELECTION BOXES ABOVE TO CHOOSE AREA\",\"0.0\",E190/E$174*100)","v":"0.0"},null,"Information and Communication",null,{"$f":"VLOOKUP($C$18,KSNUMBER,229,FALSE)","v":0},"0.0",{"$f":"VLOOKUP($C$20,KSNUMBER,229,FALSE)","v":0},"0.0"]
["Unemployed Aged 50 to 74",null,{"$f":"VLOOKUP($C$18,KSNUMBER,201,FALSE)","v":0},{"$f":"IF($C$18=\"USE AREA TYPE AND AREA NAME SELECTION BOXES ABOVE TO CHOOSE AREA\",\"0.0\",C191/C$174*100)","v":"0.0"},{"$f":"VLOOKUP($C$20,KSNUMBER,201,FALSE)","v":0},{"$f":"IF($C$20=\"USE COMPARISON AREA TYPE AND COMPARISON AREA NAME SELECTION BOXES ABOVE TO CHOOSE AREA\",\"0.0\",E191/E$174*100)","v":"0.0"},null,"Financial and Insurance",null,{"$f":"VLOOKUP($C$18,KSNUMBER,230,FALSE)","v":0},"0.0",{"$f":"VLOOKUP($C$20,KSNUMBER,230,FALSE)","v":0},"0.0"]
["Long-term Unemployed",null,{"$f":"VLOOKUP($C$18,KSNUMBER,203,FALSE)","v":0},{"$f":"IF($C$18=\"USE AREA TYPE AND AREA NAME SELECTION BOXES ABOVE TO CHOOSE AREA\",\"0.0\",C192/C$174*100)","v":"0.0"},{"$f":"VLOOKUP($C$20,KSNUMBER,203,FALSE)","v":0},{"$f":"IF($C$20=\"USE COMPARISON AREA TYPE AND COMPARISON AREA NAME SELECTION BOXES ABOVE TO CHOOSE AREA\",\"0.0\",E192/E$174*100)","v":"0.0"},null,"Real Estate",null,{"$f":"VLOOKUP($C$18,KSNUMBER,231,FALSE)","v":0},"0.0",{"$f":"VLOOKUP($C$20,KSNUMBER,231,FALSE)","v":0},"0.0"]
["Never Worked",null,{"$f":"VLOOKUP($C$18,KSNUMBER,202,FALSE)","v":0},{"$f":"IF($C$18=\"USE AREA TYPE AND AREA NAME SELECTION BOXES ABOVE TO CHOOSE AREA\",\"0.0\",C193/C$174*100)","v":"0.0"},{"$f":"VLOOKUP($C$20,KSNUMBER,202,FALSE)","v":0},{"$f":"IF($C$20=\"USE COMPARISON AREA TYPE AND COMPARISON AREA NAME SELECTION BOXES ABOVE TO CHOOSE AREA\",\"0.0\",E193/E$174*100)","v":"0.0"},null,"Professional, Scientific and Technical",null,{"$f":"VLOOKUP($C$18,KSNUMBER,232,FALSE)","v":0},"0.0",{"$f":"VLOOKUP($C$20,KSNUMBER,232,FALSE)","v":0},"0.0"]
[null,null,null,null,null,null,null,"Administrative and Support Services",null,{"$f":"VLOOKUP($C$18,KSNUMBER,233,FALSE)","v":0},"0.0",{"$f":"VLOOKUP($C$20,KSNUMBER,233,FALSE)","v":0},"0.0"]
[null,null,null,null,null,null,null,"Public Administration,Defence & Compulsory Social Security",null,{"$f":"VLOOKUP($C$18,KSNUMBER,234,FALSE)","v":0},"0.0",{"$f":"VLOOKUP($C$20,KSNUMBER,234,FALSE)","v":0},"0.0"]
[null,null,null,null,null,null,null,"Education",null,{"$f":"VLOOKUP($C$18,KSNUMBER,235,FALSE)","v":0},"0.0",{"$f":"VLOOKUP($C$20,KSNUMBER,235,FALSE)","v":0},"0.0"]
[null,null,null,null,null,null,null,"Human Health and Social Work",null,{"$f":"VLOOKUP($C$18,KSNUMBER,236,FALSE)","v":0},"0.0",{"$f":"VLOOKUP($C$20,KSNUMBER,236,FALSE)","v":0},"0.0"]
[null,null,null,null,null,null,null,"Other",null,{"$f":"VLOOKUP($C$18,KSNUMBER,237,FALSE)","v":0},"0.0",{"$f":"VLOOKUP($C$20,KSNUMBER,237,FALSE)","v":0},"0.0"]
[null,null,null,null,null,null,null,"Total",null,{"$f":"SUM(J179:J198)","v":0},null,{"$f":"SUM(L179:L198)","v":0}]
[]
[]
["Accommodation & Households"]
[]
["Accommodation Type (Source: Table KS401EW)",null,null,"View accommodation type chart",null,null,null,"Household Tenure (Source: Table KS402EW)",null,null,"View household tenure chart"]
[]
["All Household Spaces",null,"Area No.","%","Compare No.","%",null,"All Households",null,"Area No.","%","Compare No.","%"]
["Detached",null,{"$f":"VLOOKUP($C$18,KSNUMBER,145,FALSE)","v":0},{"$f":"IF($C$18=\"USE AREA TYPE AND AREA NAME SELECTION BOXES ABOVE TO CHOOSE AREA\",\"0.0\",C207/C$215*100)","v":"0.0"},{"$f":"VLOOKUP($C$20,KSNUMBER,145,FALSE)","v":0},{"$f":"IF($C$20=\"USE COMPARISON AREA TYPE AND COMPARISON AREA NAME SELECTION BOXES ABOVE TO CHOOSE AREA\",\"0.0\",E207/E$215*100)","v":"0.0"},null,"Owned Outright",null,{"$f":"VLOOKUP($C$18,KSNUMBER,153,FALSE)","v":0},{"$f":"IF($C$18=\"USE AREA TYPE AND AREA NAME SELECTION BOXES ABOVE TO CHOOSE AREA\",\"0.0\",J207/J$215*100)","v":"0.0"},{"$f":"VLOOKUP($C$20,KSNUMBER,153,FALSE)","v":0},{"$f":"IF($C$20=\"USE COMPARISON AREA TYPE AND COMPARISON AREA NAME SELECTION BOXES ABOVE TO CHOOSE AREA\",\"0.0\",L207/L$215*100)","v":"0.0"}]
["Semi-Detached",null,{"$f":"VLOOKUP($C$18,KSNUMBER,146,FALSE)","v":0},{"$f":"IF($C$18=\"USE AREA TYPE AND AREA NAME SELECTION BOXES ABOVE TO CHOOSE AREA\",\"0.0\",C208/C$215*100)","v":"0.0"},{"$f":"VLOOKUP($C$20,KSNUMBER,146,FALSE)","v":0},{"$f":"IF($C$20=\"USE COMPARISON AREA TYPE AND COMPARISON AREA NAME SELECTION BOXES ABOVE TO CHOOSE AREA\",\"0.0\",E208/E$215*100)","v":"0.0"},null,"Owned With a Mortgage or Loan",null,{"$f":"VLOOKUP($C$18,KSNUMBER,154,FALSE)","v":0},"0.0",{"$f":"VLOOKUP($C$20,KSNUMBER,154,FALSE)","v":0},"0.0"]
["Terraced (Including End-Terrace)",null,{"$f":"VLOOKUP($C$18,KSNUMBER,147,FALSE)","v":0},{"$f":"IF($C$18=\"USE AREA TYPE AND AREA NAME SELECTION BOXES ABOVE TO CHOOSE AREA\",\"0.0\",C209/C$215*100)","v":"0.0"},{"$f":"VLOOKUP($C$20,KSNUMBER,147,FALSE)","v":0},{"$f":"IF($C$20=\"USE COMPARISON AREA TYPE AND COMPARISON AREA NAME SELECTION BOXES ABOVE TO CHOOSE AREA\",\"0.0\",E209/E$215*100)","v":"0.0"},null,"Shared Ownership (Part Owned and Part Rented)",null,{"$f":"VLOOKUP($C$18,KSNUMBER,155,FALSE)","v":0},"0.0",{"$f":"VLOOKUP($C$20,KSNUMBER,155,FALSE)","v":0},"0.0"]
["Flat, Maisonette or Apartment:",null,null,null,null,null,null,"Rented From Council (Local Authority)",null,{"$f":"VLOOKUP($C$18,KSNUMBER,156,FALSE)","v":0},"0.0",{"$f":"VLOOKUP($C$20,KSNUMBER,156,FALSE)","v":0},"0.0"]
[" Purpose-Built Block of Flats or Tenement",null,{"$f":"VLOOKUP($C$18,KSNUMBER,148,FALSE)","v":0},{"$f":"IF($C$18=\"USE AREA TYPE AND AREA NAME SELECTION BOXES ABOVE TO CHOOSE AREA\",\"0.0\",C211/C$215*100)","v":"0.0"},{"$f":"VLOOKUP($C$20,KSNUMBER,148,FALSE)","v":0},{"$f":"IF($C$20=\"USE COMPARISON AREA TYPE AND COMPARISON AREA NAME SELECTION BOXES ABOVE TO CHOOSE AREA\",\"0.0\",E211/E$215*100)","v":"0.0"},null,"Other Social Rented",null,{"$f":"VLOOKUP($C$18,KSNUMBER,157,FALSE)","v":0},"0.0",{"$f":"VLOOKUP($C$20,KSNUMBER,157,FALSE)","v":0},"0.0"]
[" Part of Converted/Shared House (inc.Bed-sits)",null,{"$f":"VLOOKUP($C$18,KSNUMBER,149,FALSE)","v":0},{"$f":"IF($C$18=\"USE AREA TYPE AND AREA NAME SELECTION BOXES ABOVE TO CHOOSE AREA\",\"0.0\",C212/C$215*100)","v":"0.0"},{"$f":"VLOOKUP($C$20,KSNUMBER,149,FALSE)","v":0},{"$f":"IF($C$20=\"USE COMPARISON AREA TYPE AND COMPARISON AREA NAME SELECTION BOXES ABOVE TO CHOOSE AREA\",\"0.0\",E212/E$215*100)","v":"0.0"},null,"Rented From Private Landlord or Letting Agency",null,{"$f":"VLOOKUP($C$18,KSNUMBER,158,FALSE)","v":0},"0.0",{"$f":"VLOOKUP($C$20,KSNUMBER,158,FALSE)","v":0},"0.0"]
[" In a Commercial Building",null,{"$f":"VLOOKUP($C$18,KSNUMBER,150,FALSE)","v":0},{"$f":"IF($C$18=\"USE AREA TYPE AND AREA NAME SELECTION BOXES ABOVE TO CHOOSE AREA\",\"0.0\",C213/C$215*100)","v":"0.0"},{"$f":"VLOOKUP($C$20,KSNUMBER,150,FALSE)","v":0},{"$f":"IF($C$20=\"USE COMPARISON AREA TYPE AND COMPARISON AREA NAME SELECTION BOXES ABOVE TO CHOOSE AREA\",\"0.0\",E213/E$215*100)","v":"0.0"},null,"Other Private Rented",null,{"$f":"VLOOKUP($C$18,KSNUMBER,159,FALSE)","v":0},"0.0",{"$f":"VLOOKUP($C$20,KSNUMBER,159,FALSE)","v":0},"0.0"]
["Caravan or Other Mobile / Temporary",null,{"$f":"VLOOKUP($C$18,KSNUMBER,151,FALSE)","v":0},{"$f":"IF($C$18=\"USE AREA TYPE AND AREA NAME SELECTION BOXES ABOVE TO CHOOSE AREA\",\"0.0\",C214/C$215*100)","v":"0.0"},{"$f":"VLOOKUP($C$20,KSNUMBER,151,FALSE)","v":0},{"$f":"IF($C$20=\"USE COMPARISON AREA TYPE AND COMPARISON AREA NAME SELECTION BOXES ABOVE TO CHOOSE AREA\",\"0.0\",E214/E$215*100)","v":"0.0"},null,"Living Rent Free",null,{"$f":"VLOOKUP($C$18,KSNUMBER,160,FALSE)","v":0},"0.0",{"$f":"VLOOKUP($C$20,KSNUMBER,160,FALSE)","v":0},"0.0"]
["Total",null,{"$f":"SUM(C207:C214)","v":0},null,{"$f":"SUM(E207:E214)","v":0},null,null,"Total",null,{"$f":"SUM(J207:J214)","v":0},null,{"$f":"SUM(L207:L214)","v":0}]
["Occupied Household Spaces",null,{"$f":"VLOOKUP($C$18,KSNUMBER,143,FALSE)","v":0},{"$f":"IF($C$18=\"USE AREA TYPE AND AREA NAME SELECTION BOXES ABOVE TO CHOOSE AREA\",\"0.0\",C216/C$215*100)","v":"0.0"},{"$f":"VLOOKUP($C$20,KSNUMBER,143,FALSE)","v":0},{"$f":"IF($C$20=\"USE COMPARISON AREA TYPE AND COMPARISON AREA NAME SELECTION BOXES ABOVE TO CHOOSE AREA\",\"0.0\",E216/E$215*100)","v":"0.0"}]
["Unoccupied Household Spaces",null,{"$f":"VLOOKUP($C$18,KSNUMBER,144,FALSE)","v":0},{"$f":"IF($C$18=\"USE AREA TYPE AND AREA NAME SELECTION BOXES ABOVE TO CHOOSE AREA\",\"0.0\",C217/C$215*100)","v":"0.0"},{"$f":"VLOOKUP($C$20,KSNUMBER,144,FALSE)","v":0},{"$f":"IF($C$20=\"USE COMPARISON AREA TYPE AND COMPARISON AREA NAME SELECTION BOXES ABOVE TO CHOOSE AREA\",\"0.0\",E217/E$215*100)","v":"0.0"}]
[]
["Household Size (Source: Tables KS403EW / QS406EW)",null,null,"View household size chart",null,null,null,"Number Of Rooms (Source: Tables KS403EW / QS407EW)",null,null,"View number of rooms chart"]
[]
["All Household Spaces With Residents",null,"Area No.","%","Compare No.","%",null,"All Household Spaces With Residents",null,"Area No.","%","Compare No.","%"]
["1 Person in Household",null,{"$f":"VLOOKUP($C$18,QSNUMBER,136,FALSE)","v":0},{"$f":"IF($C$18=\"USE AREA TYPE AND AREA NAME SELECTION BOXES ABOVE TO CHOOSE AREA\",\"0.0\",C222/C$230*100)","v":"0.0"},{"$f":"VLOOKUP($C$20,QSNUMBER,136,FALSE)","v":0},{"$f":"IF($C$20=\"USE COMPARISON AREA TYPE AND COMPARISON AREA NAME SELECTION BOXES ABOVE TO CHOOSE AREA\",\"0.0\",E222/E$230*100)","v":"0.0"},null,"1 Room",null,{"$f":"VLOOKUP($C$18,QSNUMBER,145,FALSE)","v":0},{"$f":"IF($C$18=\"USE AREA TYPE AND AREA NAME SELECTION BOXES ABOVE TO CHOOSE AREA\",\"0.0\",J222/J$230*100)","v":"0.0"},{"$f":"VLOOKUP($C$20,QSNUMBER,145,FALSE)","v":0},{"$f":"IF($C$20=\"USE COMPARISON AREA TYPE AND COMPARISON AREA NAME SELECTION BOXES ABOVE TO CHOOSE AREA\",\"0.0\",L222/L$230*100)","v":"0.0"}]
["2 People in Household",null,{"$f":"VLOOKUP($C$18,QSNUMBER,137,FALSE)","v":0},"0.0",{"$f":"VLOOKUP($C$20,QSNUMBER,137,FALSE)","v":0},"0.0",null,"2 Rooms",null,{"$f":"VLOOKUP($C$18,QSNUMBER,146,FALSE)","v":0},"0.0",{"$f":"VLOOKUP($C$20,QSNUMBER,146,FALSE)","v":0},"0.0"]
["3 People in Household",null,{"$f":"VLOOKUP($C$18,QSNUMBER,138,FALSE)","v":0},"0.0",{"$f":"VLOOKUP($C$20,QSNUMBER,138,FALSE)","v":0},"0.0",null,"3 Rooms",null,{"$f":"VLOOKUP($C$18,QSNUMBER,147,FALSE)","v":0},"0.0",{"$f":"VLOOKUP($C$20,QSNUMBER,147,FALSE)","v":0},"0.0"]
["4 People in Household",null,{"$f":"VLOOKUP($C$18,QSNUMBER,139,FALSE)","v":0},"0.0",{"$f":"VLOOKUP($C$20,QSNUMBER,139,FALSE)","v":0},"0.0",null,"4 Rooms",null,{"$f":"VLOOKUP($C$18,QSNUMBER,148,FALSE)","v":0},"0.0",{"$f":"VLOOKUP($C$20,QSNUMBER,148,FALSE)","v":0},"0.0"]
["5 People in Household",null,{"$f":"VLOOKUP($C$18,QSNUMBER,140,FALSE)","v":0},"0.0",{"$f":"VLOOKUP($C$20,QSNUMBER,140,FALSE)","v":0},"0.0",null,"5 Rooms",null,{"$f":"VLOOKUP($C$18,QSNUMBER,149,FALSE)","v":0},"0.0",{"$f":"VLOOKUP($C$20,QSNUMBER,149,FALSE)","v":0},"0.0"]
["6 People in Household",null,{"$f":"VLOOKUP($C$18,QSNUMBER,141,FALSE)","v":0},"0.0",{"$f":"VLOOKUP($C$20,QSNUMBER,141,FALSE)","v":0},"0.0",null,"6 Rooms",null,{"$f":"VLOOKUP($C$18,QSNUMBER,150,FALSE)","v":0},"0.0",{"$f":"VLOOKUP($C$20,QSNUMBER,150,FALSE)","v":0},"0.0"]
["7 People in Household",null,{"$f":"VLOOKUP($C$18,QSNUMBER,142,FALSE)","v":0},"0.0",{"$f":"VLOOKUP($C$20,QSNUMBER,142,FALSE)","v":0},"0.0",null,"7 Rooms",null,{"$f":"VLOOKUP($C$18,QSNUMBER,151,FALSE)","v":0},"0.0",{"$f":"VLOOKUP($C$20,QSNUMBER,151,FALSE)","v":0},"0.0"]
["8 Or More People in Household",null,{"$f":"VLOOKUP($C$18,QSNUMBER,143,FALSE)","v":0},"0.0",{"$f":"VLOOKUP($C$20,QSNUMBER,143,FALSE)","v":0},"0.0",null,"8 Or More Rooms",null,{"$f":"VLOOKUP($C$18,QSNUMBER,152,FALSE)+VLOOKUP($C$18,QSNUMBER,153,FALSE)","v":0},"0.0",{"$f":"VLOOKUP($C$20,QSNUMBER,152,FALSE)+VLOOKUP($C$20,QSNUMBER,153,FALSE)","v":0},"0.0"]
["Total",null,{"$f":"SUM(C222:C229)","v":0},null,{"$f":"SUM(E222:E229)","v":0},null,null,"Total",null,{"$f":"SUM(J222:J229)","v":0},null,{"$f":"SUM(L222:L229)","v":0}]
["Average Persons Per Household",null,{"$f":"IF($B$5=\"Bespoke Area\",VLOOKUP($C$18,BESPCALC,7,FALSE),VLOOKUP($C$18,KSNUMBER,166,FALSE))","v":0},null,{"$f":"IF($B$9=\"Bespoke Area\",VLOOKUP($C$20,BESPCALC,7,FALSE),VLOOKUP($C$20,KSNUMBER,166,FALSE))","v":0},null,null,"Average Rooms Per Household",null,{"$f":"IF($B$5=\"Bespoke Area\",VLOOKUP($C$18,BESPCALC,8,FALSE),VLOOKUP($C$18,KSNUMBER,167,FALSE))","v":0},null,{"$f":"IF($B$9=\"Bespoke Area\",VLOOKUP($C$20,BESPCALC,8,FALSE),VLOOKUP($C$20,KSNUMBER,167,FALSE))","v":0}]
[]
["Central Heating (Source: Table QS415EW)",null,null,"View central heating chart"]
[]
["All Household Spaces With Residents",null,"Area No.","%","Compare No.","%"]
["No Central Heating",null,{"$f":"VLOOKUP($C$18,QSNUMBER,174,FALSE)","v":0},{"$f":"IF($C$18=\"USE AREA TYPE AND AREA NAME SELECTION BOXES ABOVE TO CHOOSE AREA\",\"0.0\",C236/C$243*100)","v":"0.0"},{"$f":"VLOOKUP($C$20,QSNUMBER,174,FALSE)","v":0},{"$f":"IF($C$20=\"USE COMPARISON AREA TYPE AND COMPARISON AREA NAME SELECTION BOXES ABOVE TO CHOOSE AREA\",\"0.0\",E236/E$243*100)","v":"0.0"}]
["Gas Central Heating",null,{"$f":"VLOOKUP($C$18,QSNUMBER,175,FALSE)","v":0},"0.0",{"$f":"VLOOKUP($C$20,QSNUMBER,175,FALSE)","v":0},"0.0"]
["Electric Central Heating (inc. Storage Heaters)",null,{"$f":"VLOOKUP($C$18,QSNUMBER,176,FALSE)","v":0},"0.0",{"$f":"VLOOKUP($C$20,QSNUMBER,176,FALSE)","v":0},"0.0"]
["Oil Central Heating",null,{"$f":"VLOOKUP($C$18,QSNUMBER,177,FALSE)","v":0},"0.0",{"$f":"VLOOKUP($C$20,QSNUMBER,177,FALSE)","v":0},"0.0"]
["Solid Fuel Central Heating (e.g. Wood, Coal) ",null,{"$f":"VLOOKUP($C$18,QSNUMBER,178,FALSE)","v":0},"0.0",{"$f":"VLOOKUP($C$20,QSNUMBER,178,FALSE)","v":0},"0.0"]
["Other Central Heating",null,{"$f":"VLOOKUP($C$18,QSNUMBER,179,FALSE)","v":0},"0.0",{"$f":"VLOOKUP($C$20,QSNUMBER,179,FALSE)","v":0},"0.0"]
["Two or More Types of Central Heating",null,{"$f":"VLOOKUP($C$18,QSNUMBER,180,FALSE)","v":0},"0.0",{"$f":"VLOOKUP($C$20,QSNUMBER,180,FALSE)","v":0},"0.0"]
["Total",null,{"$f":"SUM(C236:C242)","v":0},null,{"$f":"SUM(E236:E242)","v":0}]
[]
[]
["Transport"]
[]
["Method of Travel to Work (Source: Table QS701EW)",null,null,"View method of travel chart",null,null,null,"Car or Van Availability (Source: Table KS404EW)",null,null,"View car / van availability chart"]
[]
["Residents Aged 16-74 In Employment",null,"Area No.","%","Compare No.","%",null,"All Households",null,"Area No.","%","Compare No.","%"]
["Work Mainly at or From Home",null,{"$f":"VLOOKUP($C$18,QSNUMBER,196,FALSE)","v":0},{"$f":"IF($C$18=\"USE AREA TYPE AND AREA NAME SELECTION BOXES ABOVE TO CHOOSE AREA\",\"0.0\",C251/C$262*100)","v":"0.0"},{"$f":"VLOOKUP($C$20,QSNUMBER,196,FALSE)","v":0},{"$f":"IF($C$20=\"USE COMPARISON AREA TYPE AND COMPARISON AREA NAME SELECTION BOXES ABOVE TO CHOOSE AREA\",\"0.0\",E251/E$262*100)","v":"0.0"},null,"No Cars or Vans in Household",null,{"$f":"VLOOKUP($C$18,KSNUMBER,170,FALSE)","v":0},{"$f":"IF($C$18=\"USE AREA TYPE AND AREA NAME SELECTION BOXES ABOVE TO CHOOSE AREA\",\"0.0\",J251/J$256*100)","v":"0.0"},{"$f":"VLOOKUP($C$20,KSNUMBER,170,FALSE)","v":0},{"$f":"IF($C$20=\"USE COMPARISON AREA TYPE AND COMPARISON AREA NAME SELECTION BOXES ABOVE TO CHOOSE AREA\",\"0.0\",L251/L$256*100)","v":"0.0"}]
["Underground, Metro, Light Rail, Tram",null,{"$f":"VLOOKUP($C$18,QSNUMBER,197,FALSE)","v":0},{"$f":"IF($C$18=\"USE AREA TYPE AND AREA NAME SELECTION BOXES ABOVE TO CHOOSE AREA\",\"0.0\",C252/C$262*100)","v":"0.0"},{"$f":"VLOOKUP($C$20,QSNUMBER,197,FALSE)","v":0},{"$f":"IF($C$20=\"USE COMPARISON AREA TYPE AND COMPARISON AREA NAME SELECTION BOXES ABOVE TO CHOOSE AREA\",\"0.0\",E252/E$262*100)","v":"0.0"},null,"One Car or Van in Household",null,{"$f":"VLOOKUP($C$18,KSNUMBER,171,FALSE)","v":0},{"$f":"IF($C$18=\"USE AREA TYPE AND AREA NAME SELECTION BOXES ABOVE TO CHOOSE AREA\",\"0.0\",J252/J$256*100)","v":"0.0"},{"$f":"VLOOKUP($C$20,KSNUMBER,171,FALSE)","v":0},{"$f":"IF($C$20=\"USE COMPARISON AREA TYPE AND COMPARISON AREA NAME SELECTION BOXES ABOVE TO CHOOSE AREA\",\"0.0\",L252/L$256*100)","v":"0.0"}]
["Train",null,{"$f":"VLOOKUP($C$18,QSNUMBER,198,FALSE)","v":0},"0.0",{"$f":"VLOOKUP($C$20,QSNUMBER,198,FALSE)","v":0},"0.0",null,"Two Cars or Vans in Household",null,{"$f":"VLOOKUP($C$18,KSNUMBER,172,FALSE)","v":0},{"$f":"IF($C$18=\"USE AREA TYPE AND AREA NAME SELECTION BOXES ABOVE TO CHOOSE AREA\",\"0.0\",J253/J$256*100)","v":"0.0"},{"$f":"VLOOKUP($C$20,KSNUMBER,172,FALSE)","v":0},{"$f":"IF($C$20=\"USE COMPARISON AREA TYPE AND COMPARISON AREA NAME SELECTION BOXES ABOVE TO CHOOSE AREA\",\"0.0\",L253/L$256*100)","v":"0.0"}]
["Bus, Mini Bus or Coach",null,{"$f":"VLOOKUP($C$18,QSNUMBER,199,FALSE)","v":0},"0.0",{"$f":"VLOOKUP($C$20,QSNUMBER,199,FALSE)","v":0},"0.0",null,"Three Cars or Vans in Household",null,{"$f":"VLOOKUP($C$18,KSNUMBER,173,FALSE)","v":0},{"$f":"IF($C$18=\"USE AREA TYPE AND AREA NAME SELECTION BOXES ABOVE TO CHOOSE AREA\",\"0.0\",J254/J$256*100)","v":"0.0"},{"$f":"VLOOKUP($C$20,KSNUMBER,173,FALSE)","v":0},{"$f":"IF($C$20=\"USE COMPARISON AREA TYPE AND COMPARISON AREA NAME SELECTION BOXES ABOVE TO CHOOSE AREA\",\"0.0\",L254/L$256*100)","v":"0.0"}]
["Taxi",null,{"$f":"VLOOKUP($C$18,QSNUMBER,200,FALSE)","v":0},"0.0",{"$f":"VLOOKUP($C$20,QSNUMBER,200,FALSE)","v":0},"0.0",null,"Four or More Cars or Vans in Household",null,{"$f":"VLOOKUP($C$18,KSNUMBER,174,FALSE)","v":0},{"$f":"IF($C$18=\"USE AREA TYPE AND AREA NAME SELECTION BOXES ABOVE TO CHOOSE AREA\",\"0.0\",J255/J$256*100)","v":"0.0"},{"$f":"VLOOKUP($C$20,KSNUMBER,174,FALSE)","v":0},{"$f":"IF($C$20=\"USE COMPARISON AREA TYPE AND COMPARISON AREA NAME SELECTION BOXES ABOVE TO CHOOSE AREA\",\"0.0\",L255/L$256*100)","v":"0.0"}]
["Motorcycle, Scooter or Moped",null,{"$f":"VLOOKUP($C$18,QSNUMBER,201,FALSE)","v":0},"0.0",{"$f":"VLOOKUP($C$20,QSNUMBER,201,FALSE)","v":0},"0.0",null,"Total",null,{"$f":"SUM(J251:J255)","v":0},null,{"$f":"SUM(L251:L255)","v":0}]
["Driving a Car or Van",null,{"$f":"VLOOKUP($C$18,QSNUMBER,202,FALSE)","v":0},"0.0",{"$f":"VLOOKUP($C$20,QSNUMBER,202,FALSE)","v":0},"0.0",null,"All Cars or Vans in the Area",null,{"$f":"VLOOKUP($C$18,KSNUMBER,175,FALSE)","v":0},null,{"$f":"VLOOKUP($C$20,KSNUMBER,175,FALSE)","v":0}]
["Passenger in a Car or Van",null,{"$f":"VLOOKUP($C$18,QSNUMBER,203,FALSE)","v":0},"0.0",{"$f":"VLOOKUP($C$20,QSNUMBER,203,FALSE)","v":0},"0.0"]
["Bicycle",null,{"$f":"VLOOKUP($C$18,QSNUMBER,204,FALSE)","v":0},"0.0",{"$f":"VLOOKUP($C$20,QSNUMBER,204,FALSE)","v":0},"0.0"]
["On Foot",null,{"$f":"VLOOKUP($C$18,QSNUMBER,205,FALSE)","v":0},"0.0",{"$f":"VLOOKUP($C$20,QSNUMBER,205,FALSE)","v":0},"0.0"]
["Other Method of Travel to Work",null,{"$f":"VLOOKUP($C$18,QSNUMBER,206,FALSE)","v":0},"0.0",{"$f":"VLOOKUP($C$20,QSNUMBER,206,FALSE)","v":0},"0.0"]
["Total",null,{"$f":"SUM(C251:C261)","v":0},null,{"$f":"SUM(E251:E261)","v":0}]
[]
["Distance Travelled To Work (Source: Table QS702EW)",null,null,"View distance travelled chart"]
[]
["Residents Aged 16-74 In Employment",null,"Area No.","%","Compare No.","%"]
["Less Than 2km",null,{"$f":"VLOOKUP($C$18,QSNUMBER,215,FALSE)","v":0},{"$f":"IF($C$18=\"USE AREA TYPE AND AREA NAME SELECTION BOXES ABOVE TO CHOOSE AREA\",\"0.0\",C267/C$277*100)","v":"0.0"},{"$f":"VLOOKUP($C$20,QSNUMBER,215,FALSE)","v":0},{"$f":"IF($C$20=\"USE COMPARISON AREA TYPE AND COMPARISON AREA NAME SELECTION BOXES ABOVE TO CHOOSE AREA\",\"0.0\",E267/E$277*100)","v":"0.0"}]
["2km to Less Than 5km",null,{"$f":"VLOOKUP($C$18,QSNUMBER,216,FALSE)","v":0},{"$f":"IF($C$18=\"USE AREA TYPE AND AREA NAME SELECTION BOXES ABOVE TO CHOOSE AREA\",\"0.0\",C268/C$277*100)","v":"0.0"},{"$f":"VLOOKUP($C$20,QSNUMBER,216,FALSE)","v":0},{"$f":"IF($C$20=\"USE COMPARISON AREA TYPE AND COMPARISON AREA NAME SELECTION BOXES ABOVE TO CHOOSE AREA\",\"0.0\",E268/E$277*100)","v":"0.0"}]
["5km to Less Than 10km",null,{"$f":"VLOOKUP($C$18,QSNUMBER,217,FALSE)","v":0},"0.0",{"$f":"VLOOKUP($C$20,QSNUMBER,217,FALSE)","v":0},"0.0"]
["10km to Less Than 20km",null,{"$f":"VLOOKUP($C$18,QSNUMBER,218,FALSE)","v":0},"0.0",{"$f":"VLOOKUP($C$20,QSNUMBER,218,FALSE)","v":0},"0.0"]
["20km to Less Than 30km",null,{"$f":"VLOOKUP($C$18,QSNUMBER,219,FALSE)","v":0},"0.0",{"$f":"VLOOKUP($C$20,QSNUMBER,219,FALSE)","v":0},"0.0"]
["30km to Less Than 40km",null,{"$f":"VLOOKUP($C$18,QSNUMBER,220,FALSE)","v":0},"0.0",{"$f":"VLOOKUP($C$20,QSNUMBER,220,FALSE)","v":0},"0.0"]
["40km to Less Than 60km",null,{"$f":"VLOOKUP($C$18,QSNUMBER,221,FALSE)","v":0},"0.0",{"$f":"VLOOKUP($C$20,QSNUMBER,221,FALSE)","v":0},"0.0"]
["60km and Over",null,{"$f":"VLOOKUP($C$18,QSNUMBER,222,FALSE)","v":0},"0.0",{"$f":"VLOOKUP($C$20,QSNUMBER,222,FALSE)","v":0},"0.0"]
["Work Mainly at or From Home",null,{"$f":"VLOOKUP($C$18,QSNUMBER,223,FALSE)","v":0},"0.0",{"$f":"VLOOKUP($C$20,QSNUMBER,223,FALSE)","v":0},"0.0"]
["Other (Includes no Fixed Place of Work)",null,{"$f":"VLOOKUP($C$18,QSNUMBER,224,FALSE)","v":0},"0.0",{"$f":"VLOOKUP($C$20,QSNUMBER,224,FALSE)","v":0},"0.0"]
["Total",null,{"$f":"SUM(C267:C276)","v":0},null,{"$f":"SUM(E267:E276)","v":0},null,null,null,null,null,null,null,"Source: 2011 Census, Office for National Statistics (ONS) © Crown Copyright 2012 "]
[]
["Contact Information",null,"Notes"]
[]
["Intelligence Team",null,"1. Figures are as of census day, 27 March 2011."]
["People Directorate",null,"2. Percentages may not sum to 100% as they are rounded to one decimal place."]
["Dudley Metropolitan Borough Council",null,"3. Where numbers are small relative to totals, the percentage may show as 0.0% due to this rounding."]
["PHIntelligence@dudley.gov.uk",null,"4. Labels / data in italics are sub-divisions of the total separate to those above the total row or associated"]
["www.dudley.gov.uk/2011census",null,"data that is not otherwise part of the total figure."]
[null,null,"5. The Office for National Statistics (ONS) has a legal obligation not to reveal census data about individual"]
[null,null,"people and households. The confidentiality of all census results is protected by a combination of a variety "]
[null,null,"of disclosure protection measures."]
[null,null,"6. In the 2011 Census it was not mandatory to answer the question on religion so a notable proportion of"]
[null,null,"people are recorded under 'Religion Not Stated'."]
[]
["Glossary"]
[]
["Accession Countries: Countries that joined the European Union (EU) between April 2001 and March 2011, namely Bulgaria; Cyprus; Czech Republic; Estonia; Hungary; Latvia; Lithuania; "]
["Malta; Poland; Romania; Slovakia; Slovenia"]
[]
["Average Persons Per Household: Total number of residents living in households in an area divided by the number of households in that area."]
[]
["Average Rooms Per Household: Total number of rooms in households in an area divided by the number of households in that area."]
[]
["Census Day: Census day was Sunday 27 March 2011."]
[]
["Central Heating: A household’s accommodation is classified as having central heating if it is present in some or all rooms (whether used or not)."]
[]
["Communal Establishment: An establishment providing managed residential accommodation. “Managed” means full-time or part-time supervision of the accommodation. This includes"]
["sheltered accommodation units, hotels, guest houses, B&Bs, inns/pubs and all accommodation provided solely for students (during term-time) and nurses."]
[]
["Dependent Child: A person aged 0-15 in a household (whether or not in a family) or aged 16-18 in full-time education and living in a family with his or her parent(s). It does not include any "]
["children who have a spouse, partner or child living in the household."]
[]
["Distance Travelled To Work: Distance in kilometres between a person's residential postcode and their workplace postcode, measured in a straight line."]
[]
["Dwelling: A self-contained unit of accommodation, which may contain one or more households."]
[]
["Economically Active: People who in the week before the census were in employment as an employee or self-employed, not in employment but seeking work and ready to start work "]
["within two weeks, or not in employment but waiting to start a job already obtained and available."]
[]
["Economically Inactive: People who in the week before the census were not in employment but did not meet the criteria to be classified as ‘Unemployed'. This includes those looking for "]
["work but not available to start work within two weeks, and those not looking for work, or unable to work - for example retired, looking after home / family."]
[]
["Employed: A person who in the week before the census carried out at least one hour's paid work as an employee or self-employed. This includes casual or temporary work, government "]
["sponsored training schemes, paid / unpaid work for own / family business, being away from work ill, maternity leave, on holiday or temporarily laid off."]
[]
["General Health: A person's self-assessment of their general state of health. This is not based on a person's health over any specified period of time."]
[]
["Household: Either one person living alone, or a group of people (not necessarily related) living at the same address who share cooking facilities and share a living room, sitting room or"]
["dining area. A household must contain at least one person whose place of usual residence is at the address."]
[]
["Household Space: The accommodation occupied by an individual household or, if unoccupied, available for an individual household."]
[]
["Lone Parent Household: Comprises a father or mother with his or her child(ren) where the parent does not have a spouse, same-sex civil partner or partner in the household and the "]
["child(ren) do not have a spouse, same-sex civil partner or child in the household."]
[]
["Long-Term Health Problem: Problem or disability that limits day-to-day activities and has lasted, or is expected to last, at least 12 months. This includes problems related to old age."]
[]
["Long-Term Unemployed: A person who at the time of the 2011 Census was unemployed and the year they last worked was 2009 or earlier. "]
[]
["Method Of Travel To Work: The method used for the longest part, by distance, of the usual journey to work."]
[]
["Resident: Refers to a usual resident which is anyone who, on census day, was in the UK and had stayed or intended to stay in the UK for a period of 12 months or more, or had a "]
["permanent UK address and was outside the UK and intended to be outside the UK for less than 12 months."]
[]
["Qualification, Highest Level: The highest level of qualification attained by residents based on the following equivalencies:"]
["Level 1: 1-4 O Levels/CSEs/GCSEs (any grades); Entry Level; Foundation Diploma; NVQ level 1; Foundation GNVQ, Basic/Essential Skills"]
["Level 2: 5+ O Levels (passes)/CSEs (Grade 1)/GCSEs (Grades A*-C); School Certificate; 1 A Level/2-3 AS Levels/VCEs; Intermediate/Higher Diploma; NVQ Level 2; "]
["Intermediate GNVQ; City & Guilds Craft; BTEC First/General Diploma; RSA Diploma"]
["Level 3: 2+ A Levels/VCEs; 4+ AS Levels; Higher School Certificate; Progression/Advanced Diploma; NVQ level 3; Advanced GNVQ; City & Guilds Advanced Craft;"]
["ONC; OND; BTEC National; RSA Advanced Diploma"]
["Level 4: Degree; Higher degree; NVQ level 4-5; HNC; HND; RSA Higher Diploma; BTEC Higher Level; Professional Qualification (e.g. Teaching, Nursing, Accountancy)"]
["Other Qualifications: Vocational/Work-related Qualifications; Foreign Qualifications (Not stated/level unknown)"]
[]
["Rooms: Includes all rooms in a household's accommodation except bathrooms, toilets, halls / landings, or rooms that can only be used for storage."]
[]
["Unemployed: Person not in employment, available to start work in the next two weeks, and either looking for work in the last four weeks or waiting to start a new job."]

{"sheet":"Chart Hyperlinks","index":1,"n_rows":31,"n_cols":1,"rows_kept":31,"cut":false,"hidden":true,"merged":[]}
["Hyperlinks to Charts"]
["Resident Population"]
["Age Structure"]
["Marital / Civil Partnership Status"]
["Household Composition"]
["Lone Parent Households With Dependent Children"]
["Ethnic Group"]
["Religion"]
["Country Of Birth"]
["Length Of Residence In The UK"]
["Passports Held"]
["General Health"]
["Provision Of Unpaid Care"]
["Long-Term Health Problem / Disability"]
["Long-Term Health Problem / Disability, Aged 16-74"]
["Highest Level of Qualification"]
["Household Language"]
["Proficiency In English"]
["Economic Activity"]
["Hours Worked Per Week"]
["Unemployment"]
["Occupation "]
["Industry of Employment"]
["Accommodation Type"]
["Household Tenure"]
["Household Size"]
["Number Of Rooms"]
["Central Heating"]
["Method of Travel to Work"]
["Distance Travelled To Work"]
["Car or Van Availability"]

{"sheet":"Help","index":2,"n_rows":146,"n_cols":2,"rows_kept":146,"cut":false,"hidden":false,"merged":[[30,0,30,1],[38,0,38,1],[46,0,46,1],[54,0,54,1],[64,0,64,1],[72,0,72,1],[66,0,66,1],[68,0,68,1],[70,0,70,1],[83,0,83,1],[76,0,76,1],[78,0,78,1],[84,0,84,1],[86,0,86,1],[74,0,74,1],[80,0,80,1],[88,0,88,1],[95,0,95,1],[97,0,97,1],[123,0,123,1],[131,0,131,1],[139,0,139,1],[105,0,105,1],[107,0,107,1],[115,0,115,1]]}
["2011 Census Area Profiler Help"]
[]
[null,"Click here to return to the 2011 Census Area Profiler page"]
[]
["Please click on a help topic with the left mouse button to view help information"]
[]
["What is the census?"]
[]
["What is the 2011 Census Area Profiler?"]
[]
["How do I select the areas I’m interested in?"]
[]
["What are Area Types and Area Names?"]
[]
["What Area Types are available?"]
[]
["Can I find out the Area Name for a specific address?"]
[]
["What if I want to change the Area / Comparison Area I’ve selected?"]
[]
["Can I compare areas from different Area Types?"]
[]
["How do I move to the different sections of the census results?"]
[]
["How do I view a chart for the areas I’ve selected?"]
[]
["What if I can't find the help I'm looking for?"]
[]
["What is the census?"]
[]
["A census is a count of all people and households in the country that takes place every ten years.  It asks people about subjects such as work, health, ethnic background, education and marital status.  The responses build a picture of today’s society, which helps central and local government, health authorities, businesses, voluntary sector organisations and communities target resources and plan for years to come.  Census results are also of interest to anyone who wants to know about the population and characteristics of a particular area.  The 2011 Census took place on 27 March 2011.  In England and Wales the 2011 Census was organised and carried out by the Office for National Statistics (ONS)."]
[]
["Click here to view the list of help topics"]
[]
["Click here to return to the 2011 Census Area Profiler page"]
[]
["What is the 2011 Census Area Profiler?"]
[]
["It is an interactive tool designed to show people the 2011 Census results for an area of their choice, and allow them to compare it to any other area.  The user can view tables of census results showing the number and percentage of the population across a wide range of topics, such as age, ethnic group, general health, occupation and method of travel to work. There are also charts that show the percentage figures for the two selected areas.  The Profiler has a specific Dudley focus, with the user able to choose areas within Dudley Borough, such as Wards, for comparisons."]
[]
["Click here to view the list of help topics"]
[]
["Click here to return to the 2011 Census Area Profiler page"]
[]
["How do I select the areas I’m interested in?"]
[]
["When you open the 2011 Census Area Profiler there are four boxes where you need to make a selection.  They all contain text that starts “CLICK HERE, THEN ON THE DOWN ARROW TO SELECT…” (if the boxes do not contain this text please click on the text \"Clear selections\" towards the top right of the 2011 Census Area Profiler page before continuing).  When you click in each box using the left mouse button a downwards arrow ( ▼ ) will appear to the right of the selection box.  Click on the arrow with the left mouse button and a list of available options will appear.  Click on the option of your choice using the left mouse button.  If there is a scroll bar to the right of the list of options you can use this to move down the list to see more options.  The four selections you need to make are Area Type, Area Name, Comparison Area Type and Comparison Area Name. The numbers and percentages for your selected areas will then appear in the census data tables below."]
[]
["Click here to view the list of help topics"]
[]
["Click here to return to the 2011 Census Area Profiler page"]
[]
["What are Area Types and Area Names?"]
[]
["Census results are available for a wide variety of areas, from the whole of England to small areas within local authorities such as Dudley.  This means there are a very large number of areas to chose from.  To help narrow the range of choices the areas are arranged into types.  When you select an Area Type the Area Names available for you to select are limited to those of that type."]
[]
["Click here to view the list of help topics"]
[]
["Click here to return to the 2011 Census Area Profiler page"]
[]
["What Area Types are available?"]
[]
["The Area Types within the 2011 Census Area Profiler are:"]
[]
["Local Authority: Local authorities (also referred to as local authority districts) in this context are the areas administered by local councils.  There are 326 local authorities in England.  For ease of use Dudley is the first local authority available for selection, followed by an alphabetical listing of other local authorities."]
[]
["Local Authority; West Midlands Region Local Authorities: The 30 local authorities within the West Midlands Region, listed alphabetically."]
[]
["Local Authority; Metropolitan Local Authorities: The 36 local authorities in England that are Metropolitan District local authorities, listed alphabetically.  Metropolitan Districts are those local authorities in heavily built-up areas of England (other than Greater London) that are within the metropolitan areas (former metropolitan counties) of Greater Manchester, Merseyside, South Yorkshire, Tyne and Wear, West Midlands and West Yorkshire."]
[]
["Community Forum: Community forums give people and communities in Dudley Borough direct access to Councillors and Dudley Council through regular drop in public meetings.  There are 10 Community Forum areas in Dudley and they consist of 2 or 3 wards."]
[]
["Ward: Wards are areas within local authorities used for the election of local government councillors.  The 24 wards in Dudley are available for selection."]
[]
["Lower Layer Super Output Area (LSOA); by LSOA Code / LSOA Name: LSOA are areas within local authorities specifically designed for the publication of statistics for small areas, such as census results.  They cover the whole of England and are designed and maintained by the Office for National Statistics (ONS).  As of the 2011 Census there were 201 LSOA in Dudley.  All LSOA have both a code and a name that are part of a nation-wide referencing system; you can select an LSOA by either it's code or name using the relevant Area Type."]
[]
["Township: Townships are areas used for administration and service delivery by Dudley Council.  There are 5 Townships in Dudley which each consist of 4 or 5 wards.  Townships are a locally adopted geography so have no direct equivalent in other Local Authorities.  The Township constituent Wards are:\n     Brierley Hill Township - Brierley Hill; Brockmoor and Pensnett; Kingswinford North and Wall Heath; Kingswinford South; Wordsley\n     Dudley Central Township - Castle and Priory; Netherton, Woodside and St Andrews; Quarry Bank and Dudley Wood; St James's; St Thomas's\n     Dudley North Township - Coseley East; Gornal; Sedgley; Upper Gornal and Woodsetton\n     Halesowen Township - Belle Vale; Cradley and Wollescote; Halesowen North; Halesowen South; Hayley Green and Cradley South\n     Stourbridge Township - Amblecote; Lye and Stourbridge North; Norton; Pedmore and Stourbridge East; Wollastion and Stourbridge Town"]
[]
["Early Help Cluster: These are areas used by Dudleu Council for the delivery of certain services for children and young people.  There are 5 Clusters in Dudley which each consist of 4 or 5 wards.  Early Help Clusters are a locally adopted geography so have no direct equivalent in other Local Authorities.  The Cluster constituent Wards are:\n     Brierley Hill Cluster - Brierley Hill; Brockmoor and Pensnett; Kingswinford North and Wall Heath; Kingswinford South; Wordsley\n     Dudley Central Cluster - Netherton, Woodside and St Andrews; Quarry Bank and Dudley Wood; St James's; St Thomas's\n     Dudley North Cluster - Castle and Priory; Coseley East; Gornal; Sedgley; Upper Gornal and Woodsetton\n     Halesowen Cluster - Belle Vale; Cradley and Wollescote; Halesowen North; Halesowen South; Hayley Green and Cradley South\n     Stourbridge Cluster - Amblecote; Lye and Stourbridge North; Norton; Pedmore and Stourbridge East; Wollastion and Stourbridge Town"]
[]
["Sub-Region: Areas of significance within regions, normally consisting of groups of local authorities. There are two choices available:-"]
[]
[]
["The Black Country, defined as the four local authority districts of Dudley, Sandwell, Walsall and Wolverhampton   "]
["The West Midlands Metropolitan Area, defined as the seven local authority districts of Birmingham, Coventry, Dudley, Sandwell, Solihull, Walsall and Wolverhampton   "]
[]
["Region: The nine standard administrative regions of England.  Dudley is in the West Midlands Region."]
[]
["Country: Choices are England or England and Wales combined."]
[]
[]
["Click here to view the list of help topics"]
[]
["Click here to return to the 2011 Census Area Profiler page"]
[]
["Can I find out the Area Name for a specific address?"]
[]
["For areas within Dudley Borough - Community Forums / Wards / Lower Layer Super Output Areas - there are address search facilities available from Dudley Council's 2011 Census web page at www.dudley.gov.uk/2011census.  You can enter the address details and view a map of the relevant area. "]
[]
["Click here to go to the Dudley Council 2011 Census web page"]
[]
["Click here to view the list of help topics"]
[]
["Click here to return to the 2011 Census Area Profiler page"]
[]
["What if I want to change the Area / Comparison Area I’ve selected?"]
[]
["Clicking with the left mouse button on the text “Clear Selections” towards the top right of the 2011 Census Area Profiler page will reset the selection boxes so you can make new selections. If you want to change just the Name / Type of one area, click once with the left mouse button in the relevant box, then on the down arrow to the right of the box to select a different option."]
[]
["Click here to view the list of help topics"]
[]
["Click here to return to the 2011 Census Area Profiler page"]
[]
["Can I compare areas from different Area Types?"]
[]
["Yes, you can choose any combination of Area Types and Area Names.  So, for example, you can compare Dudley local authority with any other local authority, or Dudley with England, or Dudley with one of the Wards in Dudley."]
[]
["Click here to view the list of help topics"]
[]
["Click here to return to the 2011 Census Area Profiler page"]
[]
["How do I move to the different sections of the census results?"]
[]
["Under the area / comparison area selection boxes towards the top of the 2011 Census Area Profiler page are a series of “links” (blue, underlined text) under the heading \"Go to section...\". Clicking on these with the left mouse button will move you to census tables on that topic, or other helpful information such as a glossary of terms used in the census.  "]
[]
["Click here to view the list of help topics"]
[]
["Click here to return to the 2011 Census Area Profiler page"]
[]
["How do I view a chart for the areas I’ve selected?"]
[]
["To the top right-hand side of each census data table is a “link” (blue, underlined text) that relates to that table.  Clicking on these with the left mouse button will take you to a chart showing the percentage figures for your selected area against those of your selected comparison area.  Each chart has a return link in the bottom right-hand corner labelled “Go to census profile”. Clicking on these with the left mouse button returns you to the 2011 Census Area Profiler page."]
[]
["Click here to view the list of help topics"]
[]
["Click here to return to the 2011 Census Area Profiler page"]
[]
["What if I can't find the help I'm looking for?"]
[]
["Please contact the Intelligence Team at  Dudley Council using the contact details on the 2011 Census Area Profiler page. A member of staff will assist you with your query."]
[]
["Click here to go to contact details"]
[]
["Click here to view the list of help topics"]
[]
["Click here to return to the 2011 Census Area Profiler page"]

{"sheet":"Chart Data","index":3,"n_rows":293,"n_cols":13,"rows_kept":293,"cut":false,"hidden":true,"merged":[[275,0,275,1],[263,0,263,2],[19,2,19,12],[12,2,12,8],[17,2,17,12],[14,9,14,11],[15,9,15,10],[14,2,14,4],[14,6,14,7],[15,6,15,7],[15,2,15,4],[2,9,2,10],[2,1,2,3],[8,1,8,8],[10,1,10,8],[4,1,4,8],[6,1,6,8]]}
[]
[]
[]
[]
["Area Type →",{"$f":"'2011 Census Profile'!B5:I5","v":"CLICK HERE, THEN ON THE DOWN ARROW TO SELECT AREA TYPE"}]
[]
["Area Name →",{"$f":"'2011 Census Profile'!B7:I7","v":"CLICK HERE, THEN ON THE DOWN ARROW TO SELECT AREA"}]
[]
["Comparison Area Type →",{"$f":"'2011 Census Profile'!B9:I9","v":"CLICK HERE, THEN ON THE DOWN ARROW TO SELECT COMPARISON AREA TYPE"}]
[]
["Comparison Area Name →",{"$f":"'2011 Census Profile'!B11:I11","v":"CLICK HERE, THEN ON THE DOWN ARROW TO SELECT COMPARISON AREA"}]
[]
[]
[]
[]
[]
[]
["2011 Census Area Profile for:",null,{"$f":"IF('2011 Census Profile'!C18:M18=\"USE AREA TYPE AND AREA NAME SELECTION BOXES ABOVE TO CHOOSE AREA\",\"No Area Selected\",'2011 Census Profile'!C18:M18)","v":"No Area Selected"}]
[]
["Showing comparison figures with:",null,{"$f":"IF('2011 Census Profile'!C20:M20=\"USE COMPARISON AREA TYPE AND COMPARISON AREA NAME SELECTION BOXES ABOVE TO CHOOSE AREA\",\"No Comparison Area Selected\",'2011 Census Profile'!C20:M20)","v":"No Comparison Area Selected"}]
[]
["Population Structure"]
[]
["Resident Population (Source: Table KS101EW)",null,null,null,null,null,null,"Marital / Civil Partnership Status (Source: Table KS103EW)"]
[]
["All Residents",null,"Area No.","%","Compare No.","%",null,"Residents Aged 16+",null,"Area No.","%","Compare No.","%"]
["Male",null,{"$f":"'2011 Census Profile'!C27","v":0},{"$f":"ROUND('2011 Census Profile'!D27,1)","v":0},{"$f":"'2011 Census Profile'!E27","v":0},{"$f":"ROUND('2011 Census Profile'!F27,1)","v":0},null,"Single (Never Married / Never Registered A Same-Sex Civil Partnership)",null,{"$f":"'2011 Census Profile'!J27","v":0},{"$f":"ROUND('2011 Census Profile'!K27,1)","v":0},{"$f":"'2011 Census Profile'!L27","v":0},{"$f":"ROUND('2011 Census Profile'!M27,1)","v":0}]
["Female",null,{"$f":"'2011 Census Profile'!C28","v":0},{"$f":"ROUND('2011 Census Profile'!D28,1)","v":0},{"$f":"'2011 Census Profile'!E28","v":0},{"$f":"ROUND('2011 Census Profile'!F28,1)","v":0},null,"Married",null,{"$f":"'2011 Census Profile'!J28","v":0},{"$f":"ROUND('2011 Census Profile'!K28,1)","v":0},{"$f":"'2011 Census Profile'!L28","v":0},{"$f":"ROUND('2011 Census Profile'!M28,1)","v":0}]
["Lives in a Household",null,{"$f":"'2011 Census Profile'!C31","v":0},{"$f":"ROUND('2011 Census Profile'!D31,1)","v":0},{"$f":"'2011 Census Profile'!E31","v":0},{"$f":"ROUND('2011 Census Profile'!F31,1)","v":0},null,"In a Registered Same-Sex Civil Partnership",null,{"$f":"'2011 Census Profile'!J29","v":0},{"$f":"ROUND('2011 Census Profile'!K29,1)","v":0},{"$f":"'2011 Census Profile'!L29","v":0},{"$f":"ROUND('2011 Census Profile'!M29,1)","v":0}]
["Lives in a Communal Establishment",null,{"$f":"'2011 Census Profile'!C32","v":0},{"$f":"ROUND('2011 Census Profile'!D32,1)","v":0},{"$f":"'2011 Census Profile'!E32","v":0},{"$f":"ROUND('2011 Census Profile'!F32,1)","v":0},null,"Separated (Still Legally Married / Still Legally In A Same-Sex Civil Partnership)",null,{"$f":"'2011 Census Profile'!J30","v":0},{"$f":"ROUND('2011 Census Profile'!K30,1)","v":0},{"$f":"'2011 Census Profile'!L30","v":0},{"$f":"ROUND('2011 Census Profile'!M30,1)","v":0}]
["Total",null,{"$f":"'2011 Census Profile'!C29","v":0},null,{"$f":"'2011 Census Profile'!E29","v":0},null,null,"Divorced / Legally Dissolved Same-Sex Civil Partnership",null,{"$f":"'2011 Census Profile'!J31","v":0},{"$f":"ROUND('2011 Census Profile'!K31,1)","v":0},{"$f":"'2011 Census Profile'!L31","v":0},{"$f":"ROUND('2011 Census Profile'!M31,1)","v":0}]
["Population Density (People per Hectare)",null,{"$f":"'2011 Census Profile'!C30","v":0},null,{"$f":"'2011 Census Profile'!E30","v":0},null,null,"Widowed / Surviving Partner From A Same-Sex Civil Partnership",null,{"$f":"'2011 Census Profile'!J32","v":0},{"$f":"ROUND('2011 Census Profile'!K32,1)","v":0},{"$f":"'2011 Census Profile'!L32","v":0},{"$f":"ROUND('2011 Census Profile'!M32,1)","v":0}]
[null,null,{"$f":"C31-SUM(C27:C28)","v":0},{"$f":"100-SUM(D27:D28)","v":100},{"$f":"E31-SUM(E27:E28)","v":0},{"$f":"100-SUM(F27:F28)","v":100},null,"Total",null,{"$f":"'2011 Census Profile'!J33","v":0},null,{"$f":"'2011 Census Profile'!L33","v":0}]
[null,null,null,{"$f":"100-SUM(D29:D30)","v":100},null,{"$f":"100-SUM(F29:F30)","v":100},null,null,null,{"$f":"J33-SUM(J27:J32)","v":0},{"$f":"100-SUM(K27:K32)","v":100},{"$f":"L33-SUM(L27:L32)","v":0},{"$f":"100-SUM(M27:M32)","v":100}]
["Age Structure (Source: Tables KS102EW / PP04)",null,null,null,null,null,null,"Household Composition (Source: Table KS105EW)"]
[]
["All Residents",null,"Area No.","%","Compare No.","%",null,"All Households",null,"Area No.","%","Compare No.","%"]
["0-4",null,{"$f":"'2011 Census Profile'!C38","v":0},{"$f":"ROUND('2011 Census Profile'!D38,1)","v":0},{"$f":"'2011 Census Profile'!E38","v":0},{"$f":"ROUND('2011 Census Profile'!F38,1)","v":0},null,"One Person: Aged 65+",null,{"$f":"'2011 Census Profile'!J38","v":0},{"$f":"ROUND('2011 Census Profile'!K38,1)","v":0},{"$f":"'2011 Census Profile'!L38","v":0},{"$f":"ROUND('2011 Census Profile'!M38,1)","v":0}]
["5-9",null,{"$f":"'2011 Census Profile'!C39+'2011 Census Profile'!C40","v":0},{"$f":"ROUND((('2011 Census Profile'!C39+'2011 Census Profile'!C40)/'2011 Census Profile'!C65*100),1)","v":{"$error":"#DIV/0!"}},{"$f":"'2011 Census Profile'!E39+'2011 Census Profile'!E40","v":0},{"$f":"ROUND((('2011 Census Profile'!E39+'2011 Census Profile'!E40)/'2011 Census Profile'!E65*100),1)","v":{"$error":"#DIV/0!"}},null,"One Person: Other",null,{"$f":"'2011 Census Profile'!J39","v":0},{"$f":"ROUND('2011 Census Profile'!K39,1)","v":0},{"$f":"'2011 Census Profile'!L39","v":0},{"$f":"ROUND('2011 Census Profile'!M39,1)","v":0}]
["10-14",null,{"$f":"'2011 Census Profile'!C41+'2011 Census Profile'!C42+'2011 Census Profile'!C43+'2011 Census Profile'!C44","v":0},{"$f":"ROUND((('2011 Census Profile'!C41+'2011 Census Profile'!C42+'2011 Census Profile'!C43+'2011 Census Profile'!C44)/'2011 Census Profile'!C65*100),1)","v":{"$error":"#DIV/0!"}},{"$f":"'2011 Census Profile'!E41+'2011 Census Profile'!E42+'2011 Census Profile'!E43+'2011 Census Profile'!E44","v":0},{"$f":"ROUND((('2011 Census Profile'!E41+'2011 Census Profile'!E42+'2011 Census Profile'!E43+'2011 Census Profile'!E44)/'2011 Census Profile'!E65*100),1)","v":{"$error":"#DIV/0!"}},null,"One Family: All Aged 65+",null,{"$f":"'2011 Census Profile'!J40","v":0},{"$f":"ROUND('2011 Census Profile'!K40,1)","v":0},{"$f":"'2011 Census Profile'!L40","v":0},{"$f":"ROUND('2011 Census Profile'!M40,1)","v":0}]
["15-19",null,{"$f":"'2011 Census Profile'!C45+'2011 Census Profile'!C46+'2011 Census Profile'!C47","v":0},{"$f":"ROUND((('2011 Census Profile'!C45+'2011 Census Profile'!C46+'2011 Census Profile'!C47)/'2011 Census Profile'!C65*100),1)","v":{"$error":"#DIV/0!"}},{"$f":"'2011 Census Profile'!E45+'2011 Census Profile'!E46+'2011 Census Profile'!E47","v":0},{"$f":"ROUND((('2011 Census Profile'!E45+'2011 Census Profile'!E46+'2011 Census Profile'!E47)/'2011 Census Profile'!E65*100),1)","v":{"$error":"#DIV/0!"}},{"$f":"ROUND('2011 Census Profile'!G42,1)+ROUND('2011 Census Profile'!G43,1)+ROUND('2011 Census Profile'!G44,1)","v":0},"Married / Civil Partnership Couple: \nNo children",null,{"$f":"'2011 Census Profile'!J41","v":0},{"$f":"ROUND('2011 Census Profile'!K41,1)","v":0},{"$f":"'2011 Census Profile'!L41","v":0},{"$f":"ROUND('2011 Census Profile'!M41,1)","v":0}]
["20-24",null,{"$f":"'2011 Census Profile'!C48","v":0},{"$f":"ROUND('2011 Census Profile'!D48,1)","v":0},{"$f":"'2011 Census Profile'!E48","v":0},{"$f":"ROUND('2011 Census Profile'!F48,1)","v":0},null,"Married / Civil Partnership Couple: \nWith Dependent Children",null,{"$f":"'2011 Census Profile'!J42","v":0},{"$f":"ROUND('2011 Census Profile'!K42,1)","v":0},{"$f":"'2011 Census Profile'!L42","v":0},{"$f":"ROUND('2011 Census Profile'!M42,1)","v":0}]
["25-29",null,{"$f":"'2011 Census Profile'!C49","v":0},{"$f":"ROUND('2011 Census Profile'!D49,1)","v":0},{"$f":"'2011 Census Profile'!E49","v":0},{"$f":"ROUND('2011 Census Profile'!F49,1)","v":0},null,"Married / Civil Partnership Couple: \nAll Children Non-Dependent",null,{"$f":"'2011 Census Profile'!J43","v":0},{"$f":"ROUND('2011 Census Profile'!K43,1)","v":0},{"$f":"'2011 Census Profile'!L43","v":0},{"$f":"ROUND('2011 Census Profile'!M43,1)","v":0}]
["30-34",null,{"$f":"'2011 Census Profile'!C50","v":0},{"$f":"ROUND('2011 Census Profile'!D50,1)","v":0},{"$f":"'2011 Census Profile'!E50","v":0},{"$f":"ROUND('2011 Census Profile'!F50,1)","v":0},null,"Cohabiting Couple: \nNo Children",null,{"$f":"'2011 Census Profile'!J44","v":0},{"$f":"ROUND('2011 Census Profile'!K44,1)","v":0},{"$f":"'2011 Census Profile'!L44","v":0},{"$f":"ROUND('2011 Census Profile'!M44,1)","v":0}]
["35-39",null,{"$f":"'2011 Census Profile'!C51","v":0},{"$f":"ROUND('2011 Census Profile'!D51,1)","v":0},{"$f":"'2011 Census Profile'!E51","v":0},{"$f":"ROUND('2011 Census Profile'!F51,1)","v":0},null,"Cohabiting Couple: \nWith Dependent Children",null,{"$f":"'2011 Census Profile'!J45","v":0},{"$f":"ROUND('2011 Census Profile'!K45,1)","v":0},{"$f":"'2011 Census Profile'!L45","v":0},{"$f":"ROUND('2011 Census Profile'!M45,1)","v":0}]
["40-44",null,{"$f":"'2011 Census Profile'!C52","v":0},{"$f":"ROUND('2011 Census Profile'!D52,1)","v":0},{"$f":"'2011 Census Profile'!E52","v":0},{"$f":"ROUND('2011 Census Profile'!F52,1)","v":0},null,"Cohabiting Couple: \nAll Children Non-Dependent",null,{"$f":"'2011 Census Profile'!J46","v":0},{"$f":"ROUND('2011 Census Profile'!K46,1)","v":0},{"$f":"'2011 Census Profile'!L46","v":0},{"$f":"ROUND('2011 Census Profile'!M46,1)","v":0}]
["45-49",null,{"$f":"'2011 Census Profile'!C53","v":0},{"$f":"ROUND('2011 Census Profile'!D53,1)","v":0},{"$f":"'2011 Census Profile'!E53","v":0},{"$f":"ROUND('2011 Census Profile'!F53,1)","v":0},null,"Lone Parent: \nWith Dependent Children",null,{"$f":"'2011 Census Profile'!J47","v":0},{"$f":"ROUND('2011 Census Profile'!K47,1)","v":0},{"$f":"'2011 Census Profile'!L47","v":0},{"$f":"ROUND('2011 Census Profile'!M47,1)","v":0}]
["50-54",null,{"$f":"'2011 Census Profile'!C54","v":0},{"$f":"ROUND('2011 Census Profile'!D54,1)","v":0},{"$f":"'2011 Census Profile'!E54","v":0},{"$f":"ROUND('2011 Census Profile'!F54,1)","v":0},null,"Lone Parent: \nAll Children Non-Dependent",null,{"$f":"'2011 Census Profile'!J48","v":0},{"$f":"ROUND('2011 Census Profile'!K48,1)","v":0},{"$f":"'2011 Census Profile'!L48","v":0},{"$f":"ROUND('2011 Census Profile'!M48,1)","v":0}]
["55-59",null,{"$f":"'2011 Census Profile'!C56","v":0},{"$f":"ROUND('2011 Census Profile'!D56,1)","v":0},{"$f":"'2011 Census Profile'!E56","v":0},{"$f":"ROUND('2011 Census Profile'!F56,1)","v":0},null,"Other: With Dependent Children",null,{"$f":"'2011 Census Profile'!J49","v":0},{"$f":"ROUND('2011 Census Profile'!K49,1)","v":0},{"$f":"'2011 Census Profile'!L49","v":0},{"$f":"ROUND('2011 Census Profile'!M49,1)","v":0}]
["60-64",null,{"$f":"'2011 Census Profile'!C58","v":0},{"$f":"ROUND('2011 Census Profile'!D58,1)","v":0},{"$f":"'2011 Census Profile'!E58","v":0},{"$f":"ROUND('2011 Census Profile'!F58,1)","v":0},null,"Other: All Full-Time Students",null,{"$f":"'2011 Census Profile'!J50","v":0},{"$f":"ROUND('2011 Census Profile'!K50,1)","v":0},{"$f":"'2011 Census Profile'!L50","v":0},{"$f":"ROUND('2011 Census Profile'!M50,1)","v":0}]
["65-69",null,{"$f":"'2011 Census Profile'!C59","v":0},{"$f":"ROUND('2011 Census Profile'!D59,1)","v":0},{"$f":"'2011 Census Profile'!E59","v":0},{"$f":"ROUND('2011 Census Profile'!F59,1)","v":0},null,"Other: All Aged 65+",null,{"$f":"'2011 Census Profile'!J51","v":0},{"$f":"ROUND('2011 Census Profile'!K51,1)","v":0},{"$f":"'2011 Census Profile'!L51","v":0},{"$f":"ROUND('2011 Census Profile'!M51,1)","v":0}]
["70-74",null,{"$f":"'2011 Census Profile'!C60","v":0},{"$f":"ROUND('2011 Census Profile'!D60,1)","v":0},{"$f":"'2011 Census Profile'!E60","v":0},{"$f":"ROUND('2011 Census Profile'!F60,1)","v":0},null,"Other",null,{"$f":"'2011 Census Profile'!J52","v":0},{"$f":"ROUND('2011 Census Profile'!K52,1)","v":0},{"$f":"'2011 Census Profile'!L52","v":0},{"$f":"ROUND('2011 Census Profile'!M52,1)","v":0}]
["75-79",null,{"$f":"'2011 Census Profile'!C61","v":0},{"$f":"ROUND('2011 Census Profile'!D61,1)","v":0},{"$f":"'2011 Census Profile'!E61","v":0},{"$f":"ROUND('2011 Census Profile'!F61,1)","v":0},null,"Total",null,{"$f":"'2011 Census Profile'!J53","v":0},null,{"$f":"'2011 Census Profile'!L53","v":0}]
["80-84",null,{"$f":"'2011 Census Profile'!C62","v":0},{"$f":"ROUND('2011 Census Profile'!D62,1)","v":0},{"$f":"'2011 Census Profile'!E62","v":0},{"$f":"ROUND('2011 Census Profile'!F62,1)","v":0},null,null,null,{"$f":"J53-SUM(J38:J52)","v":0},{"$f":"100-SUM(K38:K52)","v":100},{"$f":"L53-SUM(L38:L52)","v":0},{"$f":"100-SUM(M38:M52)","v":100}]
["85-89",null,{"$f":"'2011 Census Profile'!C63","v":0},{"$f":"ROUND('2011 Census Profile'!D63,1)","v":0},{"$f":"'2011 Census Profile'!E63","v":0},{"$f":"ROUND('2011 Census Profile'!F63,1)","v":0}]
["90+",null,{"$f":"'2011 Census Profile'!C64","v":0},{"$f":"ROUND('2011 Census Profile'!D64,1)","v":0},{"$f":"'2011 Census Profile'!E64","v":0},{"$f":"ROUND('2011 Census Profile'!F64,1)","v":0},null,"Lone Parent Households With Dependent Children (Source: Table KS107EW)"]
["Total",null,{"$f":"'2011 Census Profile'!C65","v":0},null,{"$f":"'2011 Census Profile'!E65","v":0}]
[null,null,{"$f":"C57-SUM(C38:C56)","v":0},{"$f":"100-SUM(D38:D56)","v":{"$error":"#DIV/0!"}},{"$f":"E57-SUM(E38:E56)","v":0},{"$f":"100-SUM(F38:F56)","v":{"$error":"#DIV/0!"}},null,"Lone Parent Households With Lone Parent Aged 16-74",null,"Area No.","%","Compare No.","%"]
[null,null,null,null,null,null,null,"Male Lone Parent: In Part-Time Employment",null,{"$f":"'2011 Census Profile'!J59","v":0},{"$f":"ROUND('2011 Census Profile'!K59,1)","v":0},{"$f":"'2011 Census Profile'!L59","v":0},{"$f":"ROUND('2011 Census Profile'!M59,1)","v":0}]
[null,null,null,null,null,null,null,"Male Lone Parent: In Full-Time Employment",null,{"$f":"'2011 Census Profile'!J60","v":0},{"$f":"ROUND('2011 Census Profile'!K60,1)","v":0},{"$f":"'2011 Census Profile'!L60","v":0},{"$f":"ROUND('2011 Census Profile'!M60,1)","v":0}]
[null,null,null,null,null,null,null,"Male Lone Parent: Not in Employment",null,{"$f":"'2011 Census Profile'!J61","v":0},{"$f":"ROUND('2011 Census Profile'!K61,1)","v":0},{"$f":"'2011 Census Profile'!L61","v":0},{"$f":"ROUND('2011 Census Profile'!M61,1)","v":0}]
[null,null,null,null,null,null,null,"Female Lone Parent: In Part-Time Employment",null,{"$f":"'2011 Census Profile'!J62","v":0},{"$f":"ROUND('2011 Census Profile'!K62,1)","v":0},{"$f":"'2011 Census Profile'!L62","v":0},{"$f":"ROUND('2011 Census Profile'!M62,1)","v":0}]
[null,null,null,null,null,null,null,"Female Lone Parent: In Full-Time Employment",null,{"$f":"'2011 Census Profile'!J63","v":0},{"$f":"ROUND('2011 Census Profile'!K63,1)","v":0},{"$f":"'2011 Census Profile'!L63","v":0},{"$f":"ROUND('2011 Census Profile'!M63,1)","v":0}]
[null,null,null,null,null,null,null,"Female Lone Parent: Not in Employment",null,{"$f":"'2011 Census Profile'!J64","v":0},{"$f":"ROUND('2011 Census Profile'!K64,1)","v":0},{"$f":"'2011 Census Profile'!L64","v":0},{"$f":"ROUND('2011 Census Profile'!M64,1)","v":0}]
[null,null,null,null,null,null,null,"Total",null,{"$f":"'2011 Census Profile'!J65","v":0},null,{"$f":"'2011 Census Profile'!L65","v":0}]
[null,null,null,null,null,null,null,null,null,{"$f":"J65-SUM(J59:J64)","v":0},{"$f":"100-SUM(K59:K64)","v":100},{"$f":"L65-SUM(L59:L64)","v":0},{"$f":"100-SUM(M59:M64)","v":100}]
[]
["Ethnicity, Religion, County of Birth"]
[]
["Ethnic Group (Source: Table KS201EW)",null,null,null,null,null,null,"Country Of Birth (Source: Table KS204EW)"]
[]
["All Residents",null,"Area No.","%","Compare No.","%",null,"All Residents",null,"Area No.","%","Compare No.","%"]
["White English / Welsh / \nScottish/ Northern Irish/ \nBritish",null,{"$f":"'2011 Census Profile'!C73","v":0},{"$f":"ROUND('2011 Census Profile'!D73,1)","v":0},{"$f":"'2011 Census Profile'!E73","v":0},{"$f":"ROUND('2011 Census Profile'!F73,1)","v":0},null,"England",null,{"$f":"'2011 Census Profile'!J73","v":0},{"$f":"ROUND('2011 Census Profile'!K73,1)","v":0},{"$f":"'2011 Census Profile'!L73","v":0},{"$f":"ROUND('2011 Census Profile'!M73,1)","v":0}]
["White Irish",null,{"$f":"'2011 Census Profile'!C74","v":0},{"$f":"ROUND('2011 Census Profile'!D74,1)","v":0},{"$f":"'2011 Census Profile'!E74","v":0},{"$f":"ROUND('2011 Census Profile'!F74,1)","v":0},null,"Wales",null,{"$f":"'2011 Census Profile'!J74","v":0},{"$f":"ROUND('2011 Census Profile'!K74,1)","v":0},{"$f":"'2011 Census Profile'!L74","v":0},{"$f":"ROUND('2011 Census Profile'!M74,1)","v":0}]
["White Gypsy or \nIrish Traveller",null,{"$f":"'2011 Census Profile'!C75","v":0},{"$f":"ROUND('2011 Census Profile'!D75,1)","v":0},{"$f":"'2011 Census Profile'!E75","v":0},{"$f":"ROUND('2011 Census Profile'!F75,1)","v":0},null,"Scotland",null,{"$f":"'2011 Census Profile'!J75","v":0},{"$f":"ROUND('2011 Census Profile'!K75,1)","v":0},{"$f":"'2011 Census Profile'!L75","v":0},{"$f":"ROUND('2011 Census Profile'!M75,1)","v":0}]
["Other White",null,{"$f":"'2011 Census Profile'!C76","v":0},{"$f":"ROUND('2011 Census Profile'!D76,1)","v":0},{"$f":"'2011 Census Profile'!E76","v":0},{"$f":"ROUND('2011 Census Profile'!F76,1)","v":0},null,"Northern Ireland",null,{"$f":"'2011 Census Profile'!J76","v":0},{"$f":"ROUND('2011 Census Profile'!K76,1)","v":0},{"$f":"'2011 Census Profile'!L76","v":0},{"$f":"ROUND('2011 Census Profile'!M76,1)","v":0}]
["White & Black Caribbean",null,{"$f":"'2011 Census Profile'!C77","v":0},{"$f":"ROUND('2011 Census Profile'!D77,1)","v":0},{"$f":"'2011 Census Profile'!E77","v":0},{"$f":"ROUND('2011 Census Profile'!F77,1)","v":0},null,"United Kingdom Not Otherwise Specified",null,{"$f":"'2011 Census Profile'!J77","v":0},{"$f":"ROUND('2011 Census Profile'!K77,1)","v":0},{"$f":"'2011 Census Profile'!L77","v":0},{"$f":"ROUND('2011 Census Profile'!M77,1)","v":0}]
["White & Black African",null,{"$f":"'2011 Census Profile'!C78","v":0},{"$f":"ROUND('2011 Census Profile'!D78,1)","v":0},{"$f":"'2011 Census Profile'!E78","v":0},{"$f":"ROUND('2011 Census Profile'!F78,1)","v":0},null,"Ireland",null,{"$f":"'2011 Census Profile'!J78","v":0},{"$f":"ROUND('2011 Census Profile'!K78,1)","v":0},{"$f":"'2011 Census Profile'!L78","v":0},{"$f":"ROUND('2011 Census Profile'!M78,1)","v":0}]
["White & Asian",null,{"$f":"'2011 Census Profile'!C79","v":0},{"$f":"ROUND('2011 Census Profile'!D79,1)","v":0},{"$f":"'2011 Census Profile'!E79","v":0},{"$f":"ROUND('2011 Census Profile'!F79,1)","v":0},null,"Other EU: Member Countries in March 2001",null,{"$f":"'2011 Census Profile'!J79","v":0},{"$f":"ROUND('2011 Census Profile'!K79,1)","v":0},{"$f":"'2011 Census Profile'!L79","v":0},{"$f":"ROUND('2011 Census Profile'!M79,1)","v":0}]
["Other Mixed \nEthnic Group",null,{"$f":"'2011 Census Profile'!C80","v":0},{"$f":"ROUND('2011 Census Profile'!D80,1)","v":0},{"$f":"'2011 Census Profile'!E80","v":0},{"$f":"ROUND('2011 Census Profile'!F80,1)","v":0},null,"Other EU: Accession Countries April 2001 to March 2011",null,{"$f":"'2011 Census Profile'!J80","v":0},{"$f":"ROUND('2011 Census Profile'!K80,1)","v":0},{"$f":"'2011 Census Profile'!L80","v":0},{"$f":"ROUND('2011 Census Profile'!M80,1)","v":0}]
["Indian",null,{"$f":"'2011 Census Profile'!C81","v":0},{"$f":"ROUND('2011 Census Profile'!D81,1)","v":0},{"$f":"'2011 Census Profile'!E81","v":0},{"$f":"ROUND('2011 Census Profile'!F81,1)","v":0},null,"Other Countries",null,{"$f":"'2011 Census Profile'!J81","v":0},{"$f":"ROUND('2011 Census Profile'!K81,1)","v":0},{"$f":"'2011 Census Profile'!L81","v":0},{"$f":"ROUND('2011 Census Profile'!M81,1)","v":0}]
["Pakistani",null,{"$f":"'2011 Census Profile'!C82","v":0},{"$f":"ROUND('2011 Census Profile'!D82,1)","v":0},{"$f":"'2011 Census Profile'!E82","v":0},{"$f":"ROUND('2011 Census Profile'!F82,1)","v":0},null,"Total",null,{"$f":"'2011 Census Profile'!J82","v":0},null,{"$f":"'2011 Census Profile'!L82","v":0}]
["Bangladeshi",null,{"$f":"'2011 Census Profile'!C83","v":0},{"$f":"ROUND('2011 Census Profile'!D83,1)","v":0},{"$f":"'2011 Census Profile'!E83","v":0},{"$f":"ROUND('2011 Census Profile'!F83,1)","v":0},null,null,null,{"$f":"J82-SUM(J73:J81)","v":0},{"$f":"100-SUM(K73:K81)","v":100},{"$f":"L82-SUM(L73:L81)","v":0},{"$f":"100-SUM(M73:M81)","v":100}]
["Chinese",null,{"$f":"'2011 Census Profile'!C85","v":0},{"$f":"ROUND('2011 Census Profile'!D85,1)","v":0},{"$f":"'2011 Census Profile'!E85","v":0},{"$f":"ROUND('2011 Census Profile'!F85,1)","v":0}]
["Other Asian",null,{"$f":"'2011 Census Profile'!C87","v":0},{"$f":"ROUND('2011 Census Profile'!D87,1)","v":0},{"$f":"'2011 Census Profile'!E87","v":0},{"$f":"ROUND('2011 Census Profile'!F87,1)","v":0},null,"Length Of Residence In The UK (Source: Table QS803EW)"]
["Black African",null,{"$f":"'2011 Census Profile'!C88","v":0},{"$f":"ROUND('2011 Census Profile'!D88,1)","v":0},{"$f":"'2011 Census Profile'!E88","v":0},{"$f":"ROUND('2011 Census Profile'!F88,1)","v":0}]
["Black Caribbean",null,{"$f":"'2011 Census Profile'!C89","v":0},{"$f":"ROUND('2011 Census Profile'!D89,1)","v":0},{"$f":"'2011 Census Profile'!E89","v":0},{"$f":"ROUND('2011 Census Profile'!F89,1)","v":0},null,"All Residents",null,"Area No.","%","Compare No.","%"]
["Other Black",null,{"$f":"'2011 Census Profile'!C90","v":0},{"$f":"ROUND('2011 Census Profile'!D90,1)","v":0},{"$f":"'2011 Census Profile'!E90","v":0},{"$f":"ROUND('2011 Census Profile'!F90,1)","v":0},null,"Born in the UK",null,{"$f":"'2011 Census Profile'!J88","v":0},{"$f":"ROUND('2011 Census Profile'!K88,1)","v":0},{"$f":"'2011 Census Profile'!L88","v":0},{"$f":"ROUND('2011 Census Profile'!M88,1)","v":0}]
["Arab",null,{"$f":"'2011 Census Profile'!C91","v":0},{"$f":"ROUND('2011 Census Profile'!D91,1)","v":0},{"$f":"'2011 Census Profile'!E91","v":0},{"$f":"ROUND('2011 Census Profile'!F91,1)","v":0},null,"Resident in UK: Less Than 2 Years",null,{"$f":"'2011 Census Profile'!J89","v":0},{"$f":"ROUND('2011 Census Profile'!K89,1)","v":0},{"$f":"'2011 Census Profile'!L89","v":0},{"$f":"ROUND('2011 Census Profile'!M89,1)","v":0}]
["Other Ethnic Group",null,{"$f":"'2011 Census Profile'!C92","v":0},{"$f":"ROUND('2011 Census Profile'!D92,1)","v":0},{"$f":"'2011 Census Profile'!E92","v":0},{"$f":"ROUND('2011 Census Profile'!F92,1)","v":0},null,"Resident in UK: 2 Years or More But Less Than 5 Years",null,{"$f":"'2011 Census Profile'!J90","v":0},{"$f":"ROUND('2011 Census Profile'!K90,1)","v":0},{"$f":"'2011 Census Profile'!L90","v":0},{"$f":"ROUND('2011 Census Profile'!M90,1)","v":0}]
["Total",null,{"$f":"'2011 Census Profile'!C93","v":0},null,{"$f":"'2011 Census Profile'!E93","v":0},null,null,"Resident in UK: 5 Years or More But Less Than 10 Years",null,{"$f":"'2011 Census Profile'!J91","v":0},{"$f":"ROUND('2011 Census Profile'!K91,1)","v":0},{"$f":"'2011 Census Profile'!L91","v":0},{"$f":"ROUND('2011 Census Profile'!M91,1)","v":0}]
[null,null,{"$f":"C91-SUM(C73:C90)","v":0},{"$f":"100-SUM(D73:D90)","v":100},{"$f":"E91-SUM(E73:E90)","v":0},{"$f":"100-SUM(F73:F90)","v":100},null,"Resident in UK: 10 Years or More",null,{"$f":"'2011 Census Profile'!J92","v":0},{"$f":"ROUND('2011 Census Profile'!K92,1)","v":0},{"$f":"'2011 Census Profile'!L92","v":0},{"$f":"ROUND('2011 Census Profile'!M92,1)","v":0}]
[null,null,null,null,null,null,null,"Total",null,{"$f":"'2011 Census Profile'!J93","v":0},null,{"$f":"'2011 Census Profile'!L93","v":0}]
[null,null,null,null,null,null,null,null,null,{"$f":"J93-SUM(J88:J92)","v":0},{"$f":"100-SUM(K88:K92)","v":100},{"$f":"L93-SUM(L88:L92)","v":0},{"$f":"100-SUM(M88:M92)","v":100}]
["Religion (Source: Table KS209EW)",null,null,null,null,null,null,"Passports Held (Source: Table KS205EW)"]
[]
["All Residents",null,"Area No.","%","Compare No.","%",null,"All Residents",null,"Area No.","%","Compare No.","%"]
["Christian",null,{"$f":"'2011 Census Profile'!C98","v":0},{"$f":"ROUND('2011 Census Profile'!D98,1)","v":0},{"$f":"'2011 Census Profile'!E98","v":0},{"$f":"ROUND('2011 Census Profile'!F98,1)","v":0},null,"No Passport",null,{"$f":"'2011 Census Profile'!J98","v":0},{"$f":"ROUND('2011 Census Profile'!K98,1)","v":0},{"$f":"'2011 Census Profile'!L98","v":0},{"$f":"ROUND('2011 Census Profile'!M98,1)","v":0}]
["Buddhist",null,{"$f":"'2011 Census Profile'!C99","v":0},{"$f":"ROUND('2011 Census Profile'!D99,1)","v":0},{"$f":"'2011 Census Profile'!E99","v":0},{"$f":"ROUND('2011 Census Profile'!F99,1)","v":0},null,"United Kingdom",null,{"$f":"'2011 Census Profile'!J99","v":0},{"$f":"ROUND('2011 Census Profile'!K99,1)","v":0},{"$f":"'2011 Census Profile'!L99","v":0},{"$f":"ROUND('2011 Census Profile'!M99,1)","v":0}]
["Hindu",null,{"$f":"'2011 Census Profile'!C100","v":0},{"$f":"ROUND('2011 Census Profile'!D100,1)","v":0},{"$f":"'2011 Census Profile'!E100","v":0},{"$f":"ROUND('2011 Census Profile'!F100,1)","v":0},null,"Republic of Ireland",null,{"$f":"'2011 Census Profile'!J100","v":0},{"$f":"ROUND('2011 Census Profile'!K100,1)","v":0},{"$f":"'2011 Census Profile'!L100","v":0},{"$f":"ROUND('2011 Census Profile'!M100,1)","v":0}]
["Jewish",null,{"$f":"'2011 Census Profile'!C101","v":0},{"$f":"ROUND('2011 Census Profile'!D101,1)","v":0},{"$f":"'2011 Census Profile'!E101","v":0},{"$f":"ROUND('2011 Census Profile'!F101,1)","v":0},null,"Other Europe: EU Countries",null,{"$f":"'2011 Census Profile'!J101","v":0},{"$f":"ROUND('2011 Census Profile'!K101,1)","v":0},{"$f":"'2011 Census Profile'!L101","v":0},{"$f":"ROUND('2011 Census Profile'!M101,1)","v":0}]
["Muslim",null,{"$f":"'2011 Census Profile'!C102","v":0},{"$f":"ROUND('2011 Census Profile'!D102,1)","v":0},{"$f":"'2011 Census Profile'!E102","v":0},{"$f":"ROUND('2011 Census Profile'!F102,1)","v":0},null,"Other Europe: Non EU Countries",null,{"$f":"'2011 Census Profile'!J102","v":0},{"$f":"ROUND('2011 Census Profile'!K102,1)","v":0},{"$f":"'2011 Census Profile'!L102","v":0},{"$f":"ROUND('2011 Census Profile'!M102,1)","v":0}]
["Sikh",null,{"$f":"'2011 Census Profile'!C103","v":0},{"$f":"ROUND('2011 Census Profile'!D103,1)","v":0},{"$f":"'2011 Census Profile'!E103","v":0},{"$f":"ROUND('2011 Census Profile'!F103,1)","v":0},null,"Africa",null,{"$f":"'2011 Census Profile'!J103","v":0},{"$f":"ROUND('2011 Census Profile'!K103,1)","v":0},{"$f":"'2011 Census Profile'!L103","v":0},{"$f":"ROUND('2011 Census Profile'!M103,1)","v":0}]
["Other Religion",null,{"$f":"'2011 Census Profile'!C104","v":0},{"$f":"ROUND('2011 Census Profile'!D104,1)","v":0},{"$f":"'2011 Census Profile'!E104","v":0},{"$f":"ROUND('2011 Census Profile'!F104,1)","v":0},null,"Middle East & Asia",null,{"$f":"'2011 Census Profile'!J104","v":0},{"$f":"ROUND('2011 Census Profile'!K104,1)","v":0},{"$f":"'2011 Census Profile'!L104","v":0},{"$f":"ROUND('2011 Census Profile'!M104,1)","v":0}]
["No Religion",null,{"$f":"'2011 Census Profile'!C105","v":0},{"$f":"ROUND('2011 Census Profile'!D105,1)","v":0},{"$f":"'2011 Census Profile'!E105","v":0},{"$f":"ROUND('2011 Census Profile'!F105,1)","v":0},null,"North America & the Caribbean",null,{"$f":"'2011 Census Profile'!J105","v":0},{"$f":"ROUND('2011 Census Profile'!K105,1)","v":0},{"$f":"'2011 Census Profile'!L105","v":0},{"$f":"ROUND('2011 Census Profile'!M105,1)","v":0}]
["Religion Not Stated",null,{"$f":"'2011 Census Profile'!C106","v":0},{"$f":"ROUND('2011 Census Profile'!D106,1)","v":0},{"$f":"'2011 Census Profile'!E106","v":0},{"$f":"ROUND('2011 Census Profile'!F106,1)","v":0},null,"Central America",null,{"$f":"'2011 Census Profile'!J106","v":0},{"$f":"ROUND('2011 Census Profile'!K106,1)","v":0},{"$f":"'2011 Census Profile'!L106","v":0},{"$f":"ROUND('2011 Census Profile'!M106,1)","v":0}]
["Total",null,{"$f":"'2011 Census Profile'!C107","v":0},null,{"$f":"'2011 Census Profile'!E107","v":0},null,null,"South America",null,{"$f":"'2011 Census Profile'!J107","v":0},{"$f":"ROUND('2011 Census Profile'!K107,1)","v":0},{"$f":"'2011 Census Profile'!L107","v":0},{"$f":"ROUND('2011 Census Profile'!M107,1)","v":0}]
[null,null,{"$f":"C107-SUM(C98:C106)","v":0},{"$f":"100-SUM(D98:D106)","v":100},{"$f":"E107-SUM(E98:E106)","v":0},{"$f":"100-SUM(F98:F106)","v":100},null,"Antarctica & Oceania",null,{"$f":"'2011 Census Profile'!J108","v":0},{"$f":"ROUND('2011 Census Profile'!K108,1)","v":0},{"$f":"'2011 Census Profile'!L108","v":0},{"$f":"ROUND('2011 Census Profile'!M108,1)","v":0}]
[null,null,null,null,null,null,null,"British Overseas Territories",null,{"$f":"'2011 Census Profile'!J109","v":0},{"$f":"ROUND('2011 Census Profile'!K109,1)","v":0},{"$f":"'2011 Census Profile'!L109","v":0},{"$f":"ROUND('2011 Census Profile'!M109,1)","v":0}]
[null,null,null,null,null,null,null,"Total (Total Number of Residents)",null,{"$f":"'2011 Census Profile'!J110","v":0},null,{"$f":"'2011 Census Profile'!L110","v":0}]
[null,null,null,null,null,null,null,null,null,{"$f":"J110-SUM(J98:J109)","v":0},{"$f":"100-SUM(K98:K109)","v":100},{"$f":"L110-SUM(L98:L109)","v":0},{"$f":"100-SUM(M98:M109)","v":100}]
[]
["Health"]
[]
["General Health (Source: Table KS301EW)",null,null,null,null,null,null,"Provision Of Unpaid Care (Source: Table KS301EW)"]
[]
["All Residents",null,"Area No.","%","Compare No.","%",null,"All Residents",null,"Area No.","%","Compare No.","%"]
["Very Good Health",null,{"$f":"'2011 Census Profile'!C118","v":0},{"$f":"ROUND('2011 Census Profile'!D118,1)","v":0},{"$f":"'2011 Census Profile'!E118","v":0},{"$f":"ROUND('2011 Census Profile'!F118,1)","v":0},null,"Provides No Unpaid Care",null,{"$f":"'2011 Census Profile'!J118","v":0},{"$f":"ROUND('2011 Census Profile'!K118,1)","v":0},{"$f":"'2011 Census Profile'!L118","v":0},{"$f":"ROUND('2011 Census Profile'!M118,1)","v":0}]
["Good Health",null,{"$f":"'2011 Census Profile'!C119","v":0},{"$f":"ROUND('2011 Census Profile'!D119,1)","v":0},{"$f":"'2011 Census Profile'!E119","v":0},{"$f":"ROUND('2011 Census Profile'!F119,1)","v":0},null,"Provides 1-19 Hours Unpaid Care a Week",null,{"$f":"'2011 Census Profile'!J119","v":0},{"$f":"ROUND('2011 Census Profile'!K119,1)","v":0},{"$f":"'2011 Census Profile'!L119","v":0},{"$f":"ROUND('2011 Census Profile'!M119,1)","v":0}]
["Fair Health",null,{"$f":"'2011 Census Profile'!C120","v":0},{"$f":"ROUND('2011 Census Profile'!D120,1)","v":0},{"$f":"'2011 Census Profile'!E120","v":0},{"$f":"ROUND('2011 Census Profile'!F120,1)","v":0},null,"Provides 20-49 Hours Unpaid Care a Week",null,{"$f":"'2011 Census Profile'!J120","v":0},{"$f":"ROUND('2011 Census Profile'!K120,1)","v":0},{"$f":"'2011 Census Profile'!L120","v":0},{"$f":"ROUND('2011 Census Profile'!M120,1)","v":0}]
["Bad Health",null,{"$f":"'2011 Census Profile'!C121","v":0},{"$f":"ROUND('2011 Census Profile'!D121,1)","v":0},{"$f":"'2011 Census Profile'!E121","v":0},{"$f":"ROUND('2011 Census Profile'!F121,1)","v":0},null,"Provides 50+ Hours Unpaid Care a Week",null,{"$f":"'2011 Census Profile'!J121","v":0},{"$f":"ROUND('2011 Census Profile'!K121,1)","v":0},{"$f":"'2011 Census Profile'!L121","v":0},{"$f":"ROUND('2011 Census Profile'!M121,1)","v":0}]
["Very Bad Health",null,{"$f":"'2011 Census Profile'!C122","v":0},{"$f":"ROUND('2011 Census Profile'!D122,1)","v":0},{"$f":"'2011 Census Profile'!E122","v":0},{"$f":"ROUND('2011 Census Profile'!F122,1)","v":0},null,"Total",null,{"$f":"'2011 Census Profile'!J122","v":0},null,{"$f":"'2011 Census Profile'!L122","v":0}]
["Total",null,{"$f":"'2011 Census Profile'!C123","v":0},null,{"$f":"'2011 Census Profile'!E123","v":0},null,null,null,null,{"$f":"J122-SUM(J118:J121)","v":0},{"$f":"100-SUM(K118:K121)","v":100},{"$f":"L122-SUM(L118:L121)","v":0},{"$f":"100-SUM(M118:M121)","v":100}]
[null,null,{"$f":"C123-SUM(C118:C122)","v":0},{"$f":"100-SUM(D118:D122)","v":100},{"$f":"E123-SUM(E118:E122)","v":0},{"$f":"100-SUM(F118:F122)","v":100}]
["Long-Term Health Problem / Disability (Source: Table KS301EW)",null,null,null,null,null,null,"Long-Term Health Problem / Disability, Aged 16-64 (Source: Table KS301EW)"]
[]
["All Residents",null,"Area No.","%","Compare No.","%",null,"All Residents Aged 16-64",null,"Area No.","%","Compare No.","%"]
["Day-to-day Activities Limited a Lot",null,{"$f":"'2011 Census Profile'!C128","v":0},{"$f":"ROUND('2011 Census Profile'!D128,1)","v":0},{"$f":"'2011 Census Profile'!E128","v":0},{"$f":"ROUND('2011 Census Profile'!F128,1)","v":0},null,"Day-to-day Activities Limited a Lot",null,{"$f":"'2011 Census Profile'!J128","v":0},{"$f":"ROUND('2011 Census Profile'!K128,1)","v":0},{"$f":"'2011 Census Profile'!L128","v":0},{"$f":"ROUND('2011 Census Profile'!M128,1)","v":0}]
["Day-to-day Activities Limited a Little",null,{"$f":"'2011 Census Profile'!C129","v":0},{"$f":"ROUND('2011 Census Profile'!D129,1)","v":0},{"$f":"'2011 Census Profile'!E129","v":0},{"$f":"ROUND('2011 Census Profile'!F129,1)","v":0},null,"Day-to-day Activities Limited a Little",null,{"$f":"'2011 Census Profile'!J129","v":0},{"$f":"ROUND('2011 Census Profile'!K129,1)","v":0},{"$f":"'2011 Census Profile'!L129","v":0},{"$f":"ROUND('2011 Census Profile'!M129,1)","v":0}]
["Day-to-day Activities Not Limited",null,{"$f":"'2011 Census Profile'!C130","v":0},{"$f":"ROUND('2011 Census Profile'!D130,1)","v":0},{"$f":"'2011 Census Profile'!E130","v":0},{"$f":"ROUND('2011 Census Profile'!F130,1)","v":0},null,"Day-to-day Activities Not Limited",null,{"$f":"'2011 Census Profile'!J130","v":0},{"$f":"ROUND('2011 Census Profile'!K130,1)","v":0},{"$f":"'2011 Census Profile'!L130","v":0},{"$f":"ROUND('2011 Census Profile'!M130,1)","v":0}]
["Total",null,{"$f":"'2011 Census Profile'!C131","v":0},null,{"$f":"'2011 Census Profile'!E131","v":0},null,null,"Total",null,{"$f":"'2011 Census Profile'!J131","v":0},null,{"$f":"'2011 Census Profile'!L131","v":0}]
[null,null,{"$f":"C131-SUM(C128:C130)","v":0},{"$f":"100-SUM(D128:D130)","v":100},{"$f":"E131-SUM(E128:E130)","v":0},{"$f":"100-SUM(F128:F130)","v":100},null,null,null,{"$f":"J131-SUM(J128:J130)","v":0},{"$f":"100-SUM(K128:K130)","v":100},{"$f":"L131-SUM(L128:L130)","v":0},{"$f":"100-SUM(M128:M130)","v":100}]
["Qualifications & Languages"]
[]
["Highest Level of Qualification (Source: Table KS501EW)",null,null,null,null,null,null,"Household Language (Source: Table KS206EW)"]
[]
["Residents Aged 16+",null,"Area No.","%","Compare No.","%",null,"Households That Have:",null,"Area No.","%","Compare No.","%"]
["No Qualifications",null,{"$f":"'2011 Census Profile'!C138","v":0},{"$f":"ROUND('2011 Census Profile'!D138,1)","v":0},{"$f":"'2011 Census Profile'!E138","v":0},{"$f":"ROUND('2011 Census Profile'!F138,1)","v":0},null,"All People Aged 16+ in Household With English as a Main Language",null,{"$f":"'2011 Census Profile'!J139","v":0},{"$f":"ROUND('2011 Census Profile'!K139,1)","v":0},{"$f":"'2011 Census Profile'!L139","v":0},{"$f":"ROUND('2011 Census Profile'!M139,1)","v":0}]
["Level 1",null,{"$f":"'2011 Census Profile'!C139","v":0},{"$f":"ROUND('2011 Census Profile'!D139,1)","v":0},{"$f":"'2011 Census Profile'!E139","v":0},{"$f":"ROUND('2011 Census Profile'!F139,1)","v":0},null,"At Least One But Not All People Aged 16+ in Household With English as a Main Language",null,{"$f":"'2011 Census Profile'!J141","v":0},{"$f":"ROUND('2011 Census Profile'!K141,1)","v":0},{"$f":"'2011 Census Profile'!L141","v":0},{"$f":"ROUND('2011 Census Profile'!M141,1)","v":0}]
["Level 2",null,{"$f":"'2011 Census Profile'!C140","v":0},{"$f":"ROUND('2011 Census Profile'!D140,1)","v":0},{"$f":"'2011 Census Profile'!E140","v":0},{"$f":"ROUND('2011 Census Profile'!F140,1)","v":0},null,"No People Aged 16+ But at Least One Person Aged 3-15 in Household With English as a Main Language",null,{"$f":"'2011 Census Profile'!J143","v":0},{"$f":"ROUND('2011 Census Profile'!K143,1)","v":0},{"$f":"'2011 Census Profile'!L143","v":0},{"$f":"ROUND('2011 Census Profile'!M143,1)","v":0}]
["Apprenticeship",null,{"$f":"'2011 Census Profile'!C141","v":0},{"$f":"ROUND('2011 Census Profile'!D141,1)","v":0},{"$f":"'2011 Census Profile'!E141","v":0},{"$f":"ROUND('2011 Census Profile'!F141,1)","v":0},null,"No People in Household With English as a Main Language",null,{"$f":"'2011 Census Profile'!J144","v":0},{"$f":"ROUND('2011 Census Profile'!K144,1)","v":0},{"$f":"'2011 Census Profile'!L144","v":0},{"$f":"ROUND('2011 Census Profile'!M144,1)","v":0}]
["Level 3",null,{"$f":"'2011 Census Profile'!C142","v":0},{"$f":"ROUND('2011 Census Profile'!D142,1)","v":0},{"$f":"'2011 Census Profile'!E142","v":0},{"$f":"ROUND('2011 Census Profile'!F142,1)","v":0},null,"Total",null,{"$f":"'2011 Census Profile'!J145","v":0},null,{"$f":"'2011 Census Profile'!L145","v":0}]
["Level 4 and above",null,{"$f":"'2011 Census Profile'!C143","v":0},{"$f":"ROUND('2011 Census Profile'!D143,1)","v":0},{"$f":"'2011 Census Profile'!E143","v":0},{"$f":"ROUND('2011 Census Profile'!F143,1)","v":0},null,null,null,{"$f":"J142-SUM(J138:J141)","v":0},{"$f":"100-SUM(K138:K141)","v":100},{"$f":"L142-SUM(L138:L141)","v":0},{"$f":"100-SUM(M138:M141)","v":100}]
["Other Qualifications",null,{"$f":"'2011 Census Profile'!C144","v":0},{"$f":"ROUND('2011 Census Profile'!D144,1)","v":0},{"$f":"'2011 Census Profile'!E144","v":0},{"$f":"ROUND('2011 Census Profile'!F144,1)","v":0}]
["Total",null,{"$f":"'2011 Census Profile'!C145","v":0},null,{"$f":"'2011 Census Profile'!E145","v":0}]
[null,null,{"$f":"C145-SUM(C138:C144)","v":0},{"$f":"100-SUM(D138:D144)","v":100},{"$f":"E145-SUM(E138:E144)","v":0},{"$f":"100-SUM(F138:F144)","v":100}]
[null,null,null,null,null,null,null,"Proficiency In Spoken English (Source: Table QS205EW)"]
[]
[null,null,null,null,null,null,null,"All Residents Aged 3+",null,"Area No.","%","Compare No.","%"]
[null,null,null,null,null,null,null,"Main Language English",null,{"$f":"'2011 Census Profile'!J150","v":0},{"$f":"ROUND('2011 Census Profile'!K150,1)","v":0},{"$f":"'2011 Census Profile'!L150","v":0},{"$f":"ROUND('2011 Census Profile'!M150,1)","v":0}]
[null,null,null,null,null,null,null,"Main Language Not English: Can Speak English Very Well",null,{"$f":"'2011 Census Profile'!J151","v":0},{"$f":"ROUND('2011 Census Profile'!K151,1)","v":0},{"$f":"'2011 Census Profile'!L151","v":0},{"$f":"ROUND('2011 Census Profile'!M151,1)","v":0}]
[null,null,null,null,null,null,null,"Main Language Not English: Can Speak English Well",null,{"$f":"'2011 Census Profile'!J152","v":0},{"$f":"ROUND('2011 Census Profile'!K152,1)","v":0},{"$f":"'2011 Census Profile'!L152","v":0},{"$f":"ROUND('2011 Census Profile'!M152,1)","v":0}]
[null,null,null,null,null,null,null,"Main Language Not English: Cannot Speak English Well",null,{"$f":"'2011 Census Profile'!J153","v":0},{"$f":"ROUND('2011 Census Profile'!K153,1)","v":0},{"$f":"'2011 Census Profile'!L153","v":0},{"$f":"ROUND('2011 Census Profile'!M153,1)","v":0}]
[null,null,null,null,null,null,null,"Main Language Not English: Cannot Speak English",null,{"$f":"'2011 Census Profile'!J154","v":0},{"$f":"ROUND('2011 Census Profile'!K154,1)","v":0},{"$f":"'2011 Census Profile'!L154","v":0},{"$f":"ROUND('2011 Census Profile'!M154,1)","v":0}]
[null,null,null,null,null,null,null,"Total",null,{"$f":"'2011 Census Profile'!J155","v":0},null,{"$f":"'2011 Census Profile'!L155","v":0}]
[null,null,null,null,null,null,null,null,null,{"$f":"J155-SUM(J150:J154)","v":0},{"$f":"100-SUM(K150:K154)","v":100},{"$f":"L155-SUM(L150:L154)","v":0},{"$f":"100-SUM(M150:M154)","v":100}]
[]
["Employment & Labour Market"]
[]
["Economic Activity (Source: Table KS601EW)",null,null,null,null,null,null,"Occupation (Source: Table KS608EW)"]
[]
["Residents Aged 16-74 Economically Active",null,"Area No.","%","Compare No.","%",null,"Residents Aged 16-74 In Employment",null,"Area No.","%","Compare No.","%"]
["Employee: Part-time",null,{"$f":"'2011 Census Profile'!C163","v":0},{"$f":"ROUND('2011 Census Profile'!D163,1)","v":0},{"$f":"'2011 Census Profile'!E163","v":0},{"$f":"ROUND('2011 Census Profile'!F163,1)","v":0},null,"Managers, Directors & Senior Officials",null,{"$f":"'2011 Census Profile'!J163","v":0},{"$f":"ROUND('2011 Census Profile'!K163,1)","v":0},{"$f":"'2011 Census Profile'!L163","v":0},{"$f":"ROUND('2011 Census Profile'!M163,1)","v":0}]
["Employee: Full-time",null,{"$f":"'2011 Census Profile'!C164","v":0},{"$f":"ROUND('2011 Census Profile'!D164,1)","v":0},{"$f":"'2011 Census Profile'!E164","v":0},{"$f":"ROUND('2011 Census Profile'!F164,1)","v":0},null,"Professional Occupations",null,{"$f":"'2011 Census Profile'!J164","v":0},{"$f":"ROUND('2011 Census Profile'!K164,1)","v":0},{"$f":"'2011 Census Profile'!L164","v":0},{"$f":"ROUND('2011 Census Profile'!M164,1)","v":0}]
["Self Employed",null,{"$f":"'2011 Census Profile'!C165","v":0},{"$f":"ROUND('2011 Census Profile'!D165,1)","v":0},{"$f":"'2011 Census Profile'!E165","v":0},{"$f":"ROUND('2011 Census Profile'!F165,1)","v":0},null,"Associate Professional & Technical",null,{"$f":"'2011 Census Profile'!J165","v":0},{"$f":"ROUND('2011 Census Profile'!K165,1)","v":0},{"$f":"'2011 Census Profile'!L165","v":0},{"$f":"ROUND('2011 Census Profile'!M165,1)","v":0}]
["Unemployed",null,{"$f":"'2011 Census Profile'!C166","v":0},{"$f":"ROUND('2011 Census Profile'!D166,1)","v":0},{"$f":"'2011 Census Profile'!E166","v":0},{"$f":"ROUND('2011 Census Profile'!F166,1)","v":0},null,"Administrative & Secretarial",null,{"$f":"'2011 Census Profile'!J166","v":0},{"$f":"ROUND('2011 Census Profile'!K166,1)","v":0},{"$f":"'2011 Census Profile'!L166","v":0},{"$f":"ROUND('2011 Census Profile'!M166,1)","v":0}]
["Full-time Student",null,{"$f":"'2011 Census Profile'!C167","v":0},{"$f":"ROUND('2011 Census Profile'!D167,1)","v":0},{"$f":"'2011 Census Profile'!E167","v":0},{"$f":"ROUND('2011 Census Profile'!F167,1)","v":0},null,"Skilled Trades",null,{"$f":"'2011 Census Profile'!J167","v":0},{"$f":"ROUND('2011 Census Profile'!K167,1)","v":0},{"$f":"'2011 Census Profile'!L167","v":0},{"$f":"ROUND('2011 Census Profile'!M167,1)","v":0}]
["Retired",null,{"$f":"'2011 Census Profile'!C169","v":0},{"$f":"ROUND('2011 Census Profile'!D169,1)","v":0},{"$f":"'2011 Census Profile'!E169","v":0},{"$f":"ROUND('2011 Census Profile'!F169,1)","v":0},null,"Caring, Leisure & Other Service",null,{"$f":"'2011 Census Profile'!J168","v":0},{"$f":"ROUND('2011 Census Profile'!K168,1)","v":0},{"$f":"'2011 Census Profile'!L168","v":0},{"$f":"ROUND('2011 Census Profile'!M168,1)","v":0}]
["Student (Including Full-time Students)",null,{"$f":"'2011 Census Profile'!C170","v":0},{"$f":"ROUND('2011 Census Profile'!D170,1)","v":0},{"$f":"'2011 Census Profile'!E170","v":0},{"$f":"ROUND('2011 Census Profile'!F170,1)","v":0},null,"Sales & Customer Service",null,{"$f":"'2011 Census Profile'!J169","v":0},{"$f":"ROUND('2011 Census Profile'!K169,1)","v":0},{"$f":"'2011 Census Profile'!L169","v":0},{"$f":"ROUND('2011 Census Profile'!M169,1)","v":0}]
["Looking After Home or Family",null,{"$f":"'2011 Census Profile'!C171","v":0},{"$f":"ROUND('2011 Census Profile'!D171,1)","v":0},{"$f":"'2011 Census Profile'!E171","v":0},{"$f":"ROUND('2011 Census Profile'!F171,1)","v":0},null,"Process, Plant & Machine Operatives",null,{"$f":"'2011 Census Profile'!J170","v":0},{"$f":"ROUND('2011 Census Profile'!K170,1)","v":0},{"$f":"'2011 Census Profile'!L170","v":0},{"$f":"ROUND('2011 Census Profile'!M170,1)","v":0}]
["Long-term Sick or Disabled",null,{"$f":"'2011 Census Profile'!C172","v":0},{"$f":"ROUND('2011 Census Profile'!D172,1)","v":0},{"$f":"'2011 Census Profile'!E172","v":0},{"$f":"ROUND('2011 Census Profile'!F172,1)","v":0},null,"Elementary Occupations",null,{"$f":"'2011 Census Profile'!J171","v":0},{"$f":"ROUND('2011 Census Profile'!K171,1)","v":0},{"$f":"'2011 Census Profile'!L171","v":0},{"$f":"ROUND('2011 Census Profile'!M171,1)","v":0}]
["Other",null,{"$f":"'2011 Census Profile'!C173","v":0},{"$f":"ROUND('2011 Census Profile'!D173,1)","v":0},{"$f":"'2011 Census Profile'!E173","v":0},{"$f":"ROUND('2011 Census Profile'!F173,1)","v":0},null,"Total",null,{"$f":"'2011 Census Profile'!J172","v":0},null,{"$f":"'2011 Census Profile'!L172","v":0}]
["Total",null,{"$f":"'2011 Census Profile'!C174","v":0},null,{"$f":"'2011 Census Profile'!E174","v":0},null,null,null,null,{"$f":"J172-SUM(J163:J171)","v":0},{"$f":"100-SUM(K163:K171)","v":100},{"$f":"L172-SUM(L163:L171)","v":0},{"$f":"100-SUM(M163:M171)","v":100}]
[null,null,{"$f":"C173-SUM(C163:C172)","v":0},{"$f":"100-SUM(D163:D172)","v":100},{"$f":"E173-SUM(E163:E172)","v":0},{"$f":"100-SUM(F163:F172)","v":100}]
[]
["Hours Worked Per Week (Source: Table KS604EW)",null,null,null,null,null,null,"Industry of Employment (Source: Table KS605EW)"]
[]
["Residents Aged 16-74 In Employment",null,"Area No.","%","Compare No.","%",null,"Residents Aged 16-74 In Employment",null,"Area No.","%","Compare No.","%"]
["Part-time: 15 Hours or Less",null,{"$f":"'2011 Census Profile'!C179","v":0},{"$f":"ROUND('2011 Census Profile'!D179,1)","v":0},{"$f":"'2011 Census Profile'!E179","v":0},{"$f":"ROUND('2011 Census Profile'!F179,1)","v":0},null,"Agriculture, Forestry \n& Fishing ",null,{"$f":"'2011 Census Profile'!J179","v":0},{"$f":"ROUND('2011 Census Profile'!K179,1)","v":0},{"$f":"'2011 Census Profile'!L179","v":0},{"$f":"ROUND('2011 Census Profile'!M179,1)","v":0}]
["Part-time: 16 to 30 Hours",null,{"$f":"'2011 Census Profile'!C180","v":0},{"$f":"ROUND('2011 Census Profile'!D180,1)","v":0},{"$f":"'2011 Census Profile'!E180","v":0},{"$f":"ROUND('2011 Census Profile'!F180,1)","v":0},null,"Mining & Quarrying",null,{"$f":"'2011 Census Profile'!J180","v":0},{"$f":"ROUND('2011 Census Profile'!K180,1)","v":0},{"$f":"'2011 Census Profile'!L180","v":0},{"$f":"ROUND('2011 Census Profile'!M180,1)","v":0}]
["Full-time: 31 to 48 Hours",null,{"$f":"'2011 Census Profile'!C181","v":0},{"$f":"ROUND('2011 Census Profile'!D181,1)","v":0},{"$f":"'2011 Census Profile'!E181","v":0},{"$f":"ROUND('2011 Census Profile'!F181,1)","v":0},null,"Manufacturing",null,{"$f":"'2011 Census Profile'!J181","v":0},{"$f":"ROUND('2011 Census Profile'!K181,1)","v":0},{"$f":"'2011 Census Profile'!L181","v":0},{"$f":"ROUND('2011 Census Profile'!M181,1)","v":0}]
["Full-time: 49 or More Hours",null,{"$f":"'2011 Census Profile'!C182","v":0},{"$f":"ROUND('2011 Census Profile'!D182,1)","v":0},{"$f":"'2011 Census Profile'!E182","v":0},{"$f":"ROUND('2011 Census Profile'!F182,1)","v":0},null,"Electricity, Gas, Steam \n& Air Conditioning Supply",null,{"$f":"'2011 Census Profile'!J182","v":0},{"$f":"ROUND('2011 Census Profile'!K182,1)","v":0},{"$f":"'2011 Census Profile'!L182","v":0},{"$f":"ROUND('2011 Census Profile'!M182,1)","v":0}]
["Total",null,{"$f":"'2011 Census Profile'!C183","v":0},null,{"$f":"'2011 Census Profile'!E183","v":0},null,null,"Water Supply, Sewerage, \nWaste Management",null,{"$f":"'2011 Census Profile'!J183","v":0},{"$f":"ROUND('2011 Census Profile'!K183,1)","v":0},{"$f":"'2011 Census Profile'!L183","v":0},{"$f":"ROUND('2011 Census Profile'!M183,1)","v":0}]
[null,null,{"$f":"C183-SUM(C179:C182)","v":0},{"$f":"100-SUM(D179:D182)","v":100},{"$f":"E183-SUM(E179:E182)","v":0},{"$f":"100-SUM(F179:F182)","v":100},null,"Construction",null,{"$f":"'2011 Census Profile'!J184","v":0},{"$f":"ROUND('2011 Census Profile'!K184,1)","v":0},{"$f":"'2011 Census Profile'!L184","v":0},{"$f":"ROUND('2011 Census Profile'!M184,1)","v":0}]
[null,null,null,null,null,null,null,"Wholesale & Retail Trade,\nMotor Vehicle Repair",null,{"$f":"'2011 Census Profile'!J186","v":0},{"$f":"ROUND('2011 Census Profile'!K186,1)","v":0},{"$f":"'2011 Census Profile'!L186","v":0},{"$f":"ROUND('2011 Census Profile'!M186,1)","v":0}]
["Unemployment (Source: Table KS601EW)",null,null,null,null,null,null,"Transport & Storage",null,{"$f":"'2011 Census Profile'!J188","v":0},{"$f":"ROUND('2011 Census Profile'!K188,1)","v":0},{"$f":"'2011 Census Profile'!L188","v":0},{"$f":"ROUND('2011 Census Profile'!M188,1)","v":0}]
[null,null,null,null,null,null,null,"Accommodation \n& Food Services",null,{"$f":"'2011 Census Profile'!J189","v":0},{"$f":"ROUND('2011 Census Profile'!K189,1)","v":0},{"$f":"'2011 Census Profile'!L189","v":0},{"$f":"ROUND('2011 Census Profile'!M189,1)","v":0}]
["Residents Aged 16-74",null,"Area No.","%","Compare No.","%",null,"Information \n& Communication",null,{"$f":"'2011 Census Profile'!J190","v":0},{"$f":"ROUND('2011 Census Profile'!K190,1)","v":0},{"$f":"'2011 Census Profile'!L190","v":0},{"$f":"ROUND('2011 Census Profile'!M190,1)","v":0}]
["Unemployed",null,{"$f":"'2011 Census Profile'!C189","v":0},{"$f":"ROUND('2011 Census Profile'!D189,1)","v":0},{"$f":"'2011 Census Profile'!E189","v":0},{"$f":"ROUND('2011 Census Profile'!F189,1)","v":0},null,"Financial & Insurance",null,{"$f":"'2011 Census Profile'!J191","v":0},{"$f":"ROUND('2011 Census Profile'!K191,1)","v":0},{"$f":"'2011 Census Profile'!L191","v":0},{"$f":"ROUND('2011 Census Profile'!M191,1)","v":0}]
["Unemployed Aged 16 to 24 ",null,{"$f":"'2011 Census Profile'!C190","v":0},{"$f":"ROUND('2011 Census Profile'!D190,1)","v":0},{"$f":"'2011 Census Profile'!E190","v":0},{"$f":"ROUND('2011 Census Profile'!F190,1)","v":0},null,"Real Estate",null,{"$f":"'2011 Census Profile'!J192","v":0},{"$f":"ROUND('2011 Census Profile'!K192,1)","v":0},{"$f":"'2011 Census Profile'!L192","v":0},{"$f":"ROUND('2011 Census Profile'!M192,1)","v":0}]
["Unemployed Aged 50 to 74",null,{"$f":"'2011 Census Profile'!C191","v":0},{"$f":"ROUND('2011 Census Profile'!D191,1)","v":0},{"$f":"'2011 Census Profile'!E191","v":0},{"$f":"ROUND('2011 Census Profile'!F191,1)","v":0},null,"Professional, Scientific & Technical",null,{"$f":"'2011 Census Profile'!J193","v":0},{"$f":"ROUND('2011 Census Profile'!K193,1)","v":0},{"$f":"'2011 Census Profile'!L193","v":0},{"$f":"ROUND('2011 Census Profile'!M193,1)","v":0}]
["Long-term Unemployed",null,{"$f":"'2011 Census Profile'!C193","v":0},{"$f":"ROUND('2011 Census Profile'!D193,1)","v":0},{"$f":"'2011 Census Profile'!E193","v":0},{"$f":"ROUND('2011 Census Profile'!F193,1)","v":0},null,"Administrative & Support Services",null,{"$f":"'2011 Census Profile'!J194","v":0},{"$f":"ROUND('2011 Census Profile'!K194,1)","v":0},{"$f":"'2011 Census Profile'!L194","v":0},{"$f":"ROUND('2011 Census Profile'!M194,1)","v":0}]
["Never Worked",null,{"$f":"'2011 Census Profile'!C192","v":0},{"$f":"ROUND('2011 Census Profile'!D192,1)","v":0},{"$f":"'2011 Census Profile'!E192","v":0},{"$f":"ROUND('2011 Census Profile'!F192,1)","v":0},null,"Public Administration, Defence & Compulsory Social Security",null,{"$f":"'2011 Census Profile'!J195","v":0},{"$f":"ROUND('2011 Census Profile'!K195,1)","v":0},{"$f":"'2011 Census Profile'!L195","v":0},{"$f":"ROUND('2011 Census Profile'!M195,1)","v":0}]
[null,null,null,null,null,null,null,"Education",null,{"$f":"'2011 Census Profile'!J196","v":0},{"$f":"ROUND('2011 Census Profile'!K196,1)","v":0},{"$f":"'2011 Census Profile'!L196","v":0},{"$f":"ROUND('2011 Census Profile'!M196,1)","v":0}]
[null,null,null,null,null,null,null,"Human Health \n& Social Work",null,{"$f":"'2011 Census Profile'!J197","v":0},{"$f":"ROUND('2011 Census Profile'!K197,1)","v":0},{"$f":"'2011 Census Profile'!L197","v":0},{"$f":"ROUND('2011 Census Profile'!M197,1)","v":0}]
[null,null,null,null,null,null,null,"Other",null,{"$f":"'2011 Census Profile'!J198","v":0},{"$f":"ROUND('2011 Census Profile'!K198,1)","v":0},{"$f":"'2011 Census Profile'!L198","v":0},{"$f":"ROUND('2011 Census Profile'!M198,1)","v":0}]
[null,null,null,null,null,null,null,"Total",null,{"$f":"'2011 Census Profile'!J199","v":0},null,{"$f":"'2011 Census Profile'!L199","v":0}]
[null,null,null,null,null,null,null,null,null,{"$f":"J197-SUM(J179:J196)","v":0},{"$f":"100-SUM(K179:K196)","v":100},{"$f":"L197-SUM(L179:L196)","v":0},{"$f":"100-SUM(M179:M196)","v":100}]
[]
[]
[]
["Accommodation & Households"]
[]
["Accommodation Type (Source: Table KS401EW)",null,null,null,null,null,null,"Household Tenure (Source: Table KS402EW)"]
[]
["All Household Spaces",null,"Area No.","%","Compare No.","%",null,"All Households",null,"Area No.","%","Compare No.","%"]
["Detached",null,{"$f":"'2011 Census Profile'!C207","v":0},{"$f":"ROUND('2011 Census Profile'!D207,1)","v":0},{"$f":"'2011 Census Profile'!E207","v":0},{"$f":"ROUND('2011 Census Profile'!F207,1)","v":0},null,"Owned Outright",null,{"$f":"'2011 Census Profile'!J207","v":0},{"$f":"ROUND('2011 Census Profile'!K207,1)","v":0},{"$f":"'2011 Census Profile'!L207","v":0},{"$f":"ROUND('2011 Census Profile'!M207,1)","v":0}]
["Semi-Detached",null,{"$f":"'2011 Census Profile'!C208","v":0},{"$f":"ROUND('2011 Census Profile'!D208,1)","v":0},{"$f":"'2011 Census Profile'!E208","v":0},{"$f":"ROUND('2011 Census Profile'!F208,1)","v":0},null,"Owned With a Mortgage or Loan",null,{"$f":"'2011 Census Profile'!J208","v":0},{"$f":"ROUND('2011 Census Profile'!K208,1)","v":0},{"$f":"'2011 Census Profile'!L208","v":0},{"$f":"ROUND('2011 Census Profile'!M208,1)","v":0}]
["Terraced (Including End-Terrace)",null,{"$f":"'2011 Census Profile'!C209","v":0},{"$f":"ROUND('2011 Census Profile'!D209,1)","v":0},{"$f":"'2011 Census Profile'!E209","v":0},{"$f":"ROUND('2011 Census Profile'!F209,1)","v":0},null,"Shared Ownership (Part Owned & Part Rented)",null,{"$f":"'2011 Census Profile'!J209","v":0},{"$f":"ROUND('2011 Census Profile'!K209,1)","v":0},{"$f":"'2011 Census Profile'!L209","v":0},{"$f":"ROUND('2011 Census Profile'!M209,1)","v":0}]
["Flat in Purpose-Built Block of Flats or Tenement",null,{"$f":"'2011 Census Profile'!C211","v":0},{"$f":"ROUND('2011 Census Profile'!D211,1)","v":0},{"$f":"'2011 Census Profile'!E211","v":0},{"$f":"ROUND('2011 Census Profile'!F211,1)","v":0},null,"Rented From Council (Local Authority)",null,{"$f":"'2011 Census Profile'!J210","v":0},{"$f":"ROUND('2011 Census Profile'!K210,1)","v":0},{"$f":"'2011 Census Profile'!L210","v":0},{"$f":"ROUND('2011 Census Profile'!M210,1)","v":0}]
["Flat in Part of Converted / Shared House (including Bed-sits)",null,{"$f":"'2011 Census Profile'!C212","v":0},{"$f":"ROUND('2011 Census Profile'!D212,1)","v":0},{"$f":"'2011 Census Profile'!E212","v":0},{"$f":"ROUND('2011 Census Profile'!F212,1)","v":0},null,"Other Social Rented",null,{"$f":"'2011 Census Profile'!J211","v":0},{"$f":"ROUND('2011 Census Profile'!K211,1)","v":0},{"$f":"'2011 Census Profile'!L211","v":0},{"$f":"ROUND('2011 Census Profile'!M211,1)","v":0}]
["Flat in a Commercial Building",null,{"$f":"'2011 Census Profile'!C213","v":0},{"$f":"ROUND('2011 Census Profile'!D213,1)","v":0},{"$f":"'2011 Census Profile'!E213","v":0},{"$f":"ROUND('2011 Census Profile'!F213,1)","v":0},null,"Rented From Private Landlord or Letting Agency",null,{"$f":"'2011 Census Profile'!J212","v":0},{"$f":"ROUND('2011 Census Profile'!K212,1)","v":0},{"$f":"'2011 Census Profile'!L212","v":0},{"$f":"ROUND('2011 Census Profile'!M212,1)","v":0}]
["Caravan or Other Mobile / Temporary Structure",null,{"$f":"'2011 Census Profile'!C214","v":0},{"$f":"ROUND('2011 Census Profile'!D214,1)","v":0},{"$f":"'2011 Census Profile'!E214","v":0},{"$f":"ROUND('2011 Census Profile'!F214,1)","v":0},null,"Other Private Rented",null,{"$f":"'2011 Census Profile'!J213","v":0},{"$f":"ROUND('2011 Census Profile'!K213,1)","v":0},{"$f":"'2011 Census Profile'!L213","v":0},{"$f":"ROUND('2011 Census Profile'!M213,1)","v":0}]
["Total",null,{"$f":"'2011 Census Profile'!C215","v":0},null,{"$f":"'2011 Census Profile'!E215","v":0},null,null,"Living Rent Free",null,{"$f":"'2011 Census Profile'!J214","v":0},{"$f":"ROUND('2011 Census Profile'!K214,1)","v":0},{"$f":"'2011 Census Profile'!L214","v":0},{"$f":"ROUND('2011 Census Profile'!M214,1)","v":0}]
["Occupied Household Spaces",null,{"$f":"'2011 Census Profile'!C216","v":0},{"$f":"ROUND('2011 Census Profile'!D216,1)","v":0},{"$f":"'2011 Census Profile'!E216","v":0},{"$f":"ROUND('2011 Census Profile'!F216,1)","v":0},null,"Total",null,{"$f":"'2011 Census Profile'!J215","v":0},null,{"$f":"'2011 Census Profile'!L215","v":0}]
["Unoccupied Household Spaces",null,{"$f":"'2011 Census Profile'!C217","v":0},{"$f":"ROUND('2011 Census Profile'!D217,1)","v":0},{"$f":"'2011 Census Profile'!E217","v":0},{"$f":"ROUND('2011 Census Profile'!F217,1)","v":0},null,null,null,{"$f":"J215-SUM(J207:J214)","v":0},{"$f":"100-SUM(K207:K214)","v":100},{"$f":"L215-SUM(L207:L214)","v":0},{"$f":"100-SUM(M207:M214)","v":100}]
[null,null,{"$f":"C214-SUM(C207:C213)","v":0},{"$f":"100-SUM(D207:D213)","v":100},{"$f":"E214-SUM(E207:E213)","v":0},{"$f":"100-SUM(F207:F213)","v":100}]
[null,null,null,{"$f":"100-SUM(D215:D216)","v":100},null,{"$f":"100-SUM(F215:F216)","v":100}]
["Household Size (Source: Tables KS403EW / QS406EW)",null,null,null,null,null,null,"Number Of Rooms (Source: Tables KS403EW / QS407EW)"]
[]
["All Household Spaces With Residents",null,"Area No.","%","Compare No.","%",null,"All Household Spaces With Residents",null,"Area No.","%","Compare No.","%"]
[1,null,{"$f":"'2011 Census Profile'!C222","v":0},{"$f":"ROUND('2011 Census Profile'!D222,1)","v":0},{"$f":"'2011 Census Profile'!E222","v":0},{"$f":"ROUND('2011 Census Profile'!F222,1)","v":0},null,1,null,{"$f":"'2011 Census Profile'!J222","v":0},{"$f":"ROUND('2011 Census Profile'!K222,1)","v":0},{"$f":"'2011 Census Profile'!L222","v":0},{"$f":"ROUND('2011 Census Profile'!M222,1)","v":0}]
[2,null,{"$f":"'2011 Census Profile'!C223","v":0},{"$f":"ROUND('2011 Census Profile'!D223,1)","v":0},{"$f":"'2011 Census Profile'!E223","v":0},{"$f":"ROUND('2011 Census Profile'!F223,1)","v":0},null,2,null,{"$f":"'2011 Census Profile'!J223","v":0},{"$f":"ROUND('2011 Census Profile'!K223,1)","v":0},{"$f":"'2011 Census Profile'!L223","v":0},{"$f":"ROUND('2011 Census Profile'!M223,1)","v":0}]
[3,null,{"$f":"'2011 Census Profile'!C224","v":0},{"$f":"ROUND('2011 Census Profile'!D224,1)","v":0},{"$f":"'2011 Census Profile'!E224","v":0},{"$f":"ROUND('2011 Census Profile'!F224,1)","v":0},null,3,null,{"$f":"'2011 Census Profile'!J224","v":0},{"$f":"ROUND('2011 Census Profile'!K224,1)","v":0},{"$f":"'2011 Census Profile'!L224","v":0},{"$f":"ROUND('2011 Census Profile'!M224,1)","v":0}]
[4,null,{"$f":"'2011 Census Profile'!C225","v":0},{"$f":"ROUND('2011 Census Profile'!D225,1)","v":0},{"$f":"'2011 Census Profile'!E225","v":0},{"$f":"ROUND('2011 Census Profile'!F225,1)","v":0},null,4,null,{"$f":"'2011 Census Profile'!J225","v":0},{"$f":"ROUND('2011 Census Profile'!K225,1)","v":0},{"$f":"'2011 Census Profile'!L225","v":0},{"$f":"ROUND('2011 Census Profile'!M225,1)","v":0}]
[5,null,{"$f":"'2011 Census Profile'!C226","v":0},{"$f":"ROUND('2011 Census Profile'!D226,1)","v":0},{"$f":"'2011 Census Profile'!E226","v":0},{"$f":"ROUND('2011 Census Profile'!F226,1)","v":0},null,5,null,{"$f":"'2011 Census Profile'!J226","v":0},{"$f":"ROUND('2011 Census Profile'!K226,1)","v":0},{"$f":"'2011 Census Profile'!L226","v":0},{"$f":"ROUND('2011 Census Profile'!M226,1)","v":0}]
[6,null,{"$f":"'2011 Census Profile'!C227","v":0},{"$f":"ROUND('2011 Census Profile'!D227,1)","v":0},{"$f":"'2011 Census Profile'!E227","v":0},{"$f":"ROUND('2011 Census Profile'!F227,1)","v":0},null,6,null,{"$f":"'2011 Census Profile'!J227","v":0},{"$f":"ROUND('2011 Census Profile'!K227,1)","v":0},{"$f":"'2011 Census Profile'!L227","v":0},{"$f":"ROUND('2011 Census Profile'!M227,1)","v":0}]
[7,null,{"$f":"'2011 Census Profile'!C228","v":0},{"$f":"ROUND('2011 Census Profile'!D228,1)","v":0},{"$f":"'2011 Census Profile'!E228","v":0},{"$f":"ROUND('2011 Census Profile'!F228,1)","v":0},null,7,null,{"$f":"'2011 Census Profile'!J228","v":0},{"$f":"ROUND('2011 Census Profile'!K228,1)","v":0},{"$f":"'2011 Census Profile'!L228","v":0},{"$f":"ROUND('2011 Census Profile'!M228,1)","v":0}]
["8 or more",null,{"$f":"'2011 Census Profile'!C229","v":0},{"$f":"ROUND('2011 Census Profile'!D229,1)","v":0},{"$f":"'2011 Census Profile'!E229","v":0},{"$f":"ROUND('2011 Census Profile'!F229,1)","v":0},null,"8 or more",null,{"$f":"'2011 Census Profile'!J229","v":0},{"$f":"ROUND('2011 Census Profile'!K229,1)","v":0},{"$f":"'2011 Census Profile'!L229","v":0},{"$f":"ROUND('2011 Census Profile'!M229,1)","v":0}]
["Total",null,{"$f":"'2011 Census Profile'!C230","v":0},null,{"$f":"'2011 Census Profile'!E230","v":0},null,null,"Total",null,{"$f":"'2011 Census Profile'!J230","v":0},null,{"$f":"'2011 Census Profile'!L230","v":0}]
["Average Persons Per Household",null,{"$f":"'2011 Census Profile'!C231","v":0},null,{"$f":"'2011 Census Profile'!E231","v":0},null,null,"Average Rooms Per Household",null,{"$f":"'2011 Census Profile'!J231","v":0},null,{"$f":"'2011 Census Profile'!L231","v":0}]
[null,null,{"$f":"C230-SUM(C222:C229)","v":0},{"$f":"100-SUM(D222:D229)","v":100},{"$f":"E230-SUM(E222:E229)","v":0},{"$f":"100-SUM(F222:F229)","v":100},null,null,null,{"$f":"J230-SUM(J222:J229)","v":0},{"$f":"100-SUM(K222:K229)","v":100},{"$f":"L230-SUM(L222:L229)","v":0},{"$f":"100-SUM(M222:M229)","v":100}]
["Central Heating (Source: Table QS415EW)"]
[]
["All Household Spaces With Residents",null,"Area No.","%","Compare No.","%"]
["No Central Heating",null,{"$f":"'2011 Census Profile'!C236","v":0},{"$f":"ROUND('2011 Census Profile'!D236,1)","v":0},{"$f":"'2011 Census Profile'!E236","v":0},{"$f":"ROUND('2011 Census Profile'!F236,1)","v":0}]
["Gas Central Heating",null,{"$f":"'2011 Census Profile'!C237","v":0},{"$f":"ROUND('2011 Census Profile'!D237,1)","v":0},{"$f":"'2011 Census Profile'!E237","v":0},{"$f":"ROUND('2011 Census Profile'!F237,1)","v":0}]
["Electric Central Heating (Including Storage Heaters)",null,{"$f":"'2011 Census Profile'!C238","v":0},{"$f":"ROUND('2011 Census Profile'!D238,1)","v":0},{"$f":"'2011 Census Profile'!E238","v":0},{"$f":"ROUND('2011 Census Profile'!F238,1)","v":0}]
["Oil Central Heating",null,{"$f":"'2011 Census Profile'!C239","v":0},{"$f":"ROUND('2011 Census Profile'!D239,1)","v":0},{"$f":"'2011 Census Profile'!E239","v":0},{"$f":"ROUND('2011 Census Profile'!F239,1)","v":0}]
["Solid Fuel Central Heating (e.g. Wood, Coal) ",null,{"$f":"'2011 Census Profile'!C240","v":0},{"$f":"ROUND('2011 Census Profile'!D240,1)","v":0},{"$f":"'2011 Census Profile'!E240","v":0},{"$f":"ROUND('2011 Census Profile'!F240,1)","v":0}]
["Other Central Heating",null,{"$f":"'2011 Census Profile'!C241","v":0},{"$f":"ROUND('2011 Census Profile'!D241,1)","v":0},{"$f":"'2011 Census Profile'!E241","v":0},{"$f":"ROUND('2011 Census Profile'!F241,1)","v":0}]
["Two or More Types of Central Heating",null,{"$f":"'2011 Census Profile'!C242","v":0},{"$f":"ROUND('2011 Census Profile'!D242,1)","v":0},{"$f":"'2011 Census Profile'!E242","v":0},{"$f":"ROUND('2011 Census Profile'!F242,1)","v":0}]
["Total",null,{"$f":"'2011 Census Profile'!C243","v":0},null,{"$f":"'2011 Census Profile'!E243","v":0}]
[null,null,{"$f":"C243-SUM(C236:C242)","v":0},{"$f":"100-SUM(D236:D242)","v":100},{"$f":"E243-SUM(E236:E242)","v":0},{"$f":"100-SUM(F236:F242)","v":100}]
[]
["Transport"]
[]
["Method of Travel to Work (Source: Table QS701EW)",null,null,null,null,null,null,"Car or Van Availability (Source: Table KS404EW)"]
[]
["Residents Aged 16-74",null,"Area No.","%","Compare No.","%",null,"All Households",null,"Area No.","%","Compare No.","%"]
["Work Mainly at or From Home",null,{"$f":"'2011 Census Profile'!C251","v":0},{"$f":"ROUND('2011 Census Profile'!D251,1)","v":0},{"$f":"'2011 Census Profile'!E251","v":0},{"$f":"ROUND('2011 Census Profile'!F251,1)","v":0},null,"No Cars or Vans in Household",null,{"$f":"'2011 Census Profile'!J251","v":0},{"$f":"ROUND('2011 Census Profile'!K251,1)","v":0},{"$f":"'2011 Census Profile'!L251","v":0},{"$f":"ROUND('2011 Census Profile'!M251,1)","v":0}]
["Underground, Metro, Light Rail, Tram",null,{"$f":"'2011 Census Profile'!C252","v":0},{"$f":"ROUND('2011 Census Profile'!D252,1)","v":0},{"$f":"'2011 Census Profile'!E252","v":0},{"$f":"ROUND('2011 Census Profile'!F252,1)","v":0},null,"One Car or Van in Household",null,{"$f":"'2011 Census Profile'!J252","v":0},{"$f":"ROUND('2011 Census Profile'!K252,1)","v":0},{"$f":"'2011 Census Profile'!L252","v":0},{"$f":"ROUND('2011 Census Profile'!M252,1)","v":0}]
["Train",null,{"$f":"'2011 Census Profile'!C253","v":0},{"$f":"ROUND('2011 Census Profile'!D253,1)","v":0},{"$f":"'2011 Census Profile'!E253","v":0},{"$f":"ROUND('2011 Census Profile'!F253,1)","v":0},null,"Two Cars or Vans in Household",null,{"$f":"'2011 Census Profile'!J253","v":0},{"$f":"ROUND('2011 Census Profile'!K253,1)","v":0},{"$f":"'2011 Census Profile'!L253","v":0},{"$f":"ROUND('2011 Census Profile'!M253,1)","v":0}]
["Bus, Mini Bus or Coach",null,{"$f":"'2011 Census Profile'!C254","v":0},{"$f":"ROUND('2011 Census Profile'!D254,1)","v":0},{"$f":"'2011 Census Profile'!E254","v":0},{"$f":"ROUND('2011 Census Profile'!F254,1)","v":0},null,"Three Cars or Vans in Household",null,{"$f":"'2011 Census Profile'!J254","v":0},{"$f":"ROUND('2011 Census Profile'!K254,1)","v":0},{"$f":"'2011 Census Profile'!L254","v":0},{"$f":"ROUND('2011 Census Profile'!M254,1)","v":0}]
["Taxi",null,{"$f":"'2011 Census Profile'!C255","v":0},{"$f":"ROUND('2011 Census Profile'!D255,1)","v":0},{"$f":"'2011 Census Profile'!E255","v":0},{"$f":"ROUND('2011 Census Profile'!F255,1)","v":0},null,"Four or More Cars or Vans in Household",null,{"$f":"'2011 Census Profile'!J255","v":0},{"$f":"ROUND('2011 Census Profile'!K255,1)","v":0},{"$f":"'2011 Census Profile'!L255","v":0},{"$f":"ROUND('2011 Census Profile'!M255,1)","v":0}]
["Motorcycle, Scooter or Moped",null,{"$f":"'2011 Census Profile'!C256","v":0},{"$f":"ROUND('2011 Census Profile'!D256,1)","v":0},{"$f":"'2011 Census Profile'!E256","v":0},{"$f":"ROUND('2011 Census Profile'!F256,1)","v":0},null,"Total",null,{"$f":"'2011 Census Profile'!J256","v":0},null,{"$f":"'2011 Census Profile'!L256","v":0}]
["Driving a Car or Van",null,{"$f":"'2011 Census Profile'!C257","v":0},{"$f":"ROUND('2011 Census Profile'!D257,1)","v":0},{"$f":"'2011 Census Profile'!E257","v":0},{"$f":"ROUND('2011 Census Profile'!F257,1)","v":0},null,"All Cars or Vans in the Area",null,{"$f":"'2011 Census Profile'!J257","v":0},null,{"$f":"'2011 Census Profile'!L257","v":0}]
["Passenger in a Car or Van",null,{"$f":"'2011 Census Profile'!C258","v":0},{"$f":"ROUND('2011 Census Profile'!D258,1)","v":0},{"$f":"'2011 Census Profile'!E258","v":0},{"$f":"ROUND('2011 Census Profile'!F258,1)","v":0},null,null,null,{"$f":"J256-SUM(J251:J255)","v":0},{"$f":"100-SUM(K251:K255)","v":100},{"$f":"L256-SUM(L251:L255)","v":0},{"$f":"100-SUM(M251:M255)","v":100}]
["Bicycle",null,{"$f":"'2011 Census Profile'!C259","v":0},{"$f":"ROUND('2011 Census Profile'!D259,1)","v":0},{"$f":"'2011 Census Profile'!E259","v":0},{"$f":"ROUND('2011 Census Profile'!F259,1)","v":0}]
["On Foot",null,{"$f":"'2011 Census Profile'!C260","v":0},{"$f":"ROUND('2011 Census Profile'!D260,1)","v":0},{"$f":"'2011 Census Profile'!E260","v":0},{"$f":"ROUND('2011 Census Profile'!F260,1)","v":0}]
["Other Method of Travel to Work",null,{"$f":"'2011 Census Profile'!C261","v":0},{"$f":"ROUND('2011 Census Profile'!D261,1)","v":0},{"$f":"'2011 Census Profile'!E261","v":0},{"$f":"ROUND('2011 Census Profile'!F261,1)","v":0}]
["Total",null,{"$f":"'2011 Census Profile'!C262","v":0},null,{"$f":"'2011 Census Profile'!E262","v":0}]
[null,null,{"$f":"C262-SUM(C251:C261)","v":0},{"$f":"100-SUM(D251:D261)","v":100},{"$f":"E262-SUM(E251:E261)","v":0},{"$f":"100-SUM(F251:F261)","v":100}]
["Distance Travelled To Work (Source: Table QS702EW)"]
[]
["Residents Aged 16-74 In Employment",null,"Area No.","%","Compare No.","%"]
["Less Than 2km",null,{"$f":"'2011 Census Profile'!C267","v":0},{"$f":"ROUND('2011 Census Profile'!D267,1)","v":0},{"$f":"'2011 Census Profile'!E267","v":0},{"$f":"ROUND('2011 Census Profile'!F267,1)","v":0}]
["2km to Less Than 5km",null,{"$f":"'2011 Census Profile'!C268","v":0},{"$f":"ROUND('2011 Census Profile'!D268,1)","v":0},{"$f":"'2011 Census Profile'!E268","v":0},{"$f":"ROUND('2011 Census Profile'!F268,1)","v":0}]
["5km to Less Than 10km",null,{"$f":"'2011 Census Profile'!C269","v":0},{"$f":"ROUND('2011 Census Profile'!D269,1)","v":0},{"$f":"'2011 Census Profile'!E269","v":0},{"$f":"ROUND('2011 Census Profile'!F269,1)","v":0}]
["10km to Less Than 20km",null,{"$f":"'2011 Census Profile'!C270","v":0},{"$f":"ROUND('2011 Census Profile'!D270,1)","v":0},{"$f":"'2011 Census Profile'!E270","v":0},{"$f":"ROUND('2011 Census Profile'!F270,1)","v":0}]
["20km to Less Than 30km",null,{"$f":"'2011 Census Profile'!C271","v":0},{"$f":"ROUND('2011 Census Profile'!D271,1)","v":0},{"$f":"'2011 Census Profile'!E271","v":0},{"$f":"ROUND('2011 Census Profile'!F271,1)","v":0}]
["30km to Less Than 40km",null,{"$f":"'2011 Census Profile'!C272","v":0},{"$f":"ROUND('2011 Census Profile'!D272,1)","v":0},{"$f":"'2011 Census Profile'!E272","v":0},{"$f":"ROUND('2011 Census Profile'!F272,1)","v":0}]
["40km to Less Than 60km",null,{"$f":"'2011 Census Profile'!C273","v":0},{"$f":"ROUND('2011 Census Profile'!D273,1)","v":0},{"$f":"'2011 Census Profile'!E273","v":0},{"$f":"ROUND('2011 Census Profile'!F273,1)","v":0}]
["60km and Over",null,{"$f":"'2011 Census Profile'!C274","v":0},{"$f":"ROUND('2011 Census Profile'!D274,1)","v":0},{"$f":"'2011 Census Profile'!E274","v":0},{"$f":"ROUND('2011 Census Profile'!F274,1)","v":0}]
["Work Mainly at or From Home",null,{"$f":"'2011 Census Profile'!C275","v":0},{"$f":"ROUND('2011 Census Profile'!D275,1)","v":0},{"$f":"'2011 Census Profile'!E275","v":0},{"$f":"ROUND('2011 Census Profile'!F275,1)","v":0}]
["Other (Includes no Fixed Place of Work)",null,{"$f":"'2011 Census Profile'!C276","v":0},{"$f":"ROUND('2011 Census Profile'!D276,1)","v":0},{"$f":"'2011 Census Profile'!E276","v":0},{"$f":"ROUND('2011 Census Profile'!F276,1)","v":0}]
["Total",null,{"$f":"'2011 Census Profile'!C277","v":0},null,{"$f":"'2011 Census Profile'!E277","v":0}]
[null,null,{"$f":"C277-SUM(C267:C276)","v":0},{"$f":"100-SUM(D267:D276)","v":100},{"$f":"E277-SUM(E267:E276)","v":0},{"$f":"100-SUM(F267:F276)","v":100}]
["Ethnic Group chart text",null,null,"Text Shows Here"]
["Text that appears on ethnic group chart",null,null,{"$f":"IF($B$11=\"CLICK HERE, THEN ON THE DOWN ARROW TO SELECT COMPARISON AREA\",D282,D281)","v":""}]
["Text if both profiling and comparator area are selected",null,null,{"$f":"B285&B286&B287&B288&B289&B290&B291&B292&B293","v":""}]
["Text if profiling area only is selected",null,null,{"$f":"B285&B286&B287&B288&B293","v":""}]
[]
["Text or Formula","Formula in Ethnic Group Chart Text"]
["Note: The White British ethnic group, which constitutes ",{"$f":"IF($B$7=\"CLICK HERE, THEN ON THE DOWN ARROW TO SELECT AREA\",IF($B$11=\"CLICK HERE, THEN ON THE DOWN ARROW TO SELECT COMPARISON AREA\",\"\",A285),A285)","v":""}]
[{"$f":"IF($D$73=0,\"[select area] \",$D$73)","v":"[select area] "},""]
["% of the population in ",""]
[{"$f":"IF($D$73=0,\"[select area]\",$C$18)","v":"[select area]"},""]
[" and ",""]
[{"$f":"IF($F$73=0,\"[select area] \",$F$73)","v":"[select area] "},""]
["% of the population in ",""]
[{"$f":"IF($F$73=0,\"[select area]\",$C$20)","v":"[select area]"},""]
[", is not shown on this chart to aid presentation.",""]

{"sheet":"Bespoke Area Name","index":4,"n_rows":43,"n_cols":4,"rows_kept":43,"cut":false,"hidden":true,"merged":[]}
["Area Code","Area Name Entry Instructions","Area Name","Area Name Length (Maximum 80 characters)"]
["TEXT003",null,"CLICK HERE, THEN ON THE DOWN ARROW TO SELECT AREA"]
["TEXTBESP",null,"To request a bespoke area please contact Policy & Research at Dudley Council"]
["AREA0001","Enter name for bespoke area 1 in cell B4",null,{"$f":"LEN(C4)","v":0}]
["AREA0002","Enter name for bespoke area 2 in cell B5",null,{"$f":"LEN(C5)","v":0}]
["AREA0003","Enter name for bespoke area 3 in cell B6",null,{"$f":"LEN(C6)","v":0}]
["AREA0004","Enter name for bespoke area 4 in cell B7",null,{"$f":"LEN(C7)","v":0}]
["AREA0005","Enter name for bespoke area 5 in cell B8",null,0]
["AREA0006","Enter name for bespoke area 6 in cell B9",null,0]
["AREA0007","Enter name for bespoke area 7 in cell B10",null,0]
["AREA0008","Enter name for bespoke area 8 in cell B11",null,0]
["AREA0009","Enter name for bespoke area 9 in cell B12",null,0]
["AREA0010","Enter name for bespoke area 10 in cell B13",null,0]
["AREA0011","Enter name for bespoke area 11 in cell B14",null,0]
["AREA0012","Enter name for bespoke area 12 in cell B15",null,0]
["AREA0013","Enter name for bespoke area 13 in cell B16",null,0]
["AREA0014","Enter name for bespoke area 14 in cell B17",null,0]
["AREA0015","Enter name for bespoke area 15 in cell B18",null,0]
["AREA0016","Enter name for bespoke area 16 in cell B19",null,0]
["AREA0017","Enter name for bespoke area 17 in cell B20",null,0]
["AREA0018","Enter name for bespoke area 18 in cell B21",null,0]
["AREA0019","Enter name for bespoke area 19 in cell B22",null,0]
["AREA0020","Enter name for bespoke area 20 in cell B23",null,0]
["AREA0021","Enter name for bespoke area 21 in cell B24",null,0]
["AREA0022","Enter name for bespoke area 22 in cell B25",null,0]
["AREA0023","Enter name for bespoke area 23 in cell B26",null,0]
["AREA0024","Enter name for bespoke area 24 in cell B27",null,0]
["AREA0025","Enter name for bespoke area 25 in cell B28",null,0]
["AREA0026","Enter name for bespoke area 26 in cell B29",null,0]
["AREA0027","Enter name for bespoke area 27 in cell B30",null,0]
["AREA0028","Enter name for bespoke area 28 in cell B31",null,0]
["AREA0029","Enter name for bespoke area 29 in cell B32",null,0]
["AREA0030","Enter name for bespoke area 30 in cell B33",null,0]
["AREA0031","Enter name for bespoke area 31 in cell B34",null,0]
["AREA0032","Enter name for bespoke area 32 in cell B35",null,0]
["AREA0033","Enter name for bespoke area 33 in cell B36",null,0]
["AREA0034","Enter name for bespoke area 34 in cell B37",null,0]
["AREA0035","Enter name for bespoke area 35 in cell B38",null,0]
["AREA0036","Enter name for bespoke area 36 in cell B39",null,0]
["AREA0037","Enter name for bespoke area 37 in cell B40",null,0]
["AREA0038","Enter name for bespoke area 38 in cell B41",null,0]
["AREA0039","Enter name for bespoke area 39 in cell B42",null,0]
["AREA0040","Enter name for bespoke area 40 in cell B43",null,0]

{"sheet":"Bespoke Area Data","index":5,"n_rows":161,"n_cols":160,"rows_kept":161,"cut":false,"hidden":true,"merged":[]}
["Bespoke Area Code","Bespoke Area Name","Bespoke Area Data Source","Data 1","Data 2","Data 3","Data 4","Data 5","Data 6","Data 7","Data 8","Data 9","Data 10","Data 11","Data 12","Data 13","Data 14","Data 15","Data 16","Data 17","Data 18","Data 19","Data 20","Data 21","Data 22","Data 23","Data 24","Data 25","Data 26","Data 27","Data 28","Data 29","Data 30","Data 31","Data 32","Data 33","Data 34","Data 35","Data 36","Data 37","Data 38","Data 39","Data 40","Data 41","Data 42","Data 43","Data 44","Data 45","Data 46","Data 47","Data 48","Data 49","Data 50","Data 51","Data 52","Data 53","Data 54","Data 55","Data 56","Data 57","Data 58","Data 59","Data 60","Data 61","Data 62","Data 63","Data 64","Data 65","Data 66","Data 67","Data 68","Data 69","Data 70","Data 71","Data 72","Data 73","Data 74","Data 75","Data 76","Data 77","Data 78","Data 79","Data 80","Data 81","Data 82","Data 83","Data 84","Data 85","Data 86","Data 87","Data 88","Data 89","Data 90","Data 91","Data 92","Data 93","Data 94","Data 95","Data 96","Data 97","Data 98","Data 99","Data 100","Data 101","Data 102","Data 103","Data 104","Data 105","Data 106","Data 107","Data 108","Data 109","Data 110","Data 111","Data 112","Data 113","Data 114","Data 115","Data 116","Data 117","Data 118","Data 119","Data 120","Data 121","Data 122","Data 123","Data 124","Data 125","Data 126","Data 127","Data 128","Data 129","Data 130","Data 131","Data 132","Data 133","Data 134","Data 135","Data 136","Data 137","Data 138","Data 139","Data 140","Data 141","Data 142","Data 143","Data 144","Data 145","Data 146","Data 147","Data 148","Data 149","Data 150","Data 151","Data 152","Data 153","Data 154","Data 155","Data 156","Data 157"]
["AREA0001",{"$f":"IF('Bespoke Area Name'!C4=\"\",\"No bespoke area name entered; Go to sheet \"\"Bespoke Area Name\"\"\"\"\",(VLOOKUP(A2,BESPNAME,3,FALSE)))","v":"No bespoke area name entered; Go to sheet \"Bespoke Area Name\"\""},"Census_2011_Profile_Data_KS1.csv"]
["AREA0001",{"$f":"IF('Bespoke Area Name'!C4=\"\",\"No bespoke area name entered; Go to sheet \"\"Bespoke Area Name\"\"\"\"\",(VLOOKUP(A3,BESPNAME,3,FALSE)))","v":"No bespoke area name entered; Go to sheet \"Bespoke Area Name\"\""},"Census_2011_Profile_Data_KS2.csv"]
["AREA0001",{"$f":"IF('Bespoke Area Name'!C4=\"\",\"No bespoke area name entered; Go to sheet \"\"Bespoke Area Name\"\"\"\"\",(VLOOKUP(A4,BESPNAME,3,FALSE)))","v":"No bespoke area name entered; Go to sheet \"Bespoke Area Name\"\""},"Census_2011_Profile_Data_QS1.csv"]
["AREA0001",{"$f":"IF('Bespoke Area Name'!C4=\"\",\"No bespoke area name entered; Go to sheet \"\"Bespoke Area Name\"\"\"\"\",(VLOOKUP(A5,BESPNAME,3,FALSE)))","v":"No bespoke area name entered; Go to sheet \"Bespoke Area Name\"\""},"Census_2011_Profile_Data_QS2.csv"]
["AREA0002",{"$f":"IF('Bespoke Area Name'!C5=\"\",\"No bespoke area name entered; Go to sheet \"\"Bespoke Area Name\"\"\"\"\",(VLOOKUP(A6,BESPNAME,3,FALSE)))","v":"No bespoke area name entered; Go to sheet \"Bespoke Area Name\"\""},"Census_2011_Profile_Data_KS1.csv"]
["AREA0002",{"$f":"IF('Bespoke Area Name'!C5=\"\",\"No bespoke area name entered; Go to sheet \"\"Bespoke Area Name\"\"\"\"\",(VLOOKUP(A7,BESPNAME,3,FALSE)))","v":"No bespoke area name entered; Go to sheet \"Bespoke Area Name\"\""},"Census_2011_Profile_Data_KS2.csv"]
["AREA0002",{"$f":"IF('Bespoke Area Name'!C5=\"\",\"No bespoke area name entered; Go to sheet \"\"Bespoke Area Name\"\"\"\"\",(VLOOKUP(A8,BESPNAME,3,FALSE)))","v":"No bespoke area name entered; Go to sheet \"Bespoke Area Name\"\""},"Census_2011_Profile_Data_QS1.csv"]
["AREA0002",{"$f":"IF('Bespoke Area Name'!C5=\"\",\"No bespoke area name entered; Go to sheet \"\"Bespoke Area Name\"\"\"\"\",(VLOOKUP(A9,BESPNAME,3,FALSE)))","v":"No bespoke area name entered; Go to sheet \"Bespoke Area Name\"\""},"Census_2011_Profile_Data_QS2.csv"]
["AREA0003",{"$f":"IF('Bespoke Area Name'!C6=\"\",\"No bespoke area name entered; Go to sheet \"\"Bespoke Area Name\"\"\"\"\",(VLOOKUP(A10,BESPNAME,3,FALSE)))","v":"No bespoke area name entered; Go to sheet \"Bespoke Area Name\"\""},"Census_2011_Profile_Data_KS1.csv"]
["AREA0003",{"$f":"IF('Bespoke Area Name'!C6=\"\",\"No bespoke area name entered; Go to sheet \"\"Bespoke Area Name\"\"\"\"\",(VLOOKUP(A11,BESPNAME,3,FALSE)))","v":"No bespoke area name entered; Go to sheet \"Bespoke Area Name\"\""},"Census_2011_Profile_Data_KS2.csv"]
["AREA0003",{"$f":"IF('Bespoke Area Name'!C6=\"\",\"No bespoke area name entered; Go to sheet \"\"Bespoke Area Name\"\"\"\"\",(VLOOKUP(A12,BESPNAME,3,FALSE)))","v":"No bespoke area name entered; Go to sheet \"Bespoke Area Name\"\""},"Census_2011_Profile_Data_QS1.csv"]
["AREA0003",{"$f":"IF('Bespoke Area Name'!C6=\"\",\"No bespoke area name entered; Go to sheet \"\"Bespoke Area Name\"\"\"\"\",(VLOOKUP(A13,BESPNAME,3,FALSE)))","v":"No bespoke area name entered; Go to sheet \"Bespoke Area Name\"\""},"Census_2011_Profile_Data_QS2.csv"]
["AREA0004",{"$f":"IF('Bespoke Area Name'!C7=\"\",\"No bespoke area name entered; Go to sheet \"\"Bespoke Area Name\"\"\"\"\",(VLOOKUP(A14,BESPNAME,3,FALSE)))","v":"No bespoke area name entered; Go to sheet \"Bespoke Area Name\"\""},"Census_2011_Profile_Data_KS1.csv"]
["AREA0004",{"$f":"IF('Bespoke Area Name'!C7=\"\",\"No bespoke area name entered; Go to sheet \"\"Bespoke Area Name\"\"\"\"\",(VLOOKUP(A15,BESPNAME,3,FALSE)))","v":"No bespoke area name entered; Go to sheet \"Bespoke Area Name\"\""},"Census_2011_Profile_Data_KS2.csv"]
["AREA0004",{"$f":"IF('Bespoke Area Name'!C7=\"\",\"No bespoke area name entered; Go to sheet \"\"Bespoke Area Name\"\"\"\"\",(VLOOKUP(A16,BESPNAME,3,FALSE)))","v":"No bespoke area name entered; Go to sheet \"Bespoke Area Name\"\""},"Census_2011_Profile_Data_QS1.csv"]
["AREA0004",{"$f":"IF('Bespoke Area Name'!C7=\"\",\"No bespoke area name entered; Go to sheet \"\"Bespoke Area Name\"\"\"\"\",(VLOOKUP(A17,BESPNAME,3,FALSE)))","v":"No bespoke area name entered; Go to sheet \"Bespoke Area Name\"\""},"Census_2011_Profile_Data_QS2.csv"]
["AREA0005",{"$f":"IF('Bespoke Area Name'!C8=\"\",\"No bespoke area name entered; Go to sheet \"\"Bespoke Area Name\"\"\"\"\",(VLOOKUP(A18,BESPNAME,3,FALSE)))","v":"No bespoke area name entered; Go to sheet \"Bespoke Area Name\"\""},"Census_2011_Profile_Data_KS1.csv"]
["AREA0005",{"$f":"IF('Bespoke Area Name'!C8=\"\",\"No bespoke area name entered; Go to sheet \"\"Bespoke Area Name\"\"\"\"\",(VLOOKUP(A19,BESPNAME,3,FALSE)))","v":"No bespoke area name entered; Go to sheet \"Bespoke Area Name\"\""},"Census_2011_Profile_Data_KS2.csv"]
["AREA0005",{"$f":"IF('Bespoke Area Name'!C8=\"\",\"No bespoke area name entered; Go to sheet \"\"Bespoke Area Name\"\"\"\"\",(VLOOKUP(A20,BESPNAME,3,FALSE)))","v":"No bespoke area name entered; Go to sheet \"Bespoke Area Name\"\""},"Census_2011_Profile_Data_QS1.csv"]
["AREA0005",{"$f":"IF('Bespoke Area Name'!C8=\"\",\"No bespoke area name entered; Go to sheet \"\"Bespoke Area Name\"\"\"\"\",(VLOOKUP(A21,BESPNAME,3,FALSE)))","v":"No bespoke area name entered; Go to sheet \"Bespoke Area Name\"\""},"Census_2011_Profile_Data_QS2.csv"]
["AREA0006",{"$f":"IF('Bespoke Area Name'!C9=\"\",\"No bespoke area name entered; Go to sheet \"\"Bespoke Area Name\"\"\"\"\",(VLOOKUP(A22,BESPNAME,3,FALSE)))","v":"No bespoke area name entered; Go to sheet \"Bespoke Area Name\"\""},"Census_2011_Profile_Data_KS1.csv"]
["AREA0006",{"$f":"IF('Bespoke Area Name'!C9=\"\",\"No bespoke area name entered; Go to sheet \"\"Bespoke Area Name\"\"\"\"\",(VLOOKUP(A23,BESPNAME,3,FALSE)))","v":"No bespoke area name entered; Go to sheet \"Bespoke Area Name\"\""},"Census_2011_Profile_Data_KS2.csv"]
["AREA0006",{"$f":"IF('Bespoke Area Name'!C9=\"\",\"No bespoke area name entered; Go to sheet \"\"Bespoke Area Name\"\"\"\"\",(VLOOKUP(A24,BESPNAME,3,FALSE)))","v":"No bespoke area name entered; Go to sheet \"Bespoke Area Name\"\""},"Census_2011_Profile_Data_QS1.csv"]
["AREA0006",{"$f":"IF('Bespoke Area Name'!C9=\"\",\"No bespoke area name entered; Go to sheet \"\"Bespoke Area Name\"\"\"\"\",(VLOOKUP(A25,BESPNAME,3,FALSE)))","v":"No bespoke area name entered; Go to sheet \"Bespoke Area Name\"\""},"Census_2011_Profile_Data_QS2.csv"]
["AREA0007",{"$f":"IF('Bespoke Area Name'!C10=\"\",\"No bespoke area name entered; Go to sheet \"\"Bespoke Area Name\"\"\"\"\",(VLOOKUP(A26,BESPNAME,3,FALSE)))","v":"No bespoke area name entered; Go to sheet \"Bespoke Area Name\"\""},"Census_2011_Profile_Data_KS1.csv"]
["AREA0007",{"$f":"IF('Bespoke Area Name'!C10=\"\",\"No bespoke area name entered; Go to sheet \"\"Bespoke Area Name\"\"\"\"\",(VLOOKUP(A27,BESPNAME,3,FALSE)))","v":"No bespoke area name entered; Go to sheet \"Bespoke Area Name\"\""},"Census_2011_Profile_Data_KS2.csv"]
["AREA0007",{"$f":"IF('Bespoke Area Name'!C10=\"\",\"No bespoke area name entered; Go to sheet \"\"Bespoke Area Name\"\"\"\"\",(VLOOKUP(A28,BESPNAME,3,FALSE)))","v":"No bespoke area name entered; Go to sheet \"Bespoke Area Name\"\""},"Census_2011_Profile_Data_QS1.csv"]
["AREA0007",{"$f":"IF('Bespoke Area Name'!C10=\"\",\"No bespoke area name entered; Go to sheet \"\"Bespoke Area Name\"\"\"\"\",(VLOOKUP(A29,BESPNAME,3,FALSE)))","v":"No bespoke area name entered; Go to sheet \"Bespoke Area Name\"\""},"Census_2011_Profile_Data_QS2.csv"]
["AREA0008",{"$f":"IF('Bespoke Area Name'!C11=\"\",\"No bespoke area name entered; Go to sheet \"\"Bespoke Area Name\"\"\"\"\",(VLOOKUP(A30,BESPNAME,3,FALSE)))","v":"No bespoke area name entered; Go to sheet \"Bespoke Area Name\"\""},"Census_2011_Profile_Data_KS1.csv"]
["AREA0008",{"$f":"IF('Bespoke Area Name'!C11=\"\",\"No bespoke area name entered; Go to sheet \"\"Bespoke Area Name\"\"\"\"\",(VLOOKUP(A31,BESPNAME,3,FALSE)))","v":"No bespoke area name entered; Go to sheet \"Bespoke Area Name\"\""},"Census_2011_Profile_Data_KS2.csv"]
["AREA0008",{"$f":"IF('Bespoke Area Name'!C11=\"\",\"No bespoke area name entered; Go to sheet \"\"Bespoke Area Name\"\"\"\"\",(VLOOKUP(A32,BESPNAME,3,FALSE)))","v":"No bespoke area name entered; Go to sheet \"Bespoke Area Name\"\""},"Census_2011_Profile_Data_QS1.csv"]
["AREA0008",{"$f":"IF('Bespoke Area Name'!C11=\"\",\"No bespoke area name entered; Go to sheet \"\"Bespoke Area Name\"\"\"\"\",(VLOOKUP(A33,BESPNAME,3,FALSE)))","v":"No bespoke area name entered; Go to sheet \"Bespoke Area Name\"\""},"Census_2011_Profile_Data_QS2.csv"]
["AREA0009",{"$f":"IF('Bespoke Area Name'!C12=\"\",\"No bespoke area name entered; Go to sheet \"\"Bespoke Area Name\"\"\"\"\",(VLOOKUP(A34,BESPNAME,3,FALSE)))","v":"No bespoke area name entered; Go to sheet \"Bespoke Area Name\"\""},"Census_2011_Profile_Data_KS1.csv"]
["AREA0009",{"$f":"IF('Bespoke Area Name'!C12=\"\",\"No bespoke area name entered; Go to sheet \"\"Bespoke Area Name\"\"\"\"\",(VLOOKUP(A35,BESPNAME,3,FALSE)))","v":"No bespoke area name entered; Go to sheet \"Bespoke Area Name\"\""},"Census_2011_Profile_Data_KS2.csv"]
["AREA0009",{"$f":"IF('Bespoke Area Name'!C12=\"\",\"No bespoke area name entered; Go to sheet \"\"Bespoke Area Name\"\"\"\"\",(VLOOKUP(A36,BESPNAME,3,FALSE)))","v":"No bespoke area name entered; Go to sheet \"Bespoke Area Name\"\""},"Census_2011_Profile_Data_QS1.csv"]
["AREA0009",{"$f":"IF('Bespoke Area Name'!C12=\"\",\"No bespoke area name entered; Go to sheet \"\"Bespoke Area Name\"\"\"\"\",(VLOOKUP(A37,BESPNAME,3,FALSE)))","v":"No bespoke area name entered; Go to sheet \"Bespoke Area Name\"\""},"Census_2011_Profile_Data_QS2.csv"]
["AREA0010",{"$f":"IF('Bespoke Area Name'!C13=\"\",\"No bespoke area name entered; Go to sheet \"\"Bespoke Area Name\"\"\"\"\",(VLOOKUP(A38,BESPNAME,3,FALSE)))","v":"No bespoke area name entered; Go to sheet \"Bespoke Area Name\"\""},"Census_2011_Profile_Data_KS1.csv"]
["AREA0010",{"$f":"IF('Bespoke Area Name'!C13=\"\",\"No bespoke area name entered; Go to sheet \"\"Bespoke Area Name\"\"\"\"\",(VLOOKUP(A39,BESPNAME,3,FALSE)))","v":"No bespoke area name entered; Go to sheet \"Bespoke Area Name\"\""},"Census_2011_Profile_Data_KS2.csv"]
["AREA0010",{"$f":"IF('Bespoke Area Name'!C13=\"\",\"No bespoke area name entered; Go to sheet \"\"Bespoke Area Name\"\"\"\"\",(VLOOKUP(A40,BESPNAME,3,FALSE)))","v":"No bespoke area name entered; Go to sheet \"Bespoke Area Name\"\""},"Census_2011_Profile_Data_QS1.csv"]
["AREA0010",{"$f":"IF('Bespoke Area Name'!C13=\"\",\"No bespoke area name entered; Go to sheet \"\"Bespoke Area Name\"\"\"\"\",(VLOOKUP(A41,BESPNAME,3,FALSE)))","v":"No bespoke area name entered; Go to sheet \"Bespoke Area Name\"\""},"Census_2011_Profile_Data_QS2.csv"]
["AREA0011",{"$f":"IF('Bespoke Area Name'!C14=\"\",\"No bespoke area name entered; Go to sheet \"\"Bespoke Area Name\"\"\"\"\",(VLOOKUP(A42,BESPNAME,3,FALSE)))","v":"No bespoke area name entered; Go to sheet \"Bespoke Area Name\"\""},"Census_2011_Profile_Data_KS1.csv"]
["AREA0011",{"$f":"IF('Bespoke Area Name'!C14=\"\",\"No bespoke area name entered; Go to sheet \"\"Bespoke Area Name\"\"\"\"\",(VLOOKUP(A43,BESPNAME,3,FALSE)))","v":"No bespoke area name entered; Go to sheet \"Bespoke Area Name\"\""},"Census_2011_Profile_Data_KS2.csv"]
["AREA0011",{"$f":"IF('Bespoke Area Name'!C14=\"\",\"No bespoke area name entered; Go to sheet \"\"Bespoke Area Name\"\"\"\"\",(VLOOKUP(A44,BESPNAME,3,FALSE)))","v":"No bespoke area name entered; Go to sheet \"Bespoke Area Name\"\""},"Census_2011_Profile_Data_QS1.csv"]
["AREA0011",{"$f":"IF('Bespoke Area Name'!C14=\"\",\"No bespoke area name entered; Go to sheet \"\"Bespoke Area Name\"\"\"\"\",(VLOOKUP(A45,BESPNAME,3,FALSE)))","v":"No bespoke area name entered; Go to sheet \"Bespoke Area Name\"\""},"Census_2011_Profile_Data_QS2.csv"]
["AREA0012",{"$f":"IF('Bespoke Area Name'!C15=\"\",\"No bespoke area name entered; Go to sheet \"\"Bespoke Area Name\"\"\"\"\",(VLOOKUP(A46,BESPNAME,3,FALSE)))","v":"No bespoke area name entered; Go to sheet \"Bespoke Area Name\"\""},"Census_2011_Profile_Data_KS1.csv"]
["AREA0012",{"$f":"IF('Bespoke Area Name'!C15=\"\",\"No bespoke area name entered; Go to sheet \"\"Bespoke Area Name\"\"\"\"\",(VLOOKUP(A47,BESPNAME,3,FALSE)))","v":"No bespoke area name entered; Go to sheet \"Bespoke Area Name\"\""},"Census_2011_Profile_Data_KS2.csv"]
["AREA0012",{"$f":"IF('Bespoke Area Name'!C15=\"\",\"No bespoke area name entered; Go to sheet \"\"Bespoke Area Name\"\"\"\"\",(VLOOKUP(A48,BESPNAME,3,FALSE)))","v":"No bespoke area name entered; Go to sheet \"Bespoke Area Name\"\""},"Census_2011_Profile_Data_QS1.csv"]
["AREA0012",{"$f":"IF('Bespoke Area Name'!C15=\"\",\"No bespoke area name entered; Go to sheet \"\"Bespoke Area Name\"\"\"\"\",(VLOOKUP(A49,BESPNAME,3,FALSE)))","v":"No bespoke area name entered; Go to sheet \"Bespoke Area Name\"\""},"Census_2011_Profile_Data_QS2.csv"]
["AREA0013",{"$f":"IF('Bespoke Area Name'!C16=\"\",\"No bespoke area name entered; Go to sheet \"\"Bespoke Area Name\"\"\"\"\",(VLOOKUP(A50,BESPNAME,3,FALSE)))","v":"No bespoke area name entered; Go to sheet \"Bespoke Area Name\"\""},"Census_2011_Profile_Data_KS1.csv"]
["AREA0013",{"$f":"IF('Bespoke Area Name'!C16=\"\",\"No bespoke area name entered; Go to sheet \"\"Bespoke Area Name\"\"\"\"\",(VLOOKUP(A51,BESPNAME,3,FALSE)))","v":"No bespoke area name entered; Go to sheet \"Bespoke Area Name\"\""},"Census_2011_Profile_Data_KS2.csv"]
["AREA0013",{"$f":"IF('Bespoke Area Name'!C16=\"\",\"No bespoke area name entered; Go to sheet \"\"Bespoke Area Name\"\"\"\"\",(VLOOKUP(A52,BESPNAME,3,FALSE)))","v":"No bespoke area name entered; Go to sheet \"Bespoke Area Name\"\""},"Census_2011_Profile_Data_QS1.csv"]
["AREA0013",{"$f":"IF('Bespoke Area Name'!C16=\"\",\"No bespoke area name entered; Go to sheet \"\"Bespoke Area Name\"\"\"\"\",(VLOOKUP(A53,BESPNAME,3,FALSE)))","v":"No bespoke area name entered; Go to sheet \"Bespoke Area Name\"\""},"Census_2011_Profile_Data_QS2.csv"]
["AREA0014",{"$f":"IF('Bespoke Area Name'!C17=\"\",\"No bespoke area name entered; Go to sheet \"\"Bespoke Area Name\"\"\"\"\",(VLOOKUP(A54,BESPNAME,3,FALSE)))","v":"No bespoke area name entered; Go to sheet \"Bespoke Area Name\"\""},"Census_2011_Profile_Data_KS1.csv"]
["AREA0014",{"$f":"IF('Bespoke Area Name'!C17=\"\",\"No bespoke area name entered; Go to sheet \"\"Bespoke Area Name\"\"\"\"\",(VLOOKUP(A55,BESPNAME,3,FALSE)))","v":"No bespoke area name entered; Go to sheet \"Bespoke Area Name\"\""},"Census_2011_Profile_Data_KS2.csv"]
["AREA0014",{"$f":"IF('Bespoke Area Name'!C17=\"\",\"No bespoke area name entered; Go to sheet \"\"Bespoke Area Name\"\"\"\"\",(VLOOKUP(A56,BESPNAME,3,FALSE)))","v":"No bespoke area name entered; Go to sheet \"Bespoke Area Name\"\""},"Census_2011_Profile_Data_QS1.csv"]
["AREA0014",{"$f":"IF('Bespoke Area Name'!C17=\"\",\"No bespoke area name entered; Go to sheet \"\"Bespoke Area Name\"\"\"\"\",(VLOOKUP(A57,BESPNAME,3,FALSE)))","v":"No bespoke area name entered; Go to sheet \"Bespoke Area Name\"\""},"Census_2011_Profile_Data_QS2.csv"]
["AREA0015",{"$f":"IF('Bespoke Area Name'!C18=\"\",\"No bespoke area name entered; Go to sheet \"\"Bespoke Area Name\"\"\"\"\",(VLOOKUP(A58,BESPNAME,3,FALSE)))","v":"No bespoke area name entered; Go to sheet \"Bespoke Area Name\"\""},"Census_2011_Profile_Data_KS1.csv"]
["AREA0015",{"$f":"IF('Bespoke Area Name'!C18=\"\",\"No bespoke area name entered; Go to sheet \"\"Bespoke Area Name\"\"\"\"\",(VLOOKUP(A59,BESPNAME,3,FALSE)))","v":"No bespoke area name entered; Go to sheet \"Bespoke Area Name\"\""},"Census_2011_Profile_Data_KS2.csv"]
["AREA0015",{"$f":"IF('Bespoke Area Name'!C18=\"\",\"No bespoke area name entered; Go to sheet \"\"Bespoke Area Name\"\"\"\"\",(VLOOKUP(A60,BESPNAME,3,FALSE)))","v":"No bespoke area name entered; Go to sheet \"Bespoke Area Name\"\""},"Census_2011_Profile_Data_QS1.csv"]
["AREA0015",{"$f":"IF('Bespoke Area Name'!C18=\"\",\"No bespoke area name entered; Go to sheet \"\"Bespoke Area Name\"\"\"\"\",(VLOOKUP(A61,BESPNAME,3,FALSE)))","v":"No bespoke area name entered; Go to sheet \"Bespoke Area Name\"\""},"Census_2011_Profile_Data_QS2.csv"]
["AREA0016",{"$f":"IF('Bespoke Area Name'!C19=\"\",\"No bespoke area name entered; Go to sheet \"\"Bespoke Area Name\"\"\"\"\",(VLOOKUP(A62,BESPNAME,3,FALSE)))","v":"No bespoke area name entered; Go to sheet \"Bespoke Area Name\"\""},"Census_2011_Profile_Data_KS1.csv"]
["AREA0016",{"$f":"IF('Bespoke Area Name'!C19=\"\",\"No bespoke area name entered; Go to sheet \"\"Bespoke Area Name\"\"\"\"\",(VLOOKUP(A63,BESPNAME,3,FALSE)))","v":"No bespoke area name entered; Go to sheet \"Bespoke Area Name\"\""},"Census_2011_Profile_Data_KS2.csv"]
["AREA0016",{"$f":"IF('Bespoke Area Name'!C19=\"\",\"No bespoke area name entered; Go to sheet \"\"Bespoke Area Name\"\"\"\"\",(VLOOKUP(A64,BESPNAME,3,FALSE)))","v":"No bespoke area name entered; Go to sheet \"Bespoke Area Name\"\""},"Census_2011_Profile_Data_QS1.csv"]
["AREA0016",{"$f":"IF('Bespoke Area Name'!C19=\"\",\"No bespoke area name entered; Go to sheet \"\"Bespoke Area Name\"\"\"\"\",(VLOOKUP(A65,BESPNAME,3,FALSE)))","v":"No bespoke area name entered; Go to sheet \"Bespoke Area Name\"\""},"Census_2011_Profile_Data_QS2.csv"]
["AREA0017",{"$f":"IF('Bespoke Area Name'!C20=\"\",\"No bespoke area name entered; Go to sheet \"\"Bespoke Area Name\"\"\"\"\",(VLOOKUP(A66,BESPNAME,3,FALSE)))","v":"No bespoke area name entered; Go to sheet \"Bespoke Area Name\"\""},"Census_2011_Profile_Data_KS1.csv"]
["AREA0017",{"$f":"IF('Bespoke Area Name'!C20=\"\",\"No bespoke area name entered; Go to sheet \"\"Bespoke Area Name\"\"\"\"\",(VLOOKUP(A67,BESPNAME,3,FALSE)))","v":"No bespoke area name entered; Go to sheet \"Bespoke Area Name\"\""},"Census_2011_Profile_Data_KS2.csv"]
["AREA0017",{"$f":"IF('Bespoke Area Name'!C20=\"\",\"No bespoke area name entered; Go to sheet \"\"Bespoke Area Name\"\"\"\"\",(VLOOKUP(A68,BESPNAME,3,FALSE)))","v":"No bespoke area name entered; Go to sheet \"Bespoke Area Name\"\""},"Census_2011_Profile_Data_QS1.csv"]
["AREA0017",{"$f":"IF('Bespoke Area Name'!C20=\"\",\"No bespoke area name entered; Go to sheet \"\"Bespoke Area Name\"\"\"\"\",(VLOOKUP(A69,BESPNAME,3,FALSE)))","v":"No bespoke area name entered; Go to sheet \"Bespoke Area Name\"\""},"Census_2011_Profile_Data_QS2.csv"]
["AREA0018",{"$f":"IF('Bespoke Area Name'!C21=\"\",\"No bespoke area name entered; Go to sheet \"\"Bespoke Area Name\"\"\"\"\",(VLOOKUP(A70,BESPNAME,3,FALSE)))","v":"No bespoke area name entered; Go to sheet \"Bespoke Area Name\"\""},"Census_2011_Profile_Data_KS1.csv"]
["AREA0018",{"$f":"IF('Bespoke Area Name'!C21=\"\",\"No bespoke area name entered; Go to sheet \"\"Bespoke Area Name\"\"\"\"\",(VLOOKUP(A71,BESPNAME,3,FALSE)))","v":"No bespoke area name entered; Go to sheet \"Bespoke Area Name\"\""},"Census_2011_Profile_Data_KS2.csv"]
["AREA0018",{"$f":"IF('Bespoke Area Name'!C21=\"\",\"No bespoke area name entered; Go to sheet \"\"Bespoke Area Name\"\"\"\"\",(VLOOKUP(A72,BESPNAME,3,FALSE)))","v":"No bespoke area name entered; Go to sheet \"Bespoke Area Name\"\""},"Census_2011_Profile_Data_QS1.csv"]
["AREA0018",{"$f":"IF('Bespoke Area Name'!C21=\"\",\"No bespoke area name entered; Go to sheet \"\"Bespoke Area Name\"\"\"\"\",(VLOOKUP(A73,BESPNAME,3,FALSE)))","v":"No bespoke area name entered; Go to sheet \"Bespoke Area Name\"\""},"Census_2011_Profile_Data_QS2.csv"]
["AREA0019",{"$f":"IF('Bespoke Area Name'!C22=\"\",\"No bespoke area name entered; Go to sheet \"\"Bespoke Area Name\"\"\"\"\",(VLOOKUP(A74,BESPNAME,3,FALSE)))","v":"No bespoke area name entered; Go to sheet \"Bespoke Area Name\"\""},"Census_2011_Profile_Data_KS1.csv"]
["AREA0019",{"$f":"IF('Bespoke Area Name'!C22=\"\",\"No bespoke area name entered; Go to sheet \"\"Bespoke Area Name\"\"\"\"\",(VLOOKUP(A75,BESPNAME,3,FALSE)))","v":"No bespoke area name entered; Go to sheet \"Bespoke Area Name\"\""},"Census_2011_Profile_Data_KS2.csv"]
["AREA0019",{"$f":"IF('Bespoke Area Name'!C22=\"\",\"No bespoke area name entered; Go to sheet \"\"Bespoke Area Name\"\"\"\"\",(VLOOKUP(A76,BESPNAME,3,FALSE)))","v":"No bespoke area name entered; Go to sheet \"Bespoke Area Name\"\""},"Census_2011_Profile_Data_QS1.csv"]
["AREA0019",{"$f":"IF('Bespoke Area Name'!C22=\"\",\"No bespoke area name entered; Go to sheet \"\"Bespoke Area Name\"\"\"\"\",(VLOOKUP(A77,BESPNAME,3,FALSE)))","v":"No bespoke area name entered; Go to sheet \"Bespoke Area Name\"\""},"Census_2011_Profile_Data_QS2.csv"]
["AREA0020",{"$f":"IF('Bespoke Area Name'!C23=\"\",\"No bespoke area name entered; Go to sheet \"\"Bespoke Area Name\"\"\"\"\",(VLOOKUP(A78,BESPNAME,3,FALSE)))","v":"No bespoke area name entered; Go to sheet \"Bespoke Area Name\"\""},"Census_2011_Profile_Data_KS1.csv"]
["AREA0020",{"$f":"IF('Bespoke Area Name'!C23=\"\",\"No bespoke area name entered; Go to sheet \"\"Bespoke Area Name\"\"\"\"\",(VLOOKUP(A79,BESPNAME,3,FALSE)))","v":"No bespoke area name entered; Go to sheet \"Bespoke Area Name\"\""},"Census_2011_Profile_Data_KS2.csv"]
["AREA0020",{"$f":"IF('Bespoke Area Name'!C23=\"\",\"No bespoke area name entered; Go to sheet \"\"Bespoke Area Name\"\"\"\"\",(VLOOKUP(A80,BESPNAME,3,FALSE)))","v":"No bespoke area name entered; Go to sheet \"Bespoke Area Name\"\""},"Census_2011_Profile_Data_QS1.csv"]
["AREA0020",{"$f":"IF('Bespoke Area Name'!C23=\"\",\"No bespoke area name entered; Go to sheet \"\"Bespoke Area Name\"\"\"\"\",(VLOOKUP(A81,BESPNAME,3,FALSE)))","v":"No bespoke area name entered; Go to sheet \"Bespoke Area Name\"\""},"Census_2011_Profile_Data_QS2.csv"]
["AREA0021",{"$f":"IF('Bespoke Area Name'!C24=\"\",\"No bespoke area name entered; Go to sheet \"\"Bespoke Area Name\"\"\"\"\",(VLOOKUP(A82,BESPNAME,3,FALSE)))","v":"No bespoke area name entered; Go to sheet \"Bespoke Area Name\"\""},"Census_2011_Profile_Data_KS1.csv"]
["AREA0021",{"$f":"IF('Bespoke Area Name'!C24=\"\",\"No bespoke area name entered; Go to sheet \"\"Bespoke Area Name\"\"\"\"\",(VLOOKUP(A83,BESPNAME,3,FALSE)))","v":"No bespoke area name entered; Go to sheet \"Bespoke Area Name\"\""},"Census_2011_Profile_Data_KS2.csv"]
["AREA0021",{"$f":"IF('Bespoke Area Name'!C24=\"\",\"No bespoke area name entered; Go to sheet \"\"Bespoke Area Name\"\"\"\"\",(VLOOKUP(A84,BESPNAME,3,FALSE)))","v":"No bespoke area name entered; Go to sheet \"Bespoke Area Name\"\""},"Census_2011_Profile_Data_QS1.csv"]
["AREA0021",{"$f":"IF('Bespoke Area Name'!C24=\"\",\"No bespoke area name entered; Go to sheet \"\"Bespoke Area Name\"\"\"\"\",(VLOOKUP(A85,BESPNAME,3,FALSE)))","v":"No bespoke area name entered; Go to sheet \"Bespoke Area Name\"\""},"Census_2011_Profile_Data_QS2.csv"]
["AREA0022",{"$f":"IF('Bespoke Area Name'!C25=\"\",\"No bespoke area name entered; Go to sheet \"\"Bespoke Area Name\"\"\"\"\",(VLOOKUP(A86,BESPNAME,3,FALSE)))","v":"No bespoke area name entered; Go to sheet \"Bespoke Area Name\"\""},"Census_2011_Profile_Data_KS1.csv"]
["AREA0022",{"$f":"IF('Bespoke Area Name'!C25=\"\",\"No bespoke area name entered; Go to sheet \"\"Bespoke Area Name\"\"\"\"\",(VLOOKUP(A87,BESPNAME,3,FALSE)))","v":"No bespoke area name entered; Go to sheet \"Bespoke Area Name\"\""},"Census_2011_Profile_Data_KS2.csv"]
["AREA0022",{"$f":"IF('Bespoke Area Name'!C25=\"\",\"No bespoke area name entered; Go to sheet \"\"Bespoke Area Name\"\"\"\"\",(VLOOKUP(A88,BESPNAME,3,FALSE)))","v":"No bespoke area name entered; Go to sheet \"Bespoke Area Name\"\""},"Census_2011_Profile_Data_QS1.csv"]
["AREA0022",{"$f":"IF('Bespoke Area Name'!C25=\"\",\"No bespoke area name entered; Go to sheet \"\"Bespoke Area Name\"\"\"\"\",(VLOOKUP(A89,BESPNAME,3,FALSE)))","v":"No bespoke area name entered; Go to sheet \"Bespoke Area Name\"\""},"Census_2011_Profile_Data_QS2.csv"]
["AREA0023",{"$f":"IF('Bespoke Area Name'!C26=\"\",\"No bespoke area name entered; Go to sheet \"\"Bespoke Area Name\"\"\"\"\",(VLOOKUP(A90,BESPNAME,3,FALSE)))","v":"No bespoke area name entered; Go to sheet \"Bespoke Area Name\"\""},"Census_2011_Profile_Data_KS1.csv"]
["AREA0023",{"$f":"IF('Bespoke Area Name'!C26=\"\",\"No bespoke area name entered; Go to sheet \"\"Bespoke Area Name\"\"\"\"\",(VLOOKUP(A91,BESPNAME,3,FALSE)))","v":"No bespoke area name entered; Go to sheet \"Bespoke Area Name\"\""},"Census_2011_Profile_Data_KS2.csv"]
["AREA0023",{"$f":"IF('Bespoke Area Name'!C26=\"\",\"No bespoke area name entered; Go to sheet \"\"Bespoke Area Name\"\"\"\"\",(VLOOKUP(A92,BESPNAME,3,FALSE)))","v":"No bespoke area name entered; Go to sheet \"Bespoke Area Name\"\""},"Census_2011_Profile_Data_QS1.csv"]
["AREA0023",{"$f":"IF('Bespoke Area Name'!C26=\"\",\"No bespoke area name entered; Go to sheet \"\"Bespoke Area Name\"\"\"\"\",(VLOOKUP(A93,BESPNAME,3,FALSE)))","v":"No bespoke area name entered; Go to sheet \"Bespoke Area Name\"\""},"Census_2011_Profile_Data_QS2.csv"]
["AREA0024",{"$f":"IF('Bespoke Area Name'!C27=\"\",\"No bespoke area name entered; Go to sheet \"\"Bespoke Area Name\"\"\"\"\",(VLOOKUP(A94,BESPNAME,3,FALSE)))","v":"No bespoke area name entered; Go to sheet \"Bespoke Area Name\"\""},"Census_2011_Profile_Data_KS1.csv"]
["AREA0024",{"$f":"IF('Bespoke Area Name'!C27=\"\",\"No bespoke area name entered; Go to sheet \"\"Bespoke Area Name\"\"\"\"\",(VLOOKUP(A95,BESPNAME,3,FALSE)))","v":"No bespoke area name entered; Go to sheet \"Bespoke Area Name\"\""},"Census_2011_Profile_Data_KS2.csv"]
["AREA0024",{"$f":"IF('Bespoke Area Name'!C27=\"\",\"No bespoke area name entered; Go to sheet \"\"Bespoke Area Name\"\"\"\"\",(VLOOKUP(A96,BESPNAME,3,FALSE)))","v":"No bespoke area name entered; Go to sheet \"Bespoke Area Name\"\""},"Census_2011_Profile_Data_QS1.csv"]
["AREA0024",{"$f":"IF('Bespoke Area Name'!C27=\"\",\"No bespoke area name entered; Go to sheet \"\"Bespoke Area Name\"\"\"\"\",(VLOOKUP(A97,BESPNAME,3,FALSE)))","v":"No bespoke area name entered; Go to sheet \"Bespoke Area Name\"\""},"Census_2011_Profile_Data_QS2.csv"]
["AREA0025",{"$f":"IF('Bespoke Area Name'!C28=\"\",\"No bespoke area name entered; Go to sheet \"\"Bespoke Area Name\"\"\"\"\",(VLOOKUP(A98,BESPNAME,3,FALSE)))","v":"No bespoke area name entered; Go to sheet \"Bespoke Area Name\"\""},"Census_2011_Profile_Data_KS1.csv"]
["AREA0025",{"$f":"IF('Bespoke Area Name'!C28=\"\",\"No bespoke area name entered; Go to sheet \"\"Bespoke Area Name\"\"\"\"\",(VLOOKUP(A99,BESPNAME,3,FALSE)))","v":"No bespoke area name entered; Go to sheet \"Bespoke Area Name\"\""},"Census_2011_Profile_Data_KS2.csv"]
["AREA0025",{"$f":"IF('Bespoke Area Name'!C28=\"\",\"No bespoke area name entered; Go to sheet \"\"Bespoke Area Name\"\"\"\"\",(VLOOKUP(A100,BESPNAME,3,FALSE)))","v":"No bespoke area name entered; Go to sheet \"Bespoke Area Name\"\""},"Census_2011_Profile_Data_QS1.csv"]
["AREA0025",{"$f":"IF('Bespoke Area Name'!C28=\"\",\"No bespoke area name entered; Go to sheet \"\"Bespoke Area Name\"\"\"\"\",(VLOOKUP(A101,BESPNAME,3,FALSE)))","v":"No bespoke area name entered; Go to sheet \"Bespoke Area Name\"\""},"Census_2011_Profile_Data_QS2.csv"]
["AREA0026",{"$f":"IF('Bespoke Area Name'!C29=\"\",\"No bespoke area name entered; Go to sheet \"\"Bespoke Area Name\"\"\"\"\",(VLOOKUP(A102,BESPNAME,3,FALSE)))","v":"No bespoke area name entered; Go to sheet \"Bespoke Area Name\"\""},"Census_2011_Profile_Data_KS1.csv"]
["AREA0026",{"$f":"IF('Bespoke Area Name'!C29=\"\",\"No bespoke area name entered; Go to sheet \"\"Bespoke Area Name\"\"\"\"\",(VLOOKUP(A103,BESPNAME,3,FALSE)))","v":"No bespoke area name entered; Go to sheet \"Bespoke Area Name\"\""},"Census_2011_Profile_Data_KS2.csv"]
["AREA0026",{"$f":"IF('Bespoke Area Name'!C29=\"\",\"No bespoke area name entered; Go to sheet \"\"Bespoke Area Name\"\"\"\"\",(VLOOKUP(A104,BESPNAME,3,FALSE)))","v":"No bespoke area name entered; Go to sheet \"Bespoke Area Name\"\""},"Census_2011_Profile_Data_QS1.csv"]
["AREA0026",{"$f":"IF('Bespoke Area Name'!C29=\"\",\"No bespoke area name entered; Go to sheet \"\"Bespoke Area Name\"\"\"\"\",(VLOOKUP(A105,BESPNAME,3,FALSE)))","v":"No bespoke area name entered; Go to sheet \"Bespoke Area Name\"\""},"Census_2011_Profile_Data_QS2.csv"]
["AREA0027",{"$f":"IF('Bespoke Area Name'!C30=\"\",\"No bespoke area name entered; Go to sheet \"\"Bespoke Area Name\"\"\"\"\",(VLOOKUP(A106,BESPNAME,3,FALSE)))","v":"No bespoke area name entered; Go to sheet \"Bespoke Area Name\"\""},"Census_2011_Profile_Data_KS1.csv"]
["AREA0027",{"$f":"IF('Bespoke Area Name'!C30=\"\",\"No bespoke area name entered; Go to sheet \"\"Bespoke Area Name\"\"\"\"\",(VLOOKUP(A107,BESPNAME,3,FALSE)))","v":"No bespoke area name entered; Go to sheet \"Bespoke Area Name\"\""},"Census_2011_Profile_Data_KS2.csv"]
["AREA0027",{"$f":"IF('Bespoke Area Name'!C30=\"\",\"No bespoke area name entered; Go to sheet \"\"Bespoke Area Name\"\"\"\"\",(VLOOKUP(A108,BESPNAME,3,FALSE)))","v":"No bespoke area name entered; Go to sheet \"Bespoke Area Name\"\""},"Census_2011_Profile_Data_QS1.csv"]
["AREA0027",{"$f":"IF('Bespoke Area Name'!C30=\"\",\"No bespoke area name entered; Go to sheet \"\"Bespoke Area Name\"\"\"\"\",(VLOOKUP(A109,BESPNAME,3,FALSE)))","v":"No bespoke area name entered; Go to sheet \"Bespoke Area Name\"\""},"Census_2011_Profile_Data_QS2.csv"]
["AREA0028",{"$f":"IF('Bespoke Area Name'!C31=\"\",\"No bespoke area name entered; Go to sheet \"\"Bespoke Area Name\"\"\"\"\",(VLOOKUP(A110,BESPNAME,3,FALSE)))","v":"No bespoke area name entered; Go to sheet \"Bespoke Area Name\"\""},"Census_2011_Profile_Data_KS1.csv"]
["AREA0028",{"$f":"IF('Bespoke Area Name'!C31=\"\",\"No bespoke area name entered; Go to sheet \"\"Bespoke Area Name\"\"\"\"\",(VLOOKUP(A111,BESPNAME,3,FALSE)))","v":"No bespoke area name entered; Go to sheet \"Bespoke Area Name\"\""},"Census_2011_Profile_Data_KS2.csv"]
["AREA0028",{"$f":"IF('Bespoke Area Name'!C31=\"\",\"No bespoke area name entered; Go to sheet \"\"Bespoke Area Name\"\"\"\"\",(VLOOKUP(A112,BESPNAME,3,FALSE)))","v":"No bespoke area name entered; Go to sheet \"Bespoke Area Name\"\""},"Census_2011_Profile_Data_QS1.csv"]
["AREA0028",{"$f":"IF('Bespoke Area Name'!C31=\"\",\"No bespoke area name entered; Go to sheet \"\"Bespoke Area Name\"\"\"\"\",(VLOOKUP(A113,BESPNAME,3,FALSE)))","v":"No bespoke area name entered; Go to sheet \"Bespoke Area Name\"\""},"Census_2011_Profile_Data_QS2.csv"]
["AREA0029",{"$f":"IF('Bespoke Area Name'!C32=\"\",\"No bespoke area name entered; Go to sheet \"\"Bespoke Area Name\"\"\"\"\",(VLOOKUP(A114,BESPNAME,3,FALSE)))","v":"No bespoke area name entered; Go to sheet \"Bespoke Area Name\"\""},"Census_2011_Profile_Data_KS1.csv"]
["AREA0029",{"$f":"IF('Bespoke Area Name'!C32=\"\",\"No bespoke area name entered; Go to sheet \"\"Bespoke Area Name\"\"\"\"\",(VLOOKUP(A115,BESPNAME,3,FALSE)))","v":"No bespoke area name entered; Go to sheet \"Bespoke Area Name\"\""},"Census_2011_Profile_Data_KS2.csv"]
["AREA0029",{"$f":"IF('Bespoke Area Name'!C32=\"\",\"No bespoke area name entered; Go to sheet \"\"Bespoke Area Name\"\"\"\"\",(VLOOKUP(A116,BESPNAME,3,FALSE)))","v":"No bespoke area name entered; Go to sheet \"Bespoke Area Name\"\""},"Census_2011_Profile_Data_QS1.csv"]
["AREA0029",{"$f":"IF('Bespoke Area Name'!C32=\"\",\"No bespoke area name entered; Go to sheet \"\"Bespoke Area Name\"\"\"\"\",(VLOOKUP(A117,BESPNAME,3,FALSE)))","v":"No bespoke area name entered; Go to sheet \"Bespoke Area Name\"\""},"Census_2011_Profile_Data_QS2.csv"]
["AREA0030",{"$f":"IF('Bespoke Area Name'!C33=\"\",\"No bespoke area name entered; Go to sheet \"\"Bespoke Area Name\"\"\"\"\",(VLOOKUP(A118,BESPNAME,3,FALSE)))","v":"No bespoke area name entered; Go to sheet \"Bespoke Area Name\"\""},"Census_2011_Profile_Data_KS1.csv"]
["AREA0030",{"$f":"IF('Bespoke Area Name'!C33=\"\",\"No bespoke area name entered; Go to sheet \"\"Bespoke Area Name\"\"\"\"\",(VLOOKUP(A119,BESPNAME,3,FALSE)))","v":"No bespoke area name entered; Go to sheet \"Bespoke Area Name\"\""},"Census_2011_Profile_Data_KS2.csv"]
["AREA0030",{"$f":"IF('Bespoke Area Name'!C33=\"\",\"No bespoke area name entered; Go to sheet \"\"Bespoke Area Name\"\"\"\"\",(VLOOKUP(A120,BESPNAME,3,FALSE)))","v":"No bespoke area name entered; Go to sheet \"Bespoke Area Name\"\""},"Census_2011_Profile_Data_QS1.csv"]
["AREA0030",{"$f":"IF('Bespoke Area Name'!C33=\"\",\"No bespoke area name entered; Go to sheet \"\"Bespoke Area Name\"\"\"\"\",(VLOOKUP(A121,BESPNAME,3,FALSE)))","v":"No bespoke area name entered; Go to sheet \"Bespoke Area Name\"\""},"Census_2011_Profile_Data_QS2.csv"]
["AREA0031",{"$f":"IF('Bespoke Area Name'!C34=\"\",\"No bespoke area name entered; Go to sheet \"\"Bespoke Area Name\"\"\"\"\",(VLOOKUP(A122,BESPNAME,3,FALSE)))","v":"No bespoke area name entered; Go to sheet \"Bespoke Area Name\"\""},"Census_2011_Profile_Data_KS1.csv"]
["AREA0031",{"$f":"IF('Bespoke Area Name'!C34=\"\",\"No bespoke area name entered; Go to sheet \"\"Bespoke Area Name\"\"\"\"\",(VLOOKUP(A123,BESPNAME,3,FALSE)))","v":"No bespoke area name entered; Go to sheet \"Bespoke Area Name\"\""},"Census_2011_Profile_Data_KS2.csv"]
["AREA0031",{"$f":"IF('Bespoke Area Name'!C34=\"\",\"No bespoke area name entered; Go to sheet \"\"Bespoke Area Name\"\"\"\"\",(VLOOKUP(A124,BESPNAME,3,FALSE)))","v":"No bespoke area name entered; Go to sheet \"Bespoke Area Name\"\""},"Census_2011_Profile_Data_QS1.csv"]
["AREA0031",{"$f":"IF('Bespoke Area Name'!C34=\"\",\"No bespoke area name entered; Go to sheet \"\"Bespoke Area Name\"\"\"\"\",(VLOOKUP(A125,BESPNAME,3,FALSE)))","v":"No bespoke area name entered; Go to sheet \"Bespoke Area Name\"\""},"Census_2011_Profile_Data_QS2.csv"]
["AREA0032",{"$f":"IF('Bespoke Area Name'!C35=\"\",\"No bespoke area name entered; Go to sheet \"\"Bespoke Area Name\"\"\"\"\",(VLOOKUP(A126,BESPNAME,3,FALSE)))","v":"No bespoke area name entered; Go to sheet \"Bespoke Area Name\"\""},"Census_2011_Profile_Data_KS1.csv"]
["AREA0032",{"$f":"IF('Bespoke Area Name'!C35=\"\",\"No bespoke area name entered; Go to sheet \"\"Bespoke Area Name\"\"\"\"\",(VLOOKUP(A127,BESPNAME,3,FALSE)))","v":"No bespoke area name entered; Go to sheet \"Bespoke Area Name\"\""},"Census_2011_Profile_Data_KS2.csv"]
["AREA0032",{"$f":"IF('Bespoke Area Name'!C35=\"\",\"No bespoke area name entered; Go to sheet \"\"Bespoke Area Name\"\"\"\"\",(VLOOKUP(A128,BESPNAME,3,FALSE)))","v":"No bespoke area name entered; Go to sheet \"Bespoke Area Name\"\""},"Census_2011_Profile_Data_QS1.csv"]
["AREA0032",{"$f":"IF('Bespoke Area Name'!C35=\"\",\"No bespoke area name entered; Go to sheet \"\"Bespoke Area Name\"\"\"\"\",(VLOOKUP(A129,BESPNAME,3,FALSE)))","v":"No bespoke area name entered; Go to sheet \"Bespoke Area Name\"\""},"Census_2011_Profile_Data_QS2.csv"]
["AREA0033",{"$f":"IF('Bespoke Area Name'!C36=\"\",\"No bespoke area name entered; Go to sheet \"\"Bespoke Area Name\"\"\"\"\",(VLOOKUP(A130,BESPNAME,3,FALSE)))","v":"No bespoke area name entered; Go to sheet \"Bespoke Area Name\"\""},"Census_2011_Profile_Data_KS1.csv"]
["AREA0033",{"$f":"IF('Bespoke Area Name'!C36=\"\",\"No bespoke area name entered; Go to sheet \"\"Bespoke Area Name\"\"\"\"\",(VLOOKUP(A131,BESPNAME,3,FALSE)))","v":"No bespoke area name entered; Go to sheet \"Bespoke Area Name\"\""},"Census_2011_Profile_Data_KS2.csv"]
["AREA0033",{"$f":"IF('Bespoke Area Name'!C36=\"\",\"No bespoke area name entered; Go to sheet \"\"Bespoke Area Name\"\"\"\"\",(VLOOKUP(A132,BESPNAME,3,FALSE)))","v":"No bespoke area name entered; Go to sheet \"Bespoke Area Name\"\""},"Census_2011_Profile_Data_QS1.csv"]
["AREA0033",{"$f":"IF('Bespoke Area Name'!C36=\"\",\"No bespoke area name entered; Go to sheet \"\"Bespoke Area Name\"\"\"\"\",(VLOOKUP(A133,BESPNAME,3,FALSE)))","v":"No bespoke area name entered; Go to sheet \"Bespoke Area Name\"\""},"Census_2011_Profile_Data_QS2.csv"]
["AREA0034",{"$f":"IF('Bespoke Area Name'!C37=\"\",\"No bespoke area name entered; Go to sheet \"\"Bespoke Area Name\"\"\"\"\",(VLOOKUP(A134,BESPNAME,3,FALSE)))","v":"No bespoke area name entered; Go to sheet \"Bespoke Area Name\"\""},"Census_2011_Profile_Data_KS1.csv"]
["AREA0034",{"$f":"IF('Bespoke Area Name'!C37=\"\",\"No bespoke area name entered; Go to sheet \"\"Bespoke Area Name\"\"\"\"\",(VLOOKUP(A135,BESPNAME,3,FALSE)))","v":"No bespoke area name entered; Go to sheet \"Bespoke Area Name\"\""},"Census_2011_Profile_Data_KS2.csv"]
["AREA0034",{"$f":"IF('Bespoke Area Name'!C37=\"\",\"No bespoke area name entered; Go to sheet \"\"Bespoke Area Name\"\"\"\"\",(VLOOKUP(A136,BESPNAME,3,FALSE)))","v":"No bespoke area name entered; Go to sheet \"Bespoke Area Name\"\""},"Census_2011_Profile_Data_QS1.csv"]
["AREA0034",{"$f":"IF('Bespoke Area Name'!C37=\"\",\"No bespoke area name entered; Go to sheet \"\"Bespoke Area Name\"\"\"\"\",(VLOOKUP(A137,BESPNAME,3,FALSE)))","v":"No bespoke area name entered; Go to sheet \"Bespoke Area Name\"\""},"Census_2011_Profile_Data_QS2.csv"]
["AREA0035",{"$f":"IF('Bespoke Area Name'!C38=\"\",\"No bespoke area name entered; Go to sheet \"\"Bespoke Area Name\"\"\"\"\",(VLOOKUP(A138,BESPNAME,3,FALSE)))","v":"No bespoke area name entered; Go to sheet \"Bespoke Area Name\"\""},"Census_2011_Profile_Data_KS1.csv"]
["AREA0035",{"$f":"IF('Bespoke Area Name'!C38=\"\",\"No bespoke area name entered; Go to sheet \"\"Bespoke Area Name\"\"\"\"\",(VLOOKUP(A139,BESPNAME,3,FALSE)))","v":"No bespoke area name entered; Go to sheet \"Bespoke Area Name\"\""},"Census_2011_Profile_Data_KS2.csv"]
["AREA0035",{"$f":"IF('Bespoke Area Name'!C38=\"\",\"No bespoke area name entered; Go to sheet \"\"Bespoke Area Name\"\"\"\"\",(VLOOKUP(A140,BESPNAME,3,FALSE)))","v":"No bespoke area name entered; Go to sheet \"Bespoke Area Name\"\""},"Census_2011_Profile_Data_QS1.csv"]
["AREA0035",{"$f":"IF('Bespoke Area Name'!C38=\"\",\"No bespoke area name entered; Go to sheet \"\"Bespoke Area Name\"\"\"\"\",(VLOOKUP(A141,BESPNAME,3,FALSE)))","v":"No bespoke area name entered; Go to sheet \"Bespoke Area Name\"\""},"Census_2011_Profile_Data_QS2.csv"]
["AREA0036",{"$f":"IF('Bespoke Area Name'!C39=\"\",\"No bespoke area name entered; Go to sheet \"\"Bespoke Area Name\"\"\"\"\",(VLOOKUP(A142,BESPNAME,3,FALSE)))","v":"No bespoke area name entered; Go to sheet \"Bespoke Area Name\"\""},"Census_2011_Profile_Data_KS1.csv"]
["AREA0036",{"$f":"IF('Bespoke Area Name'!C39=\"\",\"No bespoke area name entered; Go to sheet \"\"Bespoke Area Name\"\"\"\"\",(VLOOKUP(A143,BESPNAME,3,FALSE)))","v":"No bespoke area name entered; Go to sheet \"Bespoke Area Name\"\""},"Census_2011_Profile_Data_KS2.csv"]
["AREA0036",{"$f":"IF('Bespoke Area Name'!C39=\"\",\"No bespoke area name entered; Go to sheet \"\"Bespoke Area Name\"\"\"\"\",(VLOOKUP(A144,BESPNAME,3,FALSE)))","v":"No bespoke area name entered; Go to sheet \"Bespoke Area Name\"\""},"Census_2011_Profile_Data_QS1.csv"]
["AREA0036",{"$f":"IF('Bespoke Area Name'!C39=\"\",\"No bespoke area name entered; Go to sheet \"\"Bespoke Area Name\"\"\"\"\",(VLOOKUP(A145,BESPNAME,3,FALSE)))","v":"No bespoke area name entered; Go to sheet \"Bespoke Area Name\"\""},"Census_2011_Profile_Data_QS2.csv"]
["AREA0037",{"$f":"IF('Bespoke Area Name'!C40=\"\",\"No bespoke area name entered; Go to sheet \"\"Bespoke Area Name\"\"\"\"\",(VLOOKUP(A146,BESPNAME,3,FALSE)))","v":"No bespoke area name entered; Go to sheet \"Bespoke Area Name\"\""},"Census_2011_Profile_Data_KS1.csv"]
["AREA0037",{"$f":"IF('Bespoke Area Name'!C40=\"\",\"No bespoke area name entered; Go to sheet \"\"Bespoke Area Name\"\"\"\"\",(VLOOKUP(A147,BESPNAME,3,FALSE)))","v":"No bespoke area name entered; Go to sheet \"Bespoke Area Name\"\""},"Census_2011_Profile_Data_KS2.csv"]
["AREA0037",{"$f":"IF('Bespoke Area Name'!C40=\"\",\"No bespoke area name entered; Go to sheet \"\"Bespoke Area Name\"\"\"\"\",(VLOOKUP(A148,BESPNAME,3,FALSE)))","v":"No bespoke area name entered; Go to sheet \"Bespoke Area Name\"\""},"Census_2011_Profile_Data_QS1.csv"]
["AREA0037",{"$f":"IF('Bespoke Area Name'!C40=\"\",\"No bespoke area name entered; Go to sheet \"\"Bespoke Area Name\"\"\"\"\",(VLOOKUP(A149,BESPNAME,3,FALSE)))","v":"No bespoke area name entered; Go to sheet \"Bespoke Area Name\"\""},"Census_2011_Profile_Data_QS2.csv"]
["AREA0038",{"$f":"IF('Bespoke Area Name'!C41=\"\",\"No bespoke area name entered; Go to sheet \"\"Bespoke Area Name\"\"\"\"\",(VLOOKUP(A150,BESPNAME,3,FALSE)))","v":"No bespoke area name entered; Go to sheet \"Bespoke Area Name\"\""},"Census_2011_Profile_Data_KS1.csv"]
["AREA0038",{"$f":"IF('Bespoke Area Name'!C41=\"\",\"No bespoke area name entered; Go to sheet \"\"Bespoke Area Name\"\"\"\"\",(VLOOKUP(A151,BESPNAME,3,FALSE)))","v":"No bespoke area name entered; Go to sheet \"Bespoke Area Name\"\""},"Census_2011_Profile_Data_KS2.csv"]
["AREA0038",{"$f":"IF('Bespoke Area Name'!C41=\"\",\"No bespoke area name entered; Go to sheet \"\"Bespoke Area Name\"\"\"\"\",(VLOOKUP(A152,BESPNAME,3,FALSE)))","v":"No bespoke area name entered; Go to sheet \"Bespoke Area Name\"\""},"Census_2011_Profile_Data_QS1.csv"]
["AREA0038",{"$f":"IF('Bespoke Area Name'!C41=\"\",\"No bespoke area name entered; Go to sheet \"\"Bespoke Area Name\"\"\"\"\",(VLOOKUP(A153,BESPNAME,3,FALSE)))","v":"No bespoke area name entered; Go to sheet \"Bespoke Area Name\"\""},"Census_2011_Profile_Data_QS2.csv"]
["AREA0039",{"$f":"IF('Bespoke Area Name'!C42=\"\",\"No bespoke area name entered; Go to sheet \"\"Bespoke Area Name\"\"\"\"\",(VLOOKUP(A154,BESPNAME,3,FALSE)))","v":"No bespoke area name entered; Go to sheet \"Bespoke Area Name\"\""},"Census_2011_Profile_Data_KS1.csv"]
["AREA0039",{"$f":"IF('Bespoke Area Name'!C42=\"\",\"No bespoke area name entered; Go to sheet \"\"Bespoke Area Name\"\"\"\"\",(VLOOKUP(A155,BESPNAME,3,FALSE)))","v":"No bespoke area name entered; Go to sheet \"Bespoke Area Name\"\""},"Census_2011_Profile_Data_KS2.csv"]
["AREA0039",{"$f":"IF('Bespoke Area Name'!C42=\"\",\"No bespoke area name entered; Go to sheet \"\"Bespoke Area Name\"\"\"\"\",(VLOOKUP(A156,BESPNAME,3,FALSE)))","v":"No bespoke area name entered; Go to sheet \"Bespoke Area Name\"\""},"Census_2011_Profile_Data_QS1.csv"]
["AREA0039",{"$f":"IF('Bespoke Area Name'!C42=\"\",\"No bespoke area name entered; Go to sheet \"\"Bespoke Area Name\"\"\"\"\",(VLOOKUP(A157,BESPNAME,3,FALSE)))","v":"No bespoke area name entered; Go to sheet \"Bespoke Area Name\"\""},"Census_2011_Profile_Data_QS2.csv"]
["AREA0040",{"$f":"IF('Bespoke Area Name'!C43=\"\",\"No bespoke area name entered; Go to sheet \"\"Bespoke Area Name\"\"\"\"\",(VLOOKUP(A158,BESPNAME,3,FALSE)))","v":"No bespoke area name entered; Go to sheet \"Bespoke Area Name\"\""},"Census_2011_Profile_Data_KS1.csv"]
["AREA0040",{"$f":"IF('Bespoke Area Name'!C43=\"\",\"No bespoke area name entered; Go to sheet \"\"Bespoke Area Name\"\"\"\"\",(VLOOKUP(A159,BESPNAME,3,FALSE)))","v":"No bespoke area name entered; Go to sheet \"Bespoke Area Name\"\""},"Census_2011_Profile_Data_KS2.csv"]
["AREA0040",{"$f":"IF('Bespoke Area Name'!C43=\"\",\"No bespoke area name entered; Go to sheet \"\"Bespoke Area Name\"\"\"\"\",(VLOOKUP(A160,BESPNAME,3,FALSE)))","v":"No bespoke area name entered; Go to sheet \"Bespoke Area Name\"\""},"Census_2011_Profile_Data_QS1.csv"]
["AREA0040",{"$f":"IF('Bespoke Area Name'!C43=\"\",\"No bespoke area name entered; Go to sheet \"\"Bespoke Area Name\"\"\"\"\",(VLOOKUP(A161,BESPNAME,3,FALSE)))","v":"No bespoke area name entered; Go to sheet \"Bespoke Area Name\"\""},"Census_2011_Profile_Data_QS2.csv"]

{"sheet":"Bespoke Area Calculations","index":6,"n_rows":44,"n_cols":9,"rows_kept":44,"cut":false,"hidden":true,"merged":[]}
["Area Code","Area Name","KS101_All_People","KS101_Area_Hectares","KS101_Pop_Density_Per_Hectare","KS101_People_in_HH","KS403_All_HH_Spaces_With_Res","KS403_Average_HH_Size","KS403_Average_Rooms_Per_HH"]
["TEXT005","USE AREA TYPE AND AREA NAME SELECTION BOXES ABOVE TO CHOOSE AREA",0,0,0,0,0,0,0]
["TEXT006","USE COMPARISON AREA TYPE AND COMPARISON AREA NAME SELECTION BOXES ABOVE TO CHOOSE AREA",0,0,0,0,0,0,0]
["TEXTBESP","To request a bespoke area please contact Policy & Research at Dudley Council",0,0,0,0,0,0,0]
["AREA0001",{"$f":"'Bespoke Area Name'!C4","v":0},{"$f":"'Key Stats Number'!E591","v":0},{"$f":"'Key Stats Number'!K591","v":0},{"$f":"C5/D5","v":{"$error":"#DIV/0!"}},{"$f":"'Key Stats Number'!H591","v":0},{"$f":"'Key Stats Number'!FG591","v":0},{"$f":"F5/G5","v":{"$error":"#DIV/0!"}},"N/A"]
["AREA0002",{"$f":"'Bespoke Area Name'!C5","v":0},{"$f":"'Key Stats Number'!E592","v":0},{"$f":"'Key Stats Number'!K592","v":0},{"$f":"C6/D6","v":{"$error":"#DIV/0!"}},{"$f":"'Key Stats Number'!H592","v":0},{"$f":"'Key Stats Number'!FG592","v":0},{"$error":"#DIV/0!"},"N/A"]
["AREA0003",{"$f":"'Bespoke Area Name'!C6","v":0},{"$f":"'Key Stats Number'!E593","v":0},{"$f":"'Key Stats Number'!K593","v":0},{"$error":"#DIV/0!"},{"$f":"'Key Stats Number'!H593","v":0},{"$f":"'Key Stats Number'!FG593","v":0},{"$error":"#DIV/0!"},"N/A"]
["AREA0004",{"$f":"'Bespoke Area Name'!C7","v":0},{"$f":"'Key Stats Number'!E594","v":0},{"$f":"'Key Stats Number'!K594","v":0},{"$error":"#DIV/0!"},{"$f":"'Key Stats Number'!H594","v":0},{"$f":"'Key Stats Number'!FG594","v":0},{"$error":"#DIV/0!"},"N/A"]
["AREA0005",{"$f":"'Bespoke Area Name'!C8","v":0},{"$f":"'Key Stats Number'!E595","v":0},{"$f":"'Key Stats Number'!K595","v":0},{"$error":"#DIV/0!"},{"$f":"'Key Stats Number'!H595","v":0},{"$f":"'Key Stats Number'!FG595","v":0},{"$error":"#DIV/0!"},"N/A"]
["AREA0006",{"$f":"'Bespoke Area Name'!C9","v":0},{"$f":"'Key Stats Number'!E596","v":0},{"$f":"'Key Stats Number'!K596","v":0},{"$error":"#DIV/0!"},{"$f":"'Key Stats Number'!H596","v":0},{"$f":"'Key Stats Number'!FG596","v":0},{"$error":"#DIV/0!"},"N/A"]
["AREA0007",{"$f":"'Bespoke Area Name'!C10","v":0},{"$f":"'Key Stats Number'!E597","v":0},{"$f":"'Key Stats Number'!K597","v":0},{"$error":"#DIV/0!"},{"$f":"'Key Stats Number'!H597","v":0},{"$f":"'Key Stats Number'!FG597","v":0},{"$error":"#DIV/0!"},"N/A"]
["AREA0008",{"$f":"'Bespoke Area Name'!C11","v":0},{"$f":"'Key Stats Number'!E598","v":0},{"$f":"'Key Stats Number'!K598","v":0},{"$error":"#DIV/0!"},{"$f":"'Key Stats Number'!H598","v":0},{"$f":"'Key Stats Number'!FG598","v":0},{"$error":"#DIV/0!"},"N/A"]
["AREA0009",{"$f":"'Bespoke Area Name'!C12","v":0},{"$f":"'Key Stats Number'!E599","v":0},{"$f":"'Key Stats Number'!K599","v":0},{"$error":"#DIV/0!"},{"$f":"'Key Stats Number'!H599","v":0},{"$f":"'Key Stats Number'!FG599","v":0},{"$error":"#DIV/0!"},"N/A"]
["AREA0010",{"$f":"'Bespoke Area Name'!C13","v":0},{"$f":"'Key Stats Number'!E600","v":0},{"$f":"'Key Stats Number'!K600","v":0},{"$error":"#DIV/0!"},{"$f":"'Key Stats Number'!H600","v":0},{"$f":"'Key Stats Number'!FG600","v":0},{"$error":"#DIV/0!"},"N/A"]
["AREA0011",{"$f":"'Bespoke Area Name'!C14","v":0},{"$f":"'Key Stats Number'!E601","v":0},{"$f":"'Key Stats Number'!K601","v":0},{"$error":"#DIV/0!"},{"$f":"'Key Stats Number'!H601","v":0},{"$f":"'Key Stats Number'!FG601","v":0},{"$f":"F15/G15","v":{"$error":"#DIV/0!"}},"N/A"]
["AREA0012",{"$f":"'Bespoke Area Name'!C15","v":0},{"$f":"'Key Stats Number'!E602","v":0},{"$f":"'Key Stats Number'!K602","v":0},{"$error":"#DIV/0!"},{"$f":"'Key Stats Number'!H602","v":0},{"$f":"'Key Stats Number'!FG602","v":0},{"$error":"#DIV/0!"},"N/A"]
["AREA0013",{"$f":"'Bespoke Area Name'!C16","v":0},{"$f":"'Key Stats Number'!E603","v":0},{"$f":"'Key Stats Number'!K603","v":0},{"$error":"#DIV/0!"},{"$f":"'Key Stats Number'!H603","v":0},{"$f":"'Key Stats Number'!FG603","v":0},{"$error":"#DIV/0!"},"N/A"]
["AREA0014",{"$f":"'Bespoke Area Name'!C17","v":0},{"$f":"'Key Stats Number'!E604","v":0},{"$f":"'Key Stats Number'!K604","v":0},{"$error":"#DIV/0!"},{"$f":"'Key Stats Number'!H604","v":0},{"$f":"'Key Stats Number'!FG604","v":0},{"$error":"#DIV/0!"},"N/A"]
["AREA0015",{"$f":"'Bespoke Area Name'!C18","v":0},{"$f":"'Key Stats Number'!E605","v":0},{"$f":"'Key Stats Number'!K605","v":0},{"$error":"#DIV/0!"},{"$f":"'Key Stats Number'!H605","v":0},{"$f":"'Key Stats Number'!FG605","v":0},{"$error":"#DIV/0!"},"N/A"]
["AREA0016",{"$f":"'Bespoke Area Name'!C19","v":0},{"$f":"'Key Stats Number'!E606","v":0},{"$f":"'Key Stats Number'!K606","v":0},{"$error":"#DIV/0!"},{"$f":"'Key Stats Number'!H606","v":0},{"$f":"'Key Stats Number'!FG606","v":0},{"$error":"#DIV/0!"},"N/A"]
["AREA0017",{"$f":"'Bespoke Area Name'!C20","v":0},{"$f":"'Key Stats Number'!E607","v":0},{"$f":"'Key Stats Number'!K607","v":0},{"$error":"#DIV/0!"},{"$f":"'Key Stats Number'!H607","v":0},{"$f":"'Key Stats Number'!FG607","v":0},{"$error":"#DIV/0!"},"N/A"]
["AREA0018",{"$f":"'Bespoke Area Name'!C21","v":0},{"$f":"'Key Stats Number'!E608","v":0},{"$f":"'Key Stats Number'!K608","v":0},{"$error":"#DIV/0!"},{"$f":"'Key Stats Number'!H608","v":0},{"$f":"'Key Stats Number'!FG608","v":0},{"$error":"#DIV/0!"},"N/A"]
["AREA0019",{"$f":"'Bespoke Area Name'!C22","v":0},{"$f":"'Key Stats Number'!E609","v":0},{"$f":"'Key Stats Number'!K609","v":0},{"$error":"#DIV/0!"},{"$f":"'Key Stats Number'!H609","v":0},{"$f":"'Key Stats Number'!FG609","v":0},{"$error":"#DIV/0!"},"N/A"]
["AREA0020",{"$f":"'Bespoke Area Name'!C23","v":0},{"$f":"'Key Stats Number'!E610","v":0},{"$f":"'Key Stats Number'!K610","v":0},{"$error":"#DIV/0!"},{"$f":"'Key Stats Number'!H610","v":0},{"$f":"'Key Stats Number'!FG610","v":0},{"$error":"#DIV/0!"},"N/A"]
["AREA0021",{"$f":"'Bespoke Area Name'!C24","v":0},{"$f":"'Key Stats Number'!E611","v":0},{"$f":"'Key Stats Number'!K611","v":0},{"$error":"#DIV/0!"},{"$f":"'Key Stats Number'!H611","v":0},{"$f":"'Key Stats Number'!FG611","v":0},{"$error":"#DIV/0!"},"N/A"]
["AREA0022",{"$f":"'Bespoke Area Name'!C25","v":0},{"$f":"'Key Stats Number'!E612","v":0},{"$f":"'Key Stats Number'!K612","v":0},{"$error":"#DIV/0!"},{"$f":"'Key Stats Number'!H612","v":0},{"$f":"'Key Stats Number'!FG612","v":0},{"$error":"#DIV/0!"},"N/A"]
["AREA0023",{"$f":"'Bespoke Area Name'!C26","v":0},{"$f":"'Key Stats Number'!E613","v":0},{"$f":"'Key Stats Number'!K613","v":0},{"$error":"#DIV/0!"},{"$f":"'Key Stats Number'!H613","v":0},{"$f":"'Key Stats Number'!FG613","v":0},{"$error":"#DIV/0!"},"N/A"]
["AREA0024",{"$f":"'Bespoke Area Name'!C27","v":0},{"$f":"'Key Stats Number'!E614","v":0},{"$f":"'Key Stats Number'!K614","v":0},{"$error":"#DIV/0!"},{"$f":"'Key Stats Number'!H614","v":0},{"$f":"'Key Stats Number'!FG614","v":0},{"$error":"#DIV/0!"},"N/A"]
["AREA0025",{"$f":"'Bespoke Area Name'!C28","v":0},{"$f":"'Key Stats Number'!E615","v":0},{"$f":"'Key Stats Number'!K615","v":0},{"$error":"#DIV/0!"},{"$f":"'Key Stats Number'!H615","v":0},{"$f":"'Key Stats Number'!FG615","v":0},{"$error":"#DIV/0!"},"N/A"]
["AREA0026",{"$f":"'Bespoke Area Name'!C29","v":0},{"$f":"'Key Stats Number'!E616","v":0},{"$f":"'Key Stats Number'!K616","v":0},{"$error":"#DIV/0!"},{"$f":"'Key Stats Number'!H616","v":0},{"$f":"'Key Stats Number'!FG616","v":0},{"$error":"#DIV/0!"},"N/A"]
["AREA0027",{"$f":"'Bespoke Area Name'!C30","v":0},{"$f":"'Key Stats Number'!E617","v":0},{"$f":"'Key Stats Number'!K617","v":0},{"$error":"#DIV/0!"},{"$f":"'Key Stats Number'!H617","v":0},{"$f":"'Key Stats Number'!FG617","v":0},{"$error":"#DIV/0!"},"N/A"]
["AREA0028",{"$f":"'Bespoke Area Name'!C31","v":0},{"$f":"'Key Stats Number'!E618","v":0},{"$f":"'Key Stats Number'!K618","v":0},{"$error":"#DIV/0!"},{"$f":"'Key Stats Number'!H618","v":0},{"$f":"'Key Stats Number'!FG618","v":0},{"$error":"#DIV/0!"},"N/A"]
["AREA0029",{"$f":"'Bespoke Area Name'!C32","v":0},{"$f":"'Key Stats Number'!E619","v":0},{"$f":"'Key Stats Number'!K619","v":0},{"$error":"#DIV/0!"},{"$f":"'Key Stats Number'!H619","v":0},{"$f":"'Key Stats Number'!FG619","v":0},{"$error":"#DIV/0!"},"N/A"]
["AREA0030",{"$f":"'Bespoke Area Name'!C33","v":0},{"$f":"'Key Stats Number'!E620","v":0},{"$f":"'Key Stats Number'!K620","v":0},{"$error":"#DIV/0!"},{"$f":"'Key Stats Number'!H620","v":0},{"$f":"'Key Stats Number'!FG620","v":0},{"$error":"#DIV/0!"},"N/A"]
["AREA0031",{"$f":"'Bespoke Area Name'!C34","v":0},{"$f":"'Key Stats Number'!E621","v":0},{"$f":"'Key Stats Number'!K621","v":0},{"$error":"#DIV/0!"},{"$f":"'Key Stats Number'!H621","v":0},{"$f":"'Key Stats Number'!FG621","v":0},{"$error":"#DIV/0!"},"N/A"]
["AREA0032",{"$f":"'Bespoke Area Name'!C35","v":0},{"$f":"'Key Stats Number'!E622","v":0},{"$f":"'Key Stats Number'!K622","v":0},{"$error":"#DIV/0!"},{"$f":"'Key Stats Number'!H622","v":0},{"$f":"'Key Stats Number'!FG622","v":0},{"$error":"#DIV/0!"},"N/A"]
["AREA0033",{"$f":"'Bespoke Area Name'!C36","v":0},{"$f":"'Key Stats Number'!E623","v":0},{"$f":"'Key Stats Number'!K623","v":0},{"$error":"#DIV/0!"},{"$f":"'Key Stats Number'!H623","v":0},{"$f":"'Key Stats Number'!FG623","v":0},{"$error":"#DIV/0!"},"N/A"]
["AREA0034",{"$f":"'Bespoke Area Name'!C37","v":0},{"$f":"'Key Stats Number'!E624","v":0},{"$f":"'Key Stats Number'!K624","v":0},{"$error":"#DIV/0!"},{"$f":"'Key Stats Number'!H624","v":0},{"$f":"'Key Stats Number'!FG624","v":0},{"$error":"#DIV/0!"},"N/A"]
["AREA0035",{"$f":"'Bespoke Area Name'!C38","v":0},{"$f":"'Key Stats Number'!E625","v":0},{"$f":"'Key Stats Number'!K625","v":0},{"$error":"#DIV/0!"},{"$f":"'Key Stats Number'!H625","v":0},{"$f":"'Key Stats Number'!FG625","v":0},{"$error":"#DIV/0!"},"N/A"]
["AREA0036",{"$f":"'Bespoke Area Name'!C39","v":0},{"$f":"'Key Stats Number'!E626","v":0},{"$f":"'Key Stats Number'!K626","v":0},{"$error":"#DIV/0!"},{"$f":"'Key Stats Number'!H626","v":0},{"$f":"'Key Stats Number'!FG626","v":0},{"$error":"#DIV/0!"},"N/A"]
["AREA0037",{"$f":"'Bespoke Area Name'!C40","v":0},{"$f":"'Key Stats Number'!E627","v":0},{"$f":"'Key Stats Number'!K627","v":0},{"$error":"#DIV/0!"},{"$f":"'Key Stats Number'!H627","v":0},{"$f":"'Key Stats Number'!FG627","v":0},{"$error":"#DIV/0!"},"N/A"]
["AREA0038",{"$f":"'Bespoke Area Name'!C41","v":0},{"$f":"'Key Stats Number'!E628","v":0},{"$f":"'Key Stats Number'!K628","v":0},{"$error":"#DIV/0!"},{"$f":"'Key Stats Number'!H628","v":0},{"$f":"'Key Stats Number'!FG628","v":0},{"$error":"#DIV/0!"},"N/A"]
["AREA0039",{"$f":"'Bespoke Area Name'!C42","v":0},{"$f":"'Key Stats Number'!E629","v":0},{"$f":"'Key Stats Number'!K629","v":0},{"$error":"#DIV/0!"},{"$f":"'Key Stats Number'!H629","v":0},{"$f":"'Key Stats Number'!FG629","v":0},{"$error":"#DIV/0!"},"N/A"]
["AREA0040",{"$f":"'Bespoke Area Name'!C43","v":0},{"$f":"'Key Stats Number'!E630","v":0},{"$f":"'Key Stats Number'!K630","v":0},{"$error":"#DIV/0!"},{"$f":"'Key Stats Number'!H630","v":0},{"$f":"'Key Stats Number'!FG630","v":0},{"$error":"#DIV/0!"},"N/A"]

{"sheet":"Key Stats Number","index":7,"n_rows":630,"n_cols":249,"rows_kept":281,"cut":true,"hidden":true,"merged":[],"bounds":{"rows_first":125,"rows_last":31,"rows_between":125,"halvings":4}}
["Table Number 2011","Table Number 2011","Table Number 2011","Table Number 2011","KS101EW","KS101EW","KS101EW","KS101EW","KS101EW","KS101EW","KS101EW","KS101EW","KS102EW","KS102EW","KS102EW","KS102EW","KS102EW","KS102EW","KS102EW","KS102EW","KS102EW","KS102EW","KS102EW","KS102EW","KS102EW","KS102EW","KS102EW","KS102EW","KS102EW","KS102EW","KS102EW","KS103EW","KS103EW","KS103EW","KS103EW","KS103EW","KS103EW","KS103EW","KS105EW","KS105EW","KS105EW","KS105EW","KS105EW","KS105EW","KS105EW","KS105EW","KS105EW","KS105EW","KS105EW","KS105EW","KS105EW","KS105EW","KS105EW","KS105EW","KS107EW","KS107EW","KS107EW","KS107EW","KS107EW","KS107EW","KS107EW","KS107EW","KS107EW","KS107EW","KS107EW","KS107EW","KS201EW","KS201EW","KS201EW","KS201EW","KS201EW","KS201EW","KS201EW","KS201EW","KS201EW","KS201EW","KS201EW","KS201EW","KS201EW","KS201EW","KS201EW","KS201EW","KS201EW","KS201EW","KS201EW","KS204EW","KS204EW","KS204EW","KS204EW","KS204EW","KS204EW","KS204EW","KS204EW","KS204EW","KS204EW","KS205EW","KS205EW","KS205EW","KS205EW","KS205EW","KS205EW","KS205EW","KS205EW","KS205EW","KS205EW","KS205EW","KS205EW","KS205EW","KS206EW","KS206EW","KS206EW","KS206EW","KS206EW","KS209EW","KS209EW","KS209EW","KS209EW","KS209EW","KS209EW","KS209EW","KS209EW","KS209EW","KS209EW","KS301EW","KS301EW","KS301EW","KS301EW","KS301EW","KS301EW","KS301EW","KS301EW","KS301EW","KS301EW","KS301EW","KS301EW","KS301EW","KS301EW","KS301EW","KS301EW","KS401EW","KS401EW","KS401EW","KS401EW","KS401EW","KS401EW","KS401EW","KS401EW","KS401EW","KS401EW","KS401EW","KS401EW","KS401EW","KS401EW","KS402EW","KS402EW","KS402EW","KS402EW","KS402EW","KS402EW","KS402EW","KS402EW","KS402EW","KS403EW","KS403EW","KS403EW","KS403EW","KS403EW","KS403EW","KS403EW","KS403EW","KS404EW","KS404EW","KS404EW","KS404EW","KS404EW","KS404EW","KS404EW","KS501EW","KS501EW","KS501EW","KS501EW","KS501EW","KS501EW","KS501EW","KS501EW","KS501EW","KS501EW","KS501EW","KS501EW","KS501EW","KS601EW","KS601EW","KS601EW","KS601EW","KS601EW","KS601EW","KS601EW","KS601EW","KS601EW","KS601EW","KS601EW","KS601EW","KS601EW","KS601EW","KS601EW","KS604EW","KS604EW","KS604EW","KS604EW","KS604EW","KS604EW","KS604EW","KS604EW","KS604EW","KS604EW","KS604EW","KS604EW","KS604EW","KS604EW","KS604EW","KS605EW","KS605EW","KS605EW","KS605EW","KS605EW","KS605EW","KS605EW","KS605EW","KS605EW","KS605EW","KS605EW","KS605EW","KS605EW","KS605EW","KS605EW","KS605EW","KS605EW","KS605EW","KS605EW","KS608EW","KS608EW","KS608EW","KS608EW","KS608EW","KS608EW","KS608EW","KS608EW","KS608EW","KS608EW"]
["MI Variable Name","MI Variable Name","MI Variable Name","MI Variable Name","KS101_All_People","KS101_Males","KS101_Females","KS101_People_in_HH","KS101_People_in_Communal_Est","KS101_Scchild_FTStu_4Ov_NonTer","KS101_Area_Hectares","KS101_Pop_Density_Per_Hectare","KS102_All_People","KS102_0_4","KS102_5_7","KS102_8_9","KS102_10_14","KS102_15","KS102_16_17","KS102_18_19","KS102_20_24","KS102_25_29","KS102_30_44","KS102_45_59","KS102_60_64","KS102_65_74","KS102_75_84","KS102_85_89","KS102_90Over","KS102_Mean_Age","KS102_Median_Age","KS103_All_People_16Over","KS103_Single_Nvr_Married","KS103_Married","KS103_Civil_Partnership","KS103_Separated","KS103_Divorced","KS103_Widowed","KS105_All_HH","KS105_Person_65Over","KS105_Person_Other","KS105_Family_All_65Over","KS105_Family_Married_No_Child","KS105_Family_Married_Dep_Child","KS105_Family_Marr_NonDep_Child","KS105_Family_Cohabit_No_Child","KS105_Family_Cohabit_Dep_Child","KS105_Family_Cohab_NonDep_Chil","KS105_Family_Lone_Dep_Child","KS105_Family_Lone_NonDep_Child","KS105_Other_HH_Dep_Child","KS105_Other_HH_All_FT_Student","KS105_Other_HH_All_65Over","KS105_Other_HH_Other","KS107_Lone_Par_Dep_Child","KS107_Lone_Par_PT_Emp","KS107_Lone_Par_FT_Emp","KS107_Lone_Par_No_Emp","KS107_Male_Lone_Par_Dep_Child","KS107_Male_Lone_Par_PT_Emp","KS107_Male_Lone_Par_FT_Emp","KS107_Male_Lone_Par_No_Emp","KS107_Female_Lone_Par_Dep_Chil","KS107_Female_Lone_Par_PT_Emp","KS107_Female_Lone_Par_FT_Emp","KS107_Female_Lone_Par_No_Emp","KS201_All_People","KS201_White_British","KS201_White_Irish","KS201_White_Gypsy_Irish_Trav","KS201_White_Other","KS201_Mix_White_Black_Caribb","KS201_Mix_White_Black_African","KS201_Mix_White_Asian","KS201_Mix_Other","KS201_Asian_Indian","KS201_Asian_Pakistani","KS201_Asian_Bangladeshi","KS201_Asian_Chinese","KS201_Asian_Other","KS201_Black_African","KS201_Black_Caribbean","KS201_Black_Other","KS201_Other_Arab","KS201_Other_Ethnic_Group","KS204_All_People","KS204_Born_England","KS204_Born_Northern_Ireland","KS204_Born_Scotland","KS204_Born_Wales","KS204_Born_UK_Not_Specified","KS204_Born_Ireland","KS204_Born_Other_EU_Mar01","KS204_Born_Other_EU_Apr01Mar11","KS204_Born_Other_Countries","KS205_All_People","KS205_No_Passport","KS205_United_Kingdom","KS205_Republic_Ireland","KS205_Other_Europe_EU","KS205_Other_Europe_NonEU","KS205_Africa","KS205_Middle_East_&_Asia","KS205_North_America_&_Caribb","KS205_Central_America","KS205_South_America","KS205_Antarctica_&_Oceania","KS205_British_Overseas_Terr","KS206_All_HH","KS206_All_16Over_Eng_Main","KS206_One_NotAll_16Ov_Eng_Main","KS206_No_16Ov_One_3_15_Eng_Mai","KS206_Nobody_HH_Enng_Main","KS209_All_People","KS209_Christian","KS209_Buddhist","KS209_Hindu","KS209_Jewish","KS209_Muslim","KS209_Sikh","KS209_Other_Religion","KS209_No_Religion","KS209_Not_Stated","KS301_All_People","KS301_Activ_Limit_A_Lot","KS301_Activ_Limit_A_Littl","KS301_Activ_Not_Limit","KS301_Activ_Limit_A_Lot_16_64","KS301_Activ_Limit_A_Litt_16_64","KS301_Activ_Not_Limit_16_64","KS301_Health_Very_Good","KS301_Health_Good","KS301_Health_Fair","KS301_Health_Bad","KS301_Health_Very_Bad","KS301_Provide_No_Unpaid_Care","KS301_Prov_Unpaid_Care_1_19","KS301_Prov_Unpaid_Care_20_49","KS301_Prov_Unpaid_Care_50More","KS401_All_Dwellings","KS401_Dwelling_Unshared","KS401_Dwelling_Share_2_HH_Spac","KS401_Dwelling_Share_3Ov_HH_Sp","KS401_All_HH_Spaces","KS401_HH_Spaces_Occupied","KS401_HH_Spaces_Unoccupied","KS401_Detached","KS401_SemiDetached","KS401_Terraced","KS401_Flat_Purpose_Built","KS401_Flat_Shared_House","KS401_Flat_Commercial_Building","KS401_Caravan_Mobile","KS402_All_HH","KS402_Owned_Outright","KS402_Owned_Mortgage_Loan","KS402_Shared_PartOwn_PartRent","KS402_Social _Rent_LA","KS402_Social_Rent_Other","KS402_Private_Rent_Landlrd_Let","KS402_Private_Rent_Other","KS402_Living_Rent_Free","KS403_All_HH_Spaces_With_Res","KS403_No_Central_Heating","KS403_Central_Heating","KS403_OccRat_Room_Min1_Less","KS403_OccRat_Bedroom_Min1_Less","KS403_Average_HH_Size","KS403_Average_Rooms_Per_HH","KS403_Average_Bedrooms_Per_HH","KS404_All_HH","KS404_Cars_Vans_None","KS404_Cars_Vans_One","KS404_Cars_Vans_Two","KS404_Cars_Vans_Three","KS404_Cars_Vans_Four_More","KS404_Cars_Vans_in _Area","KS501_All_People_16Over","KS501_No_Quals","KS501_Qual_Level_1","KS501_Qual_Level_2","KS501_Qual_Apprenticeship","KS501_Qual_Level_3","KS501_Qual_Level_4Over","KS501_Qual_Other","KS501_FTStu_Schoolchild_16_17","KS501_FTStu_Schoolchild_18Over","KS501_FTStu_18Over_EA_Employed","KS501_FTStu_18Over_EA_Unemploy","KS501_FTStudent_18Over_EI","KS601_All_People_16_74","KS601_EA_Parttime","KS601_EA_Fulltime","KS601_EA_SelfEmployed","KS601_EA_Unemployed","KS601_EA_FT_Student","KS601_EI_Retired","KS601_EI_Student_Inc_FT","KS601_EI_Look_After_Home","KS601_EI_Sick_Disabled","KS601_EI_Other","KS601_Unemp_16_24","KS601_Unemp_50_74","KS601_Unemp_Never_Worked","KS601_Unemp_Longterm","KS604_All_People_16_74_Employ","KS604_Parttime_1_15","KS604_Parttime_16_30","KS604_Fulltime_31_48","KS604_Fulltime_49More","KS604_Male_16Over_Employment","KS604_Male_Parttime_1_15","KS604_Male_Parttime_16_30","KS604_Male_Fulltime_31_48","KS604_Male_Fulltime_49More","KS604_Female_16Over_Employment","KS604_Female_Parttime_1_15","KS604_Female_Parttime_16_30","KS604_Female_Fulltime_31_48","KS604_Female_Fulltime_49More","KS605_All_People_16_74_Employ","KS605_Agric_Forest_Fish","KS605_Mining_Quarrying","KS605_Manufacturing","KS605_Elec_Gas_Steam","KS605_Water_Sewer_Waste","KS605_Construction","KS605_Wholesale_Retail","KS605_Transport_Storage","KS605_Accommod_Food","KS605_Information_Comms","KS605_Finance_Insurance","KS605_Real_Estate","KS605_Prof_Science_Tech","KS605_Admin_SupService","KS605_Public_Admin_Defe","KS605_Education","KS605_Health_Social_Wor","KS605_Other","KS608_All_People_16_74_Employ","KS608_Manager_Dir_Senior","KS608_Professional","KS608_Assoc_Prof_Tech","KS608_Admin_Secretarial","KS608_Skilled_Trades","KS608_Care_Leisure_Serv","KS608_Sales_Custom_Serv","KS608_Proces_Plant_Mach","KS608_Elementary"]
["ONS Variable Name","ONS Variable Name","ONS Variable Name","ONS Variable Name","All usual residents","Males","Females","Lives in a household","Lives in a communal establishment","Schoolchild or full-time student aged 4 and over at their non term-time address","Area (hectares)","Density (number of persons per hectare)","All usual residents","Age 0 to 4","Age 5 to 7","Age 8 to 9","Age 10 to 14","Age 15","Age 16 to 17","Age 18 to 19","Age 20 to 24","Age 25 to 29","Age 30 to 44","Age 45 to 59","Age 60 to 64","Age 65 to 74","Age 75 to 84","Age 85 to 89","Age 90 and over","Mean age","Median age","All usual residents aged 16 and over","Single (never married or never registered a same-sex civil partnership)","Married","In a registered same-sex civil partnership","Separated (but still legally married or still legally in a same-sex civil partnership)","Divorced or formerly in a same-sex civil partnership which is now legally dissolved","Widowed or surviving partner from a same-sex civil partnership","All households","One person household: Aged 65 and over","One person household: Other","One family only: All aged 65 and over","One family only: Married or same-sex civil partnership couple: No children","One family only: Married or same-sex civil partnership couple: Dependent children","One family only: Married or same-sex civil partnership couple: All children non-dependent","One family only: Cohabiting couple: No children","One family only: Cohabiting couple: Dependent children","One family only: Cohabiting couple: All children non-dependent","One family only: Lone parent: Dependent children","One family only: Lone parent: All children non-dependent","Other household types: With dependent children","Other household types: All full-time students","Other household types: All aged 65 and over","Other household types: Other","All categories: Family status (lone parent) by sex and economic activity","Lone parent in part-time employment: Total","Lone parent in full-time employment: Total","Lone parent not in employment: Total","Male lone parent: Total","Male lone parent: In part-time employment","Male lone parent: In full-time employment","Male lone parent: Not in employment","Female lone parent: Total","Female lone parent: In part-time employment","Female lone parent: In full-time employment","Female lone parent: Not in employment","All usual residents","White: English/Welsh/Scottish/Northern Irish/British","White: Irish","White: Gypsy or Irish Traveller","White: Other White","Mixed/multiple ethnic groups: White and Black Caribbean","Mixed/multiple ethnic groups: White and Black African","Mixed/multiple ethnic groups: White and Asian","Mixed/multiple ethnic groups: Other Mixed","Asian/Asian British: Indian","Asian/Asian British: Pakistani","Asian/Asian British: Bangladeshi","Asian/Asian British: Chinese","Asian/Asian British: Other Asian","Black/African/Caribbean/Black British: African","Black/African/Caribbean/Black British: Caribbean","Black/African/Caribbean/Black British: Other Black","Other ethnic group: Arab","Other ethnic group: Any other ethnic group","All usual residents","England","Northern Ireland","Scotland","Wales","United Kingdom not otherwise specified","Ireland","Other EU: Member countries in March 2001","Other EU: Accession countries April 2001 to March 2011","Other countries","All usual residents","No passport","United Kingdom","Republic of Ireland","Other Europe: EU countries","Other Europe: Non EU countries","Africa","Middle East and Asia","North America and the Caribbean","Central America","South America","Antarctica and Oceania","British Overseas Territories","All Households","All people aged 16 and over in household have English as a main language (English or Welsh in Wales)","At least one but not all people aged 16 and over in household have English as a main language (English or Welsh in Wales)","No people aged 16 and over in household but at least one person aged 3 to 15 has English as a main language (English or Welsh in Wales)","No people in household have English as a main language (English or Welsh in Wales)","All usual residents","Christian","Buddhist","Hindu","Jewish","Muslim","Sikh","Other religion","No religion","Religion not stated","All usual residents","Day-to-day activities limited a lot","Day-to-day activities limited a little","Day-to-day activities not limited","Day-to-day activities limited a lot: Age 16 to 64","Day-to-day activities limited a little: Age 16 to 64","Day-to-day activities not limited: Age 16 to 64","Very good health","Good health","Fair health","Bad health","Very bad health","Provides no unpaid care","Provides 1 to 19 hours unpaid care a week","Provides 20 to 49 hours unpaid care a week","Provides 50 or more hours unpaid care a week","All dwellings","Unshared dwelling","Shared dwelling: Two household spaces","Shared dwelling: Three or more household spaces","All household spaces","Household spaces with at least one usual resident","Household spaces with no usual residents","Whole house or bungalow: Detached","Whole house or bungalow: Semi-detached","Whole house or bungalow: Terraced (including end-terrace)","Flat, maisonette or apartment: Purpose-built block of flats or tenement","Flat, maisonette or apartment: Part of a converted or shared house (including bed-sits)","Flat, maisonette or apartment: In a commercial building","Caravan or other mobile or temporary structure","All households","Owned: Owned outright","Owned: Owned with a mortgage or loan","Shared ownership (part owned and part rented)","Social rented: Rented from council (Local Authority)","Social rented: Other","Private rented: Private landlord or letting agency","Private rented: Other","Living rent free","All categories: Type of central heating in household","Does not have central heating","Does have central heating","Occupancy rating (rooms) of -1 or less","Occupancy rating (bedrooms) of -1 or less","Average household size","Average number of rooms per household","Average number of bedrooms per household","All households","No cars or vans in household","1 car or van in household","2 cars or vans in household","3 cars or vans in household","4 or more cars or vans in household","All cars or vans in the area","All usual residents aged 16 and over","Highest level of qualification: No qualifications","Highest level of qualification: Level 1 qualifications","Highest level of qualification: Level 2 qualifications","Highest level of qualification: Apprenticeship","Highest level of qualification: Level 3 qualifications","Highest level of qualification: Level 4 qualifications and above","Highest level of qualification: Other qualifications","Schoolchildren and full-time students: Age 16 to 17","Schoolchildren and full-time students: Age 18 and over","Full-time students: Age 18 and over: Economically active: In employment","Full-time students: Age 18 and over: Economically active: Unemployed","Full-time students: Age 18 and over: Economically inactive","All usual residents aged 16 to 74","Economically active: Employee: Part-time","Economically active: Employee: Full-time","Economically active: Self-employed","Economically active: Unemployed","Economically active: Full-time student","Economically inactive: Retired","Economically inactive: Student (including full-time students)","Economically inactive: Looking after home or family","Economically inactive: Long-term sick or disabled","Economically inactive: Other","Unemployed: Age 16 to 24 ","Unemployed: Age 50 to 74","Unemployed: Never worked","Long-term unemployed","All usual residents aged 16 to 74 in employment the week before the census","Part-time: 15 hours or less worked","Part-time: 16 to 30 hours worked","Full-time: 31 to 48 hours worked","Full-time: 49 or more hours worked","Males: Total","Males: Part-time: 15 hours or less worked","Males: Part-time: 16 to 30 hours worked","Males: Full-time: 31 to 48 hours worked","Males: Full-time: 49 or more hours worked","Females: Total","Females: Part-time: 15 hours or less worked","Females: Part-time: 16 to 30 hours worked","Females: Full-time: 31 to 48 hours worked","Females: Full-time: 49 or more hours worked","All usual residents aged 16 to 74 in employment the week before the census","A Agriculture, forestry and fishing","B Mining and quarrying","C Manufacturing","D Electricity, gas, steam and air conditioning supply ","E Water supply; sewerage, waste management and remediation activities","F Construction","G Wholesale and retail trade; repair of motor vehicles and motor cycles","H Transport and storage","I Accommodation and food service activities","J Information and communication","K Financial and insurance activities","L Real estate activities","M Professional, scientific and technical activities","N Administrative and support service activities","O Public administration and defence; compulsory social security","P Education","Q Human health and social work activities","R, S, T, U Other","All usual residents aged 16 to 74 in employment the week before the census","1. Managers, directors and senior officials","2. Professional occupations","3. Associate professional and technical occupations","4. Administrative and secretarial occupations","5. Skilled trades occupations","6. Caring, leisure and other service occupations","7. Sales and customer service occupations","8. Process, plant and machine operatives","9. Elementary occupations"]
["Area Type","ONS Area Name","System Area Name","Area Code",3,4,5,6,7,8,9,10,11,12,13,14,15,16,17,18,19,20,21,22,23,24,25,26,27,28,29,30,31,32,33,34,35,36,37,38,39,40,41,42,43,44,45,46,47,48,49,50,51,52,53,54,55,56,57,58,59,60,61,62,63,64,65,66,67,68,69,70,71,72,73,74,75,76,77,78,79,80,81,82,83,84,85,86,87,88,89,90,91,92,93,94,95,96,97,98,99,100,101,102,103,104,105,106,107,108,109,110,111,112,113,114,115,116,117,118,119,120,121,122,123,124,125,126,127,128,129,130,131,132,133,134,135,136,137,138,139,140,141,142,143,144,145,146,147,148,149,150,151,152,153,154,155,156,157,158,159,160,161,162,163,164,165,166,167,168,169,170,171,172,173,174,175,176,177,178,179,180,181,182,183,184,185,186,187,188,189,190,191,192,193,194,195,196,197,198,199,200,201,202,203,204,205,206,207,208,209,210,211,212,213,214,215,216,217,218,219,220,221,222,223,224,225,226,227,228,229,230,231,232,233,234,235,236,237,238,239,240,241,242,243,244,245,246,247]
["N/A","N/A","USE AREA TYPE AND AREA NAME SELECTION BOXES ABOVE TO CHOOSE AREA","TEXT005",0,0,0,0,0,0,0,0,0,0,0,0,0,0,0,0,0,0,0,0,0,0,0,0,0,0,0,0,0,0,0,0,0,0,0,0,0,0,0,0,0,0,0,0,0,0,0,0,0,0,0,0,0,0,0,0,0,0,0,0,0,0,0,0,0,0,0,0,0,0,0,0,0,0,0,0,0,0,0,0,0,0,0,0,0,0,0,0,0,0,0,0,0,0,0,0,0,0,0,0,0,0,0,0,0,0,0,0,0,0,0,0,0,0,0,0,0,0,0,0,0,0,0,0,0,0,0,0,0,0,0,0,0,0,0,0,0,0,0,0,0,0,0,0,0,0,0,0,0,0,0,0,0,0,0,0,0,0,0,0,0,0,0,0,0,0,0,0,0,0,0,0,0,0,0,0,0,0,0,0,0,0,0,0,0,0,0,0,0,0,0,0,0,0,0,0,0,0,0,0,0,0,0,0,0,0,0,0,0,0,0,0,0,0,0,0,0,0,0,0,0,0,0,0,0,0,0,0,0,0,0,0,0,0,0,0,0,0,0,0,0,0,0,0,0]
["N/A","N/A","USE COMPARISON AREA TYPE AND COMPARISON AREA NAME SELECTION BOXES ABOVE TO CHOOSE AREA","TEXT006",0,0,0,0,0,0,0,0,0,0,0,0,0,0,0,0,0,0,0,0,0,0,0,0,0,0,0,0,0,0,0,0,0,0,0,0,0,0,0,0,0,0,0,0,0,0,0,0,0,0,0,0,0,0,0,0,0,0,0,0,0,0,0,0,0,0,0,0,0,0,0,0,0,0,0,0,0,0,0,0,0,0,0,0,0,0,0,0,0,0,0,0,0,0,0,0,0,0,0,0,0,0,0,0,0,0,0,0,0,0,0,0,0,0,0,0,0,0,0,0,0,0,0,0,0,0,0,0,0,0,0,0,0,0,0,0,0,0,0,0,0,0,0,0,0,0,0,0,0,0,0,0,0,0,0,0,0,0,0,0,0,0,0,0,0,0,0,0,0,0,0,0,0,0,0,0,0,0,0,0,0,0,0,0,0,0,0,0,0,0,0,0,0,0,0,0,0,0,0,0,0,0,0,0,0,0,0,0,0,0,0,0,0,0,0,0,0,0,0,0,0,0,0,0,0,0,0,0,0,0,0,0,0,0,0,0,0,0,0,0,0,0,0,0,0]
["Country","England and Wales","England & Wales","K04000001",56075912,27573376,28502536,55071113,1004799,685206,15101353.83,3.7,56075912,3496750,1927039,1208672,3258677,687994,1391235,1460156,3807245,3836609,11515165,10886135,3377162,4852833,3115552,825671,429017,39.4,39,45496780,15730275,21196684,104942,1195882,4099330,3169667,23366044,2903930,4163331,1905393,2883145,3557230,1316880,1233571,949564,115099,1671396,816368,612625,132352,66167,1038993,1662205,555483,432214,674508,161876,23598,85127,53151,1500329,531885,347087,621357,56075912,45134686,531087,57680,2485942,426715,165974,341727,289984,1412958,1124511,447201,393141,835720,989628,594825,280437,230600,333096,56075912,44882858,214988,733218,2732624,7214,407357,921251,1114368,5062034,56075912,9458051,42456526,409065,1940480,149284,520635,1135432,336241,9202,74288,210725,2121,23366044,21313812,868431,181729,1002072,56075912,33243175,247743,816633,263346,2706066,423158,240530,14097229,4038032,56075912,4769712,5278729,46027471,2086236,2619966,31567505,26434409,19094820,7401881,2428668,716134,50275666,3665072,775189,1359985,24359880,24338612,6965,14303,24429618,23366044,1063574,5512289,7506350,6028348,3987968,1017335,271315,106013,23366044,7206954,7646724,178236,2208080,1910381,3566467,333711,315491,23366044,624095,22741949,1995860,1100606,2.4,5.4,2.7,23366044,5989770,9861642,5777662,1283780,453190,27294656,45496780,10307327,6047384,6938433,1631777,5617802,12383477,2570580,1230368,2485001,836788,219756,1420951,41126540,5646290,15815912,3987661,1799536,1410470,5682192,2389711,1781530,1714894,898344,502438,332683,291072,706924,26526336,2543578,5175078,15293318,3514362,14028245,809013,1383948,9143937,2691347,12498091,1734565,3791130,6149381,823015,26526336,227286,46478,2369998,151051,187616,2043229,4220124,1313316,1484838,1055356,1145488,384499,1745743,1293788,1591614,2628063,3318464,1319385,26526336,2860702,4615759,3366313,3034637,3041957,2492117,2240869,1919017,2954965]
["Country","England","England","E92000001",53012456,26069148,26943308,52059931,952525,650145,13027842.85,4.0999999999999996,53012456,3318449,1827610,1145022,3080929,650826,1314124,1375315,3595321,3650881,10944271,10276902,3172277,4552283,2928118,776311,403817,39.299999999999997,39,42989620,14889928,20029369,100288,1141196,3857137,2971702,22063368,2725596,3940897,1789465,2719210,3375890,1234355,1173172,890780,108486,1573255,766569,584016,124285,61715,995677,1564681,522789,407873,634019,151744,22130,80078,49536,1412937,500659,327795,584483,53012456,42279236,517001,54895,2430010,415616,161550,332708,283005,1395702,1112282,436514,379503,819402,977741,591016,277857,220985,327433,53012456,44246592,206735,708872,506619,6499,395182,894908,1085351,4961698,53012456,8770532,40174490,398394,1897747,146451,511740,1105306,329733,8995,73390,206256,2073,22063368,20053717,850510,178838,980303,53012456,31479876,238626,806199,261282,2660116,420196,227825,13114232,3804104,53012456,4405394,4947192,43659870,1924080,2452742,29952269,25005712,18141457,6954092,2250446,660749,47582440,3452636,721143,1256237,22976066,22955448,6700,13918,23044097,22063368,980729,5128552,7076395,5642969,3854451,984284,257218,100228,22063368,6745584,7229440,173760,2079778,1823772,3401675,314249,295110,22063368,594561,21468807,1928596,1060967,2.4,5.4,2.7,22063368,5691251,9301776,5441593,1203865,424883,25696833,42989620,9656810,5714441,6544614,1532934,5309631,11769361,2461829,1163148,2348197,791902,208518,1340731,38881374,5333268,15016564,3793632,1702847,1336823,5320691,2255831,1695134,1574134,852450,471666,315863,276121,668496,25162721,2418518,4888565,14502713,3352925,13315285,768559,1311281,8670267,2565178,11847436,1649959,3577284,5832446,787747,25162721,203789,43302,2226247,140148,175214,1931936,4007570,1260094,1399931,1024352,1103858,367459,1687127,1239422,1483450,2490199,3121238,1257385,25162721,2734900,4400375,3219067,2883230,2858680,2348650,2117477,1808024,2792318]
["Region","North East","North East Region","E12000001",2596886,1269703,1327183,2550818,46068,22618,857316.93,3,2596886,149843,83689,52610,145045,31250,63605,74585,184018,164303,491533,538344,168576,239242,154863,37546,17834,40.299999999999997,41,2134449,734910,972550,3918,55081,201201,166789,1129935,152597,207903,92482,145083,150938,70039,55038,50956,6583,91120,42822,21846,8047,2899,31582,90549,30501,22233,37815,8485,1111,4091,3283,82064,29390,18142,34532,2596886,2431423,8035,1684,34425,5938,3549,8022,4940,15817,19831,10972,14284,13695,10982,1193,1045,5850,5201,2596886,2403870,9331,46127,8842,143,5586,19001,16836,87150,2596886,553482,1974668,5978,25277,2506,8514,28544,4504,164,574,2753,81,1129935,1093614,15024,2887,18410,2596886,1753334,6316,7772,4503,46764,5964,6668,607700,157865,2596886,285087,277105,2034694,132039,140910,1412015,1142170,866035,395243,149374,44064,2310535,165828,41778,78745,1178269,1177970,108,191,1179194,1129935,49259,184614,456002,358783,141829,27649,9044,1273,1129935,323084,375511,4098,167593,91913,139624,14802,13310,1129935,13919,1116016,57273,34584,2.2999999999999998,5.3,2.7,1129935,355929,476508,238160,46036,13302,1150133,2134449,565208,291852,335926,101328,279693,473382,87060,54991,118055,37675,10243,69765,1924206,272404,707759,125746,103313,62860,307240,113385,77693,112274,41532,31362,18436,18619,41107,1152970,100347,246071,683447,123105,595928,32237,60204,407121,96366,557042,68110,185867,276326,26739,1152970,7523,5947,117995,11187,8632,91300,177216,54720,67295,31104,32605,15862,52878,50714,93882,111769,170555,51786,1152970,99240,175405,126594,137205,137654,117162,119542,99960,140208]
["Region","North West","North West Region","E12000002",7052177,3464685,3587492,6927820,124357,76565,1410534.6,5,7052177,432091,241108,151058,412407,87884,177491,191462,489640,466582,1394536,1397119,439644,627742,394596,99316,49501,39.5,39,5727629,2040367,2563427,11188,152447,532490,427710,3009549,386650,582652,234507,350228,423069,179277,147764,130840,16506,242754,118007,70603,14567,8324,103801,241336,79649,63643,98044,23910,3271,11877,8762,217426,76378,51766,89282,7052177,6141069,64930,4147,151570,39204,18392,30529,22766,107353,189436,45897,48049,46750,59278,23131,15460,24528,19688,7052177,6272929,36767,99451,65257,541,48456,58912,85057,384807,7052177,1259858,5492226,43010,127647,7653,33774,100542,16000,777,2578,9641,171,3009549,2836200,71725,14917,86707,7052177,4742860,20695,38259,30417,356458,8857,19166,1397916,437549,7052177,724045,702760,5625372,339883,364185,3852406,3276592,2314301,982586,372194,106504,6270205,469493,113003,199476,3143898,3142040,567,1291,3150410,3009549,140861,558252,1123976,944608,408197,76216,30427,8734,3009549,934101,1007463,15787,231730,318751,424667,38232,38818,3009549,92991,2916558,187816,111589,2.2999999999999998,5.4,2.7,3009549,841667,1279984,707398,138371,42129,3296604,5727629,1419620,777561,905338,225633,740829,1399038,259610,155844,311026,109372,29312,171427,5184216,722453,1943526,423916,242499,183516,765759,292848,204342,291195,114162,71662,42140,39249,95724,3228744,291037,669706,1916983,351018,1684917,97537,180037,1138158,269185,1543827,193500,489669,778825,81833,3228744,21555,3672,331950,18788,27171,238624,539611,163044,190720,95228,111664,45603,180778,156833,193584,314732,447260,147927,3228744,319397,527222,372198,379397,364515,325284,304477,260431,375823]
["Region","Yorkshire and The Humber","Yorkshire and The Humber Region","E12000003",5283733,2598078,2685655,5185677,98056,54976,1540763.62,3.4,5283733,328447,182818,114657,306096,65774,130943,151928,382679,347304,1042121,1031066,325329,463849,296421,75868,38433,39.4,39,4285941,1453124,2005463,8474,110247,399528,309105,2224059,281870,397529,186553,292692,323948,122974,122982,102664,12463,158945,71343,53858,15461,5360,75417,157980,55202,40067,62711,16109,2249,8515,5345,141871,52953,31552,57366,5283733,4531137,26410,4378,130031,33241,9321,26008,15988,69252,225892,22424,28435,39961,46033,23420,10892,21340,19570,5283733,4706892,16608,68856,26255,431,19986,46878,83769,314058,5283733,1025490,4021873,17290,108001,5811,27018,85669,14412,570,1670,7661,115,2224059,2076948,64179,11773,71159,5283733,3143819,14319,24074,9929,326050,22179,16517,1366219,360627,5283733,478358,515291,4290084,211198,257601,2942571,2407907,1817231,739959,247942,70694,4732392,341658,74574,135109,2319910,2318516,410,984,2324385,2224059,100326,477309,849261,643879,275124,51591,21743,5478,2224059,681492,744071,9637,272875,129778,321142,32306,32758,2224059,74100,2149959,147894,82156,2.2999999999999998,5.4,2.7,2224059,612903,954222,521858,102611,32465,2451298,4285941,1104692,581029,662318,181690,547480,998718,210014,113290,245450,80433,23267,141077,3875219,564578,1435376,325432,187755,136834,570173,228653,166214,174493,85711,56251,32216,32785,75113,2428074,229654,515440,1393681,289299,1283364,73395,133269,849692,227008,1144710,156259,382171,543989,62291,2428074,22642,5558,272746,14406,17921,193645,409728,119806,138567,61646,89939,28928,121813,110695,143139,245151,324227,107517,2428074,240292,374316,277852,265208,298008,234333,220859,214439,302767]
["Region","East Midlands","East Midlands Region","E12000004",4533222,2234493,2298729,4442192,91030,54416,1560641.67,2.9,4533222,270174,151534,96030,264538,56179,114815,124920,307676,278581,895538,908888,291401,414713,256569,67862,33804,40,40,3694767,1192443,1790916,7179,96149,342665,265415,1895604,232486,316503,170367,264656,289590,107882,105909,84611,9994,127572,60162,42909,12122,4773,66068,126927,44601,34775,47551,13648,1893,7685,4070,113279,42708,27090,43481,4533222,3871146,28676,3418,143116,40404,8814,21688,15318,168928,48940,13258,24404,37893,41768,28913,10803,9746,15989,4533222,3969176,15619,66507,33337,372,22202,48647,91725,285637,4533222,919021,3374261,19188,125820,5695,26478,65101,13703,366,1671,6694,165,1895604,1768597,48775,9341,68891,4533222,2666172,12672,89723,4254,140649,44335,17918,1248056,309443,4533222,393242,451055,3688925,167610,223247,2530962,2053334,1593206,634414,196010,56258,4042973,311813,63603,114833,1971514,1970747,255,512,1973828,1895604,78224,634599,692791,406998,183026,31627,17113,7674,1895604,621224,653441,12744,192049,108374,257017,25426,25329,1895604,38112,1857492,104764,61644,2.2999999999999998,5.6,2.8,1895604,418999,805212,519487,113338,38568,2356539,3694767,914014,512492,575351,149078,477203,871702,194927,100502,196370,63118,16483,116226,3336532,480780,1293074,288661,139295,110220,498882,191941,133601,135264,64814,41371,26106,21034,54393,2146541,208115,426988,1235405,276033,1135325,63179,104432,749080,218634,1011216,144936,322556,486325,57399,2146541,25011,5657,276906,17649,16229,165967,381246,112275,109891,56664,54384,24513,106604,96191,119407,213375,269593,94979,2146541,227040,326868,242655,234235,259854,204216,180368,198578,272727]
["Region","West Midlands","West Midlands Region","E12000005",5601847,2763187,2838660,5509535,92312,61499,1299831.58,4.3,5601847,354801,200808,126252,340758,71823,146021,151468,380909,363286,1109645,1074836,335265,505689,316994,82016,41276,39.299999999999997,39,4507405,1517613,2141698,7242,117396,393163,330293,2294909,289571,388677,196969,277113,353267,143155,109972,98453,11684,172682,86064,67693,11397,6379,81833,171504,54428,44778,72298,16858,2183,8838,5837,154646,52245,35940,66461,5601847,4434333,55216,4734,139386,68533,9232,32561,21388,218439,227248,52477,31274,74997,64253,86794,31078,18079,31825,5601847,4822906,19187,52260,76909,612,42173,50189,85949,451662,5601847,1149137,4142097,35222,127119,6648,31846,112466,18500,447,1762,7176,160,2294909,2108064,85321,16393,85131,5601847,3373450,16649,72247,4621,376152,133681,25654,1230910,368483,5601847,508454,553610,4539783,216957,276018,3068455,2525862,1946936,786583,263217,79249,4986959,378678,85924,150286,2376728,2375404,449,875,2380917,2294909,86008,563249,876381,545544,317169,44945,23614,10015,2294909,740899,748195,15230,249835,185335,293988,27682,33745,2294909,67167,2227742,156344,105814,2.4,5.5,2.8,2294909,566621,952798,591210,136201,48079,2757999,4507405,1196794,616225,695544,150353,553600,1050404,244485,129028,237823,76827,22300,137919,4067119,569727,1521871,345928,207415,133918,586305,241856,185328,178489,96282,60027,36498,37907,84771,2536876,240502,512690,1477418,306266,1348542,75522,138545,896202,238273,1188334,164980,374145,581216,67993,2536876,23825,2232,311586,17369,21002,189878,434269,133003,132532,72913,78920,34397,129011,119833,135384,257782,327852,115088,2536876,255592,401102,282595,289595,309088,241235,216918,223017,317734]
["Region","East of England","East of England Region","E12000006",5846965,2875807,2971158,5748605,98360,78159,1910838.21,3.1,5846965,361269,201093,127419,345453,73398,148076,137223,352974,362643,1183973,1156696,372566,531393,350137,93653,48999,40.200000000000003,40,4738333,1475171,2363201,8696,120118,437738,333409,2423035,306941,382769,226812,327750,404171,141766,131722,103744,12568,150707,76941,53987,6802,6901,89454,149839,52962,40181,56696,15140,2042,8770,4328,134699,50920,31411,52368,5846965,4986170,55573,8165,260286,37222,15388,32226,27280,86736,66270,32992,33503,58871,69925,33614,13903,10367,18474,5846965,5062456,20638,77676,43521,459,43682,91708,120957,385868,5846965,977698,4480603,43520,195077,12389,48273,81891,44631,770,4754,17692,104,2423035,2267821,69092,12326,73796,5846965,3488063,22273,54010,34830,148341,18213,24981,1631572,424682,5846965,434168,542346,4870451,171835,251429,3290887,2761271,2060157,752324,212830,60383,5249374,395865,71815,129911,2531907,2530904,331,672,2535498,2423035,112463,744954,769846,577263,348277,53284,22473,19401,2423035,797019,840842,17760,188886,191445,322938,33289,30856,2423035,48711,2374324,156437,86102,2.4,5.6,2.8,2423035,449358,1039677,703968,166426,63606,3231763,4738333,1067449,693576,769520,177366,557318,1218862,254242,130654,185736,68781,14488,101721,4245544,606944,1696374,446248,161631,126893,609778,196147,190552,133500,77477,45199,33218,20722,63415,2849512,292006,529672,1619761,408073,1521572,83879,128441,987373,321879,1327940,208127,401231,632388,86194,2849512,30198,3451,247992,11186,20502,245284,466687,150814,133925,111192,142716,41257,192755,137902,159924,282949,327457,143321,2849512,324015,476413,366335,341028,340617,264989,224452,208251,303412]
["Region","London","London (Greater London) Region","E12000007",8173941,4033289,4140652,8073700,100241,99779,157215.07999999999,52,8173941,591495,301095,181714,456865,93599,186626,191434,629972,832966,2070954,1389882,342590,473058,308661,80574,42456,35.6,33,6549173,2888944,2608345,27425,211500,484106,328853,3266173,312022,718536,134063,270709,490040,155658,178845,91774,12288,278986,134478,149043,24384,8660,306687,277589,75662,69173,132754,20953,3723,9196,8034,256636,71939,59977,124720,8173941,3669284,175974,8196,1033981,119425,65479,101500,118875,542857,223797,222127,124250,398515,573931,344597,170112,106020,175021,8173941,4997072,32774,89527,53828,2476,129807,341981,369152,2157324,8173941,638343,5820992,151847,787047,74220,238963,427692,140646,3797,47141,98952,686,3266173,2418518,340072,85581,422002,8173941,3957984,82026,411291,148602,1012823,126134,47970,1694372,692739,8173941,551664,605501,7016776,276070,344797,5023557,4127788,2725645,915035,305343,100130,7483968,435278,105399,149296,3358163,3349011,3160,5992,3387255,3266173,121082,211232,629607,776821,1274526,429456,62795,2818,3266173,689898,886309,42108,439727,346266,775591,43494,42780,3266173,92411,3173762,707437,379990,2.5,4.7,2.5,3266173,1357251,1324032,458659,95619,30612,2664414,6549173,1152517,702687,775928,107665,685508,2470225,654643,171867,529685,165980,52671,309774,6117482,666513,2437797,712893,318500,248514,512057,477543,320880,226992,195793,70871,53243,65363,124542,3998897,346106,678947,2338716,635128,2135797,129933,246603,1309573,449688,1863100,216173,432344,1029143,185440,3998897,2363,5606,128905,10358,14207,262356,522204,200336,251574,276355,306443,79520,434405,234191,201545,384156,428586,255787,3998897,464272,898018,651058,466488,332674,314023,299222,189123,384019]
["Region","South East","South East Region","E12000008",8634750,4239298,4395452,8446500,188250,130976,1906964.91,4.5,8634750,534235,299327,188731,512875,106916,217612,217156,534287,528057,1761278,1716857,535399,763695,501118,139576,77631,40,40,6992666,2230242,3448947,16398,177075,637433,482571,3555463,449969,573185,318596,471419,608251,196174,194744,138651,16479,216366,110188,81369,18758,10667,150647,215348,76954,59890,78504,22090,3192,13022,5876,193258,73762,46868,72628,8634750,7358998,73571,14542,380709,45980,22825,58764,40195,152132,99246,27951,53061,119652,87345,34225,14443,19363,31748,8634750,7325834,35344,134522,94903,827,59125,162308,156305,665582,8634750,1219067,6825574,60982,284098,22881,77157,154843,55833,1541,9278,38844,359,3555463,3312400,114631,19423,109009,8634750,5160128,43946,92499,17761,201651,54941,39672,2388286,635866,8634750,593643,762561,7278546,235133,351447,4924066,4232707,2989920,1037592,291456,83075,7787397,577114,96883,173356,3694388,3691743,781,1864,3704173,3555463,148710,1037388,1022394,829923,598222,149158,41190,25898,3555463,1156081,1248436,39280,206431,281042,521479,57113,45601,3555463,84627,3470836,265974,133570,2.4,5.6,2.8,3555463,660430,1483911,1059380,253552,98190,4803729,6992666,1333955,946056,1110706,253423,892915,2093693,361918,193805,329933,119336,25735,183812,6274341,865933,2537828,691572,216231,209620,859293,324649,273519,183395,112301,58904,46648,26471,82872,4260723,437582,781005,2418700,623436,2259439,131265,191495,1456780,479899,2001284,306317,589510,961920,143537,4260723,28582,5832,306391,24500,29749,339761,662860,222795,214329,235081,191566,61133,317787,219830,255674,432119,495212,217522,4260723,521978,798224,589352,488467,473290,397104,336150,242998,413160]
["Region","South West","South West Region","E12000009",5288935,2590608,2698327,5175084,113851,71157,2383736.25,2.2000000000000002,5288935,296094,166138,106551,296892,64003,128935,135139,333166,307159,994693,1063214,361507,532902,348759,99900,53883,41.6,42,4359257,1357114,2134822,9768,101183,428813,327557,2264641,313490,373143,229116,319560,332616,117430,126196,89087,9921,134123,66564,42708,12747,7752,90188,133609,52830,33133,47646,14551,2466,8084,4001,119058,50364,25049,43645,5288935,4855676,28616,5631,156506,25669,8550,21410,16255,34188,11622,8416,22243,29068,24226,15129,10121,5692,9917,5288935,4685457,20467,73946,103767,638,24165,75284,75601,229610,5288935,1028436,4042196,21357,117661,8648,19717,48558,21504,563,3962,16843,232,2264641,2171555,41691,6197,45198,5288935,3194066,19730,16324,6365,51228,5892,29279,1549201,416850,5288935,436733,536963,4315239,173355,243108,2907350,2478081,1828026,710356,212080,60392,4718637,376909,68164,125225,2401289,2399113,639,1537,2408437,2264641,143796,716955,656137,559150,308081,120358,28819,18937,2264641,801786,725172,17116,130652,170868,345229,41905,31913,2264641,82523,2182118,144657,65518,2.2999999999999998,5.6,2.8,2264641,428093,985432,641473,151711,57932,2984354,4359257,902561,592963,713983,186398,575085,1193337,194930,113167,194119,70380,14019,109010,3856715,583936,1442959,433236,126208,124448,611204,188809,143005,138532,64378,36019,27358,13971,46559,2560384,273169,528046,1418602,340567,1350401,81612,128255,876288,264246,1209983,191557,399791,542314,76321,2560384,42090,5347,231776,14705,19801,205121,413749,103301,161098,84169,95621,36246,151096,113233,180911,248166,330496,123458,2560384,283074,422807,310428,281607,342980,250304,215489,171227,282468]
["Sub-Region","West Midlands (Met County)","West Midlands Metropolitan Area","E11000005",2736460,1346950,1389510,2693432,43028,24671,90163.85,30.3,2736460,192528,107282,66732,174834,36702,73170,82532,210315,198782,555126,484316,138600,215833,144371,36924,18413,37.4,36,2158382,805799,958952,3489,62284,172430,155428,1086748,134562,198122,78583,103940,165333,66738,45357,45202,5558,97640,46688,43149,8133,2965,44778,96952,28330,22943,45679,8268,1096,3737,3435,88684,27234,19206,42244,2736460,1806708,39183,1618,71629,53234,6053,21964,14953,185271,200545,48727,21430,59008,55557,79632,28880,16029,26039,2736460,2235649,9184,18586,18485,414,29167,24841,45586,354548,2736460,541747,1980999,24370,73692,3783,24046,88953,12213,200,947,2368,121,1086748,945604,65531,13369,62244,2736460,1471780,9119,59768,3060,332684,116715,15181,554152,174001,2736460,259920,266146,2210394,115896,139512,1487433,1212508,946206,394508,139964,43274,2443594,170134,45516,77216,1122501,1121569,318,614,1125406,1086748,38658,165175,431655,295033,196446,24051,12086,960,1086748,316855,334716,7645,163676,84437,150474,11638,17307,1086748,38117,1048631,99876,71729,2.5,5.3,2.7,1086748,341972,451747,228970,48790,15269,1123244,2158382,627995,297043,316997,60826,263216,457429,134876,64824,150263,43862,15641,90327,1958674,262751,695221,136512,128196,73784,250851,146761,108239,97831,58528,36636,20468,27775,53927,1146374,107222,239339,684565,115248,610207,36041,73910,412051,88205,536167,71181,165429,272514,27043,1146374,1466,375,133789,8369,9587,80877,194334,65193,62257,31604,42391,16190,55651,57637,57360,124077,155249,49968,1146374,99522,181583,123152,137995,128567,112628,105009,107004,150914]
["Sub-Region","N/A","Black Country","BC01",1139781,561171,578610,1129249,10532,8614,35691.83,31.9,1139781,76596,42872,26669,70233,14991,30310,29177,74426,77669,230476,211901,62979,101253,66153,16243,7833,"N/A","N/A",908420,308689,427128,1266,24777,75280,71280,461364,59699,76535,38514,48918,69122,31866,19763,22556,2694,37637,19771,16818,454,1324,15693,37312,10994,8727,17591,3269,411,1527,1331,34043,10583,7200,16260,1139781,848055,5922,989,24263,22447,1640,7234,4644,85801,42995,12611,4084,18691,11878,26744,8084,2741,10958,1139781,993616,1943,4838,6075,99,4616,6218,17430,104946,1139781,276883,801989,3526,22822,664,6152,27349,3579,45,214,482,23,461364,416799,21752,3773,19040,1139781,671760,2842,22570,292,69361,64923,7325,230248,70460,1139781,117307,117684,904790,50199,59726,607013,479795,401804,176664,62853,18665,1010509,73406,20271,35595,477748,477541,78,129,478365,461364,17001,79954,214328,98554,73593,6654,4819,463,461364,140568,142948,2428,83031,30742,49571,4131,7945,461364,15055,446309,32877,24912,2.4,"N/A","N/A",461364,136507,193772,101656,22483,6946,494948,908420,295326,130313,140320,27201,99522,160745,54993,26662,37277,13356,4346,19416,818191,115064,299717,55674,55246,23689,117829,41944,43913,42478,22637,16057,9114,10954,24418,487182,42552,101495,294798,48337,259980,12724,27866,181013,38377,227202,29828,73629,113785,9960,487182,588,193,69016,3927,4969,40126,88558,27818,23000,9984,15297,6661,18588,22881,25738,46168,63694,19976,487182,41727,62620,48866,58846,63209,48407,45969,52939,64599]
["Local Authority","Hartlepool","Hartlepool","E06000001",92028,44751,47277,91091,937,780,9386.11,9.8000000000000007,92028,5698,3202,1990,5653,1257,2570,2451,5955,5622,16869,19326,5837,8174,5568,1323,533,39.799999999999997,40,74228,25531,33211,116,1771,7392,6207,40434,5544,7848,3069,4902,5248,2427,1831,2140,239,3918,1477,785,14,113,879,3913,1344,740,1829,359,55,132,172,3554,1289,608,1657,92028,88924,193,40,742,180,54,173,143,266,291,214,229,304,129,36,5,57,48,92028,87982,175,1060,251,1,145,400,469,1545,92028,23520,67403,128,490,37,137,377,73,2,8,77,0,40434,39775,296,63,300,92028,64349,152,168,9,689,97,178,20507,5879,92028,11137,10178,70713,5319,5336,47975,39816,30117,14607,5789,1699,82104,5325,1555,3044,42102,42095,2,5,42119,40434,1685,6963,13714,15768,4809,377,379,109,40434,11090,13104,200,4016,5499,5525,446,554,40434,580,39854,1744,1126,2.2999999999999998,5.4,2.7,40434,14268,16573,7662,1535,396,38269,74228,22758,10057,11992,4076,9276,13063,3006,2342,2376,864,289,1209,66804,10092,22635,3805,5194,1787,10621,3042,3265,4733,1630,1586,859,969,2089,37767,3247,8939,21662,3919,19511,934,2054,13333,3190,18256,2313,6885,8329,729,37767,139,267,4410,666,539,3764,5657,1575,1938,645,789,588,1511,1603,2552,3641,5829,1654,37767,3035,4921,3958,3853,5126,4359,3880,3879,4756]
["Local Authority","Middlesbrough","Middlesbrough","E06000002",138412,67732,70680,136156,2256,1040,5387.47,25.7,138412,9431,5178,3098,8485,1811,3747,4506,11690,9765,25414,27065,7531,10833,7393,1658,807,37.799999999999997,37,110409,43550,45718,160,2990,9736,8255,57203,7290,10418,3928,5936,7382,3479,2456,2746,415,5960,2573,1744,684,198,1994,5919,1958,1026,2935,441,55,185,201,5478,1903,841,2734,138412,119106,574,85,2290,541,452,904,465,1477,6811,244,904,1332,1470,92,169,950,546,138412,124794,439,1433,371,5,439,954,1396,8581,138412,31289,101304,369,1936,165,1045,2710,96,7,17,74,0,57203,53492,1635,289,1787,138412,87511,370,591,45,9757,564,246,30797,8531,138412,14959,13919,109534,7593,7498,74627,62855,45295,19719,8001,2542,124252,7516,2301,4343,59956,59914,15,27,60164,57203,2961,8171,24004,19773,6933,789,466,28,57203,15200,17523,336,6049,7605,8648,861,981,57203,1042,56161,3999,2665,2.4,5.3,2.7,57203,21488,22963,10207,1945,600,51821,110409,33002,15053,16891,4874,14542,20472,5575,3246,8375,2528,1044,4784,100551,15063,31301,5171,7631,4416,13922,7453,5569,6841,3184,2296,1273,1709,3070,54547,5716,13450,30267,5114,28197,1884,3631,18490,4192,26350,3832,9819,11777,922,54547,82,387,4430,490,380,4620,9124,3002,3705,1266,1358,702,2253,2628,3197,5362,9116,2445,54547,3884,7247,5177,5541,6437,6646,6077,5483,8055]
["Local Authority","Redcar and Cleveland","Redcar and Cleveland","E06000003",135177,65655,69522,133929,1248,1096,24489.51,5.5,135177,7553,4362,2736,7803,1712,3608,3515,8092,7628,24120,28285,9511,14418,8721,2133,980,41.5,43,111011,35417,52689,141,2594,10834,9336,59605,8791,9944,5655,8014,7604,3932,2537,3026,364,5141,2183,1036,11,126,1241,5124,1810,1061,2253,443,63,171,209,4681,1747,890,2044,135177,131928,415,85,775,298,107,273,175,91,295,94,155,234,80,34,8,37,93,135177,129139,379,2167,470,3,324,743,370,1582,135177,32190,101917,248,481,71,98,225,117,0,14,114,3,59605,58977,398,29,201,135177,95111,187,64,33,598,43,362,30054,8725,135177,15482,15235,104460,6788,7394,70577,57285,45844,21449,8184,2415,119143,9004,2450,4580,61899,61878,6,15,61965,59605,2360,11112,27265,17358,4384,1224,578,44,59605,19806,19899,256,5999,5569,6698,736,642,59605,1034,58571,2293,1464,2.2000000000000002,5.4,2.8,59605,16935,25367,13646,2832,825,64747,111011,31550,14947,18225,6366,14572,21013,4338,3097,3324,1305,328,1678,99177,15322,33372,5864,6533,2439,19206,4142,4361,5869,2069,2052,1204,1225,2692,56354,5508,13011,31673,6162,28719,1523,2690,19463,5043,27635,3985,10321,12210,1119,56354,285,1126,5815,693,444,4976,8830,2651,3027,963,1103,898,2635,2441,3624,5545,8787,2511,56354,4370,7420,6076,6087,7702,6834,5317,5369,7179]
["Local Authority","Stockton-on-Tees","Stockton-on-Tees","E06000004",191610,94082,97528,187959,3651,1991,20393.060000000001,9.4,191610,12322,6824,4149,11457,2355,5168,5296,12651,12602,37535,39652,11648,16102,10368,2429,1052,39.1,39,154503,51272,73450,242,4073,14400,11066,79159,9416,12570,6374,10439,12368,5158,4251,3920,519,6810,2945,1962,204,171,2052,6777,2367,1707,2703,647,76,322,249,6130,2291,1385,2454,191610,178965,536,143,1655,419,316,823,439,1488,3072,132,866,1074,936,84,113,236,313,191610,178382,553,3066,762,6,465,1187,831,6358,191610,39204,148624,395,1176,136,534,1735,222,11,42,186,2,79159,76918,1205,218,818,191610,130723,388,675,94,4143,625,382,42910,11670,191610,17677,18731,155202,8202,9614,106736,88811,64282,26385,9296,2836,171686,11683,2933,5308,82237,82210,10,17,82308,79159,3149,19943,33720,19365,7510,1089,613,68,79159,23285,30940,255,7285,6340,9417,970,667,79159,932,78227,3580,2425,2.4,5.6,2.9,79159,20524,32728,20487,4222,1198,91623,154503,36728,21465,26049,8085,20952,35250,5974,4488,6752,2379,592,3762,140654,22070,52927,8941,8075,4246,20767,7277,5911,6861,3579,2431,1413,1464,3345,87122,7656,19523,50548,9395,44908,2270,4466,30554,7618,42214,5386,15057,19994,1777,87122,221,617,8672,1085,651,7200,14458,4022,4379,2086,2713,1125,4854,3900,5958,8721,12928,3532,87122,7894,13885,10330,9887,10139,8523,9129,7280,10055]
["Local Authority","Darlington","Darlington","E06000005",105564,51483,54081,104111,1453,1218,19747.509999999998,5.3,105564,6579,3790,2284,6224,1330,2721,2357,6071,6607,20917,21560,6685,9717,6172,1740,810,40.200000000000003,41,85357,27083,39963,135,2409,9165,6602,46670,6124,8977,3877,6156,6464,2476,2457,2132,207,4044,1557,805,11,101,1282,4023,1404,1114,1505,431,49,235,147,3592,1355,879,1358,105564,98898,328,350,2019,463,97,350,236,726,145,523,349,462,206,105,46,112,149,105564,96685,419,2374,543,4,263,1092,1392,2792,105564,22869,79944,254,1533,66,208,719,218,3,10,116,0,46670,45316,536,98,720,105564,71122,307,317,45,971,361,310,25415,6716,105564,9821,10902,84841,4474,5195,57249,47046,37199,15116,4763,1440,94516,6863,1427,2758,48644,48608,9,27,48761,46670,2091,8407,18283,15198,5411,1057,370,35,46670,13810,16479,178,5238,1990,7758,755,462,46670,814,45856,2124,1330,2.2000000000000002,5.4,2.7,46670,13052,20682,10450,1962,524,49794,85357,21179,11445,13568,4350,10883,20244,3688,2337,2247,992,181,1065,76635,11555,30337,5595,4002,1954,12214,2742,3081,3737,1418,1260,724,629,1613,49014,4093,10240,29280,5401,25264,1259,2344,17463,4198,23750,2834,7896,11817,1203,49014,303,117,4900,185,295,3743,8107,2525,2698,2165,1880,500,2225,2086,3808,4211,7259,2007,49014,4639,7447,5741,5886,5808,4832,5461,3562,5638]
["Local Authority","Halton","Halton","E06000006",125746,61368,64378,124874,872,1001,7909.52,15.9,125746,8354,4563,2820,7577,1613,3339,3130,8024,8141,25004,26192,8508,10370,6132,1349,630,38.9,39,100819,35659,45287,217,2470,9880,7306,53312,6192,9641,3543,6689,7264,3872,2463,2843,365,5377,2339,1175,8,125,1416,5350,1579,1314,2457,564,53,282,229,4786,1526,1032,2228,125746,121210,654,41,1136,465,253,330,308,282,44,60,308,249,95,134,31,54,92,125746,119756,435,1107,1056,7,586,558,646,1595,125746,26396,97682,430,807,49,119,293,128,5,7,104,1,53312,52558,383,58,313,125746,94314,216,194,44,267,55,303,23543,6810,125746,14556,12309,98881,7370,6979,67989,58684,39693,17504,7732,2133,110728,8009,2440,4569,54686,54680,4,2,54694,53312,1382,10703,18078,19911,5176,424,287,115,53312,14436,19360,322,2502,10939,4752,460,541,53312,1542,51770,2638,1590,2.2999999999999998,5.4,2.8,53312,14380,22923,12893,2418,698,59007,100819,27126,16975,18702,3839,12618,17792,3767,2920,3327,1351,330,1624,92708,13102,37219,5420,5151,2519,13332,3858,3900,6451,1756,1648,878,799,1993,57577,4464,11587,35764,5762,29843,1397,2456,21393,4597,27734,3067,9131,14371,1165,57577,88,94,7218,469,918,4255,10757,3985,2670,2237,1359,672,2589,3065,3723,4413,6881,2184,57577,4705,6864,6354,6818,6127,5466,7090,6235,7918]
["Local Authority","Warrington","Warrington","E06000007",202228,100300,101928,198828,3400,2589,18065.39,11.2,202228,12309,7003,4552,12296,2591,5259,4657,12088,12503,42327,41988,12441,18198,10294,2498,1224,39.5,40,163477,51409,81175,241,3855,15407,11390,85140,9862,14672,7077,11456,14785,5297,4641,3783,480,6220,2903,1489,57,152,2266,6197,2114,2150,1933,698,75,443,180,5499,2039,1707,1753,202228,187968,1357,66,4601,654,357,663,470,1803,1179,152,849,928,389,214,91,237,250,202228,184877,907,2769,2146,20,1090,1353,3016,6050,202228,31410,164231,892,3619,161,456,1670,403,19,41,321,8,85140,82198,1127,210,1605,202228,144405,457,1118,147,2097,361,513,41293,11837,202228,16940,18057,167231,7280,9112,114871,100734,66223,24446,8466,2359,180385,13862,2837,5144,87943,87935,3,5,87962,85140,2822,20826,36023,21162,8381,1040,449,81,85140,27206,33709,637,6147,7171,8683,866,721,85140,1910,83230,3821,2137,2.2999999999999998,5.6,2.8,85140,16409,35587,26623,5049,1472,110349,163477,33815,23846,27000,6699,20593,44870,6654,4638,5194,2447,424,2294,149461,21782,63875,11617,5961,4530,22189,5441,4917,6063,3086,1759,1121,663,2263,100856,8612,19513,61133,11598,52424,2696,4391,36275,9062,48432,5916,15122,24858,2536,100856,248,85,8815,918,1856,7262,17648,6163,4744,5124,3332,1215,6825,5235,5691,8663,12627,4405,100856,11178,18256,13081,11716,9610,8628,9885,6872,11630]
["Local Authority","Blackburn with Darwen","Blackburn with Darwen","E06000008",147489,73547,73942,145827,1662,1467,13701.18,10.8,147489,11278,6386,4092,10322,2289,4278,3651,9718,10951,30862,26717,7884,10356,6360,1547,798,36.200000000000003,35,113122,37958,53882,201,3423,10148,7510,57353,6229,11190,3507,6273,10062,3303,2300,2672,344,5043,2096,2279,29,141,1885,5009,1536,1242,2231,553,81,256,216,4456,1455,986,2015,147489,98144,794,161,2910,315,162,989,357,19791,17801,1525,721,1656,614,202,117,585,645,147489,122188,642,2330,522,13,594,995,2001,18204,147489,26833,113369,457,2807,154,424,4064,142,9,30,70,1,57353,48183,4299,808,4063,147489,77599,306,574,54,39817,161,295,20374,8309,147489,15563,14278,117648,8415,8523,77123,66991,49010,20725,8428,2335,131733,8769,2691,4296,59615,59585,14,16,59694,57353,2341,8242,16963,27179,5930,822,504,54,57353,18039,18754,290,3228,7163,8113,880,886,57353,2109,55244,3944,3661,2.5,5.4,2.7,57353,17502,25110,11819,2256,666,58447,113122,32485,16211,17221,4428,12923,22416,7438,3834,5306,1874,588,2822,104417,14535,35597,7997,5575,3329,13248,6065,7061,7378,3632,1627,808,1091,2219,60523,5133,13869,36410,5111,33440,1954,5347,22251,3888,27083,3179,8522,14159,1223,60523,139,26,9741,194,417,3871,10759,2692,2961,1721,1179,755,2491,2754,3385,6195,8936,2307,60523,5670,8482,5718,6702,7176,6823,5992,6791,7169]
["Local Authority","Blackpool","Blackpool","E06000009",142065,69775,72290,137960,4105,1073,3488.1,40.700000000000003,142065,8218,4652,2784,8052,1660,3487,3501,8529,8580,26854,29094,9415,14353,9148,2431,1307,41.3,42,116699,41198,45522,543,3706,15318,10412,64367,9650,14796,4917,6424,6347,2949,3045,3136,405,5733,2536,1687,54,266,2422,5705,1998,1310,2397,624,98,242,284,5081,1900,1068,2113,142065,133042,1029,237,3031,690,264,448,351,627,223,231,514,687,183,111,52,170,175,142065,126154,951,5900,1353,4,926,1152,2187,3438,142065,34683,103113,663,2565,96,230,839,209,4,22,107,1,64367,62275,762,120,1210,142065,95426,450,337,252,1061,61,571,34815,9092,142065,19247,17084,105734,9278,9143,71039,56600,48022,23977,10346,3120,125746,8635,2592,5092,68984,68852,35,97,69343,64367,4976,5924,25279,20771,10103,5724,1367,175,64367,19318,20332,239,4823,2176,15549,1221,709,64367,3564,60803,4590,2103,2.1,5.0999999999999996,2.6,64367,23635,27493,10635,2035,569,57390,116699,36559,18129,19993,4886,13546,18098,5488,2942,3903,1733,429,1723,103813,14836,34230,9960,6337,3177,16807,3809,3943,8228,2486,1872,1081,801,2557,61419,5065,14452,35389,6513,31451,1977,4129,20579,4766,29968,3088,10323,14810,1747,61419,73,42,4895,242,315,4434,9967,2929,7438,1266,1706,634,1950,2796,5750,4089,9171,3722,61419,6832,6330,5546,8351,7184,7537,6200,4848,8591]
["Local Authority","Kingston upon Hull, City of","Kingston upon Hull, City of","E06000010",256406,128420,127986,252748,3658,1488,7144.92,35.9,256406,17358,8754,5220,13944,3090,6413,7913,24040,20274,52108,47717,13844,18301,12788,3166,1476,37.5,36,208040,87661,78052,491,6154,21439,14243,112596,13075,26713,6602,11605,12287,5724,6377,6868,824,10292,4231,2568,1366,266,3798,10222,3308,1888,5026,882,109,379,394,9340,3199,1509,4632,256406,229920,550,284,10567,871,821,945,817,1086,882,755,2124,1624,2472,236,288,1134,1030,256406,231042,495,2256,772,20,415,2373,8216,10817,256406,69036,172495,368,9406,418,1604,3409,287,17,54,211,9,112596,104777,2306,422,5091,256406,140753,771,439,172,5447,289,794,89336,18405,256406,25672,24719,206015,12535,13734,146040,110555,89572,38102,14047,4130,232770,12602,3622,7412,116495,116430,22,43,116651,112596,4055,8215,31375,57334,14700,3528,1420,79,112596,22355,33430,505,23838,7796,21414,1570,1688,112596,4431,108165,9027,4995,2.2000000000000002,4.9000000000000004,2.5,112596,45748,47612,16002,2588,646,90240,208040,65851,30362,32099,8371,27284,31687,12386,5315,14550,4166,1344,9008,190610,28041,68035,9814,15296,6944,23025,13243,9482,11524,5206,4301,2311,2624,7003,110903,9944,24914,65873,10172,58850,3186,5971,41326,8367,52053,6758,18943,24547,1805,110903,426,231,16851,879,707,9306,20353,5900,6959,2007,1148,1019,3540,6394,6328,9240,14899,4716,110903,7306,11612,10389,11021,15530,11576,12620,12531,18318]
["Local Authority","East Riding of Yorkshire","East Riding of Yorkshire","E06000011",334179,163388,170791,326951,7228,4469,240767.65,1.4,334179,16400,9990,6640,18625,4191,8229,7976,15779,15073,60345,72406,27070,38716,23720,5947,3072,43.5,45,278333,72618,150812,600,6239,25674,22390,143032,19540,19736,17055,24013,21964,8915,7444,5894,716,7702,3958,2290,35,454,3316,7645,2920,2466,2259,926,109,579,238,6719,2811,1887,2021,334179,321309,908,227,5345,683,367,785,466,1081,396,69,660,755,355,175,68,289,241,334179,313634,981,4843,1831,23,772,2840,3065,6190,334179,64146,263419,667,4019,247,454,1273,562,13,121,523,3,143032,140172,1338,182,1340,334179,227343,702,607,337,1309,174,863,78296,24548,334179,29029,34936,270214,10822,14707,181349,151003,116859,48307,13877,4133,296811,24355,4418,8595,149854,149806,25,23,149958,143032,6926,51268,54026,29791,10103,2773,1559,438,143032,56140,51566,433,10453,2575,17760,1888,2217,143032,3320,139712,4467,2888,2.2999999999999998,5.9,2.9,143032,25200,62802,42328,9463,3239,190419,278333,65035,36228,45111,14051,33672,72004,12232,7250,8267,3483,696,4030,245594,37856,90761,24834,8795,6614,47790,9149,7849,7720,4226,2451,2006,1082,3392,158757,16393,32908,86161,23295,83196,4669,7187,52837,18503,75561,11724,25721,33324,4792,158757,4582,500,17707,1448,912,13219,25124,7417,8252,3464,3113,1781,7920,5579,12241,16998,21525,6975,158757,19073,25851,18198,17718,21761,15246,12083,11767,17060]
["Local Authority","North East Lincolnshire","North East Lincolnshire","E06000012",159616,78247,81369,157786,1830,1387,19184.490000000002,8.3000000000000007,159616,10005,5546,3420,9264,2004,4119,4148,10521,9987,29802,32277,10236,14733,9813,2469,1272,40.200000000000003,41,129377,42808,58434,185,3369,14492,10089,69707,9190,12603,6092,9063,8557,3902,3540,3836,511,6071,2337,1418,31,206,2350,6035,2158,1090,2787,512,79,238,195,5523,2079,852,2592,159616,152240,414,26,2741,381,161,369,275,513,195,268,605,548,306,71,34,265,204,159616,149566,395,1994,683,5,347,1164,1923,3539,159616,41640,114328,283,2188,177,345,837,191,0,40,114,0,69707,67793,788,132,994,159616,96836,347,386,64,1332,158,533,48476,11484,159616,14786,16334,128496,6384,7934,86772,70242,55935,23779,7507,2153,143623,9114,2117,4762,72520,72498,14,8,72560,69707,2853,15003,23782,24009,6979,1866,823,98,69707,21497,24573,213,3293,6798,11594,1033,706,69707,2330,67377,2824,1822,2.2999999999999998,5.5,2.8,69707,21481,30338,14469,2638,781,70625,129377,38209,20816,23003,6002,13998,20970,6379,3557,4173,1502,511,2143,115823,19086,42039,7484,7486,3132,18018,4825,5635,5612,2506,2313,1299,1118,3143,70776,6595,16330,38803,9048,37659,1700,3651,24647,7661,33117,4895,12679,14156,1387,70776,362,240,11045,519,387,5848,13435,5532,3808,748,942,669,2430,3044,3431,6243,9309,2784,70776,5839,7346,6830,7205,9163,7347,6659,10521,9866]
["Local Authority","North Lincolnshire","North Lincolnshire","E06000013",167446,82623,84823,165871,1575,1777,84631.29,2,167446,10282,5782,3595,9550,2132,4217,3806,9522,9969,31667,35433,11452,16263,10012,2542,1222,40.799999999999997,42,136105,39393,68435,212,3369,14278,10418,70684,8946,10474,6766,10823,10190,4265,3782,3796,469,4599,2105,1810,4,193,2462,4584,1747,1114,1723,419,46,249,124,4165,1701,865,1599,167446,154526,727,90,5405,341,166,451,286,1122,862,1443,530,592,365,64,65,173,238,167446,151974,614,2825,1069,5,618,1704,4059,4578,167446,42784,117918,463,4798,111,330,1204,164,15,58,111,0,70684,67487,1226,212,1759,167446,110554,381,445,48,3024,538,417,40176,11863,167446,15333,16946,135167,6408,8146,91512,73234,59883,24667,7593,2069,149289,11092,2381,4684,73628,73617,7,4,73651,70684,2967,24793,30385,10823,5541,827,725,557,70684,23355,25782,179,4852,6043,8493,984,996,70684,889,69795,2527,2024,2.2999999999999998,5.8,2.9,70684,14617,30714,19450,4454,1449,89482,136105,35633,21498,22796,6636,15917,26583,7042,3650,3647,1428,355,1849,122329,18768,48278,8869,5869,2884,20296,4569,5433,5151,2212,1762,1080,952,2355,78101,7073,15950,44769,10309,42032,1862,3203,28464,8503,36069,5211,12747,16305,1806,78101,1198,276,15166,553,614,6201,13119,5086,3906,975,1418,741,2611,3090,3876,6577,9857,2837,78101,7654,9522,7504,7681,10703,7461,6081,10047,11448]
["Local Authority","York","York","E06000014",198051,96254,101797,190392,7659,2638,27193.63,7.3,198051,10677,5747,3601,9712,2039,4179,7879,19746,14159,38818,36363,11716,16929,11629,3200,1657,39.5,38,166275,64211,73159,435,3291,14110,11069,83552,10803,14421,7373,11238,11855,3946,5724,3104,345,4897,2391,1444,1833,205,3973,4866,1941,1505,1420,557,113,323,121,4309,1828,1182,1299,198051,178613,1103,269,6746,529,305,873,706,1531,417,370,2449,1973,903,205,86,498,475,198051,172971,974,4307,1544,27,807,3480,2982,10959,198051,30902,155428,840,4916,575,862,4254,1172,65,179,680,18,83552,78847,2352,218,2135,198051,117856,1016,983,202,2072,133,747,59646,15396,198051,13018,17357,167676,4757,8088,120015,98402,67709,23752,6369,1819,179827,12701,1934,3589,86483,86413,21,49,86735,83552,3183,18983,30800,21224,12343,2399,827,159,83552,28351,26876,631,7381,4298,13687,1293,1035,83552,2202,81350,5930,3049,2.2999999999999998,5.4,2.8,83552,21808,38999,18535,3210,1000,90126,166275,29863,17636,23070,7429,27590,53875,6812,3667,19002,5730,1346,11900,149789,22487,57032,12328,4582,8516,20688,14387,4107,3678,1984,1341,894,485,1662,98721,11487,20822,55400,11012,50608,3751,5234,33319,8304,48113,7736,15588,22081,2708,98721,498,64,6571,310,467,6750,16026,4619,7805,3170,4730,1075,6164,4136,6089,12027,13113,5107,98721,10375,19864,11950,10260,9902,8993,10228,5587,11562]
["Local Authority","Derby","Derby","E06000015",248752,123046,125706,244625,4127,2431,7803.11,31.9,248752,17743,9329,5654,14857,3093,6250,7385,20069,18211,51298,44608,12586,18884,13540,3564,1681,37.6,36,198076,72222,88560,357,5268,17807,13862,102271,12432,19146,7763,11264,15470,5254,5489,4646,516,8337,3529,3092,859,221,4253,8308,2710,2085,3513,792,143,390,259,7516,2567,1695,3254,248752,187386,2319,295,9751,3916,533,1772,1011,10907,14620,658,1292,3618,3156,3405,759,861,2493,248752,208889,919,2829,1478,16,1786,2349,7044,23442,248752,51175,179506,1545,8580,365,1672,6297,758,18,71,289,7,102271,91147,4665,1048,5411,248752,131129,822,2198,110,19006,8891,985,68668,16943,248752,21984,24472,202296,9898,12952,137557,111837,87060,35193,11413,3249,223168,15682,3586,6316,106509,106444,22,43,106687,102271,4416,24580,41182,24904,12744,2175,843,259,102271,30239,32526,864,12458,7792,15943,1250,1199,102271,3504,98767,7453,5272,2.4,5.4,2.7,102271,29593,44344,22930,4220,1184,108124,198076,47731,26294,28681,9793,25838,47955,11784,5400,12910,4526,1353,7000,179291,26310,68979,11657,9297,7448,22925,11237,8595,8574,4269,2961,1277,1760,3668,112422,10959,23440,66846,11177,59485,3603,6333,40808,8741,52937,7356,17107,26038,2436,112422,191,104,17788,725,1042,7190,18075,6550,6715,3018,2568,1335,5287,5205,4832,10795,16376,4626,112422,9700,18421,12570,11887,12221,11246,10570,10860,14947]
["Local Authority","Leicester","Leicester","E06000016",329839,162884,166955,321527,8312,3332,7331.48,45,329839,24297,12925,7855,20162,4040,8608,11842,35406,29571,68167,55694,14056,18888,12936,3605,1787,34.799999999999997,31,260560,108120,110403,457,7104,18579,15897,123125,12057,24894,5758,10555,19458,7244,5286,4606,585,10408,4823,6657,2914,260,7620,10323,3136,2005,5182,958,182,355,421,9365,2954,1650,4761,329839,148629,2524,417,15066,4691,1161,3388,2340,93335,8067,3642,4245,13181,12480,4790,3315,3311,5257,329839,214403,781,2330,1380,102,1933,5909,10018,92983,329839,53084,226581,1527,20822,860,5798,21841,1235,55,204,361,23,123125,85274,12787,3192,21872,329839,106872,1224,50087,295,61440,14457,1839,75280,18345,329839,27615,29522,272702,14027,17602,191715,148108,117551,44278,14972,4930,298874,17503,5533,7929,126703,126501,55,147,127383,123125,4258,13390,44880,40290,22341,4722,1694,66,123125,28018,33152,774,21048,10222,26207,1792,1912,123125,3449,119676,18756,12308,2.6,5,2.6,123125,45375,51864,20787,3975,1124,110395,260560,74409,33751,32781,5309,33888,55223,25199,7748,32323,8572,3138,20555,242232,33341,80780,14021,14982,13301,22435,27604,15035,12397,8336,3920,2530,3165,6109,137494,14618,30928,80677,11271,74955,5542,11420,49410,8583,62539,9076,19508,31267,2688,137494,162,101,20584,2024,676,7082,26042,7502,8258,3064,4000,1369,5043,7479,6289,13919,18488,5412,137494,9556,19628,12808,13883,12636,13388,14859,17406,23330]
["Local Authority","Rutland","Rutland","E06000017",37369,18915,18454,34252,3117,842,38151.51,1,37369,1854,1129,721,2352,630,1434,831,1740,1907,6686,7521,2715,4218,2530,719,382,42.4,43,30683,8193,16643,65,740,2720,2322,15002,2142,1969,1962,2580,2608,804,765,455,57,714,392,194,1,52,307,713,285,262,166,130,27,80,23,583,258,182,143,37369,35241,217,58,785,123,23,141,102,113,38,7,125,82,116,107,28,5,58,37369,33262,220,922,566,2,183,585,261,1368,37369,5848,30459,163,455,62,145,149,261,6,21,175,2,15002,14697,194,10,101,37369,25481,100,75,54,131,31,149,8728,2620,37369,2271,3517,31581,724,1401,20709,18828,12718,4532,1008,283,33570,2772,356,671,16069,16066,3,0,16072,15002,1070,7466,4382,2894,878,184,153,115,15002,5889,4667,160,369,1316,1741,592,268,15002,254,14748,371,202,2.2999999999999998,6.4,3.1,15002,1859,6152,5222,1328,441,22542,30683,5453,3729,5373,1114,3834,10096,1084,1354,777,301,32,437,27052,3847,10314,3348,643,606,4579,1568,878,463,806,165,187,69,245,18037,1944,3477,9405,3211,9885,666,911,5847,2461,8152,1278,2566,3558,750,18037,413,18,2003,45,131,1158,2812,538,949,518,387,216,1198,693,2177,2386,1585,810,18037,2752,3203,2857,1552,2214,1459,1078,1092,1830]
["Local Authority","Nottingham","Nottingham","E06000018",305680,153777,151903,289738,15942,2556,7461.16,41,305680,19959,10194,6235,15860,3328,6818,16913,42766,26232,61519,47678,12626,17520,12877,3529,1626,34.799999999999997,30,250104,128363,79116,600,6945,20729,14351,126131,13606,32011,6068,10215,13203,4726,7062,5385,734,11998,4466,3916,4845,265,7631,11957,3826,2428,5703,1109,175,442,492,10848,3651,1986,5211,305680,199990,2819,326,15563,12166,2004,3304,2791,9901,16771,1049,5988,6330,9877,9382,2926,2372,2121,305680,239766,1148,3253,1755,29,1901,4963,9826,43039,305680,62219,206930,1836,14249,731,6192,13529,2027,62,267,530,40,126131,107940,7037,1303,9851,305680,135216,2051,4498,1069,26919,4312,1483,106954,23178,305680,27699,27683,250298,14299,16254,183999,141038,103332,41581,15063,4666,278726,15211,4314,7429,131194,131060,47,87,131586,126131,5455,19407,41107,37654,26863,4951,1522,82,126131,25152,31715,786,26176,11310,27300,1798,1894,126131,3031,123100,15917,7807,2.2999999999999998,4.9000000000000004,2.6,126131,55093,50614,16785,2830,809,96284,250104,63991,30619,32333,5715,46411,54875,16160,5762,45921,9678,3653,32541,232072,27605,72252,13004,14775,14691,21144,37733,10854,13161,6853,4359,2075,2879,5834,123218,14021,26500,71333,11364,65595,5335,8720,42882,8658,57623,8686,17780,28451,2706,123218,197,90,10266,1619,720,7602,21831,6591,9725,4110,2801,1786,5646,7392,5636,13033,18098,6075,123218,9055,19437,13232,11942,11831,12616,13540,10765,20800]
["Local Authority","Herefordshire, County of","Herefordshire, County of","E06000019",183477,90302,93175,180595,2882,3080,217973.24,0.8,183477,9580,5550,3630,10494,2261,4519,3904,9431,9681,32849,38958,13604,20496,13196,3535,1789,43,44,151962,43018,78723,296,3360,14551,12014,78319,11209,11331,8811,11655,11754,4557,3981,3065,388,4274,2448,1620,44,320,2862,4228,1661,1152,1415,530,87,292,151,3698,1574,860,1264,183477,171922,709,363,7175,407,146,415,302,490,80,32,277,560,160,103,68,105,163,183477,157638,635,2363,10566,27,566,1912,5060,4710,183477,41428,134310,529,5785,201,393,767,512,7,73,498,1,78319,75348,1146,160,1665,183477,124403,562,228,131,364,80,893,41766,15050,183477,15370,18994,149113,5957,8398,98591,83874,64494,25517,7441,2151,162801,13998,2362,4316,82549,82512,13,24,82676,78319,4357,35021,22585,14165,6973,2035,957,940,78319,30867,22147,770,2692,8211,10680,1467,1485,78319,3012,75307,4119,2388,2.2999999999999998,6,2.9,78319,12826,32556,23805,6395,2737,111829,151962,34845,19396,24322,5410,18235,41779,7975,3938,3853,1605,255,1969,133442,20345,48094,19151,4353,3171,22149,4845,4636,4600,2098,1308,976,493,1630,90237,9236,18633,47448,14920,47975,2628,4372,29127,11848,42262,6608,14261,18321,3072,90237,4893,124,11373,253,636,7865,15054,2781,4734,1935,1565,1446,4559,3995,4899,8323,11624,4178,90237,10441,13066,9286,8783,14578,8910,6633,7668,10872]
["Local Authority","Telford and Wrekin","Telford and Wrekin","E06000020",166641,82549,84092,164440,2201,1813,29031.32,5.7,166641,11344,6185,3822,10594,2256,4675,4565,10863,10888,34329,33021,10010,13928,7481,1771,909,38.1,38,132440,43520,63028,281,3614,13546,8451,66608,7113,9680,5035,9221,10915,4075,3793,3759,399,5394,2416,1928,182,165,2533,5362,1597,1435,2330,661,73,351,237,4701,1524,1084,2093,166641,149096,729,166,4424,1423,278,799,483,3076,2243,162,647,863,1023,607,149,86,387,166641,148157,850,2373,3118,6,630,1771,3216,6520,166641,42366,117830,439,3751,134,699,1518,274,10,40,184,1,66608,63412,1522,216,1458,166641,102892,398,872,78,3019,2118,692,45599,10973,166641,15060,15935,135646,7199,8739,92413,76439,57198,22609,8023,2372,148697,10313,2653,4978,68714,68707,4,3,68730,66608,2122,20945,25001,15534,5981,548,444,277,66608,18106,24311,292,5409,7697,9055,924,814,66608,1102,65506,3456,2337,2.5,5.7,2.9,66608,13748,28700,18576,4178,1406,84671,132440,32612,20055,23731,4413,17199,27713,6717,4018,5412,1840,336,3217,122279,16530,50567,8588,5806,3456,16798,6213,5923,6001,2397,1826,859,833,2359,78372,6637,14513,48181,9041,42122,2093,3337,29563,7129,36250,4544,11176,18618,1912,78372,713,82,13240,408,823,4970,13099,3109,3768,3368,2091,977,2767,3568,6444,7292,8535,3118,78372,7471,10919,8841,9051,9288,7307,6775,8431,10289]
["Local Authority","Stoke-on-Trent","Stoke-on-Trent","E06000021",249008,123995,125013,246075,2933,1545,9345.02,26.6,249008,17092,8935,5254,14260,2825,6233,6977,19089,18156,49752,46896,14721,20984,13119,3296,1419,38.5,38,200642,72307,87581,302,5584,19728,15140,107575,13323,22034,7663,12689,13858,6225,5457,5825,646,9048,4008,2534,806,277,3182,8999,2662,2249,4088,1014,126,494,394,7985,2536,1755,3694,249008,215222,636,183,4671,1892,559,1347,693,2329,10429,1097,1224,3363,2536,834,371,408,1214,249008,224509,497,1694,1567,27,571,1735,3080,15328,249008,68057,170268,444,4321,321,1273,4549,271,11,60,252,2,107575,100259,2589,693,4034,249008,151624,760,1384,66,14993,579,923,62737,15942,249008,29283,27218,192507,14345,15242,132237,104510,86311,38179,15356,4652,221623,15214,4357,7814,111865,111830,17,18,111977,107575,4402,15814,49966,33094,10973,1271,782,77,107575,30628,33300,419,19712,6287,14176,1264,1789,107575,2701,104874,6581,4857,2.2999999999999998,5.0999999999999996,2.5,107575,33225,47582,21535,4132,1101,107833,200642,67773,28825,31875,7066,23961,31041,10101,5378,11173,4006,1318,5809,182808,24732,67097,11440,9715,6759,26108,10260,8553,13223,4921,2993,1442,1589,3851,108109,9264,22842,65754,10249,58539,3149,6816,40404,8170,49570,6115,16026,25350,2079,108109,140,173,14704,1020,696,8619,21274,7059,5852,2238,2890,1087,3164,5262,4282,8300,15734,5615,108109,8030,11322,9674,10705,15525,11934,11796,11843,17280]
["Local Authority","Bath and North East Somerset","Bath and North East Somerset","E06000022",176016,86072,89944,169977,6039,2937,34574.080000000002,5.0999999999999996,176016,9238,5192,3508,9568,2071,4125,7086,15995,10141,32400,34073,10802,15928,10981,3249,1659,40.299999999999997,40,146439,54597,66961,309,2663,12057,9852,73515,9992,12543,6958,9388,11217,3954,3979,2542,282,4210,2063,1142,1822,230,3193,4168,1697,1013,1458,426,64,229,133,3742,1633,784,1325,176016,158640,1146,58,6629,951,292,954,701,1116,170,219,1912,1160,499,672,155,375,367,176016,152277,711,2535,4119,16,858,3254,2275,9971,176016,26498,139991,931,4613,431,735,2724,1194,46,170,883,20,73515,69739,1893,142,1741,176016,99468,941,535,254,1179,140,935,57626,14938,176016,12267,16028,147721,4505,7200,102917,88882,58849,20856,5831,1598,158431,12396,1989,3200,75931,75821,24,86,76304,73515,2789,16524,21350,21318,9515,6351,951,295,73515,25827,23241,368,2528,8086,11408,1039,1018,73515,1698,71817,5072,2213,2.2999999999999998,5.7,2.8,73515,16158,31073,19957,4511,1816,92628,146439,25140,16175,20828,5472,24095,48910,5819,3758,15932,4369,1030,10507,130550,18818,46367,14306,3548,6713,17896,13209,4289,3610,1794,969,736,388,1292,84858,10836,17319,45652,11051,44083,3282,4183,28225,8393,40775,7554,13136,17427,2658,84858,558,112,6024,334,792,6210,12476,2684,5620,4399,2868,1270,6627,3315,5555,10783,10928,4303,84858,9698,18637,10587,9295,9473,7249,6850,4380,8689]
["Local Authority","Bristol, City of","Bristol, City of","E06000023",428234,213071,215163,418814,9420,3927,10960.76,39.1,428234,29633,14371,8466,21703,4408,8922,13711,44371,40752,95160,70787,20078,27725,19235,5798,3114,36.5,33,349653,164225,126910,1126,8507,28734,20151,182747,20272,41335,10147,17772,22373,7282,13627,7170,759,14919,5614,4002,3623,525,13327,14842,4779,2953,7110,1576,292,666,618,13266,4487,2287,6492,428234,333432,3851,359,21950,7389,1533,3402,3114,6547,6863,2104,3886,4255,12085,6727,6922,1272,2543,428234,348170,1674,4784,10382,98,2900,9166,10520,40540,428234,70722,320052,3056,20061,1104,4046,8563,3283,124,607,1972,13,182747,164514,7191,1778,9264,428234,200254,2549,2712,777,22016,2133,2793,160218,34782,428234,34570,37154,356510,15908,20499,257374,209024,143283,52446,18056,5425,388096,25709,5253,9176,188438,187980,127,331,189885,182747,7138,11164,49983,63331,40016,22074,3149,168,182747,44928,53780,1385,26494,10589,40401,2627,2543,182747,5187,177560,23941,9796,2.2999999999999998,5,2.6,182747,52814,82483,37858,7172,2420,190530,349653,70478,41487,44592,10260,51006,114621,17209,7782,35638,10609,2425,22545,321506,42980,127829,27106,13817,15387,31534,28932,12556,13973,7392,3752,2179,2095,5134,209995,21333,39767,126250,22645,110813,7193,11087,75850,16683,99182,14140,28680,50400,5962,209995,208,142,13609,808,1409,13864,30464,9077,12308,11087,12658,2691,17623,10993,11427,22801,29324,9502,209995,18103,47493,28688,23299,20104,17934,18315,12107,23952]
["Local Authority","North Somerset","North Somerset","E06000024",202566,98463,104103,199225,3341,2727,37378.6,5.4,202566,11653,6681,4343,11579,2396,4749,4181,9491,10363,38286,41557,14654,22071,14043,4175,2344,42.6,44,165914,44511,86784,314,4048,16902,13355,88227,12523,14592,9727,12933,13824,4617,4430,3287,317,5377,2359,1424,104,284,2429,5362,2130,1402,1830,612,96,360,156,4750,2034,1042,1674,202566,190553,1113,176,5234,681,256,698,398,817,111,299,619,590,383,188,61,127,262,202566,181327,682,2940,5842,18,959,2075,2811,5912,202566,34040,162316,831,3629,317,592,1032,495,15,77,470,3,88227,85594,1170,150,1313,202566,123545,554,340,157,869,95,939,60867,15200,202566,17335,21405,163826,6670,9380,107231,93803,70435,27670,8276,2382,180253,15172,2577,4564,91694,91604,29,61,91954,88227,3727,30398,27476,14463,11352,6458,857,950,88227,32474,31891,542,3104,4999,13058,1212,947,88227,1626,86601,4065,1663,2.2999999999999998,5.7,2.9,88227,15151,36867,27620,6248,2341,121381,165914,32539,22752,28542,7247,21012,47041,6781,4270,4273,2048,304,1874,145352,23117,55596,15426,4350,4118,25366,4591,5082,5607,2099,1112,1039,377,1590,97563,10516,20281,53501,13265,51037,3059,4473,33066,10439,46526,7457,15808,20435,2826,97563,890,164,7998,432,1049,7585,16703,4686,4857,3585,5085,1562,6443,4340,6126,8663,12883,4512,97563,11897,16808,12908,11305,11026,9592,8534,6114,9379]
["Local Authority","South Gloucestershire","South Gloucestershire","E06000025",262767,130424,132343,258207,4560,2948,49694.559999999998,5.3,262767,15925,8967,5641,15858,3539,6958,7102,15458,15606,53974,53582,15748,24040,14835,3648,1886,39.799999999999997,40,212837,64712,110532,297,4614,18967,13715,107538,12301,16253,10518,14903,19778,6917,5912,4298,521,6875,3191,1973,243,279,3576,6816,2744,1900,2172,734,100,466,168,6082,2644,1434,2004,262767,241611,1223,271,6469,1516,396,1016,739,2699,698,238,1312,1493,987,980,251,366,502,262767,234981,850,2790,6826,23,1050,2542,3440,10265,262767,41027,211924,958,4998,320,1103,2730,756,19,165,557,18,107538,103468,1852,296,1922,262767,156504,708,1681,145,2176,623,888,80607,19435,262767,17842,23072,221853,6667,10748,151013,129141,91675,30940,8556,2455,235128,19279,2976,5384,109984,109967,9,8,110024,107538,2486,29001,37523,30140,10240,1580,816,724,107538,37050,43536,497,2063,8570,13124,1476,1222,107538,1841,105697,5070,2636,2.4,5.7,2.9,107538,14044,45398,36103,8618,3375,158289,212837,39618,31661,35490,11435,29111,56805,8717,6089,8296,3655,687,3910,192468,31453,82489,17147,5354,6755,27390,7885,6244,4872,2879,1563,1046,565,1884,136531,14081,26827,79877,15746,72052,3750,5192,50426,12684,64479,10331,21635,29451,3062,136531,759,225,13336,912,983,11797,22296,6642,5591,5819,8753,1632,7876,5972,10383,11461,16784,5310,136531,14169,23682,16740,19070,16781,11637,12497,8650,13305]
["Local Authority","Plymouth","Plymouth","E06000026",256384,126684,129700,251100,5284,1978,7983.36,32.1,256384,15336,7956,4991,13645,2954,6011,8839,24343,18888,48662,47904,15140,21999,14098,3639,1979,39,38,211502,78544,90765,464,5190,22272,14267,109307,13403,20914,8625,13750,14505,5656,6568,5013,516,7894,3657,2092,1793,364,4557,7863,3007,1717,3139,778,130,381,267,7085,2877,1336,2872,256384,238263,1105,153,6988,904,523,1028,832,875,202,359,1251,1219,1106,343,229,399,605,256384,228986,1100,4391,3685,15,987,3446,4324,9450,256384,57211,189337,798,5562,309,929,2273,657,35,127,425,18,109307,104612,1827,290,2578,256384,148917,881,567,168,2078,89,1198,84295,18191,256384,25548,26644,204192,12116,14197,143474,117976,85956,35756,13012,3684,229137,15624,4057,7566,113069,112883,73,113,113528,109307,4221,12220,33245,37987,19272,9553,950,301,109307,29763,34394,841,9403,11692,19431,2595,1188,109307,5336,103971,9426,4408,2.2999999999999998,5.0999999999999996,2.6,109307,30438,49904,23251,4425,1289,115466,211502,47073,28541,35452,11004,35009,45379,9044,5233,19376,5692,1559,12093,191786,28356,69234,13116,8136,8900,27019,16060,7482,10042,3441,2678,1379,1115,3009,117466,12119,25747,66730,12870,61712,3933,6136,41442,10201,55754,8186,19611,25288,2669,117466,222,188,11493,877,642,8733,18796,6354,7066,2756,2342,1604,4561,4947,12772,11951,16819,5343,117466,9508,16170,14638,13201,15317,12914,12497,8647,14574]
["Local Authority","Torbay","Torbay","E06000027",130959,63110,67849,127908,3051,1265,6287.4,20.8,130959,6690,3851,2426,7092,1610,3120,2839,6779,6700,22055,26774,10169,15564,10219,3190,1881,44.2,46,109290,31809,50891,353,2883,13324,10030,59010,9679,10513,6402,7666,6777,2673,2914,2225,234,4190,1943,1226,17,298,2253,4170,1622,876,1672,465,84,207,174,3705,1538,669,1498,130959,124162,657,37,2843,440,195,443,342,403,79,99,261,511,140,73,38,100,136,130959,118847,415,2366,2242,7,634,1390,1546,3512,130959,28970,98461,439,2080,123,273,649,305,8,51,270,1,59010,57385,750,104,771,130959,82924,389,128,109,521,41,702,36035,10110,130959,15500,15951,99508,6448,7183,64805,54614,45098,21355,7625,2267,114852,9137,2286,4684,63966,63852,33,81,64370,59010,5360,14088,15012,15143,11409,7208,1292,218,59010,21503,17921,554,505,4257,12647,1049,574,59010,2925,56085,4513,1639,2.2000000000000002,5.2,2.6,59010,15063,26678,13235,2926,1108,66852,109290,28215,16398,18889,5110,12905,22564,5209,2760,2593,1182,275,1119,94000,14782,29537,10747,4275,2454,18416,3032,3624,5454,1679,1247,977,443,1670,56912,5710,13728,30781,6693,29353,1863,3739,18717,5034,27559,3847,9989,12064,1659,56912,331,61,3764,261,405,5116,10135,2216,5837,964,1133,954,2390,2257,3034,5024,9874,3156,56912,6758,7004,5799,5814,8077,7282,5379,3721,7078]
["Local Authority","Bournemouth","Bournemouth","E06000028",183491,91386,92105,179138,4353,1785,4617.88,39.700000000000003,183491,10275,4862,2999,8399,1732,3517,6141,17130,14935,39070,31930,10190,14661,11504,3834,2312,40,38,155224,63364,59914,613,4046,16380,10907,82374,11164,19226,6102,8508,9508,2998,5258,2899,303,4684,2384,1814,1835,343,5348,4678,1796,1008,1874,480,81,225,174,4198,1715,783,1700,183491,153752,1355,218,13472,1043,601,1396,1151,1940,213,408,1840,2665,1208,380,176,693,980,183491,149712,755,2843,2748,19,1099,4836,6388,15091,183491,28017,136892,1077,10751,1071,1412,4000,773,27,975,565,10,82374,73494,3498,484,4898,183491,104828,1215,1292,1343,3264,156,1216,55911,14266,183491,15858,18289,149344,6829,8872,107212,84955,63260,24866,8009,2401,166166,11280,2260,3785,85381,85007,77,297,87016,82374,4642,26989,11494,5429,27388,13225,2058,433,82374,22820,24237,569,4895,4311,23234,1451,857,82374,3106,79268,11561,4130,2.2000000000000002,4.9000000000000004,2.5,82374,21333,36807,18763,3961,1510,92927,155224,29720,20105,24086,5852,24412,40951,10098,3064,15079,4972,1249,8829,137574,18289,51149,13966,5262,7351,16837,11098,4887,6176,2559,1213,1097,493,2015,89186,9815,17617,51165,10589,47594,3544,5112,30758,8180,41592,6271,12505,20407,2409,89186,138,72,6151,211,415,6530,15229,3763,7285,3190,7813,1603,4513,3936,3359,7914,12271,4793,89186,9926,14625,11366,9541,10134,9200,9288,5005,10101]
["Local Authority","Poole","Poole","E06000029",147645,72121,75524,145103,2542,1718,6475.33,22.8,147645,8450,4687,2896,7924,1702,3557,3361,8180,8712,28855,29335,9828,14563,10676,3167,1752,42.1,42,121986,36544,59960,350,2856,12518,9758,63530,9395,9739,6631,8557,9329,3414,3416,2325,334,3596,2111,1434,82,210,2957,3585,1475,761,1349,379,78,199,102,3206,1397,562,1247,147645,135698,756,214,4855,491,246,680,499,1098,96,382,698,1002,329,119,72,127,283,147645,130659,515,2318,2063,10,700,2261,2448,6671,147645,24213,116925,603,3634,320,515,1648,440,18,140,356,9,63530,60641,1484,182,1223,147645,89243,538,511,404,1035,79,717,43922,11196,147645,12040,15168,120437,4543,6526,80759,68689,51486,19849,5841,1780,131433,10761,1846,3605,66502,66454,13,35,66646,63530,3116,26101,13566,8236,15536,2429,731,47,63530,22719,21983,557,4143,3181,9293,982,672,63530,1490,62040,3740,1948,2.2999999999999998,5.4,2.7,63530,11245,28006,18431,4322,1526,84638,121986,26108,17573,20298,5917,15229,31143,5718,3093,3920,1659,302,1942,106391,16215,42040,10888,3413,3164,17178,4008,4338,3486,1661,933,786,337,1251,71709,7489,14262,40868,9090,38189,2247,3353,25355,7234,33520,5242,10909,15513,1856,71709,128,105,8056,242,578,6105,12080,2901,3579,2175,4653,1276,3647,3151,3758,5983,9708,3584,71709,8343,11824,8611,8468,9427,6648,6518,4711,7159]
["Local Authority","Swindon","Swindon","E06000030",209156,104618,104538,207858,1298,2098,23010.36,9.1,209156,14083,7551,4722,12433,2593,5141,4690,12859,15075,48338,41827,10990,15160,9899,2616,1179,38.1,38,167774,54391,81617,426,4910,16381,10049,88360,9039,17104,6303,11703,14948,4586,5620,4223,448,5816,2480,2052,38,173,3827,5808,1945,1638,2225,597,68,369,160,5211,1877,1269,2065,209156,177028,1852,180,8838,1506,568,1163,989,6901,1292,936,954,3282,1718,807,336,188,618,209156,174552,860,3209,3574,20,1544,3548,4245,17604,209156,38200,153720,1361,8273,462,1347,5784,742,29,417,405,15,88360,81848,2521,518,3473,209156,120287,1209,2597,151,3538,1228,1061,64780,14305,209156,14638,17664,176854,6546,9226,123148,100931,73591,25056,7556,2022,189676,12431,2680,4369,91128,91088,15,25,91227,88360,2867,19273,26622,29103,13833,1601,578,217,88360,22749,35153,1118,10269,4113,13020,1149,789,88360,1927,86433,6144,3051,2.4,5.4,2.7,88360,19060,39031,24098,4722,1449,107747,167774,34424,29257,29098,7597,19526,38097,9775,4505,4558,2238,409,1879,154080,22137,71912,12061,6518,4411,17868,4895,6301,5271,2706,1721,1297,797,2487,109499,9044,18995,69787,11673,59034,2733,4173,42889,9239,50465,6311,14822,26898,2434,109499,272,79,12360,961,1250,8117,19787,7119,5344,5357,8231,1029,5848,6379,5001,8007,9872,4486,109499,10444,17031,13782,13094,11704,8890,10481,9633,14440]
["Local Authority","Peterborough","Peterborough","E06000031",183631,90859,92772,181827,1804,2040,34337.82,5.3,183631,13904,7088,4336,11349,2459,4741,4298,12502,15046,40315,33333,9382,12701,8829,2258,1090,36.9,35,144495,48546,66943,326,4854,14741,9085,74023,8093,13159,5192,8934,11855,3568,4061,3441,364,5882,2416,3074,47,123,3814,5867,2004,1440,2423,487,66,269,152,5380,1938,1171,2271,183631,130232,1257,560,19495,1542,827,1384,1195,4636,12078,229,872,3677,2480,1174,510,428,1055,183631,140541,869,3011,1298,20,1064,4448,14134,18246,183631,35514,123074,832,18808,284,1588,3849,866,14,161,264,5,74023,61982,3701,902,7438,183631,104202,463,2320,144,17251,1184,591,45183,12293,183631,14053,16538,153040,6526,8856,104235,81275,68493,24362,7425,2076,165941,10732,2616,4342,76760,76737,9,14,76826,74023,2803,20851,23918,19376,10323,1298,590,470,74023,19134,24743,689,4751,9683,12855,1313,855,74023,1145,72878,6180,3940,2.5,5.4,2.8,74023,18412,33372,17712,3452,1075,83910,144495,36158,22288,23338,5037,15589,29245,12840,4121,4323,1812,455,2034,132318,18654,56704,10012,6691,3585,15323,5104,7270,5484,3491,2008,1121,1129,2516,88044,7109,16718,54376,9841,47740,2370,4589,33056,7725,40304,4739,12129,21320,2116,88044,727,47,10400,238,667,5257,16112,5482,4252,3227,4432,1086,3887,6553,5541,7056,9551,3529,88044,7855,11643,10002,9870,8947,8122,8153,9173,14279]
["Local Authority","Luton","Luton","E06000032",203201,101954,101247,201549,1652,2232,4335.33,46.9,203201,16592,8809,5412,13211,2732,5425,5404,16621,18812,43926,34030,8346,12644,8440,1877,920,34.799999999999997,32,156445,57911,72840,249,4862,11630,8953,74293,7171,13148,4307,6863,13587,4199,3069,2707,331,6066,2856,4486,907,169,4427,6046,1770,1590,2686,414,70,217,127,5632,1700,1373,2559,203201,90530,6126,198,14225,3831,915,1805,1730,10625,29353,13606,1497,5871,9169,8177,2563,1646,1334,203201,136107,889,2360,923,50,4754,2908,10905,44305,203201,25173,141918,5010,14618,485,4828,12491,1234,24,172,215,9,74293,56372,7849,1709,8363,203201,96271,652,6749,326,49991,2347,898,33594,12373,203201,14073,16514,172614,6605,9284,116675,94607,73300,25277,7571,2446,184945,10975,2836,4445,76014,75926,32,56,76295,74293,2002,9772,30616,19068,13800,2223,693,123,74293,18619,26077,288,7973,3742,15802,1014,778,74293,1810,72483,11410,8243,2.7,5.0999999999999996,2.6,74293,20389,32923,16499,3440,1042,80830,156445,36953,22813,22720,5151,17332,34814,16662,4951,13411,4601,2152,6622,145208,18407,53271,12198,8337,8059,14336,10703,9660,5496,4741,2097,1340,1648,3186,89201,8474,17630,54210,8887,49657,3177,6576,32943,6961,39544,5297,11054,21267,1926,89201,98,14,8241,193,511,7231,15850,8987,5477,2933,2348,1297,4194,5625,3895,8915,9608,3784,89201,7104,12054,8746,10129,9926,9092,8124,9433,14593]
["Local Authority","Southend-on-Sea","Southend-on-Sea","E06000033",173658,85037,88621,171489,2169,1852,4175.6000000000004,41.6,173658,11213,5783,3715,10194,2132,4322,3730,9832,11282,36929,33309,10419,15184,10548,3223,1843,40.200000000000003,40,140621,48392,61600,301,4314,15245,10769,74678,10251,14135,6073,7942,10827,3738,4412,3577,413,5057,2795,1826,64,303,3265,5029,1801,1112,2116,458,83,217,158,4571,1718,895,1958,173658,151136,1496,162,6229,1039,741,977,894,1810,1059,933,1084,1554,2728,524,395,297,600,173658,153061,521,1934,1008,12,1301,2232,3190,10399,173658,29204,134915,1143,4739,385,1699,1909,476,17,99,456,0,74678,70240,2012,414,2012,173658,96755,801,1161,2150,3309,149,908,54880,13545,173658,15275,16841,141542,6214,8274,95335,78341,60929,24420,7778,2190,155976,11412,2131,4139,78603,78469,25,109,79126,74678,4448,12512,24457,14479,14733,11300,1611,34,74678,22960,25706,306,5079,3518,15472,967,670,74678,1616,73062,7155,3711,2.2999999999999998,5.0999999999999996,2.6,74678,20383,33268,16574,3406,1047,81304,140621,34621,23075,24619,4161,16055,30691,7399,3825,4152,1764,393,1975,125007,17949,47972,12801,6209,3393,17655,4769,6298,5311,2650,1661,1191,773,2607,81339,8211,15639,46349,11140,43401,2483,4091,28187,8640,37938,5728,11548,18162,2500,81339,130,26,5542,203,499,6558,11469,3957,3860,2590,9046,1321,4695,3925,4777,8157,10391,4193,81339,8686,13056,10779,11828,9143,7767,6781,5160,8139]
["Local Authority","Thurrock","Thurrock","E06000034",157705,77823,79882,157072,633,1302,16337.6,9.6999999999999993,157705,12005,6428,3803,9949,2113,4117,3623,9804,11162,36566,29375,8739,10738,6657,1844,782,36.799999999999997,36,123407,41862,58738,170,4036,11031,7570,62353,6379,9989,4000,7283,11175,4236,3367,3703,457,4744,2210,2097,44,137,2532,4729,1424,1108,2197,406,46,202,158,4323,1378,906,2039,157705,127587,1108,308,6426,1056,670,683,690,2234,534,682,828,1649,9742,1336,1245,254,673,157705,136626,328,1140,720,15,987,1391,4146,12352,157705,24671,121214,957,5668,286,4244,1594,472,6,179,200,1,62353,57961,1820,469,2103,157705,99891,615,1178,221,3164,1224,456,41061,9895,157705,11401,13149,133155,5199,6920,91267,76012,54788,19389,5888,1628,143099,8613,2172,3821,63869,63858,6,5,63889,62353,1536,7609,21022,20610,13349,570,547,182,62353,15899,25379,302,10055,1448,8220,552,498,62353,1660,60693,5594,3464,2.5,5.0999999999999996,2.7,62353,12527,27384,17007,3973,1462,79764,123407,32643,22396,21639,4218,13483,21519,7509,3475,3468,1539,411,1496,114124,16370,48620,10161,6190,3123,13377,3987,5903,4037,2356,1718,1030,946,2553,77420,6674,13907,46749,10090,41616,1750,3206,28398,8262,35804,4924,10701,18351,1828,77420,136,63,5677,506,922,7507,15458,7686,3256,2189,4873,999,3676,4077,3825,6122,7516,2932,77420,7245,8731,8486,11476,9645,6392,7731,7988,9726]
["Local Authority","Medway","Medway","E06000035",263925,130825,133100,259988,3937,2492,19203.310000000001,13.7,263925,17224,9732,6235,16765,3458,7463,8110,19041,17581,54321,51536,15454,20652,11946,2915,1492,37.700000000000003,37,210511,72899,97095,359,6608,20142,13408,106209,11868,17566,7436,13175,17447,6777,5547,5695,646,8406,4017,2775,497,249,4108,8389,2676,2032,3681,813,84,465,264,7576,2592,1567,3417,263925,225654,1946,510,8469,1730,735,1546,1165,7132,1516,1304,1065,2598,4742,1428,493,517,1375,263925,231218,849,2940,1566,16,1725,3328,5447,16836,263925,47841,201138,1557,7137,454,2712,3631,613,13,150,456,5,106209,99790,2855,488,3076,263925,152637,937,2756,208,5169,3846,1392,78995,17985,263925,19733,23621,220571,9236,12399,151871,120662,95679,34307,10388,2889,238892,15001,3348,6684,110107,110045,27,35,110263,106209,4054,15031,32487,44980,13198,2563,1095,909,106209,30697,41156,1114,4155,9841,16627,1526,1093,106209,3376,102833,7838,4350,2.4,5.4,2.7,106209,23231,45163,28790,6609,2416,133257,210511,48226,35473,38653,9857,26818,40275,11209,6409,9800,3621,1034,5114,194158,27137,77912,16876,9469,6560,24738,9912,10105,7334,4115,2982,1710,1449,3818,126689,12260,23004,74156,17269,68115,3483,5194,45408,14030,58574,8777,17810,28748,3239,126689,446,83,9603,966,1523,13857,22022,7672,5639,3398,6336,1591,5988,6408,9688,11215,14754,5500,126689,11924,16404,15265,16223,16564,12171,11670,10870,15598]
["Local Authority","Bracknell Forest","Bracknell Forest","E06000036",113205,56107,57098,110512,2693,1811,10938.54,10.3,113205,8027,4218,2527,7082,1608,3198,2425,6349,7721,26631,23439,5833,7520,4742,1247,638,37.4,37,89743,28944,44827,201,2292,8621,4858,45878,4448,8259,2994,6197,8980,2603,2943,1836,204,3046,1424,1077,24,89,1754,3037,1043,951,1043,291,28,200,63,2746,1015,751,980,113205,96080,984,118,5372,656,297,808,542,1989,518,134,556,2467,1586,402,201,201,294,113205,94422,469,1972,1423,8,804,2194,1985,9928,113205,13475,90893,784,3867,439,1717,2452,761,14,156,446,2,45878,42664,1460,320,1434,113205,68524,825,1824,176,1276,455,490,32184,7451,113205,5901,7996,99308,2420,4056,69120,59320,38814,11394,2859,818,103531,6719,1098,1857,46937,46923,4,10,47039,45878,1161,12883,9648,14885,8058,464,262,839,45878,11420,19999,527,2600,5078,4874,860,520,45878,549,45329,2832,1417,2.4,5.7,2.9,45878,6275,17818,16656,3794,1335,68374,89743,14639,13755,15191,3032,11389,27197,4540,2852,2392,1233,163,980,83116,11066,40762,8167,2808,2334,8496,3007,3450,1770,1256,742,626,281,1058,61914,5272,9680,37139,9823,32823,1544,2096,21685,7498,29091,3728,7584,15454,2325,61914,135,107,4184,332,356,4477,10044,3537,2920,6180,1770,816,4611,3791,3809,5402,6152,3291,61914,8081,11578,9382,7540,6545,5792,4618,2784,5594]
["Local Authority","West Berkshire","West Berkshire","E06000037",153822,76321,77501,150878,2944,3036,70416.820000000007,2.2000000000000002,153822,10065,5512,3505,9914,2095,4303,3235,7341,8506,33010,32957,9753,12949,7590,2065,1022,39.4,40,122731,35148,66362,196,2822,10859,7344,62340,6820,9303,5302,9751,12344,3854,3636,2379,274,3340,1758,1187,15,146,2231,3325,1196,1015,1114,371,55,228,88,2954,1141,787,1026,153822,139044,1284,164,5362,776,262,831,551,1675,473,225,659,776,701,514,161,139,225,153822,133918,652,2873,2460,6,1007,2349,2091,8466,153822,22962,123431,1117,3570,313,1115,1565,883,12,147,741,2,62340,59638,1370,177,1155,153822,97896,495,1106,212,1218,236,607,41042,11010,153822,8262,12016,133544,3163,5605,90337,79432,53069,16456,3818,1047,139534,10313,1466,2509,64603,64586,6,11,64657,62340,2317,21875,21198,11542,7548,1272,503,719,62340,19455,23980,695,575,8053,7457,1098,1027,62340,1174,61166,3099,1513,2.4,6,3,62340,7759,24042,22437,5858,2244,96617,122731,21065,17378,19880,4778,14916,39406,5308,3820,2624,1313,147,1146,112054,15567,51084,12691,3279,2780,14094,3799,4769,2420,1571,850,839,311,1210,81679,7843,13435,47282,13119,43640,2164,2859,28595,10022,38039,5679,10576,18687,3097,81679,762,136,6414,557,754,6317,12911,3012,3607,8668,2878,1286,6774,4107,4641,7889,6794,4172,81679,10688,16533,11596,9536,9129,7166,5953,4198,6880]
["Local Authority","Reading","Reading","E06000038",155698,77967,77731,151330,4368,1927,4039.86,38.5,155698,11937,5463,3093,7968,1655,3279,4875,14574,15113,38506,25030,6373,9058,6132,1704,938,35.299999999999997,33,125582,54161,52159,300,3185,9446,6331,62869,5954,13283,3288,6679,9894,2636,4227,2252,243,4727,2049,2030,951,144,4512,4700,1507,1129,2064,457,61,263,133,4243,1446,866,1931,155698,101725,2269,90,12303,2718,802,1428,1232,6514,6967,695,1603,5382,6087,3279,1104,680,820,155698,112196,706,2062,2082,32,1732,4080,5807,27001,155698,22104,106637,1898,10215,675,4062,10207,1293,51,334,796,17,62869,52774,3700,870,5525,155698,77848,1876,5661,355,11007,947,701,45931,11372,155698,8815,11295,135588,3965,6080,97705,78169,54913,16770,4590,1256,143383,8074,1642,2599,65551,65435,29,87,65925,62869,3056,7992,16686,20024,16492,3885,696,150,62869,14222,20257,1130,6322,3920,15517,877,624,62869,1986,60883,8568,3915,2.4,5.0999999999999996,2.6,62869,17819,28235,13326,2612,877,66681,125582,21834,15328,15407,3170,16875,43690,9278,2845,12007,4104,841,7046,116808,13883,52054,9238,5329,5825,10001,9297,5334,3227,2620,1268,928,812,2195,79852,7615,12571,50301,9365,43186,2567,3515,30281,6823,36666,5048,9056,20020,2542,79852,109,260,3949,466,890,4955,12396,3644,4719,8887,3290,821,7243,4586,3714,7763,8708,3452,79852,7155,19571,10793,8018,7162,6814,7225,4042,9072]
["Local Authority","Slough","Slough","E06000039",140205,70120,70085,139697,508,1442,3253.61,43.1,140205,12777,6276,3718,9034,1755,3664,3155,9574,13351,35902,23015,5160,6637,4505,1103,579,33.5,32,106645,37159,51713,135,3721,8271,5646,50766,4013,10434,1812,4199,10172,2864,1951,1650,189,4503,1988,3548,105,87,3251,4492,1276,1158,2058,336,58,176,102,4156,1218,982,1956,140205,48401,1607,220,13825,1667,607,1429,1055,21922,24869,549,797,7560,7548,3096,1471,928,2654,140205,83230,303,1133,862,25,1364,3132,9864,40292,140205,13878,95391,1337,14670,393,3567,12569,573,28,127,199,6,50766,34230,6972,1720,7844,140205,57726,743,8643,87,32655,14889,482,17024,7956,140205,8611,10173,121421,4279,6102,83440,67156,50464,16288,4906,1391,128579,7058,1977,2591,51781,51738,18,25,51980,50766,1214,5190,14478,14669,15544,1612,442,45,50766,9502,17253,686,6656,3820,11713,635,501,50766,1384,49382,10544,6521,2.8,4.7,2.5,50766,11885,22404,12478,2974,1025,60827,106645,21434,15673,14256,2371,10790,27560,14561,3388,6146,2429,662,3045,100458,11886,43610,8926,5440,3957,7517,5813,6555,3388,3366,1303,865,1014,2121,67300,5470,11520,43072,7238,37144,2109,4098,25405,5532,30156,3361,7422,17667,1706,67300,101,52,5437,358,469,4082,11088,8469,4667,4747,1751,556,3336,5393,2434,4774,6909,2677,67300,5512,10511,7390,7430,6663,6268,6322,6721,10483]
["Local Authority","Windsor and Maidenhead","Windsor and Maidenhead","E06000040",144560,71328,73232,141065,3495,2991,19650.96,7.4,144560,9365,5252,3332,8863,1848,3910,2585,7111,8841,31949,28735,8692,12424,8164,2243,1246,39.799999999999997,40,115900,34897,60863,264,2672,9513,7691,58349,6926,9628,5052,7724,11430,3436,3140,1926,240,2898,1772,1440,16,135,2586,2885,996,990,899,305,58,167,80,2580,938,823,819,144560,112081,2055,219,10150,679,358,1399,879,5860,4238,393,1071,2286,1039,473,213,379,788,144560,113399,839,3063,2131,2,1648,4330,2690,16458,144560,12791,117419,1845,6966,658,1626,3084,2067,56,287,1372,2,58349,52656,3125,421,2147,144560,90051,780,2660,475,5684,2941,513,31353,10103,144560,7952,10412,126196,2551,4375,84897,78802,46571,14234,3872,1081,131325,9604,1432,2199,60901,60886,9,6,60943,58349,2594,18992,15426,11432,11543,2033,852,665,58349,19013,20663,358,711,7037,8099,1333,1135,58349,993,57356,3900,2200,2.4,5.9,2.9,58349,7782,23443,20326,4864,1934,87382,115900,18134,13448,16685,3476,12933,44500,6724,3581,3242,1263,166,1790,104247,12727,46337,12903,3292,2391,13366,4598,5016,1834,1783,802,768,361,1243,73951,6709,11705,41725,13812,39677,2005,2972,24364,10336,34274,4704,8733,17361,3476,73951,229,209,5524,499,446,4166,10216,4491,3796,7874,2482,1300,7667,4070,3606,7281,5688,4407,73951,12111,16413,13022,7920,6356,5583,4367,2874,5305]
["Local Authority","Wokingham","Wokingham","E06000041",154380,76464,77916,151740,2640,3358,17897.919999999998,8.6,154380,10031,5758,3793,9740,2048,4090,3349,7428,8071,33741,33116,9426,13052,7791,1896,1050,39.4,40,123010,33750,70678,201,2297,9095,6989,60332,6164,7920,5670,9223,14167,4047,3228,1902,209,2679,1683,1270,30,109,2031,2670,944,970,756,300,40,201,59,2370,904,769,697,154380,129119,1367,291,5748,890,337,1273,682,5331,2865,222,1203,1817,1203,712,178,500,642,154380,129114,713,2953,2534,8,1074,2804,1555,13625,154380,14119,131025,1242,3680,448,1483,3100,994,30,153,751,4,60332,56458,2195,373,1306,154380,91905,572,3183,508,4352,2043,454,40143,11220,154380,7262,11118,136000,2496,5008,91717,83759,51808,14566,3310,937,140478,10190,1397,2315,62474,62465,6,3,62490,60332,2158,27840,18065,9107,5759,734,340,645,60332,21461,26642,679,2845,1391,6001,754,559,60332,752,59580,2258,1235,2.5,6.3,3.1,60332,5422,22202,24577,5873,2258,99057,123010,16226,14460,18557,4158,15313,49184,5112,3707,3899,1660,281,1941,112273,15282,51260,12081,2958,3331,14976,4441,4799,1742,1403,724,757,335,1035,81377,8274,13144,47267,12692,43417,2389,2818,28555,9655,37960,5885,10326,18712,3037,81377,264,249,5348,638,559,5387,11852,3044,2615,10267,3491,1050,8061,3766,4197,9351,7170,4068,81377,11531,20883,13298,9495,6765,6132,5431,2864,4978]
["Local Authority","Milton Keynes","Milton Keynes","E06000042",248821,123116,125705,246715,2106,3395,30862.53,8.1,248821,19908,10263,6205,15805,3211,6339,5170,14056,19596,59548,48040,13169,15467,8494,2371,1179,36.1,35,193429,64603,92880,403,6562,18657,10324,98584,8602,16944,5429,12966,18274,5289,6017,4839,493,8166,3256,3187,51,146,4925,8147,2608,2424,3115,756,89,438,229,7391,2519,1986,2886,248821,183934,2498,72,12590,2243,1597,2228,2167,8106,3851,1989,2722,6114,13058,2524,1549,565,1014,248821,194205,1084,4876,2482,38,2044,5550,6244,32298,248821,36675,184514,2038,13410,697,6121,6289,1329,55,289,676,4,98584,87443,4870,1255,5016,248821,131352,1246,6918,427,11913,1372,1216,77939,16438,248821,15802,18736,214283,7593,10564,147761,124826,86778,26929,7955,2333,227024,14018,2991,4788,102012,101999,5,8,102048,98584,3464,28781,28636,28006,15139,952,456,78,98584,21157,35756,5985,10801,6962,15930,1136,857,98584,1234,97350,9433,5038,2.5,5.5,2.8,98584,18656,42633,29364,6009,1922,128029,193429,34850,30794,32222,6579,22205,54591,12188,5609,6823,3001,681,3125,181385,23644,84004,15731,8640,5698,18654,7143,8338,5810,3723,2056,1720,986,3364,127783,10506,21119,79695,16463,67910,3349,4977,46998,12586,59873,7157,16142,32697,3877,127783,276,74,10225,272,611,7339,26365,8348,5762,8212,6704,1523,8459,6933,5742,13401,11945,5592,127783,13871,23219,17189,16037,11298,10035,11910,8484,15740]
["Local Authority","Brighton and Hove","Brighton and Hove","E06000043",273369,136108,137261,266059,7310,2749,8266.7099999999991,33.1,273369,15015,8186,5105,13412,2627,5602,9810,28129,22998,65653,48426,12714,17460,12248,3758,2226,37.4,35,229024,114826,72852,2346,5603,20923,12474,121540,14468,29826,5854,10577,13862,3898,9918,5051,459,8637,3352,2259,2873,348,10158,8604,3132,2086,3386,1006,182,489,335,7598,2950,1597,3051,273369,220018,3772,198,19524,2182,2019,3351,2856,2996,649,1367,2999,3267,2893,879,416,2184,1799,273369,221829,1349,4391,2889,26,2677,9130,5609,25469,273369,29338,217032,3159,14446,1408,2407,5733,2395,127,661,1943,20,121540,108656,6223,734,5927,273369,117276,2742,1792,2670,6095,342,2409,115954,24089,273369,20445,24124,228800,10216,13440,169676,134673,91970,32298,11151,3277,249402,16401,2850,4716,124417,123902,91,424,126827,121540,5287,12897,24174,26001,31739,29466,2495,55,121540,28397,36393,1045,11928,6259,34081,1878,1559,121540,5406,116134,20755,8168,2.2000000000000002,4.5999999999999996,2.4,121540,46415,51727,19078,3294,1026,104397,229024,36775,25190,28769,4854,36599,84423,12414,5065,27229,8230,2676,16285,210792,27492,75999,27241,7818,12303,19625,20567,7249,8813,3685,1968,1345,863,3023,139823,15403,28766,78731,16923,73383,5509,9242,46644,11988,66440,9894,19524,32087,4935,139823,151,64,5237,1152,651,8594,19167,5860,9143,8583,9367,2490,10788,7018,6213,17332,18779,9234,139823,16294,31769,23382,13470,12068,12925,12910,5046,11959]
["Local Authority","Portsmouth","Portsmouth","E06000044",205056,103201,101855,200052,5004,1610,4041.14,50.7,205056,13548,6970,4061,10927,2294,4628,9034,22761,16991,41524,35086,9820,13861,9210,2792,1549,36.5,34,167256,72820,61717,440,4872,17171,10236,85473,10334,17137,4881,8339,11217,3701,5229,3802,420,7335,2740,2123,2910,279,5026,7279,2471,1705,3103,728,106,395,227,6551,2365,1310,2876,205056,172313,1071,85,7713,1103,935,2381,1048,2911,539,3649,2611,2764,2958,540,279,1078,1078,205056,173783,735,3390,2100,24,862,3368,4553,16241,205056,34715,156526,825,6455,434,2050,4350,741,14,144,530,20,85473,78239,3232,604,3398,205056,106999,1162,1282,235,7162,468,1050,71826,14872,205056,15068,17791,172197,6759,9447,123638,97795,71443,25464,7995,2359,187920,10794,2239,4103,88091,87930,61,100,88638,85473,3165,3667,13809,39699,23209,6791,1323,140,85473,20616,26281,825,10001,5610,19044,2054,1042,85473,4613,80860,9290,4461,2.2999999999999998,5.0999999999999996,2.6,85473,28533,37396,15776,2948,820,81389,167256,35405,21980,25073,6545,30068,39630,8555,4135,21322,5781,2171,13336,153705,20626,57743,11551,6536,9378,16385,16380,6297,5813,2996,1694,1221,810,2730,96619,10493,18812,56064,11250,51505,3623,4985,34208,8689,45114,6870,13827,21856,2561,96619,127,41,8426,1303,656,8065,14303,4664,6629,3541,2614,1145,3887,5547,9324,9763,12147,4437,96619,8915,15310,12311,10331,11164,9268,10124,6642,12554]
["Local Authority","Southampton","Southampton","E06000045",236882,119453,117429,228459,8423,1886,4988.93,47.5,236882,15407,7406,4441,11555,2539,4801,10602,29384,21785,48888,38352,10946,15443,10661,3084,1588,36.1,32,195534,88491,72324,416,5141,17827,11335,98254,11283,21958,5647,10010,12451,4134,6308,3987,485,6918,3130,2629,2955,252,6107,6905,2382,1293,3230,593,89,274,230,6312,2293,1019,3000,236882,183980,1746,341,17461,1678,941,1796,1263,6742,3019,1401,3449,5281,3508,1132,427,1312,1405,236882,188884,1029,2999,2293,26,1357,4571,11370,24353,236882,41227,167685,1288,15288,735,2581,8499,1054,76,263,586,27,98254,85844,4064,824,7522,236882,122018,1331,2482,254,9903,3476,1329,79379,16710,236882,18165,20234,198483,8705,11080,144973,112653,82880,29278,9223,2848,216519,12681,2880,4802,100596,100389,62,145,101272,98254,3018,13336,26029,21324,33569,5790,1157,67,98254,21286,27587,1013,16633,6234,23007,1442,1052,98254,3686,94568,13324,6072,2.2999999999999998,4.9000000000000004,2.5,98254,28996,43938,20099,3969,1252,101546,195534,40991,25287,27209,7156,33882,48145,12864,4088,28061,7787,2425,17811,180201,22856,68082,12964,7631,11660,17775,20857,7449,7330,3597,2191,1217,1117,2958,112608,12994,20703,65968,12943,60632,4732,5741,40137,10022,51976,8262,14962,25831,2921,112608,240,84,9556,735,739,8900,19642,7505,7242,3370,4702,1303,6375,5846,4677,11639,15091,4962,112608,8705,19206,12661,11778,12826,10940,11547,9521,15424]
["Local Authority","Isle of Wight","Isle of Wight","E06000046",138265,67424,70841,133713,4552,1519,38016.1,3.6,138265,6412,3945,2597,7968,1754,3492,2944,6808,6690,23176,28531,10994,17112,10772,3257,1813,44.4,46,115589,32673,55815,183,2952,13357,10609,61085,10055,9902,6944,8680,7373,2774,2884,2526,289,4164,2015,1189,19,285,1986,4144,1563,1007,1574,501,92,235,174,3643,1471,772,1400,138265,131099,747,94,2605,507,123,738,341,435,80,131,219,649,141,115,47,52,142,138265,127442,393,1688,1525,20,651,1520,1056,3970,138265,33884,100955,529,1796,135,252,735,448,5,39,299,2,61085,59752,747,83,503,138265,83671,459,312,124,524,45,905,40950,11275,138265,14274,16972,107019,5711,7327,69597,56420,50514,22378,6921,2032,121845,10208,2108,4104,67506,67464,10,32,67676,61085,6591,23164,19067,10573,8992,4333,1098,449,61085,25091,17726,362,598,5925,9663,976,744,61085,3126,57959,3536,1627,2.2000000000000002,5.5,2.7,61085,13761,28314,14356,3468,1186,72788,115589,28078,16865,19395,5799,14128,26163,5161,3106,2592,993,249,1332,99747,15728,30353,11553,4386,2198,20478,3661,3933,4504,2953,1310,935,417,1764,59299,6470,14402,31938,6489,30678,2063,4085,19821,4709,28621,4407,10317,12117,1780,59299,735,70,5335,227,351,5034,9379,2380,5393,1090,888,927,2568,2266,4047,5831,9277,3501,59299,6769,8644,6347,5712,9102,7183,5151,3467,6924]
["Local Authority","County Durham","County Durham","E06000047",513242,251280,261962,500288,12954,4705,222606.26,2.2999999999999998,513242,28574,15818,9841,27869,5882,12107,15278,35155,30628,96150,108200,35395,50883,30635,7321,3506,41,42,425258,137980,200826,759,10708,41207,33778,223803,30493,39514,19385,31766,29999,14487,10555,10240,1243,17145,7918,3714,1517,592,5235,17036,5521,4661,6854,1825,260,936,629,15211,5261,3725,6225,513242,495664,1229,467,6409,969,321,1093,711,1368,463,241,1598,1186,447,158,96,459,363,513242,485955,1403,7381,1820,20,915,3771,2832,9145,513242,120210,383984,937,4321,400,786,2582,1130,27,83,531,15,223803,219933,1949,200,1721,513242,369715,1001,607,208,1934,609,1525,107281,30362,513242,62875,58411,391956,29292,29985,273636,217373,171564,82404,32568,9333,453187,34336,8826,16893,233485,233469,6,10,233537,223803,9734,44287,85322,89782,10709,1569,1548,320,223803,69435,77912,488,28559,16445,25498,2644,2822,223803,1868,221935,8117,5337,2.2000000000000002,5.4,2.7,223803,60926,96086,52740,10775,3276,248586,425258,116948,57032,67905,17694,57957,91249,16473,10456,23152,6408,1249,15413,383796,50595,143922,25309,17013,10262,65444,23837,14190,24887,8337,5615,2917,2989,6724,227894,18785,45205,138621,25283,118472,6031,10744,82190,19507,109422,12754,34461,56431,5776,227894,2124,922,29983,2417,2197,18824,33261,10272,12257,4564,5063,2699,8789,9165,19738,23836,31923,9860,227894,20169,33042,24335,25774,28753,23446,21042,23243,28090]
["Local Authority","Northumberland","Northumberland","E06000048",316028,154124,161904,310591,5437,3922,501301.83,0.6,316028,16003,9863,6482,17677,3841,7631,6992,16224,16187,56156,71135,24533,34366,21018,5233,2687,42.8,45,262162,72424,136537,475,6773,24397,21556,138534,19407,21999,14239,22367,20013,8510,6769,5878,646,8610,4777,2077,22,384,2836,8580,3114,2392,3074,883,109,448,326,7697,3005,1944,2748,316028,307097,833,156,2980,515,230,624,323,939,351,295,452,621,193,114,31,73,201,316028,293366,1036,11333,1345,23,606,2059,1274,4986,316028,64866,247409,600,1893,218,300,815,592,8,64,438,4,138534,136797,979,107,651,316028,216673,578,335,169,1018,494,980,75620,20161,316028,30940,34558,250530,13138,16047,169673,138990,108458,48580,15641,4359,280331,22304,4553,8840,148008,147995,7,6,148043,138534,9509,37247,52263,41652,12663,2566,1231,421,138534,46086,45121,510,14820,11021,16225,2192,2559,138534,1858,136676,5004,2962,2.2000000000000002,5.6,2.8,138534,30543,60875,36916,7671,2529,168974,262162,62584,35791,43363,11823,31650,67024,9927,6585,6371,2749,492,3081,233224,34368,86380,22063,10329,5128,43897,8108,8368,10321,4262,3102,2077,1535,4028,146901,13206,30630,84010,19055,75848,3951,7090,49784,15023,71053,9255,23540,34226,4032,146901,3739,770,13569,858,1060,11629,21477,6210,8794,3657,3480,2164,7616,5642,13421,13081,22591,7143,146901,15459,22807,16827,16891,19038,15579,12688,11390,16222]
["Local Authority","Cheshire East","Cheshire East","E06000049",370127,181409,188718,365065,5062,6056,116637.63,3.2,370127,20194,12057,7687,21383,4432,9249,8398,18615,19020,72047,79230,26443,37951,23733,6347,3341,42,43,304374,86618,158540,563,6708,28426,23519,159441,21409,25919,16201,23073,26545,9766,8293,6128,754,9367,4908,2426,173,357,4122,9337,3506,2984,2847,1101,167,685,249,8236,3339,2299,2598,370127,346264,2241,313,9122,1341,461,1293,778,2147,856,504,1125,1428,664,511,227,338,514,370127,336198,1576,6204,5836,19,1826,3219,5141,10108,370127,61777,296731,1630,7013,380,733,2276,1038,20,135,803,2,159441,154661,2069,278,2433,370127,254940,882,1328,581,2438,279,1065,83973,24641,370127,29206,35625,305296,11098,15896,206008,181595,123065,47306,14247,3914,330124,27525,4454,8024,166236,166202,15,19,166329,159441,6888,58368,53498,35582,14620,2116,1365,780,159441,59846,58920,779,4285,13856,18244,1694,1817,159441,3643,155798,5681,3400,2.2999999999999998,5.9,2.9,159441,25709,65543,52217,11763,4209,224179,304374,59806,36823,48576,12395,37854,97248,11672,8284,10298,4154,769,5332,270953,38940,106863,29056,8742,7652,46446,11341,9591,8327,3995,2292,2075,1002,3412,181136,18003,35081,102292,25760,95118,5429,8432,61313,19944,86018,12574,26649,40979,5816,181136,2611,364,22226,711,1125,10925,29530,9329,9152,7359,7579,2799,14487,8691,6629,16972,22343,8304,181136,24551,35525,23592,18819,18711,16059,13650,11849,18380]
["Local Authority","Cheshire West and Chester","Cheshire West and Chester","E06000050",329608,160586,169022,326236,3372,4753,91665.600000000006,3.6,329608,18050,10742,6701,18737,3905,7904,8296,19511,18796,64058,69122,22686,32782,20387,5215,2716,41.3,42,271473,83980,135483,428,5638,25167,20777,141442,18652,23189,13452,19789,21976,9250,7262,5641,687,9071,4812,2387,618,364,4292,9009,3414,2534,3061,910,110,544,256,8099,3304,1990,2805,329608,312013,2337,213,6462,889,411,1059,691,1242,336,576,935,1008,586,196,126,199,329,329608,294315,1765,4846,12665,30,1932,2931,3249,7875,329608,57234,263620,1728,4794,353,705,1501,778,27,101,595,2,141442,137595,1880,221,1746,329608,231126,776,653,250,1686,195,854,72649,21419,329608,29098,31897,268613,11961,14811,183601,159777,108967,42604,14259,4001,292487,23941,4723,8457,147568,147515,14,39,147746,141442,6304,43673,52927,32082,14696,2176,1173,1019,141442,49129,50976,1088,10482,10326,16021,1713,1707,141442,2989,138453,5882,3378,2.2999999999999998,5.8,2.9,141442,26297,58893,43561,9580,3111,188557,271473,56940,36010,42655,10727,35042,79712,10387,7048,11532,4697,943,5853,243155,36206,95642,21856,8949,8125,39893,10746,8620,9574,3544,2520,1859,1028,3351,160138,15902,32408,91529,20299,83031,4720,7416,55146,15749,77107,11182,24992,36383,4550,160138,1978,459,18485,845,1475,10220,27313,6779,9483,4993,7914,2127,11390,7504,7860,15373,18915,7025,160138,18672,29045,19767,16853,17003,14320,14739,11906,17833]
["Local Authority","Shropshire","Shropshire","E06000051",306129,151606,154523,298183,7946,4905,319730.32,1,306129,15698,9392,6240,17915,3905,8113,6933,16619,15619,55358,64738,22300,34212,20680,5571,2836,42.6,44,252979,73492,129928,436,5105,24122,19896,129674,18077,19463,14284,19363,19823,8010,6956,5445,573,6710,4278,2317,49,493,3833,6667,2571,2027,2069,934,123,591,220,5733,2448,1436,1849,306129,292047,1410,312,6105,765,231,669,503,752,216,208,1020,893,302,164,114,179,239,306129,268958,1330,3828,17598,28,1200,2819,3188,7180,306129,67770,230818,1029,4192,285,463,1562,769,23,49,696,4,129674,126657,1535,146,1336,306129,210268,792,378,127,989,256,1113,69725,22481,306129,25568,31258,249303,9592,13698,166390,142309,106909,41475,11979,3457,271869,22835,4046,7379,135572,135544,6,22,135645,129674,5971,53529,45289,22807,8995,2419,1543,1063,129674,49998,39690,830,6458,10990,17013,2408,2287,129674,4128,125546,5222,3083,2.2999999999999998,6,2.9,129674,20483,54671,39927,10291,4302,184779,252979,56943,33158,42594,9289,30749,69558,10688,7183,6516,2629,343,3513,223892,34760,83106,28535,7350,5232,37833,8764,7529,7237,3546,2187,1569,856,2837,150748,15327,30934,80791,23696,80881,4307,7367,50364,18843,69867,11020,23567,30427,4853,150748,5807,245,15942,547,1419,12527,24248,5864,8283,4021,2946,2027,7832,5932,10279,15144,20642,7043,150748,17708,23906,16971,15010,22984,15180,10837,11171,16981]
["Local Authority","Cornwall","Cornwall","E06000052",532273,257805,274468,523432,8841,6106,354618.74,1.5,532273,27366,15714,10359,29972,6530,12575,12695,28357,26373,93598,110882,42611,61767,37746,10218,5510,43.3,45,442332,125475,222141,900,9582,47858,36376,230389,34137,35132,24939,34586,31221,12365,12304,9800,1054,13086,7156,4651,730,948,8280,13043,5214,3106,4723,1446,279,755,412,11597,4935,2351,4311,532273,509628,2046,635,10539,1248,490,1553,1109,837,107,280,1004,1206,292,368,102,189,640,532273,493300,1649,6338,7229,149,1701,5097,4282,12528,532273,134296,386954,1429,6320,430,741,1636,1667,19,128,1477,14,230389,225646,2360,228,2155,532273,318357,1726,556,389,855,105,3609,161320,45356,532273,53166,60549,418558,22002,27627,277462,240759,178805,79181,25907,7621,469081,39052,8284,15856,258883,258747,44,92,259346,230389,28957,97594,63331,59153,22414,9340,3220,4294,230389,92113,66411,1757,12833,14822,33938,4667,3848,230389,16624,213765,13283,6016,2.2999999999999998,5.6,2.8,230389,39937,102864,64904,16278,6406,310474,442332,99237,59206,76782,20102,57917,110518,18570,11102,15880,5876,1313,8609,388858,59778,123195,53013,12694,10804,73605,16726,15517,16980,6546,3831,2876,1282,4529,244527,26426,56519,127948,33634,127776,7927,15037,79381,25431,116751,18499,41482,48567,8203,244527,7351,1598,19279,868,1862,21957,41126,9146,22376,4244,3728,3462,11558,10635,15518,23774,33071,12974,244527,27985,33767,25455,23320,41511,25798,20094,17369,29228]
["Local Authority","Isles of Scilly","Isles of Scilly","E06000053",2203,1102,1101,2123,80,79,1637.47,1.3,2203,105,65,40,114,22,7,27,111,135,427,472,172,271,165,37,33,44.7,46,1857,503,994,0,32,176,152,989,150,186,107,174,125,40,62,32,7,22,12,17,1,10,44,22,8,13,1,3,0,3,0,19,8,10,1,2203,2087,10,0,80,3,3,9,3,0,0,0,0,2,1,1,0,0,4,2203,1982,7,33,45,3,8,18,36,71,2203,342,1782,7,45,3,16,2,11,0,0,20,0,989,959,18,0,12,2203,1218,9,1,4,3,0,12,742,214,2203,108,200,1895,27,68,1256,1135,754,248,53,13,1983,165,20,35,1388,1387,1,0,1389,989,400,442,316,226,130,203,70,2,989,313,99,8,121,58,204,90,96,989,260,729,119,20,2.1,5.3,2.6,989,492,355,108,27,7,683,1857,264,201,309,78,304,613,88,6,14,4,2,8,1622,220,653,433,18,7,209,13,26,14,29,1,8,1,7,1311,93,229,745,244,694,26,63,445,160,617,67,166,300,84,1311,75,5,40,6,11,95,134,131,313,7,13,28,22,78,78,107,105,63,1311,261,121,118,110,258,143,56,71,173]
["Local Authority","Wiltshire","Wiltshire","E06000054",470981,231754,239227,457954,13027,9360,325534.12,1.4,470981,28373,16588,10611,29276,6120,12432,10645,24720,25471,91597,98414,31246,45070,28456,7725,4237,40.799999999999997,42,380013,104226,203563,637,9163,36120,26304,194194,24608,27237,19564,31012,35133,10716,10301,7311,758,12022,5429,3276,36,580,6211,11954,4685,3481,3788,1298,201,802,295,10656,4484,2679,3493,470981,439725,2381,757,12108,1968,656,1667,1277,1547,215,595,1210,2611,1418,1151,659,288,748,470981,412076,2895,8659,10203,75,2118,9473,5827,19655,470981,87495,367537,1699,7972,635,1854,3018,2243,60,161,2209,27,194194,188009,3124,404,2657,470981,301651,1621,1308,384,2074,303,2417,125045,36178,470981,31408,43836,395737,12012,19611,262902,234318,160362,57221,14974,4106,423373,33064,5066,9478,201991,201936,17,38,202145,194194,7951,70890,62583,44213,17653,3561,1733,1512,194194,65734,65349,1463,7604,20987,22903,7065,3089,194194,4081,190113,8803,4719,2.4,6,3,194194,28660,80315,63879,15513,5827,280840,380013,70782,53242,65411,14616,48130,112067,15765,11075,8294,4090,576,3575,339595,50806,143218,38102,9999,8667,49893,11119,13554,9102,5135,2877,2256,1037,3666,239216,24274,44491,132635,37816,128455,6700,9751,81830,30174,110761,17574,34740,50805,7642,239216,4105,245,21693,951,1685,17274,35563,8512,12266,10236,7601,3401,16091,10678,29723,22352,25598,11242,239216,29672,39957,34876,26074,29613,21914,17595,15323,24192]
["Local Authority","Bedford","Bedford","E06000055",157479,77312,80167,154536,2943,2392,47641.2,3.3,157479,10099,5742,3634,9955,2178,4267,4005,9640,10134,32838,30816,9303,12761,8680,2297,1130,38.9,39,125871,40205,61937,217,3462,11599,8451,63812,7616,10780,5210,7946,11027,3695,3084,2323,286,4854,2180,1918,325,150,2418,4820,1568,1478,1774,464,58,294,112,4356,1510,1184,1662,157479,112588,1683,115,12460,2396,587,1366,1037,8122,3270,3225,905,2410,2741,2843,618,331,782,157479,125478,720,2223,1312,22,1318,3966,5878,16562,157479,23813,116354,1176,11001,367,1590,3506,937,14,131,381,7,63812,55771,3259,612,4170,157479,93346,509,2420,171,8610,3336,1506,37229,10352,157479,11181,14020,132278,4768,6772,89463,73860,56663,19812,5596,1548,141395,10838,2055,3191,67333,67245,29,59,67653,63812,3841,18554,21776,14818,8458,2729,711,607,63812,20018,21919,665,1155,9097,9310,800,848,63812,1287,62525,4885,2737,2.4,5.7,2.9,63812,13137,26678,18037,4323,1637,83041,125871,25645,17313,19129,4939,14882,35417,8546,3810,6286,2370,546,3346,113764,15841,45943,10826,5060,4112,14517,6231,4918,3749,2567,1314,1037,733,1969,75810,7705,14080,43713,10312,39894,2428,3569,25889,8008,35916,5277,10511,17824,2304,75810,554,38,6440,516,609,5721,12949,4293,3412,2951,2080,997,5017,3729,4899,8827,9398,3380,75810,8273,13687,9331,8489,8362,7054,6005,5243,9366]
["Local Authority","Central Bedfordshire","Central Bedfordshire","E06000056",254381,126044,128337,252120,2261,3629,71566.45,3.6,254381,16009,9162,5805,15480,3323,6571,5441,13598,14484,53597,54730,16292,21945,13232,3175,1537,39.6,40,204602,59646,107476,306,5638,18618,12918,104399,11724,15306,8854,15515,19464,6985,5920,4675,610,6767,3259,2039,116,220,2945,6689,2247,2180,2262,763,87,497,179,5926,2160,1683,2083,254381,228053,3149,478,7042,1787,522,1474,1006,2533,442,214,1404,1809,2054,1230,330,357,497,254381,226356,1062,4228,2590,16,2439,3454,2842,11394,254381,37906,204877,2462,5332,355,1774,1989,1006,29,127,678,6,104399,100222,2318,274,1585,254381,158236,779,1668,499,1931,746,882,72355,17285,254381,15465,21142,217774,6097,10069,148547,125019,90360,29202,7672,2128,228546,18247,2702,4886,108692,108677,7,8,108733,104399,4334,30656,36801,27482,10749,1134,878,1033,104399,33039,42704,874,5464,8517,10973,1639,1189,104399,1757,102642,4790,2768,2.4,5.7,2.9,104399,13820,41842,36221,9036,3480,156956,204602,39644,30583,34714,9623,25869,55793,8376,5869,6836,2628,466,3713,186658,26069,81304,20472,6443,5237,25111,7768,7346,4409,2499,1708,1548,711,2474,132061,12503,22687,77141,19730,70218,3372,4811,46417,15618,61843,9131,17876,30724,4112,132061,883,101,13253,367,872,12766,22555,7075,5088,6015,4366,2032,8863,6161,8293,13821,12666,6884,132061,16698,22151,18600,16229,16582,11493,9392,9004,11912]
["Local Authority","Aylesbury Vale","Aylesbury Vale","E07000004",174137,86241,87896,170651,3486,3326,90275.35,1.9,174137,11345,6475,4069,11267,2414,4734,3736,8763,9872,37160,37525,10741,14209,8476,2173,1178,39.1,40,138567,40627,73374,275,3585,12260,8446,69406,7421,10191,5629,10363,14099,3986,4067,2732,336,3955,2140,1568,85,200,2634,3941,1384,1400,1157,508,55,342,111,3433,1329,1058,1046,174137,148360,1573,134,6012,1518,461,1077,808,1872,5408,201,636,1988,1676,1302,345,339,427,174137,149442,769,2886,2197,11,1299,2777,2358,12398,174137,23655,140902,1265,4410,322,1624,2283,1014,23,116,642,5,69406,65184,2328,367,1527,174137,107432,657,1350,321,6783,238,588,44520,12248,174137,9921,13733,150483,3899,6584,102048,89515,59530,19073,4661,1358,157571,11840,1787,2939,71883,71861,7,15,72072,69406,2666,23293,23063,16916,7165,1007,470,158,69406,21607,28095,600,2333,6649,8096,1138,888,69406,1106,68300,4390,2614,2.5,5.9,2.9,69406,9244,26465,25100,6139,2458,106185,138567,24059,19099,22857,5014,16894,44291,6353,4192,4153,1664,278,2196,126740,17751,54696,15531,3869,3395,15684,5151,5375,2821,2467,1004,895,441,1397,90724,8732,16063,51349,14580,48033,2567,3850,30407,11209,42691,6165,12213,20942,3371,90724,1168,59,7229,211,740,6945,14693,3884,3721,4892,3640,1280,6994,4514,6316,9308,10550,4580,90724,12437,16995,13195,10384,10369,8094,6567,4978,7705]
["Local Authority","Chiltern","Chiltern","E07000005",92635,45049,47586,91871,764,2482,19634.810000000001,4.7,92635,5473,3510,2350,6339,1284,2524,1751,3693,3706,17124,20649,6264,9332,6141,1635,860,41.6,44,73679,18298,42990,140,1415,5447,5389,36946,4976,4203,4295,5204,8446,2399,1413,1163,160,1621,1073,640,5,94,1254,1609,570,601,438,207,33,134,40,1402,537,467,398,92635,79579,1118,121,3931,380,190,998,472,1799,1772,120,442,913,258,213,53,58,218,92635,78987,451,1750,1193,5,808,1565,1231,6645,92635,8797,78969,1005,2406,271,542,881,858,17,111,668,1,36946,34927,1231,150,638,92635,58553,327,1206,507,2311,489,343,21818,7081,92635,5054,7394,80187,1681,2814,51216,49848,30368,9433,2334,652,82971,7324,859,1481,38287,38275,8,4,38306,36946,1360,16719,9456,6315,4419,643,465,289,36946,15191,13227,257,657,3916,3039,275,384,36946,406,36540,1506,978,2.5,6.4,3.2,36946,4018,13357,14226,3804,1541,60096,73679,10864,7858,11150,2420,8143,30179,3065,2320,1875,775,97,993,65043,8854,24978,9586,1728,1597,10038,2715,3303,1227,1017,412,468,183,645,44785,5434,7950,23387,8014,23819,1484,1937,14197,6201,20966,3950,6013,9190,1813,44785,220,89,3029,129,236,3151,6488,1698,1634,3442,2301,931,5366,2174,1728,5042,4571,2556,44785,7804,10340,7059,4968,3999,3651,2577,1542,2845]
["Local Authority","South Bucks","South Bucks","E07000006",66867,32439,34428,65819,1048,1639,14127.52,4.7,66867,3931,2291,1526,4090,828,1736,1333,3114,3414,12723,14647,4283,6552,4478,1234,687,41.8,43,54201,14647,30069,90,1070,4163,4162,26514,3708,3428,2821,3435,5272,1851,1099,845,110,1198,829,783,26,66,1043,1195,373,432,390,161,15,122,24,1034,358,310,366,66867,51541,1133,256,3435,416,119,720,352,4758,965,171,527,1112,354,278,77,174,479,66867,53982,336,1249,905,8,864,1443,906,7174,66867,5471,56306,1009,2059,217,456,1156,938,12,79,476,2,26514,24525,1263,148,578,66867,41637,310,1685,289,1665,3163,228,13270,4620,66867,3965,5335,57567,1202,2095,37953,35055,22267,7025,1959,561,59974,4982,737,1174,27709,27702,5,2,27721,26514,1207,11290,6782,3826,4492,447,417,467,26514,10099,9354,402,261,3005,2653,358,382,26514,308,26206,1117,709,2.5,6.4,3.2,26514,2711,9591,9845,2966,1401,44527,54201,8954,6395,7997,1865,6034,19977,2979,1593,1628,626,89,907,47802,5643,19666,6850,1267,1155,6914,2142,2429,878,858,322,346,156,435,33117,3230,5240,18307,6340,17798,931,1244,10724,4899,15319,2299,3996,7583,1441,33117,113,116,2514,187,207,2593,4819,2020,1617,2774,1311,660,3419,1665,1382,2947,3054,1719,33117,6241,6914,5216,4047,3105,2325,1749,1395,2125]
["Local Authority","Wycombe","Wycombe","E07000007",171644,84617,87027,168958,2686,3324,32457.21,5.3,171644,11083,6523,4195,10856,2200,4502,4126,10404,10615,36390,33600,9954,14597,9154,2245,1200,38.9,39,136787,42605,71646,202,3294,10632,8408,67861,7547,10591,6061,8983,13380,3978,3617,2195,266,3776,2010,1952,346,133,3026,3751,1289,1188,1274,401,68,254,79,3350,1221,934,1195,171644,130313,1553,103,7508,2259,328,1330,932,2939,13091,597,949,3009,1744,3382,808,282,517,171644,140130,728,2811,2128,20,1231,2896,3250,18450,171644,18603,140831,1345,5525,400,1573,3722,1439,28,184,833,6,67861,61468,3485,596,2312,171644,98182,913,2003,394,15022,767,644,41582,12137,171644,9339,13187,149118,3399,6085,100107,88483,58721,18456,4653,1331,155253,11674,1885,2832,70087,70049,12,26,70235,67861,2374,21795,23033,11452,11220,1762,652,321,67861,21887,25392,687,5792,2858,8900,1416,929,67861,1059,66802,5540,3180,2.5,5.7,2.9,67861,9288,25887,24248,5973,2465,103330,136787,23780,17123,20734,4964,16905,45899,7382,4115,6452,2614,611,3207,124188,16001,51724,15108,4023,4459,15713,6331,6138,2434,2257,1010,903,565,1478,86350,8992,15005,49054,13299,46614,2815,4087,29563,10149,39736,6177,10918,19491,3150,86350,332,100,7723,225,863,6239,14830,3854,3888,6634,2654,1320,7779,4355,4343,8437,8218,4556,86350,12404,16744,12987,9603,9244,7103,6745,4692,6828]
["Local Authority","Cambridge","Cambridge","E07000008",123867,62984,60883,107345,16522,2013,4069.94,30.4,123867,6703,3186,1887,5006,1078,2446,6714,18076,13341,27507,18349,4973,6877,5028,1682,1014,35.6,31,106007,55781,36177,324,1861,7024,4840,46714,5194,10654,2671,4872,6513,1679,3319,1603,156,1977,1235,1149,1097,107,4488,1970,664,508,798,180,24,101,55,1790,640,407,743,123867,81742,1767,109,18587,728,470,1501,1245,3413,742,1849,4454,3160,1300,598,199,908,1095,123867,82880,889,2517,1184,16,1181,7776,5341,22083,123867,13606,83069,1558,13464,1377,1480,7573,3597,152,490,1751,10,46714,36856,4429,512,4917,123867,55514,1573,2058,870,4897,213,703,46839,11200,123867,6798,9266,107803,2979,5070,83357,67743,39600,12021,3533,970,114090,7146,1042,1589,48288,48196,26,66,48835,46714,2121,5093,12905,14512,13641,2104,497,83,46714,11639,10532,526,7109,3914,11170,1088,736,46714,1196,45518,6575,2697,2.2999999999999998,5.0999999999999996,2.6,46714,15702,21764,7568,1311,369,42445,106007,12606,7294,9159,2024,17943,50169,6812,2226,24506,4390,671,19427,98283,10001,37350,7291,2641,5603,7001,21463,2949,2437,1547,648,441,305,1044,59437,6265,9818,34795,8559,32001,2389,3067,20629,5916,27436,3876,6751,14166,2643,59437,115,34,2848,89,206,2127,6280,1431,3748,4661,961,551,8581,2303,1627,13596,7306,2973,59437,5105,22615,6696,4608,3929,4322,3867,2049,6246]
["Local Authority","East Cambridgeshire","East Cambridgeshire","E07000009",83818,41443,42375,83056,762,1085,65128.21,1.3,83818,5506,3098,1918,4812,1003,2004,1547,4110,4895,18271,16878,5469,7540,4867,1244,656,40.200000000000003,40,67481,18280,37038,208,1624,5866,4465,34614,4117,4776,3296,5544,6696,1993,2295,1558,199,1464,826,694,2,96,1058,1454,530,466,458,162,16,112,34,1292,514,354,424,83818,75218,527,239,4689,230,185,370,397,316,103,80,290,426,288,95,123,66,176,83818,73204,279,1389,701,3,422,1385,1733,4702,83818,15074,62959,443,2703,196,394,563,1997,20,62,325,1,34614,32898,852,90,774,83818,52243,285,149,122,369,117,337,23565,6631,83818,5423,7479,70916,1982,3346,47846,40874,29487,10131,2614,712,75529,5725,927,1637,35747,35741,2,4,35760,34614,1146,15144,11369,6281,2024,376,219,347,34614,11145,12574,506,457,4487,4144,432,869,34614,598,34016,1322,806,2.4,5.9,2.9,34614,4510,13990,12094,2835,1185,52071,67481,14127,8844,10556,2928,7700,19583,3743,1780,1362,649,103,596,60714,8811,26726,7227,1747,1409,8224,1784,2531,1438,817,476,414,180,659,43919,4251,7663,25151,6854,23497,1107,1649,15270,5471,20422,3144,6014,9881,1383,43919,1465,33,4609,117,386,4055,6478,1956,1487,1945,939,581,3848,1675,1862,4957,4681,2845,43919,5462,8086,5175,4903,5721,4398,2977,3311,3886]
["Local Authority","Fenland","Fenland","E07000010",95262,46811,48451,93934,1328,843,54644.959999999999,1.7,95262,5221,2889,1952,5525,1193,2391,2024,5353,5597,17850,19332,6616,10095,6698,1690,836,42.1,43,78482,22215,39273,169,2197,8033,6595,40620,5809,5767,4365,6225,5538,2208,2217,1922,258,2591,1136,1011,1,137,1435,2579,841,714,1024,311,39,167,105,2268,802,547,919,95262,86151,390,467,5623,293,104,264,240,372,65,65,215,358,216,186,95,11,147,95262,85121,274,1071,581,6,378,1065,4439,2327,95262,25199,63917,256,5097,115,208,371,292,6,29,119,2,40620,38443,492,129,1556,95262,63242,182,193,108,395,113,345,23846,6838,95262,9476,10554,75232,3892,4798,50473,37577,36042,15760,4590,1293,84668,6154,1496,2944,42087,42074,3,10,42124,40620,1504,19178,12175,6665,2931,478,331,366,40620,14490,13946,205,895,4159,5802,539,584,40620,822,39798,2163,1380,2.2999999999999998,5.6,2.7,40620,7364,17964,11310,2883,1099,54320,78482,24523,12253,13323,3173,8151,11677,5382,2074,1508,661,133,704,69258,9701,27304,6408,2931,1485,11869,2146,2954,3100,1360,895,565,433,1247,44514,3992,8215,25834,6473,23976,1146,1872,15679,5279,20538,2846,6343,10155,1194,44514,1466,29,6941,133,409,4318,7662,2552,1518,853,976,518,1830,2745,2804,3274,4797,1689,44514,4098,4195,4342,4507,6318,4723,3421,6421,6489]
["Local Authority","Huntingdonshire","Huntingdonshire","E07000011",169508,84532,84976,166952,2556,2497,90618.31,1.9,169508,10098,5860,3844,10361,2188,4309,3821,9507,9805,35342,35671,11402,15489,8457,2186,1168,39.9,41,137157,38898,72945,250,3580,12876,8608,69333,7389,10302,6396,11047,12744,4098,4306,3102,334,3681,1931,1398,13,168,2424,3673,1289,1231,1153,405,51,264,90,3268,1238,967,1063,169508,151694,1130,208,7659,707,356,769,698,1119,998,351,575,1147,862,427,353,132,323,169508,147159,793,3357,1889,8,933,2591,3500,9278,169508,27168,132208,785,4921,285,800,1250,3075,15,71,445,0,69333,66071,1524,216,1522,169508,103070,524,619,190,1865,266,683,50025,12266,169508,10653,14650,144205,4392,6972,98493,82675,60470,19682,5239,1442,152983,11150,1911,3464,71399,71392,5,2,71414,69333,2081,28653,21464,13507,6079,777,470,464,69333,22171,27227,508,1811,7128,8636,1134,718,69333,1292,68041,3025,1657,2.4,6,3,69333,9441,28269,24048,5581,1994,102060,137157,26361,20055,23266,5221,16977,38301,6976,3837,3314,1646,215,1441,125346,17780,56515,11912,3957,3317,17677,4002,4746,3112,2328,1180,907,434,1446,88991,8248,15375,52393,12975,47565,2360,3407,31428,10370,41426,5888,11968,20965,2605,88991,1027,83,10891,270,905,6789,13947,3493,3792,3864,2518,1339,6306,4143,7087,7876,10006,4655,88991,11009,14993,12421,10753,10245,7878,6505,6714,8473]
["Local Authority","South Cambridgeshire","South Cambridgeshire","E07000012",148755,73790,74965,146779,1976,2914,90162.77,1.6,148755,9300,5483,3578,9106,1946,3789,2999,7148,8083,31957,30908,9756,13139,8166,2244,1153,40.1,41,119342,33110,66819,277,2594,9278,7264,59960,6899,7873,5818,9708,12734,3439,3488,2303,284,2545,1547,1103,34,153,2032,2528,936,967,625,307,52,213,42,2221,884,754,583,148755,129812,1094,485,7396,552,270,991,711,2210,465,217,1189,1459,760,341,167,253,383,148755,127118,773,2659,1623,18,822,3202,2315,10225,148755,19240,119463,963,5015,483,1101,2555,1586,38,198,897,4,59960,56136,1968,354,1502,148755,87463,700,1123,362,1464,186,568,44741,12148,148755,8271,12457,128027,3023,5523,86094,78041,50147,15792,3739,1036,133764,11138,1409,2444,61724,61710,11,3,61751,59960,1791,25576,20662,10911,3098,509,308,687,59960,20759,21370,1258,5464,3082,6213,961,853,59960,908,59052,2345,1317,2.4,6.2,3.1,59960,6571,24225,21950,5220,1994,92794,119342,18248,13275,17129,4643,13472,47852,4723,3448,3636,1499,182,1932,107779,15597,48499,12512,2499,2972,14045,4295,3875,2133,1352,613,643,225,891,79139,8113,13757,45466,11803,42244,2316,3144,27590,9194,36895,5797,10613,17876,2609,79139,979,67,6888,130,484,5309,10223,2280,2912,5042,1789,1112,9539,3169,3749,12093,9789,3585,79139,9819,21202,10352,8507,8286,6510,4660,3652,6151]
["Local Authority","Allerdale","Allerdale","E07000026",96422,47371,49051,94970,1452,1182,124158.29,0.8,96422,4921,2786,1920,5470,1170,2501,2119,4610,4808,17560,20920,7604,10856,6622,1687,868,43.1,45,80155,22417,41663,134,1533,7384,7024,42345,6186,6983,4334,6580,6075,2715,1813,1716,209,2527,1420,650,5,154,978,2507,1023,602,882,253,26,157,70,2254,997,445,812,96422,94085,241,14,1045,134,39,179,74,81,34,91,123,148,43,20,10,2,59,96422,90679,312,2297,551,6,183,534,527,1333,96422,22899,72245,152,742,57,109,215,168,3,10,130,2,42345,41795,299,32,219,96422,72716,183,39,19,192,9,228,16677,6359,96422,9718,10309,76395,3955,4707,51460,42887,33297,14210,4762,1266,85648,6632,1436,2706,45433,45430,1,2,45438,42345,3093,12118,14704,14368,2785,726,546,191,42345,16686,12531,200,1123,6965,3595,547,698,42345,1313,41032,1243,755,2.2000000000000002,5.7,2.9,42345,8805,18713,11344,2639,844,53176,80155,21636,10960,12969,4020,9236,18254,3080,2088,1496,689,117,677,70978,11615,25912,7306,2553,1518,13422,2128,2274,3215,1035,781,482,378,992,46076,4235,10308,25665,5868,24175,1166,2097,16357,4555,21901,3069,8211,9308,1313,46076,1569,116,6862,541,701,4348,6945,1822,3908,602,507,552,1927,1543,2794,3837,5477,2025,46076,4663,6034,4179,4284,7766,4617,4001,4741,5791]
["Local Authority","Barrow-in-Furness","Barrow-in-Furness","E07000027",69087,34185,34902,68392,695,737,7796.05,8.9,69087,3719,2204,1437,4022,909,1872,1710,3988,3924,13124,14412,4811,7262,4118,984,591,41.3,42,56796,17832,26555,85,1297,6262,4765,31224,4531,6260,2662,4066,4092,1887,1407,1484,149,2379,1052,466,8,69,712,2370,888,533,949,259,33,116,110,2111,855,417,839,69087,67073,222,39,606,117,45,109,89,137,47,43,183,223,56,7,7,35,49,69087,64514,384,1784,384,7,185,316,313,1200,69087,16072,52118,102,404,43,67,273,88,2,18,81,1,31224,30739,225,33,227,69087,48830,150,101,15,172,7,167,15252,4393,69087,8961,8062,52064,4202,4129,35510,29538,22865,10898,4542,1244,60842,4573,1308,2364,33018,33011,0,7,33058,31224,1834,3913,9526,15664,2939,435,287,294,31224,11423,11515,36,2704,750,4005,437,354,31224,2440,28784,1149,696,2.2000000000000002,5.3,2.6,31224,9345,14678,5765,1114,322,31000,56796,14422,7710,8912,5229,7791,10785,1947,1543,1191,532,122,533,51103,8470,18723,3155,2365,1184,9168,1613,1813,3720,892,781,399,356,864,31257,3088,7128,18761,2280,16552,833,1407,12498,1814,14705,2255,5721,6263,466,31257,122,165,6570,441,264,2387,4728,1296,1962,496,492,221,1000,1055,1913,2381,4539,1225,31257,2345,4598,3211,3152,5088,3601,3050,2533,3679]
["Local Authority","Carlisle","Carlisle","E07000028",107524,52478,55046,106138,1386,1182,103929.92,1,107524,6064,3449,2066,5702,1201,2491,2898,6536,6685,20573,22715,7247,10386,6827,1782,902,41.3,42,89042,28667,42098,163,2224,8627,7263,48342,6736,9687,4114,6594,6533,2778,2476,1983,231,3078,1690,751,246,136,1309,3055,1226,782,1047,330,46,201,83,2725,1180,581,964,107524,102189,405,196,2690,152,91,162,130,273,109,180,337,349,107,19,21,52,62,107524,94943,637,6102,560,11,308,1063,1588,2312,107524,23713,80610,269,2076,79,175,581,226,5,30,154,5,48342,46915,511,66,850,107524,74296,277,241,17,455,27,279,24626,7306,107524,9919,10704,86901,4459,5172,59514,48593,37494,15030,4964,1443,96219,7233,1418,2654,50230,50177,7,46,50429,48342,2087,11588,17876,14414,5118,966,368,99,48342,16754,16245,332,1283,6111,6221,693,703,48342,1475,46867,2123,1113,2.2000000000000002,5.5,2.7,48342,11932,21779,11409,2402,820,55512,89042,22164,13199,14560,4103,11177,19766,4073,2020,3284,1498,306,1472,79531,13295,31161,7311,2847,2596,12331,2778,2314,3711,1187,902,512,339,1112,53874,5194,11751,29827,7102,28277,1532,2520,18474,5751,25597,3662,9231,11353,1351,53874,1363,75,5817,223,474,4424,10333,3567,3633,916,1010,710,2237,2190,3471,4108,6899,2424,53874,4925,6638,5010,5978,7402,5164,5267,6366,7124]
["Local Authority","Copeland","Copeland","E07000029",70603,35476,35127,69312,1291,789,73173.94,1,70603,3695,2182,1385,3870,858,1752,1592,3826,3978,13107,15777,5227,7443,4414,1019,478,42.1,44,58613,17415,29909,108,1136,5376,4669,30536,4023,5285,2838,4649,4438,2096,1400,1316,167,1803,1063,558,5,153,742,1788,637,422,729,181,23,93,65,1607,614,329,664,70603,68679,190,15,607,117,37,109,76,137,79,70,164,179,52,21,11,12,48,70603,66444,226,1556,351,0,152,390,283,1201,70603,16835,52776,133,393,37,70,320,127,0,4,95,0,30536,30137,204,27,168,70603,55687,148,81,17,227,8,146,10147,4142,70603,7537,7524,55542,3477,3631,38151,31329,23938,10516,3760,1060,62622,4695,1179,2107,32428,32420,4,4,32450,30536,1914,7549,12156,10072,1759,451,259,204,30536,11315,10356,96,2172,3496,2315,350,436,30536,868,29668,1080,660,2.2999999999999998,5.6,2.9,30536,7143,13257,7852,1750,534,36557,58613,15800,8335,9178,3439,7289,12307,2265,1444,1022,410,81,517,52702,7984,20525,3675,2235,916,9657,1596,1922,2872,1320,716,437,403,816,32891,2731,6704,20406,3050,17546,698,1280,13196,2372,15345,2033,5424,7210,678,32891,691,99,6578,1293,1026,3030,3746,963,2103,431,299,286,1477,1337,1804,2444,4043,1241,32891,2863,4808,3702,3075,5175,3116,2436,3671,4045]
["Local Authority","Eden","Eden","E07000030",52564,26033,26531,51613,951,903,214235.65,0.2,52564,2383,1608,991,2947,659,1166,1150,2442,2323,9216,11807,4343,6288,3803,978,460,44.1,46,43976,11818,23930,77,742,3788,3621,23043,3322,3636,2633,3860,3444,1412,1102,800,67,998,653,335,39,91,651,993,464,321,208,126,13,89,24,867,451,232,184,52564,51009,139,15,836,66,11,89,45,77,7,49,79,80,9,7,6,17,23,52564,48700,218,1496,350,3,99,303,543,852,52564,11068,40499,109,654,18,74,147,105,0,8,111,0,23043,22629,193,23,198,52564,37165,130,42,31,115,6,156,10882,4037,52564,4098,5370,43096,1502,2225,28720,24210,18810,7195,1875,474,46602,4208,620,1134,25305,25302,3,0,25308,23043,2265,9682,7588,5493,1641,506,259,139,23043,10048,6210,211,307,2014,3216,469,568,23043,952,22091,814,362,2.2000000000000002,6,3,23043,3211,9664,7536,1863,769,33759,43976,9968,5914,7253,1637,5286,12059,1859,998,1105,559,78,465,38735,6191,13651,6685,822,1064,6822,1070,923,1067,440,256,215,62,268,27461,3006,5689,13152,5614,14525,802,1265,7962,4496,12936,2204,4424,5190,1118,27461,2235,120,1820,74,210,2754,4455,1358,3096,370,376,368,1323,1006,1440,2456,2715,1285,27461,3209,3561,2429,2507,5355,2499,1961,2440,3500]
["Local Authority","South Lakeland","South Lakeland","E07000031",103658,50522,53136,100514,3144,1791,153362,0.7,103658,4466,2822,1907,5438,1248,2594,1956,4272,4571,17729,22744,8790,13175,8417,2295,1234,45.4,48,87777,22934,47305,170,1566,8086,7716,46552,7600,7491,5802,7749,6326,2360,2323,1503,163,1893,1196,608,20,187,1331,1880,885,563,432,197,32,133,32,1683,853,430,400,103658,99089,355,36,2482,165,91,233,144,187,40,53,267,240,106,67,10,35,58,103658,95033,408,2329,870,9,280,898,1303,2528,103658,17994,82743,245,1799,94,213,444,384,8,25,281,3,46552,45527,533,36,456,103658,70541,465,55,104,175,7,388,23912,8011,103658,8290,11229,84139,2797,4404,55455,48461,36385,14117,3701,994,91430,8586,1304,2338,53422,53410,3,9,53466,46552,6914,16460,15191,13263,5025,2410,902,215,46552,20793,13174,231,3172,1681,5831,802,868,46552,1838,44714,1833,723,2.2000000000000002,5.8,2.9,46552,7142,21298,13892,3057,1163,63530,87777,16583,10532,13516,4049,10377,29277,3443,2312,1807,905,79,813,75831,12015,26863,11102,1524,1892,15457,2307,1769,1962,940,376,427,87,562,51672,5938,10710,27265,7759,26834,1799,2617,16726,5692,24838,4139,8093,10539,2067,51672,1479,214,4631,313,270,4386,8921,1589,6155,966,885,694,2702,1911,2056,5651,5944,2905,51672,6930,8423,5073,4724,8508,4709,4170,3051,6084]
["Local Authority","Amber Valley","Amber Valley","E07000032",122309,60192,62117,121167,1142,1338,26538.48,4.5999999999999996,122309,6404,3771,2616,7202,1475,3162,2668,6233,6439,24289,26092,9179,12496,7232,1981,1070,41.8,43,100841,29081,51141,275,2367,10108,7869,52596,6718,7940,5047,8122,8074,3290,3351,2472,310,3039,1776,870,0,136,1451,3009,1044,808,1157,358,48,187,123,2651,996,621,1034,122309,117988,428,44,1563,438,93,282,167,416,80,11,201,221,120,106,27,27,97,122309,116492,284,1188,696,4,314,752,761,1818,122309,29078,91373,290,1071,83,138,296,212,3,11,130,0,52596,51783,435,41,337,122309,74834,253,155,79,188,172,583,37085,8960,122309,11554,13255,97500,4642,6472,66948,53826,42795,18336,5810,1542,107702,9510,1785,3312,54933,54930,1,2,54942,52596,2346,19669,20035,11489,2632,518,520,79,52596,20106,18868,216,2708,3776,5618,582,722,52596,1169,51427,1697,1223,2.2999999999999998,5.6,2.8,52596,10109,22204,15535,3553,1195,69241,100841,27220,13986,15627,4683,12086,23346,3893,2685,2296,1025,157,1093,90558,13374,36229,8183,3503,1991,15715,3109,3417,3680,1357,1079,672,425,1418,59381,5513,11530,34586,7752,31524,1386,2478,21451,6209,27857,4127,9052,13135,1543,59381,395,129,11234,391,478,5468,9475,2765,2571,1314,961,716,2862,2274,3088,5590,7079,2591,59381,6419,8767,6534,6370,8167,5339,4376,6516,6893]
["Local Authority","Bolsover","Bolsover","E07000033",75866,37388,38478,75251,615,500,16033.04,4.7,75866,4275,2492,1511,4379,1017,1956,1765,4267,4564,15164,15660,5032,7537,4505,1136,606,41,42,62192,18584,30442,176,1656,6184,5150,32801,4411,5110,2963,4811,4690,2012,1907,1811,213,2216,1128,564,5,83,877,2194,692,570,932,275,33,135,107,1919,659,435,825,75866,73058,199,66,1129,248,63,136,71,207,56,6,166,177,175,51,41,2,15,75866,72453,139,660,319,3,171,389,795,937,75866,20803,53782,129,817,38,168,175,68,2,2,41,0,32801,32186,265,33,317,75866,49447,115,81,29,146,104,261,20507,5176,75866,9886,8821,57159,4435,4588,39385,30934,25423,12965,5152,1392,66242,5444,1490,2690,34363,34362,1,0,34364,32801,1563,9672,15021,7625,1575,177,263,31,32801,10691,11272,92,4922,1043,3871,405,505,32801,320,32481,1098,816,2.2999999999999998,5.4,2.7,32801,7662,13986,8627,1909,617,39756,62192,20455,9520,10195,2308,7064,9853,2797,1665,1488,621,134,724,55945,7986,21542,4050,2612,1252,9463,1962,2435,3626,1017,869,417,438,1078,34511,2951,6873,20398,4289,18328,790,1565,12516,3457,16183,2161,5308,7882,832,34511,224,294,5251,185,360,3042,6680,1943,1690,641,592,317,1142,1468,1730,2634,4846,1472,34511,3310,3759,3324,3549,4609,3794,2825,3933,5408]
["Local Authority","Chesterfield","Chesterfield","E07000034",103788,50900,52888,102681,1107,1075,6603.52,15.7,103788,5778,3132,1939,6041,1303,2747,2427,5784,6071,20546,21773,6956,10105,6408,1918,860,41.4,42,85595,27007,40166,179,2182,9311,6750,46796,6318,9094,4208,6333,6247,2484,2740,2264,244,3295,1596,646,4,108,1215,3279,1228,795,1256,401,50,204,147,2878,1178,591,1109,103788,98456,386,5,1325,532,97,287,178,487,334,141,367,263,433,271,78,60,88,103788,98182,212,956,485,3,336,788,545,2281,103788,26401,75272,282,999,86,345,471,136,4,16,93,3,46796,45814,479,82,421,103788,66175,213,257,31,699,158,375,28238,7642,103788,11948,11985,79855,5421,6082,54801,43274,35622,16984,6204,1704,90754,7884,1792,3358,48493,48483,2,8,48542,46796,1746,11606,21623,8892,5311,628,383,99,46796,15065,14482,156,9385,1447,5291,522,448,46796,619,46177,2207,1172,2.2000000000000002,5.2,2.6,46796,12678,20425,10922,2162,609,51487,85595,23618,12252,14567,3441,10342,17994,3381,2327,2152,919,199,1012,76409,12272,28593,5678,3557,1809,12894,2782,2916,4554,1354,1131,615,559,1449,47901,4365,10755,27415,5366,25117,1308,2630,16863,4316,22784,3057,8125,10552,1050,47901,112,173,5465,212,359,3674,8693,2680,2451,1511,994,462,2071,2014,2639,4443,7810,2138,47901,4381,6948,5135,5462,5743,5335,4553,4348,5996]
["Local Authority","Derbyshire Dales","Derbyshire Dales","E07000035",71116,35071,36045,69562,1554,1345,79245.210000000006,0.9,71116,3077,2169,1475,4208,888,1733,1411,3008,2719,12027,16499,6075,8506,5134,1438,749,44.5,47,59299,15043,32517,187,1249,5316,4987,30744,4656,4243,3635,5238,4836,1828,1530,1056,149,1385,899,385,4,103,797,1370,566,433,371,216,31,141,44,1154,535,292,327,71116,68835,321,15,946,130,58,173,105,97,84,4,95,118,33,36,18,10,38,71116,67070,193,874,646,4,239,483,365,1242,71116,13324,56709,233,581,50,83,140,228,5,15,202,0,30744,30335,256,8,145,71116,48869,164,39,56,142,34,241,16477,5094,71116,5578,7608,57930,1924,3222,38326,33487,24683,9718,2475,753,62113,6568,889,1546,33481,33479,0,2,33489,30744,2745,13493,10118,6571,2149,609,482,67,30744,13513,8756,229,1330,2406,3423,437,650,30744,738,30006,1007,535,2.2999999999999998,6,2.9,30744,4557,12383,10233,2506,1065,45168,59299,12773,7088,8870,1992,6572,19816,2188,1536,1236,551,55,625,51978,8270,18153,7578,1394,1146,9903,1699,1581,1322,932,355,384,143,558,35005,4165,7212,17211,6417,18611,1135,1705,10634,5137,16394,3030,5507,6577,1280,35005,1224,397,3957,117,358,2966,4830,1384,2591,904,553,555,2272,1270,1790,3892,3971,1974,35005,4903,6705,3542,3354,5284,2843,2024,2575,3775]
["Local Authority","Erewash","Erewash","E07000036",112081,54934,57147,110939,1142,984,10962.93,10.199999999999999,112081,6527,3637,2298,6188,1483,2945,2600,6714,6407,22876,23199,7211,10657,6704,1714,921,40.799999999999997,41,91948,28725,44497,118,2340,9335,6933,48692,6084,8080,4456,6869,7074,2931,3029,2508,361,3433,1725,751,8,120,1263,3426,1167,966,1293,401,47,232,122,3025,1120,734,1171,112081,106673,574,29,1489,734,72,276,187,778,89,21,266,229,125,337,74,34,94,112081,105580,370,1334,716,5,433,744,808,2091,112081,24911,85190,404,965,72,161,390,196,1,23,125,3,48692,47806,449,63,374,112081,64784,213,412,42,258,284,412,37995,7681,112081,9988,11648,90445,4028,5690,62234,49349,39666,16762,4874,1430,99519,8137,1508,2917,50530,50519,3,8,50572,48692,1880,14322,22329,9649,3135,568,505,64,48692,16506,18784,242,1978,4357,5762,503,560,48692,1543,47149,1794,1099,2.2999999999999998,5.5,2.7,48692,10903,21214,13157,2582,836,58998,91948,23808,14091,15197,4851,11350,19015,3636,2525,2343,1023,184,1121,82609,12446,34268,6595,3742,1993,12894,2970,3107,3304,1290,1203,719,519,1610,54851,4941,10662,33220,6028,28656,1341,2266,20278,4771,26195,3600,8396,12942,1257,54851,152,63,8968,526,406,4761,9778,3331,2523,1481,1185,654,2647,2233,2662,5237,6102,2142,54851,5493,7470,6218,6309,7537,4898,4942,5396,6588]
["Local Authority","High Peak","High Peak","E07000037",90892,44774,46118,89867,1025,1321,53914.69,1.7,90892,4961,2986,1905,5487,1137,2339,2279,5059,4643,17591,20405,6431,8642,5059,1262,706,41.1,43,74416,22958,36561,183,1818,7370,5526,38946,4962,6400,3356,5722,6061,2402,2223,1942,207,2501,1337,539,75,97,1122,2489,882,788,819,324,43,186,95,2165,839,602,724,90892,87131,596,10,1217,348,113,284,199,148,78,10,228,247,87,82,15,33,66,90892,85454,306,1138,731,4,455,644,495,1665,90892,16672,72594,378,804,60,119,286,209,8,27,163,0,38946,38262,420,23,241,90892,58264,296,77,35,178,33,389,25057,6563,90892,7451,9013,74428,3173,4551,51023,43185,30980,12011,3696,1020,80578,7092,1185,2037,40771,40760,0,11,40821,38946,1875,9613,11915,14040,3414,1227,511,101,38946,13693,14366,229,3836,1109,4706,525,482,38946,880,38066,1857,1037,2.2999999999999998,5.6,2.8,38946,7632,16929,11170,2391,824,50145,74416,15520,9771,11931,2943,9779,21884,2588,2058,2547,983,212,1341,67389,10316,26377,7480,2576,1811,10561,2893,1998,2473,904,767,509,333,1017,45618,4506,9187,25807,6118,23889,1300,2146,15688,4755,21729,3206,7041,10119,1363,45618,436,466,6084,198,261,3478,6558,2148,2423,1241,1342,595,2961,1784,2195,5273,6027,2148,45618,5177,8123,5330,4607,5744,4578,3206,4094,4759]
["Local Authority","North East Derbyshire","North East Derbyshire","E07000038",99023,48564,50459,98240,783,1016,27560.03,3.6,99023,4799,2977,1932,5370,1246,2471,2239,5020,4764,18062,21570,7655,11679,6707,1674,858,43.3,45,82699,22133,44048,221,1803,7644,6850,43070,6049,6109,4925,6776,6376,3102,2147,1931,246,2290,1450,615,4,138,912,2266,860,683,723,278,26,174,78,1988,834,509,645,99023,95968,264,70,782,315,103,250,118,350,79,32,187,147,156,65,15,40,82,99023,95201,174,786,439,2,219,464,340,1398,99023,21591,76418,165,454,55,165,242,113,3,12,79,2,43070,42576,309,23,162,99023,66773,115,92,48,268,131,309,24465,6822,99023,10594,11168,77261,4296,5171,52314,42535,33926,15734,5319,1509,85888,8382,1742,3011,44050,44049,0,1,44052,43070,982,16044,19177,5905,2211,212,304,199,43070,16471,14060,168,7817,964,2800,383,407,43070,454,42616,1304,865,2.2999999999999998,5.6,2.8,43070,8042,18022,12810,3056,1140,57900,82699,22277,11752,13731,3632,9838,18340,3129,2107,1961,839,135,977,73460,11679,27073,6816,2697,1654,14159,2486,2575,3285,1036,834,589,417,1053,46858,4553,10088,26288,5929,24646,1247,2240,16400,4759,22212,3306,7848,9888,1170,46858,429,163,6262,194,393,4513,8115,2053,2148,1178,1308,662,2322,1789,2596,4393,6224,2116,46858,5178,6719,5128,5760,6364,4535,3914,4182,5078]
["Local Authority","South Derbyshire","South Derbyshire","E07000039",94611,46963,47648,93133,1478,1121,33812.06,2.8,94611,5724,3464,2145,6082,1286,2527,2061,4873,5400,20506,19685,6231,8167,4726,1153,581,39.5,40,75910,21754,39992,158,1882,7150,4974,38992,4072,5987,3346,6193,7050,2411,2531,1950,234,2398,1091,635,9,72,1013,2386,887,703,796,263,38,160,65,2123,849,543,731,94611,88925,386,72,1144,428,79,365,190,1649,179,4,217,326,174,205,46,45,177,94611,88557,270,1308,804,2,299,638,480,2253,94611,18997,73920,314,761,76,164,416,157,4,26,130,1,38992,38154,490,48,300,94611,60522,161,264,43,331,1400,335,25334,6221,94611,7565,8971,78075,3163,4569,53551,45075,32550,12348,3647,991,84129,6930,1350,2202,40378,40376,0,2,40382,38992,1390,16056,14103,7327,2050,313,266,267,38992,13237,16179,131,2984,893,4603,484,481,38992,788,38204,1260,715,2.4,5.9,2.9,38992,5249,15960,13737,2997,1049,57075,75910,16707,10674,12617,3663,9738,19701,2810,2251,2016,939,139,934,69450,10279,29738,6392,2125,1824,10286,2521,2749,2443,1093,667,395,231,805,47886,4286,9057,27378,7165,25563,1127,1832,16795,5809,22323,3159,7225,10583,1356,47886,570,162,8204,366,390,3748,7752,3012,2101,1230,915,459,2645,2010,1883,4572,5791,2076,47886,5804,7715,5671,5218,5955,4224,3422,4677,5200]
["Local Authority","East Devon","East Devon","E07000040",132457,63321,69136,129528,2929,2011,81434.66,1.6,132457,5846,3640,2374,7074,1521,3121,2678,5517,5201,20553,26679,10907,18126,12877,4043,2300,46.9,49,112002,26570,60886,225,2314,10947,11060,59071,10828,7441,8954,9109,7909,2783,2554,1834,227,2649,1696,963,8,293,1823,2647,1314,674,659,298,58,185,55,2349,1256,489,604,132457,127442,593,90,2222,238,89,358,219,220,6,71,210,423,68,61,17,35,95,132457,121252,512,1875,2280,5,515,1396,915,3707,132457,24752,104938,410,1406,116,227,601,411,8,27,427,3,59071,58023,598,64,386,132457,86934,351,55,142,229,13,657,33280,10796,132457,11814,16025,104618,3527,5625,65504,58004,47716,19960,5285,1492,116613,10746,1762,3336,63881,63853,11,17,63956,59071,4885,24567,16399,12484,6067,3057,969,413,59071,27837,16446,319,3915,1600,7034,1007,913,59071,2288,56783,2147,1064,2.2000000000000002,5.8,2.9,59071,9409,26627,17342,4079,1614,80895,112002,23597,14651,19009,4625,12708,32573,4839,2751,1967,955,129,861,92782,14837,30193,13048,2270,2107,20750,2719,3038,2617,1203,611,638,177,784,59908,7045,13520,30304,9039,31355,2081,3466,18740,7068,28553,4964,10054,11564,1971,59908,1836,73,3799,508,514,5107,9766,2362,4342,1470,1410,876,3712,2527,4523,5613,8228,3242,59908,7280,9181,7317,6136,9190,6415,4822,3176,6391]
["Local Authority","Exeter","Exeter","E07000041",117773,57211,60562,111808,5965,1302,4702.7700000000004,25,117773,6747,3453,2082,5329,1096,2343,5957,14155,9027,23002,20166,6147,8747,6436,2011,1075,38.1,35,99066,43302,37834,240,2031,9333,6326,49242,6468,10087,3647,5555,6193,2152,3177,1868,220,3147,1476,943,1432,140,2737,3141,1379,688,1074,333,66,166,101,2808,1313,522,973,117773,104013,629,93,4855,403,278,773,484,946,164,227,1998,1260,492,128,47,659,324,117773,101196,388,1322,1839,14,469,2015,2261,8269,117773,21091,88094,487,3717,438,669,3461,583,31,80,441,13,49242,45774,1491,161,1816,117773,63486,683,372,155,1855,160,671,40862,9529,117773,9006,10683,98084,3936,5332,71529,58775,39301,14075,4331,1291,106782,7246,1298,2447,50716,50619,20,77,51020,49242,1778,6926,13072,16707,10363,3002,571,379,49242,14809,14634,470,4769,3617,9633,703,607,49242,2619,46623,4555,1717,2.2999999999999998,5.2,2.7,49242,13323,23269,10093,1953,604,52037,99066,18156,12467,13998,3165,18000,28291,4989,1990,14307,3416,818,10061,89544,13348,33015,6770,2739,4998,9976,11484,2634,3127,1453,899,498,278,1010,57139,6861,12094,32286,5898,29331,2318,3120,19416,4477,27808,4543,8974,12870,1421,57139,189,48,2761,844,625,3961,9590,2725,4031,1699,1434,859,3772,2488,3783,6847,8671,2812,57139,4777,10975,6645,6483,5828,5559,6367,3357,7148]
["Local Authority","Mid Devon","Mid Devon","E07000042",77750,38070,39680,76866,884,1102,91293.48,0.9,77750,4498,2592,1651,4713,1096,1941,1619,3675,3888,13848,16533,5831,8512,5163,1430,760,42.3,44,63200,16694,33979,116,1498,6143,4770,32758,4474,4521,3636,5160,5273,1914,1788,1385,162,1717,880,657,6,125,1060,1712,738,459,515,199,33,120,46,1513,705,339,469,77750,74554,278,88,1776,132,69,169,114,116,7,18,167,120,64,17,13,4,44,77750,71875,199,875,979,3,251,716,982,1870,77750,17676,58160,211,1295,70,116,199,258,1,23,194,2,32758,32036,337,25,360,77750,48273,224,96,46,112,5,366,22122,6506,77750,5792,7708,64250,2232,3270,41833,36263,27554,10398,2785,750,69298,5798,927,1727,33972,33966,2,4,33990,32758,1232,13079,9700,7811,2133,720,358,189,32758,12206,10420,305,2843,1292,4605,486,601,32758,1826,30932,1448,679,2.2999999999999998,5.9,3,32758,4696,13717,10443,2686,1216,48250,63200,14323,8723,10796,2420,7648,16716,2574,1694,1211,541,76,588,55847,8789,20163,8562,1513,1191,9194,1775,2072,1739,849,466,327,146,551,38508,4072,8042,20216,6178,20226,1102,1854,12420,4850,18282,2970,6188,7796,1328,38508,2338,48,3957,269,320,3451,6445,1814,1631,772,740,520,2365,1492,2012,3768,4748,1818,38508,4245,5685,3906,3912,6574,3751,3049,3115,4271]
["Local Authority","North Devon","North Devon","E07000043",93667,45558,48109,91592,2075,1284,108605.1,0.9,93667,5014,2930,1871,5286,1188,2317,2070,4821,4565,16192,19366,7239,10937,6856,1911,1104,43.3,45,77378,21478,39863,123,1708,7776,6430,40001,5920,5926,4657,5984,5593,2132,1995,1669,194,2319,1232,846,4,172,1358,2308,1011,508,789,235,38,138,59,2073,973,370,730,93667,89832,316,45,1549,294,75,287,129,215,67,78,152,323,63,70,25,61,86,93667,86738,256,1100,1378,9,307,914,751,2214,93667,22308,69298,262,1119,65,160,425,248,6,25,209,2,40001,39202,391,41,367,93667,57426,283,101,52,281,57,473,26983,8011,93667,8180,10219,75268,3023,4382,49165,43441,31704,13264,4064,1194,83324,6634,1260,2449,44424,44379,16,29,44559,40001,4558,17113,9744,10011,4043,2435,795,418,40001,15638,11745,271,971,3345,6377,964,690,40001,2098,37903,1942,812,2.2999999999999998,5.7,2.9,40001,7609,17772,10798,2709,1113,52516,77378,18613,11157,13288,3663,9616,17732,3309,1962,1674,817,132,710,67507,11045,22505,9832,2052,1685,12257,2023,2584,2477,1047,661,464,195,744,44754,4823,10178,23096,6657,23675,1464,2593,14529,5089,21079,3359,7585,8567,1568,44754,1939,50,4863,160,316,3813,7669,1290,4375,644,623,585,1935,1983,2510,4032,5850,2117,44754,5219,5886,4559,4019,7773,4533,3747,3295,5723]
["Local Authority","South Hams","South Hams","E07000044",83140,40116,43024,81805,1335,1452,88649.78,0.9,83140,3677,2333,1624,4602,1036,1979,1677,3648,3424,12777,19130,7479,10503,6462,1828,961,45.3,48,69868,17310,37828,138,1472,7239,5881,36858,5973,5269,4477,6160,5286,1903,1850,1163,134,1822,986,561,6,127,1141,1812,849,499,464,216,43,129,44,1596,806,370,420,83140,79681,371,45,1687,161,75,264,153,115,12,64,102,165,73,36,12,70,54,83140,75730,287,1202,1436,7,317,1076,500,2585,83140,13666,67609,282,1004,86,207,264,385,4,27,336,0,36858,36178,455,38,187,83140,51181,468,56,109,201,5,634,23068,7418,83140,6813,9160,67167,2633,3808,43673,39414,28574,11075,3156,921,72911,7102,1156,1971,43238,43232,5,1,43245,36858,6387,16624,11043,9417,3218,2019,602,322,36858,15775,10665,400,642,3553,4638,621,564,36858,1852,35006,1495,629,2.2000000000000002,5.8,2.9,36858,4920,15742,11895,3055,1246,54303,69868,12047,8433,11361,3044,8456,23946,2581,1759,1612,740,105,750,60617,9180,18979,10576,1422,1482,12247,1974,1968,1868,921,387,423,144,515,39999,4841,9006,19675,6477,20817,1377,2352,12076,5012,19182,3464,6654,7599,1465,39999,1395,117,2904,155,214,3469,5876,1310,3051,1028,679,754,2582,1698,2734,4587,5317,2129,39999,5559,7530,4858,3713,6396,3665,2659,1875,3744]
["Local Authority","Teignbridge","Teignbridge","E07000045",124220,60179,64041,121337,2883,1744,67387,1.8,124220,5984,3670,2371,6966,1491,3028,2638,5694,5432,20957,26993,9980,14749,9659,2997,1611,44.6,47,103738,27114,53680,266,2222,11349,9107,54003,8381,7841,6432,8354,7591,2844,2745,2093,287,2933,1576,950,9,241,1726,2925,1168,853,904,328,44,197,87,2597,1124,656,817,124220,119480,499,118,2066,255,92,323,255,165,17,78,347,286,48,52,17,26,96,124220,114625,333,1477,1988,6,445,1216,866,3264,124220,25019,96804,367,1221,145,174,490,396,6,38,348,3,54003,53039,566,46,352,124220,77289,414,74,95,231,11,727,34939,10440,124220,11534,14081,98605,4103,5913,64706,55819,43342,18237,5268,1554,109201,9873,1767,3379,57720,57681,18,21,57816,54003,3813,21165,13883,13082,4874,2919,719,1174,54003,22015,17663,495,1169,3644,7526,832,659,54003,2720,51283,2588,1051,2.2000000000000002,5.7,2.8,54003,8673,23340,16301,4080,1609,75443,103738,22353,14007,17189,4632,12196,29014,4347,2645,2210,1033,169,995,89471,14300,30983,11825,2477,2260,17009,2694,2944,3182,1797,701,641,252,865,58962,6587,13061,31183,8131,30456,1978,3306,18972,6200,28506,4609,9755,12211,1931,58962,1017,275,3987,368,506,5379,10246,2303,3930,1351,1265,966,3624,2463,3624,5860,8802,2996,58962,7177,9643,6666,6063,8364,6334,5000,3756,5959]
["Local Authority","Torridge","Torridge","E07000046",63839,31167,32672,62887,952,775,98385.32,0.6,63839,3157,1814,1277,3493,777,1559,1295,3025,2634,10503,13768,5559,8167,4851,1306,654,44.6,47,53321,13719,28427,116,1175,5394,4490,27986,4127,4275,3348,4643,3685,1575,1389,1073,105,1446,739,555,5,101,920,1442,551,343,548,176,26,108,42,1266,525,235,506,63839,61985,211,54,771,141,53,125,110,39,3,17,126,86,11,34,6,31,36,63839,60141,164,581,753,9,177,476,323,1215,63839,17121,45803,151,507,46,42,170,148,1,9,103,0,27986,27612,211,9,154,63839,40110,151,30,37,92,5,420,17537,5457,63839,6116,7324,50399,2439,3155,32749,27787,22242,9843,3128,839,56230,4839,989,1781,30698,30685,7,6,30729,27986,2743,13071,6608,7535,1992,905,412,206,27986,11998,8000,197,542,1982,4275,471,521,27986,1796,26190,1038,484,2.2000000000000002,5.8,2.9,27986,4553,12419,7897,2130,987,39266,53321,13550,7599,9320,2626,6434,11552,2240,1332,921,397,70,449,46510,7250,13948,7494,1586,880,9527,1428,1796,1879,722,431,422,145,653,29402,3298,6689,14757,4658,15550,876,1715,9315,3644,13852,2422,4974,5442,1014,29402,2190,43,3363,88,198,2927,4896,1042,1924,418,396,381,1390,1109,1126,2630,3912,1369,29402,3047,3353,2410,2614,6360,3468,2256,2343,3551]
["Local Authority","West Devon","West Devon","E07000047",53553,26123,27430,51914,1639,946,115963.56,0.5,53553,2556,1590,1060,3055,640,1298,1043,2394,2244,8738,12058,4487,6679,3942,1119,650,44.6,47,44652,11316,24329,90,924,4280,3713,22725,3308,3106,2772,3922,3360,1282,1192,796,83,1034,615,443,1,95,716,1024,450,299,275,111,22,75,14,913,428,224,261,53553,51603,233,21,873,126,56,130,90,57,4,17,93,129,26,23,10,27,35,53553,49286,196,749,769,7,187,519,381,1459,53553,11973,40469,188,577,46,59,186,196,2,22,152,1,22725,22354,233,13,125,53553,34079,152,34,49,90,7,313,14254,4575,53553,4579,6145,42829,1716,2631,27915,24556,18599,7646,2120,632,47156,4290,709,1398,24677,24669,4,4,24697,22725,1972,10662,6197,5158,1549,626,324,181,22725,10003,6627,148,582,1576,3025,384,380,22725,1271,21454,787,377,2.2999999999999998,6,3,22725,2922,9680,7400,1960,763,33823,44652,9077,5767,7519,1740,5306,13410,1833,1147,946,439,52,448,38941,5918,12110,6445,1197,873,7630,1272,1338,1333,825,330,316,108,409,25241,3043,5509,12144,4545,13105,905,1424,7393,3383,12136,2138,4085,4751,1162,25241,1462,68,2102,99,227,2053,3684,938,1979,577,406,380,1432,925,1557,2649,3463,1240,25241,3043,4337,2640,2329,4375,2515,1629,1637,2736]
["Local Authority","Christchurch","Christchurch","E07000048",47752,22874,24878,47298,454,453,5038.96,9.5,47752,2143,1360,854,2562,544,1071,897,2063,1882,7474,8994,3721,6543,5150,1620,874,47.1,49,40289,9675,21432,86,878,3986,4232,21475,4364,2492,3443,2786,2773,1142,880,698,88,912,663,442,3,108,681,911,371,225,315,99,12,58,29,812,359,167,286,47752,45414,299,48,830,110,69,195,131,97,5,44,179,170,50,27,6,15,63,47752,43552,167,642,685,2,285,548,272,1599,47752,7780,38895,206,517,65,160,224,133,0,23,131,0,21475,20960,351,40,124,47752,32057,157,51,96,146,5,264,11291,3685,47752,4629,6071,37052,1387,2114,22601,20203,17116,7681,2208,544,41764,3933,686,1369,23132,23129,1,2,23142,21475,1667,9399,4373,4073,4230,615,332,120,21475,9814,6153,182,200,2584,2115,206,221,21475,413,21062,1319,606,2.2000000000000002,5.3,2.7,21475,3843,9924,5929,1354,425,27702,40289,9421,5509,6718,2110,4556,10132,1843,933,872,367,46,455,32645,5102,10786,3743,1007,782,7490,1067,1159,1054,455,267,272,88,366,20301,2379,4536,10881,2505,10666,716,1146,6833,1971,9635,1663,3390,4048,534,20301,94,14,1618,50,118,1866,3469,865,1316,693,1125,463,1142,793,920,1938,2762,1055,20301,2499,3360,2338,2448,2736,2060,1827,1085,1948]
["Local Authority","East Dorset","East Dorset","E07000049",87166,41990,45176,86193,973,1224,35436.57,2.5,87166,3737,2457,1635,4702,1078,1983,1740,3632,3013,13155,18360,7355,11809,8677,2526,1307,46.9,49,73557,15452,43541,122,1352,6331,6759,37564,6253,3567,6356,6170,5743,2375,1388,1070,164,1529,1082,610,0,160,1097,1528,676,453,399,233,39,143,51,1295,637,310,348,87166,83876,371,171,1227,163,67,229,135,157,43,198,167,172,61,29,16,26,58,87166,80019,294,1307,1274,3,392,1005,372,2500,87166,12705,73014,296,703,122,161,212,246,7,35,232,1,37564,36962,436,25,141,87166,58251,156,103,148,352,12,359,21103,6682,87166,7152,10023,69991,2017,3416,43805,39505,31183,12436,3162,880,76271,7447,1148,2300,38970,38966,1,3,38979,37564,1415,23587,6095,3694,3937,426,293,947,37564,18017,12354,111,292,2828,3028,443,491,37564,627,36937,1222,694,2.2999999999999998,6,3,37564,3880,14862,13347,3836,1639,60463,73557,15830,9897,12047,3884,8505,20364,3030,1735,1488,817,77,577,61047,9661,21297,7645,1309,1664,13495,1617,2239,1354,766,349,357,119,472,40050,5085,8277,20735,5953,21088,1407,1850,13073,4758,18962,3678,6427,7662,1195,40050,504,41,3820,145,275,3818,6763,1436,1717,1323,2205,759,2532,1760,2096,3971,4766,2119,40050,5647,6872,4945,4969,5389,3666,3027,2070,3465]
["Local Authority","North Dorset","North Dorset","E07000050",68583,34216,34367,65572,3011,1385,60921.760000000002,1.1000000000000001,68583,3647,2171,1400,4204,931,2043,1535,3402,3197,12109,13999,5146,7709,4940,1389,761,42.8,44,56230,14672,30730,111,1260,5156,4301,28670,4182,3913,3573,4879,4553,1546,1467,999,134,1275,718,468,3,96,864,1272,534,340,398,147,23,89,35,1125,511,251,363,68583,64936,279,95,1667,136,78,216,122,111,11,76,128,470,108,65,24,14,47,68583,61528,301,1037,1014,7,239,1105,880,2472,68583,13403,53094,197,1170,110,161,449,275,1,19,234,7,28670,27883,370,52,365,68583,45631,262,221,92,186,10,341,16323,5517,68583,4896,7123,56564,1762,2906,36763,32782,24146,8808,2266,581,61309,5006,766,1502,30397,30388,5,4,30416,28670,1746,12316,8722,5935,2335,568,342,198,28670,11286,8716,217,282,3583,3247,847,492,28670,709,27961,1286,627,2.2999999999999998,5.9,2.9,28670,3447,12062,9608,2517,1036,43506,56230,11219,7989,10020,2312,7058,15137,2495,1740,1053,405,61,575,49140,7183,18705,6726,1301,963,8374,1896,1817,1302,873,354,330,116,432,33432,3575,6367,17689,5801,18230,928,1398,11301,4603,15202,2647,4969,6388,1198,33432,1280,47,3504,87,245,3172,4942,1082,1379,750,664,555,1740,1330,3383,3974,3378,1920,33432,3773,4859,4429,3209,5504,3166,2144,2414,3934]
["Local Authority","Purbeck","Purbeck","E07000051",44973,22028,22945,44334,639,740,40441.57,1.1000000000000001,44973,2114,1315,899,2428,539,1110,885,2165,1998,7385,9465,3723,5648,3767,1038,494,44.9,47,37678,9490,20444,61,778,3691,3214,19583,3253,2446,2571,3101,2747,1170,906,698,98,928,647,322,0,55,641,927,421,228,278,108,26,63,19,819,395,165,259,44973,43253,228,89,770,96,47,112,71,33,12,27,54,105,35,6,7,6,22,44973,41013,195,681,647,5,195,771,282,1184,44973,8371,35649,157,503,67,75,143,135,8,17,135,2,19583,19198,248,19,118,44973,29239,111,5,36,69,2,217,11642,3652,44973,3702,5057,36214,1300,2034,23397,20231,16148,6340,1782,472,39281,3924,653,1115,22129,22126,0,3,22140,19583,2557,8452,5354,4130,2649,879,316,360,19583,8306,5307,165,444,2002,2391,614,354,19583,563,19020,895,483,2.2999999999999998,5.6,2.8,19583,2832,8559,5977,1558,657,28162,37678,8122,5401,6328,1891,4559,9687,1690,930,695,349,29,316,32379,5222,11568,3953,899,758,6493,909,1131,952,494,260,220,51,325,21419,2510,4549,11187,3173,11462,699,1115,7124,2524,9957,1811,3434,4063,649,21419,423,139,1904,112,205,1838,2929,718,1780,523,643,339,1098,886,2027,1936,2583,1336,21419,2643,2957,2668,2325,3371,2173,1549,1361,2372]
["Local Authority","West Dorset","West Dorset","E07000052",99264,47731,51533,96596,2668,1788,108147.42,0.9,99264,4343,2633,1882,5579,1291,2626,1954,4300,3607,15208,21220,8343,13101,9027,2620,1530,46.2,49,83536,20689,44975,178,1781,8174,7739,44386,7799,6362,6160,7088,5842,2306,1952,1536,169,1973,1152,601,6,197,1243,1970,924,525,521,270,50,153,67,1700,874,372,454,99264,95011,500,104,1669,200,100,275,195,242,59,87,242,304,111,43,15,40,67,99264,90617,337,1356,1381,12,440,1226,478,3417,99264,19816,77218,356,941,154,188,565,438,12,31,397,7,44386,43604,480,42,260,99264,64793,334,121,86,257,13,594,24783,8283,99264,8645,11468,79151,2878,4240,50140,44070,35640,14604,3878,1072,87308,8313,1237,2406,49319,49309,6,4,49339,44386,4953,18231,11902,11148,5616,1331,592,519,44386,19563,11260,370,367,5792,5419,674,941,44386,1623,42763,1710,849,2.2000000000000002,5.8,2.9,44386,6961,19937,12960,3319,1209,61282,83536,16801,10494,13761,3674,9875,25691,3240,2338,1554,738,79,728,70359,10923,23139,10250,1616,1638,14917,2363,2415,2063,1035,442,483,135,612,45714,5554,10018,23278,6864,23910,1606,2551,14495,5258,21804,3948,7467,8783,1606,45714,1863,82,3999,101,329,3810,6792,1228,3148,982,708,786,2565,1934,3680,4632,6652,2423,45714,5584,7888,5202,4498,7402,4526,3262,2549,4803]
["Local Authority","Weymouth and Portland","Weymouth and Portland","E07000053",65167,32432,32735,63373,1794,691,4175.88,15.6,65167,3349,1928,1309,3548,727,1560,1608,3888,3394,11593,13732,4916,7180,4531,1242,662,42.8,44,54306,16175,25708,82,1459,6544,4338,28535,4198,4940,2963,4052,3430,1478,1460,1286,131,1909,897,573,7,92,1119,1903,759,422,722,234,56,107,71,1669,703,315,651,65167,61860,298,48,1274,247,70,185,151,97,21,93,173,256,153,125,43,15,58,65167,59088,310,1226,1043,5,270,760,681,1784,65167,14410,49105,220,913,59,129,281,199,4,26,123,0,28535,27873,330,34,298,65167,39766,260,49,61,308,46,455,19079,5143,65167,6315,7786,51066,2780,3718,34193,27562,23933,9802,2952,918,57650,4739,966,1812,30997,30980,4,13,31043,28535,2508,7094,6580,9487,5144,1928,504,306,28535,10421,8640,161,1293,2601,4651,422,346,28535,1123,27412,1838,894,2.2000000000000002,5.3,2.7,28535,7058,13033,6533,1440,471,32534,54306,12236,8094,9447,2804,7102,12207,2416,1355,1260,582,114,554,47871,8174,16457,4415,1854,1203,8694,1484,1795,2355,1440,561,408,185,690,29987,3128,7119,16235,3505,15874,994,1949,10238,2693,14113,2134,5170,5997,812,29987,147,84,2621,80,262,2459,4653,1224,2708,540,385,444,1246,1091,3669,2632,4255,1487,29987,3084,4048,3540,3097,4330,3639,2573,2071,3605]
["Local Authority","Eastbourne","Eastbourne","E07000061",99412,47559,51853,96968,2444,930,4415.8900000000003,22.5,99412,5327,2978,1889,5380,1147,2487,2617,6093,6063,18195,18294,6639,10085,8020,2586,1612,42.8,43,82691,27558,35418,290,2454,9487,7484,45012,7731,8567,4487,4940,5300,1787,2340,1743,207,3097,1391,887,268,250,2017,3076,1208,778,1090,305,57,170,78,2771,1151,608,1012,99412,86903,978,66,5561,434,302,572,483,671,107,287,621,1109,517,159,107,229,306,99412,84670,384,1554,877,9,851,2746,2142,6179,99412,16972,75419,747,4335,318,613,1204,402,14,118,333,4,45012,41736,1333,237,1706,99412,59232,482,429,211,1458,53,586,28995,7966,99412,9622,11209,78581,3707,4767,51914,42818,35193,15251,4712,1438,88894,6678,1261,2579,47469,47373,19,77,47842,45012,2830,7837,9787,11643,13234,4606,699,36,45012,15071,12717,295,3348,2605,9747,747,482,45012,1314,43698,4552,1897,2.2000000000000002,5,2.5,45012,12911,20638,9173,1750,540,46658,82691,19215,11408,13763,2899,10418,20194,4794,2246,3986,1600,352,2022,70473,10395,24700,7247,2874,2710,11829,3632,2645,3192,1249,768,624,308,1181,44449,4758,9543,24874,5274,23000,1626,2643,14772,3959,21449,3132,6900,10102,1315,44449,88,12,2390,140,291,3640,8153,1929,3245,951,1451,652,2005,1934,2216,4793,8197,2362,44449,4455,7365,5163,4607,5364,5486,4412,2497,5100]
["Local Authority","Hastings","Hastings","E07000062",90254,44014,46240,88562,1692,745,2972.4,30.4,90254,5570,2925,1847,5317,1107,2358,2294,5769,5621,17677,18276,6092,7949,5036,1515,901,40.200000000000003,41,73488,26836,28842,235,2731,9431,5413,41159,5404,10377,2710,4431,4575,1584,2392,1965,206,3436,1371,902,57,135,1614,3430,1194,719,1517,360,45,162,153,3070,1149,557,1364,90254,80624,702,150,3155,595,277,585,491,487,78,276,366,919,639,303,123,161,323,90254,80443,282,1047,631,10,562,1159,1439,4681,90254,21151,64874,518,2171,217,515,904,350,4,49,236,2,41159,38983,826,159,1191,90254,46832,475,423,142,1159,38,668,33066,7451,90254,9581,10375,70298,4832,5586,47669,36556,32707,14276,5159,1556,80812,5708,1321,2413,42771,42679,23,69,43059,41159,1900,7734,8652,9872,8675,7210,780,136,41159,11071,11635,193,763,5225,11191,672,409,41159,1871,39288,3842,1540,2.2000000000000002,5,2.5,41159,13693,17892,7517,1565,492,39836,73488,18649,11600,12830,2220,8877,15604,3708,2058,2370,1005,231,1127,66036,9770,22094,7392,3621,1882,9469,2699,3112,4370,1627,1052,684,519,1616,40671,3926,9193,22831,4721,21034,1273,2574,13596,3591,19637,2653,6619,9235,1130,40671,142,27,2828,135,258,3978,6747,1694,2273,972,1345,563,1852,1626,2830,3834,7497,2070,40671,3954,5682,4520,4891,5406,5388,3703,2785,4342]
["Local Authority","Lewes","Lewes","E07000063",97502,47363,50139,95880,1622,1307,29207.1,3.3,97502,5052,3158,2071,5551,1136,2366,2077,4679,4596,16907,20541,7214,10889,7731,2232,1302,43.7,45,80534,23126,39956,403,2049,8225,6775,42181,6854,5890,4892,5655,6066,2273,2049,1753,215,2533,1401,787,19,202,1592,2507,949,694,864,308,48,190,70,2199,901,504,794,97502,90218,757,97,3087,325,155,460,335,360,64,153,316,507,248,123,45,97,155,97502,87607,342,1325,961,3,602,1596,787,4279,97502,13870,80057,597,1877,194,304,595,558,8,107,436,6,42181,40628,925,112,516,97502,55572,489,257,320,558,42,603,31641,8020,97502,8471,10583,78448,3164,4424,50792,43719,34634,13900,4066,1183,86001,8000,1197,2304,43847,43826,12,9,43890,42181,1709,15397,11629,8364,6255,1430,574,241,42181,16797,13851,285,3196,1413,5557,551,531,42181,961,41220,2471,1237,2.2999999999999998,5.5,2.8,42181,8488,19216,10986,2585,906,53124,80534,17276,11126,12662,2723,9511,23690,3546,2089,2163,971,137,1032,69269,10626,23792,9611,2319,1846,12184,2545,2676,2448,1222,674,549,252,878,45532,5203,9918,24255,6156,23693,1594,2665,14725,4709,21839,3609,7253,9530,1447,45532,386,20,2771,151,444,3947,6657,2203,2267,1577,2111,748,2957,2048,2799,5359,6267,2820,45532,5294,8202,6162,4843,5863,4975,3446,2630,4117]
["Local Authority","Rother","Rother","E07000064",90588,43021,47567,88149,2439,1313,50943.05,1.8,90588,3999,2488,1608,5119,1015,2237,1786,3632,3377,13026,18576,7962,12265,8874,2836,1788,47.2,50,76359,18891,39152,247,1957,7871,8241,40877,8084,5805,5661,5996,4804,1923,1783,1312,154,2098,1160,803,1,194,1099,2088,787,516,785,249,40,135,74,1839,747,381,711,90588,85279,596,134,1942,267,107,405,252,276,16,109,217,485,181,76,48,72,126,90588,82538,300,1184,797,4,561,1183,465,3556,90588,15850,72302,453,1092,165,283,471,571,5,43,315,1,40877,39929,591,53,304,90588,58706,290,171,170,460,12,525,22864,7390,90588,9651,11591,69346,3255,4304,43037,36737,33152,14960,4463,1276,79327,7279,1250,2732,44016,43997,4,15,44069,40877,3192,18430,9589,5902,6209,2922,788,229,40877,18554,11506,219,712,3530,5190,552,614,40877,1147,39730,1970,1019,2.2000000000000002,5.7,2.8,40877,7781,17986,11081,2759,1270,54241,76359,18858,10542,12596,2886,8551,19438,3488,1988,1645,632,98,897,62861,8685,18498,9321,2019,1336,14163,2386,2728,2551,1174,596,527,275,848,37583,4344,8240,19179,5820,19827,1339,2251,11732,4505,17756,3005,5989,7447,1315,37583,670,29,2135,162,266,3798,5595,1422,2123,1054,1743,637,2499,1747,2051,3742,5721,2189,37583,4945,6069,4372,4294,5751,4278,2592,1934,3348]
["Local Authority","Wealden","Wealden","E07000065",148915,71807,77108,146039,2876,2816,83316.94,1.8,148915,7508,4866,3234,9023,1841,3837,3130,6306,6161,24958,32294,11615,17578,11470,3180,1914,44,46,122443,30511,67418,296,2763,11456,9999,62676,9562,7717,7928,9738,10451,3718,2773,2212,275,3179,1862,1093,6,277,1885,3153,1314,943,896,410,60,271,79,2743,1254,672,817,148915,139745,933,368,4127,326,182,562,358,459,52,217,411,580,215,110,18,79,173,148915,135115,447,1916,1342,36,760,2270,1005,6024,148915,21239,122976,686,2518,299,452,805,771,15,59,712,3,62676,61075,1017,111,473,148915,95317,454,221,231,566,33,1126,39157,11810,148915,10918,15144,122853,3733,5860,78708,70867,52009,19408,5198,1433,132228,11872,1716,3099,65159,65145,9,5,65200,62676,2524,29030,19581,8289,5562,1263,707,768,62676,26483,22872,503,2956,1852,6214,759,1037,62676,1248,61428,2396,1416,2.2999999999999998,6.1,3,62676,7801,24608,21416,6091,2760,98259,122443,24347,16937,21218,4516,14998,35360,5067,3434,2803,1325,157,1302,105879,15676,36449,16673,2670,2746,19091,3617,4504,2827,1626,737,758,269,956,71084,8581,14444,36456,11603,37600,2355,3489,22657,9099,33484,6226,10955,13799,2504,71084,1120,52,4403,246,452,7232,11175,2668,3423,2460,3637,1137,5501,3467,3310,7026,9538,4237,71084,9961,12168,9574,8112,10005,7137,4898,3320,5909]
["Local Authority","Basildon","Basildon","E07000066",174497,84645,89852,173372,1125,1605,11002.46,15.9,174497,11405,6537,4128,10891,2338,4625,4075,10089,10936,36700,34388,10497,14485,9868,2375,1160,39.1,39,139198,44686,66726,161,3998,13506,10121,72746,8981,12499,5889,8881,11808,4741,3580,3410,378,5617,2795,1675,6,186,2300,5607,1749,1292,2566,507,55,269,183,5100,1694,1023,2383,174497,156215,1313,873,3276,1131,461,668,627,2089,436,322,584,1335,3339,931,415,112,370,174497,158950,419,1588,970,11,1202,1345,1322,8690,174497,28193,139418,1066,2224,310,1740,1854,535,18,94,311,0,72746,70206,1211,311,1018,174497,105158,526,1238,424,1622,148,583,52923,11875,174497,14296,16040,144161,6199,8046,97065,80704,60991,23145,7355,2302,156864,10776,2402,4455,74032,74029,2,1,74039,72746,1293,16090,19051,26026,11820,502,228,322,72746,21037,26935,720,10309,5667,6825,623,630,72746,859,71887,5195,2878,2.4,5.3,2.8,72746,15962,31658,19178,4369,1579,90052,139198,37084,25629,24568,4986,14961,25939,6031,3887,3253,1425,323,1491,125795,17855,50693,12117,5846,3059,17497,4297,7204,4953,2274,1690,1113,758,2457,83006,8125,14723,48769,11389,44182,2113,3279,29582,9208,38824,6012,11444,19187,2181,83006,147,28,6909,308,770,9082,13619,5072,3327,2704,7876,1120,4688,4062,3866,6564,9183,3681,83006,8475,11395,10282,12414,10068,7319,6967,6779,9307]
["Local Authority","Braintree","Braintree","E07000067",147084,72137,74947,145463,1621,1836,61170.84,2.4,147084,9467,5345,3384,8943,1847,3640,3182,7957,8373,30487,30079,9967,13033,7872,2258,1250,40,41,118098,34070,60907,212,3016,11653,8240,61043,7224,9313,5326,9046,10799,3766,3393,2864,310,4038,1933,1002,11,123,1895,4027,1425,1050,1552,458,47,266,145,3569,1378,784,1407,147084,137010,1051,132,3894,554,221,596,466,625,122,190,335,726,540,286,87,65,184,147084,135340,453,1721,864,5,908,1418,2031,4344,147084,25701,116405,860,2837,195,511,689,397,9,50,349,0,61043,59185,858,131,869,147084,90114,355,445,199,685,93,583,44111,10499,147084,10695,13415,122974,4298,6510,82877,69884,52492,18291,5046,1371,132254,10001,1700,3129,62704,62694,3,7,62743,61043,1700,17969,21285,15065,7103,753,388,180,61043,18609,23263,362,2378,7677,7332,751,671,61043,1140,59903,2938,1632,2.4,5.7,2.9,61043,9866,24586,19605,4898,2088,87944,118098,26958,19524,21412,4604,14154,26212,5234,3165,2538,1316,177,1027,106718,15747,43859,12410,4014,2685,15027,3153,4890,3347,1586,1100,857,424,1663,74200,7557,13531,41701,11411,39557,1949,2934,25563,9111,34643,5608,10597,16138,2300,74200,755,46,7442,185,600,7828,12125,4422,2896,2268,4263,1102,4625,3457,4181,6581,8076,3348,74200,8949,10018,9818,9142,10067,7335,5613,5661,7597]
["Local Authority","Brentwood","Brentwood","E07000068",73601,35582,38019,72789,812,1330,15311.75,4.8,73601,3926,2452,1605,4585,918,2068,1509,3648,3819,14615,15648,4759,6893,4966,1453,737,41.6,43,60115,17803,31305,62,1349,5072,4524,30646,4179,4674,3110,3687,5765,2182,1555,1036,168,1661,997,546,5,86,995,1640,610,502,528,133,14,79,40,1507,596,423,488,73601,65688,921,121,2138,343,138,444,271,939,113,172,377,749,542,230,124,105,186,73601,65963,219,726,540,11,686,930,611,3915,73601,7092,63247,737,1276,148,607,739,405,12,58,318,0,30646,29482,628,97,439,73601,50502,300,776,272,649,111,219,15556,5216,73601,5019,6430,62152,1756,2774,41536,37548,24537,8565,2306,645,65805,5539,819,1438,32067,32059,2,6,32088,30646,1442,9945,10230,5036,5748,705,327,97,30646,11634,11394,194,2703,883,3148,304,386,30646,460,30186,1971,1003,2.4,5.7,2.9,30646,4555,13238,9518,2377,958,43669,60115,11651,8543,10328,1979,6867,18441,2306,1872,1563,606,92,861,52959,7142,21677,6464,1667,1199,7884,2330,2564,1215,817,439,368,196,643,36251,3716,6172,20031,6332,19281,1006,1431,11956,4888,16970,2710,4741,8075,1444,36251,174,12,2033,117,192,3330,4370,1465,1393,1655,4786,555,3124,1617,1802,3947,4004,1675,36251,5097,7448,5946,5188,3630,2896,1955,1585,2506]
["Local Authority","Castle Point","Castle Point","E07000069",88011,42907,45104,87385,626,761,4506.8599999999997,19.5,88011,4173,2643,1752,5188,1113,2317,2047,4740,4212,15612,18077,7136,10485,6202,1532,782,43.2,45,73142,20020,38843,67,1709,6357,6146,36440,5349,4175,4397,5275,5585,3098,1511,1496,250,2045,1347,810,5,122,975,2036,742,515,779,205,26,128,51,1831,716,387,728,88011,83943,527,17,786,346,104,264,197,378,67,87,220,260,327,203,131,31,123,88011,83563,178,703,411,9,491,506,276,1874,88011,12428,74335,396,469,72,240,234,108,3,28,101,0,36440,35883,375,39,143,88011,56372,214,269,183,378,38,310,23967,6280,88011,7995,8753,71263,2841,3731,47569,38280,31786,12963,3873,1109,78114,6100,1288,2509,37682,37680,1,1,37693,36440,1253,15677,14361,3074,2629,332,345,1275,36440,15691,14410,103,1453,496,3584,384,319,36440,622,35818,1614,1045,2.4,5.5,2.8,36440,6113,15040,11079,3018,1190,51466,73142,21885,13177,12997,3393,7780,10693,3217,1955,1416,725,122,562,64626,9525,23519,7178,2289,1569,12525,1852,3086,2036,1047,682,527,307,894,41443,4379,7866,23353,5845,22405,1108,1756,14719,4822,19038,3271,6110,8634,1023,41443,59,22,3562,213,442,5173,6770,2505,1451,1093,3929,561,2248,1810,1998,3551,4167,1889,41443,4340,4576,4894,6520,6165,3840,3580,3684,3844]
["Local Authority","Chelmsford","Chelmsford","E07000070",168310,82914,85396,166182,2128,2525,33877.56,5,168310,9994,5784,3747,9747,2035,4415,3804,9875,10643,35162,34114,10972,14708,9538,2495,1277,40.1,40,137003,42623,70485,219,2978,12087,8611,69667,7991,11147,6551,9626,12710,4693,4044,2708,326,3897,2246,1095,113,165,2355,3889,1472,1077,1340,377,56,215,106,3512,1416,862,1234,168310,151990,1450,212,4331,854,342,844,606,1911,673,466,826,1086,1420,429,202,318,350,168310,151666,533,2044,1190,28,1192,1833,1562,8262,168310,21047,140198,1223,2916,276,1232,1751,564,24,106,572,2,69667,66960,1454,233,1020,168310,104256,550,1213,330,2012,160,571,47403,11815,168310,10186,14124,144000,3952,6509,98524,84476,58430,19261,4778,1365,151560,11962,1720,3068,71247,71240,2,5,71273,69667,1606,21258,22388,14576,11351,756,468,476,69667,23696,27282,450,1456,7664,7621,728,770,69667,1503,68164,4024,1975,2.4,5.7,2.9,69667,10921,29242,22093,5268,2143,98825,137003,25844,20510,23744,4977,17085,39452,5391,3903,4510,2044,316,2131,123693,18138,52442,12775,4223,3761,17484,4840,5230,2810,1990,1140,953,467,1647,86451,9182,15368,48839,13062,45966,2508,3564,29635,10259,40485,6674,11804,19204,2803,86451,501,43,6041,243,580,7583,12840,3891,3539,3252,8172,1333,6433,3689,5761,8812,9632,4106,86451,10585,16438,12942,11866,8925,6922,6370,4723,7680]
["Local Authority","Colchester","Colchester","E07000071",173074,85343,87731,167080,5994,2209,32908.17,5.3,173074,10647,5841,3562,9606,1991,4134,5586,13886,11947,35620,32104,10842,14443,9147,2398,1320,38.9,38,141427,48955,66380,278,3283,13784,8747,71634,8175,12674,6101,9618,11774,3831,4142,2979,336,4898,2220,1213,843,178,2652,4883,1848,1228,1807,460,60,275,125,4423,1788,953,1682,173074,151453,1155,79,6619,889,469,929,865,1426,366,385,1690,2488,1803,528,244,978,708,173074,148814,890,2701,1285,5,879,3492,3221,11787,173074,27817,133343,891,5127,489,1520,3877,780,60,208,532,8,71634,67103,1861,286,2384,173074,99879,982,1274,264,2762,182,789,54354,12588,173074,12141,15202,145731,5213,7442,101464,84520,60279,20925,5692,1658,156504,11121,2036,3413,74538,74493,11,34,74731,71634,3097,23264,22334,13917,13327,1288,478,123,71634,22840,24667,325,5894,3775,11689,1701,743,71634,1296,70338,5254,2194,2.2999999999999998,5.5,2.8,71634,14741,31386,19607,4277,1623,90741,141427,27440,20294,23629,4772,19572,38412,7308,3590,10813,3455,922,6415,128562,18471,50589,12154,4456,5715,16901,8950,5226,4135,1965,1286,833,577,1748,85587,9680,16139,46946,12822,45396,2930,3703,28589,10174,40191,6750,12436,18357,2648,85587,542,89,5636,233,535,7077,13718,3721,4036,3019,4870,1247,4918,3818,6796,9735,11517,4080,85587,9612,14949,12398,9784,9461,8804,7301,4966,8312]
["Local Authority","Epping Forest","Epping Forest","E07000072",124659,60440,64219,123623,1036,1706,33898.559999999998,3.7,124659,7366,4193,2638,7235,1519,3094,2771,6663,6624,25542,26169,8295,11464,7743,2178,1165,41.1,42,101708,31817,50769,158,2429,8697,7838,51991,6989,8296,4660,6367,8827,3710,2504,2072,311,3260,1930,1156,96,161,1652,3255,1063,915,1277,263,40,151,72,2992,1023,764,1205,124659,106233,1427,176,5033,881,267,808,693,3041,933,265,598,1085,1186,958,260,151,664,124659,111169,296,1111,722,11,1040,1567,1628,7115,124659,13384,105445,1145,2842,357,945,1086,511,11,113,427,2,51991,49379,1482,217,913,124659,77053,416,1745,3972,2377,1253,432,28061,9350,124659,8831,10770,105058,3202,4810,71146,61413,42077,15435,4441,1293,111850,8870,1439,2500,54409,54405,3,1,54433,51991,2442,12696,17183,12384,10205,665,567,733,51991,18070,19495,206,6208,1595,5307,435,675,51991,970,51021,3342,1767,2.4,5.6,2.8,51991,7965,21944,15775,4398,1909,75202,101708,24360,15839,16544,3364,11261,25769,4571,2778,3252,1196,220,1821,90622,12023,34722,13191,3259,2109,12746,4055,4459,2378,1680,922,655,438,1298,61609,6252,10809,34460,10088,32614,1742,2741,20275,7856,28995,4510,8068,14185,2232,61609,356,31,3378,159,417,6751,9096,3223,2228,2504,5236,1403,5049,3239,3154,5848,6044,3493,61609,9051,10107,9039,9269,7167,4845,3681,3839,4611]
["Local Authority","Harlow","Harlow","E07000073",81944,39674,42270,81551,393,687,3053.75,26.8,81944,6020,3045,1872,4929,1017,2196,1831,4858,5970,17699,16059,4143,5913,4783,1085,524,38.200000000000003,37,65061,22147,29158,96,1923,6979,4758,34620,4281,6318,2505,3799,5250,1986,1709,1831,201,3127,1410,771,33,77,1322,3116,1092,726,1298,279,40,163,76,2837,1052,563,1222,81944,68715,875,117,3292,654,308,389,401,1061,629,392,830,821,2256,542,292,147,223,81944,70974,200,800,494,6,808,928,1982,5752,81944,14379,61510,679,2855,165,1366,1239,214,4,42,129,0,34620,32218,909,240,1253,81944,45365,333,635,237,1745,79,339,27789,5422,81944,6416,7592,67936,2764,3980,46012,36969,29380,11203,3398,994,73883,5025,1158,1878,35719,35708,3,8,35752,34620,1132,3356,5298,18156,8496,269,137,40,34620,7351,12078,326,9327,1481,3474,282,301,34620,357,34263,3463,2026,2.4,4.9000000000000004,2.5,34620,8626,15057,8644,1768,525,39958,65061,16948,12211,11167,2328,7282,11468,3657,1937,1872,949,170,744,58669,8643,25261,5106,3043,1794,6625,2102,2778,2188,1129,766,641,363,1335,40401,3687,7402,24832,4480,21208,1102,1680,14846,3580,19193,2585,5722,9986,900,40401,67,6,3841,118,318,3873,8244,2724,1797,1369,1173,420,1811,2199,1876,3246,5610,1709,40401,3598,5000,4515,5176,5001,4153,3787,3726,5445]
["Local Authority","Maldon","Maldon","E07000074",61629,30458,31171,61097,532,774,35876.76,1.7,61629,3027,1924,1337,3726,811,1533,1218,2883,2480,11430,13785,5101,6976,3879,916,603,43,45,50804,12758,28120,84,1234,4737,3871,25817,3451,3472,2849,4231,4514,1743,1287,1035,143,1144,772,406,3,78,689,1141,438,302,401,115,16,74,25,1026,422,228,376,61629,59011,358,201,859,152,56,174,124,117,7,90,104,166,59,61,30,8,52,61629,58018,151,607,429,11,302,456,270,1385,61629,9335,51206,285,450,59,107,172,162,0,21,160,0,25817,25389,279,23,126,61629,40046,152,60,99,171,28,199,16365,4509,61629,4702,6036,50891,1752,2716,33962,28471,21961,8269,2260,668,54468,4870,837,1454,27210,27209,0,1,27212,25817,1395,12047,7995,4287,1896,267,263,457,25817,10314,9937,97,157,2528,2208,285,291,25817,629,25188,916,469,2.4,6.1,3,25817,3247,9636,9117,2616,1201,41205,50804,11749,8153,8771,2355,5692,12009,2075,1303,955,467,68,413,45406,6640,16765,6108,1381,962,8148,1353,2122,1293,634,392,346,164,565,30292,3457,5615,16254,4966,16463,909,1290,10204,4060,13829,2548,4325,6050,906,30292,436,32,3296,213,386,3507,4752,1379,1149,734,1765,430,2037,1376,1442,2759,3109,1490,30292,4100,4530,3931,3775,4474,2593,1954,2230,2705]
["Local Authority","Cotswold","Cotswold","E07000079",82881,40104,42777,81319,1562,1881,116451.96,0.7,82881,3929,2459,1667,4746,942,2001,1858,3837,3416,14629,18529,6379,9426,6281,1816,966,44.2,46,69138,17735,37939,193,1502,6231,5538,36236,5608,5351,4301,5999,5816,1887,1867,1177,128,1431,933,476,116,112,1034,1427,658,413,356,151,27,100,24,1276,631,313,332,82881,78284,503,87,2201,167,86,274,171,218,16,38,223,299,136,47,46,4,81,82881,73443,354,1462,1754,13,437,1189,776,3453,82881,14013,66070,418,1374,104,325,425,601,5,66,514,5,36236,35292,550,38,356,82881,56923,217,114,123,164,7,314,18979,6040,82881,5417,7952,69512,1770,3113,45766,40433,29067,10220,2498,663,74131,6408,822,1520,39944,39934,5,5,39968,36236,3732,14823,12051,8446,2931,863,499,355,36236,13691,10112,441,623,4765,4767,751,1086,36236,802,35434,1292,647,2.2000000000000002,6.1,3,36236,4573,14541,12435,3315,1372,55552,69138,12758,8865,10957,2236,8225,23267,2830,1766,2235,737,87,1402,60075,8703,21933,9667,1491,1412,9762,2666,2321,1290,830,372,409,137,534,41529,4995,7887,21363,7284,21988,1323,1903,13181,5581,19541,3672,5984,8182,1703,41529,1316,142,3445,281,271,3335,6550,1272,3028,1836,1462,807,3531,1968,1854,4024,3850,2557,41529,6485,7175,5150,4166,5868,3722,2724,2109,4130]
["Local Authority","Basingstoke and Deane","Basingstoke and Deane","E07000084",167799,83116,84683,166468,1331,2843,63380.74,2.6,167799,11355,6085,3862,10369,2181,4087,3342,8910,11034,37514,34720,10189,13447,7806,1945,953,38.700000000000003,39,133947,39633,70359,263,3434,12412,7846,69315,6890,11408,5493,10544,13070,3795,4287,2871,277,4274,2043,1509,17,115,2722,4255,1469,1417,1369,488,67,321,100,3767,1402,1096,1269,167799,148078,1324,163,6323,1047,318,863,585,2437,389,330,1221,2338,1259,470,180,138,336,167799,143874,720,2955,2261,21,1168,2455,3034,11311,167799,24736,132599,1054,4624,316,1489,3292,738,29,155,593,2,69315,65394,1562,331,2028,167799,100482,872,1994,172,1464,329,638,49770,12078,167799,9326,13402,145071,3967,6601,99228,85034,58917,18047,4559,1242,152566,10548,1697,2988,70936,70924,5,7,70965,69315,1650,21890,17615,20624,9444,814,319,259,69315,19517,27419,958,540,11806,7473,699,903,69315,928,68387,3839,1689,2.4,5.8,2.9,69315,10555,27492,23749,5471,2048,100592,133947,23226,19647,21918,5152,16902,40793,6309,3618,3047,1638,246,1154,123243,16506,59049,11792,3999,3454,15461,3345,4920,2998,1719,1016,889,335,1459,90122,7978,14361,55288,12495,47831,2261,2999,32887,9684,42291,5717,11362,22401,2811,90122,669,93,8637,946,553,6861,15247,3713,3789,8435,4553,1105,6272,4813,4889,6861,8648,4038,90122,10816,17515,12987,11067,9371,7412,7040,5188,8726]
["Local Authority","East Hampshire","East Hampshire","E07000085",115608,56237,59371,113394,2214,2490,51444.15,2.2000000000000002,115608,6209,3874,2638,7305,1563,3252,2516,5382,5101,21265,25964,8236,11806,7313,2045,1139,42,44,94019,23937,52601,116,2059,8393,6913,47258,6087,6095,5113,7599,9180,2847,2310,1500,201,2343,1396,849,8,181,1549,2338,939,750,649,261,24,194,43,2077,915,556,606,115608,107568,656,267,3144,312,153,513,327,481,31,165,316,866,396,81,40,141,151,115608,102067,477,2069,1404,10,533,1886,1321,5841,115608,15839,95408,537,2058,190,628,986,664,6,84,572,2,47258,45662,855,119,622,115608,74744,393,278,166,421,50,506,30380,8670,115608,7402,9841,98365,2611,4190,64915,58330,40113,12885,3336,944,103977,8497,1106,2028,49099,49090,6,3,49114,47258,1856,20883,12046,8757,5737,870,462,359,47258,17520,17399,431,742,4939,4636,881,710,47258,817,46441,2362,1152,2.4,6.1,3,47258,5284,17513,17354,4946,2161,76813,94019,15857,11719,15640,3338,11986,31844,3635,2944,2409,1079,124,1189,83522,11975,33561,11074,2133,2210,12787,3261,3551,1911,1059,603,558,209,764,58457,6519,10628,31740,9570,31065,1740,2378,19538,7409,27392,4779,8250,12202,2161,58457,750,83,5040,319,331,4800,8588,2001,2496,3545,2117,824,4958,3073,3769,6156,6446,3161,58457,8353,11334,8244,6504,7108,5639,3654,2803,4818]
["Local Authority","New Forest","New Forest","E07000091",176462,84784,91678,173491,2971,2282,75313.48,2.2999999999999998,176462,8592,5100,3412,9665,2179,3988,3559,8146,7544,29185,37061,13889,21426,15384,4681,2651,45.2,47,147514,36154,80219,266,3276,14296,13303,76839,12423,9787,10490,11857,11129,4454,3415,2467,341,4066,2188,1287,8,359,2568,4048,1675,1080,1293,429,78,253,98,3619,1597,827,1195,176462,167445,829,423,3463,439,188,603,390,472,34,195,338,626,328,141,143,72,333,176462,159896,640,2748,2516,16,745,2244,1301,6356,176462,28255,143768,651,2238,225,578,769,566,8,70,678,4,76839,75079,1020,104,636,176462,115021,429,217,220,485,79,911,45374,13726,176462,14591,19391,142480,4753,7273,91346,79671,63302,24871,6715,1903,155715,14238,2195,4314,80286,80272,5,9,80332,76839,3493,36410,18715,12729,9000,1200,975,1303,76839,33430,24173,484,5185,3255,8153,1140,1019,76839,1716,75123,3436,1786,2.2999999999999998,5.8,2.8,76839,10232,32093,25013,6713,2788,114709,147514,31178,19579,24647,8013,17739,40184,6174,3493,3015,1582,156,1255,124798,19709,45549,14995,3288,3235,24595,3425,4728,3528,1746,901,893,332,1258,82993,9975,17045,44181,11792,43254,2730,3950,27335,9239,39739,7245,13095,16846,2553,82993,863,130,7424,524,627,7409,12666,3990,5243,2613,3015,1402,5688,3871,4437,7760,10870,4461,82993,10174,13273,10249,9799,11447,8674,5978,5212,8187]
["Local Authority","Winchester","Winchester","E07000094",116595,56629,59966,111542,5053,2931,66097.460000000006,1.8,116595,6580,3971,2526,6953,1455,3253,3426,7517,5635,22010,23818,7672,11164,7332,2069,1214,40.9,42,95110,28541,49922,182,1932,7776,6757,46865,6297,6540,4960,7213,9036,2391,2564,1424,176,2028,1057,788,498,154,1739,2016,790,661,565,208,29,132,47,1808,761,529,518,116595,107070,733,263,3511,321,180,684,441,665,92,222,745,915,250,147,60,110,186,116595,101762,594,2183,1694,3,558,2118,1078,6605,116595,14876,96940,617,2211,255,543,1183,915,21,57,707,8,46865,45200,1022,104,539,116595,73729,566,460,175,558,123,488,31808,8688,116595,6862,10065,99668,2318,4305,66708,62025,38219,12354,3135,862,105023,8613,1025,1934,49140,49124,9,7,49168,46865,2303,17972,12158,10239,6449,1267,473,610,46865,16385,15261,426,4970,2273,5617,987,946,46865,783,46082,2583,1345,2.4,6.1,3,46865,6705,18303,16137,4058,1662,70200,95110,13828,9163,13910,2944,13260,38669,3336,3023,6503,2480,549,3467,84495,11434,32339,10302,1943,4011,12223,5665,3310,1882,1386,518,482,186,680,57318,7309,10491,29583,9935,30063,2086,2505,17899,7573,27255,5223,7986,11684,2362,57318,922,60,3482,220,322,3812,7444,2004,3047,3703,2159,965,5290,2535,4545,6817,7160,2831,57318,8238,14540,8176,5891,5488,4388,3704,2006,4887]
["Local Authority","North Hertfordshire","North Hertfordshire","E07000099",127114,62380,64734,125817,1297,2129,37537.51,3.4,127114,8027,4559,2842,7669,1629,3217,2524,6126,7582,27517,25953,7758,10833,7501,2215,1162,40.200000000000003,40,102388,30893,52433,171,2614,8973,7304,53426,6728,8766,4668,7203,9761,3041,3177,2218,229,3134,1646,1019,8,128,1700,3092,1126,936,1030,315,44,189,82,2777,1082,747,948,127114,107889,1398,33,4435,1481,309,912,674,3464,424,495,808,1630,859,1344,288,146,525,127114,110314,471,2128,1242,7,1087,2069,1361,8435,127114,17880,102578,1062,3036,220,795,1657,800,16,119,566,1,53426,50324,1744,222,1136,127114,72415,617,1246,270,1453,2447,599,38661,9406,127114,8017,11165,107932,2750,4990,72937,63801,43360,14965,3958,1030,114309,9076,1386,2343,54962,54953,2,7,54995,53426,1569,13450,16547,14315,8952,827,549,355,53426,16201,18871,472,3774,6530,6460,533,585,53426,893,52533,3084,1557,2.4,5.6,2.8,53426,8895,22932,16463,3787,1349,73212,102388,18416,13480,15758,3565,11632,35242,4295,2954,2775,1229,172,1362,91510,12782,40147,10040,3145,2450,12149,3429,3959,2179,1230,827,695,350,1251,64990,6544,11224,37736,9486,34638,1876,2494,22992,7276,30352,4668,8730,14744,2210,64990,417,39,6538,156,405,4895,10445,2471,2372,3612,2831,1144,6032,2979,3614,6761,6965,3314,64990,8310,14418,9522,7209,6420,5372,4514,3819,5406]
["Local Authority","St Albans","St Albans","E07000100",140664,69040,71624,139058,1606,2965,16117.63,8.6999999999999993,140664,10296,5629,3453,8926,1770,3641,2561,6342,7831,32409,28120,7910,11049,7533,2092,1102,38.9,39,110590,33513,59832,176,2202,8184,6683,56140,6390,8598,4832,6985,13058,3166,3274,1842,219,2751,1693,1058,26,98,2150,2726,918,933,875,294,31,204,59,2432,887,729,816,140664,114145,2514,165,7556,1019,397,1491,997,2210,1149,2633,1149,1870,1203,911,274,459,522,140664,116687,677,2618,1727,6,1698,3112,1849,12290,140664,11814,118545,2098,4891,459,1554,1779,1302,26,197,1270,2,56140,51795,2459,333,1553,140664,83988,615,1777,1664,5167,303,435,36278,10437,140664,7616,10479,122569,2707,4647,81460,77531,44813,13802,3521,997,127290,9794,1378,2202,57891,57867,6,18,58000,56140,1860,15443,17403,12231,10501,1472,644,306,56140,19409,21422,261,4753,2079,7065,559,592,56140,760,55380,3747,1920,2.5,5.8,2.9,56140,7606,24108,18964,3975,1487,80562,110590,14268,11061,14763,3076,11518,51251,4653,3414,3747,1562,211,1961,99863,13476,42999,12566,2715,2797,12321,4614,4817,2078,1480,633,645,276,1021,71378,7411,12198,38883,12886,38046,2074,2967,23266,9739,33332,5337,9231,15617,3147,71378,198,84,3503,179,306,4421,10141,2450,2657,5390,5029,1169,9533,3137,3218,8669,7427,3867,71378,10983,20382,11911,7465,5042,5054,4149,2262,4130]
["Local Authority","Ashford","Ashford","E07000105",117956,57232,60724,116993,963,1524,58061.67,2,117956,7771,4361,2997,7838,1578,3164,2879,6245,6470,23590,23416,7679,10809,6426,1792,941,39.6,40,93411,27080,48288,199,2611,8853,6380,47787,5654,6588,4486,6821,8473,2744,2639,2386,242,3408,1461,1144,7,167,1567,3397,1252,907,1238,335,50,201,84,3062,1202,706,1154,117956,105498,753,531,3738,544,235,507,396,958,161,185,431,2256,948,327,100,87,301,117956,104391,367,1393,839,3,620,1680,1668,6995,117956,19334,92304,623,2742,166,710,2241,386,13,48,367,7,47787,45360,976,210,1241,117956,74253,803,1282,116,1019,95,432,30984,8972,117956,8416,10669,98871,3489,5107,64847,56128,41385,15027,4163,1253,106137,7686,1428,2705,49747,49726,7,14,49806,47787,2019,16613,15034,12031,4542,803,284,499,47787,15200,17485,638,4702,2213,6173,676,700,47787,874,46913,2466,1430,2.4,5.8,2.9,47787,7548,19979,14971,3789,1500,68054,93411,19777,14578,16639,3602,11229,23007,4579,2680,2544,1287,234,1015,84252,12334,33223,10002,3058,2572,12141,2771,4114,2626,1411,876,638,375,1115,57546,5919,10992,31824,8811,30334,1698,2518,19198,6920,27212,4221,8474,12626,1891,57546,951,47,4986,382,432,5930,9845,3070,2955,1710,1935,650,3519,3155,2891,5002,7255,2831,57546,7025,9056,6704,6261,7600,5283,5185,4179,6253]
["Local Authority","Gravesham","Gravesham","E07000109",101720,50139,51581,100976,744,1066,9901.8700000000008,10.3,101720,6647,3894,2381,6529,1305,2942,2476,6502,6618,20673,19589,5874,8517,5725,1348,700,38.700000000000003,39,80964,26202,39473,111,2345,7008,5825,40431,4918,6213,3382,4587,6757,2670,1880,1943,253,3004,1534,1475,13,129,1673,2991,987,745,1259,277,38,156,83,2714,949,589,1176,101720,78422,791,320,4693,564,359,627,516,7538,550,477,326,1713,2226,456,203,94,1845,101720,85825,317,817,456,4,657,1016,3770,8858,101720,16198,76905,643,4622,209,1165,2232,252,10,57,260,2,40431,36245,1863,312,2011,101720,61891,333,942,54,1894,7743,606,21862,6395,101720,7796,9546,84378,3418,4521,56735,47298,35572,13629,4104,1117,91410,6371,1383,2556,41699,41681,6,12,41744,40431,1313,6754,13321,13248,6534,1259,499,129,40431,12408,13691,305,5628,1380,6108,416,495,40431,1003,39428,3507,2212,2.5,5.3,2.7,40431,9247,16861,10564,2733,1026,50774,80964,19742,13242,13780,3442,8952,16164,5642,2548,2462,1072,256,1121,73191,10560,28617,6952,3714,2060,9904,3057,3866,2792,1669,1104,629,629,1437,47639,4559,9097,27296,6687,25589,1249,2167,16819,5354,22050,3310,6930,10477,1333,47639,392,52,3568,301,389,5689,8840,3147,2229,1316,2237,675,2468,2586,2647,4253,4773,2077,47639,4812,6190,5315,5898,6083,4281,4609,4120,6331]
["Local Authority","Thanet","Thanet","E07000114",134186,64555,69631,131755,2431,1256,10333.530000000001,13,134186,8093,4436,2805,8570,1726,3473,3394,7396,7320,23092,25887,9581,14309,9571,2866,1667,41.9,43,108556,34051,47911,270,3591,12873,9860,59513,9649,10997,5650,7125,6896,2602,2804,2802,276,4968,1966,1442,85,279,1972,4945,1730,1067,2148,487,79,201,207,4458,1651,866,1941,134186,121346,1026,187,5635,720,329,598,539,738,184,178,450,954,585,239,86,118,274,134186,119366,448,1620,1216,7,901,1740,3475,5413,134186,27991,99384,719,4223,342,542,1074,394,5,55,276,2,59513,56542,1045,232,1694,134186,82447,491,639,273,1230,94,690,38383,9939,134186,15369,15979,102838,6459,7325,66359,54640,47109,22377,7785,2275,118684,8925,2190,4387,64998,64913,29,56,65276,59513,5763,12790,18332,14826,11450,5890,1063,925,59513,19903,17004,206,3019,4518,13072,1079,712,59513,1762,57751,4798,2220,2.2000000000000002,5.2,2.6,59513,17710,26323,12043,2541,896,62110,108556,30784,16100,17833,4198,12245,21284,6112,2975,3673,1544,351,1758,94452,13626,29937,9556,5358,2795,17231,4016,4632,5273,2028,1632,1121,860,2347,55200,5560,12568,30228,6844,28293,1847,3365,17952,5129,26907,3713,9203,12276,1715,55200,469,19,4120,343,356,5210,8950,2738,3200,1050,1537,731,2734,2517,2870,6533,9059,2764,55200,5489,7794,5669,5717,7174,7447,5352,3970,6588]
["Local Authority","Tonbridge and Malling","Tonbridge and Malling","E07000115",120805,59207,61598,119401,1404,1923,24013.56,5,120805,7447,4665,3003,8169,1700,3644,2734,5841,5804,24880,24898,7593,11041,6950,1580,856,39.799999999999997,41,95821,26932,51132,166,2408,8869,6314,48140,5635,5918,4777,6836,9539,3055,2573,2298,293,3051,1509,918,2,147,1589,3031,1106,926,999,364,51,248,65,2667,1055,678,934,120805,111662,760,350,3100,474,199,667,337,755,165,236,496,779,222,143,56,130,274,120805,109887,346,1398,894,4,581,1418,1029,5248,120805,17092,99587,629,1960,197,639,946,496,20,84,520,2,48140,46557,935,115,533,120805,76920,441,539,122,750,169,412,32996,8456,120805,7579,10367,102859,2948,4607,67839,60306,41475,14263,3728,1033,108724,8258,1321,2502,49972,49964,5,3,49984,48140,1844,13618,18707,11281,5049,644,486,199,48140,15677,18569,717,930,6832,4320,549,546,48140,982,47158,2299,1338,2.5,5.8,2.9,48140,6620,19735,16201,3969,1615,71258,95821,19135,14401,16945,3874,11646,25967,3853,3215,2405,1155,154,1086,86435,12690,35663,9768,2580,2338,12531,3426,4073,2123,1243,790,539,313,931,59993,6201,11083,33176,9533,31691,1672,2399,19987,7633,28302,4529,8684,13189,1900,59993,402,77,4070,247,635,5685,9643,2850,2408,2367,4286,871,4581,3137,3384,6153,6288,2909,59993,7768,10283,8380,7652,6798,5229,4530,3544,5809]
["Local Authority","Hyndburn","Hyndburn","E07000120",80734,39977,40757,80088,646,672,7299.32,11.1,80734,5427,3084,1918,5057,1156,2170,1954,5041,5287,16329,15448,5054,7073,4183,1043,510,38.700000000000003,39,64092,21126,29303,65,2080,6752,4766,34341,4243,6818,2660,4065,4792,1867,1630,1797,215,3072,1235,923,12,85,927,3064,993,859,1212,389,57,183,149,2675,936,676,1063,80734,68834,436,97,1411,186,39,336,135,279,7548,402,268,510,52,45,9,91,56,80734,72890,581,1136,332,3,352,458,926,4056,80734,16957,61388,260,1137,39,90,1101,90,1,5,66,0,34341,32062,1165,194,920,80734,53602,162,70,7,8336,38,249,13700,4570,80734,9153,8400,63181,4470,4623,42190,34759,27610,12225,4800,1340,71811,5193,1220,2510,35982,35977,2,3,35999,34341,1658,4225,9377,18933,2696,337,289,142,34341,11464,11774,84,1367,3022,5711,524,395,34341,1786,32555,1570,1633,2.2999999999999998,5.3,2.5,34341,9696,15287,7560,1405,393,36333,64092,17942,8868,10400,3547,8043,12132,3160,1880,2304,1016,250,1030,58356,7902,22029,4732,2688,1767,8803,2513,2600,3912,1410,977,399,435,994,35993,2656,7738,22413,3186,19209,972,2293,13522,2422,16784,1684,5445,8891,764,35993,103,24,6079,126,256,2883,6633,1771,1701,716,661,369,1273,1442,1942,3558,5004,1452,35993,3262,4308,3531,3865,5239,4465,3210,4193,3920]
["Local Authority","Rossendale","Rossendale","E07000125",67982,33367,34615,67262,720,851,13804.82,4.9000000000000004,67982,4329,2340,1563,4052,887,1849,1573,3869,3940,13955,14363,4721,5805,3385,914,437,39.6,40,54811,17787,25539,111,1655,5697,4022,29058,3375,5613,2084,3963,4165,1640,1644,1634,213,2221,990,700,5,60,751,2211,729,718,764,266,33,143,90,1945,696,575,674,67982,62516,541,47,674,199,64,218,121,186,1139,1638,233,200,49,63,11,37,46,67982,63469,260,775,359,1,439,421,286,1972,67982,13042,53702,346,450,35,59,450,93,2,8,69,3,29058,28194,502,90,272,67982,43392,163,96,67,2613,9,231,17095,4316,67982,6818,6692,54472,3257,3611,37402,31438,22508,9603,3475,958,60348,4864,988,1782,30845,30840,4,1,30852,29058,1794,6233,7819,13444,2634,303,326,93,29058,9160,11090,87,1416,2828,3683,423,371,29058,805,28253,1476,1017,2.2999999999999998,5.4,2.7,29058,6249,12554,8139,1617,499,35938,54811,13130,7504,9068,2201,7146,13776,1986,1641,1673,677,151,840,50075,6794,20067,5003,2090,1232,7372,2148,1809,2715,845,673,383,304,840,32808,2577,6402,19747,4082,17006,829,1653,11412,3112,15802,1748,4749,8335,970,32808,107,23,4507,94,252,2878,5337,1369,1270,817,809,471,1618,1455,1948,3564,4889,1400,32808,3780,5411,3945,3458,4242,3678,2440,2831,3023]
["Local Authority","West Lancashire","West Lancashire","E07000127",110685,53840,56845,108689,1996,1365,34678.959999999999,3.2,110685,5998,3594,2341,6685,1355,2812,3557,7196,5447,19720,23219,7886,11764,6754,1558,799,41.2,42,90712,28307,45457,98,2085,7807,6958,45381,5843,6383,4566,6307,7157,3385,1778,1773,236,3413,1817,947,350,164,1262,3386,1170,894,1322,389,48,212,129,2997,1122,682,1193,110685,105775,584,8,2236,266,140,248,212,411,85,13,190,214,115,48,11,63,66,110685,103829,472,1191,899,6,437,796,1381,1674,110685,19769,88313,390,1808,43,165,282,159,12,23,125,0,45381,44375,406,59,541,110685,84337,141,229,62,276,87,216,19029,6308,110685,11212,10926,88547,4697,5179,59961,52675,36226,14800,5380,1604,97259,8242,1812,3372,47973,47963,4,6,47994,45381,2613,14020,17444,10845,3935,388,306,1056,45381,16272,16850,271,5711,945,4263,481,588,45381,700,44681,1577,1031,2.4,5.9,3,45381,8973,18599,13518,3186,1105,60127,90712,21296,12150,14318,3600,12652,23000,3696,2548,5539,2195,580,2745,81601,11504,29658,7807,3180,3531,13888,4668,2673,3515,1177,943,652,430,1315,51694,5455,10604,28980,6655,26687,1669,2453,17344,5221,25007,3786,8151,11636,1434,51694,1394,49,5450,123,449,3801,8782,2672,2538,1174,1885,548,2549,2148,2843,5923,7118,2248,51694,5751,8787,5469,5824,6071,5300,3897,4268,6327]
["Local Authority","Charnwood","Charnwood","E07000130",166100,82913,83187,158719,7381,2513,27905.68,6,166100,9120,5053,3226,8924,1899,4209,6778,16121,10079,31145,31951,10333,14351,9255,2372,1284,39.299999999999997,39,137878,49529,64729,271,3191,11012,9146,66516,7980,10678,6231,9000,10842,4221,3663,2715,322,3812,2127,1346,1252,140,2187,3801,1412,1206,1183,416,55,296,65,3385,1357,910,1118,166100,139978,989,74,4073,815,244,1045,473,10225,428,2022,1943,1520,875,339,113,442,502,166100,144873,556,1976,1406,20,724,1956,1791,12798,166100,26421,131778,683,3075,233,829,3309,488,33,73,272,16,66516,61950,2065,286,2215,166100,92233,559,8344,125,3925,1241,620,48525,10528,166100,11143,14726,140231,4269,6946,99401,79906,58637,20620,5465,1472,148973,11970,1863,3294,69220,69195,10,15,69305,66516,2789,21025,26657,12991,6822,866,631,313,66516,23729,24232,539,5306,2545,8590,806,769,66516,1293,65223,3305,1759,2.4,5.7,2.9,66516,12017,28332,20062,4556,1549,89056,137878,28265,16740,19685,6586,23470,36916,6216,3781,15776,3575,887,11297,124967,17209,47592,10435,3864,5509,17092,14278,3930,3437,1621,1071,789,517,1480,79572,8537,15365,45728,9942,42069,2919,3535,27785,7830,37503,5618,11830,17943,2112,79572,445,255,10657,672,567,6152,13694,3287,4041,2003,1935,862,4706,3129,3899,10943,8444,3881,79572,8669,14282,9726,9110,9719,7289,6178,6169,8430]
["Local Authority","Oadby and Wigston","Oadby and Wigston","E07000135",56170,27169,29001,53765,2405,905,2352.33,23.9,56170,2882,1711,1092,3370,756,1570,2680,3463,3023,10030,11274,3432,5325,4027,1019,516,41,41,46359,14441,23966,59,932,3266,3695,21339,3031,2457,2401,2613,3711,1728,874,891,130,1099,813,837,8,60,686,1094,388,355,351,88,10,64,14,1006,378,291,337,56170,39634,387,9,981,383,85,493,215,9938,1080,128,328,1046,302,305,64,191,601,56170,46607,152,556,382,3,311,497,431,7231,56170,8296,45497,261,698,80,354,1207,149,3,17,55,1,21339,19146,1344,169,680,56170,27198,132,5112,136,3256,3664,278,13007,3387,56170,4309,5412,46449,1434,2321,31717,25383,20568,7524,2082,613,49828,4252,751,1339,22481,22480,1,0,22482,21339,1143,6601,10691,3369,1498,156,163,4,21339,9069,8170,161,1147,463,1922,195,212,21339,383,20956,911,680,2.5,5.7,2.9,21339,3646,9339,6371,1495,488,28693,46359,10461,6144,7008,1976,6796,11476,2498,1443,3608,904,285,2413,40797,6146,15570,3510,1314,1579,6102,3555,1296,1098,627,361,251,184,522,26399,2711,5496,15392,2800,13712,875,1352,9252,2233,12687,1836,4144,6140,567,26399,50,21,2970,351,139,1858,5045,1027,1086,647,1064,304,1360,1021,1617,3336,3489,1014,26399,2717,4547,3179,3580,2864,2357,2462,2022,2671]
["Local Authority","South Holland","South Holland","E07000140",88270,43119,45151,87409,861,889,74238.31,1.2,88270,4488,2555,1740,4982,1151,2080,1697,4523,4705,16121,17986,6579,10229,6853,1695,886,43.4,45,73354,18650,39098,122,1823,7151,6510,37264,5272,4169,4699,6204,5231,2046,2153,1698,208,1913,992,999,6,137,1537,1880,633,537,710,177,18,97,62,1703,615,440,648,88270,79569,282,100,6419,247,138,233,178,251,48,54,176,218,137,72,48,13,87,88270,78046,266,1011,497,10,272,1178,5241,1749,88270,22824,58780,182,5961,68,161,259,120,5,84,92,1,37264,34793,612,119,1740,88270,63861,119,100,69,258,69,260,17146,6388,88270,8376,9821,70073,3115,4153,46423,35771,33149,13968,4167,1215,78798,5681,1273,2518,38661,38650,3,8,38695,37264,1431,21373,11430,3776,1238,382,275,221,37264,14623,12412,260,3828,900,4173,541,527,37264,701,36563,1531,1181,2.2999999999999998,5.9,2.8,37264,5442,16499,11272,2906,1145,52939,73354,22628,11195,12070,2710,7354,11586,5811,1815,1199,545,93,555,63920,8432,25724,6376,2532,1212,11891,1846,2549,2308,1050,695,568,267,1038,41490,3592,7333,23154,7411,22164,945,1565,13616,6038,19326,2647,5768,9538,1373,41490,2582,19,6552,153,303,3251,8615,2758,1497,615,851,366,1764,2504,1486,2787,3894,1493,41490,4437,4034,3605,4158,5932,3793,3129,6280,6122]
["Local Authority","Great Yarmouth","Great Yarmouth","E07000145",97277,47762,49515,96230,1047,751,17418.830000000002,5.6,97277,5528,2977,1953,5584,1487,2475,2279,5942,5731,16673,19049,7228,10857,6812,1812,890,42.1,43,79748,24665,37208,146,1997,9066,6666,42079,6244,6327,4343,5621,5055,2443,2079,2386,291,3246,1432,930,7,124,1551,3203,1182,653,1368,383,53,174,156,2820,1129,479,1212,97277,90280,390,63,3482,294,277,331,257,446,116,18,189,435,285,86,68,77,183,97277,88840,246,1330,503,3,380,1634,1760,2581,97277,28133,65014,264,2983,99,283,489,226,4,37,95,0,42079,40228,629,154,1068,97277,59383,237,255,108,518,6,328,29430,7012,97277,10578,11274,75425,4490,5200,49687,39204,35032,16130,5330,1581,86372,5984,1572,3349,44355,44328,8,19,44438,42079,2359,13059,10487,13610,4804,1344,571,563,42079,15024,12049,146,5824,1431,6280,646,679,42079,1570,40509,2504,1546,2.2999999999999998,5.4,2.7,42079,11445,18836,8926,2103,769,46431,79748,26164,12531,12846,3735,8418,11336,4718,2110,2025,794,222,991,70234,11433,22778,5844,4258,1705,12881,2526,3443,3741,1625,1331,866,543,1668,41264,4375,9693,21806,5390,21955,1218,2543,13702,4492,19309,3157,7150,8104,898,41264,455,671,3899,253,309,3363,7422,2026,3911,515,812,385,1997,1928,1836,3167,6081,2234,41264,3939,4159,3702,4324,5797,4948,4196,4090,6109]
["Local Authority","Norwich","Norwich","E07000148",132512,65267,67245,127754,4758,1338,3902.6,34,132512,8425,3953,2314,5809,1206,2498,5134,15289,12794,28100,21128,6517,9242,6812,2134,1157,37.4,34,110805,51978,37036,300,2829,11909,6753,60319,7669,15351,3631,5824,5888,1967,4629,2807,261,4419,1810,910,1459,145,3549,4378,1400,848,2130,481,65,215,201,3897,1335,633,1929,132512,112237,874,127,7137,684,660,876,819,1684,255,540,1679,1686,1727,272,148,643,464,132512,112380,484,1715,842,19,664,2486,3537,10385,132512,31115,89616,711,5599,455,1242,3648,812,57,173,415,7,60319,55545,1636,396,2742,132512,59515,978,1017,241,2612,168,886,56268,10827,132512,11372,13002,108138,5365,7144,78951,59454,46939,18620,5862,1637,120628,7492,1523,2869,63313,63249,16,48,63538,60319,3219,6552,13726,21519,18605,2311,769,56,60319,12463,13979,433,15222,4480,12122,967,653,60319,1580,58739,4591,1805,2.1,5,2.5,60319,20125,28729,9511,1531,423,54249,110805,25073,14129,15342,2858,16885,30722,5796,2071,12844,3709,1054,8050,100702,13516,37502,7229,5060,5465,10766,9613,4379,4959,2213,1487,752,677,2042,62424,7139,12223,36390,6672,32923,2479,3715,21803,4926,29501,4660,8508,14587,1746,62424,198,92,4290,128,371,3933,10767,2229,4653,2096,3984,809,3711,2965,2924,7164,8697,3413,62424,4811,12181,7422,5944,6321,5901,6878,4157,8809]
["Local Authority","Corby","Corby","E07000150",61255,30147,31108,60990,265,563,8028.28,7.6,61255,4519,2225,1385,3748,741,1578,1487,3924,4786,12903,12446,3201,4724,2732,634,222,37.5,37,48637,16962,21505,81,1874,4985,3230,25215,2581,4115,1707,2961,3698,1475,1528,1504,198,2334,1070,784,3,88,1169,2320,849,609,862,217,34,117,66,2103,815,492,796,61255,52069,855,28,5567,271,127,215,223,348,34,138,96,166,778,130,100,24,86,61255,44459,529,7765,447,3,661,794,4096,2501,61255,12845,42138,581,4774,202,505,262,155,5,13,70,3,25215,22821,621,172,1601,61255,36111,126,190,44,382,125,150,20376,3751,61255,5437,5431,50387,2669,2917,34739,28138,21539,8045,2697,836,55207,3495,889,1664,26181,26181,0,0,26181,25215,966,5527,9752,7825,2726,188,113,50,25215,5917,9752,94,4463,815,3582,257,335,25215,266,24949,1400,795,2.4,5.4,2.9,25215,6698,11093,5932,1192,300,27851,48637,13439,8405,8330,2005,5393,7254,3811,1387,1340,645,101,587,45049,6145,20899,2642,2222,1258,5566,1504,1759,2237,817,681,358,213,743,30688,2053,5557,19783,3295,16204,679,1126,11760,2639,14484,1374,4431,8023,656,30688,63,17,7260,90,202,1746,7197,2460,1155,592,379,179,821,1692,1139,2038,2639,1019,30688,2367,2768,2630,2894,3326,2529,2725,4984,6465]
["Local Authority","South Northamptonshire","South Northamptonshire","E07000155",85189,42098,43091,84497,692,1711,63401.85,1.3,85189,4771,3062,2139,5507,1086,2176,1716,3589,3603,17424,19377,6340,8096,4497,1190,616,41.1,43,68624,16610,39804,104,1655,6023,4428,34717,3791,4473,3409,6144,7186,2189,1961,1229,187,1685,895,579,5,86,898,1680,716,626,338,182,14,151,17,1498,702,475,321,85189,80123,591,11,1847,289,131,359,224,592,81,52,149,255,151,141,84,29,80,85189,77369,358,1405,1108,0,449,907,489,3104,85189,11833,71047,483,953,105,295,226,706,2,28,304,0,34717,34007,470,40,200,85189,56017,183,357,100,290,175,245,21758,6064,85189,4899,6978,73312,1676,3122,49427,43204,29703,9378,2247,657,76436,6323,920,1510,36044,36041,2,1,36048,34717,1331,15618,12488,5477,1829,287,236,113,34717,12029,14456,357,901,2604,3439,401,530,34717,624,34093,881,430,2.4,6.3,3.2,34717,3219,12210,14058,3713,1517,58343,68624,11955,9609,11442,3058,8559,21308,2693,1946,1494,809,87,592,62321,9004,27039,8274,1476,1656,9161,1847,2109,1045,710,400,430,125,507,45740,4662,7927,25137,8014,24176,1278,1522,15058,6318,21564,3384,6405,10079,1696,45740,887,31,4893,158,276,3601,7720,1959,1808,2068,1781,586,3468,2341,2300,4898,4309,2656,45740,6875,8034,6284,5620,5702,3583,2898,2679,4065]
["Local Authority","Richmondshire","Richmondshire","E07000166",51965,27407,24558,47344,4621,926,131867.12,0.4,51965,2910,1647,1163,2949,598,1205,1726,4252,3467,9369,10060,3543,5030,2942,717,387,40,40,42698,12370,22752,112,1132,3507,2825,20207,2505,2734,2074,3736,3703,1123,944,654,83,1169,538,359,0,65,520,1164,433,403,328,154,24,90,40,1010,409,313,288,51965,48516,200,19,821,155,74,108,165,75,27,20,78,1047,245,80,171,15,149,51965,44295,543,2125,631,6,174,1283,436,2472,51965,9361,40404,159,508,45,314,897,200,3,10,345,0,20207,19538,272,49,348,51965,36057,373,513,26,130,7,158,11120,3581,51965,3261,4662,44042,1234,2072,30316,26678,17383,5988,1523,393,47203,3281,564,917,22797,22796,0,1,22803,20207,2596,7902,7955,5012,1127,394,182,231,20207,7295,5615,104,1451,732,2877,1642,491,20207,350,19857,835,424,2.2999999999999998,5.9,2.9,20207,2692,9241,6331,1431,512,28555,42698,7925,6419,7681,1590,5269,11513,2301,950,684,338,39,304,38652,5217,17121,4828,1116,735,5761,937,1396,839,702,344,226,114,399,27795,2295,4660,13480,7360,16441,672,1034,8438,6297,11354,1623,3626,5042,1063,27795,1296,77,1678,48,134,2025,3143,800,2129,485,367,336,1042,1102,7223,2013,2565,1332,27795,3374,3270,6794,2343,3926,2163,1487,1471,2967]
["Local Authority","Ryedale","Ryedale","E07000167",51751,25413,26338,50611,1140,928,150659.41,0.3,51751,2385,1522,951,3024,669,1459,1059,2203,2085,8483,11508,4351,6433,4081,1000,538,44.6,47,43200,10977,23750,58,896,3765,3754,22524,3557,2989,2731,3946,3258,1349,1142,798,94,1014,607,327,0,120,592,1010,453,316,241,128,24,85,19,882,429,231,222,51751,49802,262,81,919,80,46,105,71,35,5,7,85,141,67,8,5,10,22,51751,48262,157,883,296,5,203,503,395,1047,51751,12126,38488,187,648,39,100,152,145,8,11,149,2,22524,22134,199,25,166,51751,37172,125,20,15,57,5,180,10354,3823,51751,3881,5308,42562,1329,2052,27767,23555,18476,7329,1846,545,45847,4136,627,1141,24743,24743,0,0,24743,22524,2219,10075,7840,4888,1184,313,320,123,22524,9329,5795,83,213,2683,3321,452,648,22524,809,21715,665,402,2.2000000000000002,6,2.9,22524,3299,9720,7011,1795,699,32286,43200,10369,5427,7033,1768,4900,11793,1910,1266,812,367,45,393,37581,5773,12760,6252,1029,830,7005,1282,1175,945,530,304,261,98,368,25504,2877,5219,12903,4505,13485,721,1187,8052,3525,12019,2156,4032,4851,980,25504,1876,56,2955,60,157,2094,3998,862,1902,389,458,423,1481,889,1123,2347,2627,1807,25504,3179,3595,2344,2353,4849,2358,1608,2115,3103]
["Local Authority","Broxtowe","Broxtowe","E07000172",109487,54118,55369,108570,917,1235,8009.84,13.7,109487,6163,3208,2093,5848,1237,2710,2508,6722,6625,22072,22655,7548,10733,6704,1771,890,41.4,42,90938,28296,45691,226,2101,7964,6660,46820,6060,7023,4588,6775,7308,3035,2820,1971,267,2575,1440,792,318,133,1715,2567,945,753,869,282,44,165,73,2285,901,588,796,109487,98001,615,9,2913,866,151,486,324,1754,775,92,1135,747,448,405,80,436,250,109487,98460,415,1358,817,5,428,1351,1330,5323,109487,19634,85024,406,2106,178,487,1727,317,24,47,202,0,46820,44581,1161,139,939,109487,61975,413,842,143,1636,921,416,35217,7924,109487,9474,11117,88896,3774,5279,61787,49831,38276,15614,4521,1245,97204,8059,1563,2661,48666,48658,4,4,48683,46820,1863,17598,17253,8182,4699,420,440,91,46820,17351,16919,168,4192,1026,5902,692,570,46820,828,45992,1955,1240,2.2999999999999998,5.6,2.8,46820,10101,20946,12642,2429,702,56616,90938,21031,11721,13547,4079,11046,25678,3836,2393,4412,1362,252,2781,81573,11855,33191,6283,3156,2353,13440,4574,2724,2833,1164,933,678,416,1224,53185,4867,10323,31897,6098,28063,1460,2473,19417,4713,25122,3407,7850,12480,1385,53185,99,54,6241,627,273,4108,9227,2349,2163,1863,1251,597,3041,2112,3390,6941,6622,2227,53185,5334,10903,6540,6266,5961,4208,4523,3981,5469]
["Local Authority","Rushcliffe","Rushcliffe","E07000176",111129,54703,56426,108804,2325,1997,40923.64,2.7,111129,6392,3790,2443,6621,1332,2716,2562,6174,5320,22178,23767,7411,10627,6966,1931,899,41.2,42,90551,26005,48543,159,1858,7527,6459,45835,5877,6587,4802,6837,8924,2588,2474,1560,174,2329,1187,696,291,106,1403,2319,865,907,547,318,43,223,52,2001,822,684,495,111129,100363,810,23,2308,736,159,723,331,2361,1072,40,558,583,202,349,76,153,282,111129,99994,501,2006,1342,8,533,1345,731,4669,111129,13800,94067,562,1483,121,257,1041,418,10,46,291,10,45835,44222,944,125,544,111129,65490,320,1176,322,1697,902,399,32919,7904,111129,7540,9939,93650,2655,4298,63175,57689,36222,12779,3468,971,99338,8553,1147,2091,47349,47339,2,8,47385,45835,1550,21899,14680,5396,3647,1074,316,373,45835,17973,17169,333,1056,2798,5595,487,424,45835,647,45188,1405,800,2.4,6.2,3.1,45835,6931,18683,16118,3092,1011,64744,90551,14835,9411,13032,3061,11861,35307,3044,2455,4563,1617,282,2658,80755,11753,32677,8703,2222,2690,12820,4465,2435,1758,1232,575,500,225,802,55346,5785,10628,30833,8100,28938,1823,2563,18401,6151,26408,3962,8065,12432,1949,55346,564,97,4466,536,287,3648,8336,1664,2265,2573,1790,807,5049,2065,3942,7884,6548,2825,55346,7869,14585,7928,6135,4861,3838,3651,2365,4114]
["Local Authority","West Oxfordshire","West Oxfordshire","E07000181",104779,51447,53332,102415,2364,2071,71439.929999999993,1.5,104779,6362,3529,2230,6056,1290,2530,2178,5308,6043,21209,21835,6947,10113,6409,1756,984,41.1,42,85312,23718,46083,225,1789,7769,5728,43241,5319,6093,4421,6752,8090,2534,2596,1591,206,2122,1187,708,15,111,1496,2113,841,728,544,217,26,157,34,1896,815,571,510,104779,96995,708,182,3584,320,136,473,334,354,95,152,310,513,270,109,58,53,133,104779,91636,522,2184,1941,10,599,1667,1421,4799,104779,16840,83578,552,2232,163,516,657,865,11,76,556,4,43241,41751,790,99,601,104779,68537,334,221,180,435,37,419,27101,7515,104779,6208,8941,89630,1970,3799,60281,53984,35438,11685,2942,730,94421,7540,1050,1768,45580,45576,2,2,45597,43241,2356,15620,14727,10270,3595,614,444,327,43241,14915,15226,548,738,4649,5108,1315,742,43241,607,42634,1897,914,2.4,5.9,3,43241,5164,17604,15297,3758,1418,65824,85312,15054,11324,13461,3352,10513,28076,3532,2220,1820,888,92,831,76163,10889,34599,9452,1730,1836,10418,2302,2596,1394,947,507,410,166,623,56515,5452,9768,32351,8944,29919,1508,1956,19567,6888,26596,3944,7812,12784,2056,56515,750,89,5130,199,369,4565,8493,1825,2559,2970,1263,893,4497,2308,5186,6644,5689,3086,56515,7384,10416,8344,6036,7307,4998,3666,3381,4983]
["Local Authority","Mendip","Mendip","E07000187",109279,53387,55892,106031,3248,1835,73943.509999999995,1.5,109279,5915,3617,2296,6988,1581,3450,2559,5359,5114,19551,23615,7956,11049,7064,2089,1076,41.9,43,88882,25996,44846,130,2110,9224,6576,46157,6354,7455,4688,6799,7062,2573,2481,1955,215,2798,1323,792,7,146,1509,2796,1198,706,892,332,63,201,68,2464,1135,505,824,109279,102987,596,246,3228,266,144,354,232,227,21,69,256,356,124,57,29,25,62,109279,98701,354,1453,1890,7,454,1666,1316,3438,109279,22522,83021,440,2242,144,235,566,515,9,40,437,7,46157,44841,638,57,621,109279,67683,510,113,81,270,14,1224,29913,9471,109279,8407,11067,89805,3235,4990,59379,51153,38270,14619,4137,1100,97441,8113,1284,2441,48675,48661,7,7,48719,46157,2562,15242,15287,11988,4100,1359,536,207,46157,17387,15051,349,1320,4153,6449,687,761,46157,1291,44866,2255,1101,2.2999999999999998,5.8,2.9,46157,6925,19481,14433,3745,1573,66583,88882,19054,12036,15180,3610,10697,24769,3536,3067,2147,951,124,1062,78653,12726,28252,11194,2297,1993,12049,3333,2934,2594,1281,684,530,230,810,53845,6142,11649,27621,8433,28097,1671,2763,17040,6623,25748,4471,8886,10581,1810,53845,1444,428,5511,116,445,4734,9297,2089,3372,1876,1068,702,3147,2183,2559,6214,5871,2789,53845,6298,8545,5786,5231,8080,5426,4177,4254,6048]
["Local Authority","East Staffordshire","East Staffordshire","E07000193",113583,56385,57198,111488,2095,1369,38696.29,2.9,113583,7002,3927,2629,6694,1510,3062,2612,6722,7199,22852,23248,6995,10369,6442,1554,766,39.799999999999997,40,91821,28004,45968,165,2319,8614,6751,47251,5862,7961,4160,6596,7832,2752,2579,2035,244,3059,1517,1048,7,104,1495,3046,1072,855,1119,312,37,200,75,2734,1035,655,1044,113583,97854,542,72,4236,800,92,451,276,916,5598,157,331,862,333,500,190,91,282,113583,100996,398,1361,973,8,404,768,3304,5371,113583,24540,83483,360,3662,69,260,1366,208,5,13,120,2,47251,44035,1242,212,1762,113583,72890,284,318,42,6815,336,368,25037,7493,113583,8982,11125,93476,3722,5468,63500,52094,40576,15302,4377,1234,102116,7492,1443,2532,49103,49094,3,6,49128,47251,1877,15263,15464,12229,4906,641,435,190,47251,16574,16305,260,1984,4383,6519,633,593,47251,1860,45391,2425,1543,2.4,5.7,2.8,47251,10123,19861,13247,2974,1046,59967,91821,22671,13019,14802,3849,10752,21466,5262,2691,2518,1169,218,1119,83059,12135,33829,7180,3171,2263,12497,3077,3691,3103,2113,981,594,418,1127,54921,5126,10595,31500,7700,29616,1522,2525,19323,6246,25305,3604,8070,12177,1454,54921,777,98,9036,320,436,4300,9551,3479,2953,1275,870,501,2419,2443,2207,4928,6844,2484,54921,5707,8008,5589,5630,6747,4667,4293,6205,8075]
["Local Authority","South Staffordshire","South Staffordshire","E07000196",108131,53243,54888,106157,1974,1431,40731.519999999997,2.7,108131,4878,3141,2069,6236,1301,2831,2523,6035,4972,19297,24174,8169,12717,7158,1763,867,43.2,45,90506,24365,49737,110,1753,7303,7238,44458,5932,5307,5327,6820,7458,3844,2012,1758,249,2278,1411,843,0,114,1105,2245,780,780,685,229,20,157,52,2016,760,623,633,108131,102339,469,128,764,796,40,479,180,1435,170,17,204,296,142,371,65,44,192,108131,103019,272,784,1053,1,355,513,292,1842,108131,19718,87189,313,484,34,123,308,110,1,20,103,0,44458,43841,393,42,182,108131,79301,182,416,15,364,1027,297,19896,6633,108131,9016,11197,87918,3126,4920,59955,49032,38390,14901,4435,1373,94589,9145,1721,2676,45621,45618,3,0,45624,44458,1166,17794,17906,4862,3475,354,384,849,44458,17809,15860,249,646,5547,3371,401,575,44458,824,43634,1459,1007,2.4,6,3,44458,5879,17353,15394,4188,1644,68003,90506,21699,12597,14973,3631,11356,22707,3543,2550,2571,1164,179,1217,80718,12224,30995,8452,2670,2077,14754,3158,2560,2228,1600,813,616,340,1074,53328,5256,10625,30072,7375,28019,1458,2368,18383,5810,25309,3798,8257,11689,1565,53328,571,46,6473,332,523,5267,8986,2050,2298,1305,1999,860,2704,2145,3543,5598,6201,2427,53328,6967,8832,6679,6905,7076,4321,4111,3574,4863]
["Local Authority","Forest Heath","Forest Heath","E07000201",59748,30153,29595,58175,1573,471,37771.06,1.6,59748,4123,2020,1203,3092,626,1210,1124,4675,5508,12519,10372,3582,5063,3332,909,390,38.799999999999997,37,48684,14617,24650,75,1287,4941,3114,25376,2909,4329,2177,3836,4095,1179,1681,1024,134,1538,739,527,12,83,1113,1523,515,503,505,184,15,124,45,1339,500,379,460,59748,46142,583,108,8074,267,274,402,801,300,135,96,105,627,373,173,750,12,526,59748,44659,186,791,382,2,476,1200,1831,10221,59748,10399,37504,421,2440,122,261,579,8517,16,51,136,1,25376,23808,673,89,806,59748,38228,190,157,81,364,40,274,15897,4517,59748,4024,4986,50738,1536,2269,35185,28739,21194,7235,2035,545,54796,3110,634,1208,27547,27538,6,3,27561,25376,2185,9983,7865,5906,2836,447,263,261,25376,6907,7267,354,1357,2382,5532,663,914,25376,423,24953,1598,983,2.2999999999999998,5.4,2.7,25376,4001,11556,7712,1560,547,34096,48684,12505,6597,6893,1961,5003,9325,6400,1014,1127,574,61,483,44053,5705,20939,4073,1412,986,5403,1210,2074,1134,1117,400,293,172,516,31540,2577,4781,18456,5726,17679,724,1142,11282,4531,13861,1853,3639,7174,1195,31540,759,12,3163,65,238,2475,4301,1521,1716,660,551,350,1702,1411,2208,1874,2692,5842,31540,3151,3229,5386,3134,4307,3735,2051,2793,3754]
["Local Authority","Ipswich","Ipswich","E07000202",133384,66428,66956,131262,2122,1254,3941.46,33.799999999999997,133384,9250,4835,2795,7552,1556,3524,3556,9562,10877,28512,24398,7137,9601,7111,2011,1107,38,36,107396,39753,46691,260,3129,10621,6942,57298,6763,11744,4052,6581,8193,2879,3663,3050,334,4329,1924,1238,39,138,2371,4305,1613,861,1831,399,55,193,151,3906,1558,668,1680,133384,110624,610,149,7213,2579,655,637,945,1801,242,1687,666,1344,1025,1554,517,151,985,133384,115234,393,1286,684,4,470,2227,4401,8685,133384,31568,91894,454,6221,292,659,2191,687,13,78,256,1,57298,52508,1354,350,3086,133384,70797,495,1102,83,3577,343,651,46687,9649,133384,10718,12824,109842,4795,6636,76135,60771,47800,18053,5233,1527,120322,8193,1730,3139,59301,59259,10,32,59448,57298,2150,7980,22448,14339,12049,1908,648,76,57298,14723,17744,368,8138,4233,10742,679,671,57298,2169,55129,4933,2117,2.2999999999999998,5.2,2.6,57298,15906,26112,12254,2340,686,60701,107396,27723,17054,17469,4098,12269,22152,6631,2980,3650,1636,370,1630,97167,16071,40014,7107,5212,3019,11279,3736,4662,4048,2019,1628,769,767,2152,65479,6601,13433,38292,7153,35051,1941,3239,24133,5738,30428,4660,10194,14159,1415,65479,251,31,5183,639,423,5269,11560,4917,3671,2670,4004,670,2449,3367,3517,5148,9005,2705,65479,5197,9236,7132,7332,7722,6625,6794,6093,9348]
["Local Authority","Elmbridge","Elmbridge","E07000207",130875,63462,67413,129483,1392,3068,9506.07,13.8,130875,9358,5322,3317,8315,1558,3258,2339,5109,6036,29607,27470,7668,10540,7316,2344,1318,39.799999999999997,40,103005,28321,56760,245,2308,8482,6889,52922,6743,7825,4561,6674,12350,2864,2776,1695,183,2481,1597,1132,26,125,1890,2470,855,780,835,247,46,156,45,2223,809,624,790,130875,104508,2072,153,11390,521,347,1550,993,2489,555,504,1143,2384,620,272,118,597,659,130875,102058,666,2457,1766,12,1463,4121,2167,16165,130875,9503,106965,1940,6436,736,2126,2357,3168,80,441,1625,4,52922,48304,2428,366,1824,130875,83973,685,1593,795,2406,523,444,30606,9850,130875,6697,9134,115044,2187,3787,75513,73880,40555,12360,3213,867,119244,8653,1100,1878,55731,55716,4,11,55774,52922,2852,18817,14245,9386,10940,1488,846,52,52922,18119,20541,393,1124,4094,7478,528,645,52922,729,52193,3197,1463,2.4,6.1,3.1,52922,6227,22419,18142,4484,1650,79501,103005,13628,10451,14320,2280,11400,45170,5756,3061,2993,1190,173,1615,92027,10910,38467,13565,2457,2123,11239,4136,5852,1636,1642,521,660,229,941,64730,6474,10465,34267,13524,34706,1805,2520,20053,10328,30024,4669,7945,14214,3196,64730,137,324,3256,255,242,3825,8248,2750,2437,5541,4975,1391,8770,3650,2775,6292,5712,4150,64730,12074,15800,11443,6968,4760,4868,3435,1947,3435]
["Local Authority","Reigate and Banstead","Reigate and Banstead","E07000211",137835,67422,70413,134346,3489,2235,12913.41,10.7,137835,9153,4978,3113,8218,1648,3322,2706,6965,8147,30497,27889,8466,11181,7701,2427,1424,39.9,40,110725,34056,57055,194,2481,9251,7688,55423,6723,8440,4673,7373,11091,3402,3339,2169,243,2837,1713,1122,15,119,2164,2818,993,917,908,282,31,194,57,2536,962,723,851,137835,117092,1554,179,6054,736,409,1111,781,2192,1189,532,914,2165,1312,603,251,266,495,137835,117110,581,2093,1384,19,1178,2608,1882,10980,137835,13838,114782,1348,4276,351,1579,2159,888,28,205,751,3,55423,51886,1836,358,1343,137835,85325,618,1880,294,2637,205,480,36262,10134,137835,8418,10848,118569,3050,5003,79939,71052,46908,14866,3844,1165,124730,9401,1423,2281,57053,57019,15,19,57150,55423,1727,16169,16845,9499,11798,1775,694,370,55423,18393,22093,673,1345,5260,6653,516,490,55423,799,54624,3661,2040,2.4,5.8,2.9,55423,7650,22984,18435,4477,1877,81599,110725,18363,14587,18345,3237,13294,37602,5297,3047,2829,1294,195,1320,99173,13429,43619,12183,2892,2491,12278,3508,4354,2299,2120,758,674,341,1057,71236,6787,12019,41301,11129,37728,1938,2895,24378,8517,33508,4849,9124,16923,2612,71236,173,135,3270,345,399,5915,9487,4481,3031,3771,6325,1209,6282,4209,3792,6325,8743,3344,71236,9835,14701,11262,9125,6869,6728,4531,3093,5092]
["Local Authority","Waverley","Waverley","E07000216",121572,59326,62246,117219,4353,3049,34516.93,3.5,121572,7341,4548,2787,7727,1691,3523,2696,5101,5248,24065,24987,8036,11961,7990,2368,1503,41.5,42,97478,26219,53874,161,2124,7848,7252,49280,7018,6680,5312,7301,10168,2678,2401,1453,169,2009,1405,787,165,132,1602,2004,791,615,598,213,30,151,32,1791,761,464,566,121572,110190,1032,167,5328,332,168,746,377,533,246,169,623,712,353,147,38,162,249,121572,104366,592,2130,1586,8,815,2619,1414,8042,121572,13156,102122,928,3148,457,762,1121,1073,28,138,1108,0,49280,47098,1365,95,722,121572,79220,432,321,228,786,69,525,30745,9246,121572,6984,9893,104695,2236,3944,67476,65068,39777,12768,3078,881,109567,9031,1104,1870,51545,51532,5,8,51597,49280,2317,21196,13915,7511,6572,1540,597,266,49280,18572,17723,491,4662,1406,4966,611,849,49280,589,48691,2330,1211,2.4,6.2,3,49280,5865,18757,17894,4803,1961,77830,97478,14790,10056,14737,2845,11938,39125,3987,3282,3434,1331,227,1858,85617,11669,33014,12434,2068,2464,12260,4402,4238,1760,1308,473,601,211,776,59178,7034,10632,30875,10637,31643,1911,2453,19027,8252,27535,5123,8179,11848,2385,59178,340,141,3072,206,222,4376,8105,1917,2508,4438,3241,1008,6998,3131,2639,7212,6058,3566,59178,9368,14132,8980,6161,6134,4920,3541,1887,4055]
["Local Authority","Woking","Woking","E07000217",99198,49144,50054,98282,916,1701,6359.57,15.6,99198,7278,3722,2281,5578,1154,2263,1903,4961,6812,23593,19355,5455,7380,5137,1527,799,38.700000000000003,38,79185,23699,42467,148,1875,6144,4852,39467,4501,5998,3114,5153,8430,2389,2267,1243,216,1801,1134,1119,27,102,1973,1792,577,595,620,174,20,110,44,1618,557,485,576,99198,74335,1089,151,7351,411,299,975,650,2328,5682,450,870,2132,1012,270,101,549,543,99198,76226,452,1737,1047,15,859,3275,2027,13560,99198,9218,78242,961,5501,469,1793,3749,923,24,246,667,0,39467,34545,2406,411,2105,99198,58345,676,1952,214,7323,151,338,22931,7268,99198,5486,7399,86313,2112,3496,58734,51360,34291,10184,2602,761,89996,6662,973,1567,40652,40645,0,7,40691,39467,1224,12709,9872,7922,8689,919,448,132,39467,12479,15350,368,3308,1396,5745,441,380,39467,894,38573,3522,1889,2.5,5.7,2.9,39467,5984,16275,13019,3003,1186,56523,79185,12042,9471,11321,2067,8940,30374,4970,2029,2594,1224,221,1132,71722,8977,32336,8263,2313,2163,8242,2559,3954,1626,1289,598,501,261,900,51341,4878,8230,30103,8130,28025,1480,2161,18100,6284,23316,3398,6069,12003,1846,51341,90,191,3038,180,272,3275,7593,2787,2089,4217,2970,688,5509,2937,2714,4222,5321,3248,51341,6879,11765,7692,6010,4594,4342,3760,2456,3843]
["Local Authority","Warwick","Warwick","E07000222",137648,68650,68998,134590,3058,2264,28288.3,4.9000000000000004,137648,7920,4351,2777,7127,1422,2999,3604,11623,9321,28855,26409,8190,11882,7725,2277,1166,39.700000000000003,39,114051,40959,53111,234,2415,9786,7546,58679,7196,11404,5003,7337,9243,3077,3708,1791,191,3348,1705,1230,977,138,2331,3325,1236,1124,965,409,52,263,94,2916,1184,861,871,137648,114739,2146,41,5789,861,233,1070,639,6745,480,69,1155,1496,474,389,110,231,981,137648,116740,696,2270,2027,12,1656,2888,1861,9498,137648,19212,108933,1492,4400,374,653,2680,774,44,133,557,3,58679,54662,2056,250,1711,137648,80185,521,1633,268,1299,5373,531,37859,9979,137648,8763,11647,117238,3384,5209,82408,69660,46720,15719,4275,1274,124201,9714,1374,2359,60427,60380,5,42,60631,58679,1952,14748,18709,13049,10432,2818,761,114,58679,19157,19954,510,5337,2529,9786,727,679,58679,1230,57449,3830,1789,2.2999999999999998,5.7,2.9,58679,10848,24086,18413,3928,1404,79020,114051,18691,11539,14527,3770,16392,43836,5296,2690,9998,2284,369,7325,102883,13456,43062,10046,3118,3627,13319,9243,3011,2626,1375,735,677,336,1183,69608,7188,12096,40609,9715,36788,2364,2905,24310,7209,32820,4824,9191,16299,2506,69608,339,31,7205,1057,445,3762,10306,2211,3743,3896,1999,923,6705,3005,3407,8639,8339,3596,69608,8905,17365,9869,7464,6145,5472,4939,3168,6281]
["Local Authority","Horsham","Horsham","E07000227",131301,63806,67495,128633,2668,2579,53027.07,2.5,131301,7151,4379,2872,8469,1672,3551,2653,5660,5858,25242,29115,9109,13130,8717,2356,1367,42.1,44,106758,27914,59076,220,2313,9428,7807,54923,7456,8020,5905,8489,10357,3157,2801,1777,260,2474,1459,921,6,176,1665,2460,1023,744,693,257,25,188,44,2203,998,556,649,131301,121020,904,234,3904,364,260,725,425,734,165,209,472,1005,440,155,56,75,154,131301,116756,505,2150,1386,16,733,2038,1182,6535,131301,14523,111559,799,2484,249,709,1168,751,13,69,632,0,54923,52922,1221,112,668,131301,83316,420,355,199,673,92,532,35355,10359,131301,7857,11550,111894,2724,4760,73704,66403,45684,14580,3560,1074,117659,10133,1233,2276,56516,56503,3,10,56551,54923,1628,21844,14985,9613,8293,929,492,395,54923,20486,20440,363,672,5675,5772,708,807,54923,1116,53807,2929,1326,2.2999999999999998,5.9,2.9,54923,6497,21746,19483,5010,2187,85722,106758,17407,14155,18954,3627,13525,34814,4276,3231,2431,1187,126,1110,94318,13926,38028,12211,2557,2518,14601,3291,3949,2030,1207,677,649,227,965,66299,7634,12263,35840,10562,34830,2059,2728,21948,8095,31469,5575,9535,13892,2467,66299,799,94,5031,314,394,5081,10195,4047,2762,3222,4074,1194,5506,3738,2948,6390,6742,3768,66299,9358,12684,9836,7854,7385,6421,4561,2861,5339]
["Local Authority","Worthing","Worthing","E07000229",104640,50384,54256,102752,1888,1063,3248.21,32.200000000000003,104640,6346,3438,2121,5584,1180,2270,2209,5497,6013,21286,20546,6576,9941,7555,2504,1574,42.2,42,85971,27063,39247,249,2415,9657,7340,47044,7460,9430,4261,5448,6622,2043,2576,1759,184,2821,1425,950,49,216,1800,2818,1118,701,999,287,62,154,71,2531,1056,547,928,104640,93594,815,99,3628,437,337,658,404,783,171,544,474,1400,605,169,95,151,276,104640,92100,349,1362,961,12,696,1665,1451,6044,104640,16854,82469,610,2701,258,564,1396,385,7,90,297,0,47044,44466,1141,227,1210,104640,60817,600,546,227,1348,122,666,31577,8737,104640,9310,10966,84364,3595,4683,56119,46272,37777,15082,4355,1154,93761,7268,1319,2292,48311,48219,18,74,48690,47044,1646,10358,11079,10008,11540,4845,856,4,47044,16373,16248,217,988,3707,8424,678,409,47044,1666,45378,4312,1696,2.2000000000000002,5.0999999999999996,2.5,47044,11414,21310,11216,2276,828,54229,85971,18319,12320,14966,3147,10774,22314,4131,1997,2501,1283,215,988,74338,11186,29536,7982,2578,2348,11426,2277,2722,3087,1196,704,588,269,991,50611,5210,10129,29243,6029,26218,1600,2475,17599,4544,24393,3610,7654,11644,1485,50611,165,26,4266,611,741,3699,7972,2100,2238,1840,2831,747,2807,2387,3115,4086,8468,2512,50611,5437,8604,6735,6159,5668,5968,4665,2785,4590]
["Local Authority","Redditch","Redditch","E07000236",84214,41848,42366,83745,469,823,5424.98,15.5,84214,5629,3064,1822,4996,1047,2154,1875,5175,5995,17968,16989,5616,6751,3649,986,498,38.6,38,67656,21709,33069,120,1915,6819,4024,34722,3534,5748,2523,4992,5565,2243,2134,1667,183,2716,1171,944,2,53,1247,2703,881,788,1034,303,38,173,92,2400,843,615,942,84214,73591,629,9,3268,1053,75,317,210,720,2580,192,209,328,160,558,144,54,117,84214,75499,274,752,990,1,525,530,2581,3062,84214,17119,63021,377,2845,42,169,749,161,2,23,67,2,34722,32764,762,123,1073,84214,53434,154,206,52,2870,228,284,21712,5274,84214,6723,7643,69848,3150,4113,48509,39391,29354,10913,3522,1034,75325,5559,1176,2154,35371,35349,6,16,35439,34722,717,9493,10592,9653,4928,581,169,23,34722,9204,13592,134,5703,1648,3700,359,382,34722,522,34200,2560,1541,2.4,5.5,2.8,34722,7051,14165,10331,2322,853,45595,67656,16996,10683,11508,2537,8111,14007,3814,1927,2203,972,195,1026,62523,8991,27383,5090,2877,1879,8106,2394,2440,2374,989,840,639,315,1097,42922,3732,7966,26535,4689,22723,1117,1781,16119,3706,20199,2615,6185,10416,983,42922,178,6,8192,220,304,3109,8015,1972,1805,1410,1051,405,2039,2276,2072,3277,5085,1506,42922,4183,5625,4935,4907,5366,4003,3704,4768,5431]
["Local Authority","Bury","Bury","E08000002",185060,90588,94472,183025,2035,2472,9948.44,18.600000000000001,185060,12235,6875,4233,11361,2421,4827,4297,10688,11622,37977,37272,11712,16292,9623,2397,1228,39.200000000000003,40,147935,48695,70088,253,4323,14003,10573,78113,9658,14605,5997,9576,12409,4747,3875,3661,426,6102,3004,1644,24,180,2205,6088,2090,1971,2027,536,83,311,142,5552,2007,1660,1885,185060,157897,2357,72,4706,1307,444,1005,609,1387,9002,311,1100,1607,1116,593,184,465,898,185060,164590,979,2296,1073,7,1801,1592,2306,10416,185060,29294,148045,1578,3463,228,665,2562,457,13,67,215,1,78113,73462,2181,455,2015,185060,116036,453,817,10302,11279,301,422,34381,11069,185060,16733,18088,150239,7877,9424,101094,87128,61634,25430,8539,2329,165106,12493,2746,4715,81423,81414,5,4,81440,78113,3327,14699,30939,24269,9880,984,639,30,78113,24839,29556,247,7314,4389,9859,915,994,78113,1881,76232,4160,2838,2.2999999999999998,5.4,2.7,78113,18683,34373,20546,3477,1034,90387,147935,33377,20823,25408,5235,18217,37989,6886,4293,5173,2006,441,2697,134687,19118,53953,12220,5769,3620,19558,6074,5168,6596,2611,1849,1007,968,2206,88036,7014,17958,53696,9368,45419,2239,4725,31246,7209,42617,4775,13233,22450,2159,88036,121,49,8021,393,658,6262,15322,4358,4035,3159,3836,1370,5436,4124,5288,9487,12325,3792,88036,9415,15320,11204,10825,8896,8552,8537,6723,8564]
["Local Authority","Stockport","Stockport","E08000007",283275,138400,144875,280915,2360,3722,12606.18,22.5,283275,17342,9772,6036,16759,3544,7169,6162,15184,15896,57069,59052,18263,26515,17762,4441,2309,40.799999999999997,41,229822,73942,110934,385,5749,21084,17728,121979,16878,21657,10746,14452,19220,7743,5998,4910,588,9050,4700,2544,12,299,3182,8983,3030,2873,3080,950,129,530,291,8033,2901,2343,2789,283275,252044,3938,58,4779,1734,775,1460,1135,2786,6673,705,1722,1876,976,745,237,727,905,283275,256170,1388,3940,2407,9,2747,2223,1751,12640,283275,41128,233630,2562,3154,313,770,2680,599,23,98,432,1,121979,117068,2585,463,1863,283275,179055,853,1666,1340,9431,330,964,71126,18510,283275,24487,27772,231016,10520,13345,154930,135500,94251,37601,12505,3418,251293,21091,3921,6970,125810,125762,12,36,125975,121979,3996,26832,51895,27074,16736,2133,1230,75,121979,42761,46555,987,10577,6043,12631,1221,1204,121979,2837,119142,5870,3751,2.2999999999999998,5.6,2.8,121979,26781,52372,34324,6526,1976,149190,229822,47430,30962,36785,9276,27896,68506,8967,6321,7642,3162,543,3901,205310,29946,83049,19664,8002,5635,31395,8674,7139,8527,3279,2221,1696,954,3165,137130,12018,27267,82417,15428,70877,3847,6745,48574,11711,66253,8171,20522,33843,3717,137130,163,91,11700,918,681,10030,22003,7254,5910,5419,6758,2074,10588,6940,6791,14538,19039,6233,137130,15544,27091,18080,17082,13854,12830,13133,8141,11375]
["Local Authority","Liverpool","Liverpool","E08000012",466415,230483,235932,450085,16330,3283,11184.35,41.7,466415,26099,13590,8664,24315,5432,10811,18329,50636,39966,92015,86674,24418,34027,23709,5307,2423,37.700000000000003,35,388315,193012,125326,636,11738,31538,26065,206515,24610,56363,10151,14869,20378,11457,9257,7128,1012,21164,11016,4980,3531,757,9842,21047,6575,4091,10381,1670,278,568,824,19377,6297,3523,9557,466415,395485,6729,185,12272,3473,3164,2283,2836,4915,1999,1075,7978,3436,8490,1467,2351,5629,2648,466415,407334,4948,3196,4771,41,3294,4159,6448,32224,466415,81374,355741,4797,10041,650,4159,10182,1276,104,253,591,22,206515,191705,3996,1129,9685,466415,331217,2017,2437,2157,15209,531,1122,82701,29024,466415,59484,45136,361795,31281,26515,265053,217977,142132,65422,31162,9722,415853,26627,8950,14985,214149,213813,96,240,215939,206515,9424,15080,59429,87732,39534,11206,2917,41,206515,43803,53144,1096,9868,47617,44912,3378,2697,206515,9941,196574,20032,9359,2.2000000000000002,5.0999999999999996,2.7,206515,95281,78775,27031,4358,1070,150781,388315,111532,48659,55019,9866,59067,87126,17046,9621,46227,13255,4678,28221,356876,44816,116778,20676,23980,20020,41070,36781,13683,28453,10619,6416,3647,4727,9889,196630,19406,43241,115892,18091,100361,7300,12624,66989,13448,96269,12106,30617,48903,4643,196630,159,120,12330,581,1171,12708,30032,10918,14598,5447,7178,3219,9635,10013,13872,21362,32804,10483,196630,15005,34400,22029,24977,17627,20742,20772,14601,26477]
["Local Authority","Wirral","Wirral","E08000015",319783,153847,165936,316384,3399,3702,15704.94,20.399999999999999,319783,18514,10791,6886,19005,4089,8436,7338,18069,17939,58992,67018,21740,31319,21313,5481,2853,41.4,42,260498,88202,116267,466,6681,26806,22076,140583,20621,26708,11955,15175,18501,9129,5795,5406,733,12735,6259,2988,22,519,4037,12660,4225,2901,5534,1135,131,550,454,11525,4094,2351,5080,319783,303682,2667,77,3730,964,558,949,815,1344,226,851,1653,1042,389,189,117,208,322,319783,297231,1520,3377,4705,20,1929,2082,1602,7317,319783,58437,255651,1517,2416,217,496,1364,615,19,88,389,3,140583,137737,1398,283,1165,319783,225147,905,742,265,1809,236,830,68209,21640,319783,37898,34306,247579,17405,16925,165202,148028,102085,45687,18448,5535,279443,23879,5768,10693,145693,145611,32,50,145944,140583,5361,24382,59823,36170,17222,6317,2009,21,140583,46806,48037,713,7266,14063,20636,1639,1423,140583,4607,135976,5503,3280,2.2999999999999998,5.7,2.9,140583,39391,60656,32544,6199,1793,152252,260498,61014,35570,44986,11048,32688,65809,9383,7426,8419,3204,766,4388,230851,34513,83696,17334,11939,5758,38761,10491,9046,14724,4589,3638,2376,1994,4865,139929,12300,30867,82162,14600,71103,3796,7598,48654,11055,68826,8504,23269,33508,3545,139929,204,187,14043,642,1151,9701,20296,6228,6780,3411,4948,2312,8798,6289,10779,14484,22874,6802,139929,13034,24738,16816,18013,15208,15277,11971,10685,14187]
["Local Authority","Doncaster","Doncaster","E08000017",302402,149230,153172,297200,5202,2764,56799.22,5.3,302402,19220,10558,6514,17407,3794,7907,7236,19417,20239,58258,61864,18847,27109,17660,4346,2026,39.799999999999997,40,244909,78812,114918,439,6757,25226,18757,126487,16179,19925,10980,17141,17450,8041,6606,7234,931,9477,4418,3332,24,364,4385,9434,3252,2270,3912,798,112,416,270,8636,3140,1854,3642,302402,277740,1183,587,8556,1413,440,877,591,1865,2728,117,1121,1783,1309,778,250,231,833,302402,276369,824,4909,1604,27,963,2134,6646,8926,302402,70254,221612,785,7033,381,756,1895,364,8,36,215,6,126487,120820,1970,429,3268,302402,199320,683,881,79,4990,1140,932,73656,20721,302402,33644,31891,236867,15425,16549,161794,131738,102983,45748,16982,4951,269038,18918,5027,9419,130819,130757,17,45,131007,126487,4520,30115,58631,30944,8080,1416,1003,818,126487,39253,43507,418,19173,3230,17084,1690,2132,126487,1831,124656,5738,4173,2.2999999999999998,5.5,2.8,126487,35102,54987,28936,5768,1694,137706,244909,74119,37763,41607,10958,26126,41714,12622,6679,6466,2390,568,3466,220877,33112,80998,16196,12697,4767,34110,8765,10746,12958,6528,4134,2000,2138,4936,133815,11238,29342,78014,15221,71019,3400,7072,48221,12326,62796,7838,22270,29793,2895,133815,712,762,14254,977,1282,13018,26026,9277,6686,2874,3253,1099,4422,6512,7818,11407,17837,5599,133815,12078,15111,13199,13530,17283,13875,13922,14079,20738]
["Local Authority","North Tyneside","North Tyneside","E08000022",200801,96883,103918,199142,1659,1550,8239.1,24.4,200801,11732,6577,4076,10921,2407,4631,4421,10908,12411,41644,42719,13059,18096,12487,3155,1557,40.9,41,165088,53347,76835,316,4690,16724,13176,91295,12641,18319,7245,11653,12503,5223,4968,3759,513,7233,3206,1477,27,207,2321,7176,2523,2005,2648,674,78,373,223,6502,2445,1632,2425,200801,190936,596,29,2464,448,385,602,380,1095,319,686,869,846,576,91,67,177,235,200801,187083,705,4348,707,12,400,1503,892,5151,200801,35708,161290,417,1613,212,492,1175,311,29,46,284,2,91295,89079,1024,212,980,200801,128185,436,513,92,1493,354,528,56408,12792,200801,20246,21159,159396,9091,10474,110228,90031,66955,30156,10638,3021,178593,13789,2941,5478,94528,94514,5,9,94566,91295,3271,9674,39436,23569,17112,3906,830,39,91295,25611,33525,374,14610,5067,10146,1154,808,91295,1326,89969,3927,2110,2.2000000000000002,5.3,2.7,91295,28865,40879,18030,2877,644,88497,165088,39157,23183,26536,8685,19623,41734,6170,4028,5196,2409,419,2345,147889,21815,61349,9635,7304,4139,23497,5310,5048,7354,2438,1924,1505,1039,2965,96026,7344,19754,59032,9896,48859,2370,4530,34380,7579,47167,4974,15224,24652,2317,96026,127,393,7883,671,553,7054,13861,4270,4992,3917,3196,1267,4986,4125,10539,9789,14087,4316,96026,8205,16953,11624,13912,10077,8662,10312,6613,9668]
["Local Authority","Dudley","Dudley","E08000027",312925,153819,159106,310398,2527,2635,9795.66,31.9,312925,18867,10971,6963,18539,4164,8226,7473,18141,18947,61670,61220,19547,31502,19797,4673,2225,40.5,41,253421,79065,127176,310,6056,21164,19650,129867,17112,19540,13015,16016,20536,9745,6337,6240,670,8700,5054,3140,17,341,3404,8621,2776,2080,3765,795,88,410,297,7826,2688,1670,3468,312925,277050,1170,352,3035,3477,250,1277,754,5737,10339,397,876,1593,1402,2658,611,1259,688,312925,292258,512,1499,2025,14,914,1372,1412,12919,312925,74408,232081,716,2248,168,774,2862,439,4,45,155,3,129867,124639,2906,497,1825,312925,204320,657,1908,77,12902,3694,1032,68835,19500,312925,30578,32850,249497,12386,15648,167190,132825,111905,47828,15918,4449,274951,23156,5345,9473,133908,133872,10,26,134022,129867,4155,28835,64870,21636,15743,1635,1221,82,129867,45383,43921,707,21874,3845,10938,1066,2133,129867,4726,125141,7014,4851,2.4,5.4,2.7,129867,29896,54662,34774,7987,2548,159274,253421,75980,36286,42371,8888,30056,48584,11256,7369,7667,3095,742,3783,226726,33987,86654,17079,12064,5746,36619,9636,10355,10060,4526,3479,2237,2035,5401,141998,12833,29560,84436,15169,75348,3523,6888,52774,12163,66650,9310,22672,31662,3006,141998,137,63,19978,1563,1260,12996,25433,6283,5930,3387,4348,1716,6354,6094,8696,14033,17966,5761,141998,13478,19883,15304,18440,19393,13555,13294,13375,15276]
["Local Authority","Sandwell","Sandwell","E08000028",308063,151592,156471,305928,2135,1872,8556.73,36,308063,22669,12529,7665,19333,4038,8142,8040,20793,23085,64814,54884,15230,24520,16136,4096,2089,37.4,36,241829,85269,110033,354,7583,19435,19155,121498,15576,20359,8402,11682,18395,8002,4839,6142,757,10915,5502,5587,92,384,4864,10810,3186,2531,5093,855,99,389,367,9955,3087,2142,4726,308063,202822,2045,141,10463,6163,515,2043,1478,31400,13952,6588,839,6479,4396,11382,2579,901,3877,308063,256245,463,1065,1189,31,1482,1784,8075,37729,308063,74779,209104,1144,9947,224,2011,10338,1475,18,73,102,10,121498,104845,7741,1487,7425,308063,170075,654,6810,73,25251,26934,1816,57716,18734,308063,33248,31155,243660,14821,16538,163629,129182,107081,48087,18171,5542,274533,17785,5808,9937,127072,127029,20,23,127196,121498,5698,14273,55270,33357,21314,1567,1344,71,121498,32253,36882,701,27587,5852,14583,1091,2549,121498,4176,117322,10524,8315,2.5,5.0999999999999996,2.6,121498,41197,51922,22535,4557,1287,116304,241829,85040,34723,35543,6451,25245,37151,17676,7177,10350,3522,1260,5520,219508,29779,81339,13220,16049,6266,28582,11728,12859,12679,7007,4653,2550,3406,6937,128630,10279,26642,80299,11410,68739,3195,7968,48517,9059,59891,7084,18674,31782,2351,128630,132,30,18741,1201,1414,9761,23348,8499,6475,2417,4009,1803,4564,6795,6076,11140,16806,5419,128630,9515,14312,12186,15511,16116,13053,12618,15989,19330]
["Local Authority","Calderdale","Calderdale","E08000033",203826,99627,104199,202376,1450,2168,36392.21,5.6,203826,12906,7403,4579,12563,2730,5163,4736,11421,12089,41938,42482,13344,17593,10585,2831,1463,39.6,40,163645,52575,76463,491,4911,17205,12000,88621,11210,17813,6551,11525,12935,4419,5074,4411,483,6606,2736,2040,28,173,2617,6570,2310,1943,2317,746,119,436,191,5824,2191,1507,2126,203826,176732,1795,80,4180,1097,247,907,546,1130,13904,574,459,808,479,320,100,111,357,203826,184586,732,2311,948,13,1386,1424,2746,9680,203826,35646,161706,1029,3118,156,284,2475,298,8,22,277,6,88621,83685,2422,389,2125,203826,114667,593,616,153,14802,355,808,57193,14639,203826,16730,19870,167226,7768,10124,113281,94449,70007,28091,8929,2350,182457,14170,2690,4509,92173,92133,12,28,92310,88621,3689,13115,25239,39566,11808,1675,772,135,88621,27671,31310,397,4753,8741,13114,1431,1204,88621,4862,83759,5798,3031,2.2999999999999998,5.2,2.6,88621,24219,38305,21019,3902,1176,97298,163645,38943,22314,26507,7989,20079,40881,6932,4551,5247,2161,451,2620,148766,21923,57617,14071,7394,3888,22405,6156,5844,6510,2958,2149,1418,1106,3009,96645,8160,20474,56992,11019,50682,2667,5294,34304,8417,45963,5493,15180,22688,2602,96645,335,102,12897,268,849,7597,14100,3784,4263,2588,7678,1266,4766,3889,5137,10492,12615,4019,96645,10327,16340,12120,11282,11737,9455,7151,8552,9681]
["Local Authority","City of London","City of London","E09000001",7375,4091,3284,7187,188,78,289.77999999999997,25.5,7375,236,117,65,169,33,72,92,545,956,2045,1547,463,587,331,75,42,41.4,39,6755,3434,2235,117,174,524,271,4385,526,1946,137,513,243,58,351,63,5,91,62,34,30,16,310,91,22,47,22,20,7,10,3,71,15,37,19,7375,4243,180,3,1373,38,37,111,103,216,16,232,263,213,98,46,49,69,85,7375,4285,68,204,111,2,111,652,143,1799,7375,237,5347,173,843,117,88,364,321,6,69,275,1,4385,3546,279,37,523,7375,3344,92,145,166,409,18,28,2522,651,7375,328,520,6527,141,253,5326,4112,2374,643,190,56,6799,455,51,70,5513,5503,7,3,5530,4385,1145,22,12,80,4760,209,447,0,4385,1093,762,13,458,267,1451,122,219,4385,189,4196,1517,329,1.6,3.4,1.6,4385,3043,1100,173,51,18,1692,6755,454,291,445,47,484,4618,416,69,422,103,30,289,6307,360,3245,1036,187,144,580,363,153,116,123,29,44,25,65,4747,260,418,2252,1817,2883,137,190,1295,1261,1864,123,228,957,556,4747,2,9,69,5,6,78,228,78,214,379,1067,65,1265,176,196,326,248,336,4747,845,1894,1097,335,114,128,109,52,173]
["Local Authority","Bromley","Bromley","E09000006",309392,148588,160804,307023,2369,4757,15015.45,20.6,309392,20095,11161,6900,18612,3818,7912,6182,16119,17887,68132,62045,18492,25770,18452,5086,2729,39.9,40,248806,83650,120153,555,6730,20578,17140,130862,16856,23959,10661,14433,22527,8096,6389,4603,592,9631,4811,2988,56,426,4834,9591,2992,2729,3870,759,113,406,240,8832,2879,2323,3630,309392,239478,4463,580,16349,3897,1335,3016,2649,6215,1014,1265,2768,4805,9819,6609,2258,870,2002,309392,257039,1112,4070,2391,36,3256,5515,5262,30711,309392,29602,256502,3592,10303,1323,4963,4370,2212,58,677,1670,9,130862,120811,4970,1047,4034,309392,187656,1580,4987,957,7841,736,1138,80303,24194,309392,20472,25851,263069,7982,11787,177000,154998,105574,36098,9904,2818,278380,21274,3439,6299,135036,134923,36,77,135460,130862,4598,24890,40474,29223,29910,8548,2201,214,130862,43649,49136,1036,1987,16438,16229,1164,1223,130862,2614,128248,10456,5429,2.2999999999999998,5.5,2.8,130862,30723,59613,30909,7072,2545,153908,248806,44572,33858,40025,6773,28644,82304,12630,7170,8470,3103,643,4684,222539,29012,91506,26590,8668,5506,29656,10635,10614,6057,4295,2164,1811,1179,3521,151368,14237,26162,88330,22639,78416,4133,6572,50774,16937,72952,10104,19590,37556,5702,151368,160,170,5147,490,536,12577,18913,6075,5444,8729,15449,3058,15179,7586,10344,15743,16888,8880,151368,19784,32394,24488,23079,13956,11546,10194,6297,9630]
["Local Authority","Camden","Camden","E09000007",220338,107885,112453,212443,7895,2530,2179.6,101.1,220338,13168,6781,4117,9594,1805,3540,7178,21863,25923,59573,33564,9255,12937,7897,2048,1095,35.700000000000003,33,184873,101579,54600,1575,5346,14176,7597,97534,10113,29418,2593,7066,10277,2318,7295,1937,302,6290,3425,3044,2322,339,10795,6228,1640,1395,3193,400,79,147,174,5828,1561,1248,3019,220338,96937,7053,167,41898,2494,1800,3880,4148,6083,1489,12503,6493,8878,10802,3496,3762,3432,5023,220338,119565,1309,3708,2014,99,5211,17492,5875,65065,220338,10595,151560,6106,25367,3165,3708,13669,10066,305,1800,6292,19,97534,69420,11680,2379,14055,220338,74821,2789,3141,9823,26643,465,1267,56113,45276,220338,15531,16300,188507,8810,9784,142302,117692,67334,22963,9174,3175,203032,11551,2437,3318,99828,99127,166,535,102703,97534,5169,1961,4179,9040,53696,30640,3134,53,97534,16644,14724,674,22473,9822,29706,1728,1763,97534,3406,94128,31693,12198,2.2000000000000002,4,2.1,97534,59595,30991,5757,912,279,46601,184873,23451,12556,14454,1558,22340,93453,17061,3276,25130,4778,1452,18861,173833,13727,66955,23304,7755,6656,11908,22734,7874,7663,5257,1461,1404,1580,3068,108966,9690,15239,58926,25111,57653,3663,6276,30936,16778,51313,6027,8963,27990,8333,108966,62,190,1959,228,162,3143,10524,2843,6644,10690,10862,2232,19806,4426,3739,10941,11069,9446,108966,15366,34721,23711,9192,4665,6117,5923,2390,6881]
["Local Authority","Hammersmith and Fulham","Hammersmith and Fulham","E09000013",182493,88914,93579,180652,1841,2327,1640.4,111.2,182493,11900,5446,3113,7621,1550,2883,3483,17279,26021,52859,27248,6677,9102,5300,1297,714,34.700000000000003,32,152863,85433,45248,743,4425,11386,5628,80590,7058,23090,1621,6048,8914,1946,5838,1381,214,5791,3127,2379,1166,225,11792,5765,1452,1442,2871,339,47,156,136,5426,1405,1286,2735,182493,81989,6321,217,35695,2769,1495,2649,3131,3451,1612,1056,3140,7376,10552,7111,3842,5228,4859,182493,98491,1168,3128,1626,41,4874,16104,6023,51038,182493,10093,122034,5790,25449,2222,3544,7412,5491,247,1882,8084,16,80590,57861,9206,1860,11663,182493,98808,2060,2097,1161,18242,442,857,43487,15339,182493,11473,11485,159535,6549,6984,122917,103036,53374,17188,6531,2364,170159,7936,1867,2531,82390,81878,154,358,84214,80590,3624,1205,4135,17323,35918,23614,1970,49,80590,12777,14620,1257,12683,12450,24215,1340,1248,80590,2447,78143,22239,10178,2.2000000000000002,4.2,2.2000000000000002,80590,44524,29496,5661,730,179,43843,152863,19515,10725,12738,1768,16306,75765,16046,2623,13772,3824,869,9036,145552,11073,66703,17864,7060,5054,9135,11919,6645,5670,4429,1364,1102,1288,2708,99618,7074,12156,57191,23197,51215,2785,4334,28759,15337,48403,4289,7822,28432,7860,99618,80,252,2338,244,191,3991,10590,3207,6813,9586,9840,2901,16072,5403,3025,8188,9346,7551,99618,14537,26933,22021,9597,5423,6501,5430,2517,6659]
["Local Authority","Havering","Havering","E09000016",237232,114209,123023,235671,1561,2383,11236.35,21.1,237232,13661,8143,5087,14365,3132,6439,5787,14976,14662,46289,47853,14561,20561,15660,4196,1860,40.4,40,192844,63549,93587,196,4699,15492,15321,97199,13499,14716,8850,10548,15625,7961,4012,3849,570,7224,4217,2543,53,337,3195,7207,2217,1823,3167,570,89,312,169,6637,2128,1511,2998,237232,197615,2989,160,7185,1970,712,1154,1097,5017,1492,975,1459,2602,7581,2885,1015,311,1013,237232,209666,524,1575,1051,24,2503,1872,3650,16367,237232,29124,194839,2398,5341,530,3370,2692,698,10,138,411,2,97199,91739,2504,684,2272,237232,155597,760,2963,1159,4829,1928,648,53549,15799,237232,19466,21478,196288,7409,9735,133423,109131,84378,31492,9464,2767,212018,16094,3285,5835,99184,99150,9,25,99290,97199,2091,10823,40405,26166,18907,1523,1255,211,97199,34625,37073,586,10464,3335,9601,736,779,97199,1946,95253,7166,4014,2.4,5.3,2.8,97199,22364,42968,23831,5910,2126,117634,192844,50951,32241,33519,7238,21797,37498,9600,5668,6560,2436,586,3488,171128,23479,67989,17978,7627,4569,24404,7944,8374,5407,3357,2291,1446,1149,3093,112846,10760,20158,67861,14067,59597,2920,4904,40503,11270,53249,7840,15254,27358,2797,112846,97,63,6095,437,842,12972,16473,7536,3777,3924,11209,1686,7428,5326,7086,10462,12080,5353,112846,11019,15960,14716,19862,14734,9509,9282,8353,9411]
["Local Authority","Kingston upon Thames","Kingston upon Thames","E09000021",160060,78103,81957,156358,3702,2639,3724.69,43,160060,10964,5647,3319,8541,1799,3422,4643,13505,12358,38920,28602,7982,10241,6775,2136,1206,37,35,129790,51125,59646,362,2779,8981,6897,63639,6762,11436,3562,6851,12309,3576,3907,1901,237,3550,2049,1924,1267,177,4131,3541,1083,1075,1383,340,53,201,86,3201,1030,874,1297,160060,101015,2718,95,15391,1238,700,2500,1831,6325,3009,892,2883,13043,2616,1027,378,2439,1960,160060,110113,801,2230,1650,26,1981,6143,4878,32238,160060,11929,121863,2358,12314,1268,2869,8687,1574,65,604,1363,13,63639,51221,5300,1252,5866,160060,84684,1771,7502,775,9474,1236,802,41183,12633,160060,8605,11297,140158,3508,5679,100245,84332,53598,16425,4438,1267,146772,9331,1611,2346,65198,65092,27,79,65693,63639,2054,8317,20617,11764,18834,4876,1220,65,63639,17727,23035,434,5252,2250,13391,921,629,63639,1943,61696,8198,3805,2.5,5.2,2.7,63639,15997,30084,13740,2861,957,70421,129790,17400,12665,15792,2568,17482,53782,10101,3155,13227,4344,1280,7573,119673,13588,49530,14008,3850,6372,11281,10305,5616,2664,2459,879,804,526,1459,81957,8460,13695,47188,12614,43316,2873,4207,27130,9106,38641,5587,9488,20058,3508,81957,63,195,3026,301,264,4844,11922,3319,3966,6464,5076,1308,8805,4355,4608,9114,9004,5323,81957,10882,20651,13336,9397,6278,6185,6569,2737,5922]
["Local Authority","Lambeth","Lambeth","E09000022",303086,150921,152165,300101,2985,3186,2682.14,113,303086,20701,10196,6180,14754,2955,5576,5527,26702,43135,87291,47870,9012,12617,7725,1936,909,33.700000000000003,31,248300,144966,65017,2060,9524,18082,8651,130017,9208,35483,2270,7941,12402,3070,9944,3582,387,13559,5502,5304,859,227,20279,13512,3615,3509,6388,952,151,362,439,12560,3464,3147,5949,303086,118250,7456,195,47124,8302,4301,3574,6983,4983,3072,2221,4573,6089,35187,28886,14469,1728,5693,303086,176174,1698,4565,2800,100,5808,21775,11837,78329,303086,21434,208270,6913,39420,1701,10901,5867,7792,209,4685,7079,34,130017,97693,12913,3618,15793,303086,160944,2963,3119,1134,21500,440,1682,84803,26501,303086,18618,20053,264415,10432,12878,201803,160326,97286,31188,10729,3557,282609,13035,3172,4270,132213,131511,228,474,134231,130017,4214,3260,10946,21850,65091,31084,1960,40,130017,14778,28107,1987,25496,20123,36023,2110,1393,130017,4251,125766,34343,17616,2.2999999999999998,4.3,2.2999999999999998,130017,75214,45077,8147,1219,360,66791,248300,35352,21169,24408,2640,23988,115758,24985,5190,19056,6365,1990,10646,237730,22530,110465,26828,14255,9112,13265,16062,8411,9068,7734,2810,2304,2725,5824,166494,11298,23883,102572,28741,87062,4457,8586,54747,19272,79432,6841,15297,47825,9469,166494,66,214,3213,348,343,7299,16900,5660,12610,14489,11770,3326,23314,12403,9214,14825,17746,12754,166494,18152,42838,33620,16818,10691,12381,10128,5009,16857]
["Local Authority","Richmond upon Thames","Richmond upon Thames","E09000027",186990,91149,95841,184098,2892,3661,5741.52,32.6,186990,14038,6986,4121,9827,1966,3621,3498,9145,12546,49396,36408,10142,13023,8234,2503,1536,38.299999999999997,38,150052,55070,70998,665,3355,11916,8048,79835,9434,16574,4238,9223,15747,3532,5649,2409,230,3882,2382,1610,285,223,4417,3868,1175,1256,1437,365,60,218,87,3503,1115,1038,1350,186990,133582,4766,95,22282,1250,731,2857,1942,5202,1163,867,1753,4622,1643,840,333,1172,1890,186990,133657,1308,3833,2759,28,3295,8500,4214,29396,186990,11031,148370,4508,13627,1544,2690,4086,4300,139,765,4307,29,79835,68898,5321,833,4783,186990,103319,1577,3051,1409,6128,1581,890,53195,15840,186990,9137,12310,165543,3663,5776,115317,107217,57088,16662,4617,1406,171188,11816,1605,2381,82482,82375,31,76,82827,79835,2992,6932,19947,22290,23084,8407,1951,216,79835,23756,26994,601,2451,7600,16410,1030,993,79835,2055,77780,8006,3197,2.2999999999999998,5.2,2.7,79835,19751,40079,16289,2926,790,84918,150052,15915,11075,15916,2304,15920,79584,9338,3383,7331,2563,558,4195,137779,14207,61511,20467,4153,3752,13794,7383,6979,2802,2731,810,998,450,1560,99204,8813,14668,54424,21299,52434,2817,4106,30316,15195,46770,5996,10562,24108,6104,99204,52,563,3528,423,236,4283,10320,4036,3953,11256,7260,2154,15264,4743,4556,11113,8394,7070,99204,17333,29443,20379,9473,5249,6133,4501,2225,4468]
["Local Authority","Waltham Forest","Waltham Forest","E09000031",258249,128970,129279,256615,1634,2149,3881.4,66.5,258249,20839,10359,6104,14760,3056,6234,5951,20604,26508,65523,42962,9783,13413,8629,2267,1257,34.4,32,203131,88122,81286,727,7578,15412,10006,96861,8879,19877,3534,6725,15246,4899,4283,3504,460,8918,4325,5995,617,264,9335,8885,2262,2388,4235,644,136,285,223,8241,2126,2103,4012,258249,92999,3959,369,37472,4568,2403,2602,4193,9134,26347,4632,2579,11697,18815,18841,7135,3776,6728,258249,154572,741,1950,1094,80,3039,6997,23238,66538,258249,22479,176847,3338,32801,2571,8421,12848,3059,118,1059,1145,27,96861,67170,12527,3133,14031,258249,124939,1987,5917,1259,56541,1209,993,46462,18942,258249,17884,19744,220621,9114,11833,156618,121652,91954,31133,10053,3457,236976,12887,3426,4960,98279,98094,97,88,98749,96861,1888,4586,16668,36698,26856,12073,1826,42,96861,19396,28965,1018,10401,10975,23919,1183,1004,96861,3117,93744,22455,15118,2.6,4.7,2.4,96861,40583,40732,12225,2582,739,76217,203131,42262,24934,25845,3494,20340,60914,25342,5676,16931,5650,1878,9352,190978,21889,69385,23690,11654,8397,15335,15209,11429,7166,6824,2892,1775,2687,4458,121021,10793,23069,73926,13233,65849,4443,9331,42564,9511,55172,6350,13738,31362,3722,121021,70,51,4216,244,622,11547,16551,6647,9290,5861,5728,2290,8280,8185,6632,13508,13666,7633,121021,10590,21634,15236,14957,13762,10438,10300,7995,16109]
["Community Forum","N/A","Castle and Priory, St James's and St Thomas's Community Forum","CF03",42346,20790,21556,41933,413,284,1135.5,37.299999999999997,42346,3205,1817,1158,2770,606,1205,1089,2811,3101,8919,7690,1910,3201,2122,494,248,"N/A","N/A",32790,11695,14972,53,968,2737,2365,16695,1979,2860,1087,1645,2786,1081,791,890,102,1547,700,602,8,42,575,1526,432,289,805,113,12,41,60,1413,420,248,745,42346,31062,128,13,814,989,58,264,132,2183,3688,81,171,482,471,1267,259,128,156,42346,37034,56,166,172,2,107,221,502,4086,42346,11530,28811,67,722,29,230,998,127,1,2,13,2,16695,15054,848,168,625,42346,24360,131,912,3,4135,1242,157,8852,2554,42346,4619,4176,33551,2157,2310,22258,18100,14507,6486,2485,768,37473,2616,823,1434,17287,17281,3,3,17299,16695,604,2930,8496,3006,2498,234,132,3,16695,4070,5090,123,4285,858,1716,186,367,16695,592,16103,1397,982,2.5,"N/A","N/A",16695,5243,6752,3625,835,240,17557,32790,10894,4799,5270,862,3628,5504,1833,1072,1272,459,153,653,29926,4172,10772,1919,2157,857,3688,1535,1972,1898,956,626,325,475,928,17465,1512,3710,10531,1712,9390,432,1007,6589,1362,8075,1080,2703,3942,350,17465,20,12,2573,228,157,1424,3019,935,853,364,481,198,583,909,1018,1566,2437,688,17465,1405,2305,1678,1969,2275,1780,1725,2057,2271]
["Community Forum","N/A","Brierley Hill, Brockmoor and Pensnett Community Forum","CF04",26858,13280,13578,26694,164,133,913.6,29.4,26858,2032,980,602,1545,364,705,724,1924,2133,5621,4767,1463,2167,1388,301,142,"N/A","N/A",21335,8017,8975,17,626,2182,1518,11332,1323,2157,761,1213,1427,681,677,769,71,1055,453,338,2,35,370,1045,288,230,527,97,8,44,45,948,280,186,482,26858,24036,72,62,289,345,17,121,68,315,855,5,104,164,167,123,35,21,59,26858,25195,45,103,133,0,49,120,156,1057,26858,8751,17496,35,235,20,86,256,18,0,6,6,0,11332,10846,256,46,184,26858,16421,66,139,4,955,180,90,7285,1718,26858,2913,2898,21047,1395,1592,14350,10551,9718,4500,1650,439,23921,1574,480,883,11740,11734,2,4,11757,11332,425,1265,6184,2126,1830,196,148,8,11332,2612,3268,47,3350,424,1270,112,249,11332,612,10720,1049,657,2.4,"N/A","N/A",11332,3612,4890,2247,441,142,11329,21335,7728,3503,3676,617,2227,2508,1076,588,594,203,59,331,19504,2855,7383,1130,1462,404,2535,819,1179,1183,554,460,190,266,706,11656,979,2403,7120,1154,6274,249,605,4458,962,5382,730,1798,2662,192,11656,9,6,1972,106,121,1037,2316,613,590,221,223,106,340,641,561,771,1604,419,11656,846,1048,884,1208,1833,1263,1222,1557,1795]
["Community Forum","N/A","Belle Vale, Hayley Green and Cradley South Community Forum","CF09",25346,12387,12959,25289,57,262,870.4,29.1,25346,1540,872,558,1451,326,703,567,1444,1502,4855,5021,1690,2501,1717,412,187,"N/A","N/A",20599,6227,10457,26,470,1795,1624,10720,1519,1571,1087,1369,1745,750,506,472,38,713,435,227,1,20,267,708,228,190,290,65,4,47,14,643,224,143,276,25346,22778,131,6,210,223,31,109,77,182,319,27,79,123,123,104,51,640,133,25346,23713,46,128,186,0,85,110,83,995,25346,5535,19358,71,151,18,64,173,40,0,1,12,0,10720,10328,187,54,151,25346,16598,49,20,6,1164,142,57,5604,1706,25346,2330,2667,20349,912,1212,13658,11193,8935,3699,1187,332,22168,2051,415,712,11032,11025,2,5,11050,10720,330,1523,6041,1875,1478,60,63,10,10720,3808,3696,43,1687,377,848,84,177,10720,290,10430,507,358,2.4,"N/A","N/A",10720,2387,4506,2938,675,214,13358,20599,5806,2906,3471,709,2529,4385,793,651,626,248,57,315,18283,2742,7126,1421,876,485,3041,818,735,709,330,251,175,147,372,11644,1052,2400,6936,1256,6074,302,527,4262,983,5570,750,1873,2674,273,11644,14,4,1416,105,84,981,2040,527,493,319,448,166,623,493,750,1316,1341,524,11644,1066,1810,1461,1719,1428,1030,1012,931,1187]
["Township","N/A","Halesowen Township","T4",63118,30902,32216,62807,311,626,2318.83,27.22,63118,3720,2123,1358,3657,798,1704,1513,3663,3766,12240,12703,4150,6222,3997,1018,486,"N/A","N/A",51462,15802,26291,64,1202,4227,3876,26334,3587,3931,2629,3355,4312,2004,1260,1150,130,1623,1007,615,1,64,666,1609,525,419,665,137,10,89,38,1472,515,330,627,63118,54780,352,28,605,574,57,317,188,1320,2211,196,185,379,227,384,110,977,228,63118,58379,114,323,442,6,256,298,235,3065,63118,13207,48559,195,390,37,156,653,84,1,17,46,0,26334,25104,710,109,411,63118,40007,126,228,17,3678,1049,188,13852,3973,63118,5562,6583,50973,2225,3072,34442,27494,22750,9202,2892,780,55249,5130,1008,1731,27129,27120,3,6,27154,26334,820,4921,13490,5043,3294,185,209,12,26334,9807,9463,101,3173,824,2366,218,382,26334,814,25520,1153,907,2.4,"N/A","N/A",26334,5499,11395,7184,1690,566,33300,51462,14174,7384,8545,1895,6395,10888,2181,1563,1586,632,153,792,45961,6749,18149,3629,2229,1188,7509,2036,1925,1680,867,652,444,357,974,29405,2565,5970,17731,3139,15469,767,1407,10835,2460,13936,1798,4563,6896,679,29405,30,11,3633,242,219,2516,5129,1383,1269,783,1185,404,1520,1228,1884,3169,3511,1289,29405,2766,4461,3560,4362,3694,2585,2641,2460,2876]
["Early Help Cluster","N/A","Brierley Hill Early Help Cluster","EHC1",64631,31780,32851,64110,521,522,2048.9499999999998,31.54,64631,3737,2185,1390,3694,854,1610,1543,3760,3823,12696,12362,4335,7180,4099,906,457,"N/A","N/A",52771,15937,27036,48,1195,4431,4124,26977,3443,3800,3028,3523,4180,2051,1354,1338,147,1783,998,590,2,66,674,1765,559,466,740,176,17,95,64,1589,542,371,676,64631,60499,153,112,469,531,39,194,139,537,934,7,160,258,201,203,49,44,102,64631,61705,96,291,415,1,131,238,219,1535,64631,15798,47947,96,337,23,134,358,53,0,14,31,0,26977,26317,381,56,223,64631,44017,137,226,11,1094,283,193,14622,4048,64631,6445,6926,51260,2517,3224,34388,26820,23537,10033,3308,933,56745,4839,1044,2003,27698,27692,2,4,27715,26977,738,6421,14591,3601,2464,329,286,23,26977,9927,9286,82,4409,516,2150,201,406,26977,1092,25885,1564,991,2.4,"N/A","N/A",26977,5700,11484,7481,1739,573,34142,52771,15740,7716,9091,1989,6294,9656,2285,1409,1402,604,118,676,47309,7281,18335,3372,2407,1140,8329,1741,1937,1916,851,738,402,385,1107,29868,2727,6216,17715,3210,15804,715,1343,11111,2635,14064,2012,4873,6604,575,29868,33,14,4496,403,282,2742,5365,1195,1196,707,754,330,1209,1291,1866,2808,4045,1132,29868,2795,4027,3043,3801,4325,2978,2799,2882,3218]
["Early Help Cluster","N/A","Halesowen Early Help Cluster","EHC4",63118,30902,32216,62807,311,626,2318.83,27.22,63118,3720,2123,1358,3657,798,1704,1513,3663,3766,12240,12703,4150,6222,3997,1018,486,"N/A","N/A",51462,15802,26291,64,1202,4227,3876,26334,3587,3931,2629,3355,4312,2004,1260,1150,130,1623,1007,615,1,64,666,1609,525,419,665,137,10,89,38,1472,515,330,627,63118,54780,352,28,605,574,57,317,188,1320,2211,196,185,379,227,384,110,977,228,63118,58379,114,323,442,6,256,298,235,3065,63118,13207,48559,195,390,37,156,653,84,1,17,46,0,26334,25104,710,109,411,63118,40007,126,228,17,3678,1049,188,13852,3973,63118,5562,6583,50973,2225,3072,34442,27494,22750,9202,2892,780,55249,5130,1008,1731,27129,27120,3,6,27154,26334,820,4921,13490,5043,3294,185,209,12,26334,9807,9463,101,3173,824,2366,218,382,26334,814,25520,1153,907,2.4,"N/A","N/A",26334,5499,11395,7184,1690,566,33300,51462,14174,7384,8545,1895,6395,10888,2181,1563,1586,632,153,792,45961,6749,18149,3629,2229,1188,7509,2036,1925,1680,867,652,444,357,974,29405,2565,5970,17731,3139,15469,767,1407,10835,2460,13936,1798,4563,6896,679,29405,30,11,3633,242,219,2516,5129,1383,1269,783,1185,404,1520,1228,1884,3169,3511,1289,29405,2766,4461,3560,4362,3694,2585,2641,2460,2876]
["Ward Post June 2004","Brockmoor and Pensnett","Brockmoor and Pensnett Ward","E05001239",12923,6360,6563,12824,99,58,454.34,28.44,12923,942,491,289,786,190,368,364,848,932,2568,2366,707,1130,731,148,63,38.1,38,10225,3697,4496,7,290,968,767,5230,644,765,410,576,692,395,272,347,35,548,214,163,2,14,153,542,160,102,280,59,5,24,30,483,155,78,250,12923,11643,32,38,140,170,4,59,33,185,310,5,43,81,61,57,14,13,35,12923,12250,16,35,46,0,20,51,76,429,12923,4251,8396,16,118,9,33,101,11,0,3,4,0,5230,5030,116,23,61,12923,8232,31,54,2,362,130,29,3264,819,12923,1508,1435,9980,706,766,6681,4992,4606,2266,838,221,11426,761,270,466,5401,5401,0,0,5401,5230,171,756,3455,726,332,81,49,2,5230,1357,1528,20,1596,98,460,38,133,5230,225,5005,406,307,2.5,5,2.6,5230,1537,2331,1046,233,83,5484,10225,3965,1692,1707,300,1016,1015,530,309,293,104,25,164,9283,1381,3367,519,630,204,1315,417,601,586,263,190,88,123,304,5413,463,1169,3236,545,2916,105,288,2058,465,2497,358,881,1178,80,5413,5,3,989,52,69,507,1045,300,274,84,95,41,136,293,233,346,751,190,5413,375,420,345,546,889,613,557,795,873]
["Ward Post June 2004","Halesowen North","Halesowen North Ward","E05001244",12173,5948,6225,12155,18,102,342.18,35.57,12173,710,419,264,706,152,324,315,704,751,2411,2458,693,1173,830,193,70,40.6,41,9922,3169,4927,10,250,801,765,5120,737,814,481,597,824,354,253,222,35,319,199,131,0,20,134,314,123,78,113,19,4,11,4,295,119,67,109,12173,9905,81,2,100,143,9,67,47,669,541,141,30,102,32,147,16,120,21,12173,11077,21,55,57,0,56,60,43,804,12173,2490,9366,43,66,5,31,204,10,0,1,12,0,5120,4817,189,16,98,12173,7149,29,135,0,839,482,58,2706,775,12173,1131,1205,9837,450,578,6628,5074,4518,1829,596,156,10635,984,203,351,5292,5291,0,1,5298,5120,178,985,2437,1245,529,41,61,0,5120,1931,1878,24,472,208,503,51,53,5120,183,4937,215,199,2.4,5.5,2.7,5120,1096,2399,1256,282,87,6123,9922,2790,1453,1604,385,1254,1944,492,295,322,131,34,157,8829,1275,3551,671,416,237,1388,400,395,328,168,130,94,63,174,5674,487,1112,3513,562,2997,157,276,2121,443,2677,330,836,1392,119,5674,1,1,641,44,39,472,1019,294,258,157,242,84,258,218,372,567,729,278,5674,516,776,695,894,755,497,555,452,534]
["Ward Post June 2004","Lye and Stourbridge North","Lye and Stourbridge North Ward","E05001249",12346,6155,6191,12328,18,95,326.68,37.79,12346,863,456,311,743,166,316,265,745,824,2642,2424,790,1119,516,121,45,38.200000000000003,38,9807,3134,4796,12,300,964,601,5162,573,1061,374,640,777,360,287,236,21,361,174,157,1,8,132,360,116,84,160,37,9,17,11,323,107,67,149,12346,10178,43,19,112,83,7,41,22,98,1512,26,46,32,38,29,8,24,28,12346,11150,19,79,69,1,30,78,34,886,12346,2777,9216,31,109,11,27,216,9,0,0,10,0,5162,4779,218,42,123,12346,7043,30,36,7,1544,45,23,2880,738,12346,1160,1247,9939,581,674,6751,5260,4405,1833,655,193,11082,694,225,345,5369,5368,0,1,5377,5162,215,839,2517,897,857,156,106,5,5162,1566,1739,101,810,256,552,62,76,5162,218,4944,393,256,2.4,5.0999999999999996,2.6,5162,1303,2198,1283,281,97,6051,9807,2970,1554,1625,342,1254,1534,528,287,321,131,37,153,9125,1348,3356,709,550,229,1310,394,501,500,228,139,109,100,237,5578,480,1209,3336,553,3015,124,318,2107,466,2563,356,891,1229,87,5578,9,1,838,55,45,505,1086,336,255,122,166,48,217,247,295,472,659,222,5578,475,596,560,669,793,585,589,642,669]
["Ward Post June 2004","Pedmore and Stourbridge East","Pedmore and Stourbridge East Ward","E05001252",12471,6027,6444,12306,165,174,464.18,26.87,12471,610,378,248,638,143,292,241,549,555,2166,2530,941,1631,1159,251,139,45.1,47,10454,2626,5838,17,208,838,927,5295,787,620,804,732,833,413,251,173,26,216,214,111,0,18,97,213,68,81,64,26,5,16,5,187,63,65,59,12471,11519,71,14,113,44,8,72,24,172,262,12,46,46,12,21,7,10,18,12471,11614,26,86,177,2,52,73,44,397,12471,2140,10149,43,81,6,12,68,9,0,1,17,1,5295,5162,87,9,37,12471,8776,25,34,7,325,141,59,2366,738,12471,1079,1402,9990,336,533,6405,5418,4587,1832,491,143,10807,1125,207,332,5458,5458,0,0,5458,5295,163,2091,2040,665,564,66,32,0,5295,2403,1702,10,670,30,385,38,57,5295,88,5207,150,109,2.2999999999999998,6,3,5295,820,2092,1837,416,130,7590,10454,2481,1249,1594,332,1247,3133,418,275,284,115,22,144,8905,1322,3152,936,346,202,1825,370,349,291,112,72,98,35,163,5577,592,1169,3038,778,2958,167,300,1889,602,2619,425,869,1149,176,5577,4,2,653,38,35,420,946,192,215,190,226,98,466,213,335,693,611,240,5577,818,1178,752,700,549,408,434,305,433]
["Ward Post June 2004","St James's","St James's Ward","E05001254",14213,7159,7054,14073,140,112,357.13,39.799999999999997,14213,912,513,357,847,183,332,365,856,1003,3102,2790,664,1185,845,175,84,38.700000000000003,39,11401,3871,5126,25,353,1113,913,6164,883,1342,412,592,986,325,326,269,31,419,200,174,1,11,193,414,131,92,191,26,1,15,10,388,130,77,181,14213,10928,51,6,294,260,19,63,38,946,575,15,80,177,158,428,77,23,75,14213,12462,13,61,59,0,44,73,189,1312,14213,3444,9999,25,256,18,96,363,66,0,1,3,1,6164,5650,241,33,240,14213,8777,65,370,2,716,555,65,2786,877,14213,1590,1432,11191,692,747,7673,6090,4775,2275,824,249,12607,907,250,449,6364,6360,1,3,6374,6164,210,1227,2742,579,1634,128,62,2,6164,1455,1782,74,1389,570,679,93,122,6164,206,5958,494,283,2.2999999999999998,5,2.5,6164,1895,2483,1363,325,98,6606,11401,3507,1639,1831,317,1292,2183,632,298,473,190,48,232,10297,1414,4052,654,678,318,1372,471,503,573,262,171,124,135,291,6365,539,1243,3916,667,3455,162,295,2472,526,2910,377,948,1444,141,6365,6,6,959,79,55,482,1097,292,292,147,178,82,221,287,403,594,952,233,6365,535,933,682,760,810,594,629,667,755]
["Ward Post June 2004","Wordsley","Wordsley Ward","E05001259",12582,6190,6392,12440,142,91,292.02999999999997,43.08,12582,643,450,264,679,125,265,290,660,744,2636,2332,878,1693,698,137,88,41.9,42,10421,2855,5755,15,190,813,793,5220,604,665,680,769,882,450,283,225,22,266,180,86,0,9,99,263,106,81,76,30,5,17,8,233,101,64,68,12582,12183,20,2,67,61,7,22,18,59,29,1,11,33,4,35,4,9,17,12582,12228,19,49,68,1,20,47,24,126,12582,2573,9934,12,38,1,4,22,11,0,2,4,0,5220,5166,34,5,15,12582,8971,23,14,1,49,26,46,2753,699,12582,1221,1290,10071,439,579,6787,5240,4685,1887,578,192,11073,972,190,347,5337,5337,0,0,5337,5220,117,1232,3178,518,315,42,52,0,5220,2148,2144,21,386,64,374,35,48,5220,198,5022,211,110,2.4,5.4,2.8,5220,661,2413,1645,386,115,7349,10421,2803,1485,1844,476,1376,2039,398,235,294,150,23,121,9498,1442,3854,739,367,246,1914,300,242,287,107,111,71,44,156,6228,539,1258,3737,694,3233,139,231,2290,573,2995,400,1027,1447,121,6228,6,3,890,98,53,583,1097,218,189,159,167,81,255,230,463,587,891,258,6228,583,888,733,832,909,646,589,528,520]
["Lower Super Output Area 2011","Dudley 028B","LSOA Code E01009723 / Name Dudley 028B","E01009723",1258,637,621,1258,0,18,24.46,51.43,1258,53,49,34,76,17,34,43,73,60,237,355,99,89,30,6,3,39.200000000000003,42,1029,271,610,2,16,89,41,466,19,55,29,92,107,59,21,23,1,19,15,14,0,1,11,18,6,7,5,2,0,0,2,16,6,7,3,1258,1191,4,1,4,7,0,3,1,32,3,0,0,2,0,2,0,2,6,1258,1199,1,13,13,0,3,3,2,24,1258,118,1134,2,1,0,1,5,0,0,0,0,0,466,454,11,0,1,1258,896,2,9,0,4,26,4,255,62,1258,59,99,1100,30,60,811,620,468,134,23,13,1115,109,17,17,473,473,0,0,473,466,7,380,73,3,15,1,1,0,466,166,262,11,1,1,21,3,1,466,7,459,4,9,2.7,6.4,3.2,466,22,158,211,55,20,828,1029,159,143,229,43,143,269,43,30,42,21,6,15,990,168,458,93,22,35,124,37,27,15,11,6,9,2,5,744,62,159,447,76,392,21,32,277,62,352,41,127,170,14,744,0,2,103,8,5,53,150,14,22,18,37,6,58,29,59,74,82,24,744,85,107,88,128,92,64,76,50,54]
["Lower Super Output Area 2011","Dudley 028C","LSOA Code E01009724 / Name Dudley 028C","E01009724",1497,732,765,1497,0,18,31.37,47.72,1497,83,44,33,73,21,33,26,82,95,321,398,107,116,47,17,1,40,42,1243,334,720,3,29,92,65,623,51,102,44,118,124,68,40,22,4,25,11,6,0,1,7,25,12,7,6,4,0,4,0,21,12,3,6,1497,1477,2,1,3,2,0,1,1,1,3,0,3,0,0,3,0,0,0,1497,1474,1,2,10,0,1,2,1,6,1497,201,1294,0,2,0,0,0,1,0,0,0,0,623,621,2,0,0,1497,1100,0,1,0,1,0,3,295,97,1497,81,114,1302,45,64,953,744,531,168,43,11,1288,160,27,22,628,628,0,0,628,623,5,351,199,44,32,2,0,0,623,255,322,6,2,0,34,3,1,623,25,598,7,4,2.4,5.8,2.8,623,47,250,244,55,27,1015,1243,206,195,240,56,222,271,53,33,37,21,3,13,1178,205,545,116,27,34,146,37,33,27,8,9,5,4,10,894,71,186,551,86,469,13,40,341,75,425,58,146,210,11,894,0,0,124,13,2,93,171,38,25,19,44,13,33,27,71,78,109,34,894,95,116,110,159,138,75,85,61,55]
["Lower Super Output Area 2011","Dudley 027E","LSOA Code E01009729 / Name Dudley 027E","E01009729",1570,787,783,1570,0,14,28.59,54.91,1570,100,52,27,106,19,40,35,88,106,301,302,96,184,82,28,4,40.200000000000003,40,1266,371,689,1,25,89,91,620,84,56,75,79,94,73,22,35,5,46,15,19,0,1,16,46,11,14,21,5,0,3,2,41,11,11,19,1570,1487,0,4,10,25,4,4,2,7,23,0,0,1,0,3,0,0,0,1570,1527,1,5,2,0,0,5,5,25,1570,416,1134,0,11,0,0,11,0,0,0,0,0,620,612,4,0,4,1570,1035,1,3,0,24,1,5,416,85,1570,148,161,1261,50,77,841,669,578,221,81,21,1389,114,25,42,633,633,0,0,633,620,13,153,414,54,9,0,3,0,620,239,202,0,118,0,41,8,12,620,22,598,44,30,2.5,5.3,2.7,620,107,297,162,39,15,800,1266,447,173,226,47,152,169,52,34,45,21,3,21,1152,179,449,77,52,36,214,45,44,34,22,18,11,12,21,737,71,150,436,80,396,18,36,274,68,341,53,114,162,12,737,0,0,116,10,5,74,144,31,25,8,20,8,31,31,46,55,109,24,737,84,74,59,94,109,77,78,74,88]
["Lower Super Output Area 2011","Dudley 039B","LSOA Code E01009733 / Name Dudley 039B","E01009733",1779,887,892,1762,17,7,27.86,63.85,1779,165,74,37,77,19,29,38,168,169,364,282,89,131,92,32,13,36.799999999999997,34,1407,577,421,1,62,236,110,929,169,327,21,63,77,24,43,41,0,91,32,15,0,2,24,91,16,18,57,13,0,9,4,78,16,9,53,1779,1297,12,1,37,18,13,7,12,18,29,6,10,38,71,12,5,163,30,1779,1474,3,7,10,0,9,13,14,249,1779,534,1116,12,43,4,28,51,2,0,0,2,0,929,817,27,23,62,1779,912,11,5,1,261,12,5,428,144,1779,227,197,1355,117,108,914,649,610,345,139,36,1624,86,29,40,951,947,1,3,959,929,30,37,67,159,669,11,16,0,929,92,104,4,572,39,75,9,34,929,25,904,89,45,1.9,4.3,2.2000000000000002,929,508,326,87,7,1,525,1407,549,219,195,28,131,210,75,24,48,13,6,29,1270,152,388,62,167,24,155,56,92,117,57,45,28,29,72,618,56,126,382,54,324,18,34,227,45,294,38,92,155,9,618,1,0,79,4,5,39,115,26,49,14,26,9,29,40,29,47,80,26,618,53,66,64,87,70,55,56,69,98]
["Lower Super Output Area 2011","Dudley 034E","LSOA Code E01009738 / Name Dudley 034E","E01009738",1558,750,808,1558,0,14,32.4,48.09,1558,108,66,42,94,26,54,52,67,79,319,275,95,134,86,46,15,39.5,39,1222,372,610,0,27,98,115,607,90,72,54,63,124,47,17,30,1,38,38,15,0,3,15,37,6,15,16,3,0,3,0,34,6,12,16,1558,1384,9,0,6,9,0,8,1,10,27,0,15,7,5,3,0,70,4,1558,1444,7,5,12,0,7,9,3,71,1558,357,1175,6,6,0,3,11,2,0,0,0,0,607,582,19,2,4,1558,1012,2,0,0,106,6,5,327,100,1558,157,170,1231,51,83,807,700,514,236,74,34,1374,108,29,47,619,619,0,0,619,607,12,44,519,44,8,2,0,2,607,210,225,3,125,5,21,5,13,607,23,584,19,20,2.6,5.7,2.9,607,139,250,161,46,11,757,1222,420,190,187,45,148,190,42,50,51,21,4,26,1075,138,411,73,59,37,175,67,60,42,13,17,15,11,22,649,49,133,403,64,345,15,25,252,53,304,34,108,151,11,649,1,0,90,9,10,65,121,32,26,16,24,7,32,24,37,53,78,24,649,46,88,78,96,103,59,51,55,73]
["Lower Super Output Area 2011","Dudley 039C","LSOA Code E01009739 / Name Dudley 039C","E01009739",1537,756,781,1537,0,12,29.14,52.75,1537,96,66,37,84,24,41,31,95,79,356,277,78,163,87,15,8,39.299999999999997,40,1230,402,603,2,36,115,72,640,63,90,72,72,101,48,24,38,6,59,35,11,0,0,21,58,19,17,22,6,2,4,0,52,17,13,22,1537,1400,8,0,7,23,1,6,5,7,14,4,6,6,3,5,4,34,4,1537,1454,3,5,9,0,5,3,4,54,1537,383,1124,6,6,1,4,10,6,0,0,0,0,640,619,12,2,7,1537,1031,2,0,2,45,5,3,360,89,1537,126,189,1222,57,79,821,644,582,210,84,17,1365,103,21,48,661,661,0,0,661,640,21,55,279,293,24,3,7,0,640,194,252,1,98,4,79,3,9,640,28,612,40,28,2.4,5.2,2.6,640,145,290,161,34,10,755,1230,379,192,193,41,146,233,46,39,31,11,4,16,1120,178,441,90,53,25,180,46,44,37,26,16,7,7,25,724,75,144,425,80,375,20,26,265,64,349,55,118,160,16,724,1,0,93,7,6,63,156,41,25,10,17,3,26,35,43,86,81,31,724,49,96,88,86,102,60,87,63,93]
["Lower Super Output Area 2011","Dudley 023D","LSOA Code E01009743 / Name Dudley 023D","E01009743",1795,862,933,1794,1,8,46.11,38.93,1795,144,80,66,153,38,54,44,106,111,384,281,80,150,82,13,9,35.200000000000003,33,1314,503,512,4,37,161,97,696,98,92,49,61,99,29,30,59,5,90,31,26,0,1,26,90,29,14,47,5,0,3,2,85,29,11,45,1795,1681,3,10,9,27,0,13,5,15,10,0,2,3,5,9,2,0,1,1795,1730,3,8,7,0,3,4,7,33,1795,774,1002,1,9,0,1,7,1,0,0,0,0,696,682,7,2,5,1795,1064,2,8,0,9,10,14,559,129,1795,175,217,1403,77,109,874,660,677,334,101,23,1612,86,23,74,715,715,0,0,715,696,19,38,610,32,32,1,1,1,696,117,179,2,347,2,23,8,18,696,29,667,82,70,2.6,4.7,2.4,696,240,317,122,13,4,616,1314,592,235,206,19,118,93,51,44,41,12,4,25,1210,188,392,60,121,24,156,63,110,63,33,38,16,21,71,658,74,139,394,51,346,13,34,251,48,312,61,105,143,3,658,0,0,130,4,6,61,137,27,27,9,3,6,16,43,26,35,104,24,658,38,37,37,51,96,88,74,108,129]
["Lower Super Output Area 2011","Dudley 013A","LSOA Code E01009748 / Name Dudley 013A","E01009748",1636,796,840,1627,9,8,95.98,17.05,1636,152,64,42,94,23,47,56,117,111,321,282,77,148,86,9,7,36.4,35,1261,488,492,4,42,143,92,649,100,73,38,62,85,35,25,53,4,95,29,23,2,2,23,95,23,16,56,7,0,4,3,88,23,12,53,1636,1433,6,1,24,16,1,9,7,40,23,0,1,23,23,12,2,13,2,1636,1524,1,2,3,0,2,4,14,86,1636,625,955,1,22,0,11,18,4,0,1,0,0,649,614,21,6,8,1636,1009,7,13,0,38,30,4,420,115,1636,198,161,1277,103,80,828,618,586,285,114,33,1485,60,36,55,667,667,0,0,667,649,18,104,488,29,23,18,5,0,649,112,138,2,318,4,47,6,22,649,25,624,63,46,2.5,4.9000000000000004,2.5,649,252,261,105,25,6,573,1261,542,199,205,28,96,120,71,38,50,15,2,33,1159,149,356,61,85,26,157,62,109,103,51,26,14,23,43,587,42,137,333,75,313,6,34,206,67,274,36,103,127,8,587,3,1,95,5,12,57,109,52,35,8,6,3,17,31,16,37,83,17,587,35,50,31,45,91,66,61,97,111]
["Lower Super Output Area 2011","Dudley 017C","LSOA Code E01009753 / Name Dudley 017C","E01009753",1578,754,824,1578,0,7,43.16,36.56,1578,131,73,53,124,36,59,42,107,103,302,259,76,114,78,19,2,35,33,1161,487,443,2,33,105,91,615,87,77,29,50,83,38,24,61,5,92,24,23,0,2,20,91,34,13,44,8,1,2,5,83,33,11,39,1578,1460,2,9,7,37,2,12,1,6,10,0,9,16,0,1,1,0,5,1578,1526,0,6,2,0,2,2,4,36,1578,562,996,2,5,3,0,15,1,0,0,0,0,615,602,8,2,3,1578,970,3,0,0,15,8,2,489,91,1578,182,153,1243,86,74,788,620,560,272,94,32,1417,53,44,64,630,630,0,0,630,615,15,43,431,114,39,0,3,0,615,100,122,0,291,34,42,1,25,615,13,602,64,42,2.6,4.8,2.5,615,212,280,96,22,5,558,1161,466,212,214,31,103,91,44,52,26,5,3,18,1062,163,344,47,90,22,159,59,83,62,33,22,11,14,52,568,47,138,323,60,302,12,27,212,51,266,35,111,111,9,568,0,0,86,6,5,62,115,22,25,11,8,5,11,33,19,40,98,22,568,35,31,26,38,100,94,69,72,103]
["Lower Super Output Area 2011","Dudley 017D","LSOA Code E01009754 / Name Dudley 017D","E01009754",1641,792,849,1641,0,3,56.82,28.88,1641,127,54,48,92,21,51,42,117,151,312,322,85,124,74,15,6,36.9,36,1299,465,605,0,31,110,88,640,78,71,37,74,89,72,35,39,4,70,30,23,0,3,15,66,16,15,35,5,1,1,3,61,15,14,32,1641,1435,3,4,29,20,0,8,11,21,71,0,4,6,10,9,1,0,9,1641,1529,4,3,4,0,2,5,15,79,1641,539,1056,3,19,1,10,13,2,0,0,0,0,640,603,20,6,11,1641,1003,1,5,0,88,17,4,383,140,1641,177,164,1300,92,99,889,655,569,275,111,31,1449,101,31,60,662,662,0,0,662,640,22,120,462,63,6,1,10,0,640,163,208,1,179,20,48,4,17,640,25,615,43,39,2.6,5.0999999999999996,2.6,640,177,289,124,35,15,705,1299,452,231,207,41,114,151,103,41,27,14,1,12,1204,188,485,58,87,27,147,45,74,68,25,31,18,23,34,752,72,147,456,77,403,16,36,284,67,349,56,111,172,10,752,0,0,142,8,5,70,156,27,42,12,13,7,20,42,34,43,98,33,752,47,62,55,74,127,71,92,95,129]
["Lower Super Output Area 2011","Dudley 005B","LSOA Code E01009760 / Name Dudley 005B","E01009760",1317,652,665,1317,0,9,22.89,57.54,1317,101,59,25,77,26,39,30,92,82,247,261,57,110,87,13,11,38.4,39,1029,349,507,0,30,70,73,505,56,53,52,45,82,53,16,36,7,55,24,11,0,4,11,54,16,13,25,6,0,4,2,48,16,9,23,1317,1206,9,0,9,14,0,2,11,20,8,0,0,2,7,15,10,1,3,1317,1251,1,9,7,0,5,8,1,35,1317,384,909,8,2,3,2,8,2,0,0,0,0,505,497,5,0,3,1317,860,1,5,0,8,12,1,344,86,1317,158,119,1040,66,59,683,550,461,202,76,28,1147,83,30,57,529,529,0,0,529,505,24,34,446,41,2,4,2,0,505,164,195,2,94,1,36,1,12,505,34,471,24,20,2.6,5.4,2.9,505,141,219,117,21,7,546,1029,366,159,165,42,129,125,43,33,36,19,3,13,918,168,329,67,43,27,117,44,60,45,18,17,9,15,18,584,58,147,330,49,314,15,39,217,43,270,43,108,113,6,584,0,0,100,2,3,78,113,15,32,8,8,7,13,28,34,55,67,21,584,40,47,46,66,117,58,55,63,92]
["Lower Super Output Area 2011","Dudley 004A","LSOA Code E01009765 / Name Dudley 004A","E01009765",1604,799,805,1604,0,13,26.65,60.19,1604,83,67,41,92,22,35,46,73,88,328,337,97,186,88,17,4,40.6,41.5,1299,378,749,2,28,62,80,641,75,70,78,94,115,69,24,38,1,36,20,8,0,2,11,36,18,5,13,2,0,1,1,34,18,4,12,1604,1490,3,1,10,17,0,7,1,45,6,0,7,1,4,11,0,0,1,1604,1544,1,7,5,0,2,6,6,33,1604,333,1252,2,8,0,5,6,0,0,0,0,0,641,622,12,0,7,1604,1161,0,15,0,12,24,7,326,59,1604,140,178,1286,56,76,872,657,606,230,94,17,1386,143,31,44,667,667,0,0,667,641,26,117,415,118,13,3,1,0,641,268,257,1,53,4,51,4,3,641,32,609,25,15,2.5,5.4,2.8,641,120,297,172,41,11,812,1299,400,209,228,59,171,170,62,34,41,19,5,16,1190,190,500,68,46,30,215,45,46,38,12,13,12,7,20,781,74,148,494,65,402,14,25,312,51,379,60,123,182,14,781,0,0,134,10,10,85,143,35,23,16,17,10,19,37,44,77,95,26,781,64,75,74,120,120,85,73,84,86]
["Lower Super Output Area 2011","Dudley 001E","LSOA Code E01009770 / Name Dudley 001E","E01009770",1453,710,743,1453,0,5,25.51,56.96,1453,100,49,26,72,12,37,39,94,85,271,283,87,158,120,15,5,41.3,42,1194,372,584,3,26,106,103,634,92,99,64,77,72,46,28,37,1,51,33,20,0,3,11,51,14,10,27,3,0,2,1,48,14,8,26,1453,1286,6,7,14,24,0,3,1,55,14,0,0,10,13,13,1,0,6,1453,1387,2,4,4,0,4,4,9,39,1453,433,992,3,12,0,6,7,1,0,0,0,0,634,613,12,2,7,1453,986,2,18,0,20,47,3,307,70,1453,156,178,1119,61,81,754,568,527,242,88,28,1280,89,35,49,650,650,0,0,650,634,16,167,282,54,136,4,7,0,634,235,171,0,162,25,21,3,17,634,39,595,41,25,2.2999999999999998,5,2.6,634,196,262,133,33,10,669,1194,481,178,195,40,121,131,48,34,33,10,3,20,1054,150,366,72,59,21,189,47,63,54,33,19,15,12,28,603,43,140,361,59,310,11,33,217,49,293,32,107,144,10,603,2,0,88,9,14,39,134,46,21,14,19,4,17,27,22,49,75,23,603,62,48,51,53,87,62,76,79,85]
["Lower Super Output Area 2011","Dudley 004D","LSOA Code E01009771 / Name Dudley 004D","E01009771",1392,667,725,1338,54,7,38.67,36,1392,44,28,23,48,13,21,22,61,55,214,247,79,225,241,45,26,51.4,53,1236,301,666,2,11,71,185,640,147,62,124,72,71,57,32,23,0,14,28,4,0,0,6,14,5,7,2,1,0,1,0,13,5,6,2,1392,1339,3,0,12,10,0,0,2,11,0,0,4,5,0,5,1,0,0,1392,1346,2,5,7,0,3,5,7,17,1392,365,1016,2,6,0,1,3,0,0,0,0,0,640,630,5,1,4,1392,1111,3,1,0,3,10,3,189,72,1392,219,213,960,32,37,630,472,472,328,93,27,1192,124,22,54,654,654,0,0,654,640,14,92,463,41,51,5,2,0,640,377,188,2,5,31,26,4,7,640,13,627,10,7,2.1,5.6,2.8,640,142,289,164,36,9,768,1236,480,164,162,54,139,182,55,20,26,12,2,11,924,136,367,63,27,18,238,28,21,20,6,4,8,1,12,580,42,121,366,51,302,6,29,230,37,278,36,92,136,14,580,0,0,94,6,9,69,111,18,14,10,19,8,20,19,38,64,56,25,580,43,73,59,92,102,55,58,52,46]
["Lower Super Output Area 2011","Dudley 004F","LSOA Code E01009776 / Name Dudley 004F","E01009776",1534,758,776,1534,0,9,61.16,25.08,1534,79,47,33,104,23,46,41,85,69,298,296,110,150,127,18,8,41.5,42,1248,353,723,4,23,60,85,590,76,45,77,82,121,68,27,23,6,28,15,10,0,3,9,28,5,11,12,2,0,1,1,26,5,10,11,1534,1454,1,1,15,4,0,4,0,22,2,6,3,0,11,4,6,1,0,1534,1472,1,3,13,0,2,9,7,27,1534,361,1153,2,16,0,2,2,0,0,0,0,0,590,578,3,2,7,1534,1137,0,6,1,7,18,7,286,72,1534,144,171,1219,62,80,803,674,543,236,66,15,1344,119,24,47,606,606,0,0,606,590,16,125,434,33,6,2,6,0,590,270,242,1,38,1,28,2,8,590,29,561,10,14,2.6,5.9,3,590,104,244,166,60,16,825,1248,370,176,215,62,162,205,58,43,45,26,6,13,1095,166,447,80,42,44,181,46,49,38,2,14,10,9,18,724,67,144,437,76,390,22,34,273,61,334,45,110,164,15,724,1,1,98,10,5,84,134,29,24,13,8,4,30,23,56,80,104,20,724,63,95,84,83,110,79,85,62,63]
["Lower Super Output Area 2011","Dudley 007A","LSOA Code E01009781 / Name Dudley 007A","E01009781",1899,940,959,1899,0,10,45.12,42.09,1899,120,62,38,103,21,33,52,127,121,451,343,107,175,119,16,11,39.6,40,1555,523,696,0,38,177,121,890,140,200,59,111,116,41,42,54,4,56,29,13,1,2,22,56,15,16,25,6,0,4,2,50,15,12,23,1899,1796,9,1,7,15,1,6,5,18,3,0,1,1,7,20,7,1,1,1899,1842,2,4,8,0,8,5,3,27,1899,495,1386,7,4,0,5,2,2,0,0,0,0,890,885,4,0,1,1899,1332,2,8,0,1,0,13,436,107,1899,170,206,1523,70,106,1058,824,662,282,98,33,1698,123,43,35,908,907,0,1,914,890,24,206,255,145,272,22,14,0,890,221,252,21,167,142,67,7,13,890,33,857,75,31,2.1,4.9000000000000004,2.4,890,275,358,205,39,13,941,1555,504,214,271,42,192,269,63,30,43,19,6,18,1409,195,564,113,99,32,203,45,66,66,26,24,21,12,50,896,68,176,553,99,476,22,29,342,83,420,46,147,211,16,896,0,0,149,9,8,88,156,36,34,25,29,7,19,45,58,82,122,29,896,94,114,84,122,127,80,82,86,107]
["Lower Super Output Area 2011","Dudley 008C","LSOA Code E01009783 / Name Dudley 008C","E01009783",1467,737,730,1467,0,10,41.41,35.43,1467,87,48,41,91,16,43,47,84,103,256,302,79,136,108,22,4,40,41,1184,414,539,4,39,96,92,597,73,71,56,58,84,55,27,29,1,65,41,19,0,4,14,65,25,13,27,5,0,3,2,60,25,10,25,1467,1406,4,5,6,12,1,0,3,12,6,0,0,4,4,2,0,0,2,1467,1427,1,5,7,0,6,3,2,16,1467,509,948,4,4,0,3,2,0,0,0,0,0,597,585,8,2,2,1467,1030,3,0,0,8,11,3,315,97,1467,150,176,1141,56,85,773,570,529,253,92,23,1295,89,24,59,606,605,0,1,609,597,12,68,349,147,32,8,5,0,597,162,189,0,193,2,41,3,7,597,28,569,29,15,2.5,5.3,2.8,597,167,281,115,25,9,625,1184,467,187,186,43,129,130,42,35,35,10,3,21,1050,162,376,72,75,20,156,53,57,62,17,33,9,18,29,623,65,136,360,62,333,19,20,240,54,290,46,116,120,8,623,0,0,94,6,4,71,132,33,43,6,13,8,14,30,26,42,74,27,623,45,50,46,57,111,67,73,76,98]
["Lower Super Output Area 2011","Dudley 007B","LSOA Code E01009786 / Name Dudley 007B","E01009786",1497,732,765,1497,0,9,24.04,62.27,1497,134,57,39,98,15,31,42,107,120,323,266,76,92,70,17,10,36.1,34,1154,462,431,1,35,147,78,626,69,119,33,49,73,45,38,49,3,74,33,23,0,2,16,73,27,9,37,7,0,2,5,66,27,7,32,1497,1369,2,8,5,35,1,1,8,10,4,0,11,10,6,20,3,0,4,1497,1436,1,3,12,0,2,2,9,32,1497,490,989,1,3,0,4,7,3,0,1,0,0,626,614,6,2,4,1497,919,7,4,0,8,4,3,443,109,1497,183,159,1155,96,100,769,626,531,211,106,23,1328,82,24,63,642,642,0,0,642,626,16,42,248,203,142,2,5,0,626,80,141,13,238,95,39,4,16,626,14,612,37,32,2.4,4.8,2.5,626,205,268,116,29,8,621,1154,447,196,208,32,120,107,44,26,31,5,1,25,1057,176,366,78,87,14,117,46,68,78,27,32,12,13,41,632,59,153,356,64,323,13,29,227,54,309,46,124,129,10,632,1,1,96,3,7,60,121,35,39,9,11,8,16,35,34,40,89,27,632,46,42,38,68,100,73,79,77,109]
["Lower Super Output Area 2011","Dudley 026A","LSOA Code E01009791 / Name Dudley 026A","E01009791",1509,765,744,1509,0,13,22.34,67.55,1509,79,47,43,92,16,31,32,86,94,307,319,89,115,105,44,10,41.2,41,1232,363,648,0,26,93,102,662,111,117,53,87,105,45,36,20,1,33,23,15,0,2,14,31,8,8,15,4,0,2,2,27,8,6,13,1509,1264,4,0,11,11,1,1,5,105,50,7,0,11,4,15,2,11,7,1509,1381,2,12,8,0,4,4,7,91,1509,286,1177,3,10,0,6,28,0,0,0,5,0,662,626,17,1,18,1509,915,3,15,0,79,80,0,318,99,1509,144,160,1205,47,78,833,627,589,189,89,15,1317,133,19,40,670,669,0,1,676,662,14,82,366,81,147,0,0,0,662,226,227,1,100,64,28,7,9,662,9,653,33,24,2.2999999999999998,5.3,2.6,662,164,282,162,42,12,782,1232,316,179,207,56,153,246,75,28,27,12,0,15,1073,177,444,87,64,19,139,38,46,43,16,17,15,4,33,726,63,147,442,74,380,25,25,274,56,346,38,122,168,18,726,0,0,87,10,4,59,127,35,14,27,44,10,44,34,47,69,85,30,726,70,106,90,121,101,62,64,52,60]
["Lower Super Output Area 2011","Dudley 026D","LSOA Code E01009796 / Name Dudley 026D","E01009796",1510,738,772,1503,7,9,80.45,18.77,1510,72,38,22,87,29,51,45,111,89,267,350,89,142,89,20,9,40.700000000000003,42,1262,430,598,0,37,97,100,604,92,79,42,78,98,53,33,31,7,31,24,16,0,3,17,31,12,9,10,2,0,1,1,29,12,8,9,1510,1226,17,0,11,15,0,6,4,50,84,41,3,17,1,18,4,12,1,1510,1377,3,5,4,0,8,7,8,98,1510,313,1159,8,8,1,3,23,0,0,0,1,0,604,565,23,4,12,1510,872,5,8,0,146,37,5,325,112,1510,139,158,1213,68,77,857,605,591,226,66,22,1300,134,34,42,625,625,0,0,625,604,21,145,365,74,35,6,0,0,604,242,247,2,47,8,47,2,9,604,29,575,16,24,2.5,5.8,2.9,604,116,277,151,39,21,783,1262,345,189,213,41,153,272,49,48,40,15,4,21,1144,165,460,99,48,30,166,59,52,43,22,25,9,10,15,746,65,154,468,59,416,16,51,296,53,330,49,103,172,6,746,0,0,79,5,4,70,126,38,34,28,25,17,31,24,57,79,95,34,746,64,100,101,114,100,68,83,50,66]
["Lower Super Output Area 2011","Dudley 030D","LSOA Code E01009801 / Name Dudley 030D","E01009801",1664,815,849,1634,30,28,68.89,24.15,1664,69,44,37,83,13,52,36,84,67,275,378,118,212,132,39,25,45.2,47,1418,357,829,1,20,94,117,667,90,66,107,86,129,71,17,17,2,23,30,8,0,4,17,23,13,6,4,2,0,2,0,21,13,4,4,1664,1449,21,4,25,9,0,6,2,80,21,0,4,15,5,16,2,2,3,1664,1532,4,12,14,0,15,12,5,70,1664,207,1407,13,15,2,8,15,3,0,0,0,0,667,643,18,0,6,1664,1134,3,13,3,28,77,10,299,97,1664,145,188,1331,42,66,902,800,552,221,77,14,1421,177,22,44,680,680,0,0,680,667,13,198,389,10,65,2,15,1,667,338,258,2,29,0,30,1,9,667,9,658,7,6,2.4,6.3,3.1,667,94,243,241,69,20,1017,1418,308,185,220,64,183,401,57,51,39,19,2,18,1222,176,483,127,30,33,244,59,29,28,13,9,10,4,12,810,69,162,478,101,402,21,27,278,76,408,48,135,200,25,810,0,0,75,5,4,70,98,25,32,20,49,15,47,38,53,108,119,52,810,95,176,91,138,88,77,54,37,54]
["Lower Super Output Area 2011","Dudley 036D","LSOA Code E01009804 / Name Dudley 036D","E01009804",1328,662,666,1286,42,22,378.59,3.51,1328,42,25,18,75,12,37,26,63,58,213,354,140,155,66,22,22,45.5,48.5,1156,285,681,2,18,82,88,534,55,77,56,99,101,71,21,11,3,8,17,9,0,1,5,8,2,3,3,0,0,0,0,8,2,3,3,1328,1185,9,1,18,10,0,4,3,59,13,0,2,8,8,5,0,1,2,1328,1247,2,8,12,0,5,3,6,45,1328,131,1166,9,3,1,9,9,0,0,2,0,0,534,522,7,2,3,1328,978,1,12,0,15,51,0,200,71,1328,74,128,1126,28,56,807,618,511,158,33,8,1151,137,15,25,554,554,0,0,554,534,20,362,82,13,91,3,2,1,534,261,230,0,7,6,25,1,4,534,22,512,9,8,2.4,6.5,3.3,534,45,179,217,67,26,923,1156,212,146,186,55,157,354,46,35,41,16,4,21,1046,152,441,101,18,32,200,44,28,18,12,3,7,0,9,718,63,137,414,104,377,19,25,251,82,341,44,112,163,22,718,6,0,66,6,4,78,113,25,29,28,58,12,43,26,42,69,91,22,718,110,146,101,112,70,40,55,35,49]
["Lower Super Output Area 2011","Dudley 039F","LSOA Code E01009806 / Name Dudley 039F","E01009806",1451,713,738,1451,0,21,27.31,53.13,1451,56,41,16,54,18,37,31,77,103,289,324,107,178,86,19,15,43.7,45,1266,381,638,0,35,142,70,672,89,134,77,88,84,50,39,17,3,33,27,8,0,0,23,32,7,15,10,5,0,4,1,27,7,11,9,1451,1346,11,0,11,21,4,6,2,17,0,1,4,6,8,2,1,11,0,1451,1355,2,9,18,3,10,9,4,41,1451,204,1209,11,5,0,8,12,3,0,0,2,0,672,661,9,0,2,1451,983,2,3,0,17,15,8,335,88,1451,117,142,1192,51,67,850,654,527,195,63,12,1265,129,24,33,688,688,0,0,688,672,16,148,222,160,139,15,4,0,672,274,263,2,11,42,60,10,10,672,11,661,25,18,2.2000000000000002,5.5,2.8,672,110,331,173,47,11,867,1266,279,161,219,57,167,339,44,33,29,14,3,12,1146,152,507,83,42,29,217,36,31,35,14,8,8,4,22,762,56,136,478,92,394,14,36,268,76,368,42,100,210,16,762,1,1,77,6,7,69,102,29,39,24,34,6,57,36,77,88,82,27,762,79,145,100,138,73,57,65,46,59]
["Lower Super Output Area 2011","Dudley 043D","LSOA Code E01009811 / Name Dudley 043D","E01009811",1536,752,784,1536,0,30,31.34,49.01,1536,69,52,30,90,15,49,31,69,76,261,334,121,164,149,18,8,43.7,46,1280,351,704,0,27,94,104,663,83,90,102,76,117,51,32,28,3,38,22,7,0,0,14,38,14,8,16,1,0,0,1,37,14,8,15,1536,1454,8,0,10,25,2,8,1,4,5,0,0,2,1,5,9,0,2,1536,1472,1,7,20,0,6,9,6,15,1536,289,1234,4,6,0,1,2,2,0,0,3,0,663,655,2,0,6,1536,1148,1,1,0,5,4,0,285,92,1536,115,149,1272,41,45,855,687,571,207,62,9,1337,134,24,41,676,676,0,0,676,663,13,127,379,80,89,1,0,0,663,275,233,3,21,81,35,4,11,663,12,651,22,10,2.2999999999999998,5.7,2.9,663,119,271,200,59,14,912,1280,312,187,206,55,163,307,50,46,29,14,1,14,1105,178,422,107,50,27,204,50,31,24,12,15,11,11,20,727,85,139,418,85,385,23,27,260,75,342,62,112,158,10,727,0,0,80,5,4,75,131,28,20,30,25,15,39,23,45,92,86,29,727,77,134,84,121,96,54,50,51,60]
["Lower Super Output Area 2011","Dudley 012A","LSOA Code E01009816 / Name Dudley 012A","E01009816",1473,720,753,1467,6,13,117.69,12.52,1473,56,49,31,80,16,28,28,73,69,268,310,139,194,103,16,13,44.3,46,1241,280,756,2,17,91,95,607,77,44,88,118,105,61,22,17,3,29,24,7,0,0,12,29,11,7,11,2,0,1,1,27,11,6,10,1473,1426,4,2,3,7,0,2,6,15,0,0,0,2,0,5,0,1,0,1473,1424,1,13,11,0,3,1,1,19,1473,214,1248,3,0,0,1,5,1,0,0,4,0,607,601,5,1,0,1473,1140,7,5,0,2,6,1,237,75,1473,126,150,1197,46,62,807,618,566,212,62,15,1271,136,30,36,611,611,0,0,611,607,4,231,350,16,12,1,0,1,607,331,245,1,3,2,22,1,2,607,13,594,7,5,2.4,5.5,2.9,607,79,251,210,51,16,894,1241,317,162,226,60,156,266,54,25,29,16,0,13,1109,175,462,70,33,24,246,30,25,28,16,8,10,3,15,730,77,142,439,72,374,24,21,273,56,356,53,121,166,16,730,0,0,98,14,8,73,143,18,24,15,27,8,39,28,45,71,88,31,730,60,107,74,121,109,60,76,66,57]
["Lower Super Output Area 2011","Dudley 012B","LSOA Code E01009817 / Name Dudley 012B","E01009817",1283,605,678,1274,9,16,40.68,31.54,1283,44,39,36,83,13,29,27,44,23,206,256,115,192,127,34,15,47.2,50,1068,202,670,1,14,70,111,544,99,34,102,81,104,40,13,17,2,22,16,5,0,0,9,22,12,9,1,2,0,2,0,20,12,7,1,1283,1227,0,0,4,10,0,2,2,16,6,0,0,5,5,4,1,0,1,1283,1222,2,9,17,0,1,8,1,23,1283,204,1068,2,3,0,5,6,0,0,0,1,0,544,540,4,0,0,1283,962,0,15,0,5,5,2,185,109,1283,126,146,1011,39,43,618,552,457,209,58,7,1092,146,15,30,552,552,0,0,552,544,8,244,283,13,2,7,2,1,544,319,199,1,2,4,15,2,2,544,8,536,6,4,2.2999999999999998,6.1,3,544,57,228,188,55,16,834,1068,253,103,179,47,118,327,41,26,28,13,1,13,892,147,309,91,21,22,221,34,14,21,12,8,3,4,4,565,56,134,308,67,278,7,25,196,50,287,49,109,112,17,565,0,1,56,12,2,55,84,20,20,17,12,6,35,10,57,70,83,25,565,56,120,75,100,64,45,39,30,36]
["Lower Super Output Area 2011","Dudley 014E","LSOA Code E01009822 / Name Dudley 014E","E01009822",1504,722,782,1467,37,19,37.520000000000003,40.090000000000003,1504,55,37,25,81,22,23,20,66,60,255,278,104,244,169,38,27,48.1,50,1284,266,760,0,27,85,146,657,117,78,125,85,96,49,28,17,2,18,13,5,0,2,22,18,5,7,6,2,0,1,1,16,5,6,5,1504,1453,2,0,5,10,2,2,4,4,5,0,2,3,1,8,0,0,3,1504,1448,1,8,20,0,2,5,1,19,1504,256,1238,3,2,0,2,4,1,0,0,1,0,657,650,7,0,0,1504,1071,3,0,0,5,3,8,277,137,1504,161,187,1156,30,68,708,595,551,281,64,13,1315,126,20,43,677,677,0,0,677,657,20,385,161,79,24,12,16,0,657,352,196,2,39,1,54,4,9,657,10,647,19,15,2.2000000000000002,5.7,2.7,657,101,280,219,34,23,920,1284,341,138,199,47,173,330,56,22,21,15,1,5,1050,152,378,112,36,23,266,20,40,21,2,8,9,2,21,662,75,129,377,81,364,23,29,247,65,298,52,100,130,16,662,0,1,85,14,8,58,110,21,29,13,19,14,44,21,37,79,74,35,662,108,134,81,83,76,51,51,32,46]
["Lower Super Output Area 2011","Dudley 019B","LSOA Code E01009826 / Name Dudley 019B","E01009826",1469,725,744,1469,0,19,28.65,51.27,1469,59,44,24,61,17,32,20,51,63,222,299,129,284,134,23,7,47.7,52,1264,242,815,1,15,79,112,638,104,40,137,87,106,67,18,16,2,21,23,3,0,1,13,20,6,12,2,4,0,3,1,16,6,9,1,1469,1414,4,0,9,7,1,4,4,8,5,0,0,4,2,1,0,0,6,1469,1411,0,9,16,0,5,1,3,24,1469,209,1238,2,6,1,0,10,1,0,2,0,0,638,627,8,1,2,1469,1141,3,7,1,9,0,1,212,95,1469,144,175,1150,35,48,733,609,544,226,63,27,1232,162,22,53,650,650,0,0,650,638,12,302,294,20,32,2,0,0,638,386,205,0,7,0,30,2,8,638,8,630,8,5,2.2999999999999998,6,2.9,638,54,257,236,72,19,1044,1264,313,162,174,50,156,360,49,26,30,14,2,14,1100,190,403,68,24,30,305,28,26,20,6,6,9,3,13,689,78,163,372,76,375,34,36,242,63,314,44,127,130,13,689,3,1,86,11,6,44,106,22,18,18,30,6,35,23,45,124,85,26,689,77,151,101,99,76,55,49,35,46]
["Lower Super Output Area 2011","Dudley 037A","LSOA Code E01009831 / Name Dudley 037A","E01009831",1469,748,721,1469,0,5,54.57,26.92,1469,72,49,38,80,20,47,36,91,78,261,291,101,182,90,25,8,41.9,43,1210,411,516,3,40,119,121,638,113,114,52,64,75,49,28,32,1,34,31,27,0,7,11,32,12,7,13,4,0,2,2,28,12,5,11,1469,1324,11,1,16,8,1,15,4,4,67,0,5,3,4,1,4,1,0,1469,1374,5,7,12,0,6,3,10,52,1469,474,972,5,9,0,4,5,0,0,1,1,0,638,616,8,2,12,1469,931,9,1,0,73,1,17,354,83,1469,194,197,1078,81,100,724,491,548,307,96,27,1268,110,35,56,654,654,0,0,654,638,16,26,352,141,134,0,1,0,638,156,155,0,269,3,36,2,17,638,11,627,36,19,2.2999999999999998,5,2.6,638,199,286,120,30,3,639,1210,517,193,174,41,121,107,57,45,35,7,3,25,1087,150,350,75,69,18,215,68,46,63,33,23,15,12,29,586,47,135,346,58,325,10,35,231,49,261,37,100,115,9,586,3,1,100,7,10,57,118,39,30,9,10,5,21,30,23,37,67,19,586,43,40,43,49,109,63,59,85,95]
["Lower Super Output Area 2011","Dudley 042A","LSOA Code E01009832 / Name Dudley 042A","E01009832",1650,780,870,1650,0,10,38.450000000000003,42.91,1650,128,70,40,128,23,52,49,91,86,304,302,69,138,131,28,11,38.6,38,1261,414,546,0,33,139,129,659,111,74,58,59,99,45,18,44,8,70,34,20,0,2,17,68,22,16,30,6,0,3,3,62,22,13,27,1650,1532,12,9,5,2,6,14,6,4,33,0,4,13,2,6,0,1,1,1650,1557,2,8,18,0,12,5,5,43,1650,583,1051,7,4,1,0,8,0,0,0,0,0,659,645,9,1,4,1650,1073,3,0,0,52,3,7,410,102,1650,212,189,1249,84,99,770,652,575,282,104,37,1416,111,43,80,671,671,0,0,671,659,12,32,360,164,100,9,6,0,659,125,159,0,313,0,43,4,15,659,14,645,39,35,2.5,5.0999999999999996,2.7,659,203,298,126,26,6,652,1261,505,210,182,33,135,126,70,48,41,15,6,18,1091,184,343,69,78,28,149,62,93,69,16,19,17,8,38,616,56,162,327,71,309,19,35,199,56,307,37,127,128,15,616,0,0,106,5,3,50,111,36,39,11,10,5,19,36,30,52,72,31,616,43,57,41,60,84,70,79,83,99]
["Lower Super Output Area 2011","Dudley 037B","LSOA Code E01009836 / Name Dudley 037B","E01009836",1834,910,924,1834,0,6,69.84,26.26,1834,203,75,44,89,23,36,54,132,167,370,332,85,99,87,22,16,35.5,33,1400,546,491,0,69,166,128,859,122,303,23,56,78,23,39,56,2,81,26,25,0,1,24,80,13,11,56,9,1,3,5,71,12,8,51,1834,1139,4,8,32,12,2,10,7,20,452,15,29,30,40,8,0,20,6,1834,1435,0,21,9,1,4,16,13,335,1834,558,1133,5,28,7,18,97,0,0,0,1,0,859,721,59,19,60,1834,693,4,5,1,511,18,4,489,109,1834,236,213,1385,127,135,914,716,622,298,162,36,1694,77,28,35,927,926,0,1,935,859,76,38,201,96,483,35,81,1,859,122,109,1,372,67,154,7,27,859,34,825,102,55,2.1,4.3,2.1,859,445,292,98,20,4,565,1400,557,209,197,37,137,145,118,32,48,13,12,23,1275,118,372,83,151,30,127,51,137,122,84,29,36,31,56,588,41,119,363,65,344,8,44,235,57,244,33,75,128,8,588,2,0,101,6,11,43,105,61,46,9,15,2,19,23,14,33,67,31,588,40,51,33,41,89,65,55,96,118]
["Lower Super Output Area 2011","Dudley 017E","LSOA Code E01009841 / Name Dudley 017E","E01009841",1605,780,825,1580,25,7,66.45,24.15,1605,134,78,45,117,23,53,38,101,104,329,257,74,131,90,20,11,36.5,35,1208,454,491,0,36,126,101,631,70,118,48,65,79,30,23,45,2,79,31,22,0,0,19,79,22,10,47,10,0,1,9,69,22,9,38,1605,1326,3,4,29,51,4,18,4,35,45,0,2,17,19,29,5,4,10,1605,1485,2,8,3,0,3,8,19,77,1605,650,910,2,27,2,4,11,2,0,0,0,0,631,601,12,7,11,1605,970,2,10,0,64,32,3,377,147,1605,224,173,1208,95,98,763,612,529,304,132,28,1425,93,28,59,654,653,0,1,656,631,25,36,333,161,107,12,7,0,631,127,136,2,287,2,54,6,17,631,39,592,50,48,2.5,4.9000000000000004,2.5,631,243,276,86,17,9,539,1208,508,198,185,28,123,102,64,47,27,8,3,16,1087,142,349,62,102,15,150,60,84,91,32,27,16,18,45,564,54,117,351,42,302,17,27,221,37,262,37,90,130,5,564,2,0,99,7,3,46,115,38,35,10,17,3,13,43,24,25,63,21,564,37,31,36,43,84,55,82,90,106]
["Lower Super Output Area 2011","Dudley 041B","LSOA Code E01009846 / Name Dudley 041B","E01009846",1473,719,754,1473,0,33,119.96,12.28,1473,64,38,29,81,17,48,32,81,46,215,330,130,166,144,41,11,45.4,48,1244,302,724,1,17,79,121,617,109,46,87,101,98,60,19,17,4,37,18,8,0,1,12,37,14,8,15,4,2,1,1,33,12,7,14,1473,1422,14,0,5,7,1,5,0,13,0,0,0,1,0,1,0,1,3,1473,1414,1,11,16,0,10,5,2,14,1473,256,1203,9,3,0,0,1,3,0,0,0,0,617,611,3,1,2,1473,1063,2,0,2,2,10,11,281,102,1473,125,170,1178,31,64,787,666,522,207,68,10,1271,140,13,49,635,635,0,0,635,617,18,245,335,51,3,0,0,1,617,305,213,0,55,0,34,1,9,617,11,606,11,9,2.4,6.3,3,617,88,212,224,64,29,979,1244,296,142,203,51,142,377,33,45,37,19,4,14,1048,169,374,121,33,32,192,52,32,31,12,9,7,4,13,690,84,153,360,93,362,27,36,223,76,328,57,117,137,17,690,1,0,78,5,3,72,111,19,22,24,17,8,50,30,45,104,76,25,690,97,149,84,69,100,61,50,31,49]
["Lower Super Output Area 2011","Dudley 038A","LSOA Code E01009847 / Name Dudley 038A","E01009847",1465,724,741,1465,0,12,42.82,34.21,1465,59,51,22,85,26,41,41,59,44,281,310,118,191,110,20,7,43.8,45,1222,327,679,4,18,106,88,607,81,59,81,84,104,57,18,22,4,29,32,11,0,2,23,29,12,10,7,3,0,3,0,26,12,7,7,1465,1438,5,0,6,8,0,0,1,0,0,0,1,0,0,0,2,0,4,1465,1406,2,12,17,0,8,12,3,5,1465,353,1100,5,6,1,0,0,1,0,0,1,0,607,601,5,0,1,1465,1034,2,0,1,1,0,4,327,96,1465,130,182,1153,49,72,773,568,581,232,63,21,1287,106,28,44,618,618,0,0,618,607,11,148,285,177,2,5,1,0,607,265,238,1,81,0,15,2,5,607,9,598,19,15,2.4,5.7,3,607,101,249,186,67,4,841,1222,348,165,189,60,158,255,47,38,35,14,3,18,1085,192,376,90,53,32,214,43,32,42,11,12,13,10,27,685,73,167,379,66,350,24,41,233,52,335,49,126,146,14,685,2,0,64,11,1,67,124,29,23,12,19,5,21,26,52,91,112,26,685,66,106,72,93,104,82,53,41,68]
["Lower Super Output Area 2011","Dudley 041D","LSOA Code E01009852 / Name Dudley 041D","E01009852",1493,720,773,1473,20,35,66.94,22.3,1493,65,49,22,83,22,32,25,52,44,212,335,120,235,146,33,18,47.4,51,1252,226,836,0,16,68,106,601,86,31,123,106,116,58,18,13,4,14,10,10,1,4,7,14,7,6,1,1,0,1,0,13,7,5,1,1493,1370,10,0,17,23,1,3,3,32,0,1,18,9,1,1,2,1,1,1493,1398,3,7,19,0,5,5,5,51,1493,193,1282,6,6,2,0,11,0,1,1,1,0,601,581,17,0,3,1493,1102,4,7,0,9,19,4,237,111,1493,107,157,1229,16,48,756,688,544,198,50,13,1299,137,17,40,613,613,0,0,613,601,12,452,150,8,0,0,3,0,601,358,210,0,2,0,26,1,4,601,9,592,6,6,2.5,6.6,3.3,601,49,209,253,59,31,1020,1252,253,144,190,57,136,422,50,30,41,16,1,23,1055,171,368,103,24,26,259,46,38,11,9,7,8,2,8,666,81,137,343,105,357,17,29,231,80,309,64,108,112,25,666,0,0,76,6,3,63,93,15,20,15,31,14,60,25,46,94,78,27,666,110,149,103,111,51,46,44,24,28]
["Lower Super Output Area 2011","Dudley 040B","LSOA Code E01009857 / Name Dudley 040B","E01009857",1613,785,828,1613,0,14,40.21,40.11,1613,127,55,39,102,25,39,41,74,121,375,274,113,141,59,19,9,37.6,37,1265,460,531,6,36,147,85,694,96,144,28,73,97,38,44,39,5,49,37,26,0,4,14,49,17,9,23,4,2,0,2,45,15,9,21,1613,1367,1,1,12,9,0,20,4,11,177,0,8,2,1,0,0,0,0,1613,1466,0,13,10,0,1,13,4,106,1613,429,1144,1,13,0,2,25,0,0,0,1,0,694,656,26,5,7,1613,903,8,5,0,183,2,15,399,98,1613,141,170,1302,72,95,870,702,557,242,88,24,1438,94,33,48,729,729,0,0,729,694,35,48,325,224,100,25,7,0,694,150,215,2,244,7,62,4,10,694,26,668,52,34,2.2999999999999998,4.9000000000000004,2.6,694,209,303,140,32,10,721,1265,387,187,202,39,165,241,44,35,39,15,3,21,1178,158,388,119,86,27,182,51,73,64,30,22,17,18,39,685,72,145,399,69,362,24,39,244,55,323,48,106,155,14,685,1,0,74,3,8,55,119,43,31,16,26,10,47,29,31,81,78,33,685,65,103,88,70,90,63,54,73,79]
["Lower Super Output Area 2011","Dudley 033C","LSOA Code E01009861 / Name Dudley 033C","E01009861",1549,741,808,1545,4,9,25.64,60.41,1549,105,72,35,90,22,37,29,86,115,357,276,84,140,73,21,7,38.1,37,1225,421,601,5,36,86,76,646,68,119,51,77,107,52,36,37,2,46,16,14,0,2,19,46,12,14,20,2,0,2,0,44,12,12,20,1549,1333,0,5,8,33,2,4,6,15,29,6,11,10,4,4,5,73,1,1549,1451,3,7,5,0,0,6,8,69,1549,402,1119,0,12,0,1,16,1,0,0,0,0,646,613,17,6,10,1549,954,4,0,1,108,11,7,361,103,1549,142,165,1242,55,89,840,671,546,228,77,27,1373,93,38,45,675,675,0,0,675,646,29,71,278,249,45,14,18,0,646,199,243,0,93,4,88,11,8,646,42,604,41,29,2.4,5.0999999999999996,2.6,646,154,301,157,25,9,726,1225,402,157,201,35,175,219,36,34,37,18,1,18,1124,149,456,86,62,28,172,45,63,43,20,16,17,11,25,713,54,134,455,70,373,20,27,277,49,340,34,107,178,21,713,1,0,102,7,5,59,126,32,31,21,27,9,30,31,33,64,109,26,713,62,97,71,83,85,80,65,75,95]
["Lower Super Output Area 2011","Dudley 033D","LSOA Code E01009862 / Name Dudley 033D","E01009862",1759,848,911,1733,26,17,68.97,25.5,1759,119,52,39,118,21,50,46,122,131,373,305,103,141,88,31,20,38.4,37,1410,508,637,0,35,130,100,724,73,137,58,93,98,45,43,45,8,59,25,16,0,0,24,59,15,12,32,6,0,2,4,53,15,10,28,1759,1547,6,1,24,21,3,20,5,10,52,4,1,11,8,2,3,40,1,1759,1625,0,15,10,0,6,4,8,91,1759,526,1197,0,13,1,5,19,4,1,0,2,0,724,691,20,3,10,1759,1061,4,1,2,109,3,4,454,121,1759,172,211,1376,81,109,940,723,632,301,81,22,1570,107,34,48,754,753,1,0,755,724,31,111,324,173,140,4,3,0,724,198,230,1,164,38,73,3,17,724,19,705,49,30,2.4,5,2.6,724,213,305,160,36,10,773,1410,470,228,245,44,156,210,57,38,38,10,8,20,1271,167,518,77,98,27,167,51,66,73,27,30,12,11,48,778,65,147,508,58,407,15,37,303,52,371,50,110,205,6,778,3,0,114,7,8,65,169,32,38,14,17,6,30,33,31,70,106,35,778,57,86,69,116,108,85,75,78,104]
["Lower Super Output Area 2011","Dudley 025D","LSOA Code E01009867 / Name Dudley 025D","E01009867",1734,861,873,1734,0,6,66.59,26.04,1734,99,71,41,99,20,40,47,100,96,337,330,112,196,112,27,7,40.9,41,1404,416,776,2,34,90,86,694,80,78,92,93,120,58,22,31,0,47,35,14,0,2,22,47,10,8,29,7,1,1,5,40,9,7,24,1734,1620,6,0,15,6,0,6,2,11,55,5,2,3,0,3,0,0,0,1734,1664,3,6,5,0,4,9,7,36,1734,435,1280,2,12,0,0,6,2,0,0,0,0,694,674,12,2,6,1734,1154,5,1,0,60,12,5,379,118,1734,179,189,1366,74,95,893,724,623,267,90,30,1515,118,43,58,712,712,0,0,712,694,18,127,446,91,16,31,1,0,694,269,242,2,123,0,45,3,10,694,44,650,38,21,2.5,5.4,2.8,694,143,300,193,42,16,879,1404,534,224,207,51,161,180,47,37,36,16,2,18,1258,205,447,97,64,24,237,50,51,53,30,21,11,8,31,771,70,183,442,76,409,20,46,282,61,362,50,137,160,15,771,0,0,131,11,10,70,169,34,24,13,13,5,37,32,38,65,89,30,771,77,78,68,99,109,70,95,91,84]
["Lower Super Output Area 2011","Dudley 020A","LSOA Code E01009872 / Name Dudley 020A","E01009872",1499,760,739,1499,0,9,22.2,67.52,1499,96,62,55,115,23,59,41,91,92,326,306,56,100,48,17,12,35.799999999999997,35,1148,465,450,0,29,124,80,615,79,152,23,45,89,33,22,43,3,58,22,25,0,2,19,57,17,7,33,5,0,1,4,52,17,6,29,1499,1276,3,2,13,29,0,5,2,33,97,1,2,5,17,13,1,0,0,1499,1395,0,7,8,0,6,3,3,77,1499,499,950,3,12,6,1,26,3,0,0,0,0,615,583,18,2,12,1499,864,4,10,2,100,21,8,392,98,1499,149,137,1213,88,93,790,646,516,227,91,19,1361,61,23,54,639,638,1,0,640,615,25,56,223,178,168,11,3,1,615,106,176,2,234,10,67,3,17,615,34,581,61,30,2.4,4.9000000000000004,2.6,615,230,256,103,19,7,557,1148,416,219,186,28,110,125,64,49,38,15,3,20,1071,144,388,64,91,26,110,64,74,78,32,29,15,14,47,615,55,119,390,51,351,12,22,273,44,264,43,97,117,7,615,0,0,108,8,8,57,128,26,31,19,12,3,22,37,30,48,62,16,615,45,44,46,61,77,59,83,108,92]
["Lower Super Output Area 2011","Dudley 018E","LSOA Code E01009875 / Name Dudley 018E","E01009875",1594,769,825,1512,82,8,31.15,51.17,1594,115,55,32,100,26,38,39,75,114,315,267,73,184,113,33,15,40.6,40,1266,396,609,1,25,101,134,623,82,80,66,73,100,42,34,44,4,47,22,14,0,0,15,46,18,4,24,6,1,2,3,40,17,2,21,1594,1451,2,0,2,28,0,15,1,8,45,0,3,8,8,14,1,0,8,1594,1520,2,5,6,0,1,5,2,53,1594,553,1020,1,2,0,4,13,4,0,0,0,0,623,604,6,3,10,1594,1033,5,5,0,56,2,4,385,104,1594,225,173,1196,59,82,780,575,575,303,113,28,1430,86,29,49,633,633,0,0,633,623,10,68,357,146,56,6,0,0,623,193,226,6,145,3,38,5,7,623,35,588,30,20,2.4,4.9000000000000004,2.6,623,186,277,134,22,4,628,1266,540,167,210,40,128,127,54,34,39,13,0,26,1105,163,417,42,62,27,191,48,68,66,21,13,9,10,33,644,48,140,397,59,341,16,21,255,49,303,32,119,142,10,644,0,0,129,13,3,64,128,28,26,7,12,5,25,32,23,53,75,21,644,50,59,39,66,103,60,68,106,93]
["Lower Super Output Area 2011","Dudley 020E","LSOA Code E01009877 / Name Dudley 020E","E01009877",1566,763,803,1566,0,5,29.95,52.29,1566,134,90,50,95,22,38,38,98,123,304,256,77,113,95,30,3,36.4,35,1175,476,436,0,41,123,99,633,83,100,41,41,77,44,37,52,5,72,44,13,0,3,21,70,16,8,46,5,1,0,4,65,15,8,42,1566,1404,4,7,8,56,0,7,5,0,44,0,5,9,1,14,0,1,1,1566,1514,2,5,2,0,4,6,5,28,1566,651,900,4,6,0,1,6,1,0,0,0,0,633,620,5,4,4,1566,963,1,1,0,44,4,5,430,118,1566,181,175,1210,80,93,761,621,514,290,112,29,1386,83,39,58,645,645,0,0,645,633,12,33,404,111,91,3,3,0,633,132,145,0,297,6,30,5,18,633,54,579,43,30,2.5,5.0999999999999996,2.7,633,226,281,105,16,5,563,1175,529,173,210,29,100,80,54,27,27,11,5,11,1047,161,362,45,86,20,133,37,85,81,37,20,12,17,44,581,58,126,346,51,312,16,30,223,43,269,42,96,123,8,581,1,0,122,4,6,55,124,28,25,4,7,5,18,33,28,26,61,34,581,39,32,49,58,93,60,62,87,101]
["Lower Super Output Area 2011","Dudley 009E","LSOA Code E01009882 / Name Dudley 009E","E01009882",1415,712,703,1406,9,10,30.69,46.11,1415,103,56,34,87,19,34,39,93,96,270,298,66,139,67,8,6,37.9,38,1116,355,595,3,17,67,79,542,68,55,49,66,100,46,28,18,2,49,21,22,0,0,18,49,20,8,21,2,1,1,0,47,19,7,21,1415,1057,4,0,19,22,1,7,3,106,78,0,9,32,4,57,8,0,8,1415,1254,0,6,5,0,1,11,12,126,1415,285,1086,0,18,0,6,25,5,0,0,0,0,542,495,31,4,12,1415,893,11,59,0,68,66,5,230,83,1415,123,135,1157,63,64,769,630,482,217,69,17,1270,78,25,42,582,582,0,0,582,542,40,127,336,90,6,21,0,2,542,224,220,0,20,5,61,4,8,542,14,528,27,26,2.6,5.6,2.9,542,98,232,159,41,12,724,1116,276,151,207,47,132,238,65,33,53,19,7,26,1035,147,398,72,56,34,151,56,54,38,29,17,9,7,24,644,61,124,386,73,326,13,22,235,56,318,48,102,151,17,644,0,0,92,7,4,51,125,19,30,12,16,11,24,21,45,67,89,31,644,69,89,67,86,89,61,66,53,64]
["Lower Super Output Area 2011","Dudley 015A","LSOA Code E01009887 / Name Dudley 015A","E01009887",1783,868,915,1759,24,10,46.81,38.090000000000003,1783,140,69,41,116,34,46,55,102,138,368,330,96,131,87,20,10,37,36,1383,483,661,0,35,108,96,637,68,78,45,70,107,46,27,33,4,47,33,41,1,3,34,47,11,8,28,3,1,0,2,44,10,8,26,1783,1158,6,0,37,58,2,14,5,52,305,1,9,27,13,69,6,19,2,1783,1479,2,7,7,2,3,10,30,243,1783,522,1152,2,40,0,10,57,7,0,0,0,0,637,551,55,10,21,1783,958,12,22,0,329,34,4,305,119,1783,198,178,1407,100,117,918,687,672,275,109,40,1553,118,49,63,658,658,0,0,658,637,21,73,410,121,50,3,1,0,637,206,201,0,141,5,64,6,14,637,17,620,46,45,2.8,5.6,3,637,156,280,155,42,4,732,1383,500,178,188,36,148,218,115,37,50,21,10,19,1266,172,414,112,82,39,159,51,91,105,41,21,10,17,34,723,66,166,438,53,391,25,54,267,45,332,41,112,171,8,723,0,0,116,16,1,74,127,37,31,14,23,13,21,36,36,49,100,29,723,51,80,69,81,110,90,64,92,86]
["Lower Super Output Area 2011","Dudley 010B","LSOA Code E01009892 / Name Dudley 010B","E01009892",1508,745,763,1508,0,11,40.6,37.14,1508,92,65,47,103,24,45,46,128,115,321,258,56,113,64,20,11,35.9,33,1177,481,444,2,55,106,89,632,80,177,25,47,76,24,19,15,3,69,37,28,0,1,31,67,8,15,44,4,0,2,2,63,8,13,42,1508,803,7,0,41,43,2,25,4,68,366,3,4,21,38,63,11,8,1,1508,1181,6,0,5,0,5,12,28,271,1508,426,958,1,41,0,28,60,7,0,0,2,0,632,516,61,9,46,1508,577,1,34,0,374,24,10,370,118,1508,192,166,1150,91,112,766,619,504,236,109,40,1351,65,42,50,659,659,0,0,659,632,27,41,246,181,159,24,8,0,632,104,104,3,252,23,95,14,37,632,26,606,105,75,2.4,4.7,2.2999999999999998,632,332,212,65,18,5,428,1177,470,181,168,24,106,152,76,44,57,15,2,40,1082,129,285,66,147,29,121,75,94,79,57,42,14,33,69,499,53,126,291,29,281,23,56,180,22,218,30,70,111,7,499,2,1,78,9,4,33,93,35,29,5,6,4,14,31,20,45,73,17,499,42,57,38,36,53,58,49,78,88]
["Lower Super Output Area 2011","Dudley 002D","LSOA Code E01009895 / Name Dudley 002D","E01009895",1407,673,734,1407,0,6,46.27,30.41,1407,72,42,37,86,25,39,26,78,67,265,275,96,148,103,37,11,42.4,43,1145,322,576,2,21,110,114,611,110,84,66,74,96,41,15,25,5,39,24,13,0,2,17,39,20,10,9,3,0,3,0,36,20,7,9,1407,1329,10,2,5,18,0,3,2,22,0,0,0,0,1,14,1,0,0,1407,1356,4,5,12,0,7,5,2,16,1407,355,1042,5,2,2,0,0,1,0,0,2,0,611,605,5,0,1,1407,1016,1,0,0,4,10,4,289,83,1407,146,167,1094,57,76,713,576,480,240,87,24,1244,106,19,38,637,637,0,0,637,611,26,204,179,120,119,4,11,0,611,199,185,1,109,72,32,3,10,611,11,600,41,21,2.2999999999999998,5.4,2.7,611,154,241,169,39,8,728,1145,336,157,208,31,131,241,41,36,19,5,1,12,994,177,364,70,60,14,170,41,34,47,17,21,15,10,24,623,64,142,354,63,309,17,25,218,49,314,47,117,136,14,623,1,0,68,6,3,64,114,23,28,14,17,7,25,24,47,72,84,26,623,78,92,59,92,75,60,67,38,62]
["Lower Super Output Area 2011","Dudley 003B","LSOA Code E01009897 / Name Dudley 003B","E01009897",1455,732,723,1455,0,15,49.15,29.6,1455,59,42,27,70,13,36,23,56,46,249,275,95,244,184,30,6,47.8,50,1244,237,851,2,9,49,96,606,83,34,142,86,115,65,14,15,2,14,17,11,0,3,5,14,12,1,1,1,0,0,1,13,12,1,0,1455,1417,2,0,3,3,0,1,1,10,6,0,4,5,1,2,0,0,0,1455,1412,4,15,11,0,1,2,0,10,1455,246,1201,3,2,0,0,3,1,0,1,0,0,606,600,2,2,2,1455,1136,2,6,0,6,9,0,204,92,1455,123,188,1144,26,49,705,602,515,272,51,15,1211,164,21,59,615,615,0,0,615,606,9,182,419,4,7,0,3,0,606,372,208,0,3,0,14,6,3,606,7,599,5,4,2.4,6,3,606,46,272,207,58,23,953,1244,301,132,211,64,178,315,43,34,39,16,6,17,1024,159,384,81,14,29,255,46,27,17,12,4,1,0,7,645,54,142,388,61,351,10,25,267,49,294,44,117,121,12,645,0,0,75,11,8,64,84,20,20,11,44,12,36,25,60,82,72,21,645,82,117,106,102,66,55,43,27,47]
["Lower Super Output Area 2011","Dudley 003E","LSOA Code E01009902 / Name Dudley 003E","E01009902",1269,615,654,1269,0,11,33.57,37.799999999999997,1269,48,35,16,68,11,28,25,59,35,195,275,136,235,86,11,6,46.7,51,1091,209,723,1,19,55,84,533,69,40,101,100,91,58,15,7,2,16,16,8,0,1,9,16,8,6,2,1,0,1,0,15,8,5,2,1269,1198,3,0,5,10,0,2,4,22,6,0,0,8,0,11,0,0,0,1269,1220,3,5,11,0,3,4,1,22,1269,155,1113,1,1,0,0,0,0,0,0,1,0,533,527,5,0,1,1269,963,0,7,1,10,9,4,210,65,1269,75,127,1067,26,37,690,552,507,167,40,3,1104,121,23,21,545,545,0,0,545,533,12,278,200,36,23,0,8,0,533,312,178,1,15,2,19,2,4,533,7,526,7,6,2.4,5.9,3,533,40,238,200,37,18,826,1091,234,142,166,57,160,286,46,27,22,11,2,8,988,172,364,78,22,20,266,29,11,17,9,6,11,1,8,629,72,138,348,71,329,20,29,224,56,300,52,109,124,15,629,1,1,86,6,6,59,101,25,13,12,29,15,32,19,48,89,70,17,629,81,111,89,100,65,43,54,43,43]
["Lower Super Output Area 2011","Dudley 035D","LSOA Code E01009907 / Name Dudley 035D","E01009907",1468,707,761,1425,43,18,25.08,58.53,1468,89,31,31,74,21,49,31,102,111,284,314,86,101,88,31,25,40.5,41,1222,456,506,0,30,125,105,637,86,128,43,59,99,33,40,29,2,48,25,14,0,2,29,48,15,12,21,3,1,2,0,45,14,10,21,1468,1371,12,0,20,8,0,14,5,9,17,0,3,2,3,2,1,0,1,1468,1375,7,13,12,0,8,10,4,39,1468,323,1120,10,6,1,1,6,8,0,0,2,0,637,629,6,0,2,1468,873,4,4,0,18,5,10,436,118,1468,116,143,1209,54,63,860,669,547,182,51,19,1287,122,19,40,684,682,0,2,692,637,55,90,209,274,84,29,6,0,637,217,245,4,38,6,110,8,9,637,28,609,26,18,2.2000000000000002,5.6,2.7,637,154,278,154,41,10,753,1222,279,127,210,34,162,367,43,48,42,20,2,20,1078,159,469,86,53,31,120,63,31,52,14,14,10,8,18,740,69,137,428,106,380,18,41,240,81,360,51,96,188,25,740,0,1,60,4,5,48,102,22,39,18,18,12,49,30,38,128,113,53,740,72,182,94,81,67,84,59,37,64]
["Lower Super Output Area 2011","Dudley 035E","LSOA Code E01009908 / Name Dudley 035E","E01009908",1652,814,838,1640,12,38,25.57,64.61,1652,96,52,49,106,26,48,38,93,86,331,380,94,144,84,21,4,39.5,41,1323,451,644,3,26,125,74,679,75,110,56,73,132,45,40,33,7,37,31,10,0,2,28,37,12,14,11,8,1,6,1,29,11,8,10,1652,1563,8,0,36,5,2,4,5,3,7,0,0,4,2,2,0,6,5,1652,1543,7,14,22,0,5,23,9,29,1652,247,1374,7,19,3,1,3,6,0,0,7,0,679,662,10,1,6,1652,1003,4,1,0,14,0,7,503,120,1652,97,137,1418,43,57,970,891,515,191,50,5,1445,154,28,25,697,697,0,0,697,679,18,131,194,272,57,35,8,0,679,256,289,2,17,8,89,7,11,679,29,650,32,11,2.4,5.9,2.9,679,104,296,229,45,5,910,1323,196,114,227,29,162,560,35,45,43,18,5,20,1214,201,507,137,42,31,157,59,27,35,18,17,8,2,21,867,78,185,487,117,451,26,38,293,94,416,52,147,194,23,867,0,0,55,10,2,71,125,15,34,28,21,14,83,30,64,164,109,42,867,100,270,133,88,79,63,51,24,59]
["Lower Super Output Area 2011","Dudley 021C","LSOA Code E01009913 / Name Dudley 021C","E01009913",1544,775,769,1544,0,1,56.17,27.49,1544,86,56,41,84,11,41,41,69,68,319,268,102,218,118,14,8,42.4,43,1266,330,721,5,16,82,112,648,111,52,97,106,107,39,28,34,1,34,19,10,0,1,9,34,18,9,7,3,1,2,0,31,17,7,7,1544,1479,2,0,6,13,2,3,4,6,1,0,1,15,0,3,0,2,7,1544,1496,5,3,8,1,4,6,3,18,1544,401,1129,3,6,0,1,1,5,0,0,1,0,648,641,5,1,1,1544,1098,3,3,1,8,3,9,342,77,1544,201,175,1168,65,76,767,576,578,261,90,39,1353,98,35,58,662,662,0,0,662,648,14,50,542,55,6,0,9,0,648,257,236,1,92,14,30,5,13,648,34,614,30,22,2.4,5.2,2.6,648,120,296,178,39,15,832,1266,453,182,205,62,158,155,51,33,31,18,2,11,1126,168,415,86,53,31,252,35,30,41,15,19,12,8,26,692,59,149,405,79,362,12,30,255,65,330,47,119,150,14,692,1,1,108,10,6,65,141,31,27,13,7,9,25,22,38,47,107,34,692,60,59,49,71,112,88,93,82,78]
["Lower Super Output Area 2011","Dudley 024A","LSOA Code E01009917 / Name Dudley 024A","E01009917",1266,628,638,1266,0,14,15.74,80.430000000000007,1266,61,43,27,90,24,19,24,56,58,279,238,88,209,38,7,5,41.4,42,1021,229,647,0,23,65,57,498,45,38,80,86,92,52,20,26,2,23,18,8,0,0,8,23,10,5,8,4,0,3,1,19,10,2,7,1266,1239,3,0,3,4,0,4,3,6,1,0,0,2,0,1,0,0,0,1266,1242,1,4,6,0,2,3,2,6,1266,233,1030,1,2,0,0,0,0,0,0,0,0,498,497,1,0,0,1266,971,1,0,0,0,1,5,217,71,1266,94,127,1045,37,58,667,531,501,167,52,15,1102,110,17,37,504,504,0,0,504,498,6,60,383,59,2,0,0,0,498,237,224,0,12,6,18,1,0,498,16,482,10,7,2.5,5.8,3,498,33,221,186,44,14,787,1021,244,156,188,57,134,204,38,16,26,15,3,8,971,164,393,69,31,20,224,22,22,18,8,8,8,1,15,643,57,144,393,49,334,12,24,255,43,309,45,120,138,6,643,0,0,78,8,12,51,110,38,20,16,20,5,25,23,54,56,103,24,643,49,94,74,88,90,73,57,52,66]
["Bespoke","N/A",{"$f":"IF('Bespoke Area Name'!C4=\"\",\"No bespoke area name entered; Go to sheet \"\"Bespoke Area Name\"\"\",'Bespoke Area Name'!C4)","v":"No bespoke area name entered; Go to sheet \"Bespoke Area Name\""},"AREA0001",{"$f":"'Bespoke Area Data'!D2","v":0},{"$f":"'Bespoke Area Data'!E2","v":0},{"$f":"'Bespoke Area Data'!F2","v":0},{"$f":"'Bespoke Area Data'!G2","v":0},{"$f":"'Bespoke Area Data'!H2","v":0},{"$f":"'Bespoke Area Data'!I2","v":0},{"$f":"'Bespoke Area Data'!J2","v":0},{"$f":"'Bespoke Area Data'!K2","v":0},{"$f":"'Bespoke Area Data'!L2","v":0},{"$f":"'Bespoke Area Data'!M2","v":0},{"$f":"'Bespoke Area Data'!N2","v":0},{"$f":"'Bespoke Area Data'!O2","v":0},{"$f":"'Bespoke Area Data'!P2","v":0},{"$f":"'Bespoke Area Data'!Q2","v":0},{"$f":"'Bespoke Area Data'!R2","v":0},{"$f":"'Bespoke Area Data'!S2","v":0},{"$f":"'Bespoke Area Data'!T2","v":0},{"$f":"'Bespoke Area Data'!U2","v":0},{"$f":"'Bespoke Area Data'!V2","v":0},{"$f":"'Bespoke Area Data'!W2","v":0},{"$f":"'Bespoke Area Data'!X2","v":0},{"$f":"'Bespoke Area Data'!Y2","v":0},{"$f":"'Bespoke Area Data'!Z2","v":0},{"$f":"'Bespoke Area Data'!AA2","v":0},{"$f":"'Bespoke Area Data'!AB2","v":0},{"$f":"'Bespoke Area Data'!AC2","v":0},{"$f":"'Bespoke Area Data'!AD2","v":0},{"$f":"'Bespoke Area Data'!AE2","v":0},{"$f":"'Bespoke Area Data'!AF2","v":0},{"$f":"'Bespoke Area Data'!AG2","v":0},{"$f":"'Bespoke Area Data'!AH2","v":0},{"$f":"'Bespoke Area Data'!AI2","v":0},{"$f":"'Bespoke Area Data'!AJ2","v":0},{"$f":"'Bespoke Area Data'!AK2","v":0},{"$f":"'Bespoke Area Data'!AL2","v":0},{"$f":"'Bespoke Area Data'!AM2","v":0},{"$f":"'Bespoke Area Data'!AN2","v":0},{"$f":"'Bespoke Area Data'!AO2","v":0},{"$f":"'Bespoke Area Data'!AP2","v":0},{"$f":"'Bespoke Area Data'!AQ2","v":0},{"$f":"'Bespoke Area Data'!AR2","v":0},{"$f":"'Bespoke Area Data'!AS2","v":0},{"$f":"'Bespoke Area Data'!AT2","v":0},{"$f":"'Bespoke Area Data'!AU2","v":0},{"$f":"'Bespoke Area Data'!AV2","v":0},{"$f":"'Bespoke Area Data'!AW2","v":0},{"$f":"'Bespoke Area Data'!AX2","v":0},{"$f":"'Bespoke Area Data'!AY2","v":0},{"$f":"'Bespoke Area Data'!AZ2","v":0},{"$f":"'Bespoke Area Data'!BA2","v":0},{"$f":"'Bespoke Area Data'!BB2","v":0},{"$f":"'Bespoke Area Data'!BC2","v":0},{"$f":"'Bespoke Area Data'!BD2","v":0},{"$f":"'Bespoke Area Data'!BE2","v":0},{"$f":"'Bespoke Area Data'!BF2","v":0},{"$f":"'Bespoke Area Data'!BG2","v":0},{"$f":"'Bespoke Area Data'!BH2","v":0},{"$f":"'Bespoke Area Data'!BI2","v":0},{"$f":"'Bespoke Area Data'!BJ2","v":0},{"$f":"'Bespoke Area Data'!BK2","v":0},{"$f":"'Bespoke Area Data'!BL2","v":0},{"$f":"'Bespoke Area Data'!BM2","v":0},{"$f":"'Bespoke Area Data'!BN2","v":0},{"$f":"'Bespoke Area Data'!BO2","v":0},{"$f":"'Bespoke Area Data'!BP2","v":0},{"$f":"'Bespoke Area Data'!BQ2","v":0},{"$f":"'Bespoke Area Data'!BR2","v":0},{"$f":"'Bespoke Area Data'!BS2","v":0},{"$f":"'Bespoke Area Data'!BT2","v":0},{"$f":"'Bespoke Area Data'!BU2","v":0},{"$f":"'Bespoke Area Data'!BV2","v":0},{"$f":"'Bespoke Area Data'!BW2","v":0},{"$f":"'Bespoke Area Data'!BX2","v":0},{"$f":"'Bespoke Area Data'!BY2","v":0},{"$f":"'Bespoke Area Data'!BZ2","v":0},{"$f":"'Bespoke Area Data'!CA2","v":0},{"$f":"'Bespoke Area Data'!CB2","v":0},{"$f":"'Bespoke Area Data'!CC2","v":0},{"$f":"'Bespoke Area Data'!CD2","v":0},{"$f":"'Bespoke Area Data'!CE2","v":0},{"$f":"'Bespoke Area Data'!CF2","v":0},{"$f":"'Bespoke Area Data'!CG2","v":0},{"$f":"'Bespoke Area Data'!CH2","v":0},{"$f":"'Bespoke Area Data'!CI2","v":0},{"$f":"'Bespoke Area Data'!CJ2","v":0},{"$f":"'Bespoke Area Data'!CK2","v":0},{"$f":"'Bespoke Area Data'!CL2","v":0},{"$f":"'Bespoke Area Data'!CM2","v":0},{"$f":"'Bespoke Area Data'!CN2","v":0},{"$f":"'Bespoke Area Data'!CO2","v":0},{"$f":"'Bespoke Area Data'!CP2","v":0},{"$f":"'Bespoke Area Data'!CQ2","v":0},{"$f":"'Bespoke Area Data'!CR2","v":0},{"$f":"'Bespoke Area Data'!CS2","v":0},{"$f":"'Bespoke Area Data'!CT2","v":0},{"$f":"'Bespoke Area Data'!CU2","v":0},{"$f":"'Bespoke Area Data'!CV2","v":0},{"$f":"'Bespoke Area Data'!CW2","v":0},{"$f":"'Bespoke Area Data'!CX2","v":0},{"$f":"'Bespoke Area Data'!CY2","v":0},{"$f":"'Bespoke Area Data'!CZ2","v":0},{"$f":"'Bespoke Area Data'!DA2","v":0},{"$f":"'Bespoke Area Data'!DB2","v":0},{"$f":"'Bespoke Area Data'!DC2","v":0},{"$f":"'Bespoke Area Data'!DD2","v":0},{"$f":"'Bespoke Area Data'!DE2","v":0},{"$f":"'Bespoke Area Data'!DF2","v":0},{"$f":"'Bespoke Area Data'!DG2","v":0},{"$f":"'Bespoke Area Data'!DH2","v":0},{"$f":"'Bespoke Area Data'!DI2","v":0},{"$f":"'Bespoke Area Data'!DJ2","v":0},{"$f":"'Bespoke Area Data'!DK2","v":0},{"$f":"'Bespoke Area Data'!DL2","v":0},{"$f":"'Bespoke Area Data'!DM2","v":0},{"$f":"'Bespoke Area Data'!DN2","v":0},{"$f":"'Bespoke Area Data'!DO2","v":0},{"$f":"'Bespoke Area Data'!DP2","v":0},{"$f":"'Bespoke Area Data'!DQ2","v":0},{"$f":"'Bespoke Area Data'!DR2","v":0},{"$f":"'Bespoke Area Data'!DS2","v":0},{"$f":"'Bespoke Area Data'!DT2","v":0},{"$f":"'Bespoke Area Data'!DU2","v":0},{"$f":"'Bespoke Area Data'!DV2","v":0},{"$f":"'Bespoke Area Data'!DW2","v":0},{"$f":"'Bespoke Area Data'!DX2","v":0},{"$f":"'Bespoke Area Data'!DY2","v":0},{"$f":"'Bespoke Area Data'!DZ2","v":0},{"$f":"'Bespoke Area Data'!EA2","v":0},{"$f":"'Bespoke Area Data'!EB2","v":0},{"$f":"'Bespoke Area Data'!EC2","v":0},{"$f":"'Bespoke Area Data'!ED2","v":0},{"$f":"'Bespoke Area Data'!EE2","v":0},{"$f":"'Bespoke Area Data'!EF2","v":0},{"$f":"'Bespoke Area Data'!EG2","v":0},{"$f":"'Bespoke Area Data'!EH2","v":0},{"$f":"'Bespoke Area Data'!D3","v":0},{"$f":"'Bespoke Area Data'!E3","v":0},{"$f":"'Bespoke Area Data'!F3","v":0},{"$f":"'Bespoke Area Data'!G3","v":0},{"$f":"'Bespoke Area Data'!H3","v":0},{"$f":"'Bespoke Area Data'!I3","v":0},{"$f":"'Bespoke Area Data'!J3","v":0},{"$f":"'Bespoke Area Data'!K3","v":0},{"$f":"'Bespoke Area Data'!L3","v":0},{"$f":"'Bespoke Area Data'!M3","v":0},{"$f":"'Bespoke Area Data'!N3","v":0},{"$f":"'Bespoke Area Data'!O3","v":0},{"$f":"'Bespoke Area Data'!P3","v":0},{"$f":"'Bespoke Area Data'!Q3","v":0},{"$f":"'Bespoke Area Data'!R3","v":0},{"$f":"'Bespoke Area Data'!S3","v":0},{"$f":"'Bespoke Area Data'!T3","v":0},{"$f":"'Bespoke Area Data'!U3","v":0},{"$f":"'Bespoke Area Data'!V3","v":0},{"$f":"'Bespoke Area Data'!W3","v":0},{"$f":"'Bespoke Area Data'!X3","v":0},{"$f":"'Bespoke Area Data'!Y3","v":0},{"$f":"'Bespoke Area Data'!Z3","v":0},{"$f":"'Bespoke Area Data'!AA3","v":0},{"$f":"'Bespoke Area Data'!AB3","v":0},{"$f":"'Bespoke Area Data'!AC3","v":0},{"$f":"'Bespoke Area Data'!AD3","v":0},{"$f":"'Bespoke Area Data'!AE3","v":0},{"$f":"'Bespoke Area Data'!AF3","v":0},{"$f":"'Bespoke Area Data'!AG3","v":0},{"$f":"'Bespoke Area Data'!AH3","v":0},{"$f":"'Bespoke Area Data'!AI3","v":0},{"$f":"'Bespoke Area Data'!AJ3","v":0},{"$f":"'Bespoke Area Data'!AK3","v":0},{"$f":"'Bespoke Area Data'!AL3","v":0},{"$f":"'Bespoke Area Data'!AM3","v":0},{"$f":"'Bespoke Area Data'!AN3","v":0},{"$f":"'Bespoke Area Data'!AO3","v":0},{"$f":"'Bespoke Area Data'!AP3","v":0},{"$f":"'Bespoke Area Data'!AQ3","v":0},{"$f":"'Bespoke Area Data'!AR3","v":0},{"$f":"'Bespoke Area Data'!AS3","v":0},{"$f":"'Bespoke Area Data'!AT3","v":0},{"$f":"'Bespoke Area Data'!AU3","v":0},{"$f":"'Bespoke Area Data'!AV3","v":0},{"$f":"'Bespoke Area Data'!AW3","v":0},{"$f":"'Bespoke Area Data'!AX3","v":0},{"$f":"'Bespoke Area Data'!AY3","v":0},{"$f":"'Bespoke Area Data'!AZ3","v":0},{"$f":"'Bespoke Area Data'!BA3","v":0},{"$f":"'Bespoke Area Data'!BB3","v":0},{"$f":"'Bespoke Area Data'!BC3","v":0},{"$f":"'Bespoke Area Data'!BD3","v":0},{"$f":"'Bespoke Area Data'!BE3","v":0},{"$f":"'Bespoke Area Data'!BF3","v":0},{"$f":"'Bespoke Area Data'!BG3","v":0},{"$f":"'Bespoke Area Data'!BH3","v":0},{"$f":"'Bespoke Area Data'!BI3","v":0},{"$f":"'Bespoke Area Data'!BJ3","v":0},{"$f":"'Bespoke Area Data'!BK3","v":0},{"$f":"'Bespoke Area Data'!BL3","v":0},{"$f":"'Bespoke Area Data'!BM3","v":0},{"$f":"'Bespoke Area Data'!BN3","v":0},{"$f":"'Bespoke Area Data'!BO3","v":0},{"$f":"'Bespoke Area Data'!BP3","v":0},{"$f":"'Bespoke Area Data'!BQ3","v":0},{"$f":"'Bespoke Area Data'!BR3","v":0},{"$f":"'Bespoke Area Data'!BS3","v":0},{"$f":"'Bespoke Area Data'!BT3","v":0},{"$f":"'Bespoke Area Data'!BU3","v":0},{"$f":"'Bespoke Area Data'!BV3","v":0},{"$f":"'Bespoke Area Data'!BW3","v":0},{"$f":"'Bespoke Area Data'!BX3","v":0},{"$f":"'Bespoke Area Data'!BY3","v":0},{"$f":"'Bespoke Area Data'!BZ3","v":0},{"$f":"'Bespoke Area Data'!CA3","v":0},{"$f":"'Bespoke Area Data'!CB3","v":0},{"$f":"'Bespoke Area Data'!CC3","v":0},{"$f":"'Bespoke Area Data'!CD3","v":0},{"$f":"'Bespoke Area Data'!CE3","v":0},{"$f":"'Bespoke Area Data'!CF3","v":0},{"$f":"'Bespoke Area Data'!CG3","v":0},{"$f":"'Bespoke Area Data'!CH3","v":0},{"$f":"'Bespoke Area Data'!CI3","v":0},{"$f":"'Bespoke Area Data'!CJ3","v":0},{"$f":"'Bespoke Area Data'!CK3","v":0},{"$f":"'Bespoke Area Data'!CL3","v":0},{"$f":"'Bespoke Area Data'!CM3","v":0},{"$f":"'Bespoke Area Data'!CN3","v":0},{"$f":"'Bespoke Area Data'!CO3","v":0},{"$f":"'Bespoke Area Data'!CP3","v":0},{"$f":"'Bespoke Area Data'!CQ3","v":0},{"$f":"'Bespoke Area Data'!CR3","v":0},{"$f":"'Bespoke Area Data'!CS3","v":0},{"$f":"'Bespoke Area Data'!CT3","v":0},{"$f":"'Bespoke Area Data'!CU3","v":0},{"$f":"'Bespoke Area Data'!CV3","v":0},{"$f":"'Bespoke Area Data'!CW3","v":0},{"$f":"'Bespoke Area Data'!CX3","v":0},{"$f":"'Bespoke Area Data'!CY3","v":0},{"$f":"'Bespoke Area Data'!CZ3","v":0},{"$f":"'Bespoke Area Data'!DA3","v":0},{"$f":"'Bespoke Area Data'!DB3","v":0},{"$f":"'Bespoke Area Data'!DC3","v":0},{"$f":"'Bespoke Area Data'!DD3","v":0},{"$f":"'Bespoke Area Data'!DE3","v":0},{"$f":"'Bespoke Area Data'!DF3","v":0},{"$f":"'Bespoke Area Data'!DG3","v":0},{"$f":"'Bespoke Area Data'!DH3","v":0},{"$f":"'Bespoke Area Data'!DI3","v":0}]
["Bespoke","N/A",{"$f":"IF('Bespoke Area Name'!C5=\"\",\"No bespoke area name entered; Go to sheet \"\"Bespoke Area Name\"\"\",'Bespoke Area Name'!C5)","v":"No bespoke area name entered; Go to sheet \"Bespoke Area Name\""},"AREA0002",{"$f":"'Bespoke Area Data'!D6","v":0},{"$f":"'Bespoke Area Data'!E6","v":0},{"$f":"'Bespoke Area Data'!F6","v":0},{"$f":"'Bespoke Area Data'!G6","v":0},{"$f":"'Bespoke Area Data'!H6","v":0},{"$f":"'Bespoke Area Data'!I6","v":0},{"$f":"'Bespoke Area Data'!J6","v":0},{"$f":"'Bespoke Area Data'!K6","v":0},{"$f":"'Bespoke Area Data'!L6","v":0},{"$f":"'Bespoke Area Data'!M6","v":0},{"$f":"'Bespoke Area Data'!N6","v":0},{"$f":"'Bespoke Area Data'!O6","v":0},{"$f":"'Bespoke Area Data'!P6","v":0},{"$f":"'Bespoke Area Data'!Q6","v":0},{"$f":"'Bespoke Area Data'!R6","v":0},{"$f":"'Bespoke Area Data'!S6","v":0},{"$f":"'Bespoke Area Data'!T6","v":0},{"$f":"'Bespoke Area Data'!U6","v":0},{"$f":"'Bespoke Area Data'!V6","v":0},{"$f":"'Bespoke Area Data'!W6","v":0},{"$f":"'Bespoke Area Data'!X6","v":0},{"$f":"'Bespoke Area Data'!Y6","v":0},{"$f":"'Bespoke Area Data'!Z6","v":0},{"$f":"'Bespoke Area Data'!AA6","v":0},{"$f":"'Bespoke Area Data'!AB6","v":0},{"$f":"'Bespoke Area Data'!AC6","v":0},{"$f":"'Bespoke Area Data'!AD6","v":0},{"$f":"'Bespoke Area Data'!AE6","v":0},{"$f":"'Bespoke Area Data'!AF6","v":0},{"$f":"'Bespoke Area Data'!AG6","v":0},{"$f":"'Bespoke Area Data'!AH6","v":0},{"$f":"'Bespoke Area Data'!AI6","v":0},{"$f":"'Bespoke Area Data'!AJ6","v":0},{"$f":"'Bespoke Area Data'!AK6","v":0},{"$f":"'Bespoke Area Data'!AL6","v":0},{"$f":"'Bespoke Area Data'!AM6","v":0},{"$f":"'Bespoke Area Data'!AN6","v":0},{"$f":"'Bespoke Area Data'!AO6","v":0},{"$f":"'Bespoke Area Data'!AP6","v":0},{"$f":"'Bespoke Area Data'!AQ6","v":0},{"$f":"'Bespoke Area Data'!AR6","v":0},{"$f":"'Bespoke Area Data'!AS6","v":0},{"$f":"'Bespoke Area Data'!AT6","v":0},{"$f":"'Bespoke Area Data'!AU6","v":0},{"$f":"'Bespoke Area Data'!AV6","v":0},{"$f":"'Bespoke Area Data'!AW6","v":0},{"$f":"'Bespoke Area Data'!AX6","v":0},{"$f":"'Bespoke Area Data'!AY6","v":0},{"$f":"'Bespoke Area Data'!AZ6","v":0},{"$f":"'Bespoke Area Data'!BA6","v":0},{"$f":"'Bespoke Area Data'!BB6","v":0},{"$f":"'Bespoke Area Data'!BC6","v":0},{"$f":"'Bespoke Area Data'!BD6","v":0},{"$f":"'Bespoke Area Data'!BE6","v":0},{"$f":"'Bespoke Area Data'!BF6","v":0},{"$f":"'Bespoke Area Data'!BG6","v":0},{"$f":"'Bespoke Area Data'!BH6","v":0},{"$f":"'Bespoke Area Data'!BI6","v":0},{"$f":"'Bespoke Area Data'!BJ6","v":0},{"$f":"'Bespoke Area Data'!BK6","v":0},{"$f":"'Bespoke Area Data'!BL6","v":0},{"$f":"'Bespoke Area Data'!BM6","v":0},{"$f":"'Bespoke Area Data'!BN6","v":0},{"$f":"'Bespoke Area Data'!BO6","v":0},{"$f":"'Bespoke Area Data'!BP6","v":0},{"$f":"'Bespoke Area Data'!BQ6","v":0},{"$f":"'Bespoke Area Data'!BR6","v":0},{"$f":"'Bespoke Area Data'!BS6","v":0},{"$f":"'Bespoke Area Data'!BT6","v":0},{"$f":"'Bespoke Area Data'!BU6","v":0},{"$f":"'Bespoke Area Data'!BV6","v":0},{"$f":"'Bespoke Area Data'!BW6","v":0},{"$f":"'Bespoke Area Data'!BX6","v":0},{"$f":"'Bespoke Area Data'!BY6","v":0},{"$f":"'Bespoke Area Data'!BZ6","v":0},{"$f":"'Bespoke Area Data'!CA6","v":0},{"$f":"'Bespoke Area Data'!CB6","v":0},{"$f":"'Bespoke Area Data'!CC6","v":0},{"$f":"'Bespoke Area Data'!CD6","v":0},{"$f":"'Bespoke Area Data'!CE6","v":0},{"$f":"'Bespoke Area Data'!CF6","v":0},{"$f":"'Bespoke Area Data'!CG6","v":0},{"$f":"'Bespoke Area Data'!CH6","v":0},{"$f":"'Bespoke Area Data'!CI6","v":0},{"$f":"'Bespoke Area Data'!CJ6","v":0},{"$f":"'Bespoke Area Data'!CK6","v":0},{"$f":"'Bespoke Area Data'!CL6","v":0},{"$f":"'Bespoke Area Data'!CM6","v":0},{"$f":"'Bespoke Area Data'!CN6","v":0},{"$f":"'Bespoke Area Data'!CO6","v":0},{"$f":"'Bespoke Area Data'!CP6","v":0},{"$f":"'Bespoke Area Data'!CQ6","v":0},{"$f":"'Bespoke Area Data'!CR6","v":0},{"$f":"'Bespoke Area Data'!CS6","v":0},{"$f":"'Bespoke Area Data'!CT6","v":0},{"$f":"'Bespoke Area Data'!CU6","v":0},{"$f":"'Bespoke Area Data'!CV6","v":0},{"$f":"'Bespoke Area Data'!CW6","v":0},{"$f":"'Bespoke Area Data'!CX6","v":0},{"$f":"'Bespoke Area Data'!CY6","v":0},{"$f":"'Bespoke Area Data'!CZ6","v":0},{"$f":"'Bespoke Area Data'!DA6","v":0},{"$f":"'Bespoke Area Data'!DB6","v":0},{"$f":"'Bespoke Area Data'!DC6","v":0},{"$f":"'Bespoke Area Data'!DD6","v":0},{"$f":"'Bespoke Area Data'!DE6","v":0},{"$f":"'Bespoke Area Data'!DF6","v":0},{"$f":"'Bespoke Area Data'!DG6","v":0},{"$f":"'Bespoke Area Data'!DH6","v":0},{"$f":"'Bespoke Area Data'!DI6","v":0},{"$f":"'Bespoke Area Data'!DJ6","v":0},{"$f":"'Bespoke Area Data'!DK6","v":0},{"$f":"'Bespoke Area Data'!DL6","v":0},{"$f":"'Bespoke Area Data'!DM6","v":0},{"$f":"'Bespoke Area Data'!DN6","v":0},{"$f":"'Bespoke Area Data'!DO6","v":0},{"$f":"'Bespoke Area Data'!DP6","v":0},{"$f":"'Bespoke Area Data'!DQ6","v":0},{"$f":"'Bespoke Area Data'!DR6","v":0},{"$f":"'Bespoke Area Data'!DS6","v":0},{"$f":"'Bespoke Area Data'!DT6","v":0},{"$f":"'Bespoke Area Data'!DU6","v":0},{"$f":"'Bespoke Area Data'!DV6","v":0},{"$f":"'Bespoke Area Data'!DW6","v":0},{"$f":"'Bespoke Area Data'!DX6","v":0},{"$f":"'Bespoke Area Data'!DY6","v":0},{"$f":"'Bespoke Area Data'!DZ6","v":0},{"$f":"'Bespoke Area Data'!EA6","v":0},{"$f":"'Bespoke Area Data'!EB6","v":0},{"$f":"'Bespoke Area Data'!EC6","v":0},{"$f":"'Bespoke Area Data'!ED6","v":0},{"$f":"'Bespoke Area Data'!EE6","v":0},{"$f":"'Bespoke Area Data'!EF6","v":0},{"$f":"'Bespoke Area Data'!EG6","v":0},{"$f":"'Bespoke Area Data'!EH6","v":0},{"$f":"'Bespoke Area Data'!D7","v":0},{"$f":"'Bespoke Area Data'!E7","v":0},{"$f":"'Bespoke Area Data'!F7","v":0},{"$f":"'Bespoke Area Data'!G7","v":0},{"$f":"'Bespoke Area Data'!H7","v":0},{"$f":"'Bespoke Area Data'!I7","v":0},{"$f":"'Bespoke Area Data'!J7","v":0},{"$f":"'Bespoke Area Data'!K7","v":0},{"$f":"'Bespoke Area Data'!L7","v":0},{"$f":"'Bespoke Area Data'!M7","v":0},{"$f":"'Bespoke Area Data'!N7","v":0},{"$f":"'Bespoke Area Data'!O7","v":0},{"$f":"'Bespoke Area Data'!P7","v":0},{"$f":"'Bespoke Area Data'!Q7","v":0},{"$f":"'Bespoke Area Data'!R7","v":0},{"$f":"'Bespoke Area Data'!S7","v":0},{"$f":"'Bespoke Area Data'!T7","v":0},{"$f":"'Bespoke Area Data'!U7","v":0},{"$f":"'Bespoke Area Data'!V7","v":0},{"$f":"'Bespoke Area Data'!W7","v":0},{"$f":"'Bespoke Area Data'!X7","v":0},{"$f":"'Bespoke Area Data'!Y7","v":0},{"$f":"'Bespoke Area Data'!Z7","v":0},{"$f":"'Bespoke Area Data'!AA7","v":0},{"$f":"'Bespoke Area Data'!AB7","v":0},{"$f":"'Bespoke Area Data'!AC7","v":0},{"$f":"'Bespoke Area Data'!AD7","v":0},{"$f":"'Bespoke Area Data'!AE7","v":0},{"$f":"'Bespoke Area Data'!AF7","v":0},{"$f":"'Bespoke Area Data'!AG7","v":0},{"$f":"'Bespoke Area Data'!AH7","v":0},{"$f":"'Bespoke Area Data'!AI7","v":0},{"$f":"'Bespoke Area Data'!AJ7","v":0},{"$f":"'Bespoke Area Data'!AK7","v":0},{"$f":"'Bespoke Area Data'!AL7","v":0},{"$f":"'Bespoke Area Data'!AM7","v":0},{"$f":"'Bespoke Area Data'!AN7","v":0},{"$f":"'Bespoke Area Data'!AO7","v":0},{"$f":"'Bespoke Area Data'!AP7","v":0},{"$f":"'Bespoke Area Data'!AQ7","v":0},{"$f":"'Bespoke Area Data'!AR7","v":0},{"$f":"'Bespoke Area Data'!AS7","v":0},{"$f":"'Bespoke Area Data'!AT7","v":0},{"$f":"'Bespoke Area Data'!AU7","v":0},{"$f":"'Bespoke Area Data'!AV7","v":0},{"$f":"'Bespoke Area Data'!AW7","v":0},{"$f":"'Bespoke Area Data'!AX7","v":0},{"$f":"'Bespoke Area Data'!AY7","v":0},{"$f":"'Bespoke Area Data'!AZ7","v":0},{"$f":"'Bespoke Area Data'!BA7","v":0},{"$f":"'Bespoke Area Data'!BB7","v":0},{"$f":"'Bespoke Area Data'!BC7","v":0},{"$f":"'Bespoke Area Data'!BD7","v":0},{"$f":"'Bespoke Area Data'!BE7","v":0},{"$f":"'Bespoke Area Data'!BF7","v":0},{"$f":"'Bespoke Area Data'!BG7","v":0},{"$f":"'Bespoke Area Data'!BH7","v":0},{"$f":"'Bespoke Area Data'!BI7","v":0},{"$f":"'Bespoke Area Data'!BJ7","v":0},{"$f":"'Bespoke Area Data'!BK7","v":0},{"$f":"'Bespoke Area Data'!BL7","v":0},{"$f":"'Bespoke Area Data'!BM7","v":0},{"$f":"'Bespoke Area Data'!BN7","v":0},{"$f":"'Bespoke Area Data'!BO7","v":0},{"$f":"'Bespoke Area Data'!BP7","v":0},{"$f":"'Bespoke Area Data'!BQ7","v":0},{"$f":"'Bespoke Area Data'!BR7","v":0},{"$f":"'Bespoke Area Data'!BS7","v":0},{"$f":"'Bespoke Area Data'!BT7","v":0},{"$f":"'Bespoke Area Data'!BU7","v":0},{"$f":"'Bespoke Area Data'!BV7","v":0},{"$f":"'Bespoke Area Data'!BW7","v":0},{"$f":"'Bespoke Area Data'!BX7","v":0},{"$f":"'Bespoke Area Data'!BY7","v":0},{"$f":"'Bespoke Area Data'!BZ7","v":0},{"$f":"'Bespoke Area Data'!CA7","v":0},{"$f":"'Bespoke Area Data'!CB7","v":0},{"$f":"'Bespoke Area Data'!CC7","v":0},{"$f":"'Bespoke Area Data'!CD7","v":0},{"$f":"'Bespoke Area Data'!CE7","v":0},{"$f":"'Bespoke Area Data'!CF7","v":0},{"$f":"'Bespoke Area Data'!CG7","v":0},{"$f":"'Bespoke Area Data'!CH7","v":0},{"$f":"'Bespoke Area Data'!CI7","v":0},{"$f":"'Bespoke Area Data'!CJ7","v":0},{"$f":"'Bespoke Area Data'!CK7","v":0},{"$f":"'Bespoke Area Data'!CL7","v":0},{"$f":"'Bespoke Area Data'!CM7","v":0},{"$f":"'Bespoke Area Data'!CN7","v":0},{"$f":"'Bespoke Area Data'!CO7","v":0},{"$f":"'Bespoke Area Data'!CP7","v":0},{"$f":"'Bespoke Area Data'!CQ7","v":0},{"$f":"'Bespoke Area Data'!CR7","v":0},{"$f":"'Bespoke Area Data'!CS7","v":0},{"$f":"'Bespoke Area Data'!CT7","v":0},{"$f":"'Bespoke Area Data'!CU7","v":0},{"$f":"'Bespoke Area Data'!CV7","v":0},{"$f":"'Bespoke Area Data'!CW7","v":0},{"$f":"'Bespoke Area Data'!CX7","v":0},{"$f":"'Bespoke Area Data'!CY7","v":0},{"$f":"'Bespoke Area Data'!CZ7","v":0},{"$f":"'Bespoke Area Data'!DA7","v":0},{"$f":"'Bespoke Area Data'!DB7","v":0},{"$f":"'Bespoke Area Data'!DC7","v":0},{"$f":"'Bespoke Area Data'!DD7","v":0},{"$f":"'Bespoke Area Data'!DE7","v":0},{"$f":"'Bespoke Area Data'!DF7","v":0},{"$f":"'Bespoke Area Data'!DG7","v":0},{"$f":"'Bespoke Area Data'!DH7","v":0},{"$f":"'Bespoke Area Data'!DI7","v":0}]
["Bespoke","N/A",{"$f":"IF('Bespoke Area Name'!C10=\"\",\"No bespoke area name entered; Go to sheet \"\"Bespoke Area Name\"\"\",'Bespoke Area Name'!C10)","v":"No bespoke area name entered; Go to sheet \"Bespoke Area Name\""},"AREA0007",{"$f":"'Bespoke Area Data'!D26","v":0},{"$f":"'Bespoke Area Data'!E26","v":0},{"$f":"'Bespoke Area Data'!F26","v":0},{"$f":"'Bespoke Area Data'!G26","v":0},{"$f":"'Bespoke Area Data'!H26","v":0},{"$f":"'Bespoke Area Data'!I26","v":0},{"$f":"'Bespoke Area Data'!J26","v":0},{"$f":"'Bespoke Area Data'!K26","v":0},{"$f":"'Bespoke Area Data'!L26","v":0},{"$f":"'Bespoke Area Data'!M26","v":0},{"$f":"'Bespoke Area Data'!N26","v":0},{"$f":"'Bespoke Area Data'!O26","v":0},{"$f":"'Bespoke Area Data'!P26","v":0},{"$f":"'Bespoke Area Data'!Q26","v":0},{"$f":"'Bespoke Area Data'!R26","v":0},{"$f":"'Bespoke Area Data'!S26","v":0},{"$f":"'Bespoke Area Data'!T26","v":0},{"$f":"'Bespoke Area Data'!U26","v":0},{"$f":"'Bespoke Area Data'!V26","v":0},{"$f":"'Bespoke Area Data'!W26","v":0},{"$f":"'Bespoke Area Data'!X26","v":0},{"$f":"'Bespoke Area Data'!Y26","v":0},{"$f":"'Bespoke Area Data'!Z26","v":0},{"$f":"'Bespoke Area Data'!AA26","v":0},{"$f":"'Bespoke Area Data'!AB26","v":0},{"$f":"'Bespoke Area Data'!AC26","v":0},{"$f":"'Bespoke Area Data'!AD26","v":0},{"$f":"'Bespoke Area Data'!AE26","v":0},{"$f":"'Bespoke Area Data'!AF26","v":0},{"$f":"'Bespoke Area Data'!AG26","v":0},{"$f":"'Bespoke Area Data'!AH26","v":0},{"$f":"'Bespoke Area Data'!AI26","v":0},{"$f":"'Bespoke Area Data'!AJ26","v":0},{"$f":"'Bespoke Area Data'!AK26","v":0},{"$f":"'Bespoke Area Data'!AL26","v":0},{"$f":"'Bespoke Area Data'!AM26","v":0},{"$f":"'Bespoke Area Data'!AN26","v":0},{"$f":"'Bespoke Area Data'!AO26","v":0},{"$f":"'Bespoke Area Data'!AP26","v":0},{"$f":"'Bespoke Area Data'!AQ26","v":0},{"$f":"'Bespoke Area Data'!AR26","v":0},{"$f":"'Bespoke Area Data'!AS26","v":0},{"$f":"'Bespoke Area Data'!AT26","v":0},{"$f":"'Bespoke Area Data'!AU26","v":0},{"$f":"'Bespoke Area Data'!AV26","v":0},{"$f":"'Bespoke Area Data'!AW26","v":0},{"$f":"'Bespoke Area Data'!AX26","v":0},{"$f":"'Bespoke Area Data'!AY26","v":0},{"$f":"'Bespoke Area Data'!AZ26","v":0},{"$f":"'Bespoke Area Data'!BA26","v":0},{"$f":"'Bespoke Area Data'!BB26","v":0},{"$f":"'Bespoke Area Data'!BC26","v":0},{"$f":"'Bespoke Area Data'!BD26","v":0},{"$f":"'Bespoke Area Data'!BE26","v":0},{"$f":"'Bespoke Area Data'!BF26","v":0},{"$f":"'Bespoke Area Data'!BG26","v":0},{"$f":"'Bespoke Area Data'!BH26","v":0},{"$f":"'Bespoke Area Data'!BI26","v":0},{"$f":"'Bespoke Area Data'!BJ26","v":0},{"$f":"'Bespoke Area Data'!BK26","v":0},{"$f":"'Bespoke Area Data'!BL26","v":0},{"$f":"'Bespoke Area Data'!BM26","v":0},{"$f":"'Bespoke Area Data'!BN26","v":0},{"$f":"'Bespoke Area Data'!BO26","v":0},{"$f":"'Bespoke Area Data'!BP26","v":0},{"$f":"'Bespoke Area Data'!BQ26","v":0},{"$f":"'Bespoke Area Data'!BR26","v":0},{"$f":"'Bespoke Area Data'!BS26","v":0},{"$f":"'Bespoke Area Data'!BT26","v":0},{"$f":"'Bespoke Area Data'!BU26","v":0},{"$f":"'Bespoke Area Data'!BV26","v":0},{"$f":"'Bespoke Area Data'!BW26","v":0},{"$f":"'Bespoke Area Data'!BX26","v":0},{"$f":"'Bespoke Area Data'!BY26","v":0},{"$f":"'Bespoke Area Data'!BZ26","v":0},{"$f":"'Bespoke Area Data'!CA26","v":0},{"$f":"'Bespoke Area Data'!CB26","v":0},{"$f":"'Bespoke Area Data'!CC26","v":0},{"$f":"'Bespoke Area Data'!CD26","v":0},{"$f":"'Bespoke Area Data'!CE26","v":0},{"$f":"'Bespoke Area Data'!CF26","v":0},{"$f":"'Bespoke Area Data'!CG26","v":0},{"$f":"'Bespoke Area Data'!CH26","v":0},{"$f":"'Bespoke Area Data'!CI26","v":0},{"$f":"'Bespoke Area Data'!CJ26","v":0},{"$f":"'Bespoke Area Data'!CK26","v":0},{"$f":"'Bespoke Area Data'!CL26","v":0},{"$f":"'Bespoke Area Data'!CM26","v":0},{"$f":"'Bespoke Area Data'!CN26","v":0},{"$f":"'Bespoke Area Data'!CO26","v":0},{"$f":"'Bespoke Area Data'!CP26","v":0},{"$f":"'Bespoke Area Data'!CQ26","v":0},{"$f":"'Bespoke Area Data'!CR26","v":0},{"$f":"'Bespoke Area Data'!CS26","v":0},{"$f":"'Bespoke Area Data'!CT26","v":0},{"$f":"'Bespoke Area Data'!CU26","v":0},{"$f":"'Bespoke Area Data'!CV26","v":0},{"$f":"'Bespoke Area Data'!CW26","v":0},{"$f":"'Bespoke Area Data'!CX26","v":0},{"$f":"'Bespoke Area Data'!CY26","v":0},{"$f":"'Bespoke Area Data'!CZ26","v":0},{"$f":"'Bespoke Area Data'!DA26","v":0},{"$f":"'Bespoke Area Data'!DB26","v":0},{"$f":"'Bespoke Area Data'!DC26","v":0},{"$f":"'Bespoke Area Data'!DD26","v":0},{"$f":"'Bespoke Area Data'!DE26","v":0},{"$f":"'Bespoke Area Data'!DF26","v":0},{"$f":"'Bespoke Area Data'!DG26","v":0},{"$f":"'Bespoke Area Data'!DH26","v":0},{"$f":"'Bespoke Area Data'!DI26","v":0},{"$f":"'Bespoke Area Data'!DJ26","v":0},{"$f":"'Bespoke Area Data'!DK26","v":0},{"$f":"'Bespoke Area Data'!DL26","v":0},{"$f":"'Bespoke Area Data'!DM26","v":0},{"$f":"'Bespoke Area Data'!DN26","v":0},{"$f":"'Bespoke Area Data'!DO26","v":0},{"$f":"'Bespoke Area Data'!DP26","v":0},{"$f":"'Bespoke Area Data'!DQ26","v":0},{"$f":"'Bespoke Area Data'!DR26","v":0},{"$f":"'Bespoke Area Data'!DS26","v":0},{"$f":"'Bespoke Area Data'!DT26","v":0},{"$f":"'Bespoke Area Data'!DU26","v":0},{"$f":"'Bespoke Area Data'!DV26","v":0},{"$f":"'Bespoke Area Data'!DW26","v":0},{"$f":"'Bespoke Area Data'!DX26","v":0},{"$f":"'Bespoke Area Data'!DY26","v":0},{"$f":"'Bespoke Area Data'!DZ26","v":0},{"$f":"'Bespoke Area Data'!EA26","v":0},{"$f":"'Bespoke Area Data'!EB26","v":0},{"$f":"'Bespoke Area Data'!EC26","v":0},{"$f":"'Bespoke Area Data'!ED26","v":0},{"$f":"'Bespoke Area Data'!EE26","v":0},{"$f":"'Bespoke Area Data'!EF26","v":0},{"$f":"'Bespoke Area Data'!EG26","v":0},{"$f":"'Bespoke Area Data'!EH26","v":0},{"$f":"'Bespoke Area Data'!D27","v":0},{"$f":"'Bespoke Area Data'!E27","v":0},{"$f":"'Bespoke Area Data'!F27","v":0},{"$f":"'Bespoke Area Data'!G27","v":0},{"$f":"'Bespoke Area Data'!H27","v":0},{"$f":"'Bespoke Area Data'!I27","v":0},{"$f":"'Bespoke Area Data'!J27","v":0},{"$f":"'Bespoke Area Data'!K27","v":0},{"$f":"'Bespoke Area Data'!L27","v":0},{"$f":"'Bespoke Area Data'!M27","v":0},{"$f":"'Bespoke Area Data'!N27","v":0},{"$f":"'Bespoke Area Data'!O27","v":0},{"$f":"'Bespoke Area Data'!P27","v":0},{"$f":"'Bespoke Area Data'!Q27","v":0},{"$f":"'Bespoke Area Data'!R27","v":0},{"$f":"'Bespoke Area Data'!S27","v":0},{"$f":"'Bespoke Area Data'!T27","v":0},{"$f":"'Bespoke Area Data'!U27","v":0},{"$f":"'Bespoke Area Data'!V27","v":0},{"$f":"'Bespoke Area Data'!W27","v":0},{"$f":"'Bespoke Area Data'!X27","v":0},{"$f":"'Bespoke Area Data'!Y27","v":0},{"$f":"'Bespoke Area Data'!Z27","v":0},{"$f":"'Bespoke Area Data'!AA27","v":0},{"$f":"'Bespoke Area Data'!AB27","v":0},{"$f":"'Bespoke Area Data'!AC27","v":0},{"$f":"'Bespoke Area Data'!AD27","v":0},{"$f":"'Bespoke Area Data'!AE27","v":0},{"$f":"'Bespoke Area Data'!AF27","v":0},{"$f":"'Bespoke Area Data'!AG27","v":0},{"$f":"'Bespoke Area Data'!AH27","v":0},{"$f":"'Bespoke Area Data'!AI27","v":0},{"$f":"'Bespoke Area Data'!AJ27","v":0},{"$f":"'Bespoke Area Data'!AK27","v":0},{"$f":"'Bespoke Area Data'!AL27","v":0},{"$f":"'Bespoke Area Data'!AM27","v":0},{"$f":"'Bespoke Area Data'!AN27","v":0},{"$f":"'Bespoke Area Data'!AO27","v":0},{"$f":"'Bespoke Area Data'!AP27","v":0},{"$f":"'Bespoke Area Data'!AQ27","v":0},{"$f":"'Bespoke Area Data'!AR27","v":0},{"$f":"'Bespoke Area Data'!AS27","v":0},{"$f":"'Bespoke Area Data'!AT27","v":0},{"$f":"'Bespoke Area Data'!AU27","v":0},{"$f":"'Bespoke Area Data'!AV27","v":0},{"$f":"'Bespoke Area Data'!AW27","v":0},{"$f":"'Bespoke Area Data'!AX27","v":0},{"$f":"'Bespoke Area Data'!AY27","v":0},{"$f":"'Bespoke Area Data'!AZ27","v":0},{"$f":"'Bespoke Area Data'!BA27","v":0},{"$f":"'Bespoke Area Data'!BB27","v":0},{"$f":"'Bespoke Area Data'!BC27","v":0},{"$f":"'Bespoke Area Data'!BD27","v":0},{"$f":"'Bespoke Area Data'!BE27","v":0},{"$f":"'Bespoke Area Data'!BF27","v":0},{"$f":"'Bespoke Area Data'!BG27","v":0},{"$f":"'Bespoke Area Data'!BH27","v":0},{"$f":"'Bespoke Area Data'!BI27","v":0},{"$f":"'Bespoke Area Data'!BJ27","v":0},{"$f":"'Bespoke Area Data'!BK27","v":0},{"$f":"'Bespoke Area Data'!BL27","v":0},{"$f":"'Bespoke Area Data'!BM27","v":0},{"$f":"'Bespoke Area Data'!BN27","v":0},{"$f":"'Bespoke Area Data'!BO27","v":0},{"$f":"'Bespoke Area Data'!BP27","v":0},{"$f":"'Bespoke Area Data'!BQ27","v":0},{"$f":"'Bespoke Area Data'!BR27","v":0},{"$f":"'Bespoke Area Data'!BS27","v":0},{"$f":"'Bespoke Area Data'!BT27","v":0},{"$f":"'Bespoke Area Data'!BU27","v":0},{"$f":"'Bespoke Area Data'!BV27","v":0},{"$f":"'Bespoke Area Data'!BW27","v":0},{"$f":"'Bespoke Area Data'!BX27","v":0},{"$f":"'Bespoke Area Data'!BY27","v":0},{"$f":"'Bespoke Area Data'!BZ27","v":0},{"$f":"'Bespoke Area Data'!CA27","v":0},{"$f":"'Bespoke Area Data'!CB27","v":0},{"$f":"'Bespoke Area Data'!CC27","v":0},{"$f":"'Bespoke Area Data'!CD27","v":0},{"$f":"'Bespoke Area Data'!CE27","v":0},{"$f":"'Bespoke Area Data'!CF27","v":0},{"$f":"'Bespoke Area Data'!CG27","v":0},{"$f":"'Bespoke Area Data'!CH27","v":0},{"$f":"'Bespoke Area Data'!CI27","v":0},{"$f":"'Bespoke Area Data'!CJ27","v":0},{"$f":"'Bespoke Area Data'!CK27","v":0},{"$f":"'Bespoke Area Data'!CL27","v":0},{"$f":"'Bespoke Area Data'!CM27","v":0},{"$f":"'Bespoke Area Data'!CN27","v":0},{"$f":"'Bespoke Area Data'!CO27","v":0},{"$f":"'Bespoke Area Data'!CP27","v":0},{"$f":"'Bespoke Area Data'!CQ27","v":0},{"$f":"'Bespoke Area Data'!CR27","v":0},{"$f":"'Bespoke Area Data'!CS27","v":0},{"$f":"'Bespoke Area Data'!CT27","v":0},{"$f":"'Bespoke Area Data'!CU27","v":0},{"$f":"'Bespoke Area Data'!CV27","v":0},{"$f":"'Bespoke Area Data'!CW27","v":0},{"$f":"'Bespoke Area Data'!CX27","v":0},{"$f":"'Bespoke Area Data'!CY27","v":0},{"$f":"'Bespoke Area Data'!CZ27","v":0},{"$f":"'Bespoke Area Data'!DA27","v":0},{"$f":"'Bespoke Area Data'!DB27","v":0},{"$f":"'Bespoke Area Data'!DC27","v":0},{"$f":"'Bespoke Area Data'!DD27","v":0},{"$f":"'Bespoke Area Data'!DE27","v":0},{"$f":"'Bespoke Area Data'!DF27","v":0},{"$f":"'Bespoke Area Data'!DG27","v":0},{"$f":"'Bespoke Area Data'!DH27","v":0},{"$f":"'Bespoke Area Data'!DI27","v":0}]
["Bespoke","N/A",{"$f":"IF('Bespoke Area Name'!C13=\"\",\"No bespoke area name entered; Go to sheet \"\"Bespoke Area Name\"\"\",'Bespoke Area Name'!C13)","v":"No bespoke area name entered; Go to sheet \"Bespoke Area Name\""},"AREA0010",{"$f":"'Bespoke Area Data'!D38","v":0},{"$f":"'Bespoke Area Data'!E38","v":0},{"$f":"'Bespoke Area Data'!F38","v":0},{"$f":"'Bespoke Area Data'!G38","v":0},{"$f":"'Bespoke Area Data'!H38","v":0},{"$f":"'Bespoke Area Data'!I38","v":0},{"$f":"'Bespoke Area Data'!J38","v":0},{"$f":"'Bespoke Area Data'!K38","v":0},{"$f":"'Bespoke Area Data'!L38","v":0},{"$f":"'Bespoke Area Data'!M38","v":0},{"$f":"'Bespoke Area Data'!N38","v":0},{"$f":"'Bespoke Area Data'!O38","v":0},{"$f":"'Bespoke Area Data'!P38","v":0},{"$f":"'Bespoke Area Data'!Q38","v":0},{"$f":"'Bespoke Area Data'!R38","v":0},{"$f":"'Bespoke Area Data'!S38","v":0},{"$f":"'Bespoke Area Data'!T38","v":0},{"$f":"'Bespoke Area Data'!U38","v":0},{"$f":"'Bespoke Area Data'!V38","v":0},{"$f":"'Bespoke Area Data'!W38","v":0},{"$f":"'Bespoke Area Data'!X38","v":0},{"$f":"'Bespoke Area Data'!Y38","v":0},{"$f":"'Bespoke Area Data'!Z38","v":0},{"$f":"'Bespoke Area Data'!AA38","v":0},{"$f":"'Bespoke Area Data'!AB38","v":0},{"$f":"'Bespoke Area Data'!AC38","v":0},{"$f":"'Bespoke Area Data'!AD38","v":0},{"$f":"'Bespoke Area Data'!AE38","v":0},{"$f":"'Bespoke Area Data'!AF38","v":0},{"$f":"'Bespoke Area Data'!AG38","v":0},{"$f":"'Bespoke Area Data'!AH38","v":0},{"$f":"'Bespoke Area Data'!AI38","v":0},{"$f":"'Bespoke Area Data'!AJ38","v":0},{"$f":"'Bespoke Area Data'!AK38","v":0},{"$f":"'Bespoke Area Data'!AL38","v":0},{"$f":"'Bespoke Area Data'!AM38","v":0},{"$f":"'Bespoke Area Data'!AN38","v":0},{"$f":"'Bespoke Area Data'!AO38","v":0},{"$f":"'Bespoke Area Data'!AP38","v":0},{"$f":"'Bespoke Area Data'!AQ38","v":0},{"$f":"'Bespoke Area Data'!AR38","v":0},{"$f":"'Bespoke Area Data'!AS38","v":0},{"$f":"'Bespoke Area Data'!AT38","v":0},{"$f":"'Bespoke Area Data'!AU38","v":0},{"$f":"'Bespoke Area Data'!AV38","v":0},{"$f":"'Bespoke Area Data'!AW38","v":0},{"$f":"'Bespoke Area Data'!AX38","v":0},{"$f":"'Bespoke Area Data'!AY38","v":0},{"$f":"'Bespoke Area Data'!AZ38","v":0},{"$f":"'Bespoke Area Data'!BA38","v":0},{"$f":"'Bespoke Area Data'!BB38","v":0},{"$f":"'Bespoke Area Data'!BC38","v":0},{"$f":"'Bespoke Area Data'!BD38","v":0},{"$f":"'Bespoke Area Data'!BE38","v":0},{"$f":"'Bespoke Area Data'!BF38","v":0},{"$f":"'Bespoke Area Data'!BG38","v":0},{"$f":"'Bespoke Area Data'!BH38","v":0},{"$f":"'Bespoke Area Data'!BI38","v":0},{"$f":"'Bespoke Area Data'!BJ38","v":0},{"$f":"'Bespoke Area Data'!BK38","v":0},{"$f":"'Bespoke Area Data'!BL38","v":0},{"$f":"'Bespoke Area Data'!BM38","v":0},{"$f":"'Bespoke Area Data'!BN38","v":0},{"$f":"'Bespoke Area Data'!BO38","v":0},{"$f":"'Bespoke Area Data'!BP38","v":0},{"$f":"'Bespoke Area Data'!BQ38","v":0},{"$f":"'Bespoke Area Data'!BR38","v":0},{"$f":"'Bespoke Area Data'!BS38","v":0},{"$f":"'Bespoke Area Data'!BT38","v":0},{"$f":"'Bespoke Area Data'!BU38","v":0},{"$f":"'Bespoke Area Data'!BV38","v":0},{"$f":"'Bespoke Area Data'!BW38","v":0},{"$f":"'Bespoke Area Data'!BX38","v":0},{"$f":"'Bespoke Area Data'!BY38","v":0},{"$f":"'Bespoke Area Data'!BZ38","v":0},{"$f":"'Bespoke Area Data'!CA38","v":0},{"$f":"'Bespoke Area Data'!CB38","v":0},{"$f":"'Bespoke Area Data'!CC38","v":0},{"$f":"'Bespoke Area Data'!CD38","v":0},{"$f":"'Bespoke Area Data'!CE38","v":0},{"$f":"'Bespoke Area Data'!CF38","v":0},{"$f":"'Bespoke Area Data'!CG38","v":0},{"$f":"'Bespoke Area Data'!CH38","v":0},{"$f":"'Bespoke Area Data'!CI38","v":0},{"$f":"'Bespoke Area Data'!CJ38","v":0},{"$f":"'Bespoke Area Data'!CK38","v":0},{"$f":"'Bespoke Area Data'!CL38","v":0},{"$f":"'Bespoke Area Data'!CM38","v":0},{"$f":"'Bespoke Area Data'!CN38","v":0},{"$f":"'Bespoke Area Data'!CO38","v":0},{"$f":"'Bespoke Area Data'!CP38","v":0},{"$f":"'Bespoke Area Data'!CQ38","v":0},{"$f":"'Bespoke Area Data'!CR38","v":0},{"$f":"'Bespoke Area Data'!CS38","v":0},{"$f":"'Bespoke Area Data'!CT38","v":0},{"$f":"'Bespoke Area Data'!CU38","v":0},{"$f":"'Bespoke Area Data'!CV38","v":0},{"$f":"'Bespoke Area Data'!CW38","v":0},{"$f":"'Bespoke Area Data'!CX38","v":0},{"$f":"'Bespoke Area Data'!CY38","v":0},{"$f":"'Bespoke Area Data'!CZ38","v":0},{"$f":"'Bespoke Area Data'!DA38","v":0},{"$f":"'Bespoke Area Data'!DB38","v":0},{"$f":"'Bespoke Area Data'!DC38","v":0},{"$f":"'Bespoke Area Data'!DD38","v":0},{"$f":"'Bespoke Area Data'!DE38","v":0},{"$f":"'Bespoke Area Data'!DF38","v":0},{"$f":"'Bespoke Area Data'!DG38","v":0},{"$f":"'Bespoke Area Data'!DH38","v":0},{"$f":"'Bespoke Area Data'!DI38","v":0},{"$f":"'Bespoke Area Data'!DJ38","v":0},{"$f":"'Bespoke Area Data'!DK38","v":0},{"$f":"'Bespoke Area Data'!DL38","v":0},{"$f":"'Bespoke Area Data'!DM38","v":0},{"$f":"'Bespoke Area Data'!DN38","v":0},{"$f":"'Bespoke Area Data'!DO38","v":0},{"$f":"'Bespoke Area Data'!DP38","v":0},{"$f":"'Bespoke Area Data'!DQ38","v":0},{"$f":"'Bespoke Area Data'!DR38","v":0},{"$f":"'Bespoke Area Data'!DS38","v":0},{"$f":"'Bespoke Area Data'!DT38","v":0},{"$f":"'Bespoke Area Data'!DU38","v":0},{"$f":"'Bespoke Area Data'!DV38","v":0},{"$f":"'Bespoke Area Data'!DW38","v":0},{"$f":"'Bespoke Area Data'!DX38","v":0},{"$f":"'Bespoke Area Data'!DY38","v":0},{"$f":"'Bespoke Area Data'!DZ38","v":0},{"$f":"'Bespoke Area Data'!EA38","v":0},{"$f":"'Bespoke Area Data'!EB38","v":0},{"$f":"'Bespoke Area Data'!EC38","v":0},{"$f":"'Bespoke Area Data'!ED38","v":0},{"$f":"'Bespoke Area Data'!EE38","v":0},{"$f":"'Bespoke Area Data'!EF38","v":0},{"$f":"'Bespoke Area Data'!EG38","v":0},{"$f":"'Bespoke Area Data'!EH38","v":0},{"$f":"'Bespoke Area Data'!D39","v":0},{"$f":"'Bespoke Area Data'!E39","v":0},{"$f":"'Bespoke Area Data'!F39","v":0},{"$f":"'Bespoke Area Data'!G39","v":0},{"$f":"'Bespoke Area Data'!H39","v":0},{"$f":"'Bespoke Area Data'!I39","v":0},{"$f":"'Bespoke Area Data'!J39","v":0},{"$f":"'Bespoke Area Data'!K39","v":0},{"$f":"'Bespoke Area Data'!L39","v":0},{"$f":"'Bespoke Area Data'!M39","v":0},{"$f":"'Bespoke Area Data'!N39","v":0},{"$f":"'Bespoke Area Data'!O39","v":0},{"$f":"'Bespoke Area Data'!P39","v":0},{"$f":"'Bespoke Area Data'!Q39","v":0},{"$f":"'Bespoke Area Data'!R39","v":0},{"$f":"'Bespoke Area Data'!S39","v":0},{"$f":"'Bespoke Area Data'!T39","v":0},{"$f":"'Bespoke Area Data'!U39","v":0},{"$f":"'Bespoke Area Data'!V39","v":0},{"$f":"'Bespoke Area Data'!W39","v":0},{"$f":"'Bespoke Area Data'!X39","v":0},{"$f":"'Bespoke Area Data'!Y39","v":0},{"$f":"'Bespoke Area Data'!Z39","v":0},{"$f":"'Bespoke Area Data'!AA39","v":0},{"$f":"'Bespoke Area Data'!AB39","v":0},{"$f":"'Bespoke Area Data'!AC39","v":0},{"$f":"'Bespoke Area Data'!AD39","v":0},{"$f":"'Bespoke Area Data'!AE39","v":0},{"$f":"'Bespoke Area Data'!AF39","v":0},{"$f":"'Bespoke Area Data'!AG39","v":0},{"$f":"'Bespoke Area Data'!AH39","v":0},{"$f":"'Bespoke Area Data'!AI39","v":0},{"$f":"'Bespoke Area Data'!AJ39","v":0},{"$f":"'Bespoke Area Data'!AK39","v":0},{"$f":"'Bespoke Area Data'!AL39","v":0},{"$f":"'Bespoke Area Data'!AM39","v":0},{"$f":"'Bespoke Area Data'!AN39","v":0},{"$f":"'Bespoke Area Data'!AO39","v":0},{"$f":"'Bespoke Area Data'!AP39","v":0},{"$f":"'Bespoke Area Data'!AQ39","v":0},{"$f":"'Bespoke Area Data'!AR39","v":0},{"$f":"'Bespoke Area Data'!AS39","v":0},{"$f":"'Bespoke Area Data'!AT39","v":0},{"$f":"'Bespoke Area Data'!AU39","v":0},{"$f":"'Bespoke Area Data'!AV39","v":0},{"$f":"'Bespoke Area Data'!AW39","v":0},{"$f":"'Bespoke Area Data'!AX39","v":0},{"$f":"'Bespoke Area Data'!AY39","v":0},{"$f":"'Bespoke Area Data'!AZ39","v":0},{"$f":"'Bespoke Area Data'!BA39","v":0},{"$f":"'Bespoke Area Data'!BB39","v":0},{"$f":"'Bespoke Area Data'!BC39","v":0},{"$f":"'Bespoke Area Data'!BD39","v":0},{"$f":"'Bespoke Area Data'!BE39","v":0},{"$f":"'Bespoke Area Data'!BF39","v":0},{"$f":"'Bespoke Area Data'!BG39","v":0},{"$f":"'Bespoke Area Data'!BH39","v":0},{"$f":"'Bespoke Area Data'!BI39","v":0},{"$f":"'Bespoke Area Data'!BJ39","v":0},{"$f":"'Bespoke Area Data'!BK39","v":0},{"$f":"'Bespoke Area Data'!BL39","v":0},{"$f":"'Bespoke Area Data'!BM39","v":0},{"$f":"'Bespoke Area Data'!BN39","v":0},{"$f":"'Bespoke Area Data'!BO39","v":0},{"$f":"'Bespoke Area Data'!BP39","v":0},{"$f":"'Bespoke Area Data'!BQ39","v":0},{"$f":"'Bespoke Area Data'!BR39","v":0},{"$f":"'Bespoke Area Data'!BS39","v":0},{"$f":"'Bespoke Area Data'!BT39","v":0},{"$f":"'Bespoke Area Data'!BU39","v":0},{"$f":"'Bespoke Area Data'!BV39","v":0},{"$f":"'Bespoke Area Data'!BW39","v":0},{"$f":"'Bespoke Area Data'!BX39","v":0},{"$f":"'Bespoke Area Data'!BY39","v":0},{"$f":"'Bespoke Area Data'!BZ39","v":0},{"$f":"'Bespoke Area Data'!CA39","v":0},{"$f":"'Bespoke Area Data'!CB39","v":0},{"$f":"'Bespoke Area Data'!CC39","v":0},{"$f":"'Bespoke Area Data'!CD39","v":0},{"$f":"'Bespoke Area Data'!CE39","v":0},{"$f":"'Bespoke Area Data'!CF39","v":0},{"$f":"'Bespoke Area Data'!CG39","v":0},{"$f":"'Bespoke Area Data'!CH39","v":0},{"$f":"'Bespoke Area Data'!CI39","v":0},{"$f":"'Bespoke Area Data'!CJ39","v":0},{"$f":"'Bespoke Area Data'!CK39","v":0},{"$f":"'Bespoke Area Data'!CL39","v":0},{"$f":"'Bespoke Area Data'!CM39","v":0},{"$f":"'Bespoke Area Data'!CN39","v":0},{"$f":"'Bespoke Area Data'!CO39","v":0},{"$f":"'Bespoke Area Data'!CP39","v":0},{"$f":"'Bespoke Area Data'!CQ39","v":0},{"$f":"'Bespoke Area Data'!CR39","v":0},{"$f":"'Bespoke Area Data'!CS39","v":0},{"$f":"'Bespoke Area Data'!CT39","v":0},{"$f":"'Bespoke Area Data'!CU39","v":0},{"$f":"'Bespoke Area Data'!CV39","v":0},{"$f":"'Bespoke Area Data'!CW39","v":0},{"$f":"'Bespoke Area Data'!CX39","v":0},{"$f":"'Bespoke Area Data'!CY39","v":0},{"$f":"'Bespoke Area Data'!CZ39","v":0},{"$f":"'Bespoke Area Data'!DA39","v":0},{"$f":"'Bespoke Area Data'!DB39","v":0},{"$f":"'Bespoke Area Data'!DC39","v":0},{"$f":"'Bespoke Area Data'!DD39","v":0},{"$f":"'Bespoke Area Data'!DE39","v":0},{"$f":"'Bespoke Area Data'!DF39","v":0},{"$f":"'Bespoke Area Data'!DG39","v":0},{"$f":"'Bespoke Area Data'!DH39","v":0},{"$f":"'Bespoke Area Data'!DI39","v":0}]
["Bespoke","N/A",{"$f":"IF('Bespoke Area Name'!C14=\"\",\"No bespoke area name entered; Go to sheet \"\"Bespoke Area Name\"\"\",'Bespoke Area Name'!C14)","v":"No bespoke area name entered; Go to sheet \"Bespoke Area Name\""},"AREA0011",{"$f":"'Bespoke Area Data'!D42","v":0},{"$f":"'Bespoke Area Data'!E42","v":0},{"$f":"'Bespoke Area Data'!F42","v":0},{"$f":"'Bespoke Area Data'!G42","v":0},{"$f":"'Bespoke Area Data'!H42","v":0},{"$f":"'Bespoke Area Data'!I42","v":0},{"$f":"'Bespoke Area Data'!J42","v":0},{"$f":"'Bespoke Area Data'!K42","v":0},{"$f":"'Bespoke Area Data'!L42","v":0},{"$f":"'Bespoke Area Data'!M42","v":0},{"$f":"'Bespoke Area Data'!N42","v":0},{"$f":"'Bespoke Area Data'!O42","v":0},{"$f":"'Bespoke Area Data'!P42","v":0},{"$f":"'Bespoke Area Data'!Q42","v":0},{"$f":"'Bespoke Area Data'!R42","v":0},{"$f":"'Bespoke Area Data'!S42","v":0},{"$f":"'Bespoke Area Data'!T42","v":0},{"$f":"'Bespoke Area Data'!U42","v":0},{"$f":"'Bespoke Area Data'!V42","v":0},{"$f":"'Bespoke Area Data'!W42","v":0},{"$f":"'Bespoke Area Data'!X42","v":0},{"$f":"'Bespoke Area Data'!Y42","v":0},{"$f":"'Bespoke Area Data'!Z42","v":0},{"$f":"'Bespoke Area Data'!AA42","v":0},{"$f":"'Bespoke Area Data'!AB42","v":0},{"$f":"'Bespoke Area Data'!AC42","v":0},{"$f":"'Bespoke Area Data'!AD42","v":0},{"$f":"'Bespoke Area Data'!AE42","v":0},{"$f":"'Bespoke Area Data'!AF42","v":0},{"$f":"'Bespoke Area Data'!AG42","v":0},{"$f":"'Bespoke Area Data'!AH42","v":0},{"$f":"'Bespoke Area Data'!AI42","v":0},{"$f":"'Bespoke Area Data'!AJ42","v":0},{"$f":"'Bespoke Area Data'!AK42","v":0},{"$f":"'Bespoke Area Data'!AL42","v":0},{"$f":"'Bespoke Area Data'!AM42","v":0},{"$f":"'Bespoke Area Data'!AN42","v":0},{"$f":"'Bespoke Area Data'!AO42","v":0},{"$f":"'Bespoke Area Data'!AP42","v":0},{"$f":"'Bespoke Area Data'!AQ42","v":0},{"$f":"'Bespoke Area Data'!AR42","v":0},{"$f":"'Bespoke Area Data'!AS42","v":0},{"$f":"'Bespoke Area Data'!AT42","v":0},{"$f":"'Bespoke Area Data'!AU42","v":0},{"$f":"'Bespoke Area Data'!AV42","v":0},{"$f":"'Bespoke Area Data'!AW42","v":0},{"$f":"'Bespoke Area Data'!AX42","v":0},{"$f":"'Bespoke Area Data'!AY42","v":0},{"$f":"'Bespoke Area Data'!AZ42","v":0},{"$f":"'Bespoke Area Data'!BA42","v":0},{"$f":"'Bespoke Area Data'!BB42","v":0},{"$f":"'Bespoke Area Data'!BC42","v":0},{"$f":"'Bespoke Area Data'!BD42","v":0},{"$f":"'Bespoke Area Data'!BE42","v":0},{"$f":"'Bespoke Area Data'!BF42","v":0},{"$f":"'Bespoke Area Data'!BG42","v":0},{"$f":"'Bespoke Area Data'!BH42","v":0},{"$f":"'Bespoke Area Data'!BI42","v":0},{"$f":"'Bespoke Area Data'!BJ42","v":0},{"$f":"'Bespoke Area Data'!BK42","v":0},{"$f":"'Bespoke Area Data'!BL42","v":0},{"$f":"'Bespoke Area Data'!BM42","v":0},{"$f":"'Bespoke Area Data'!BN42","v":0},{"$f":"'Bespoke Area Data'!BO42","v":0},{"$f":"'Bespoke Area Data'!BP42","v":0},{"$f":"'Bespoke Area Data'!BQ42","v":0},{"$f":"'Bespoke Area Data'!BR42","v":0},{"$f":"'Bespoke Area Data'!BS42","v":0},{"$f":"'Bespoke Area Data'!BT42","v":0},{"$f":"'Bespoke Area Data'!BU42","v":0},{"$f":"'Bespoke Area Data'!BV42","v":0},{"$f":"'Bespoke Area Data'!BW42","v":0},{"$f":"'Bespoke Area Data'!BX42","v":0},{"$f":"'Bespoke Area Data'!BY42","v":0},{"$f":"'Bespoke Area Data'!BZ42","v":0},{"$f":"'Bespoke Area Data'!CA42","v":0},{"$f":"'Bespoke Area Data'!CB42","v":0},{"$f":"'Bespoke Area Data'!CC42","v":0},{"$f":"'Bespoke Area Data'!CD42","v":0},{"$f":"'Bespoke Area Data'!CE42","v":0},{"$f":"'Bespoke Area Data'!CF42","v":0},{"$f":"'Bespoke Area Data'!CG42","v":0},{"$f":"'Bespoke Area Data'!CH42","v":0},{"$f":"'Bespoke Area Data'!CI42","v":0},{"$f":"'Bespoke Area Data'!CJ42","v":0},{"$f":"'Bespoke Area Data'!CK42","v":0},{"$f":"'Bespoke Area Data'!CL42","v":0},{"$f":"'Bespoke Area Data'!CM42","v":0},{"$f":"'Bespoke Area Data'!CN42","v":0},{"$f":"'Bespoke Area Data'!CO42","v":0},{"$f":"'Bespoke Area Data'!CP42","v":0},{"$f":"'Bespoke Area Data'!CQ42","v":0},{"$f":"'Bespoke Area Data'!CR42","v":0},{"$f":"'Bespoke Area Data'!CS42","v":0},{"$f":"'Bespoke Area Data'!CT42","v":0},{"$f":"'Bespoke Area Data'!CU42","v":0},{"$f":"'Bespoke Area Data'!CV42","v":0},{"$f":"'Bespoke Area Data'!CW42","v":0},{"$f":"'Bespoke Area Data'!CX42","v":0},{"$f":"'Bespoke Area Data'!CY42","v":0},{"$f":"'Bespoke Area Data'!CZ42","v":0},{"$f":"'Bespoke Area Data'!DA42","v":0},{"$f":"'Bespoke Area Data'!DB42","v":0},{"$f":"'Bespoke Area Data'!DC42","v":0},{"$f":"'Bespoke Area Data'!DD42","v":0},{"$f":"'Bespoke Area Data'!DE42","v":0},{"$f":"'Bespoke Area Data'!DF42","v":0},{"$f":"'Bespoke Area Data'!DG42","v":0},{"$f":"'Bespoke Area Data'!DH42","v":0},{"$f":"'Bespoke Area Data'!DI42","v":0},{"$f":"'Bespoke Area Data'!DJ42","v":0},{"$f":"'Bespoke Area Data'!DK42","v":0},{"$f":"'Bespoke Area Data'!DL42","v":0},{"$f":"'Bespoke Area Data'!DM42","v":0},{"$f":"'Bespoke Area Data'!DN42","v":0},{"$f":"'Bespoke Area Data'!DO42","v":0},{"$f":"'Bespoke Area Data'!DP42","v":0},{"$f":"'Bespoke Area Data'!DQ42","v":0},{"$f":"'Bespoke Area Data'!DR42","v":0},{"$f":"'Bespoke Area Data'!DS42","v":0},{"$f":"'Bespoke Area Data'!DT42","v":0},{"$f":"'Bespoke Area Data'!DU42","v":0},{"$f":"'Bespoke Area Data'!DV42","v":0},{"$f":"'Bespoke Area Data'!DW42","v":0},{"$f":"'Bespoke Area Data'!DX42","v":0},{"$f":"'Bespoke Area Data'!DY42","v":0},{"$f":"'Bespoke Area Data'!DZ42","v":0},{"$f":"'Bespoke Area Data'!EA42","v":0},{"$f":"'Bespoke Area Data'!EB42","v":0},{"$f":"'Bespoke Area Data'!EC42","v":0},{"$f":"'Bespoke Area Data'!ED42","v":0},{"$f":"'Bespoke Area Data'!EE42","v":0},{"$f":"'Bespoke Area Data'!EF42","v":0},{"$f":"'Bespoke Area Data'!EG42","v":0},{"$f":"'Bespoke Area Data'!EH42","v":0},{"$f":"'Bespoke Area Data'!D43","v":0},{"$f":"'Bespoke Area Data'!E43","v":0},{"$f":"'Bespoke Area Data'!F43","v":0},{"$f":"'Bespoke Area Data'!G43","v":0},{"$f":"'Bespoke Area Data'!H43","v":0},{"$f":"'Bespoke Area Data'!I43","v":0},{"$f":"'Bespoke Area Data'!J43","v":0},{"$f":"'Bespoke Area Data'!K43","v":0},{"$f":"'Bespoke Area Data'!L43","v":0},{"$f":"'Bespoke Area Data'!M43","v":0},{"$f":"'Bespoke Area Data'!N43","v":0},{"$f":"'Bespoke Area Data'!O43","v":0},{"$f":"'Bespoke Area Data'!P43","v":0},{"$f":"'Bespoke Area Data'!Q43","v":0},{"$f":"'Bespoke Area Data'!R43","v":0},{"$f":"'Bespoke Area Data'!S43","v":0},{"$f":"'Bespoke Area Data'!T43","v":0},{"$f":"'Bespoke Area Data'!U43","v":0},{"$f":"'Bespoke Area Data'!V43","v":0},{"$f":"'Bespoke Area Data'!W43","v":0},{"$f":"'Bespoke Area Data'!X43","v":0},{"$f":"'Bespoke Area Data'!Y43","v":0},{"$f":"'Bespoke Area Data'!Z43","v":0},{"$f":"'Bespoke Area Data'!AA43","v":0},{"$f":"'Bespoke Area Data'!AB43","v":0},{"$f":"'Bespoke Area Data'!AC43","v":0},{"$f":"'Bespoke Area Data'!AD43","v":0},{"$f":"'Bespoke Area Data'!AE43","v":0},{"$f":"'Bespoke Area Data'!AF43","v":0},{"$f":"'Bespoke Area Data'!AG43","v":0},{"$f":"'Bespoke Area Data'!AH43","v":0},{"$f":"'Bespoke Area Data'!AI43","v":0},{"$f":"'Bespoke Area Data'!AJ43","v":0},{"$f":"'Bespoke Area Data'!AK43","v":0},{"$f":"'Bespoke Area Data'!AL43","v":0},{"$f":"'Bespoke Area Data'!AM43","v":0},{"$f":"'Bespoke Area Data'!AN43","v":0},{"$f":"'Bespoke Area Data'!AO43","v":0},{"$f":"'Bespoke Area Data'!AP43","v":0},{"$f":"'Bespoke Area Data'!AQ43","v":0},{"$f":"'Bespoke Area Data'!AR43","v":0},{"$f":"'Bespoke Area Data'!AS43","v":0},{"$f":"'Bespoke Area Data'!AT43","v":0},{"$f":"'Bespoke Area Data'!AU43","v":0},{"$f":"'Bespoke Area Data'!AV43","v":0},{"$f":"'Bespoke Area Data'!AW43","v":0},{"$f":"'Bespoke Area Data'!AX43","v":0},{"$f":"'Bespoke Area Data'!AY43","v":0},{"$f":"'Bespoke Area Data'!AZ43","v":0},{"$f":"'Bespoke Area Data'!BA43","v":0},{"$f":"'Bespoke Area Data'!BB43","v":0},{"$f":"'Bespoke Area Data'!BC43","v":0},{"$f":"'Bespoke Area Data'!BD43","v":0},{"$f":"'Bespoke Area Data'!BE43","v":0},{"$f":"'Bespoke Area Data'!BF43","v":0},{"$f":"'Bespoke Area Data'!BG43","v":0},{"$f":"'Bespoke Area Data'!BH43","v":0},{"$f":"'Bespoke Area Data'!BI43","v":0},{"$f":"'Bespoke Area Data'!BJ43","v":0},{"$f":"'Bespoke Area Data'!BK43","v":0},{"$f":"'Bespoke Area Data'!BL43","v":0},{"$f":"'Bespoke Area Data'!BM43","v":0},{"$f":"'Bespoke Area Data'!BN43","v":0},{"$f":"'Bespoke Area Data'!BO43","v":0},{"$f":"'Bespoke Area Data'!BP43","v":0},{"$f":"'Bespoke Area Data'!BQ43","v":0},{"$f":"'Bespoke Area Data'!BR43","v":0},{"$f":"'Bespoke Area Data'!BS43","v":0},{"$f":"'Bespoke Area Data'!BT43","v":0},{"$f":"'Bespoke Area Data'!BU43","v":0},{"$f":"'Bespoke Area Data'!BV43","v":0},{"$f":"'Bespoke Area Data'!BW43","v":0},{"$f":"'Bespoke Area Data'!BX43","v":0},{"$f":"'Bespoke Area Data'!BY43","v":0},{"$f":"'Bespoke Area Data'!BZ43","v":0},{"$f":"'Bespoke Area Data'!CA43","v":0},{"$f":"'Bespoke Area Data'!CB43","v":0},{"$f":"'Bespoke Area Data'!CC43","v":0},{"$f":"'Bespoke Area Data'!CD43","v":0},{"$f":"'Bespoke Area Data'!CE43","v":0},{"$f":"'Bespoke Area Data'!CF43","v":0},{"$f":"'Bespoke Area Data'!CG43","v":0},{"$f":"'Bespoke Area Data'!CH43","v":0},{"$f":"'Bespoke Area Data'!CI43","v":0},{"$f":"'Bespoke Area Data'!CJ43","v":0},{"$f":"'Bespoke Area Data'!CK43","v":0},{"$f":"'Bespoke Area Data'!CL43","v":0},{"$f":"'Bespoke Area Data'!CM43","v":0},{"$f":"'Bespoke Area Data'!CN43","v":0},{"$f":"'Bespoke Area Data'!CO43","v":0},{"$f":"'Bespoke Area Data'!CP43","v":0},{"$f":"'Bespoke Area Data'!CQ43","v":0},{"$f":"'Bespoke Area Data'!CR43","v":0},{"$f":"'Bespoke Area Data'!CS43","v":0},{"$f":"'Bespoke Area Data'!CT43","v":0},{"$f":"'Bespoke Area Data'!CU43","v":0},{"$f":"'Bespoke Area Data'!CV43","v":0},{"$f":"'Bespoke Area Data'!CW43","v":0},{"$f":"'Bespoke Area Data'!CX43","v":0},{"$f":"'Bespoke Area Data'!CY43","v":0},{"$f":"'Bespoke Area Data'!CZ43","v":0},{"$f":"'Bespoke Area Data'!DA43","v":0},{"$f":"'Bespoke Area Data'!DB43","v":0},{"$f":"'Bespoke Area Data'!DC43","v":0},{"$f":"'Bespoke Area Data'!DD43","v":0},{"$f":"'Bespoke Area Data'!DE43","v":0},{"$f":"'Bespoke Area Data'!DF43","v":0},{"$f":"'Bespoke Area Data'!DG43","v":0},{"$f":"'Bespoke Area Data'!DH43","v":0},{"$f":"'Bespoke Area Data'!DI43","v":0}]
["Bespoke","N/A",{"$f":"IF('Bespoke Area Name'!C15=\"\",\"No bespoke area name entered; Go to sheet \"\"Bespoke Area Name\"\"\",'Bespoke Area Name'!C15)","v":"No bespoke area name entered; Go to sheet \"Bespoke Area Name\""},"AREA0012",{"$f":"'Bespoke Area Data'!D46","v":0},{"$f":"'Bespoke Area Data'!E46","v":0},{"$f":"'Bespoke Area Data'!F46","v":0},{"$f":"'Bespoke Area Data'!G46","v":0},{"$f":"'Bespoke Area Data'!H46","v":0},{"$f":"'Bespoke Area Data'!I46","v":0},{"$f":"'Bespoke Area Data'!J46","v":0},{"$f":"'Bespoke Area Data'!K46","v":0},{"$f":"'Bespoke Area Data'!L46","v":0},{"$f":"'Bespoke Area Data'!M46","v":0},{"$f":"'Bespoke Area Data'!N46","v":0},{"$f":"'Bespoke Area Data'!O46","v":0},{"$f":"'Bespoke Area Data'!P46","v":0},{"$f":"'Bespoke Area Data'!Q46","v":0},{"$f":"'Bespoke Area Data'!R46","v":0},{"$f":"'Bespoke Area Data'!S46","v":0},{"$f":"'Bespoke Area Data'!T46","v":0},{"$f":"'Bespoke Area Data'!U46","v":0},{"$f":"'Bespoke Area Data'!V46","v":0},{"$f":"'Bespoke Area Data'!W46","v":0},{"$f":"'Bespoke Area Data'!X46","v":0},{"$f":"'Bespoke Area Data'!Y46","v":0},{"$f":"'Bespoke Area Data'!Z46","v":0},{"$f":"'Bespoke Area Data'!AA46","v":0},{"$f":"'Bespoke Area Data'!AB46","v":0},{"$f":"'Bespoke Area Data'!AC46","v":0},{"$f":"'Bespoke Area Data'!AD46","v":0},{"$f":"'Bespoke Area Data'!AE46","v":0},{"$f":"'Bespoke Area Data'!AF46","v":0},{"$f":"'Bespoke Area Data'!AG46","v":0},{"$f":"'Bespoke Area Data'!AH46","v":0},{"$f":"'Bespoke Area Data'!AI46","v":0},{"$f":"'Bespoke Area Data'!AJ46","v":0},{"$f":"'Bespoke Area Data'!AK46","v":0},{"$f":"'Bespoke Area Data'!AL46","v":0},{"$f":"'Bespoke Area Data'!AM46","v":0},{"$f":"'Bespoke Area Data'!AN46","v":0},{"$f":"'Bespoke Area Data'!AO46","v":0},{"$f":"'Bespoke Area Data'!AP46","v":0},{"$f":"'Bespoke Area Data'!AQ46","v":0},{"$f":"'Bespoke Area Data'!AR46","v":0},{"$f":"'Bespoke Area Data'!AS46","v":0},{"$f":"'Bespoke Area Data'!AT46","v":0},{"$f":"'Bespoke Area Data'!AU46","v":0},{"$f":"'Bespoke Area Data'!AV46","v":0},{"$f":"'Bespoke Area Data'!AW46","v":0},{"$f":"'Bespoke Area Data'!AX46","v":0},{"$f":"'Bespoke Area Data'!AY46","v":0},{"$f":"'Bespoke Area Data'!AZ46","v":0},{"$f":"'Bespoke Area Data'!BA46","v":0},{"$f":"'Bespoke Area Data'!BB46","v":0},{"$f":"'Bespoke Area Data'!BC46","v":0},{"$f":"'Bespoke Area Data'!BD46","v":0},{"$f":"'Bespoke Area Data'!BE46","v":0},{"$f":"'Bespoke Area Data'!BF46","v":0},{"$f":"'Bespoke Area Data'!BG46","v":0},{"$f":"'Bespoke Area Data'!BH46","v":0},{"$f":"'Bespoke Area Data'!BI46","v":0},{"$f":"'Bespoke Area Data'!BJ46","v":0},{"$f":"'Bespoke Area Data'!BK46","v":0},{"$f":"'Bespoke Area Data'!BL46","v":0},{"$f":"'Bespoke Area Data'!BM46","v":0},{"$f":"'Bespoke Area Data'!BN46","v":0},{"$f":"'Bespoke Area Data'!BO46","v":0},{"$f":"'Bespoke Area Data'!BP46","v":0},{"$f":"'Bespoke Area Data'!BQ46","v":0},{"$f":"'Bespoke Area Data'!BR46","v":0},{"$f":"'Bespoke Area Data'!BS46","v":0},{"$f":"'Bespoke Area Data'!BT46","v":0},{"$f":"'Bespoke Area Data'!BU46","v":0},{"$f":"'Bespoke Area Data'!BV46","v":0},{"$f":"'Bespoke Area Data'!BW46","v":0},{"$f":"'Bespoke Area Data'!BX46","v":0},{"$f":"'Bespoke Area Data'!BY46","v":0},{"$f":"'Bespoke Area Data'!BZ46","v":0},{"$f":"'Bespoke Area Data'!CA46","v":0},{"$f":"'Bespoke Area Data'!CB46","v":0},{"$f":"'Bespoke Area Data'!CC46","v":0},{"$f":"'Bespoke Area Data'!CD46","v":0},{"$f":"'Bespoke Area Data'!CE46","v":0},{"$f":"'Bespoke Area Data'!CF46","v":0},{"$f":"'Bespoke Area Data'!CG46","v":0},{"$f":"'Bespoke Area Data'!CH46","v":0},{"$f":"'Bespoke Area Data'!CI46","v":0},{"$f":"'Bespoke Area Data'!CJ46","v":0},{"$f":"'Bespoke Area Data'!CK46","v":0},{"$f":"'Bespoke Area Data'!CL46","v":0},{"$f":"'Bespoke Area Data'!CM46","v":0},{"$f":"'Bespoke Area Data'!CN46","v":0},{"$f":"'Bespoke Area Data'!CO46","v":0},{"$f":"'Bespoke Area Data'!CP46","v":0},{"$f":"'Bespoke Area Data'!CQ46","v":0},{"$f":"'Bespoke Area Data'!CR46","v":0},{"$f":"'Bespoke Area Data'!CS46","v":0},{"$f":"'Bespoke Area Data'!CT46","v":0},{"$f":"'Bespoke Area Data'!CU46","v":0},{"$f":"'Bespoke Area Data'!CV46","v":0},{"$f":"'Bespoke Area Data'!CW46","v":0},{"$f":"'Bespoke Area Data'!CX46","v":0},{"$f":"'Bespoke Area Data'!CY46","v":0},{"$f":"'Bespoke Area Data'!CZ46","v":0},{"$f":"'Bespoke Area Data'!DA46","v":0},{"$f":"'Bespoke Area Data'!DB46","v":0},{"$f":"'Bespoke Area Data'!DC46","v":0},{"$f":"'Bespoke Area Data'!DD46","v":0},{"$f":"'Bespoke Area Data'!DE46","v":0},{"$f":"'Bespoke Area Data'!DF46","v":0},{"$f":"'Bespoke Area Data'!DG46","v":0},{"$f":"'Bespoke Area Data'!DH46","v":0},{"$f":"'Bespoke Area Data'!DI46","v":0},{"$f":"'Bespoke Area Data'!DJ46","v":0},{"$f":"'Bespoke Area Data'!DK46","v":0},{"$f":"'Bespoke Area Data'!DL46","v":0},{"$f":"'Bespoke Area Data'!DM46","v":0},{"$f":"'Bespoke Area Data'!DN46","v":0},{"$f":"'Bespoke Area Data'!DO46","v":0},{"$f":"'Bespoke Area Data'!DP46","v":0},{"$f":"'Bespoke Area Data'!DQ46","v":0},{"$f":"'Bespoke Area Data'!DR46","v":0},{"$f":"'Bespoke Area Data'!DS46","v":0},{"$f":"'Bespoke Area Data'!DT46","v":0},{"$f":"'Bespoke Area Data'!DU46","v":0},{"$f":"'Bespoke Area Data'!DV46","v":0},{"$f":"'Bespoke Area Data'!DW46","v":0},{"$f":"'Bespoke Area Data'!DX46","v":0},{"$f":"'Bespoke Area Data'!DY46","v":0},{"$f":"'Bespoke Area Data'!DZ46","v":0},{"$f":"'Bespoke Area Data'!EA46","v":0},{"$f":"'Bespoke Area Data'!EB46","v":0},{"$f":"'Bespoke Area Data'!EC46","v":0},{"$f":"'Bespoke Area Data'!ED46","v":0},{"$f":"'Bespoke Area Data'!EE46","v":0},{"$f":"'Bespoke Area Data'!EF46","v":0},{"$f":"'Bespoke Area Data'!EG46","v":0},{"$f":"'Bespoke Area Data'!EH46","v":0},{"$f":"'Bespoke Area Data'!D47","v":0},{"$f":"'Bespoke Area Data'!E47","v":0},{"$f":"'Bespoke Area Data'!F47","v":0},{"$f":"'Bespoke Area Data'!G47","v":0},{"$f":"'Bespoke Area Data'!H47","v":0},{"$f":"'Bespoke Area Data'!I47","v":0},{"$f":"'Bespoke Area Data'!J47","v":0},{"$f":"'Bespoke Area Data'!K47","v":0},{"$f":"'Bespoke Area Data'!L47","v":0},{"$f":"'Bespoke Area Data'!M47","v":0},{"$f":"'Bespoke Area Data'!N47","v":0},{"$f":"'Bespoke Area Data'!O47","v":0},{"$f":"'Bespoke Area Data'!P47","v":0},{"$f":"'Bespoke Area Data'!Q47","v":0},{"$f":"'Bespoke Area Data'!R47","v":0},{"$f":"'Bespoke Area Data'!S47","v":0},{"$f":"'Bespoke Area Data'!T47","v":0},{"$f":"'Bespoke Area Data'!U47","v":0},{"$f":"'Bespoke Area Data'!V47","v":0},{"$f":"'Bespoke Area Data'!W47","v":0},{"$f":"'Bespoke Area Data'!X47","v":0},{"$f":"'Bespoke Area Data'!Y47","v":0},{"$f":"'Bespoke Area Data'!Z47","v":0},{"$f":"'Bespoke Area Data'!AA47","v":0},{"$f":"'Bespoke Area Data'!AB47","v":0},{"$f":"'Bespoke Area Data'!AC47","v":0},{"$f":"'Bespoke Area Data'!AD47","v":0},{"$f":"'Bespoke Area Data'!AE47","v":0},{"$f":"'Bespoke Area Data'!AF47","v":0},{"$f":"'Bespoke Area Data'!AG47","v":0},{"$f":"'Bespoke Area Data'!AH47","v":0},{"$f":"'Bespoke Area Data'!AI47","v":0},{"$f":"'Bespoke Area Data'!AJ47","v":0},{"$f":"'Bespoke Area Data'!AK47","v":0},{"$f":"'Bespoke Area Data'!AL47","v":0},{"$f":"'Bespoke Area Data'!AM47","v":0},{"$f":"'Bespoke Area Data'!AN47","v":0},{"$f":"'Bespoke Area Data'!AO47","v":0},{"$f":"'Bespoke Area Data'!AP47","v":0},{"$f":"'Bespoke Area Data'!AQ47","v":0},{"$f":"'Bespoke Area Data'!AR47","v":0},{"$f":"'Bespoke Area Data'!AS47","v":0},{"$f":"'Bespoke Area Data'!AT47","v":0},{"$f":"'Bespoke Area Data'!AU47","v":0},{"$f":"'Bespoke Area Data'!AV47","v":0},{"$f":"'Bespoke Area Data'!AW47","v":0},{"$f":"'Bespoke Area Data'!AX47","v":0},{"$f":"'Bespoke Area Data'!AY47","v":0},{"$f":"'Bespoke Area Data'!AZ47","v":0},{"$f":"'Bespoke Area Data'!BA47","v":0},{"$f":"'Bespoke Area Data'!BB47","v":0},{"$f":"'Bespoke Area Data'!BC47","v":0},{"$f":"'Bespoke Area Data'!BD47","v":0},{"$f":"'Bespoke Area Data'!BE47","v":0},{"$f":"'Bespoke Area Data'!BF47","v":0},{"$f":"'Bespoke Area Data'!BG47","v":0},{"$f":"'Bespoke Area Data'!BH47","v":0},{"$f":"'Bespoke Area Data'!BI47","v":0},{"$f":"'Bespoke Area Data'!BJ47","v":0},{"$f":"'Bespoke Area Data'!BK47","v":0},{"$f":"'Bespoke Area Data'!BL47","v":0},{"$f":"'Bespoke Area Data'!BM47","v":0},{"$f":"'Bespoke Area Data'!BN47","v":0},{"$f":"'Bespoke Area Data'!BO47","v":0},{"$f":"'Bespoke Area Data'!BP47","v":0},{"$f":"'Bespoke Area Data'!BQ47","v":0},{"$f":"'Bespoke Area Data'!BR47","v":0},{"$f":"'Bespoke Area Data'!BS47","v":0},{"$f":"'Bespoke Area Data'!BT47","v":0},{"$f":"'Bespoke Area Data'!BU47","v":0},{"$f":"'Bespoke Area Data'!BV47","v":0},{"$f":"'Bespoke Area Data'!BW47","v":0},{"$f":"'Bespoke Area Data'!BX47","v":0},{"$f":"'Bespoke Area Data'!BY47","v":0},{"$f":"'Bespoke Area Data'!BZ47","v":0},{"$f":"'Bespoke Area Data'!CA47","v":0},{"$f":"'Bespoke Area Data'!CB47","v":0},{"$f":"'Bespoke Area Data'!CC47","v":0},{"$f":"'Bespoke Area Data'!CD47","v":0},{"$f":"'Bespoke Area Data'!CE47","v":0},{"$f":"'Bespoke Area Data'!CF47","v":0},{"$f":"'Bespoke Area Data'!CG47","v":0},{"$f":"'Bespoke Area Data'!CH47","v":0},{"$f":"'Bespoke Area Data'!CI47","v":0},{"$f":"'Bespoke Area Data'!CJ47","v":0},{"$f":"'Bespoke Area Data'!CK47","v":0},{"$f":"'Bespoke Area Data'!CL47","v":0},{"$f":"'Bespoke Area Data'!CM47","v":0},{"$f":"'Bespoke Area Data'!CN47","v":0},{"$f":"'Bespoke Area Data'!CO47","v":0},{"$f":"'Bespoke Area Data'!CP47","v":0},{"$f":"'Bespoke Area Data'!CQ47","v":0},{"$f":"'Bespoke Area Data'!CR47","v":0},{"$f":"'Bespoke Area Data'!CS47","v":0},{"$f":"'Bespoke Area Data'!CT47","v":0},{"$f":"'Bespoke Area Data'!CU47","v":0},{"$f":"'Bespoke Area Data'!CV47","v":0},{"$f":"'Bespoke Area Data'!CW47","v":0},{"$f":"'Bespoke Area Data'!CX47","v":0},{"$f":"'Bespoke Area Data'!CY47","v":0},{"$f":"'Bespoke Area Data'!CZ47","v":0},{"$f":"'Bespoke Area Data'!DA47","v":0},{"$f":"'Bespoke Area Data'!DB47","v":0},{"$f":"'Bespoke Area Data'!DC47","v":0},{"$f":"'Bespoke Area Data'!DD47","v":0},{"$f":"'Bespoke Area Data'!DE47","v":0},{"$f":"'Bespoke Area Data'!DF47","v":0},{"$f":"'Bespoke Area Data'!DG47","v":0},{"$f":"'Bespoke Area Data'!DH47","v":0},{"$f":"'Bespoke Area Data'!DI47","v":0}]
["Bespoke","N/A",{"$f":"IF('Bespoke Area Name'!C16=\"\",\"No bespoke area name entered; Go to sheet \"\"Bespoke Area Name\"\"\",'Bespoke Area Name'!C16)","v":"No bespoke area name entered; Go to sheet \"Bespoke Area Name\""},"AREA0013",{"$f":"'Bespoke Area Data'!D50","v":0},{"$f":"'Bespoke Area Data'!E50","v":0},{"$f":"'Bespoke Area Data'!F50","v":0},{"$f":"'Bespoke Area Data'!G50","v":0},{"$f":"'Bespoke Area Data'!H50","v":0},{"$f":"'Bespoke Area Data'!I50","v":0},{"$f":"'Bespoke Area Data'!J50","v":0},{"$f":"'Bespoke Area Data'!K50","v":0},{"$f":"'Bespoke Area Data'!L50","v":0},{"$f":"'Bespoke Area Data'!M50","v":0},{"$f":"'Bespoke Area Data'!N50","v":0},{"$f":"'Bespoke Area Data'!O50","v":0},{"$f":"'Bespoke Area Data'!P50","v":0},{"$f":"'Bespoke Area Data'!Q50","v":0},{"$f":"'Bespoke Area Data'!R50","v":0},{"$f":"'Bespoke Area Data'!S50","v":0},{"$f":"'Bespoke Area Data'!T50","v":0},{"$f":"'Bespoke Area Data'!U50","v":0},{"$f":"'Bespoke Area Data'!V50","v":0},{"$f":"'Bespoke Area Data'!W50","v":0},{"$f":"'Bespoke Area Data'!X50","v":0},{"$f":"'Bespoke Area Data'!Y50","v":0},{"$f":"'Bespoke Area Data'!Z50","v":0},{"$f":"'Bespoke Area Data'!AA50","v":0},{"$f":"'Bespoke Area Data'!AB50","v":0},{"$f":"'Bespoke Area Data'!AC50","v":0},{"$f":"'Bespoke Area Data'!AD50","v":0},{"$f":"'Bespoke Area Data'!AE50","v":0},{"$f":"'Bespoke Area Data'!AF50","v":0},{"$f":"'Bespoke Area Data'!AG50","v":0},{"$f":"'Bespoke Area Data'!AH50","v":0},{"$f":"'Bespoke Area Data'!AI50","v":0},{"$f":"'Bespoke Area Data'!AJ50","v":0},{"$f":"'Bespoke Area Data'!AK50","v":0},{"$f":"'Bespoke Area Data'!AL50","v":0},{"$f":"'Bespoke Area Data'!AM50","v":0},{"$f":"'Bespoke Area Data'!AN50","v":0},{"$f":"'Bespoke Area Data'!AO50","v":0},{"$f":"'Bespoke Area Data'!AP50","v":0},{"$f":"'Bespoke Area Data'!AQ50","v":0},{"$f":"'Bespoke Area Data'!AR50","v":0},{"$f":"'Bespoke Area Data'!AS50","v":0},{"$f":"'Bespoke Area Data'!AT50","v":0},{"$f":"'Bespoke Area Data'!AU50","v":0},{"$f":"'Bespoke Area Data'!AV50","v":0},{"$f":"'Bespoke Area Data'!AW50","v":0},{"$f":"'Bespoke Area Data'!AX50","v":0},{"$f":"'Bespoke Area Data'!AY50","v":0},{"$f":"'Bespoke Area Data'!AZ50","v":0},{"$f":"'Bespoke Area Data'!BA50","v":0},{"$f":"'Bespoke Area Data'!BB50","v":0},{"$f":"'Bespoke Area Data'!BC50","v":0},{"$f":"'Bespoke Area Data'!BD50","v":0},{"$f":"'Bespoke Area Data'!BE50","v":0},{"$f":"'Bespoke Area Data'!BF50","v":0},{"$f":"'Bespoke Area Data'!BG50","v":0},{"$f":"'Bespoke Area Data'!BH50","v":0},{"$f":"'Bespoke Area Data'!BI50","v":0},{"$f":"'Bespoke Area Data'!BJ50","v":0},{"$f":"'Bespoke Area Data'!BK50","v":0},{"$f":"'Bespoke Area Data'!BL50","v":0},{"$f":"'Bespoke Area Data'!BM50","v":0},{"$f":"'Bespoke Area Data'!BN50","v":0},{"$f":"'Bespoke Area Data'!BO50","v":0},{"$f":"'Bespoke Area Data'!BP50","v":0},{"$f":"'Bespoke Area Data'!BQ50","v":0},{"$f":"'Bespoke Area Data'!BR50","v":0},{"$f":"'Bespoke Area Data'!BS50","v":0},{"$f":"'Bespoke Area Data'!BT50","v":0},{"$f":"'Bespoke Area Data'!BU50","v":0},{"$f":"'Bespoke Area Data'!BV50","v":0},{"$f":"'Bespoke Area Data'!BW50","v":0},{"$f":"'Bespoke Area Data'!BX50","v":0},{"$f":"'Bespoke Area Data'!BY50","v":0},{"$f":"'Bespoke Area Data'!BZ50","v":0},{"$f":"'Bespoke Area Data'!CA50","v":0},{"$f":"'Bespoke Area Data'!CB50","v":0},{"$f":"'Bespoke Area Data'!CC50","v":0},{"$f":"'Bespoke Area Data'!CD50","v":0},{"$f":"'Bespoke Area Data'!CE50","v":0},{"$f":"'Bespoke Area Data'!CF50","v":0},{"$f":"'Bespoke Area Data'!CG50","v":0},{"$f":"'Bespoke Area Data'!CH50","v":0},{"$f":"'Bespoke Area Data'!CI50","v":0},{"$f":"'Bespoke Area Data'!CJ50","v":0},{"$f":"'Bespoke Area Data'!CK50","v":0},{"$f":"'Bespoke Area Data'!CL50","v":0},{"$f":"'Bespoke Area Data'!CM50","v":0},{"$f":"'Bespoke Area Data'!CN50","v":0},{"$f":"'Bespoke Area Data'!CO50","v":0},{"$f":"'Bespoke Area Data'!CP50","v":0},{"$f":"'Bespoke Area Data'!CQ50","v":0},{"$f":"'Bespoke Area Data'!CR50","v":0},{"$f":"'Bespoke Area Data'!CS50","v":0},{"$f":"'Bespoke Area Data'!CT50","v":0},{"$f":"'Bespoke Area Data'!CU50","v":0},{"$f":"'Bespoke Area Data'!CV50","v":0},{"$f":"'Bespoke Area Data'!CW50","v":0},{"$f":"'Bespoke Area Data'!CX50","v":0},{"$f":"'Bespoke Area Data'!CY50","v":0},{"$f":"'Bespoke Area Data'!CZ50","v":0},{"$f":"'Bespoke Area Data'!DA50","v":0},{"$f":"'Bespoke Area Data'!DB50","v":0},{"$f":"'Bespoke Area Data'!DC50","v":0},{"$f":"'Bespoke Area Data'!DD50","v":0},{"$f":"'Bespoke Area Data'!DE50","v":0},{"$f":"'Bespoke Area Data'!DF50","v":0},{"$f":"'Bespoke Area Data'!DG50","v":0},{"$f":"'Bespoke Area Data'!DH50","v":0},{"$f":"'Bespoke Area Data'!DI50","v":0},{"$f":"'Bespoke Area Data'!DJ50","v":0},{"$f":"'Bespoke Area Data'!DK50","v":0},{"$f":"'Bespoke Area Data'!DL50","v":0},{"$f":"'Bespoke Area Data'!DM50","v":0},{"$f":"'Bespoke Area Data'!DN50","v":0},{"$f":"'Bespoke Area Data'!DO50","v":0},{"$f":"'Bespoke Area Data'!DP50","v":0},{"$f":"'Bespoke Area Data'!DQ50","v":0},{"$f":"'Bespoke Area Data'!DR50","v":0},{"$f":"'Bespoke Area Data'!DS50","v":0},{"$f":"'Bespoke Area Data'!DT50","v":0},{"$f":"'Bespoke Area Data'!DU50","v":0},{"$f":"'Bespoke Area Data'!DV50","v":0},{"$f":"'Bespoke Area Data'!DW50","v":0},{"$f":"'Bespoke Area Data'!DX50","v":0},{"$f":"'Bespoke Area Data'!DY50","v":0},{"$f":"'Bespoke Area Data'!DZ50","v":0},{"$f":"'Bespoke Area Data'!EA50","v":0},{"$f":"'Bespoke Area Data'!EB50","v":0},{"$f":"'Bespoke Area Data'!EC50","v":0},{"$f":"'Bespoke Area Data'!ED50","v":0},{"$f":"'Bespoke Area Data'!EE50","v":0},{"$f":"'Bespoke Area Data'!EF50","v":0},{"$f":"'Bespoke Area Data'!EG50","v":0},{"$f":"'Bespoke Area Data'!EH50","v":0},{"$f":"'Bespoke Area Data'!D51","v":0},{"$f":"'Bespoke Area Data'!E51","v":0},{"$f":"'Bespoke Area Data'!F51","v":0},{"$f":"'Bespoke Area Data'!G51","v":0},{"$f":"'Bespoke Area Data'!H51","v":0},{"$f":"'Bespoke Area Data'!I51","v":0},{"$f":"'Bespoke Area Data'!J51","v":0},{"$f":"'Bespoke Area Data'!K51","v":0},{"$f":"'Bespoke Area Data'!L51","v":0},{"$f":"'Bespoke Area Data'!M51","v":0},{"$f":"'Bespoke Area Data'!N51","v":0},{"$f":"'Bespoke Area Data'!O51","v":0},{"$f":"'Bespoke Area Data'!P51","v":0},{"$f":"'Bespoke Area Data'!Q51","v":0},{"$f":"'Bespoke Area Data'!R51","v":0},{"$f":"'Bespoke Area Data'!S51","v":0},{"$f":"'Bespoke Area Data'!T51","v":0},{"$f":"'Bespoke Area Data'!U51","v":0},{"$f":"'Bespoke Area Data'!V51","v":0},{"$f":"'Bespoke Area Data'!W51","v":0},{"$f":"'Bespoke Area Data'!X51","v":0},{"$f":"'Bespoke Area Data'!Y51","v":0},{"$f":"'Bespoke Area Data'!Z51","v":0},{"$f":"'Bespoke Area Data'!AA51","v":0},{"$f":"'Bespoke Area Data'!AB51","v":0},{"$f":"'Bespoke Area Data'!AC51","v":0},{"$f":"'Bespoke Area Data'!AD51","v":0},{"$f":"'Bespoke Area Data'!AE51","v":0},{"$f":"'Bespoke Area Data'!AF51","v":0},{"$f":"'Bespoke Area Data'!AG51","v":0},{"$f":"'Bespoke Area Data'!AH51","v":0},{"$f":"'Bespoke Area Data'!AI51","v":0},{"$f":"'Bespoke Area Data'!AJ51","v":0},{"$f":"'Bespoke Area Data'!AK51","v":0},{"$f":"'Bespoke Area Data'!AL51","v":0},{"$f":"'Bespoke Area Data'!AM51","v":0},{"$f":"'Bespoke Area Data'!AN51","v":0},{"$f":"'Bespoke Area Data'!AO51","v":0},{"$f":"'Bespoke Area Data'!AP51","v":0},{"$f":"'Bespoke Area Data'!AQ51","v":0},{"$f":"'Bespoke Area Data'!AR51","v":0},{"$f":"'Bespoke Area Data'!AS51","v":0},{"$f":"'Bespoke Area Data'!AT51","v":0},{"$f":"'Bespoke Area Data'!AU51","v":0},{"$f":"'Bespoke Area Data'!AV51","v":0},{"$f":"'Bespoke Area Data'!AW51","v":0},{"$f":"'Bespoke Area Data'!AX51","v":0},{"$f":"'Bespoke Area Data'!AY51","v":0},{"$f":"'Bespoke Area Data'!AZ51","v":0},{"$f":"'Bespoke Area Data'!BA51","v":0},{"$f":"'Bespoke Area Data'!BB51","v":0},{"$f":"'Bespoke Area Data'!BC51","v":0},{"$f":"'Bespoke Area Data'!BD51","v":0},{"$f":"'Bespoke Area Data'!BE51","v":0},{"$f":"'Bespoke Area Data'!BF51","v":0},{"$f":"'Bespoke Area Data'!BG51","v":0},{"$f":"'Bespoke Area Data'!BH51","v":0},{"$f":"'Bespoke Area Data'!BI51","v":0},{"$f":"'Bespoke Area Data'!BJ51","v":0},{"$f":"'Bespoke Area Data'!BK51","v":0},{"$f":"'Bespoke Area Data'!BL51","v":0},{"$f":"'Bespoke Area Data'!BM51","v":0},{"$f":"'Bespoke Area Data'!BN51","v":0},{"$f":"'Bespoke Area Data'!BO51","v":0},{"$f":"'Bespoke Area Data'!BP51","v":0},{"$f":"'Bespoke Area Data'!BQ51","v":0},{"$f":"'Bespoke Area Data'!BR51","v":0},{"$f":"'Bespoke Area Data'!BS51","v":0},{"$f":"'Bespoke Area Data'!BT51","v":0},{"$f":"'Bespoke Area Data'!BU51","v":0},{"$f":"'Bespoke Area Data'!BV51","v":0},{"$f":"'Bespoke Area Data'!BW51","v":0},{"$f":"'Bespoke Area Data'!BX51","v":0},{"$f":"'Bespoke Area Data'!BY51","v":0},{"$f":"'Bespoke Area Data'!BZ51","v":0},{"$f":"'Bespoke Area Data'!CA51","v":0},{"$f":"'Bespoke Area Data'!CB51","v":0},{"$f":"'Bespoke Area Data'!CC51","v":0},{"$f":"'Bespoke Area Data'!CD51","v":0},{"$f":"'Bespoke Area Data'!CE51","v":0},{"$f":"'Bespoke Area Data'!CF51","v":0},{"$f":"'Bespoke Area Data'!CG51","v":0},{"$f":"'Bespoke Area Data'!CH51","v":0},{"$f":"'Bespoke Area Data'!CI51","v":0},{"$f":"'Bespoke Area Data'!CJ51","v":0},{"$f":"'Bespoke Area Data'!CK51","v":0},{"$f":"'Bespoke Area Data'!CL51","v":0},{"$f":"'Bespoke Area Data'!CM51","v":0},{"$f":"'Bespoke Area Data'!CN51","v":0},{"$f":"'Bespoke Area Data'!CO51","v":0},{"$f":"'Bespoke Area Data'!CP51","v":0},{"$f":"'Bespoke Area Data'!CQ51","v":0},{"$f":"'Bespoke Area Data'!CR51","v":0},{"$f":"'Bespoke Area Data'!CS51","v":0},{"$f":"'Bespoke Area Data'!CT51","v":0},{"$f":"'Bespoke Area Data'!CU51","v":0},{"$f":"'Bespoke Area Data'!CV51","v":0},{"$f":"'Bespoke Area Data'!CW51","v":0},{"$f":"'Bespoke Area Data'!CX51","v":0},{"$f":"'Bespoke Area Data'!CY51","v":0},{"$f":"'Bespoke Area Data'!CZ51","v":0},{"$f":"'Bespoke Area Data'!DA51","v":0},{"$f":"'Bespoke Area Data'!DB51","v":0},{"$f":"'Bespoke Area Data'!DC51","v":0},{"$f":"'Bespoke Area Data'!DD51","v":0},{"$f":"'Bespoke Area Data'!DE51","v":0},{"$f":"'Bespoke Area Data'!DF51","v":0},{"$f":"'Bespoke Area Data'!DG51","v":0},{"$f":"'Bespoke Area Data'!DH51","v":0},{"$f":"'Bespoke Area Data'!DI51","v":0}]
["Bespoke","N/A",{"$f":"IF('Bespoke Area Name'!C17=\"\",\"No bespoke area name entered; Go to sheet \"\"Bespoke Area Name\"\"\",'Bespoke Area Name'!C17)","v":"No bespoke area name entered; Go to sheet \"Bespoke Area Name\""},"AREA0014",{"$f":"'Bespoke Area Data'!D54","v":0},{"$f":"'Bespoke Area Data'!E54","v":0},{"$f":"'Bespoke Area Data'!F54","v":0},{"$f":"'Bespoke Area Data'!G54","v":0},{"$f":"'Bespoke Area Data'!H54","v":0},{"$f":"'Bespoke Area Data'!I54","v":0},{"$f":"'Bespoke Area Data'!J54","v":0},{"$f":"'Bespoke Area Data'!K54","v":0},{"$f":"'Bespoke Area Data'!L54","v":0},{"$f":"'Bespoke Area Data'!M54","v":0},{"$f":"'Bespoke Area Data'!N54","v":0},{"$f":"'Bespoke Area Data'!O54","v":0},{"$f":"'Bespoke Area Data'!P54","v":0},{"$f":"'Bespoke Area Data'!Q54","v":0},{"$f":"'Bespoke Area Data'!R54","v":0},{"$f":"'Bespoke Area Data'!S54","v":0},{"$f":"'Bespoke Area Data'!T54","v":0},{"$f":"'Bespoke Area Data'!U54","v":0},{"$f":"'Bespoke Area Data'!V54","v":0},{"$f":"'Bespoke Area Data'!W54","v":0},{"$f":"'Bespoke Area Data'!X54","v":0},{"$f":"'Bespoke Area Data'!Y54","v":0},{"$f":"'Bespoke Area Data'!Z54","v":0},{"$f":"'Bespoke Area Data'!AA54","v":0},{"$f":"'Bespoke Area Data'!AB54","v":0},{"$f":"'Bespoke Area Data'!AC54","v":0},{"$f":"'Bespoke Area Data'!AD54","v":0},{"$f":"'Bespoke Area Data'!AE54","v":0},{"$f":"'Bespoke Area Data'!AF54","v":0},{"$f":"'Bespoke Area Data'!AG54","v":0},{"$f":"'Bespoke Area Data'!AH54","v":0},{"$f":"'Bespoke Area Data'!AI54","v":0},{"$f":"'Bespoke Area Data'!AJ54","v":0},{"$f":"'Bespoke Area Data'!AK54","v":0},{"$f":"'Bespoke Area Data'!AL54","v":0},{"$f":"'Bespoke Area Data'!AM54","v":0},{"$f":"'Bespoke Area Data'!AN54","v":0},{"$f":"'Bespoke Area Data'!AO54","v":0},{"$f":"'Bespoke Area Data'!AP54","v":0},{"$f":"'Bespoke Area Data'!AQ54","v":0},{"$f":"'Bespoke Area Data'!AR54","v":0},{"$f":"'Bespoke Area Data'!AS54","v":0},{"$f":"'Bespoke Area Data'!AT54","v":0},{"$f":"'Bespoke Area Data'!AU54","v":0},{"$f":"'Bespoke Area Data'!AV54","v":0},{"$f":"'Bespoke Area Data'!AW54","v":0},{"$f":"'Bespoke Area Data'!AX54","v":0},{"$f":"'Bespoke Area Data'!AY54","v":0},{"$f":"'Bespoke Area Data'!AZ54","v":0},{"$f":"'Bespoke Area Data'!BA54","v":0},{"$f":"'Bespoke Area Data'!BB54","v":0},{"$f":"'Bespoke Area Data'!BC54","v":0},{"$f":"'Bespoke Area Data'!BD54","v":0},{"$f":"'Bespoke Area Data'!BE54","v":0},{"$f":"'Bespoke Area Data'!BF54","v":0},{"$f":"'Bespoke Area Data'!BG54","v":0},{"$f":"'Bespoke Area Data'!BH54","v":0},{"$f":"'Bespoke Area Data'!BI54","v":0},{"$f":"'Bespoke Area Data'!BJ54","v":0},{"$f":"'Bespoke Area Data'!BK54","v":0},{"$f":"'Bespoke Area Data'!BL54","v":0},{"$f":"'Bespoke Area Data'!BM54","v":0},{"$f":"'Bespoke Area Data'!BN54","v":0},{"$f":"'Bespoke Area Data'!BO54","v":0},{"$f":"'Bespoke Area Data'!BP54","v":0},{"$f":"'Bespoke Area Data'!BQ54","v":0},{"$f":"'Bespoke Area Data'!BR54","v":0},{"$f":"'Bespoke Area Data'!BS54","v":0},{"$f":"'Bespoke Area Data'!BT54","v":0},{"$f":"'Bespoke Area Data'!BU54","v":0},{"$f":"'Bespoke Area Data'!BV54","v":0},{"$f":"'Bespoke Area Data'!BW54","v":0},{"$f":"'Bespoke Area Data'!BX54","v":0},{"$f":"'Bespoke Area Data'!BY54","v":0},{"$f":"'Bespoke Area Data'!BZ54","v":0},{"$f":"'Bespoke Area Data'!CA54","v":0},{"$f":"'Bespoke Area Data'!CB54","v":0},{"$f":"'Bespoke Area Data'!CC54","v":0},{"$f":"'Bespoke Area Data'!CD54","v":0},{"$f":"'Bespoke Area Data'!CE54","v":0},{"$f":"'Bespoke Area Data'!CF54","v":0},{"$f":"'Bespoke Area Data'!CG54","v":0},{"$f":"'Bespoke Area Data'!CH54","v":0},{"$f":"'Bespoke Area Data'!CI54","v":0},{"$f":"'Bespoke Area Data'!CJ54","v":0},{"$f":"'Bespoke Area Data'!CK54","v":0},{"$f":"'Bespoke Area Data'!CL54","v":0},{"$f":"'Bespoke Area Data'!CM54","v":0},{"$f":"'Bespoke Area Data'!CN54","v":0},{"$f":"'Bespoke Area Data'!CO54","v":0},{"$f":"'Bespoke Area Data'!CP54","v":0},{"$f":"'Bespoke Area Data'!CQ54","v":0},{"$f":"'Bespoke Area Data'!CR54","v":0},{"$f":"'Bespoke Area Data'!CS54","v":0},{"$f":"'Bespoke Area Data'!CT54","v":0},{"$f":"'Bespoke Area Data'!CU54","v":0},{"$f":"'Bespoke Area Data'!CV54","v":0},{"$f":"'Bespoke Area Data'!CW54","v":0},{"$f":"'Bespoke Area Data'!CX54","v":0},{"$f":"'Bespoke Area Data'!CY54","v":0},{"$f":"'Bespoke Area Data'!CZ54","v":0},{"$f":"'Bespoke Area Data'!DA54","v":0},{"$f":"'Bespoke Area Data'!DB54","v":0},{"$f":"'Bespoke Area Data'!DC54","v":0},{"$f":"'Bespoke Area Data'!DD54","v":0},{"$f":"'Bespoke Area Data'!DE54","v":0},{"$f":"'Bespoke Area Data'!DF54","v":0},{"$f":"'Bespoke Area Data'!DG54","v":0},{"$f":"'Bespoke Area Data'!DH54","v":0},{"$f":"'Bespoke Area Data'!DI54","v":0},{"$f":"'Bespoke Area Data'!DJ54","v":0},{"$f":"'Bespoke Area Data'!DK54","v":0},{"$f":"'Bespoke Area Data'!DL54","v":0},{"$f":"'Bespoke Area Data'!DM54","v":0},{"$f":"'Bespoke Area Data'!DN54","v":0},{"$f":"'Bespoke Area Data'!DO54","v":0},{"$f":"'Bespoke Area Data'!DP54","v":0},{"$f":"'Bespoke Area Data'!DQ54","v":0},{"$f":"'Bespoke Area Data'!DR54","v":0},{"$f":"'Bespoke Area Data'!DS54","v":0},{"$f":"'Bespoke Area Data'!DT54","v":0},{"$f":"'Bespoke Area Data'!DU54","v":0},{"$f":"'Bespoke Area Data'!DV54","v":0},{"$f":"'Bespoke Area Data'!DW54","v":0},{"$f":"'Bespoke Area Data'!DX54","v":0},{"$f":"'Bespoke Area Data'!DY54","v":0},{"$f":"'Bespoke Area Data'!DZ54","v":0},{"$f":"'Bespoke Area Data'!EA54","v":0},{"$f":"'Bespoke Area Data'!EB54","v":0},{"$f":"'Bespoke Area Data'!EC54","v":0},{"$f":"'Bespoke Area Data'!ED54","v":0},{"$f":"'Bespoke Area Data'!EE54","v":0},{"$f":"'Bespoke Area Data'!EF54","v":0},{"$f":"'Bespoke Area Data'!EG54","v":0},{"$f":"'Bespoke Area Data'!EH54","v":0},{"$f":"'Bespoke Area Data'!D55","v":0},{"$f":"'Bespoke Area Data'!E55","v":0},{"$f":"'Bespoke Area Data'!F55","v":0},{"$f":"'Bespoke Area Data'!G55","v":0},{"$f":"'Bespoke Area Data'!H55","v":0},{"$f":"'Bespoke Area Data'!I55","v":0},{"$f":"'Bespoke Area Data'!J55","v":0},{"$f":"'Bespoke Area Data'!K55","v":0},{"$f":"'Bespoke Area Data'!L55","v":0},{"$f":"'Bespoke Area Data'!M55","v":0},{"$f":"'Bespoke Area Data'!N55","v":0},{"$f":"'Bespoke Area Data'!O55","v":0},{"$f":"'Bespoke Area Data'!P55","v":0},{"$f":"'Bespoke Area Data'!Q55","v":0},{"$f":"'Bespoke Area Data'!R55","v":0},{"$f":"'Bespoke Area Data'!S55","v":0},{"$f":"'Bespoke Area Data'!T55","v":0},{"$f":"'Bespoke Area Data'!U55","v":0},{"$f":"'Bespoke Area Data'!V55","v":0},{"$f":"'Bespoke Area Data'!W55","v":0},{"$f":"'Bespoke Area Data'!X55","v":0},{"$f":"'Bespoke Area Data'!Y55","v":0},{"$f":"'Bespoke Area Data'!Z55","v":0},{"$f":"'Bespoke Area Data'!AA55","v":0},{"$f":"'Bespoke Area Data'!AB55","v":0},{"$f":"'Bespoke Area Data'!AC55","v":0},{"$f":"'Bespoke Area Data'!AD55","v":0},{"$f":"'Bespoke Area Data'!AE55","v":0},{"$f":"'Bespoke Area Data'!AF55","v":0},{"$f":"'Bespoke Area Data'!AG55","v":0},{"$f":"'Bespoke Area Data'!AH55","v":0},{"$f":"'Bespoke Area Data'!AI55","v":0},{"$f":"'Bespoke Area Data'!AJ55","v":0},{"$f":"'Bespoke Area Data'!AK55","v":0},{"$f":"'Bespoke Area Data'!AL55","v":0},{"$f":"'Bespoke Area Data'!AM55","v":0},{"$f":"'Bespoke Area Data'!AN55","v":0},{"$f":"'Bespoke Area Data'!AO55","v":0},{"$f":"'Bespoke Area Data'!AP55","v":0},{"$f":"'Bespoke Area Data'!AQ55","v":0},{"$f":"'Bespoke Area Data'!AR55","v":0},{"$f":"'Bespoke Area Data'!AS55","v":0},{"$f":"'Bespoke Area Data'!AT55","v":0},{"$f":"'Bespoke Area Data'!AU55","v":0},{"$f":"'Bespoke Area Data'!AV55","v":0},{"$f":"'Bespoke Area Data'!AW55","v":0},{"$f":"'Bespoke Area Data'!AX55","v":0},{"$f":"'Bespoke Area Data'!AY55","v":0},{"$f":"'Bespoke Area Data'!AZ55","v":0},{"$f":"'Bespoke Area Data'!BA55","v":0},{"$f":"'Bespoke Area Data'!BB55","v":0},{"$f":"'Bespoke Area Data'!BC55","v":0},{"$f":"'Bespoke Area Data'!BD55","v":0},{"$f":"'Bespoke Area Data'!BE55","v":0},{"$f":"'Bespoke Area Data'!BF55","v":0},{"$f":"'Bespoke Area Data'!BG55","v":0},{"$f":"'Bespoke Area Data'!BH55","v":0},{"$f":"'Bespoke Area Data'!BI55","v":0},{"$f":"'Bespoke Area Data'!BJ55","v":0},{"$f":"'Bespoke Area Data'!BK55","v":0},{"$f":"'Bespoke Area Data'!BL55","v":0},{"$f":"'Bespoke Area Data'!BM55","v":0},{"$f":"'Bespoke Area Data'!BN55","v":0},{"$f":"'Bespoke Area Data'!BO55","v":0},{"$f":"'Bespoke Area Data'!BP55","v":0},{"$f":"'Bespoke Area Data'!BQ55","v":0},{"$f":"'Bespoke Area Data'!BR55","v":0},{"$f":"'Bespoke Area Data'!BS55","v":0},{"$f":"'Bespoke Area Data'!BT55","v":0},{"$f":"'Bespoke Area Data'!BU55","v":0},{"$f":"'Bespoke Area Data'!BV55","v":0},{"$f":"'Bespoke Area Data'!BW55","v":0},{"$f":"'Bespoke Area Data'!BX55","v":0},{"$f":"'Bespoke Area Data'!BY55","v":0},{"$f":"'Bespoke Area Data'!BZ55","v":0},{"$f":"'Bespoke Area Data'!CA55","v":0},{"$f":"'Bespoke Area Data'!CB55","v":0},{"$f":"'Bespoke Area Data'!CC55","v":0},{"$f":"'Bespoke Area Data'!CD55","v":0},{"$f":"'Bespoke Area Data'!CE55","v":0},{"$f":"'Bespoke Area Data'!CF55","v":0},{"$f":"'Bespoke Area Data'!CG55","v":0},{"$f":"'Bespoke Area Data'!CH55","v":0},{"$f":"'Bespoke Area Data'!CI55","v":0},{"$f":"'Bespoke Area Data'!CJ55","v":0},{"$f":"'Bespoke Area Data'!CK55","v":0},{"$f":"'Bespoke Area Data'!CL55","v":0},{"$f":"'Bespoke Area Data'!CM55","v":0},{"$f":"'Bespoke Area Data'!CN55","v":0},{"$f":"'Bespoke Area Data'!CO55","v":0},{"$f":"'Bespoke Area Data'!CP55","v":0},{"$f":"'Bespoke Area Data'!CQ55","v":0},{"$f":"'Bespoke Area Data'!CR55","v":0},{"$f":"'Bespoke Area Data'!CS55","v":0},{"$f":"'Bespoke Area Data'!CT55","v":0},{"$f":"'Bespoke Area Data'!CU55","v":0},{"$f":"'Bespoke Area Data'!CV55","v":0},{"$f":"'Bespoke Area Data'!CW55","v":0},{"$f":"'Bespoke Area Data'!CX55","v":0},{"$f":"'Bespoke Area Data'!CY55","v":0},{"$f":"'Bespoke Area Data'!CZ55","v":0},{"$f":"'Bespoke Area Data'!DA55","v":0},{"$f":"'Bespoke Area Data'!DB55","v":0},{"$f":"'Bespoke Area Data'!DC55","v":0},{"$f":"'Bespoke Area Data'!DD55","v":0},{"$f":"'Bespoke Area Data'!DE55","v":0},{"$f":"'Bespoke Area Data'!DF55","v":0},{"$f":"'Bespoke Area Data'!DG55","v":0},{"$f":"'Bespoke Area Data'!DH55","v":0},{"$f":"'Bespoke Area Data'!DI55","v":0}]
["Bespoke","N/A",{"$f":"IF('Bespoke Area Name'!C18=\"\",\"No bespoke area name entered; Go to sheet \"\"Bespoke Area Name\"\"\",'Bespoke Area Name'!C18)","v":"No bespoke area name entered; Go to sheet \"Bespoke Area Name\""},"AREA0015",{"$f":"'Bespoke Area Data'!D58","v":0},{"$f":"'Bespoke Area Data'!E58","v":0},{"$f":"'Bespoke Area Data'!F58","v":0},{"$f":"'Bespoke Area Data'!G58","v":0},{"$f":"'Bespoke Area Data'!H58","v":0},{"$f":"'Bespoke Area Data'!I58","v":0},{"$f":"'Bespoke Area Data'!J58","v":0},{"$f":"'Bespoke Area Data'!K58","v":0},{"$f":"'Bespoke Area Data'!L58","v":0},{"$f":"'Bespoke Area Data'!M58","v":0},{"$f":"'Bespoke Area Data'!N58","v":0},{"$f":"'Bespoke Area Data'!O58","v":0},{"$f":"'Bespoke Area Data'!P58","v":0},{"$f":"'Bespoke Area Data'!Q58","v":0},{"$f":"'Bespoke Area Data'!R58","v":0},{"$f":"'Bespoke Area Data'!S58","v":0},{"$f":"'Bespoke Area Data'!T58","v":0},{"$f":"'Bespoke Area Data'!U58","v":0},{"$f":"'Bespoke Area Data'!V58","v":0},{"$f":"'Bespoke Area Data'!W58","v":0},{"$f":"'Bespoke Area Data'!X58","v":0},{"$f":"'Bespoke Area Data'!Y58","v":0},{"$f":"'Bespoke Area Data'!Z58","v":0},{"$f":"'Bespoke Area Data'!AA58","v":0},{"$f":"'Bespoke Area Data'!AB58","v":0},{"$f":"'Bespoke Area Data'!AC58","v":0},{"$f":"'Bespoke Area Data'!AD58","v":0},{"$f":"'Bespoke Area Data'!AE58","v":0},{"$f":"'Bespoke Area Data'!AF58","v":0},{"$f":"'Bespoke Area Data'!AG58","v":0},{"$f":"'Bespoke Area Data'!AH58","v":0},{"$f":"'Bespoke Area Data'!AI58","v":0},{"$f":"'Bespoke Area Data'!AJ58","v":0},{"$f":"'Bespoke Area Data'!AK58","v":0},{"$f":"'Bespoke Area Data'!AL58","v":0},{"$f":"'Bespoke Area Data'!AM58","v":0},{"$f":"'Bespoke Area Data'!AN58","v":0},{"$f":"'Bespoke Area Data'!AO58","v":0},{"$f":"'Bespoke Area Data'!AP58","v":0},{"$f":"'Bespoke Area Data'!AQ58","v":0},{"$f":"'Bespoke Area Data'!AR58","v":0},{"$f":"'Bespoke Area Data'!AS58","v":0},{"$f":"'Bespoke Area Data'!AT58","v":0},{"$f":"'Bespoke Area Data'!AU58","v":0},{"$f":"'Bespoke Area Data'!AV58","v":0},{"$f":"'Bespoke Area Data'!AW58","v":0},{"$f":"'Bespoke Area Data'!AX58","v":0},{"$f":"'Bespoke Area Data'!AY58","v":0},{"$f":"'Bespoke Area Data'!AZ58","v":0},{"$f":"'Bespoke Area Data'!BA58","v":0},{"$f":"'Bespoke Area Data'!BB58","v":0},{"$f":"'Bespoke Area Data'!BC58","v":0},{"$f":"'Bespoke Area Data'!BD58","v":0},{"$f":"'Bespoke Area Data'!BE58","v":0},{"$f":"'Bespoke Area Data'!BF58","v":0},{"$f":"'Bespoke Area Data'!BG58","v":0},{"$f":"'Bespoke Area Data'!BH58","v":0},{"$f":"'Bespoke Area Data'!BI58","v":0},{"$f":"'Bespoke Area Data'!BJ58","v":0},{"$f":"'Bespoke Area Data'!BK58","v":0},{"$f":"'Bespoke Area Data'!BL58","v":0},{"$f":"'Bespoke Area Data'!BM58","v":0},{"$f":"'Bespoke Area Data'!BN58","v":0},{"$f":"'Bespoke Area Data'!BO58","v":0},{"$f":"'Bespoke Area Data'!BP58","v":0},{"$f":"'Bespoke Area Data'!BQ58","v":0},{"$f":"'Bespoke Area Data'!BR58","v":0},{"$f":"'Bespoke Area Data'!BS58","v":0},{"$f":"'Bespoke Area Data'!BT58","v":0},{"$f":"'Bespoke Area Data'!BU58","v":0},{"$f":"'Bespoke Area Data'!BV58","v":0},{"$f":"'Bespoke Area Data'!BW58","v":0},{"$f":"'Bespoke Area Data'!BX58","v":0},{"$f":"'Bespoke Area Data'!BY58","v":0},{"$f":"'Bespoke Area Data'!BZ58","v":0},{"$f":"'Bespoke Area Data'!CA58","v":0},{"$f":"'Bespoke Area Data'!CB58","v":0},{"$f":"'Bespoke Area Data'!CC58","v":0},{"$f":"'Bespoke Area Data'!CD58","v":0},{"$f":"'Bespoke Area Data'!CE58","v":0},{"$f":"'Bespoke Area Data'!CF58","v":0},{"$f":"'Bespoke Area Data'!CG58","v":0},{"$f":"'Bespoke Area Data'!CH58","v":0},{"$f":"'Bespoke Area Data'!CI58","v":0},{"$f":"'Bespoke Area Data'!CJ58","v":0},{"$f":"'Bespoke Area Data'!CK58","v":0},{"$f":"'Bespoke Area Data'!CL58","v":0},{"$f":"'Bespoke Area Data'!CM58","v":0},{"$f":"'Bespoke Area Data'!CN58","v":0},{"$f":"'Bespoke Area Data'!CO58","v":0},{"$f":"'Bespoke Area Data'!CP58","v":0},{"$f":"'Bespoke Area Data'!CQ58","v":0},{"$f":"'Bespoke Area Data'!CR58","v":0},{"$f":"'Bespoke Area Data'!CS58","v":0},{"$f":"'Bespoke Area Data'!CT58","v":0},{"$f":"'Bespoke Area Data'!CU58","v":0},{"$f":"'Bespoke Area Data'!CV58","v":0},{"$f":"'Bespoke Area Data'!CW58","v":0},{"$f":"'Bespoke Area Data'!CX58","v":0},{"$f":"'Bespoke Area Data'!CY58","v":0},{"$f":"'Bespoke Area Data'!CZ58","v":0},{"$f":"'Bespoke Area Data'!DA58","v":0},{"$f":"'Bespoke Area Data'!DB58","v":0},{"$f":"'Bespoke Area Data'!DC58","v":0},{"$f":"'Bespoke Area Data'!DD58","v":0},{"$f":"'Bespoke Area Data'!DE58","v":0},{"$f":"'Bespoke Area Data'!DF58","v":0},{"$f":"'Bespoke Area Data'!DG58","v":0},{"$f":"'Bespoke Area Data'!DH58","v":0},{"$f":"'Bespoke Area Data'!DI58","v":0},{"$f":"'Bespoke Area Data'!DJ58","v":0},{"$f":"'Bespoke Area Data'!DK58","v":0},{"$f":"'Bespoke Area Data'!DL58","v":0},{"$f":"'Bespoke Area Data'!DM58","v":0},{"$f":"'Bespoke Area Data'!DN58","v":0},{"$f":"'Bespoke Area Data'!DO58","v":0},{"$f":"'Bespoke Area Data'!DP58","v":0},{"$f":"'Bespoke Area Data'!DQ58","v":0},{"$f":"'Bespoke Area Data'!DR58","v":0},{"$f":"'Bespoke Area Data'!DS58","v":0},{"$f":"'Bespoke Area Data'!DT58","v":0},{"$f":"'Bespoke Area Data'!DU58","v":0},{"$f":"'Bespoke Area Data'!DV58","v":0},{"$f":"'Bespoke Area Data'!DW58","v":0},{"$f":"'Bespoke Area Data'!DX58","v":0},{"$f":"'Bespoke Area Data'!DY58","v":0},{"$f":"'Bespoke Area Data'!DZ58","v":0},{"$f":"'Bespoke Area Data'!EA58","v":0},{"$f":"'Bespoke Area Data'!EB58","v":0},{"$f":"'Bespoke Area Data'!EC58","v":0},{"$f":"'Bespoke Area Data'!ED58","v":0},{"$f":"'Bespoke Area Data'!EE58","v":0},{"$f":"'Bespoke Area Data'!EF58","v":0},{"$f":"'Bespoke Area Data'!EG58","v":0},{"$f":"'Bespoke Area Data'!EH58","v":0},{"$f":"'Bespoke Area Data'!D59","v":0},{"$f":"'Bespoke Area Data'!E59","v":0},{"$f":"'Bespoke Area Data'!F59","v":0},{"$f":"'Bespoke Area Data'!G59","v":0},{"$f":"'Bespoke Area Data'!H59","v":0},{"$f":"'Bespoke Area Data'!I59","v":0},{"$f":"'Bespoke Area Data'!J59","v":0},{"$f":"'Bespoke Area Data'!K59","v":0},{"$f":"'Bespoke Area Data'!L59","v":0},{"$f":"'Bespoke Area Data'!M59","v":0},{"$f":"'Bespoke Area Data'!N59","v":0},{"$f":"'Bespoke Area Data'!O59","v":0},{"$f":"'Bespoke Area Data'!P59","v":0},{"$f":"'Bespoke Area Data'!Q59","v":0},{"$f":"'Bespoke Area Data'!R59","v":0},{"$f":"'Bespoke Area Data'!S59","v":0},{"$f":"'Bespoke Area Data'!T59","v":0},{"$f":"'Bespoke Area Data'!U59","v":0},{"$f":"'Bespoke Area Data'!V59","v":0},{"$f":"'Bespoke Area Data'!W59","v":0},{"$f":"'Bespoke Area Data'!X59","v":0},{"$f":"'Bespoke Area Data'!Y59","v":0},{"$f":"'Bespoke Area Data'!Z59","v":0},{"$f":"'Bespoke Area Data'!AA59","v":0},{"$f":"'Bespoke Area Data'!AB59","v":0},{"$f":"'Bespoke Area Data'!AC59","v":0},{"$f":"'Bespoke Area Data'!AD59","v":0},{"$f":"'Bespoke Area Data'!AE59","v":0},{"$f":"'Bespoke Area Data'!AF59","v":0},{"$f":"'Bespoke Area Data'!AG59","v":0},{"$f":"'Bespoke Area Data'!AH59","v":0},{"$f":"'Bespoke Area Data'!AI59","v":0},{"$f":"'Bespoke Area Data'!AJ59","v":0},{"$f":"'Bespoke Area Data'!AK59","v":0},{"$f":"'Bespoke Area Data'!AL59","v":0},{"$f":"'Bespoke Area Data'!AM59","v":0},{"$f":"'Bespoke Area Data'!AN59","v":0},{"$f":"'Bespoke Area Data'!AO59","v":0},{"$f":"'Bespoke Area Data'!AP59","v":0},{"$f":"'Bespoke Area Data'!AQ59","v":0},{"$f":"'Bespoke Area Data'!AR59","v":0},{"$f":"'Bespoke Area Data'!AS59","v":0},{"$f":"'Bespoke Area Data'!AT59","v":0},{"$f":"'Bespoke Area Data'!AU59","v":0},{"$f":"'Bespoke Area Data'!AV59","v":0},{"$f":"'Bespoke Area Data'!AW59","v":0},{"$f":"'Bespoke Area Data'!AX59","v":0},{"$f":"'Bespoke Area Data'!AY59","v":0},{"$f":"'Bespoke Area Data'!AZ59","v":0},{"$f":"'Bespoke Area Data'!BA59","v":0},{"$f":"'Bespoke Area Data'!BB59","v":0},{"$f":"'Bespoke Area Data'!BC59","v":0},{"$f":"'Bespoke Area Data'!BD59","v":0},{"$f":"'Bespoke Area Data'!BE59","v":0},{"$f":"'Bespoke Area Data'!BF59","v":0},{"$f":"'Bespoke Area Data'!BG59","v":0},{"$f":"'Bespoke Area Data'!BH59","v":0},{"$f":"'Bespoke Area Data'!BI59","v":0},{"$f":"'Bespoke Area Data'!BJ59","v":0},{"$f":"'Bespoke Area Data'!BK59","v":0},{"$f":"'Bespoke Area Data'!BL59","v":0},{"$f":"'Bespoke Area Data'!BM59","v":0},{"$f":"'Bespoke Area Data'!BN59","v":0},{"$f":"'Bespoke Area Data'!BO59","v":0},{"$f":"'Bespoke Area Data'!BP59","v":0},{"$f":"'Bespoke Area Data'!BQ59","v":0},{"$f":"'Bespoke Area Data'!BR59","v":0},{"$f":"'Bespoke Area Data'!BS59","v":0},{"$f":"'Bespoke Area Data'!BT59","v":0},{"$f":"'Bespoke Area Data'!BU59","v":0},{"$f":"'Bespoke Area Data'!BV59","v":0},{"$f":"'Bespoke Area Data'!BW59","v":0},{"$f":"'Bespoke Area Data'!BX59","v":0},{"$f":"'Bespoke Area Data'!BY59","v":0},{"$f":"'Bespoke Area Data'!BZ59","v":0},{"$f":"'Bespoke Area Data'!CA59","v":0},{"$f":"'Bespoke Area Data'!CB59","v":0},{"$f":"'Bespoke Area Data'!CC59","v":0},{"$f":"'Bespoke Area Data'!CD59","v":0},{"$f":"'Bespoke Area Data'!CE59","v":0},{"$f":"'Bespoke Area Data'!CF59","v":0},{"$f":"'Bespoke Area Data'!CG59","v":0},{"$f":"'Bespoke Area Data'!CH59","v":0},{"$f":"'Bespoke Area Data'!CI59","v":0},{"$f":"'Bespoke Area Data'!CJ59","v":0},{"$f":"'Bespoke Area Data'!CK59","v":0},{"$f":"'Bespoke Area Data'!CL59","v":0},{"$f":"'Bespoke Area Data'!CM59","v":0},{"$f":"'Bespoke Area Data'!CN59","v":0},{"$f":"'Bespoke Area Data'!CO59","v":0},{"$f":"'Bespoke Area Data'!CP59","v":0},{"$f":"'Bespoke Area Data'!CQ59","v":0},{"$f":"'Bespoke Area Data'!CR59","v":0},{"$f":"'Bespoke Area Data'!CS59","v":0},{"$f":"'Bespoke Area Data'!CT59","v":0},{"$f":"'Bespoke Area Data'!CU59","v":0},{"$f":"'Bespoke Area Data'!CV59","v":0},{"$f":"'Bespoke Area Data'!CW59","v":0},{"$f":"'Bespoke Area Data'!CX59","v":0},{"$f":"'Bespoke Area Data'!CY59","v":0},{"$f":"'Bespoke Area Data'!CZ59","v":0},{"$f":"'Bespoke Area Data'!DA59","v":0},{"$f":"'Bespoke Area Data'!DB59","v":0},{"$f":"'Bespoke Area Data'!DC59","v":0},{"$f":"'Bespoke Area Data'!DD59","v":0},{"$f":"'Bespoke Area Data'!DE59","v":0},{"$f":"'Bespoke Area Data'!DF59","v":0},{"$f":"'Bespoke Area Data'!DG59","v":0},{"$f":"'Bespoke Area Data'!DH59","v":0},{"$f":"'Bespoke Area Data'!DI59","v":0}]
["Bespoke","N/A",{"$f":"IF('Bespoke Area Name'!C19=\"\",\"No bespoke area name entered; Go to sheet \"\"Bespoke Area Name\"\"\",'Bespoke Area Name'!C19)","v":"No bespoke area name entered; Go to sheet \"Bespoke Area Name\""},"AREA0016",{"$f":"'Bespoke Area Data'!D62","v":0},{"$f":"'Bespoke Area Data'!E62","v":0},{"$f":"'Bespoke Area Data'!F62","v":0},{"$f":"'Bespoke Area Data'!G62","v":0},{"$f":"'Bespoke Area Data'!H62","v":0},{"$f":"'Bespoke Area Data'!I62","v":0},{"$f":"'Bespoke Area Data'!J62","v":0},{"$f":"'Bespoke Area Data'!K62","v":0},{"$f":"'Bespoke Area Data'!L62","v":0},{"$f":"'Bespoke Area Data'!M62","v":0},{"$f":"'Bespoke Area Data'!N62","v":0},{"$f":"'Bespoke Area Data'!O62","v":0},{"$f":"'Bespoke Area Data'!P62","v":0},{"$f":"'Bespoke Area Data'!Q62","v":0},{"$f":"'Bespoke Area Data'!R62","v":0},{"$f":"'Bespoke Area Data'!S62","v":0},{"$f":"'Bespoke Area Data'!T62","v":0},{"$f":"'Bespoke Area Data'!U62","v":0},{"$f":"'Bespoke Area Data'!V62","v":0},{"$f":"'Bespoke Area Data'!W62","v":0},{"$f":"'Bespoke Area Data'!X62","v":0},{"$f":"'Bespoke Area Data'!Y62","v":0},{"$f":"'Bespoke Area Data'!Z62","v":0},{"$f":"'Bespoke Area Data'!AA62","v":0},{"$f":"'Bespoke Area Data'!AB62","v":0},{"$f":"'Bespoke Area Data'!AC62","v":0},{"$f":"'Bespoke Area Data'!AD62","v":0},{"$f":"'Bespoke Area Data'!AE62","v":0},{"$f":"'Bespoke Area Data'!AF62","v":0},{"$f":"'Bespoke Area Data'!AG62","v":0},{"$f":"'Bespoke Area Data'!AH62","v":0},{"$f":"'Bespoke Area Data'!AI62","v":0},{"$f":"'Bespoke Area Data'!AJ62","v":0},{"$f":"'Bespoke Area Data'!AK62","v":0},{"$f":"'Bespoke Area Data'!AL62","v":0},{"$f":"'Bespoke Area Data'!AM62","v":0},{"$f":"'Bespoke Area Data'!AN62","v":0},{"$f":"'Bespoke Area Data'!AO62","v":0},{"$f":"'Bespoke Area Data'!AP62","v":0},{"$f":"'Bespoke Area Data'!AQ62","v":0},{"$f":"'Bespoke Area Data'!AR62","v":0},{"$f":"'Bespoke Area Data'!AS62","v":0},{"$f":"'Bespoke Area Data'!AT62","v":0},{"$f":"'Bespoke Area Data'!AU62","v":0},{"$f":"'Bespoke Area Data'!AV62","v":0},{"$f":"'Bespoke Area Data'!AW62","v":0},{"$f":"'Bespoke Area Data'!AX62","v":0},{"$f":"'Bespoke Area Data'!AY62","v":0},{"$f":"'Bespoke Area Data'!AZ62","v":0},{"$f":"'Bespoke Area Data'!BA62","v":0},{"$f":"'Bespoke Area Data'!BB62","v":0},{"$f":"'Bespoke Area Data'!BC62","v":0},{"$f":"'Bespoke Area Data'!BD62","v":0},{"$f":"'Bespoke Area Data'!BE62","v":0},{"$f":"'Bespoke Area Data'!BF62","v":0},{"$f":"'Bespoke Area Data'!BG62","v":0},{"$f":"'Bespoke Area Data'!BH62","v":0},{"$f":"'Bespoke Area Data'!BI62","v":0},{"$f":"'Bespoke Area Data'!BJ62","v":0},{"$f":"'Bespoke Area Data'!BK62","v":0},{"$f":"'Bespoke Area Data'!BL62","v":0},{"$f":"'Bespoke Area Data'!BM62","v":0},{"$f":"'Bespoke Area Data'!BN62","v":0},{"$f":"'Bespoke Area Data'!BO62","v":0},{"$f":"'Bespoke Area Data'!BP62","v":0},{"$f":"'Bespoke Area Data'!BQ62","v":0},{"$f":"'Bespoke Area Data'!BR62","v":0},{"$f":"'Bespoke Area Data'!BS62","v":0},{"$f":"'Bespoke Area Data'!BT62","v":0},{"$f":"'Bespoke Area Data'!BU62","v":0},{"$f":"'Bespoke Area Data'!BV62","v":0},{"$f":"'Bespoke Area Data'!BW62","v":0},{"$f":"'Bespoke Area Data'!BX62","v":0},{"$f":"'Bespoke Area Data'!BY62","v":0},{"$f":"'Bespoke Area Data'!BZ62","v":0},{"$f":"'Bespoke Area Data'!CA62","v":0},{"$f":"'Bespoke Area Data'!CB62","v":0},{"$f":"'Bespoke Area Data'!CC62","v":0},{"$f":"'Bespoke Area Data'!CD62","v":0},{"$f":"'Bespoke Area Data'!CE62","v":0},{"$f":"'Bespoke Area Data'!CF62","v":0},{"$f":"'Bespoke Area Data'!CG62","v":0},{"$f":"'Bespoke Area Data'!CH62","v":0},{"$f":"'Bespoke Area Data'!CI62","v":0},{"$f":"'Bespoke Area Data'!CJ62","v":0},{"$f":"'Bespoke Area Data'!CK62","v":0},{"$f":"'Bespoke Area Data'!CL62","v":0},{"$f":"'Bespoke Area Data'!CM62","v":0},{"$f":"'Bespoke Area Data'!CN62","v":0},{"$f":"'Bespoke Area Data'!CO62","v":0},{"$f":"'Bespoke Area Data'!CP62","v":0},{"$f":"'Bespoke Area Data'!CQ62","v":0},{"$f":"'Bespoke Area Data'!CR62","v":0},{"$f":"'Bespoke Area Data'!CS62","v":0},{"$f":"'Bespoke Area Data'!CT62","v":0},{"$f":"'Bespoke Area Data'!CU62","v":0},{"$f":"'Bespoke Area Data'!CV62","v":0},{"$f":"'Bespoke Area Data'!CW62","v":0},{"$f":"'Bespoke Area Data'!CX62","v":0},{"$f":"'Bespoke Area Data'!CY62","v":0},{"$f":"'Bespoke Area Data'!CZ62","v":0},{"$f":"'Bespoke Area Data'!DA62","v":0},{"$f":"'Bespoke Area Data'!DB62","v":0},{"$f":"'Bespoke Area Data'!DC62","v":0},{"$f":"'Bespoke Area Data'!DD62","v":0},{"$f":"'Bespoke Area Data'!DE62","v":0},{"$f":"'Bespoke Area Data'!DF62","v":0},{"$f":"'Bespoke Area Data'!DG62","v":0},{"$f":"'Bespoke Area Data'!DH62","v":0},{"$f":"'Bespoke Area Data'!DI62","v":0},{"$f":"'Bespoke Area Data'!DJ62","v":0},{"$f":"'Bespoke Area Data'!DK62","v":0},{"$f":"'Bespoke Area Data'!DL62","v":0},{"$f":"'Bespoke Area Data'!DM62","v":0},{"$f":"'Bespoke Area Data'!DN62","v":0},{"$f":"'Bespoke Area Data'!DO62","v":0},{"$f":"'Bespoke Area Data'!DP62","v":0},{"$f":"'Bespoke Area Data'!DQ62","v":0},{"$f":"'Bespoke Area Data'!DR62","v":0},{"$f":"'Bespoke Area Data'!DS62","v":0},{"$f":"'Bespoke Area Data'!DT62","v":0},{"$f":"'Bespoke Area Data'!DU62","v":0},{"$f":"'Bespoke Area Data'!DV62","v":0},{"$f":"'Bespoke Area Data'!DW62","v":0},{"$f":"'Bespoke Area Data'!DX62","v":0},{"$f":"'Bespoke Area Data'!DY62","v":0},{"$f":"'Bespoke Area Data'!DZ62","v":0},{"$f":"'Bespoke Area Data'!EA62","v":0},{"$f":"'Bespoke Area Data'!EB62","v":0},{"$f":"'Bespoke Area Data'!EC62","v":0},{"$f":"'Bespoke Area Data'!ED62","v":0},{"$f":"'Bespoke Area Data'!EE62","v":0},{"$f":"'Bespoke Area Data'!EF62","v":0},{"$f":"'Bespoke Area Data'!EG62","v":0},{"$f":"'Bespoke Area Data'!EH62","v":0},{"$f":"'Bespoke Area Data'!D63","v":0},{"$f":"'Bespoke Area Data'!E63","v":0},{"$f":"'Bespoke Area Data'!F63","v":0},{"$f":"'Bespoke Area Data'!G63","v":0},{"$f":"'Bespoke Area Data'!H63","v":0},{"$f":"'Bespoke Area Data'!I63","v":0},{"$f":"'Bespoke Area Data'!J63","v":0},{"$f":"'Bespoke Area Data'!K63","v":0},{"$f":"'Bespoke Area Data'!L63","v":0},{"$f":"'Bespoke Area Data'!M63","v":0},{"$f":"'Bespoke Area Data'!N63","v":0},{"$f":"'Bespoke Area Data'!O63","v":0},{"$f":"'Bespoke Area Data'!P63","v":0},{"$f":"'Bespoke Area Data'!Q63","v":0},{"$f":"'Bespoke Area Data'!R63","v":0},{"$f":"'Bespoke Area Data'!S63","v":0},{"$f":"'Bespoke Area Data'!T63","v":0},{"$f":"'Bespoke Area Data'!U63","v":0},{"$f":"'Bespoke Area Data'!V63","v":0},{"$f":"'Bespoke Area Data'!W63","v":0},{"$f":"'Bespoke Area Data'!X63","v":0},{"$f":"'Bespoke Area Data'!Y63","v":0},{"$f":"'Bespoke Area Data'!Z63","v":0},{"$f":"'Bespoke Area Data'!AA63","v":0},{"$f":"'Bespoke Area Data'!AB63","v":0},{"$f":"'Bespoke Area Data'!AC63","v":0},{"$f":"'Bespoke Area Data'!AD63","v":0},{"$f":"'Bespoke Area Data'!AE63","v":0},{"$f":"'Bespoke Area Data'!AF63","v":0},{"$f":"'Bespoke Area Data'!AG63","v":0},{"$f":"'Bespoke Area Data'!AH63","v":0},{"$f":"'Bespoke Area Data'!AI63","v":0},{"$f":"'Bespoke Area Data'!AJ63","v":0},{"$f":"'Bespoke Area Data'!AK63","v":0},{"$f":"'Bespoke Area Data'!AL63","v":0},{"$f":"'Bespoke Area Data'!AM63","v":0},{"$f":"'Bespoke Area Data'!AN63","v":0},{"$f":"'Bespoke Area Data'!AO63","v":0},{"$f":"'Bespoke Area Data'!AP63","v":0},{"$f":"'Bespoke Area Data'!AQ63","v":0},{"$f":"'Bespoke Area Data'!AR63","v":0},{"$f":"'Bespoke Area Data'!AS63","v":0},{"$f":"'Bespoke Area Data'!AT63","v":0},{"$f":"'Bespoke Area Data'!AU63","v":0},{"$f":"'Bespoke Area Data'!AV63","v":0},{"$f":"'Bespoke Area Data'!AW63","v":0},{"$f":"'Bespoke Area Data'!AX63","v":0},{"$f":"'Bespoke Area Data'!AY63","v":0},{"$f":"'Bespoke Area Data'!AZ63","v":0},{"$f":"'Bespoke Area Data'!BA63","v":0},{"$f":"'Bespoke Area Data'!BB63","v":0},{"$f":"'Bespoke Area Data'!BC63","v":0},{"$f":"'Bespoke Area Data'!BD63","v":0},{"$f":"'Bespoke Area Data'!BE63","v":0},{"$f":"'Bespoke Area Data'!BF63","v":0},{"$f":"'Bespoke Area Data'!BG63","v":0},{"$f":"'Bespoke Area Data'!BH63","v":0},{"$f":"'Bespoke Area Data'!BI63","v":0},{"$f":"'Bespoke Area Data'!BJ63","v":0},{"$f":"'Bespoke Area Data'!BK63","v":0},{"$f":"'Bespoke Area Data'!BL63","v":0},{"$f":"'Bespoke Area Data'!BM63","v":0},{"$f":"'Bespoke Area Data'!BN63","v":0},{"$f":"'Bespoke Area Data'!BO63","v":0},{"$f":"'Bespoke Area Data'!BP63","v":0},{"$f":"'Bespoke Area Data'!BQ63","v":0},{"$f":"'Bespoke Area Data'!BR63","v":0},{"$f":"'Bespoke Area Data'!BS63","v":0},{"$f":"'Bespoke Area Data'!BT63","v":0},{"$f":"'Bespoke Area Data'!BU63","v":0},{"$f":"'Bespoke Area Data'!BV63","v":0},{"$f":"'Bespoke Area Data'!BW63","v":0},{"$f":"'Bespoke Area Data'!BX63","v":0},{"$f":"'Bespoke Area Data'!BY63","v":0},{"$f":"'Bespoke Area Data'!BZ63","v":0},{"$f":"'Bespoke Area Data'!CA63","v":0},{"$f":"'Bespoke Area Data'!CB63","v":0},{"$f":"'Bespoke Area Data'!CC63","v":0},{"$f":"'Bespoke Area Data'!CD63","v":0},{"$f":"'Bespoke Area Data'!CE63","v":0},{"$f":"'Bespoke Area Data'!CF63","v":0},{"$f":"'Bespoke Area Data'!CG63","v":0},{"$f":"'Bespoke Area Data'!CH63","v":0},{"$f":"'Bespoke Area Data'!CI63","v":0},{"$f":"'Bespoke Area Data'!CJ63","v":0},{"$f":"'Bespoke Area Data'!CK63","v":0},{"$f":"'Bespoke Area Data'!CL63","v":0},{"$f":"'Bespoke Area Data'!CM63","v":0},{"$f":"'Bespoke Area Data'!CN63","v":0},{"$f":"'Bespoke Area Data'!CO63","v":0},{"$f":"'Bespoke Area Data'!CP63","v":0},{"$f":"'Bespoke Area Data'!CQ63","v":0},{"$f":"'Bespoke Area Data'!CR63","v":0},{"$f":"'Bespoke Area Data'!CS63","v":0},{"$f":"'Bespoke Area Data'!CT63","v":0},{"$f":"'Bespoke Area Data'!CU63","v":0},{"$f":"'Bespoke Area Data'!CV63","v":0},{"$f":"'Bespoke Area Data'!CW63","v":0},{"$f":"'Bespoke Area Data'!CX63","v":0},{"$f":"'Bespoke Area Data'!CY63","v":0},{"$f":"'Bespoke Area Data'!CZ63","v":0},{"$f":"'Bespoke Area Data'!DA63","v":0},{"$f":"'Bespoke Area Data'!DB63","v":0},{"$f":"'Bespoke Area Data'!DC63","v":0},{"$f":"'Bespoke Area Data'!DD63","v":0},{"$f":"'Bespoke Area Data'!DE63","v":0},{"$f":"'Bespoke Area Data'!DF63","v":0},{"$f":"'Bespoke Area Data'!DG63","v":0},{"$f":"'Bespoke Area Data'!DH63","v":0},{"$f":"'Bespoke Area Data'!DI63","v":0}]
["Bespoke","N/A",{"$f":"IF('Bespoke Area Name'!C20=\"\",\"No bespoke area name entered; Go to sheet \"\"Bespoke Area Name\"\"\",'Bespoke Area Name'!C20)","v":"No bespoke area name entered; Go to sheet \"Bespoke Area Name\""},"AREA0017",{"$f":"'Bespoke Area Data'!D66","v":0},{"$f":"'Bespoke Area Data'!E66","v":0},{"$f":"'Bespoke Area Data'!F66","v":0},{"$f":"'Bespoke Area Data'!G66","v":0},{"$f":"'Bespoke Area Data'!H66","v":0},{"$f":"'Bespoke Area Data'!I66","v":0},{"$f":"'Bespoke Area Data'!J66","v":0},{"$f":"'Bespoke Area Data'!K66","v":0},{"$f":"'Bespoke Area Data'!L66","v":0},{"$f":"'Bespoke Area Data'!M66","v":0},{"$f":"'Bespoke Area Data'!N66","v":0},{"$f":"'Bespoke Area Data'!O66","v":0},{"$f":"'Bespoke Area Data'!P66","v":0},{"$f":"'Bespoke Area Data'!Q66","v":0},{"$f":"'Bespoke Area Data'!R66","v":0},{"$f":"'Bespoke Area Data'!S66","v":0},{"$f":"'Bespoke Area Data'!T66","v":0},{"$f":"'Bespoke Area Data'!U66","v":0},{"$f":"'Bespoke Area Data'!V66","v":0},{"$f":"'Bespoke Area Data'!W66","v":0},{"$f":"'Bespoke Area Data'!X66","v":0},{"$f":"'Bespoke Area Data'!Y66","v":0},{"$f":"'Bespoke Area Data'!Z66","v":0},{"$f":"'Bespoke Area Data'!AA66","v":0},{"$f":"'Bespoke Area Data'!AB66","v":0},{"$f":"'Bespoke Area Data'!AC66","v":0},{"$f":"'Bespoke Area Data'!AD66","v":0},{"$f":"'Bespoke Area Data'!AE66","v":0},{"$f":"'Bespoke Area Data'!AF66","v":0},{"$f":"'Bespoke Area Data'!AG66","v":0},{"$f":"'Bespoke Area Data'!AH66","v":0},{"$f":"'Bespoke Area Data'!AI66","v":0},{"$f":"'Bespoke Area Data'!AJ66","v":0},{"$f":"'Bespoke Area Data'!AK66","v":0},{"$f":"'Bespoke Area Data'!AL66","v":0},{"$f":"'Bespoke Area Data'!AM66","v":0},{"$f":"'Bespoke Area Data'!AN66","v":0},{"$f":"'Bespoke Area Data'!AO66","v":0},{"$f":"'Bespoke Area Data'!AP66","v":0},{"$f":"'Bespoke Area Data'!AQ66","v":0},{"$f":"'Bespoke Area Data'!AR66","v":0},{"$f":"'Bespoke Area Data'!AS66","v":0},{"$f":"'Bespoke Area Data'!AT66","v":0},{"$f":"'Bespoke Area Data'!AU66","v":0},{"$f":"'Bespoke Area Data'!AV66","v":0},{"$f":"'Bespoke Area Data'!AW66","v":0},{"$f":"'Bespoke Area Data'!AX66","v":0},{"$f":"'Bespoke Area Data'!AY66","v":0},{"$f":"'Bespoke Area Data'!AZ66","v":0},{"$f":"'Bespoke Area Data'!BA66","v":0},{"$f":"'Bespoke Area Data'!BB66","v":0},{"$f":"'Bespoke Area Data'!BC66","v":0},{"$f":"'Bespoke Area Data'!BD66","v":0},{"$f":"'Bespoke Area Data'!BE66","v":0},{"$f":"'Bespoke Area Data'!BF66","v":0},{"$f":"'Bespoke Area Data'!BG66","v":0},{"$f":"'Bespoke Area Data'!BH66","v":0},{"$f":"'Bespoke Area Data'!BI66","v":0},{"$f":"'Bespoke Area Data'!BJ66","v":0},{"$f":"'Bespoke Area Data'!BK66","v":0},{"$f":"'Bespoke Area Data'!BL66","v":0},{"$f":"'Bespoke Area Data'!BM66","v":0},{"$f":"'Bespoke Area Data'!BN66","v":0},{"$f":"'Bespoke Area Data'!BO66","v":0},{"$f":"'Bespoke Area Data'!BP66","v":0},{"$f":"'Bespoke Area Data'!BQ66","v":0},{"$f":"'Bespoke Area Data'!BR66","v":0},{"$f":"'Bespoke Area Data'!BS66","v":0},{"$f":"'Bespoke Area Data'!BT66","v":0},{"$f":"'Bespoke Area Data'!BU66","v":0},{"$f":"'Bespoke Area Data'!BV66","v":0},{"$f":"'Bespoke Area Data'!BW66","v":0},{"$f":"'Bespoke Area Data'!BX66","v":0},{"$f":"'Bespoke Area Data'!BY66","v":0},{"$f":"'Bespoke Area Data'!BZ66","v":0},{"$f":"'Bespoke Area Data'!CA66","v":0},{"$f":"'Bespoke Area Data'!CB66","v":0},{"$f":"'Bespoke Area Data'!CC66","v":0},{"$f":"'Bespoke Area Data'!CD66","v":0},{"$f":"'Bespoke Area Data'!CE66","v":0},{"$f":"'Bespoke Area Data'!CF66","v":0},{"$f":"'Bespoke Area Data'!CG66","v":0},{"$f":"'Bespoke Area Data'!CH66","v":0},{"$f":"'Bespoke Area Data'!CI66","v":0},{"$f":"'Bespoke Area Data'!CJ66","v":0},{"$f":"'Bespoke Area Data'!CK66","v":0},{"$f":"'Bespoke Area Data'!CL66","v":0},{"$f":"'Bespoke Area Data'!CM66","v":0},{"$f":"'Bespoke Area Data'!CN66","v":0},{"$f":"'Bespoke Area Data'!CO66","v":0},{"$f":"'Bespoke Area Data'!CP66","v":0},{"$f":"'Bespoke Area Data'!CQ66","v":0},{"$f":"'Bespoke Area Data'!CR66","v":0},{"$f":"'Bespoke Area Data'!CS66","v":0},{"$f":"'Bespoke Area Data'!CT66","v":0},{"$f":"'Bespoke Area Data'!CU66","v":0},{"$f":"'Bespoke Area Data'!CV66","v":0},{"$f":"'Bespoke Area Data'!CW66","v":0},{"$f":"'Bespoke Area Data'!CX66","v":0},{"$f":"'Bespoke Area Data'!CY66","v":0},{"$f":"'Bespoke Area Data'!CZ66","v":0},{"$f":"'Bespoke Area Data'!DA66","v":0},{"$f":"'Bespoke Area Data'!DB66","v":0},{"$f":"'Bespoke Area Data'!DC66","v":0},{"$f":"'Bespoke Area Data'!DD66","v":0},{"$f":"'Bespoke Area Data'!DE66","v":0},{"$f":"'Bespoke Area Data'!DF66","v":0},{"$f":"'Bespoke Area Data'!DG66","v":0},{"$f":"'Bespoke Area Data'!DH66","v":0},{"$f":"'Bespoke Area Data'!DI66","v":0},{"$f":"'Bespoke Area Data'!DJ66","v":0},{"$f":"'Bespoke Area Data'!DK66","v":0},{"$f":"'Bespoke Area Data'!DL66","v":0},{"$f":"'Bespoke Area Data'!DM66","v":0},{"$f":"'Bespoke Area Data'!DN66","v":0},{"$f":"'Bespoke Area Data'!DO66","v":0},{"$f":"'Bespoke Area Data'!DP66","v":0},{"$f":"'Bespoke Area Data'!DQ66","v":0},{"$f":"'Bespoke Area Data'!DR66","v":0},{"$f":"'Bespoke Area Data'!DS66","v":0},{"$f":"'Bespoke Area Data'!DT66","v":0},{"$f":"'Bespoke Area Data'!DU66","v":0},{"$f":"'Bespoke Area Data'!DV66","v":0},{"$f":"'Bespoke Area Data'!DW66","v":0},{"$f":"'Bespoke Area Data'!DX66","v":0},{"$f":"'Bespoke Area Data'!DY66","v":0},{"$f":"'Bespoke Area Data'!DZ66","v":0},{"$f":"'Bespoke Area Data'!EA66","v":0},{"$f":"'Bespoke Area Data'!EB66","v":0},{"$f":"'Bespoke Area Data'!EC66","v":0},{"$f":"'Bespoke Area Data'!ED66","v":0},{"$f":"'Bespoke Area Data'!EE66","v":0},{"$f":"'Bespoke Area Data'!EF66","v":0},{"$f":"'Bespoke Area Data'!EG66","v":0},{"$f":"'Bespoke Area Data'!EH66","v":0},{"$f":"'Bespoke Area Data'!D67","v":0},{"$f":"'Bespoke Area Data'!E67","v":0},{"$f":"'Bespoke Area Data'!F67","v":0},{"$f":"'Bespoke Area Data'!G67","v":0},{"$f":"'Bespoke Area Data'!H67","v":0},{"$f":"'Bespoke Area Data'!I67","v":0},{"$f":"'Bespoke Area Data'!J67","v":0},{"$f":"'Bespoke Area Data'!K67","v":0},{"$f":"'Bespoke Area Data'!L67","v":0},{"$f":"'Bespoke Area Data'!M67","v":0},{"$f":"'Bespoke Area Data'!N67","v":0},{"$f":"'Bespoke Area Data'!O67","v":0},{"$f":"'Bespoke Area Data'!P67","v":0},{"$f":"'Bespoke Area Data'!Q67","v":0},{"$f":"'Bespoke Area Data'!R67","v":0},{"$f":"'Bespoke Area Data'!S67","v":0},{"$f":"'Bespoke Area Data'!T67","v":0},{"$f":"'Bespoke Area Data'!U67","v":0},{"$f":"'Bespoke Area Data'!V67","v":0},{"$f":"'Bespoke Area Data'!W67","v":0},{"$f":"'Bespoke Area Data'!X67","v":0},{"$f":"'Bespoke Area Data'!Y67","v":0},{"$f":"'Bespoke Area Data'!Z67","v":0},{"$f":"'Bespoke Area Data'!AA67","v":0},{"$f":"'Bespoke Area Data'!AB67","v":0},{"$f":"'Bespoke Area Data'!AC67","v":0},{"$f":"'Bespoke Area Data'!AD67","v":0},{"$f":"'Bespoke Area Data'!AE67","v":0},{"$f":"'Bespoke Area Data'!AF67","v":0},{"$f":"'Bespoke Area Data'!AG67","v":0},{"$f":"'Bespoke Area Data'!AH67","v":0},{"$f":"'Bespoke Area Data'!AI67","v":0},{"$f":"'Bespoke Area Data'!AJ67","v":0},{"$f":"'Bespoke Area Data'!AK67","v":0},{"$f":"'Bespoke Area Data'!AL67","v":0},{"$f":"'Bespoke Area Data'!AM67","v":0},{"$f":"'Bespoke Area Data'!AN67","v":0},{"$f":"'Bespoke Area Data'!AO67","v":0},{"$f":"'Bespoke Area Data'!AP67","v":0},{"$f":"'Bespoke Area Data'!AQ67","v":0},{"$f":"'Bespoke Area Data'!AR67","v":0},{"$f":"'Bespoke Area Data'!AS67","v":0},{"$f":"'Bespoke Area Data'!AT67","v":0},{"$f":"'Bespoke Area Data'!AU67","v":0},{"$f":"'Bespoke Area Data'!AV67","v":0},{"$f":"'Bespoke Area Data'!AW67","v":0},{"$f":"'Bespoke Area Data'!AX67","v":0},{"$f":"'Bespoke Area Data'!AY67","v":0},{"$f":"'Bespoke Area Data'!AZ67","v":0},{"$f":"'Bespoke Area Data'!BA67","v":0},{"$f":"'Bespoke Area Data'!BB67","v":0},{"$f":"'Bespoke Area Data'!BC67","v":0},{"$f":"'Bespoke Area Data'!BD67","v":0},{"$f":"'Bespoke Area Data'!BE67","v":0},{"$f":"'Bespoke Area Data'!BF67","v":0},{"$f":"'Bespoke Area Data'!BG67","v":0},{"$f":"'Bespoke Area Data'!BH67","v":0},{"$f":"'Bespoke Area Data'!BI67","v":0},{"$f":"'Bespoke Area Data'!BJ67","v":0},{"$f":"'Bespoke Area Data'!BK67","v":0},{"$f":"'Bespoke Area Data'!BL67","v":0},{"$f":"'Bespoke Area Data'!BM67","v":0},{"$f":"'Bespoke Area Data'!BN67","v":0},{"$f":"'Bespoke Area Data'!BO67","v":0},{"$f":"'Bespoke Area Data'!BP67","v":0},{"$f":"'Bespoke Area Data'!BQ67","v":0},{"$f":"'Bespoke Area Data'!BR67","v":0},{"$f":"'Bespoke Area Data'!BS67","v":0},{"$f":"'Bespoke Area Data'!BT67","v":0},{"$f":"'Bespoke Area Data'!BU67","v":0},{"$f":"'Bespoke Area Data'!BV67","v":0},{"$f":"'Bespoke Area Data'!BW67","v":0},{"$f":"'Bespoke Area Data'!BX67","v":0},{"$f":"'Bespoke Area Data'!BY67","v":0},{"$f":"'Bespoke Area Data'!BZ67","v":0},{"$f":"'Bespoke Area Data'!CA67","v":0},{"$f":"'Bespoke Area Data'!CB67","v":0},{"$f":"'Bespoke Area Data'!CC67","v":0},{"$f":"'Bespoke Area Data'!CD67","v":0},{"$f":"'Bespoke Area Data'!CE67","v":0},{"$f":"'Bespoke Area Data'!CF67","v":0},{"$f":"'Bespoke Area Data'!CG67","v":0},{"$f":"'Bespoke Area Data'!CH67","v":0},{"$f":"'Bespoke Area Data'!CI67","v":0},{"$f":"'Bespoke Area Data'!CJ67","v":0},{"$f":"'Bespoke Area Data'!CK67","v":0},{"$f":"'Bespoke Area Data'!CL67","v":0},{"$f":"'Bespoke Area Data'!CM67","v":0},{"$f":"'Bespoke Area Data'!CN67","v":0},{"$f":"'Bespoke Area Data'!CO67","v":0},{"$f":"'Bespoke Area Data'!CP67","v":0},{"$f":"'Bespoke Area Data'!CQ67","v":0},{"$f":"'Bespoke Area Data'!CR67","v":0},{"$f":"'Bespoke Area Data'!CS67","v":0},{"$f":"'Bespoke Area Data'!CT67","v":0},{"$f":"'Bespoke Area Data'!CU67","v":0},{"$f":"'Bespoke Area Data'!CV67","v":0},{"$f":"'Bespoke Area Data'!CW67","v":0},{"$f":"'Bespoke Area Data'!CX67","v":0},{"$f":"'Bespoke Area Data'!CY67","v":0},{"$f":"'Bespoke Area Data'!CZ67","v":0},{"$f":"'Bespoke Area Data'!DA67","v":0},{"$f":"'Bespoke Area Data'!DB67","v":0},{"$f":"'Bespoke Area Data'!DC67","v":0},{"$f":"'Bespoke Area Data'!DD67","v":0},{"$f":"'Bespoke Area Data'!DE67","v":0},{"$f":"'Bespoke Area Data'!DF67","v":0},{"$f":"'Bespoke Area Data'!DG67","v":0},{"$f":"'Bespoke Area Data'!DH67","v":0},{"$f":"'Bespoke Area Data'!DI67","v":0}]
["Bespoke","N/A",{"$f":"IF('Bespoke Area Name'!C21=\"\",\"No bespoke area name entered; Go to sheet \"\"Bespoke Area Name\"\"\",'Bespoke Area Name'!C21)","v":"No bespoke area name entered; Go to sheet \"Bespoke Area Name\""},"AREA0018",{"$f":"'Bespoke Area Data'!D70","v":0},{"$f":"'Bespoke Area Data'!E70","v":0},{"$f":"'Bespoke Area Data'!F70","v":0},{"$f":"'Bespoke Area Data'!G70","v":0},{"$f":"'Bespoke Area Data'!H70","v":0},{"$f":"'Bespoke Area Data'!I70","v":0},{"$f":"'Bespoke Area Data'!J70","v":0},{"$f":"'Bespoke Area Data'!K70","v":0},{"$f":"'Bespoke Area Data'!L70","v":0},{"$f":"'Bespoke Area Data'!M70","v":0},{"$f":"'Bespoke Area Data'!N70","v":0},{"$f":"'Bespoke Area Data'!O70","v":0},{"$f":"'Bespoke Area Data'!P70","v":0},{"$f":"'Bespoke Area Data'!Q70","v":0},{"$f":"'Bespoke Area Data'!R70","v":0},{"$f":"'Bespoke Area Data'!S70","v":0},{"$f":"'Bespoke Area Data'!T70","v":0},{"$f":"'Bespoke Area Data'!U70","v":0},{"$f":"'Bespoke Area Data'!V70","v":0},{"$f":"'Bespoke Area Data'!W70","v":0},{"$f":"'Bespoke Area Data'!X70","v":0},{"$f":"'Bespoke Area Data'!Y70","v":0},{"$f":"'Bespoke Area Data'!Z70","v":0},{"$f":"'Bespoke Area Data'!AA70","v":0},{"$f":"'Bespoke Area Data'!AB70","v":0},{"$f":"'Bespoke Area Data'!AC70","v":0},{"$f":"'Bespoke Area Data'!AD70","v":0},{"$f":"'Bespoke Area Data'!AE70","v":0},{"$f":"'Bespoke Area Data'!AF70","v":0},{"$f":"'Bespoke Area Data'!AG70","v":0},{"$f":"'Bespoke Area Data'!AH70","v":0},{"$f":"'Bespoke Area Data'!AI70","v":0},{"$f":"'Bespoke Area Data'!AJ70","v":0},{"$f":"'Bespoke Area Data'!AK70","v":0},{"$f":"'Bespoke Area Data'!AL70","v":0},{"$f":"'Bespoke Area Data'!AM70","v":0},{"$f":"'Bespoke Area Data'!AN70","v":0},{"$f":"'Bespoke Area Data'!AO70","v":0},{"$f":"'Bespoke Area Data'!AP70","v":0},{"$f":"'Bespoke Area Data'!AQ70","v":0},{"$f":"'Bespoke Area Data'!AR70","v":0},{"$f":"'Bespoke Area Data'!AS70","v":0},{"$f":"'Bespoke Area Data'!AT70","v":0},{"$f":"'Bespoke Area Data'!AU70","v":0},{"$f":"'Bespoke Area Data'!AV70","v":0},{"$f":"'Bespoke Area Data'!AW70","v":0},{"$f":"'Bespoke Area Data'!AX70","v":0},{"$f":"'Bespoke Area Data'!AY70","v":0},{"$f":"'Bespoke Area Data'!AZ70","v":0},{"$f":"'Bespoke Area Data'!BA70","v":0},{"$f":"'Bespoke Area Data'!BB70","v":0},{"$f":"'Bespoke Area Data'!BC70","v":0},{"$f":"'Bespoke Area Data'!BD70","v":0},{"$f":"'Bespoke Area Data'!BE70","v":0},{"$f":"'Bespoke Area Data'!BF70","v":0},{"$f":"'Bespoke Area Data'!BG70","v":0},{"$f":"'Bespoke Area Data'!BH70","v":0},{"$f":"'Bespoke Area Data'!BI70","v":0},{"$f":"'Bespoke Area Data'!BJ70","v":0},{"$f":"'Bespoke Area Data'!BK70","v":0},{"$f":"'Bespoke Area Data'!BL70","v":0},{"$f":"'Bespoke Area Data'!BM70","v":0},{"$f":"'Bespoke Area Data'!BN70","v":0},{"$f":"'Bespoke Area Data'!BO70","v":0},{"$f":"'Bespoke Area Data'!BP70","v":0},{"$f":"'Bespoke Area Data'!BQ70","v":0},{"$f":"'Bespoke Area Data'!BR70","v":0},{"$f":"'Bespoke Area Data'!BS70","v":0},{"$f":"'Bespoke Area Data'!BT70","v":0},{"$f":"'Bespoke Area Data'!BU70","v":0},{"$f":"'Bespoke Area Data'!BV70","v":0},{"$f":"'Bespoke Area Data'!BW70","v":0},{"$f":"'Bespoke Area Data'!BX70","v":0},{"$f":"'Bespoke Area Data'!BY70","v":0},{"$f":"'Bespoke Area Data'!BZ70","v":0},{"$f":"'Bespoke Area Data'!CA70","v":0},{"$f":"'Bespoke Area Data'!CB70","v":0},{"$f":"'Bespoke Area Data'!CC70","v":0},{"$f":"'Bespoke Area Data'!CD70","v":0},{"$f":"'Bespoke Area Data'!CE70","v":0},{"$f":"'Bespoke Area Data'!CF70","v":0},{"$f":"'Bespoke Area Data'!CG70","v":0},{"$f":"'Bespoke Area Data'!CH70","v":0},{"$f":"'Bespoke Area Data'!CI70","v":0},{"$f":"'Bespoke Area Data'!CJ70","v":0},{"$f":"'Bespoke Area Data'!CK70","v":0},{"$f":"'Bespoke Area Data'!CL70","v":0},{"$f":"'Bespoke Area Data'!CM70","v":0},{"$f":"'Bespoke Area Data'!CN70","v":0},{"$f":"'Bespoke Area Data'!CO70","v":0},{"$f":"'Bespoke Area Data'!CP70","v":0},{"$f":"'Bespoke Area Data'!CQ70","v":0},{"$f":"'Bespoke Area Data'!CR70","v":0},{"$f":"'Bespoke Area Data'!CS70","v":0},{"$f":"'Bespoke Area Data'!CT70","v":0},{"$f":"'Bespoke Area Data'!CU70","v":0},{"$f":"'Bespoke Area Data'!CV70","v":0},{"$f":"'Bespoke Area Data'!CW70","v":0},{"$f":"'Bespoke Area Data'!CX70","v":0},{"$f":"'Bespoke Area Data'!CY70","v":0},{"$f":"'Bespoke Area Data'!CZ70","v":0},{"$f":"'Bespoke Area Data'!DA70","v":0},{"$f":"'Bespoke Area Data'!DB70","v":0},{"$f":"'Bespoke Area Data'!DC70","v":0},{"$f":"'Bespoke Area Data'!DD70","v":0},{"$f":"'Bespoke Area Data'!DE70","v":0},{"$f":"'Bespoke Area Data'!DF70","v":0},{"$f":"'Bespoke Area Data'!DG70","v":0},{"$f":"'Bespoke Area Data'!DH70","v":0},{"$f":"'Bespoke Area Data'!DI70","v":0},{"$f":"'Bespoke Area Data'!DJ70","v":0},{"$f":"'Bespoke Area Data'!DK70","v":0},{"$f":"'Bespoke Area Data'!DL70","v":0},{"$f":"'Bespoke Area Data'!DM70","v":0},{"$f":"'Bespoke Area Data'!DN70","v":0},{"$f":"'Bespoke Area Data'!DO70","v":0},{"$f":"'Bespoke Area Data'!DP70","v":0},{"$f":"'Bespoke Area Data'!DQ70","v":0},{"$f":"'Bespoke Area Data'!DR70","v":0},{"$f":"'Bespoke Area Data'!DS70","v":0},{"$f":"'Bespoke Area Data'!DT70","v":0},{"$f":"'Bespoke Area Data'!DU70","v":0},{"$f":"'Bespoke Area Data'!DV70","v":0},{"$f":"'Bespoke Area Data'!DW70","v":0},{"$f":"'Bespoke Area Data'!DX70","v":0},{"$f":"'Bespoke Area Data'!DY70","v":0},{"$f":"'Bespoke Area Data'!DZ70","v":0},{"$f":"'Bespoke Area Data'!EA70","v":0},{"$f":"'Bespoke Area Data'!EB70","v":0},{"$f":"'Bespoke Area Data'!EC70","v":0},{"$f":"'Bespoke Area Data'!ED70","v":0},{"$f":"'Bespoke Area Data'!EE70","v":0},{"$f":"'Bespoke Area Data'!EF70","v":0},{"$f":"'Bespoke Area Data'!EG70","v":0},{"$f":"'Bespoke Area Data'!EH70","v":0},{"$f":"'Bespoke Area Data'!D71","v":0},{"$f":"'Bespoke Area Data'!E71","v":0},{"$f":"'Bespoke Area Data'!F71","v":0},{"$f":"'Bespoke Area Data'!G71","v":0},{"$f":"'Bespoke Area Data'!H71","v":0},{"$f":"'Bespoke Area Data'!I71","v":0},{"$f":"'Bespoke Area Data'!J71","v":0},{"$f":"'Bespoke Area Data'!K71","v":0},{"$f":"'Bespoke Area Data'!L71","v":0},{"$f":"'Bespoke Area Data'!M71","v":0},{"$f":"'Bespoke Area Data'!N71","v":0},{"$f":"'Bespoke Area Data'!O71","v":0},{"$f":"'Bespoke Area Data'!P71","v":0},{"$f":"'Bespoke Area Data'!Q71","v":0},{"$f":"'Bespoke Area Data'!R71","v":0},{"$f":"'Bespoke Area Data'!S71","v":0},{"$f":"'Bespoke Area Data'!T71","v":0},{"$f":"'Bespoke Area Data'!U71","v":0},{"$f":"'Bespoke Area Data'!V71","v":0},{"$f":"'Bespoke Area Data'!W71","v":0},{"$f":"'Bespoke Area Data'!X71","v":0},{"$f":"'Bespoke Area Data'!Y71","v":0},{"$f":"'Bespoke Area Data'!Z71","v":0},{"$f":"'Bespoke Area Data'!AA71","v":0},{"$f":"'Bespoke Area Data'!AB71","v":0},{"$f":"'Bespoke Area Data'!AC71","v":0},{"$f":"'Bespoke Area Data'!AD71","v":0},{"$f":"'Bespoke Area Data'!AE71","v":0},{"$f":"'Bespoke Area Data'!AF71","v":0},{"$f":"'Bespoke Area Data'!AG71","v":0},{"$f":"'Bespoke Area Data'!AH71","v":0},{"$f":"'Bespoke Area Data'!AI71","v":0},{"$f":"'Bespoke Area Data'!AJ71","v":0},{"$f":"'Bespoke Area Data'!AK71","v":0},{"$f":"'Bespoke Area Data'!AL71","v":0},{"$f":"'Bespoke Area Data'!AM71","v":0},{"$f":"'Bespoke Area Data'!AN71","v":0},{"$f":"'Bespoke Area Data'!AO71","v":0},{"$f":"'Bespoke Area Data'!AP71","v":0},{"$f":"'Bespoke Area Data'!AQ71","v":0},{"$f":"'Bespoke Area Data'!AR71","v":0},{"$f":"'Bespoke Area Data'!AS71","v":0},{"$f":"'Bespoke Area Data'!AT71","v":0},{"$f":"'Bespoke Area Data'!AU71","v":0},{"$f":"'Bespoke Area Data'!AV71","v":0},{"$f":"'Bespoke Area Data'!AW71","v":0},{"$f":"'Bespoke Area Data'!AX71","v":0},{"$f":"'Bespoke Area Data'!AY71","v":0},{"$f":"'Bespoke Area Data'!AZ71","v":0},{"$f":"'Bespoke Area Data'!BA71","v":0},{"$f":"'Bespoke Area Data'!BB71","v":0},{"$f":"'Bespoke Area Data'!BC71","v":0},{"$f":"'Bespoke Area Data'!BD71","v":0},{"$f":"'Bespoke Area Data'!BE71","v":0},{"$f":"'Bespoke Area Data'!BF71","v":0},{"$f":"'Bespoke Area Data'!BG71","v":0},{"$f":"'Bespoke Area Data'!BH71","v":0},{"$f":"'Bespoke Area Data'!BI71","v":0},{"$f":"'Bespoke Area Data'!BJ71","v":0},{"$f":"'Bespoke Area Data'!BK71","v":0},{"$f":"'Bespoke Area Data'!BL71","v":0},{"$f":"'Bespoke Area Data'!BM71","v":0},{"$f":"'Bespoke Area Data'!BN71","v":0},{"$f":"'Bespoke Area Data'!BO71","v":0},{"$f":"'Bespoke Area Data'!BP71","v":0},{"$f":"'Bespoke Area Data'!BQ71","v":0},{"$f":"'Bespoke Area Data'!BR71","v":0},{"$f":"'Bespoke Area Data'!BS71","v":0},{"$f":"'Bespoke Area Data'!BT71","v":0},{"$f":"'Bespoke Area Data'!BU71","v":0},{"$f":"'Bespoke Area Data'!BV71","v":0},{"$f":"'Bespoke Area Data'!BW71","v":0},{"$f":"'Bespoke Area Data'!BX71","v":0},{"$f":"'Bespoke Area Data'!BY71","v":0},{"$f":"'Bespoke Area Data'!BZ71","v":0},{"$f":"'Bespoke Area Data'!CA71","v":0},{"$f":"'Bespoke Area Data'!CB71","v":0},{"$f":"'Bespoke Area Data'!CC71","v":0},{"$f":"'Bespoke Area Data'!CD71","v":0},{"$f":"'Bespoke Area Data'!CE71","v":0},{"$f":"'Bespoke Area Data'!CF71","v":0},{"$f":"'Bespoke Area Data'!CG71","v":0},{"$f":"'Bespoke Area Data'!CH71","v":0},{"$f":"'Bespoke Area Data'!CI71","v":0},{"$f":"'Bespoke Area Data'!CJ71","v":0},{"$f":"'Bespoke Area Data'!CK71","v":0},{"$f":"'Bespoke Area Data'!CL71","v":0},{"$f":"'Bespoke Area Data'!CM71","v":0},{"$f":"'Bespoke Area Data'!CN71","v":0},{"$f":"'Bespoke Area Data'!CO71","v":0},{"$f":"'Bespoke Area Data'!CP71","v":0},{"$f":"'Bespoke Area Data'!CQ71","v":0},{"$f":"'Bespoke Area Data'!CR71","v":0},{"$f":"'Bespoke Area Data'!CS71","v":0},{"$f":"'Bespoke Area Data'!CT71","v":0},{"$f":"'Bespoke Area Data'!CU71","v":0},{"$f":"'Bespoke Area Data'!CV71","v":0},{"$f":"'Bespoke Area Data'!CW71","v":0},{"$f":"'Bespoke Area Data'!CX71","v":0},{"$f":"'Bespoke Area Data'!CY71","v":0},{"$f":"'Bespoke Area Data'!CZ71","v":0},{"$f":"'Bespoke Area Data'!DA71","v":0},{"$f":"'Bespoke Area Data'!DB71","v":0},{"$f":"'Bespoke Area Data'!DC71","v":0},{"$f":"'Bespoke Area Data'!DD71","v":0},{"$f":"'Bespoke Area Data'!DE71","v":0},{"$f":"'Bespoke Area Data'!DF71","v":0},{"$f":"'Bespoke Area Data'!DG71","v":0},{"$f":"'Bespoke Area Data'!DH71","v":0},{"$f":"'Bespoke Area Data'!DI71","v":0}]
["Bespoke","N/A",{"$f":"IF('Bespoke Area Name'!C22=\"\",\"No bespoke area name entered; Go to sheet \"\"Bespoke Area Name\"\"\",'Bespoke Area Name'!C22)","v":"No bespoke area name entered; Go to sheet \"Bespoke Area Name\""},"AREA0019",{"$f":"'Bespoke Area Data'!D74","v":0},{"$f":"'Bespoke Area Data'!E74","v":0},{"$f":"'Bespoke Area Data'!F74","v":0},{"$f":"'Bespoke Area Data'!G74","v":0},{"$f":"'Bespoke Area Data'!H74","v":0},{"$f":"'Bespoke Area Data'!I74","v":0},{"$f":"'Bespoke Area Data'!J74","v":0},{"$f":"'Bespoke Area Data'!K74","v":0},{"$f":"'Bespoke Area Data'!L74","v":0},{"$f":"'Bespoke Area Data'!M74","v":0},{"$f":"'Bespoke Area Data'!N74","v":0},{"$f":"'Bespoke Area Data'!O74","v":0},{"$f":"'Bespoke Area Data'!P74","v":0},{"$f":"'Bespoke Area Data'!Q74","v":0},{"$f":"'Bespoke Area Data'!R74","v":0},{"$f":"'Bespoke Area Data'!S74","v":0},{"$f":"'Bespoke Area Data'!T74","v":0},{"$f":"'Bespoke Area Data'!U74","v":0},{"$f":"'Bespoke Area Data'!V74","v":0},{"$f":"'Bespoke Area Data'!W74","v":0},{"$f":"'Bespoke Area Data'!X74","v":0},{"$f":"'Bespoke Area Data'!Y74","v":0},{"$f":"'Bespoke Area Data'!Z74","v":0},{"$f":"'Bespoke Area Data'!AA74","v":0},{"$f":"'Bespoke Area Data'!AB74","v":0},{"$f":"'Bespoke Area Data'!AC74","v":0},{"$f":"'Bespoke Area Data'!AD74","v":0},{"$f":"'Bespoke Area Data'!AE74","v":0},{"$f":"'Bespoke Area Data'!AF74","v":0},{"$f":"'Bespoke Area Data'!AG74","v":0},{"$f":"'Bespoke Area Data'!AH74","v":0},{"$f":"'Bespoke Area Data'!AI74","v":0},{"$f":"'Bespoke Area Data'!AJ74","v":0},{"$f":"'Bespoke Area Data'!AK74","v":0},{"$f":"'Bespoke Area Data'!AL74","v":0},{"$f":"'Bespoke Area Data'!AM74","v":0},{"$f":"'Bespoke Area Data'!AN74","v":0},{"$f":"'Bespoke Area Data'!AO74","v":0},{"$f":"'Bespoke Area Data'!AP74","v":0},{"$f":"'Bespoke Area Data'!AQ74","v":0},{"$f":"'Bespoke Area Data'!AR74","v":0},{"$f":"'Bespoke Area Data'!AS74","v":0},{"$f":"'Bespoke Area Data'!AT74","v":0},{"$f":"'Bespoke Area Data'!AU74","v":0},{"$f":"'Bespoke Area Data'!AV74","v":0},{"$f":"'Bespoke Area Data'!AW74","v":0},{"$f":"'Bespoke Area Data'!AX74","v":0},{"$f":"'Bespoke Area Data'!AY74","v":0},{"$f":"'Bespoke Area Data'!AZ74","v":0},{"$f":"'Bespoke Area Data'!BA74","v":0},{"$f":"'Bespoke Area Data'!BB74","v":0},{"$f":"'Bespoke Area Data'!BC74","v":0},{"$f":"'Bespoke Area Data'!BD74","v":0},{"$f":"'Bespoke Area Data'!BE74","v":0},{"$f":"'Bespoke Area Data'!BF74","v":0},{"$f":"'Bespoke Area Data'!BG74","v":0},{"$f":"'Bespoke Area Data'!BH74","v":0},{"$f":"'Bespoke Area Data'!BI74","v":0},{"$f":"'Bespoke Area Data'!BJ74","v":0},{"$f":"'Bespoke Area Data'!BK74","v":0},{"$f":"'Bespoke Area Data'!BL74","v":0},{"$f":"'Bespoke Area Data'!BM74","v":0},{"$f":"'Bespoke Area Data'!BN74","v":0},{"$f":"'Bespoke Area Data'!BO74","v":0},{"$f":"'Bespoke Area Data'!BP74","v":0},{"$f":"'Bespoke Area Data'!BQ74","v":0},{"$f":"'Bespoke Area Data'!BR74","v":0},{"$f":"'Bespoke Area Data'!BS74","v":0},{"$f":"'Bespoke Area Data'!BT74","v":0},{"$f":"'Bespoke Area Data'!BU74","v":0},{"$f":"'Bespoke Area Data'!BV74","v":0},{"$f":"'Bespoke Area Data'!BW74","v":0},{"$f":"'Bespoke Area Data'!BX74","v":0},{"$f":"'Bespoke Area Data'!BY74","v":0},{"$f":"'Bespoke Area Data'!BZ74","v":0},{"$f":"'Bespoke Area Data'!CA74","v":0},{"$f":"'Bespoke Area Data'!CB74","v":0},{"$f":"'Bespoke Area Data'!CC74","v":0},{"$f":"'Bespoke Area Data'!CD74","v":0},{"$f":"'Bespoke Area Data'!CE74","v":0},{"$f":"'Bespoke Area Data'!CF74","v":0},{"$f":"'Bespoke Area Data'!CG74","v":0},{"$f":"'Bespoke Area Data'!CH74","v":0},{"$f":"'Bespoke Area Data'!CI74","v":0},{"$f":"'Bespoke Area Data'!CJ74","v":0},{"$f":"'Bespoke Area Data'!CK74","v":0},{"$f":"'Bespoke Area Data'!CL74","v":0},{"$f":"'Bespoke Area Data'!CM74","v":0},{"$f":"'Bespoke Area Data'!CN74","v":0},{"$f":"'Bespoke Area Data'!CO74","v":0},{"$f":"'Bespoke Area Data'!CP74","v":0},{"$f":"'Bespoke Area Data'!CQ74","v":0},{"$f":"'Bespoke Area Data'!CR74","v":0},{"$f":"'Bespoke Area Data'!CS74","v":0},{"$f":"'Bespoke Area Data'!CT74","v":0},{"$f":"'Bespoke Area Data'!CU74","v":0},{"$f":"'Bespoke Area Data'!CV74","v":0},{"$f":"'Bespoke Area Data'!CW74","v":0},{"$f":"'Bespoke Area Data'!CX74","v":0},{"$f":"'Bespoke Area Data'!CY74","v":0},{"$f":"'Bespoke Area Data'!CZ74","v":0},{"$f":"'Bespoke Area Data'!DA74","v":0},{"$f":"'Bespoke Area Data'!DB74","v":0},{"$f":"'Bespoke Area Data'!DC74","v":0},{"$f":"'Bespoke Area Data'!DD74","v":0},{"$f":"'Bespoke Area Data'!DE74","v":0},{"$f":"'Bespoke Area Data'!DF74","v":0},{"$f":"'Bespoke Area Data'!DG74","v":0},{"$f":"'Bespoke Area Data'!DH74","v":0},{"$f":"'Bespoke Area Data'!DI74","v":0},{"$f":"'Bespoke Area Data'!DJ74","v":0},{"$f":"'Bespoke Area Data'!DK74","v":0},{"$f":"'Bespoke Area Data'!DL74","v":0},{"$f":"'Bespoke Area Data'!DM74","v":0},{"$f":"'Bespoke Area Data'!DN74","v":0},{"$f":"'Bespoke Area Data'!DO74","v":0},{"$f":"'Bespoke Area Data'!DP74","v":0},{"$f":"'Bespoke Area Data'!DQ74","v":0},{"$f":"'Bespoke Area Data'!DR74","v":0},{"$f":"'Bespoke Area Data'!DS74","v":0},{"$f":"'Bespoke Area Data'!DT74","v":0},{"$f":"'Bespoke Area Data'!DU74","v":0},{"$f":"'Bespoke Area Data'!DV74","v":0},{"$f":"'Bespoke Area Data'!DW74","v":0},{"$f":"'Bespoke Area Data'!DX74","v":0},{"$f":"'Bespoke Area Data'!DY74","v":0},{"$f":"'Bespoke Area Data'!DZ74","v":0},{"$f":"'Bespoke Area Data'!EA74","v":0},{"$f":"'Bespoke Area Data'!EB74","v":0},{"$f":"'Bespoke Area Data'!EC74","v":0},{"$f":"'Bespoke Area Data'!ED74","v":0},{"$f":"'Bespoke Area Data'!EE74","v":0},{"$f":"'Bespoke Area Data'!EF74","v":0},{"$f":"'Bespoke Area Data'!EG74","v":0},{"$f":"'Bespoke Area Data'!EH74","v":0},{"$f":"'Bespoke Area Data'!D75","v":0},{"$f":"'Bespoke Area Data'!E75","v":0},{"$f":"'Bespoke Area Data'!F75","v":0},{"$f":"'Bespoke Area Data'!G75","v":0},{"$f":"'Bespoke Area Data'!H75","v":0},{"$f":"'Bespoke Area Data'!I75","v":0},{"$f":"'Bespoke Area Data'!J75","v":0},{"$f":"'Bespoke Area Data'!K75","v":0},{"$f":"'Bespoke Area Data'!L75","v":0},{"$f":"'Bespoke Area Data'!M75","v":0},{"$f":"'Bespoke Area Data'!N75","v":0},{"$f":"'Bespoke Area Data'!O75","v":0},{"$f":"'Bespoke Area Data'!P75","v":0},{"$f":"'Bespoke Area Data'!Q75","v":0},{"$f":"'Bespoke Area Data'!R75","v":0},{"$f":"'Bespoke Area Data'!S75","v":0},{"$f":"'Bespoke Area Data'!T75","v":0},{"$f":"'Bespoke Area Data'!U75","v":0},{"$f":"'Bespoke Area Data'!V75","v":0},{"$f":"'Bespoke Area Data'!W75","v":0},{"$f":"'Bespoke Area Data'!X75","v":0},{"$f":"'Bespoke Area Data'!Y75","v":0},{"$f":"'Bespoke Area Data'!Z75","v":0},{"$f":"'Bespoke Area Data'!AA75","v":0},{"$f":"'Bespoke Area Data'!AB75","v":0},{"$f":"'Bespoke Area Data'!AC75","v":0},{"$f":"'Bespoke Area Data'!AD75","v":0},{"$f":"'Bespoke Area Data'!AE75","v":0},{"$f":"'Bespoke Area Data'!AF75","v":0},{"$f":"'Bespoke Area Data'!AG75","v":0},{"$f":"'Bespoke Area Data'!AH75","v":0},{"$f":"'Bespoke Area Data'!AI75","v":0},{"$f":"'Bespoke Area Data'!AJ75","v":0},{"$f":"'Bespoke Area Data'!AK75","v":0},{"$f":"'Bespoke Area Data'!AL75","v":0},{"$f":"'Bespoke Area Data'!AM75","v":0},{"$f":"'Bespoke Area Data'!AN75","v":0},{"$f":"'Bespoke Area Data'!AO75","v":0},{"$f":"'Bespoke Area Data'!AP75","v":0},{"$f":"'Bespoke Area Data'!AQ75","v":0},{"$f":"'Bespoke Area Data'!AR75","v":0},{"$f":"'Bespoke Area Data'!AS75","v":0},{"$f":"'Bespoke Area Data'!AT75","v":0},{"$f":"'Bespoke Area Data'!AU75","v":0},{"$f":"'Bespoke Area Data'!AV75","v":0},{"$f":"'Bespoke Area Data'!AW75","v":0},{"$f":"'Bespoke Area Data'!AX75","v":0},{"$f":"'Bespoke Area Data'!AY75","v":0},{"$f":"'Bespoke Area Data'!AZ75","v":0},{"$f":"'Bespoke Area Data'!BA75","v":0},{"$f":"'Bespoke Area Data'!BB75","v":0},{"$f":"'Bespoke Area Data'!BC75","v":0},{"$f":"'Bespoke Area Data'!BD75","v":0},{"$f":"'Bespoke Area Data'!BE75","v":0},{"$f":"'Bespoke Area Data'!BF75","v":0},{"$f":"'Bespoke Area Data'!BG75","v":0},{"$f":"'Bespoke Area Data'!BH75","v":0},{"$f":"'Bespoke Area Data'!BI75","v":0},{"$f":"'Bespoke Area Data'!BJ75","v":0},{"$f":"'Bespoke Area Data'!BK75","v":0},{"$f":"'Bespoke Area Data'!BL75","v":0},{"$f":"'Bespoke Area Data'!BM75","v":0},{"$f":"'Bespoke Area Data'!BN75","v":0},{"$f":"'Bespoke Area Data'!BO75","v":0},{"$f":"'Bespoke Area Data'!BP75","v":0},{"$f":"'Bespoke Area Data'!BQ75","v":0},{"$f":"'Bespoke Area Data'!BR75","v":0},{"$f":"'Bespoke Area Data'!BS75","v":0},{"$f":"'Bespoke Area Data'!BT75","v":0},{"$f":"'Bespoke Area Data'!BU75","v":0},{"$f":"'Bespoke Area Data'!BV75","v":0},{"$f":"'Bespoke Area Data'!BW75","v":0},{"$f":"'Bespoke Area Data'!BX75","v":0},{"$f":"'Bespoke Area Data'!BY75","v":0},{"$f":"'Bespoke Area Data'!BZ75","v":0},{"$f":"'Bespoke Area Data'!CA75","v":0},{"$f":"'Bespoke Area Data'!CB75","v":0},{"$f":"'Bespoke Area Data'!CC75","v":0},{"$f":"'Bespoke Area Data'!CD75","v":0},{"$f":"'Bespoke Area Data'!CE75","v":0},{"$f":"'Bespoke Area Data'!CF75","v":0},{"$f":"'Bespoke Area Data'!CG75","v":0},{"$f":"'Bespoke Area Data'!CH75","v":0},{"$f":"'Bespoke Area Data'!CI75","v":0},{"$f":"'Bespoke Area Data'!CJ75","v":0},{"$f":"'Bespoke Area Data'!CK75","v":0},{"$f":"'Bespoke Area Data'!CL75","v":0},{"$f":"'Bespoke Area Data'!CM75","v":0},{"$f":"'Bespoke Area Data'!CN75","v":0},{"$f":"'Bespoke Area Data'!CO75","v":0},{"$f":"'Bespoke Area Data'!CP75","v":0},{"$f":"'Bespoke Area Data'!CQ75","v":0},{"$f":"'Bespoke Area Data'!CR75","v":0},{"$f":"'Bespoke Area Data'!CS75","v":0},{"$f":"'Bespoke Area Data'!CT75","v":0},{"$f":"'Bespoke Area Data'!CU75","v":0},{"$f":"'Bespoke Area Data'!CV75","v":0},{"$f":"'Bespoke Area Data'!CW75","v":0},{"$f":"'Bespoke Area Data'!CX75","v":0},{"$f":"'Bespoke Area Data'!CY75","v":0},{"$f":"'Bespoke Area Data'!CZ75","v":0},{"$f":"'Bespoke Area Data'!DA75","v":0},{"$f":"'Bespoke Area Data'!DB75","v":0},{"$f":"'Bespoke Area Data'!DC75","v":0},{"$f":"'Bespoke Area Data'!DD75","v":0},{"$f":"'Bespoke Area Data'!DE75","v":0},{"$f":"'Bespoke Area Data'!DF75","v":0},{"$f":"'Bespoke Area Data'!DG75","v":0},{"$f":"'Bespoke Area Data'!DH75","v":0},{"$f":"'Bespoke Area Data'!DI75","v":0}]
["Bespoke","N/A",{"$f":"IF('Bespoke Area Name'!C23=\"\",\"No bespoke area name entered; Go to sheet \"\"Bespoke Area Name\"\"\",'Bespoke Area Name'!C23)","v":"No bespoke area name entered; Go to sheet \"Bespoke Area Name\""},"AREA0020",{"$f":"'Bespoke Area Data'!D78","v":0},{"$f":"'Bespoke Area Data'!E78","v":0},{"$f":"'Bespoke Area Data'!F78","v":0},{"$f":"'Bespoke Area Data'!G78","v":0},{"$f":"'Bespoke Area Data'!H78","v":0},{"$f":"'Bespoke Area Data'!I78","v":0},{"$f":"'Bespoke Area Data'!J78","v":0},{"$f":"'Bespoke Area Data'!K78","v":0},{"$f":"'Bespoke Area Data'!L78","v":0},{"$f":"'Bespoke Area Data'!M78","v":0},{"$f":"'Bespoke Area Data'!N78","v":0},{"$f":"'Bespoke Area Data'!O78","v":0},{"$f":"'Bespoke Area Data'!P78","v":0},{"$f":"'Bespoke Area Data'!Q78","v":0},{"$f":"'Bespoke Area Data'!R78","v":0},{"$f":"'Bespoke Area Data'!S78","v":0},{"$f":"'Bespoke Area Data'!T78","v":0},{"$f":"'Bespoke Area Data'!U78","v":0},{"$f":"'Bespoke Area Data'!V78","v":0},{"$f":"'Bespoke Area Data'!W78","v":0},{"$f":"'Bespoke Area Data'!X78","v":0},{"$f":"'Bespoke Area Data'!Y78","v":0},{"$f":"'Bespoke Area Data'!Z78","v":0},{"$f":"'Bespoke Area Data'!AA78","v":0},{"$f":"'Bespoke Area Data'!AB78","v":0},{"$f":"'Bespoke Area Data'!AC78","v":0},{"$f":"'Bespoke Area Data'!AD78","v":0},{"$f":"'Bespoke Area Data'!AE78","v":0},{"$f":"'Bespoke Area Data'!AF78","v":0},{"$f":"'Bespoke Area Data'!AG78","v":0},{"$f":"'Bespoke Area Data'!AH78","v":0},{"$f":"'Bespoke Area Data'!AI78","v":0},{"$f":"'Bespoke Area Data'!AJ78","v":0},{"$f":"'Bespoke Area Data'!AK78","v":0},{"$f":"'Bespoke Area Data'!AL78","v":0},{"$f":"'Bespoke Area Data'!AM78","v":0},{"$f":"'Bespoke Area Data'!AN78","v":0},{"$f":"'Bespoke Area Data'!AO78","v":0},{"$f":"'Bespoke Area Data'!AP78","v":0},{"$f":"'Bespoke Area Data'!AQ78","v":0},{"$f":"'Bespoke Area Data'!AR78","v":0},{"$f":"'Bespoke Area Data'!AS78","v":0},{"$f":"'Bespoke Area Data'!AT78","v":0},{"$f":"'Bespoke Area Data'!AU78","v":0},{"$f":"'Bespoke Area Data'!AV78","v":0},{"$f":"'Bespoke Area Data'!AW78","v":0},{"$f":"'Bespoke Area Data'!AX78","v":0},{"$f":"'Bespoke Area Data'!AY78","v":0},{"$f":"'Bespoke Area Data'!AZ78","v":0},{"$f":"'Bespoke Area Data'!BA78","v":0},{"$f":"'Bespoke Area Data'!BB78","v":0},{"$f":"'Bespoke Area Data'!BC78","v":0},{"$f":"'Bespoke Area Data'!BD78","v":0},{"$f":"'Bespoke Area Data'!BE78","v":0},{"$f":"'Bespoke Area Data'!BF78","v":0},{"$f":"'Bespoke Area Data'!BG78","v":0},{"$f":"'Bespoke Area Data'!BH78","v":0},{"$f":"'Bespoke Area Data'!BI78","v":0},{"$f":"'Bespoke Area Data'!BJ78","v":0},{"$f":"'Bespoke Area Data'!BK78","v":0},{"$f":"'Bespoke Area Data'!BL78","v":0},{"$f":"'Bespoke Area Data'!BM78","v":0},{"$f":"'Bespoke Area Data'!BN78","v":0},{"$f":"'Bespoke Area Data'!BO78","v":0},{"$f":"'Bespoke Area Data'!BP78","v":0},{"$f":"'Bespoke Area Data'!BQ78","v":0},{"$f":"'Bespoke Area Data'!BR78","v":0},{"$f":"'Bespoke Area Data'!BS78","v":0},{"$f":"'Bespoke Area Data'!BT78","v":0},{"$f":"'Bespoke Area Data'!BU78","v":0},{"$f":"'Bespoke Area Data'!BV78","v":0},{"$f":"'Bespoke Area Data'!BW78","v":0},{"$f":"'Bespoke Area Data'!BX78","v":0},{"$f":"'Bespoke Area Data'!BY78","v":0},{"$f":"'Bespoke Area Data'!BZ78","v":0},{"$f":"'Bespoke Area Data'!CA78","v":0},{"$f":"'Bespoke Area Data'!CB78","v":0},{"$f":"'Bespoke Area Data'!CC78","v":0},{"$f":"'Bespoke Area Data'!CD78","v":0},{"$f":"'Bespoke Area Data'!CE78","v":0},{"$f":"'Bespoke Area Data'!CF78","v":0},{"$f":"'Bespoke Area Data'!CG78","v":0},{"$f":"'Bespoke Area Data'!CH78","v":0},{"$f":"'Bespoke Area Data'!CI78","v":0},{"$f":"'Bespoke Area Data'!CJ78","v":0},{"$f":"'Bespoke Area Data'!CK78","v":0},{"$f":"'Bespoke Area Data'!CL78","v":0},{"$f":"'Bespoke Area Data'!CM78","v":0},{"$f":"'Bespoke Area Data'!CN78","v":0},{"$f":"'Bespoke Area Data'!CO78","v":0},{"$f":"'Bespoke Area Data'!CP78","v":0},{"$f":"'Bespoke Area Data'!CQ78","v":0},{"$f":"'Bespoke Area Data'!CR78","v":0},{"$f":"'Bespoke Area Data'!CS78","v":0},{"$f":"'Bespoke Area Data'!CT78","v":0},{"$f":"'Bespoke Area Data'!CU78","v":0},{"$f":"'Bespoke Area Data'!CV78","v":0},{"$f":"'Bespoke Area Data'!CW78","v":0},{"$f":"'Bespoke Area Data'!CX78","v":0},{"$f":"'Bespoke Area Data'!CY78","v":0},{"$f":"'Bespoke Area Data'!CZ78","v":0},{"$f":"'Bespoke Area Data'!DA78","v":0},{"$f":"'Bespoke Area Data'!DB78","v":0},{"$f":"'Bespoke Area Data'!DC78","v":0},{"$f":"'Bespoke Area Data'!DD78","v":0},{"$f":"'Bespoke Area Data'!DE78","v":0},{"$f":"'Bespoke Area Data'!DF78","v":0},{"$f":"'Bespoke Area Data'!DG78","v":0},{"$f":"'Bespoke Area Data'!DH78","v":0},{"$f":"'Bespoke Area Data'!DI78","v":0},{"$f":"'Bespoke Area Data'!DJ78","v":0},{"$f":"'Bespoke Area Data'!DK78","v":0},{"$f":"'Bespoke Area Data'!DL78","v":0},{"$f":"'Bespoke Area Data'!DM78","v":0},{"$f":"'Bespoke Area Data'!DN78","v":0},{"$f":"'Bespoke Area Data'!DO78","v":0},{"$f":"'Bespoke Area Data'!DP78","v":0},{"$f":"'Bespoke Area Data'!DQ78","v":0},{"$f":"'Bespoke Area Data'!DR78","v":0},{"$f":"'Bespoke Area Data'!DS78","v":0},{"$f":"'Bespoke Area Data'!DT78","v":0},{"$f":"'Bespoke Area Data'!DU78","v":0},{"$f":"'Bespoke Area Data'!DV78","v":0},{"$f":"'Bespoke Area Data'!DW78","v":0},{"$f":"'Bespoke Area Data'!DX78","v":0},{"$f":"'Bespoke Area Data'!DY78","v":0},{"$f":"'Bespoke Area Data'!DZ78","v":0},{"$f":"'Bespoke Area Data'!EA78","v":0},{"$f":"'Bespoke Area Data'!EB78","v":0},{"$f":"'Bespoke Area Data'!EC78","v":0},{"$f":"'Bespoke Area Data'!ED78","v":0},{"$f":"'Bespoke Area Data'!EE78","v":0},{"$f":"'Bespoke Area Data'!EF78","v":0},{"$f":"'Bespoke Area Data'!EG78","v":0},{"$f":"'Bespoke Area Data'!EH78","v":0},{"$f":"'Bespoke Area Data'!D79","v":0},{"$f":"'Bespoke Area Data'!E79","v":0},{"$f":"'Bespoke Area Data'!F79","v":0},{"$f":"'Bespoke Area Data'!G79","v":0},{"$f":"'Bespoke Area Data'!H79","v":0},{"$f":"'Bespoke Area Data'!I79","v":0},{"$f":"'Bespoke Area Data'!J79","v":0},{"$f":"'Bespoke Area Data'!K79","v":0},{"$f":"'Bespoke Area Data'!L79","v":0},{"$f":"'Bespoke Area Data'!M79","v":0},{"$f":"'Bespoke Area Data'!N79","v":0},{"$f":"'Bespoke Area Data'!O79","v":0},{"$f":"'Bespoke Area Data'!P79","v":0},{"$f":"'Bespoke Area Data'!Q79","v":0},{"$f":"'Bespoke Area Data'!R79","v":0},{"$f":"'Bespoke Area Data'!S79","v":0},{"$f":"'Bespoke Area Data'!T79","v":0},{"$f":"'Bespoke Area Data'!U79","v":0},{"$f":"'Bespoke Area Data'!V79","v":0},{"$f":"'Bespoke Area Data'!W79","v":0},{"$f":"'Bespoke Area Data'!X79","v":0},{"$f":"'Bespoke Area Data'!Y79","v":0},{"$f":"'Bespoke Area Data'!Z79","v":0},{"$f":"'Bespoke Area Data'!AA79","v":0},{"$f":"'Bespoke Area Data'!AB79","v":0},{"$f":"'Bespoke Area Data'!AC79","v":0},{"$f":"'Bespoke Area Data'!AD79","v":0},{"$f":"'Bespoke Area Data'!AE79","v":0},{"$f":"'Bespoke Area Data'!AF79","v":0},{"$f":"'Bespoke Area Data'!AG79","v":0},{"$f":"'Bespoke Area Data'!AH79","v":0},{"$f":"'Bespoke Area Data'!AI79","v":0},{"$f":"'Bespoke Area Data'!AJ79","v":0},{"$f":"'Bespoke Area Data'!AK79","v":0},{"$f":"'Bespoke Area Data'!AL79","v":0},{"$f":"'Bespoke Area Data'!AM79","v":0},{"$f":"'Bespoke Area Data'!AN79","v":0},{"$f":"'Bespoke Area Data'!AO79","v":0},{"$f":"'Bespoke Area Data'!AP79","v":0},{"$f":"'Bespoke Area Data'!AQ79","v":0},{"$f":"'Bespoke Area Data'!AR79","v":0},{"$f":"'Bespoke Area Data'!AS79","v":0},{"$f":"'Bespoke Area Data'!AT79","v":0},{"$f":"'Bespoke Area Data'!AU79","v":0},{"$f":"'Bespoke Area Data'!AV79","v":0},{"$f":"'Bespoke Area Data'!AW79","v":0},{"$f":"'Bespoke Area Data'!AX79","v":0},{"$f":"'Bespoke Area Data'!AY79","v":0},{"$f":"'Bespoke Area Data'!AZ79","v":0},{"$f":"'Bespoke Area Data'!BA79","v":0},{"$f":"'Bespoke Area Data'!BB79","v":0},{"$f":"'Bespoke Area Data'!BC79","v":0},{"$f":"'Bespoke Area Data'!BD79","v":0},{"$f":"'Bespoke Area Data'!BE79","v":0},{"$f":"'Bespoke Area Data'!BF79","v":0},{"$f":"'Bespoke Area Data'!BG79","v":0},{"$f":"'Bespoke Area Data'!BH79","v":0},{"$f":"'Bespoke Area Data'!BI79","v":0},{"$f":"'Bespoke Area Data'!BJ79","v":0},{"$f":"'Bespoke Area Data'!BK79","v":0},{"$f":"'Bespoke Area Data'!BL79","v":0},{"$f":"'Bespoke Area Data'!BM79","v":0},{"$f":"'Bespoke Area Data'!BN79","v":0},{"$f":"'Bespoke Area Data'!BO79","v":0},{"$f":"'Bespoke Area Data'!BP79","v":0},{"$f":"'Bespoke Area Data'!BQ79","v":0},{"$f":"'Bespoke Area Data'!BR79","v":0},{"$f":"'Bespoke Area Data'!BS79","v":0},{"$f":"'Bespoke Area Data'!BT79","v":0},{"$f":"'Bespoke Area Data'!BU79","v":0},{"$f":"'Bespoke Area Data'!BV79","v":0},{"$f":"'Bespoke Area Data'!BW79","v":0},{"$f":"'Bespoke Area Data'!BX79","v":0},{"$f":"'Bespoke Area Data'!BY79","v":0},{"$f":"'Bespoke Area Data'!BZ79","v":0},{"$f":"'Bespoke Area Data'!CA79","v":0},{"$f":"'Bespoke Area Data'!CB79","v":0},{"$f":"'Bespoke Area Data'!CC79","v":0},{"$f":"'Bespoke Area Data'!CD79","v":0},{"$f":"'Bespoke Area Data'!CE79","v":0},{"$f":"'Bespoke Area Data'!CF79","v":0},{"$f":"'Bespoke Area Data'!CG79","v":0},{"$f":"'Bespoke Area Data'!CH79","v":0},{"$f":"'Bespoke Area Data'!CI79","v":0},{"$f":"'Bespoke Area Data'!CJ79","v":0},{"$f":"'Bespoke Area Data'!CK79","v":0},{"$f":"'Bespoke Area Data'!CL79","v":0},{"$f":"'Bespoke Area Data'!CM79","v":0},{"$f":"'Bespoke Area Data'!CN79","v":0},{"$f":"'Bespoke Area Data'!CO79","v":0},{"$f":"'Bespoke Area Data'!CP79","v":0},{"$f":"'Bespoke Area Data'!CQ79","v":0},{"$f":"'Bespoke Area Data'!CR79","v":0},{"$f":"'Bespoke Area Data'!CS79","v":0},{"$f":"'Bespoke Area Data'!CT79","v":0},{"$f":"'Bespoke Area Data'!CU79","v":0},{"$f":"'Bespoke Area Data'!CV79","v":0},{"$f":"'Bespoke Area Data'!CW79","v":0},{"$f":"'Bespoke Area Data'!CX79","v":0},{"$f":"'Bespoke Area Data'!CY79","v":0},{"$f":"'Bespoke Area Data'!CZ79","v":0},{"$f":"'Bespoke Area Data'!DA79","v":0},{"$f":"'Bespoke Area Data'!DB79","v":0},{"$f":"'Bespoke Area Data'!DC79","v":0},{"$f":"'Bespoke Area Data'!DD79","v":0},{"$f":"'Bespoke Area Data'!DE79","v":0},{"$f":"'Bespoke Area Data'!DF79","v":0},{"$f":"'Bespoke Area Data'!DG79","v":0},{"$f":"'Bespoke Area Data'!DH79","v":0},{"$f":"'Bespoke Area Data'!DI79","v":0}]
["Bespoke","N/A",{"$f":"IF('Bespoke Area Name'!C24=\"\",\"No bespoke area name entered; Go to sheet \"\"Bespoke Area Name\"\"\",'Bespoke Area Name'!C24)","v":"No bespoke area name entered; Go to sheet \"Bespoke Area Name\""},"AREA0021",{"$f":"'Bespoke Area Data'!D82","v":0},{"$f":"'Bespoke Area Data'!E82","v":0},{"$f":"'Bespoke Area Data'!F82","v":0},{"$f":"'Bespoke Area Data'!G82","v":0},{"$f":"'Bespoke Area Data'!H82","v":0},{"$f":"'Bespoke Area Data'!I82","v":0},{"$f":"'Bespoke Area Data'!J82","v":0},{"$f":"'Bespoke Area Data'!K82","v":0},{"$f":"'Bespoke Area Data'!L82","v":0},{"$f":"'Bespoke Area Data'!M82","v":0},{"$f":"'Bespoke Area Data'!N82","v":0},{"$f":"'Bespoke Area Data'!O82","v":0},{"$f":"'Bespoke Area Data'!P82","v":0},{"$f":"'Bespoke Area Data'!Q82","v":0},{"$f":"'Bespoke Area Data'!R82","v":0},{"$f":"'Bespoke Area Data'!S82","v":0},{"$f":"'Bespoke Area Data'!T82","v":0},{"$f":"'Bespoke Area Data'!U82","v":0},{"$f":"'Bespoke Area Data'!V82","v":0},{"$f":"'Bespoke Area Data'!W82","v":0},{"$f":"'Bespoke Area Data'!X82","v":0},{"$f":"'Bespoke Area Data'!Y82","v":0},{"$f":"'Bespoke Area Data'!Z82","v":0},{"$f":"'Bespoke Area Data'!AA82","v":0},{"$f":"'Bespoke Area Data'!AB82","v":0},{"$f":"'Bespoke Area Data'!AC82","v":0},{"$f":"'Bespoke Area Data'!AD82","v":0},{"$f":"'Bespoke Area Data'!AE82","v":0},{"$f":"'Bespoke Area Data'!AF82","v":0},{"$f":"'Bespoke Area Data'!AG82","v":0},{"$f":"'Bespoke Area Data'!AH82","v":0},{"$f":"'Bespoke Area Data'!AI82","v":0},{"$f":"'Bespoke Area Data'!AJ82","v":0},{"$f":"'Bespoke Area Data'!AK82","v":0},{"$f":"'Bespoke Area Data'!AL82","v":0},{"$f":"'Bespoke Area Data'!AM82","v":0},{"$f":"'Bespoke Area Data'!AN82","v":0},{"$f":"'Bespoke Area Data'!AO82","v":0},{"$f":"'Bespoke Area Data'!AP82","v":0},{"$f":"'Bespoke Area Data'!AQ82","v":0},{"$f":"'Bespoke Area Data'!AR82","v":0},{"$f":"'Bespoke Area Data'!AS82","v":0},{"$f":"'Bespoke Area Data'!AT82","v":0},{"$f":"'Bespoke Area Data'!AU82","v":0},{"$f":"'Bespoke Area Data'!AV82","v":0},{"$f":"'Bespoke Area Data'!AW82","v":0},{"$f":"'Bespoke Area Data'!AX82","v":0},{"$f":"'Bespoke Area Data'!AY82","v":0},{"$f":"'Bespoke Area Data'!AZ82","v":0},{"$f":"'Bespoke Area Data'!BA82","v":0},{"$f":"'Bespoke Area Data'!BB82","v":0},{"$f":"'Bespoke Area Data'!BC82","v":0},{"$f":"'Bespoke Area Data'!BD82","v":0},{"$f":"'Bespoke Area Data'!BE82","v":0},{"$f":"'Bespoke Area Data'!BF82","v":0},{"$f":"'Bespoke Area Data'!BG82","v":0},{"$f":"'Bespoke Area Data'!BH82","v":0},{"$f":"'Bespoke Area Data'!BI82","v":0},{"$f":"'Bespoke Area Data'!BJ82","v":0},{"$f":"'Bespoke Area Data'!BK82","v":0},{"$f":"'Bespoke Area Data'!BL82","v":0},{"$f":"'Bespoke Area Data'!BM82","v":0},{"$f":"'Bespoke Area Data'!BN82","v":0},{"$f":"'Bespoke Area Data'!BO82","v":0},{"$f":"'Bespoke Area Data'!BP82","v":0},{"$f":"'Bespoke Area Data'!BQ82","v":0},{"$f":"'Bespoke Area Data'!BR82","v":0},{"$f":"'Bespoke Area Data'!BS82","v":0},{"$f":"'Bespoke Area Data'!BT82","v":0},{"$f":"'Bespoke Area Data'!BU82","v":0},{"$f":"'Bespoke Area Data'!BV82","v":0},{"$f":"'Bespoke Area Data'!BW82","v":0},{"$f":"'Bespoke Area Data'!BX82","v":0},{"$f":"'Bespoke Area Data'!BY82","v":0},{"$f":"'Bespoke Area Data'!BZ82","v":0},{"$f":"'Bespoke Area Data'!CA82","v":0},{"$f":"'Bespoke Area Data'!CB82","v":0},{"$f":"'Bespoke Area Data'!CC82","v":0},{"$f":"'Bespoke Area Data'!CD82","v":0},{"$f":"'Bespoke Area Data'!CE82","v":0},{"$f":"'Bespoke Area Data'!CF82","v":0},{"$f":"'Bespoke Area Data'!CG82","v":0},{"$f":"'Bespoke Area Data'!CH82","v":0},{"$f":"'Bespoke Area Data'!CI82","v":0},{"$f":"'Bespoke Area Data'!CJ82","v":0},{"$f":"'Bespoke Area Data'!CK82","v":0},{"$f":"'Bespoke Area Data'!CL82","v":0},{"$f":"'Bespoke Area Data'!CM82","v":0},{"$f":"'Bespoke Area Data'!CN82","v":0},{"$f":"'Bespoke Area Data'!CO82","v":0},{"$f":"'Bespoke Area Data'!CP82","v":0},{"$f":"'Bespoke Area Data'!CQ82","v":0},{"$f":"'Bespoke Area Data'!CR82","v":0},{"$f":"'Bespoke Area Data'!CS82","v":0},{"$f":"'Bespoke Area Data'!CT82","v":0},{"$f":"'Bespoke Area Data'!CU82","v":0},{"$f":"'Bespoke Area Data'!CV82","v":0},{"$f":"'Bespoke Area Data'!CW82","v":0},{"$f":"'Bespoke Area Data'!CX82","v":0},{"$f":"'Bespoke Area Data'!CY82","v":0},{"$f":"'Bespoke Area Data'!CZ82","v":0},{"$f":"'Bespoke Area Data'!DA82","v":0},{"$f":"'Bespoke Area Data'!DB82","v":0},{"$f":"'Bespoke Area Data'!DC82","v":0},{"$f":"'Bespoke Area Data'!DD82","v":0},{"$f":"'Bespoke Area Data'!DE82","v":0},{"$f":"'Bespoke Area Data'!DF82","v":0},{"$f":"'Bespoke Area Data'!DG82","v":0},{"$f":"'Bespoke Area Data'!DH82","v":0},{"$f":"'Bespoke Area Data'!DI82","v":0},{"$f":"'Bespoke Area Data'!DJ82","v":0},{"$f":"'Bespoke Area Data'!DK82","v":0},{"$f":"'Bespoke Area Data'!DL82","v":0},{"$f":"'Bespoke Area Data'!DM82","v":0},{"$f":"'Bespoke Area Data'!DN82","v":0},{"$f":"'Bespoke Area Data'!DO82","v":0},{"$f":"'Bespoke Area Data'!DP82","v":0},{"$f":"'Bespoke Area Data'!DQ82","v":0},{"$f":"'Bespoke Area Data'!DR82","v":0},{"$f":"'Bespoke Area Data'!DS82","v":0},{"$f":"'Bespoke Area Data'!DT82","v":0},{"$f":"'Bespoke Area Data'!DU82","v":0},{"$f":"'Bespoke Area Data'!DV82","v":0},{"$f":"'Bespoke Area Data'!DW82","v":0},{"$f":"'Bespoke Area Data'!DX82","v":0},{"$f":"'Bespoke Area Data'!DY82","v":0},{"$f":"'Bespoke Area Data'!DZ82","v":0},{"$f":"'Bespoke Area Data'!EA82","v":0},{"$f":"'Bespoke Area Data'!EB82","v":0},{"$f":"'Bespoke Area Data'!EC82","v":0},{"$f":"'Bespoke Area Data'!ED82","v":0},{"$f":"'Bespoke Area Data'!EE82","v":0},{"$f":"'Bespoke Area Data'!EF82","v":0},{"$f":"'Bespoke Area Data'!EG82","v":0},{"$f":"'Bespoke Area Data'!EH82","v":0},{"$f":"'Bespoke Area Data'!D83","v":0},{"$f":"'Bespoke Area Data'!E83","v":0},{"$f":"'Bespoke Area Data'!F83","v":0},{"$f":"'Bespoke Area Data'!G83","v":0},{"$f":"'Bespoke Area Data'!H83","v":0},{"$f":"'Bespoke Area Data'!I83","v":0},{"$f":"'Bespoke Area Data'!J83","v":0},{"$f":"'Bespoke Area Data'!K83","v":0},{"$f":"'Bespoke Area Data'!L83","v":0},{"$f":"'Bespoke Area Data'!M83","v":0},{"$f":"'Bespoke Area Data'!N83","v":0},{"$f":"'Bespoke Area Data'!O83","v":0},{"$f":"'Bespoke Area Data'!P83","v":0},{"$f":"'Bespoke Area Data'!Q83","v":0},{"$f":"'Bespoke Area Data'!R83","v":0},{"$f":"'Bespoke Area Data'!S83","v":0},{"$f":"'Bespoke Area Data'!T83","v":0},{"$f":"'Bespoke Area Data'!U83","v":0},{"$f":"'Bespoke Area Data'!V83","v":0},{"$f":"'Bespoke Area Data'!W83","v":0},{"$f":"'Bespoke Area Data'!X83","v":0},{"$f":"'Bespoke Area Data'!Y83","v":0},{"$f":"'Bespoke Area Data'!Z83","v":0},{"$f":"'Bespoke Area Data'!AA83","v":0},{"$f":"'Bespoke Area Data'!AB83","v":0},{"$f":"'Bespoke Area Data'!AC83","v":0},{"$f":"'Bespoke Area Data'!AD83","v":0},{"$f":"'Bespoke Area Data'!AE83","v":0},{"$f":"'Bespoke Area Data'!AF83","v":0},{"$f":"'Bespoke Area Data'!AG83","v":0},{"$f":"'Bespoke Area Data'!AH83","v":0},{"$f":"'Bespoke Area Data'!AI83","v":0},{"$f":"'Bespoke Area Data'!AJ83","v":0},{"$f":"'Bespoke Area Data'!AK83","v":0},{"$f":"'Bespoke Area Data'!AL83","v":0},{"$f":"'Bespoke Area Data'!AM83","v":0},{"$f":"'Bespoke Area Data'!AN83","v":0},{"$f":"'Bespoke Area Data'!AO83","v":0},{"$f":"'Bespoke Area Data'!AP83","v":0},{"$f":"'Bespoke Area Data'!AQ83","v":0},{"$f":"'Bespoke Area Data'!AR83","v":0},{"$f":"'Bespoke Area Data'!AS83","v":0},{"$f":"'Bespoke Area Data'!AT83","v":0},{"$f":"'Bespoke Area Data'!AU83","v":0},{"$f":"'Bespoke Area Data'!AV83","v":0},{"$f":"'Bespoke Area Data'!AW83","v":0},{"$f":"'Bespoke Area Data'!AX83","v":0},{"$f":"'Bespoke Area Data'!AY83","v":0},{"$f":"'Bespoke Area Data'!AZ83","v":0},{"$f":"'Bespoke Area Data'!BA83","v":0},{"$f":"'Bespoke Area Data'!BB83","v":0},{"$f":"'Bespoke Area Data'!BC83","v":0},{"$f":"'Bespoke Area Data'!BD83","v":0},{"$f":"'Bespoke Area Data'!BE83","v":0},{"$f":"'Bespoke Area Data'!BF83","v":0},{"$f":"'Bespoke Area Data'!BG83","v":0},{"$f":"'Bespoke Area Data'!BH83","v":0},{"$f":"'Bespoke Area Data'!BI83","v":0},{"$f":"'Bespoke Area Data'!BJ83","v":0},{"$f":"'Bespoke Area Data'!BK83","v":0},{"$f":"'Bespoke Area Data'!BL83","v":0},{"$f":"'Bespoke Area Data'!BM83","v":0},{"$f":"'Bespoke Area Data'!BN83","v":0},{"$f":"'Bespoke Area Data'!BO83","v":0},{"$f":"'Bespoke Area Data'!BP83","v":0},{"$f":"'Bespoke Area Data'!BQ83","v":0},{"$f":"'Bespoke Area Data'!BR83","v":0},{"$f":"'Bespoke Area Data'!BS83","v":0},{"$f":"'Bespoke Area Data'!BT83","v":0},{"$f":"'Bespoke Area Data'!BU83","v":0},{"$f":"'Bespoke Area Data'!BV83","v":0},{"$f":"'Bespoke Area Data'!BW83","v":0},{"$f":"'Bespoke Area Data'!BX83","v":0},{"$f":"'Bespoke Area Data'!BY83","v":0},{"$f":"'Bespoke Area Data'!BZ83","v":0},{"$f":"'Bespoke Area Data'!CA83","v":0},{"$f":"'Bespoke Area Data'!CB83","v":0},{"$f":"'Bespoke Area Data'!CC83","v":0},{"$f":"'Bespoke Area Data'!CD83","v":0},{"$f":"'Bespoke Area Data'!CE83","v":0},{"$f":"'Bespoke Area Data'!CF83","v":0},{"$f":"'Bespoke Area Data'!CG83","v":0},{"$f":"'Bespoke Area Data'!CH83","v":0},{"$f":"'Bespoke Area Data'!CI83","v":0},{"$f":"'Bespoke Area Data'!CJ83","v":0},{"$f":"'Bespoke Area Data'!CK83","v":0},{"$f":"'Bespoke Area Data'!CL83","v":0},{"$f":"'Bespoke Area Data'!CM83","v":0},{"$f":"'Bespoke Area Data'!CN83","v":0},{"$f":"'Bespoke Area Data'!CO83","v":0},{"$f":"'Bespoke Area Data'!CP83","v":0},{"$f":"'Bespoke Area Data'!CQ83","v":0},{"$f":"'Bespoke Area Data'!CR83","v":0},{"$f":"'Bespoke Area Data'!CS83","v":0},{"$f":"'Bespoke Area Data'!CT83","v":0},{"$f":"'Bespoke Area Data'!CU83","v":0},{"$f":"'Bespoke Area Data'!CV83","v":0},{"$f":"'Bespoke Area Data'!CW83","v":0},{"$f":"'Bespoke Area Data'!CX83","v":0},{"$f":"'Bespoke Area Data'!CY83","v":0},{"$f":"'Bespoke Area Data'!CZ83","v":0},{"$f":"'Bespoke Area Data'!DA83","v":0},{"$f":"'Bespoke Area Data'!DB83","v":0},{"$f":"'Bespoke Area Data'!DC83","v":0},{"$f":"'Bespoke Area Data'!DD83","v":0},{"$f":"'Bespoke Area Data'!DE83","v":0},{"$f":"'Bespoke Area Data'!DF83","v":0},{"$f":"'Bespoke Area Data'!DG83","v":0},{"$f":"'Bespoke Area Data'!DH83","v":0},{"$f":"'Bespoke Area Data'!DI83","v":0}]
["Bespoke","N/A",{"$f":"IF('Bespoke Area Name'!C25=\"\",\"No bespoke area name entered; Go to sheet \"\"Bespoke Area Name\"\"\",'Bespoke Area Name'!C25)","v":"No bespoke area name entered; Go to sheet \"Bespoke Area Name\""},"AREA0022",{"$f":"'Bespoke Area Data'!D86","v":0},{"$f":"'Bespoke Area Data'!E86","v":0},{"$f":"'Bespoke Area Data'!F86","v":0},{"$f":"'Bespoke Area Data'!G86","v":0},{"$f":"'Bespoke Area Data'!H86","v":0},{"$f":"'Bespoke Area Data'!I86","v":0},{"$f":"'Bespoke Area Data'!J86","v":0},{"$f":"'Bespoke Area Data'!K86","v":0},{"$f":"'Bespoke Area Data'!L86","v":0},{"$f":"'Bespoke Area Data'!M86","v":0},{"$f":"'Bespoke Area Data'!N86","v":0},{"$f":"'Bespoke Area Data'!O86","v":0},{"$f":"'Bespoke Area Data'!P86","v":0},{"$f":"'Bespoke Area Data'!Q86","v":0},{"$f":"'Bespoke Area Data'!R86","v":0},{"$f":"'Bespoke Area Data'!S86","v":0},{"$f":"'Bespoke Area Data'!T86","v":0},{"$f":"'Bespoke Area Data'!U86","v":0},{"$f":"'Bespoke Area Data'!V86","v":0},{"$f":"'Bespoke Area Data'!W86","v":0},{"$f":"'Bespoke Area Data'!X86","v":0},{"$f":"'Bespoke Area Data'!Y86","v":0},{"$f":"'Bespoke Area Data'!Z86","v":0},{"$f":"'Bespoke Area Data'!AA86","v":0},{"$f":"'Bespoke Area Data'!AB86","v":0},{"$f":"'Bespoke Area Data'!AC86","v":0},{"$f":"'Bespoke Area Data'!AD86","v":0},{"$f":"'Bespoke Area Data'!AE86","v":0},{"$f":"'Bespoke Area Data'!AF86","v":0},{"$f":"'Bespoke Area Data'!AG86","v":0},{"$f":"'Bespoke Area Data'!AH86","v":0},{"$f":"'Bespoke Area Data'!AI86","v":0},{"$f":"'Bespoke Area Data'!AJ86","v":0},{"$f":"'Bespoke Area Data'!AK86","v":0},{"$f":"'Bespoke Area Data'!AL86","v":0},{"$f":"'Bespoke Area Data'!AM86","v":0},{"$f":"'Bespoke Area Data'!AN86","v":0},{"$f":"'Bespoke Area Data'!AO86","v":0},{"$f":"'Bespoke Area Data'!AP86","v":0},{"$f":"'Bespoke Area Data'!AQ86","v":0},{"$f":"'Bespoke Area Data'!AR86","v":0},{"$f":"'Bespoke Area Data'!AS86","v":0},{"$f":"'Bespoke Area Data'!AT86","v":0},{"$f":"'Bespoke Area Data'!AU86","v":0},{"$f":"'Bespoke Area Data'!AV86","v":0},{"$f":"'Bespoke Area Data'!AW86","v":0},{"$f":"'Bespoke Area Data'!AX86","v":0},{"$f":"'Bespoke Area Data'!AY86","v":0},{"$f":"'Bespoke Area Data'!AZ86","v":0},{"$f":"'Bespoke Area Data'!BA86","v":0},{"$f":"'Bespoke Area Data'!BB86","v":0},{"$f":"'Bespoke Area Data'!BC86","v":0},{"$f":"'Bespoke Area Data'!BD86","v":0},{"$f":"'Bespoke Area Data'!BE86","v":0},{"$f":"'Bespoke Area Data'!BF86","v":0},{"$f":"'Bespoke Area Data'!BG86","v":0},{"$f":"'Bespoke Area Data'!BH86","v":0},{"$f":"'Bespoke Area Data'!BI86","v":0},{"$f":"'Bespoke Area Data'!BJ86","v":0},{"$f":"'Bespoke Area Data'!BK86","v":0},{"$f":"'Bespoke Area Data'!BL86","v":0},{"$f":"'Bespoke Area Data'!BM86","v":0},{"$f":"'Bespoke Area Data'!BN86","v":0},{"$f":"'Bespoke Area Data'!BO86","v":0},{"$f":"'Bespoke Area Data'!BP86","v":0},{"$f":"'Bespoke Area Data'!BQ86","v":0},{"$f":"'Bespoke Area Data'!BR86","v":0},{"$f":"'Bespoke Area Data'!BS86","v":0},{"$f":"'Bespoke Area Data'!BT86","v":0},{"$f":"'Bespoke Area Data'!BU86","v":0},{"$f":"'Bespoke Area Data'!BV86","v":0},{"$f":"'Bespoke Area Data'!BW86","v":0},{"$f":"'Bespoke Area Data'!BX86","v":0},{"$f":"'Bespoke Area Data'!BY86","v":0},{"$f":"'Bespoke Area Data'!BZ86","v":0},{"$f":"'Bespoke Area Data'!CA86","v":0},{"$f":"'Bespoke Area Data'!CB86","v":0},{"$f":"'Bespoke Area Data'!CC86","v":0},{"$f":"'Bespoke Area Data'!CD86","v":0},{"$f":"'Bespoke Area Data'!CE86","v":0},{"$f":"'Bespoke Area Data'!CF86","v":0},{"$f":"'Bespoke Area Data'!CG86","v":0},{"$f":"'Bespoke Area Data'!CH86","v":0},{"$f":"'Bespoke Area Data'!CI86","v":0},{"$f":"'Bespoke Area Data'!CJ86","v":0},{"$f":"'Bespoke Area Data'!CK86","v":0},{"$f":"'Bespoke Area Data'!CL86","v":0},{"$f":"'Bespoke Area Data'!CM86","v":0},{"$f":"'Bespoke Area Data'!CN86","v":0},{"$f":"'Bespoke Area Data'!CO86","v":0},{"$f":"'Bespoke Area Data'!CP86","v":0},{"$f":"'Bespoke Area Data'!CQ86","v":0},{"$f":"'Bespoke Area Data'!CR86","v":0},{"$f":"'Bespoke Area Data'!CS86","v":0},{"$f":"'Bespoke Area Data'!CT86","v":0},{"$f":"'Bespoke Area Data'!CU86","v":0},{"$f":"'Bespoke Area Data'!CV86","v":0},{"$f":"'Bespoke Area Data'!CW86","v":0},{"$f":"'Bespoke Area Data'!CX86","v":0},{"$f":"'Bespoke Area Data'!CY86","v":0},{"$f":"'Bespoke Area Data'!CZ86","v":0},{"$f":"'Bespoke Area Data'!DA86","v":0},{"$f":"'Bespoke Area Data'!DB86","v":0},{"$f":"'Bespoke Area Data'!DC86","v":0},{"$f":"'Bespoke Area Data'!DD86","v":0},{"$f":"'Bespoke Area Data'!DE86","v":0},{"$f":"'Bespoke Area Data'!DF86","v":0},{"$f":"'Bespoke Area Data'!DG86","v":0},{"$f":"'Bespoke Area Data'!DH86","v":0},{"$f":"'Bespoke Area Data'!DI86","v":0},{"$f":"'Bespoke Area Data'!DJ86","v":0},{"$f":"'Bespoke Area Data'!DK86","v":0},{"$f":"'Bespoke Area Data'!DL86","v":0},{"$f":"'Bespoke Area Data'!DM86","v":0},{"$f":"'Bespoke Area Data'!DN86","v":0},{"$f":"'Bespoke Area Data'!DO86","v":0},{"$f":"'Bespoke Area Data'!DP86","v":0},{"$f":"'Bespoke Area Data'!DQ86","v":0},{"$f":"'Bespoke Area Data'!DR86","v":0},{"$f":"'Bespoke Area Data'!DS86","v":0},{"$f":"'Bespoke Area Data'!DT86","v":0},{"$f":"'Bespoke Area Data'!DU86","v":0},{"$f":"'Bespoke Area Data'!DV86","v":0},{"$f":"'Bespoke Area Data'!DW86","v":0},{"$f":"'Bespoke Area Data'!DX86","v":0},{"$f":"'Bespoke Area Data'!DY86","v":0},{"$f":"'Bespoke Area Data'!DZ86","v":0},{"$f":"'Bespoke Area Data'!EA86","v":0},{"$f":"'Bespoke Area Data'!EB86","v":0},{"$f":"'Bespoke Area Data'!EC86","v":0},{"$f":"'Bespoke Area Data'!ED86","v":0},{"$f":"'Bespoke Area Data'!EE86","v":0},{"$f":"'Bespoke Area Data'!EF86","v":0},{"$f":"'Bespoke Area Data'!EG86","v":0},{"$f":"'Bespoke Area Data'!EH86","v":0},{"$f":"'Bespoke Area Data'!D87","v":0},{"$f":"'Bespoke Area Data'!E87","v":0},{"$f":"'Bespoke Area Data'!F87","v":0},{"$f":"'Bespoke Area Data'!G87","v":0},{"$f":"'Bespoke Area Data'!H87","v":0},{"$f":"'Bespoke Area Data'!I87","v":0},{"$f":"'Bespoke Area Data'!J87","v":0},{"$f":"'Bespoke Area Data'!K87","v":0},{"$f":"'Bespoke Area Data'!L87","v":0},{"$f":"'Bespoke Area Data'!M87","v":0},{"$f":"'Bespoke Area Data'!N87","v":0},{"$f":"'Bespoke Area Data'!O87","v":0},{"$f":"'Bespoke Area Data'!P87","v":0},{"$f":"'Bespoke Area Data'!Q87","v":0},{"$f":"'Bespoke Area Data'!R87","v":0},{"$f":"'Bespoke Area Data'!S87","v":0},{"$f":"'Bespoke Area Data'!T87","v":0},{"$f":"'Bespoke Area Data'!U87","v":0},{"$f":"'Bespoke Area Data'!V87","v":0},{"$f":"'Bespoke Area Data'!W87","v":0},{"$f":"'Bespoke Area Data'!X87","v":0},{"$f":"'Bespoke Area Data'!Y87","v":0},{"$f":"'Bespoke Area Data'!Z87","v":0},{"$f":"'Bespoke Area Data'!AA87","v":0},{"$f":"'Bespoke Area Data'!AB87","v":0},{"$f":"'Bespoke Area Data'!AC87","v":0},{"$f":"'Bespoke Area Data'!AD87","v":0},{"$f":"'Bespoke Area Data'!AE87","v":0},{"$f":"'Bespoke Area Data'!AF87","v":0},{"$f":"'Bespoke Area Data'!AG87","v":0},{"$f":"'Bespoke Area Data'!AH87","v":0},{"$f":"'Bespoke Area Data'!AI87","v":0},{"$f":"'Bespoke Area Data'!AJ87","v":0},{"$f":"'Bespoke Area Data'!AK87","v":0},{"$f":"'Bespoke Area Data'!AL87","v":0},{"$f":"'Bespoke Area Data'!AM87","v":0},{"$f":"'Bespoke Area Data'!AN87","v":0},{"$f":"'Bespoke Area Data'!AO87","v":0},{"$f":"'Bespoke Area Data'!AP87","v":0},{"$f":"'Bespoke Area Data'!AQ87","v":0},{"$f":"'Bespoke Area Data'!AR87","v":0},{"$f":"'Bespoke Area Data'!AS87","v":0},{"$f":"'Bespoke Area Data'!AT87","v":0},{"$f":"'Bespoke Area Data'!AU87","v":0},{"$f":"'Bespoke Area Data'!AV87","v":0},{"$f":"'Bespoke Area Data'!AW87","v":0},{"$f":"'Bespoke Area Data'!AX87","v":0},{"$f":"'Bespoke Area Data'!AY87","v":0},{"$f":"'Bespoke Area Data'!AZ87","v":0},{"$f":"'Bespoke Area Data'!BA87","v":0},{"$f":"'Bespoke Area Data'!BB87","v":0},{"$f":"'Bespoke Area Data'!BC87","v":0},{"$f":"'Bespoke Area Data'!BD87","v":0},{"$f":"'Bespoke Area Data'!BE87","v":0},{"$f":"'Bespoke Area Data'!BF87","v":0},{"$f":"'Bespoke Area Data'!BG87","v":0},{"$f":"'Bespoke Area Data'!BH87","v":0},{"$f":"'Bespoke Area Data'!BI87","v":0},{"$f":"'Bespoke Area Data'!BJ87","v":0},{"$f":"'Bespoke Area Data'!BK87","v":0},{"$f":"'Bespoke Area Data'!BL87","v":0},{"$f":"'Bespoke Area Data'!BM87","v":0},{"$f":"'Bespoke Area Data'!BN87","v":0},{"$f":"'Bespoke Area Data'!BO87","v":0},{"$f":"'Bespoke Area Data'!BP87","v":0},{"$f":"'Bespoke Area Data'!BQ87","v":0},{"$f":"'Bespoke Area Data'!BR87","v":0},{"$f":"'Bespoke Area Data'!BS87","v":0},{"$f":"'Bespoke Area Data'!BT87","v":0},{"$f":"'Bespoke Area Data'!BU87","v":0},{"$f":"'Bespoke Area Data'!BV87","v":0},{"$f":"'Bespoke Area Data'!BW87","v":0},{"$f":"'Bespoke Area Data'!BX87","v":0},{"$f":"'Bespoke Area Data'!BY87","v":0},{"$f":"'Bespoke Area Data'!BZ87","v":0},{"$f":"'Bespoke Area Data'!CA87","v":0},{"$f":"'Bespoke Area Data'!CB87","v":0},{"$f":"'Bespoke Area Data'!CC87","v":0},{"$f":"'Bespoke Area Data'!CD87","v":0},{"$f":"'Bespoke Area Data'!CE87","v":0},{"$f":"'Bespoke Area Data'!CF87","v":0},{"$f":"'Bespoke Area Data'!CG87","v":0},{"$f":"'Bespoke Area Data'!CH87","v":0},{"$f":"'Bespoke Area Data'!CI87","v":0},{"$f":"'Bespoke Area Data'!CJ87","v":0},{"$f":"'Bespoke Area Data'!CK87","v":0},{"$f":"'Bespoke Area Data'!CL87","v":0},{"$f":"'Bespoke Area Data'!CM87","v":0},{"$f":"'Bespoke Area Data'!CN87","v":0},{"$f":"'Bespoke Area Data'!CO87","v":0},{"$f":"'Bespoke Area Data'!CP87","v":0},{"$f":"'Bespoke Area Data'!CQ87","v":0},{"$f":"'Bespoke Area Data'!CR87","v":0},{"$f":"'Bespoke Area Data'!CS87","v":0},{"$f":"'Bespoke Area Data'!CT87","v":0},{"$f":"'Bespoke Area Data'!CU87","v":0},{"$f":"'Bespoke Area Data'!CV87","v":0},{"$f":"'Bespoke Area Data'!CW87","v":0},{"$f":"'Bespoke Area Data'!CX87","v":0},{"$f":"'Bespoke Area Data'!CY87","v":0},{"$f":"'Bespoke Area Data'!CZ87","v":0},{"$f":"'Bespoke Area Data'!DA87","v":0},{"$f":"'Bespoke Area Data'!DB87","v":0},{"$f":"'Bespoke Area Data'!DC87","v":0},{"$f":"'Bespoke Area Data'!DD87","v":0},{"$f":"'Bespoke Area Data'!DE87","v":0},{"$f":"'Bespoke Area Data'!DF87","v":0},{"$f":"'Bespoke Area Data'!DG87","v":0},{"$f":"'Bespoke Area Data'!DH87","v":0},{"$f":"'Bespoke Area Data'!DI87","v":0}]
["Bespoke","N/A",{"$f":"IF('Bespoke Area Name'!C26=\"\",\"No bespoke area name entered; Go to sheet \"\"Bespoke Area Name\"\"\",'Bespoke Area Name'!C26)","v":"No bespoke area name entered; Go to sheet \"Bespoke Area Name\""},"AREA0023",{"$f":"'Bespoke Area Data'!D90","v":0},{"$f":"'Bespoke Area Data'!E90","v":0},{"$f":"'Bespoke Area Data'!F90","v":0},{"$f":"'Bespoke Area Data'!G90","v":0},{"$f":"'Bespoke Area Data'!H90","v":0},{"$f":"'Bespoke Area Data'!I90","v":0},{"$f":"'Bespoke Area Data'!J90","v":0},{"$f":"'Bespoke Area Data'!K90","v":0},{"$f":"'Bespoke Area Data'!L90","v":0},{"$f":"'Bespoke Area Data'!M90","v":0},{"$f":"'Bespoke Area Data'!N90","v":0},{"$f":"'Bespoke Area Data'!O90","v":0},{"$f":"'Bespoke Area Data'!P90","v":0},{"$f":"'Bespoke Area Data'!Q90","v":0},{"$f":"'Bespoke Area Data'!R90","v":0},{"$f":"'Bespoke Area Data'!S90","v":0},{"$f":"'Bespoke Area Data'!T90","v":0},{"$f":"'Bespoke Area Data'!U90","v":0},{"$f":"'Bespoke Area Data'!V90","v":0},{"$f":"'Bespoke Area Data'!W90","v":0},{"$f":"'Bespoke Area Data'!X90","v":0},{"$f":"'Bespoke Area Data'!Y90","v":0},{"$f":"'Bespoke Area Data'!Z90","v":0},{"$f":"'Bespoke Area Data'!AA90","v":0},{"$f":"'Bespoke Area Data'!AB90","v":0},{"$f":"'Bespoke Area Data'!AC90","v":0},{"$f":"'Bespoke Area Data'!AD90","v":0},{"$f":"'Bespoke Area Data'!AE90","v":0},{"$f":"'Bespoke Area Data'!AF90","v":0},{"$f":"'Bespoke Area Data'!AG90","v":0},{"$f":"'Bespoke Area Data'!AH90","v":0},{"$f":"'Bespoke Area Data'!AI90","v":0},{"$f":"'Bespoke Area Data'!AJ90","v":0},{"$f":"'Bespoke Area Data'!AK90","v":0},{"$f":"'Bespoke Area Data'!AL90","v":0},{"$f":"'Bespoke Area Data'!AM90","v":0},{"$f":"'Bespoke Area Data'!AN90","v":0},{"$f":"'Bespoke Area Data'!AO90","v":0},{"$f":"'Bespoke Area Data'!AP90","v":0},{"$f":"'Bespoke Area Data'!AQ90","v":0},{"$f":"'Bespoke Area Data'!AR90","v":0},{"$f":"'Bespoke Area Data'!AS90","v":0},{"$f":"'Bespoke Area Data'!AT90","v":0},{"$f":"'Bespoke Area Data'!AU90","v":0},{"$f":"'Bespoke Area Data'!AV90","v":0},{"$f":"'Bespoke Area Data'!AW90","v":0},{"$f":"'Bespoke Area Data'!AX90","v":0},{"$f":"'Bespoke Area Data'!AY90","v":0},{"$f":"'Bespoke Area Data'!AZ90","v":0},{"$f":"'Bespoke Area Data'!BA90","v":0},{"$f":"'Bespoke Area Data'!BB90","v":0},{"$f":"'Bespoke Area Data'!BC90","v":0},{"$f":"'Bespoke Area Data'!BD90","v":0},{"$f":"'Bespoke Area Data'!BE90","v":0},{"$f":"'Bespoke Area Data'!BF90","v":0},{"$f":"'Bespoke Area Data'!BG90","v":0},{"$f":"'Bespoke Area Data'!BH90","v":0},{"$f":"'Bespoke Area Data'!BI90","v":0},{"$f":"'Bespoke Area Data'!BJ90","v":0},{"$f":"'Bespoke Area Data'!BK90","v":0},{"$f":"'Bespoke Area Data'!BL90","v":0},{"$f":"'Bespoke Area Data'!BM90","v":0},{"$f":"'Bespoke Area Data'!BN90","v":0},{"$f":"'Bespoke Area Data'!BO90","v":0},{"$f":"'Bespoke Area Data'!BP90","v":0},{"$f":"'Bespoke Area Data'!BQ90","v":0},{"$f":"'Bespoke Area Data'!BR90","v":0},{"$f":"'Bespoke Area Data'!BS90","v":0},{"$f":"'Bespoke Area Data'!BT90","v":0},{"$f":"'Bespoke Area Data'!BU90","v":0},{"$f":"'Bespoke Area Data'!BV90","v":0},{"$f":"'Bespoke Area Data'!BW90","v":0},{"$f":"'Bespoke Area Data'!BX90","v":0},{"$f":"'Bespoke Area Data'!BY90","v":0},{"$f":"'Bespoke Area Data'!BZ90","v":0},{"$f":"'Bespoke Area Data'!CA90","v":0},{"$f":"'Bespoke Area Data'!CB90","v":0},{"$f":"'Bespoke Area Data'!CC90","v":0},{"$f":"'Bespoke Area Data'!CD90","v":0},{"$f":"'Bespoke Area Data'!CE90","v":0},{"$f":"'Bespoke Area Data'!CF90","v":0},{"$f":"'Bespoke Area Data'!CG90","v":0},{"$f":"'Bespoke Area Data'!CH90","v":0},{"$f":"'Bespoke Area Data'!CI90","v":0},{"$f":"'Bespoke Area Data'!CJ90","v":0},{"$f":"'Bespoke Area Data'!CK90","v":0},{"$f":"'Bespoke Area Data'!CL90","v":0},{"$f":"'Bespoke Area Data'!CM90","v":0},{"$f":"'Bespoke Area Data'!CN90","v":0},{"$f":"'Bespoke Area Data'!CO90","v":0},{"$f":"'Bespoke Area Data'!CP90","v":0},{"$f":"'Bespoke Area Data'!CQ90","v":0},{"$f":"'Bespoke Area Data'!CR90","v":0},{"$f":"'Bespoke Area Data'!CS90","v":0},{"$f":"'Bespoke Area Data'!CT90","v":0},{"$f":"'Bespoke Area Data'!CU90","v":0},{"$f":"'Bespoke Area Data'!CV90","v":0},{"$f":"'Bespoke Area Data'!CW90","v":0},{"$f":"'Bespoke Area Data'!CX90","v":0},{"$f":"'Bespoke Area Data'!CY90","v":0},{"$f":"'Bespoke Area Data'!CZ90","v":0},{"$f":"'Bespoke Area Data'!DA90","v":0},{"$f":"'Bespoke Area Data'!DB90","v":0},{"$f":"'Bespoke Area Data'!DC90","v":0},{"$f":"'Bespoke Area Data'!DD90","v":0},{"$f":"'Bespoke Area Data'!DE90","v":0},{"$f":"'Bespoke Area Data'!DF90","v":0},{"$f":"'Bespoke Area Data'!DG90","v":0},{"$f":"'Bespoke Area Data'!DH90","v":0},{"$f":"'Bespoke Area Data'!DI90","v":0},{"$f":"'Bespoke Area Data'!DJ90","v":0},{"$f":"'Bespoke Area Data'!DK90","v":0},{"$f":"'Bespoke Area Data'!DL90","v":0},{"$f":"'Bespoke Area Data'!DM90","v":0},{"$f":"'Bespoke Area Data'!DN90","v":0},{"$f":"'Bespoke Area Data'!DO90","v":0},{"$f":"'Bespoke Area Data'!DP90","v":0},{"$f":"'Bespoke Area Data'!DQ90","v":0},{"$f":"'Bespoke Area Data'!DR90","v":0},{"$f":"'Bespoke Area Data'!DS90","v":0},{"$f":"'Bespoke Area Data'!DT90","v":0},{"$f":"'Bespoke Area Data'!DU90","v":0},{"$f":"'Bespoke Area Data'!DV90","v":0},{"$f":"'Bespoke Area Data'!DW90","v":0},{"$f":"'Bespoke Area Data'!DX90","v":0},{"$f":"'Bespoke Area Data'!DY90","v":0},{"$f":"'Bespoke Area Data'!DZ90","v":0},{"$f":"'Bespoke Area Data'!EA90","v":0},{"$f":"'Bespoke Area Data'!EB90","v":0},{"$f":"'Bespoke Area Data'!EC90","v":0},{"$f":"'Bespoke Area Data'!ED90","v":0},{"$f":"'Bespoke Area Data'!EE90","v":0},{"$f":"'Bespoke Area Data'!EF90","v":0},{"$f":"'Bespoke Area Data'!EG90","v":0},{"$f":"'Bespoke Area Data'!EH90","v":0},{"$f":"'Bespoke Area Data'!D91","v":0},{"$f":"'Bespoke Area Data'!E91","v":0},{"$f":"'Bespoke Area Data'!F91","v":0},{"$f":"'Bespoke Area Data'!G91","v":0},{"$f":"'Bespoke Area Data'!H91","v":0},{"$f":"'Bespoke Area Data'!I91","v":0},{"$f":"'Bespoke Area Data'!J91","v":0},{"$f":"'Bespoke Area Data'!K91","v":0},{"$f":"'Bespoke Area Data'!L91","v":0},{"$f":"'Bespoke Area Data'!M91","v":0},{"$f":"'Bespoke Area Data'!N91","v":0},{"$f":"'Bespoke Area Data'!O91","v":0},{"$f":"'Bespoke Area Data'!P91","v":0},{"$f":"'Bespoke Area Data'!Q91","v":0},{"$f":"'Bespoke Area Data'!R91","v":0},{"$f":"'Bespoke Area Data'!S91","v":0},{"$f":"'Bespoke Area Data'!T91","v":0},{"$f":"'Bespoke Area Data'!U91","v":0},{"$f":"'Bespoke Area Data'!V91","v":0},{"$f":"'Bespoke Area Data'!W91","v":0},{"$f":"'Bespoke Area Data'!X91","v":0},{"$f":"'Bespoke Area Data'!Y91","v":0},{"$f":"'Bespoke Area Data'!Z91","v":0},{"$f":"'Bespoke Area Data'!AA91","v":0},{"$f":"'Bespoke Area Data'!AB91","v":0},{"$f":"'Bespoke Area Data'!AC91","v":0},{"$f":"'Bespoke Area Data'!AD91","v":0},{"$f":"'Bespoke Area Data'!AE91","v":0},{"$f":"'Bespoke Area Data'!AF91","v":0},{"$f":"'Bespoke Area Data'!AG91","v":0},{"$f":"'Bespoke Area Data'!AH91","v":0},{"$f":"'Bespoke Area Data'!AI91","v":0},{"$f":"'Bespoke Area Data'!AJ91","v":0},{"$f":"'Bespoke Area Data'!AK91","v":0},{"$f":"'Bespoke Area Data'!AL91","v":0},{"$f":"'Bespoke Area Data'!AM91","v":0},{"$f":"'Bespoke Area Data'!AN91","v":0},{"$f":"'Bespoke Area Data'!AO91","v":0},{"$f":"'Bespoke Area Data'!AP91","v":0},{"$f":"'Bespoke Area Data'!AQ91","v":0},{"$f":"'Bespoke Area Data'!AR91","v":0},{"$f":"'Bespoke Area Data'!AS91","v":0},{"$f":"'Bespoke Area Data'!AT91","v":0},{"$f":"'Bespoke Area Data'!AU91","v":0},{"$f":"'Bespoke Area Data'!AV91","v":0},{"$f":"'Bespoke Area Data'!AW91","v":0},{"$f":"'Bespoke Area Data'!AX91","v":0},{"$f":"'Bespoke Area Data'!AY91","v":0},{"$f":"'Bespoke Area Data'!AZ91","v":0},{"$f":"'Bespoke Area Data'!BA91","v":0},{"$f":"'Bespoke Area Data'!BB91","v":0},{"$f":"'Bespoke Area Data'!BC91","v":0},{"$f":"'Bespoke Area Data'!BD91","v":0},{"$f":"'Bespoke Area Data'!BE91","v":0},{"$f":"'Bespoke Area Data'!BF91","v":0},{"$f":"'Bespoke Area Data'!BG91","v":0},{"$f":"'Bespoke Area Data'!BH91","v":0},{"$f":"'Bespoke Area Data'!BI91","v":0},{"$f":"'Bespoke Area Data'!BJ91","v":0},{"$f":"'Bespoke Area Data'!BK91","v":0},{"$f":"'Bespoke Area Data'!BL91","v":0},{"$f":"'Bespoke Area Data'!BM91","v":0},{"$f":"'Bespoke Area Data'!BN91","v":0},{"$f":"'Bespoke Area Data'!BO91","v":0},{"$f":"'Bespoke Area Data'!BP91","v":0},{"$f":"'Bespoke Area Data'!BQ91","v":0},{"$f":"'Bespoke Area Data'!BR91","v":0},{"$f":"'Bespoke Area Data'!BS91","v":0},{"$f":"'Bespoke Area Data'!BT91","v":0},{"$f":"'Bespoke Area Data'!BU91","v":0},{"$f":"'Bespoke Area Data'!BV91","v":0},{"$f":"'Bespoke Area Data'!BW91","v":0},{"$f":"'Bespoke Area Data'!BX91","v":0},{"$f":"'Bespoke Area Data'!BY91","v":0},{"$f":"'Bespoke Area Data'!BZ91","v":0},{"$f":"'Bespoke Area Data'!CA91","v":0},{"$f":"'Bespoke Area Data'!CB91","v":0},{"$f":"'Bespoke Area Data'!CC91","v":0},{"$f":"'Bespoke Area Data'!CD91","v":0},{"$f":"'Bespoke Area Data'!CE91","v":0},{"$f":"'Bespoke Area Data'!CF91","v":0},{"$f":"'Bespoke Area Data'!CG91","v":0},{"$f":"'Bespoke Area Data'!CH91","v":0},{"$f":"'Bespoke Area Data'!CI91","v":0},{"$f":"'Bespoke Area Data'!CJ91","v":0},{"$f":"'Bespoke Area Data'!CK91","v":0},{"$f":"'Bespoke Area Data'!CL91","v":0},{"$f":"'Bespoke Area Data'!CM91","v":0},{"$f":"'Bespoke Area Data'!CN91","v":0},{"$f":"'Bespoke Area Data'!CO91","v":0},{"$f":"'Bespoke Area Data'!CP91","v":0},{"$f":"'Bespoke Area Data'!CQ91","v":0},{"$f":"'Bespoke Area Data'!CR91","v":0},{"$f":"'Bespoke Area Data'!CS91","v":0},{"$f":"'Bespoke Area Data'!CT91","v":0},{"$f":"'Bespoke Area Data'!CU91","v":0},{"$f":"'Bespoke Area Data'!CV91","v":0},{"$f":"'Bespoke Area Data'!CW91","v":0},{"$f":"'Bespoke Area Data'!CX91","v":0},{"$f":"'Bespoke Area Data'!CY91","v":0},{"$f":"'Bespoke Area Data'!CZ91","v":0},{"$f":"'Bespoke Area Data'!DA91","v":0},{"$f":"'Bespoke Area Data'!DB91","v":0},{"$f":"'Bespoke Area Data'!DC91","v":0},{"$f":"'Bespoke Area Data'!DD91","v":0},{"$f":"'Bespoke Area Data'!DE91","v":0},{"$f":"'Bespoke Area Data'!DF91","v":0},{"$f":"'Bespoke Area Data'!DG91","v":0},{"$f":"'Bespoke Area Data'!DH91","v":0},{"$f":"'Bespoke Area Data'!DI91","v":0}]
["Bespoke","N/A",{"$f":"IF('Bespoke Area Name'!C27=\"\",\"No bespoke area name entered; Go to sheet \"\"Bespoke Area Name\"\"\",'Bespoke Area Name'!C27)","v":"No bespoke area name entered; Go to sheet \"Bespoke Area Name\""},"AREA0024",{"$f":"'Bespoke Area Data'!D94","v":0},{"$f":"'Bespoke Area Data'!E94","v":0},{"$f":"'Bespoke Area Data'!F94","v":0},{"$f":"'Bespoke Area Data'!G94","v":0},{"$f":"'Bespoke Area Data'!H94","v":0},{"$f":"'Bespoke Area Data'!I94","v":0},{"$f":"'Bespoke Area Data'!J94","v":0},{"$f":"'Bespoke Area Data'!K94","v":0},{"$f":"'Bespoke Area Data'!L94","v":0},{"$f":"'Bespoke Area Data'!M94","v":0},{"$f":"'Bespoke Area Data'!N94","v":0},{"$f":"'Bespoke Area Data'!O94","v":0},{"$f":"'Bespoke Area Data'!P94","v":0},{"$f":"'Bespoke Area Data'!Q94","v":0},{"$f":"'Bespoke Area Data'!R94","v":0},{"$f":"'Bespoke Area Data'!S94","v":0},{"$f":"'Bespoke Area Data'!T94","v":0},{"$f":"'Bespoke Area Data'!U94","v":0},{"$f":"'Bespoke Area Data'!V94","v":0},{"$f":"'Bespoke Area Data'!W94","v":0},{"$f":"'Bespoke Area Data'!X94","v":0},{"$f":"'Bespoke Area Data'!Y94","v":0},{"$f":"'Bespoke Area Data'!Z94","v":0},{"$f":"'Bespoke Area Data'!AA94","v":0},{"$f":"'Bespoke Area Data'!AB94","v":0},{"$f":"'Bespoke Area Data'!AC94","v":0},{"$f":"'Bespoke Area Data'!AD94","v":0},{"$f":"'Bespoke Area Data'!AE94","v":0},{"$f":"'Bespoke Area Data'!AF94","v":0},{"$f":"'Bespoke Area Data'!AG94","v":0},{"$f":"'Bespoke Area Data'!AH94","v":0},{"$f":"'Bespoke Area Data'!AI94","v":0},{"$f":"'Bespoke Area Data'!AJ94","v":0},{"$f":"'Bespoke Area Data'!AK94","v":0},{"$f":"'Bespoke Area Data'!AL94","v":0},{"$f":"'Bespoke Area Data'!AM94","v":0},{"$f":"'Bespoke Area Data'!AN94","v":0},{"$f":"'Bespoke Area Data'!AO94","v":0},{"$f":"'Bespoke Area Data'!AP94","v":0},{"$f":"'Bespoke Area Data'!AQ94","v":0},{"$f":"'Bespoke Area Data'!AR94","v":0},{"$f":"'Bespoke Area Data'!AS94","v":0},{"$f":"'Bespoke Area Data'!AT94","v":0},{"$f":"'Bespoke Area Data'!AU94","v":0},{"$f":"'Bespoke Area Data'!AV94","v":0},{"$f":"'Bespoke Area Data'!AW94","v":0},{"$f":"'Bespoke Area Data'!AX94","v":0},{"$f":"'Bespoke Area Data'!AY94","v":0},{"$f":"'Bespoke Area Data'!AZ94","v":0},{"$f":"'Bespoke Area Data'!BA94","v":0},{"$f":"'Bespoke Area Data'!BB94","v":0},{"$f":"'Bespoke Area Data'!BC94","v":0},{"$f":"'Bespoke Area Data'!BD94","v":0},{"$f":"'Bespoke Area Data'!BE94","v":0},{"$f":"'Bespoke Area Data'!BF94","v":0},{"$f":"'Bespoke Area Data'!BG94","v":0},{"$f":"'Bespoke Area Data'!BH94","v":0},{"$f":"'Bespoke Area Data'!BI94","v":0},{"$f":"'Bespoke Area Data'!BJ94","v":0},{"$f":"'Bespoke Area Data'!BK94","v":0},{"$f":"'Bespoke Area Data'!BL94","v":0},{"$f":"'Bespoke Area Data'!BM94","v":0},{"$f":"'Bespoke Area Data'!BN94","v":0},{"$f":"'Bespoke Area Data'!BO94","v":0},{"$f":"'Bespoke Area Data'!BP94","v":0},{"$f":"'Bespoke Area Data'!BQ94","v":0},{"$f":"'Bespoke Area Data'!BR94","v":0},{"$f":"'Bespoke Area Data'!BS94","v":0},{"$f":"'Bespoke Area Data'!BT94","v":0},{"$f":"'Bespoke Area Data'!BU94","v":0},{"$f":"'Bespoke Area Data'!BV94","v":0},{"$f":"'Bespoke Area Data'!BW94","v":0},{"$f":"'Bespoke Area Data'!BX94","v":0},{"$f":"'Bespoke Area Data'!BY94","v":0},{"$f":"'Bespoke Area Data'!BZ94","v":0},{"$f":"'Bespoke Area Data'!CA94","v":0},{"$f":"'Bespoke Area Data'!CB94","v":0},{"$f":"'Bespoke Area Data'!CC94","v":0},{"$f":"'Bespoke Area Data'!CD94","v":0},{"$f":"'Bespoke Area Data'!CE94","v":0},{"$f":"'Bespoke Area Data'!CF94","v":0},{"$f":"'Bespoke Area Data'!CG94","v":0},{"$f":"'Bespoke Area Data'!CH94","v":0},{"$f":"'Bespoke Area Data'!CI94","v":0},{"$f":"'Bespoke Area Data'!CJ94","v":0},{"$f":"'Bespoke Area Data'!CK94","v":0},{"$f":"'Bespoke Area Data'!CL94","v":0},{"$f":"'Bespoke Area Data'!CM94","v":0},{"$f":"'Bespoke Area Data'!CN94","v":0},{"$f":"'Bespoke Area Data'!CO94","v":0},{"$f":"'Bespoke Area Data'!CP94","v":0},{"$f":"'Bespoke Area Data'!CQ94","v":0},{"$f":"'Bespoke Area Data'!CR94","v":0},{"$f":"'Bespoke Area Data'!CS94","v":0},{"$f":"'Bespoke Area Data'!CT94","v":0},{"$f":"'Bespoke Area Data'!CU94","v":0},{"$f":"'Bespoke Area Data'!CV94","v":0},{"$f":"'Bespoke Area Data'!CW94","v":0},{"$f":"'Bespoke Area Data'!CX94","v":0},{"$f":"'Bespoke Area Data'!CY94","v":0},{"$f":"'Bespoke Area Data'!CZ94","v":0},{"$f":"'Bespoke Area Data'!DA94","v":0},{"$f":"'Bespoke Area Data'!DB94","v":0},{"$f":"'Bespoke Area Data'!DC94","v":0},{"$f":"'Bespoke Area Data'!DD94","v":0},{"$f":"'Bespoke Area Data'!DE94","v":0},{"$f":"'Bespoke Area Data'!DF94","v":0},{"$f":"'Bespoke Area Data'!DG94","v":0},{"$f":"'Bespoke Area Data'!DH94","v":0},{"$f":"'Bespoke Area Data'!DI94","v":0},{"$f":"'Bespoke Area Data'!DJ94","v":0},{"$f":"'Bespoke Area Data'!DK94","v":0},{"$f":"'Bespoke Area Data'!DL94","v":0},{"$f":"'Bespoke Area Data'!DM94","v":0},{"$f":"'Bespoke Area Data'!DN94","v":0},{"$f":"'Bespoke Area Data'!DO94","v":0},{"$f":"'Bespoke Area Data'!DP94","v":0},{"$f":"'Bespoke Area Data'!DQ94","v":0},{"$f":"'Bespoke Area Data'!DR94","v":0},{"$f":"'Bespoke Area Data'!DS94","v":0},{"$f":"'Bespoke Area Data'!DT94","v":0},{"$f":"'Bespoke Area Data'!DU94","v":0},{"$f":"'Bespoke Area Data'!DV94","v":0},{"$f":"'Bespoke Area Data'!DW94","v":0},{"$f":"'Bespoke Area Data'!DX94","v":0},{"$f":"'Bespoke Area Data'!DY94","v":0},{"$f":"'Bespoke Area Data'!DZ94","v":0},{"$f":"'Bespoke Area Data'!EA94","v":0},{"$f":"'Bespoke Area Data'!EB94","v":0},{"$f":"'Bespoke Area Data'!EC94","v":0},{"$f":"'Bespoke Area Data'!ED94","v":0},{"$f":"'Bespoke Area Data'!EE94","v":0},{"$f":"'Bespoke Area Data'!EF94","v":0},{"$f":"'Bespoke Area Data'!EG94","v":0},{"$f":"'Bespoke Area Data'!EH94","v":0},{"$f":"'Bespoke Area Data'!D95","v":0},{"$f":"'Bespoke Area Data'!E95","v":0},{"$f":"'Bespoke Area Data'!F95","v":0},{"$f":"'Bespoke Area Data'!G95","v":0},{"$f":"'Bespoke Area Data'!H95","v":0},{"$f":"'Bespoke Area Data'!I95","v":0},{"$f":"'Bespoke Area Data'!J95","v":0},{"$f":"'Bespoke Area Data'!K95","v":0},{"$f":"'Bespoke Area Data'!L95","v":0},{"$f":"'Bespoke Area Data'!M95","v":0},{"$f":"'Bespoke Area Data'!N95","v":0},{"$f":"'Bespoke Area Data'!O95","v":0},{"$f":"'Bespoke Area Data'!P95","v":0},{"$f":"'Bespoke Area Data'!Q95","v":0},{"$f":"'Bespoke Area Data'!R95","v":0},{"$f":"'Bespoke Area Data'!S95","v":0},{"$f":"'Bespoke Area Data'!T95","v":0},{"$f":"'Bespoke Area Data'!U95","v":0},{"$f":"'Bespoke Area Data'!V95","v":0},{"$f":"'Bespoke Area Data'!W95","v":0},{"$f":"'Bespoke Area Data'!X95","v":0},{"$f":"'Bespoke Area Data'!Y95","v":0},{"$f":"'Bespoke Area Data'!Z95","v":0},{"$f":"'Bespoke Area Data'!AA95","v":0},{"$f":"'Bespoke Area Data'!AB95","v":0},{"$f":"'Bespoke Area Data'!AC95","v":0},{"$f":"'Bespoke Area Data'!AD95","v":0},{"$f":"'Bespoke Area Data'!AE95","v":0},{"$f":"'Bespoke Area Data'!AF95","v":0},{"$f":"'Bespoke Area Data'!AG95","v":0},{"$f":"'Bespoke Area Data'!AH95","v":0},{"$f":"'Bespoke Area Data'!AI95","v":0},{"$f":"'Bespoke Area Data'!AJ95","v":0},{"$f":"'Bespoke Area Data'!AK95","v":0},{"$f":"'Bespoke Area Data'!AL95","v":0},{"$f":"'Bespoke Area Data'!AM95","v":0},{"$f":"'Bespoke Area Data'!AN95","v":0},{"$f":"'Bespoke Area Data'!AO95","v":0},{"$f":"'Bespoke Area Data'!AP95","v":0},{"$f":"'Bespoke Area Data'!AQ95","v":0},{"$f":"'Bespoke Area Data'!AR95","v":0},{"$f":"'Bespoke Area Data'!AS95","v":0},{"$f":"'Bespoke Area Data'!AT95","v":0},{"$f":"'Bespoke Area Data'!AU95","v":0},{"$f":"'Bespoke Area Data'!AV95","v":0},{"$f":"'Bespoke Area Data'!AW95","v":0},{"$f":"'Bespoke Area Data'!AX95","v":0},{"$f":"'Bespoke Area Data'!AY95","v":0},{"$f":"'Bespoke Area Data'!AZ95","v":0},{"$f":"'Bespoke Area Data'!BA95","v":0},{"$f":"'Bespoke Area Data'!BB95","v":0},{"$f":"'Bespoke Area Data'!BC95","v":0},{"$f":"'Bespoke Area Data'!BD95","v":0},{"$f":"'Bespoke Area Data'!BE95","v":0},{"$f":"'Bespoke Area Data'!BF95","v":0},{"$f":"'Bespoke Area Data'!BG95","v":0},{"$f":"'Bespoke Area Data'!BH95","v":0},{"$f":"'Bespoke Area Data'!BI95","v":0},{"$f":"'Bespoke Area Data'!BJ95","v":0},{"$f":"'Bespoke Area Data'!BK95","v":0},{"$f":"'Bespoke Area Data'!BL95","v":0},{"$f":"'Bespoke Area Data'!BM95","v":0},{"$f":"'Bespoke Area Data'!BN95","v":0},{"$f":"'Bespoke Area Data'!BO95","v":0},{"$f":"'Bespoke Area Data'!BP95","v":0},{"$f":"'Bespoke Area Data'!BQ95","v":0},{"$f":"'Bespoke Area Data'!BR95","v":0},{"$f":"'Bespoke Area Data'!BS95","v":0},{"$f":"'Bespoke Area Data'!BT95","v":0},{"$f":"'Bespoke Area Data'!BU95","v":0},{"$f":"'Bespoke Area Data'!BV95","v":0},{"$f":"'Bespoke Area Data'!BW95","v":0},{"$f":"'Bespoke Area Data'!BX95","v":0},{"$f":"'Bespoke Area Data'!BY95","v":0},{"$f":"'Bespoke Area Data'!BZ95","v":0},{"$f":"'Bespoke Area Data'!CA95","v":0},{"$f":"'Bespoke Area Data'!CB95","v":0},{"$f":"'Bespoke Area Data'!CC95","v":0},{"$f":"'Bespoke Area Data'!CD95","v":0},{"$f":"'Bespoke Area Data'!CE95","v":0},{"$f":"'Bespoke Area Data'!CF95","v":0},{"$f":"'Bespoke Area Data'!CG95","v":0},{"$f":"'Bespoke Area Data'!CH95","v":0},{"$f":"'Bespoke Area Data'!CI95","v":0},{"$f":"'Bespoke Area Data'!CJ95","v":0},{"$f":"'Bespoke Area Data'!CK95","v":0},{"$f":"'Bespoke Area Data'!CL95","v":0},{"$f":"'Bespoke Area Data'!CM95","v":0},{"$f":"'Bespoke Area Data'!CN95","v":0},{"$f":"'Bespoke Area Data'!CO95","v":0},{"$f":"'Bespoke Area Data'!CP95","v":0},{"$f":"'Bespoke Area Data'!CQ95","v":0},{"$f":"'Bespoke Area Data'!CR95","v":0},{"$f":"'Bespoke Area Data'!CS95","v":0},{"$f":"'Bespoke Area Data'!CT95","v":0},{"$f":"'Bespoke Area Data'!CU95","v":0},{"$f":"'Bespoke Area Data'!CV95","v":0},{"$f":"'Bespoke Area Data'!CW95","v":0},{"$f":"'Bespoke Area Data'!CX95","v":0},{"$f":"'Bespoke Area Data'!CY95","v":0},{"$f":"'Bespoke Area Data'!CZ95","v":0},{"$f":"'Bespoke Area Data'!DA95","v":0},{"$f":"'Bespoke Area Data'!DB95","v":0},{"$f":"'Bespoke Area Data'!DC95","v":0},{"$f":"'Bespoke Area Data'!DD95","v":0},{"$f":"'Bespoke Area Data'!DE95","v":0},{"$f":"'Bespoke Area Data'!DF95","v":0},{"$f":"'Bespoke Area Data'!DG95","v":0},{"$f":"'Bespoke Area Data'!DH95","v":0},{"$f":"'Bespoke Area Data'!DI95","v":0}]
["Bespoke","N/A",{"$f":"IF('Bespoke Area Name'!C28=\"\",\"No bespoke area name entered; Go to sheet \"\"Bespoke Area Name\"\"\",'Bespoke Area Name'!C28)","v":"No bespoke area name entered; Go to sheet \"Bespoke Area Name\""},"AREA0025",{"$f":"'Bespoke Area Data'!D98","v":0},{"$f":"'Bespoke Area Data'!E98","v":0},{"$f":"'Bespoke Area Data'!F98","v":0},{"$f":"'Bespoke Area Data'!G98","v":0},{"$f":"'Bespoke Area Data'!H98","v":0},{"$f":"'Bespoke Area Data'!I98","v":0},{"$f":"'Bespoke Area Data'!J98","v":0},{"$f":"'Bespoke Area Data'!K98","v":0},{"$f":"'Bespoke Area Data'!L98","v":0},{"$f":"'Bespoke Area Data'!M98","v":0},{"$f":"'Bespoke Area Data'!N98","v":0},{"$f":"'Bespoke Area Data'!O98","v":0},{"$f":"'Bespoke Area Data'!P98","v":0},{"$f":"'Bespoke Area Data'!Q98","v":0},{"$f":"'Bespoke Area Data'!R98","v":0},{"$f":"'Bespoke Area Data'!S98","v":0},{"$f":"'Bespoke Area Data'!T98","v":0},{"$f":"'Bespoke Area Data'!U98","v":0},{"$f":"'Bespoke Area Data'!V98","v":0},{"$f":"'Bespoke Area Data'!W98","v":0},{"$f":"'Bespoke Area Data'!X98","v":0},{"$f":"'Bespoke Area Data'!Y98","v":0},{"$f":"'Bespoke Area Data'!Z98","v":0},{"$f":"'Bespoke Area Data'!AA98","v":0},{"$f":"'Bespoke Area Data'!AB98","v":0},{"$f":"'Bespoke Area Data'!AC98","v":0},{"$f":"'Bespoke Area Data'!AD98","v":0},{"$f":"'Bespoke Area Data'!AE98","v":0},{"$f":"'Bespoke Area Data'!AF98","v":0},{"$f":"'Bespoke Area Data'!AG98","v":0},{"$f":"'Bespoke Area Data'!AH98","v":0},{"$f":"'Bespoke Area Data'!AI98","v":0},{"$f":"'Bespoke Area Data'!AJ98","v":0},{"$f":"'Bespoke Area Data'!AK98","v":0},{"$f":"'Bespoke Area Data'!AL98","v":0},{"$f":"'Bespoke Area Data'!AM98","v":0},{"$f":"'Bespoke Area Data'!AN98","v":0},{"$f":"'Bespoke Area Data'!AO98","v":0},{"$f":"'Bespoke Area Data'!AP98","v":0},{"$f":"'Bespoke Area Data'!AQ98","v":0},{"$f":"'Bespoke Area Data'!AR98","v":0},{"$f":"'Bespoke Area Data'!AS98","v":0},{"$f":"'Bespoke Area Data'!AT98","v":0},{"$f":"'Bespoke Area Data'!AU98","v":0},{"$f":"'Bespoke Area Data'!AV98","v":0},{"$f":"'Bespoke Area Data'!AW98","v":0},{"$f":"'Bespoke Area Data'!AX98","v":0},{"$f":"'Bespoke Area Data'!AY98","v":0},{"$f":"'Bespoke Area Data'!AZ98","v":0},{"$f":"'Bespoke Area Data'!BA98","v":0},{"$f":"'Bespoke Area Data'!BB98","v":0},{"$f":"'Bespoke Area Data'!BC98","v":0},{"$f":"'Bespoke Area Data'!BD98","v":0},{"$f":"'Bespoke Area Data'!BE98","v":0},{"$f":"'Bespoke Area Data'!BF98","v":0},{"$f":"'Bespoke Area Data'!BG98","v":0},{"$f":"'Bespoke Area Data'!BH98","v":0},{"$f":"'Bespoke Area Data'!BI98","v":0},{"$f":"'Bespoke Area Data'!BJ98","v":0},{"$f":"'Bespoke Area Data'!BK98","v":0},{"$f":"'Bespoke Area Data'!BL98","v":0},{"$f":"'Bespoke Area Data'!BM98","v":0},{"$f":"'Bespoke Area Data'!BN98","v":0},{"$f":"'Bespoke Area Data'!BO98","v":0},{"$f":"'Bespoke Area Data'!BP98","v":0},{"$f":"'Bespoke Area Data'!BQ98","v":0},{"$f":"'Bespoke Area Data'!BR98","v":0},{"$f":"'Bespoke Area Data'!BS98","v":0},{"$f":"'Bespoke Area Data'!BT98","v":0},{"$f":"'Bespoke Area Data'!BU98","v":0},{"$f":"'Bespoke Area Data'!BV98","v":0},{"$f":"'Bespoke Area Data'!BW98","v":0},{"$f":"'Bespoke Area Data'!BX98","v":0},{"$f":"'Bespoke Area Data'!BY98","v":0},{"$f":"'Bespoke Area Data'!BZ98","v":0},{"$f":"'Bespoke Area Data'!CA98","v":0},{"$f":"'Bespoke Area Data'!CB98","v":0},{"$f":"'Bespoke Area Data'!CC98","v":0},{"$f":"'Bespoke Area Data'!CD98","v":0},{"$f":"'Bespoke Area Data'!CE98","v":0},{"$f":"'Bespoke Area Data'!CF98","v":0},{"$f":"'Bespoke Area Data'!CG98","v":0},{"$f":"'Bespoke Area Data'!CH98","v":0},{"$f":"'Bespoke Area Data'!CI98","v":0},{"$f":"'Bespoke Area Data'!CJ98","v":0},{"$f":"'Bespoke Area Data'!CK98","v":0},{"$f":"'Bespoke Area Data'!CL98","v":0},{"$f":"'Bespoke Area Data'!CM98","v":0},{"$f":"'Bespoke Area Data'!CN98","v":0},{"$f":"'Bespoke Area Data'!CO98","v":0},{"$f":"'Bespoke Area Data'!CP98","v":0},{"$f":"'Bespoke Area Data'!CQ98","v":0},{"$f":"'Bespoke Area Data'!CR98","v":0},{"$f":"'Bespoke Area Data'!CS98","v":0},{"$f":"'Bespoke Area Data'!CT98","v":0},{"$f":"'Bespoke Area Data'!CU98","v":0},{"$f":"'Bespoke Area Data'!CV98","v":0},{"$f":"'Bespoke Area Data'!CW98","v":0},{"$f":"'Bespoke Area Data'!CX98","v":0},{"$f":"'Bespoke Area Data'!CY98","v":0},{"$f":"'Bespoke Area Data'!CZ98","v":0},{"$f":"'Bespoke Area Data'!DA98","v":0},{"$f":"'Bespoke Area Data'!DB98","v":0},{"$f":"'Bespoke Area Data'!DC98","v":0},{"$f":"'Bespoke Area Data'!DD98","v":0},{"$f":"'Bespoke Area Data'!DE98","v":0},{"$f":"'Bespoke Area Data'!DF98","v":0},{"$f":"'Bespoke Area Data'!DG98","v":0},{"$f":"'Bespoke Area Data'!DH98","v":0},{"$f":"'Bespoke Area Data'!DI98","v":0},{"$f":"'Bespoke Area Data'!DJ98","v":0},{"$f":"'Bespoke Area Data'!DK98","v":0},{"$f":"'Bespoke Area Data'!DL98","v":0},{"$f":"'Bespoke Area Data'!DM98","v":0},{"$f":"'Bespoke Area Data'!DN98","v":0},{"$f":"'Bespoke Area Data'!DO98","v":0},{"$f":"'Bespoke Area Data'!DP98","v":0},{"$f":"'Bespoke Area Data'!DQ98","v":0},{"$f":"'Bespoke Area Data'!DR98","v":0},{"$f":"'Bespoke Area Data'!DS98","v":0},{"$f":"'Bespoke Area Data'!DT98","v":0},{"$f":"'Bespoke Area Data'!DU98","v":0},{"$f":"'Bespoke Area Data'!DV98","v":0},{"$f":"'Bespoke Area Data'!DW98","v":0},{"$f":"'Bespoke Area Data'!DX98","v":0},{"$f":"'Bespoke Area Data'!DY98","v":0},{"$f":"'Bespoke Area Data'!DZ98","v":0},{"$f":"'Bespoke Area Data'!EA98","v":0},{"$f":"'Bespoke Area Data'!EB98","v":0},{"$f":"'Bespoke Area Data'!EC98","v":0},{"$f":"'Bespoke Area Data'!ED98","v":0},{"$f":"'Bespoke Area Data'!EE98","v":0},{"$f":"'Bespoke Area Data'!EF98","v":0},{"$f":"'Bespoke Area Data'!EG98","v":0},{"$f":"'Bespoke Area Data'!EH98","v":0},{"$f":"'Bespoke Area Data'!D99","v":0},{"$f":"'Bespoke Area Data'!E99","v":0},{"$f":"'Bespoke Area Data'!F99","v":0},{"$f":"'Bespoke Area Data'!G99","v":0},{"$f":"'Bespoke Area Data'!H99","v":0},{"$f":"'Bespoke Area Data'!I99","v":0},{"$f":"'Bespoke Area Data'!J99","v":0},{"$f":"'Bespoke Area Data'!K99","v":0},{"$f":"'Bespoke Area Data'!L99","v":0},{"$f":"'Bespoke Area Data'!M99","v":0},{"$f":"'Bespoke Area Data'!N99","v":0},{"$f":"'Bespoke Area Data'!O99","v":0},{"$f":"'Bespoke Area Data'!P99","v":0},{"$f":"'Bespoke Area Data'!Q99","v":0},{"$f":"'Bespoke Area Data'!R99","v":0},{"$f":"'Bespoke Area Data'!S99","v":0},{"$f":"'Bespoke Area Data'!T99","v":0},{"$f":"'Bespoke Area Data'!U99","v":0},{"$f":"'Bespoke Area Data'!V99","v":0},{"$f":"'Bespoke Area Data'!W99","v":0},{"$f":"'Bespoke Area Data'!X99","v":0},{"$f":"'Bespoke Area Data'!Y99","v":0},{"$f":"'Bespoke Area Data'!Z99","v":0},{"$f":"'Bespoke Area Data'!AA99","v":0},{"$f":"'Bespoke Area Data'!AB99","v":0},{"$f":"'Bespoke Area Data'!AC99","v":0},{"$f":"'Bespoke Area Data'!AD99","v":0},{"$f":"'Bespoke Area Data'!AE99","v":0},{"$f":"'Bespoke Area Data'!AF99","v":0},{"$f":"'Bespoke Area Data'!AG99","v":0},{"$f":"'Bespoke Area Data'!AH99","v":0},{"$f":"'Bespoke Area Data'!AI99","v":0},{"$f":"'Bespoke Area Data'!AJ99","v":0},{"$f":"'Bespoke Area Data'!AK99","v":0},{"$f":"'Bespoke Area Data'!AL99","v":0},{"$f":"'Bespoke Area Data'!AM99","v":0},{"$f":"'Bespoke Area Data'!AN99","v":0},{"$f":"'Bespoke Area Data'!AO99","v":0},{"$f":"'Bespoke Area Data'!AP99","v":0},{"$f":"'Bespoke Area Data'!AQ99","v":0},{"$f":"'Bespoke Area Data'!AR99","v":0},{"$f":"'Bespoke Area Data'!AS99","v":0},{"$f":"'Bespoke Area Data'!AT99","v":0},{"$f":"'Bespoke Area Data'!AU99","v":0},{"$f":"'Bespoke Area Data'!AV99","v":0},{"$f":"'Bespoke Area Data'!AW99","v":0},{"$f":"'Bespoke Area Data'!AX99","v":0},{"$f":"'Bespoke Area Data'!AY99","v":0},{"$f":"'Bespoke Area Data'!AZ99","v":0},{"$f":"'Bespoke Area Data'!BA99","v":0},{"$f":"'Bespoke Area Data'!BB99","v":0},{"$f":"'Bespoke Area Data'!BC99","v":0},{"$f":"'Bespoke Area Data'!BD99","v":0},{"$f":"'Bespoke Area Data'!BE99","v":0},{"$f":"'Bespoke Area Data'!BF99","v":0},{"$f":"'Bespoke Area Data'!BG99","v":0},{"$f":"'Bespoke Area Data'!BH99","v":0},{"$f":"'Bespoke Area Data'!BI99","v":0},{"$f":"'Bespoke Area Data'!BJ99","v":0},{"$f":"'Bespoke Area Data'!BK99","v":0},{"$f":"'Bespoke Area Data'!BL99","v":0},{"$f":"'Bespoke Area Data'!BM99","v":0},{"$f":"'Bespoke Area Data'!BN99","v":0},{"$f":"'Bespoke Area Data'!BO99","v":0},{"$f":"'Bespoke Area Data'!BP99","v":0},{"$f":"'Bespoke Area Data'!BQ99","v":0},{"$f":"'Bespoke Area Data'!BR99","v":0},{"$f":"'Bespoke Area Data'!BS99","v":0},{"$f":"'Bespoke Area Data'!BT99","v":0},{"$f":"'Bespoke Area Data'!BU99","v":0},{"$f":"'Bespoke Area Data'!BV99","v":0},{"$f":"'Bespoke Area Data'!BW99","v":0},{"$f":"'Bespoke Area Data'!BX99","v":0},{"$f":"'Bespoke Area Data'!BY99","v":0},{"$f":"'Bespoke Area Data'!BZ99","v":0},{"$f":"'Bespoke Area Data'!CA99","v":0},{"$f":"'Bespoke Area Data'!CB99","v":0},{"$f":"'Bespoke Area Data'!CC99","v":0},{"$f":"'Bespoke Area Data'!CD99","v":0},{"$f":"'Bespoke Area Data'!CE99","v":0},{"$f":"'Bespoke Area Data'!CF99","v":0},{"$f":"'Bespoke Area Data'!CG99","v":0},{"$f":"'Bespoke Area Data'!CH99","v":0},{"$f":"'Bespoke Area Data'!CI99","v":0},{"$f":"'Bespoke Area Data'!CJ99","v":0},{"$f":"'Bespoke Area Data'!CK99","v":0},{"$f":"'Bespoke Area Data'!CL99","v":0},{"$f":"'Bespoke Area Data'!CM99","v":0},{"$f":"'Bespoke Area Data'!CN99","v":0},{"$f":"'Bespoke Area Data'!CO99","v":0},{"$f":"'Bespoke Area Data'!CP99","v":0},{"$f":"'Bespoke Area Data'!CQ99","v":0},{"$f":"'Bespoke Area Data'!CR99","v":0},{"$f":"'Bespoke Area Data'!CS99","v":0},{"$f":"'Bespoke Area Data'!CT99","v":0},{"$f":"'Bespoke Area Data'!CU99","v":0},{"$f":"'Bespoke Area Data'!CV99","v":0},{"$f":"'Bespoke Area Data'!CW99","v":0},{"$f":"'Bespoke Area Data'!CX99","v":0},{"$f":"'Bespoke Area Data'!CY99","v":0},{"$f":"'Bespoke Area Data'!CZ99","v":0},{"$f":"'Bespoke Area Data'!DA99","v":0},{"$f":"'Bespoke Area Data'!DB99","v":0},{"$f":"'Bespoke Area Data'!DC99","v":0},{"$f":"'Bespoke Area Data'!DD99","v":0},{"$f":"'Bespoke Area Data'!DE99","v":0},{"$f":"'Bespoke Area Data'!DF99","v":0},{"$f":"'Bespoke Area Data'!DG99","v":0},{"$f":"'Bespoke Area Data'!DH99","v":0},{"$f":"'Bespoke Area Data'!DI99","v":0}]
["Bespoke","N/A",{"$f":"IF('Bespoke Area Name'!C29=\"\",\"No bespoke area name entered; Go to sheet \"\"Bespoke Area Name\"\"\",'Bespoke Area Name'!C29)","v":"No bespoke area name entered; Go to sheet \"Bespoke Area Name\""},"AREA0026",{"$f":"'Bespoke Area Data'!D102","v":0},{"$f":"'Bespoke Area Data'!E102","v":0},{"$f":"'Bespoke Area Data'!F102","v":0},{"$f":"'Bespoke Area Data'!G102","v":0},{"$f":"'Bespoke Area Data'!H102","v":0},{"$f":"'Bespoke Area Data'!I102","v":0},{"$f":"'Bespoke Area Data'!J102","v":0},{"$f":"'Bespoke Area Data'!K102","v":0},{"$f":"'Bespoke Area Data'!L102","v":0},{"$f":"'Bespoke Area Data'!M102","v":0},{"$f":"'Bespoke Area Data'!N102","v":0},{"$f":"'Bespoke Area Data'!O102","v":0},{"$f":"'Bespoke Area Data'!P102","v":0},{"$f":"'Bespoke Area Data'!Q102","v":0},{"$f":"'Bespoke Area Data'!R102","v":0},{"$f":"'Bespoke Area Data'!S102","v":0},{"$f":"'Bespoke Area Data'!T102","v":0},{"$f":"'Bespoke Area Data'!U102","v":0},{"$f":"'Bespoke Area Data'!V102","v":0},{"$f":"'Bespoke Area Data'!W102","v":0},{"$f":"'Bespoke Area Data'!X102","v":0},{"$f":"'Bespoke Area Data'!Y102","v":0},{"$f":"'Bespoke Area Data'!Z102","v":0},{"$f":"'Bespoke Area Data'!AA102","v":0},{"$f":"'Bespoke Area Data'!AB102","v":0},{"$f":"'Bespoke Area Data'!AC102","v":0},{"$f":"'Bespoke Area Data'!AD102","v":0},{"$f":"'Bespoke Area Data'!AE102","v":0},{"$f":"'Bespoke Area Data'!AF102","v":0},{"$f":"'Bespoke Area Data'!AG102","v":0},{"$f":"'Bespoke Area Data'!AH102","v":0},{"$f":"'Bespoke Area Data'!AI102","v":0},{"$f":"'Bespoke Area Data'!AJ102","v":0},{"$f":"'Bespoke Area Data'!AK102","v":0},{"$f":"'Bespoke Area Data'!AL102","v":0},{"$f":"'Bespoke Area Data'!AM102","v":0},{"$f":"'Bespoke Area Data'!AN102","v":0},{"$f":"'Bespoke Area Data'!AO102","v":0},{"$f":"'Bespoke Area Data'!AP102","v":0},{"$f":"'Bespoke Area Data'!AQ102","v":0},{"$f":"'Bespoke Area Data'!AR102","v":0},{"$f":"'Bespoke Area Data'!AS102","v":0},{"$f":"'Bespoke Area Data'!AT102","v":0},{"$f":"'Bespoke Area Data'!AU102","v":0},{"$f":"'Bespoke Area Data'!AV102","v":0},{"$f":"'Bespoke Area Data'!AW102","v":0},{"$f":"'Bespoke Area Data'!AX102","v":0},{"$f":"'Bespoke Area Data'!AY102","v":0},{"$f":"'Bespoke Area Data'!AZ102","v":0},{"$f":"'Bespoke Area Data'!BA102","v":0},{"$f":"'Bespoke Area Data'!BB102","v":0},{"$f":"'Bespoke Area Data'!BC102","v":0},{"$f":"'Bespoke Area Data'!BD102","v":0},{"$f":"'Bespoke Area Data'!BE102","v":0},{"$f":"'Bespoke Area Data'!BF102","v":0},{"$f":"'Bespoke Area Data'!BG102","v":0},{"$f":"'Bespoke Area Data'!BH102","v":0},{"$f":"'Bespoke Area Data'!BI102","v":0},{"$f":"'Bespoke Area Data'!BJ102","v":0},{"$f":"'Bespoke Area Data'!BK102","v":0},{"$f":"'Bespoke Area Data'!BL102","v":0},{"$f":"'Bespoke Area Data'!BM102","v":0},{"$f":"'Bespoke Area Data'!BN102","v":0},{"$f":"'Bespoke Area Data'!BO102","v":0},{"$f":"'Bespoke Area Data'!BP102","v":0},{"$f":"'Bespoke Area Data'!BQ102","v":0},{"$f":"'Bespoke Area Data'!BR102","v":0},{"$f":"'Bespoke Area Data'!BS102","v":0},{"$f":"'Bespoke Area Data'!BT102","v":0},{"$f":"'Bespoke Area Data'!BU102","v":0},{"$f":"'Bespoke Area Data'!BV102","v":0},{"$f":"'Bespoke Area Data'!BW102","v":0},{"$f":"'Bespoke Area Data'!BX102","v":0},{"$f":"'Bespoke Area Data'!BY102","v":0},{"$f":"'Bespoke Area Data'!BZ102","v":0},{"$f":"'Bespoke Area Data'!CA102","v":0},{"$f":"'Bespoke Area Data'!CB102","v":0},{"$f":"'Bespoke Area Data'!CC102","v":0},{"$f":"'Bespoke Area Data'!CD102","v":0},{"$f":"'Bespoke Area Data'!CE102","v":0},{"$f":"'Bespoke Area Data'!CF102","v":0},{"$f":"'Bespoke Area Data'!CG102","v":0},{"$f":"'Bespoke Area Data'!CH102","v":0},{"$f":"'Bespoke Area Data'!CI102","v":0},{"$f":"'Bespoke Area Data'!CJ102","v":0},{"$f":"'Bespoke Area Data'!CK102","v":0},{"$f":"'Bespoke Area Data'!CL102","v":0},{"$f":"'Bespoke Area Data'!CM102","v":0},{"$f":"'Bespoke Area Data'!CN102","v":0},{"$f":"'Bespoke Area Data'!CO102","v":0},{"$f":"'Bespoke Area Data'!CP102","v":0},{"$f":"'Bespoke Area Data'!CQ102","v":0},{"$f":"'Bespoke Area Data'!CR102","v":0},{"$f":"'Bespoke Area Data'!CS102","v":0},{"$f":"'Bespoke Area Data'!CT102","v":0},{"$f":"'Bespoke Area Data'!CU102","v":0},{"$f":"'Bespoke Area Data'!CV102","v":0},{"$f":"'Bespoke Area Data'!CW102","v":0},{"$f":"'Bespoke Area Data'!CX102","v":0},{"$f":"'Bespoke Area Data'!CY102","v":0},{"$f":"'Bespoke Area Data'!CZ102","v":0},{"$f":"'Bespoke Area Data'!DA102","v":0},{"$f":"'Bespoke Area Data'!DB102","v":0},{"$f":"'Bespoke Area Data'!DC102","v":0},{"$f":"'Bespoke Area Data'!DD102","v":0},{"$f":"'Bespoke Area Data'!DE102","v":0},{"$f":"'Bespoke Area Data'!DF102","v":0},{"$f":"'Bespoke Area Data'!DG102","v":0},{"$f":"'Bespoke Area Data'!DH102","v":0},{"$f":"'Bespoke Area Data'!DI102","v":0},{"$f":"'Bespoke Area Data'!DJ102","v":0},{"$f":"'Bespoke Area Data'!DK102","v":0},{"$f":"'Bespoke Area Data'!DL102","v":0},{"$f":"'Bespoke Area Data'!DM102","v":0},{"$f":"'Bespoke Area Data'!DN102","v":0},{"$f":"'Bespoke Area Data'!DO102","v":0},{"$f":"'Bespoke Area Data'!DP102","v":0},{"$f":"'Bespoke Area Data'!DQ102","v":0},{"$f":"'Bespoke Area Data'!DR102","v":0},{"$f":"'Bespoke Area Data'!DS102","v":0},{"$f":"'Bespoke Area Data'!DT102","v":0},{"$f":"'Bespoke Area Data'!DU102","v":0},{"$f":"'Bespoke Area Data'!DV102","v":0},{"$f":"'Bespoke Area Data'!DW102","v":0},{"$f":"'Bespoke Area Data'!DX102","v":0},{"$f":"'Bespoke Area Data'!DY102","v":0},{"$f":"'Bespoke Area Data'!DZ102","v":0},{"$f":"'Bespoke Area Data'!EA102","v":0},{"$f":"'Bespoke Area Data'!EB102","v":0},{"$f":"'Bespoke Area Data'!EC102","v":0},{"$f":"'Bespoke Area Data'!ED102","v":0},{"$f":"'Bespoke Area Data'!EE102","v":0},{"$f":"'Bespoke Area Data'!EF102","v":0},{"$f":"'Bespoke Area Data'!EG102","v":0},{"$f":"'Bespoke Area Data'!EH102","v":0},{"$f":"'Bespoke Area Data'!D103","v":0},{"$f":"'Bespoke Area Data'!E103","v":0},{"$f":"'Bespoke Area Data'!F103","v":0},{"$f":"'Bespoke Area Data'!G103","v":0},{"$f":"'Bespoke Area Data'!H103","v":0},{"$f":"'Bespoke Area Data'!I103","v":0},{"$f":"'Bespoke Area Data'!J103","v":0},{"$f":"'Bespoke Area Data'!K103","v":0},{"$f":"'Bespoke Area Data'!L103","v":0},{"$f":"'Bespoke Area Data'!M103","v":0},{"$f":"'Bespoke Area Data'!N103","v":0},{"$f":"'Bespoke Area Data'!O103","v":0},{"$f":"'Bespoke Area Data'!P103","v":0},{"$f":"'Bespoke Area Data'!Q103","v":0},{"$f":"'Bespoke Area Data'!R103","v":0},{"$f":"'Bespoke Area Data'!S103","v":0},{"$f":"'Bespoke Area Data'!T103","v":0},{"$f":"'Bespoke Area Data'!U103","v":0},{"$f":"'Bespoke Area Data'!V103","v":0},{"$f":"'Bespoke Area Data'!W103","v":0},{"$f":"'Bespoke Area Data'!X103","v":0},{"$f":"'Bespoke Area Data'!Y103","v":0},{"$f":"'Bespoke Area Data'!Z103","v":0},{"$f":"'Bespoke Area Data'!AA103","v":0},{"$f":"'Bespoke Area Data'!AB103","v":0},{"$f":"'Bespoke Area Data'!AC103","v":0},{"$f":"'Bespoke Area Data'!AD103","v":0},{"$f":"'Bespoke Area Data'!AE103","v":0},{"$f":"'Bespoke Area Data'!AF103","v":0},{"$f":"'Bespoke Area Data'!AG103","v":0},{"$f":"'Bespoke Area Data'!AH103","v":0},{"$f":"'Bespoke Area Data'!AI103","v":0},{"$f":"'Bespoke Area Data'!AJ103","v":0},{"$f":"'Bespoke Area Data'!AK103","v":0},{"$f":"'Bespoke Area Data'!AL103","v":0},{"$f":"'Bespoke Area Data'!AM103","v":0},{"$f":"'Bespoke Area Data'!AN103","v":0},{"$f":"'Bespoke Area Data'!AO103","v":0},{"$f":"'Bespoke Area Data'!AP103","v":0},{"$f":"'Bespoke Area Data'!AQ103","v":0},{"$f":"'Bespoke Area Data'!AR103","v":0},{"$f":"'Bespoke Area Data'!AS103","v":0},{"$f":"'Bespoke Area Data'!AT103","v":0},{"$f":"'Bespoke Area Data'!AU103","v":0},{"$f":"'Bespoke Area Data'!AV103","v":0},{"$f":"'Bespoke Area Data'!AW103","v":0},{"$f":"'Bespoke Area Data'!AX103","v":0},{"$f":"'Bespoke Area Data'!AY103","v":0},{"$f":"'Bespoke Area Data'!AZ103","v":0},{"$f":"'Bespoke Area Data'!BA103","v":0},{"$f":"'Bespoke Area Data'!BB103","v":0},{"$f":"'Bespoke Area Data'!BC103","v":0},{"$f":"'Bespoke Area Data'!BD103","v":0},{"$f":"'Bespoke Area Data'!BE103","v":0},{"$f":"'Bespoke Area Data'!BF103","v":0},{"$f":"'Bespoke Area Data'!BG103","v":0},{"$f":"'Bespoke Area Data'!BH103","v":0},{"$f":"'Bespoke Area Data'!BI103","v":0},{"$f":"'Bespoke Area Data'!BJ103","v":0},{"$f":"'Bespoke Area Data'!BK103","v":0},{"$f":"'Bespoke Area Data'!BL103","v":0},{"$f":"'Bespoke Area Data'!BM103","v":0},{"$f":"'Bespoke Area Data'!BN103","v":0},{"$f":"'Bespoke Area Data'!BO103","v":0},{"$f":"'Bespoke Area Data'!BP103","v":0},{"$f":"'Bespoke Area Data'!BQ103","v":0},{"$f":"'Bespoke Area Data'!BR103","v":0},{"$f":"'Bespoke Area Data'!BS103","v":0},{"$f":"'Bespoke Area Data'!BT103","v":0},{"$f":"'Bespoke Area Data'!BU103","v":0},{"$f":"'Bespoke Area Data'!BV103","v":0},{"$f":"'Bespoke Area Data'!BW103","v":0},{"$f":"'Bespoke Area Data'!BX103","v":0},{"$f":"'Bespoke Area Data'!BY103","v":0},{"$f":"'Bespoke Area Data'!BZ103","v":0},{"$f":"'Bespoke Area Data'!CA103","v":0},{"$f":"'Bespoke Area Data'!CB103","v":0},{"$f":"'Bespoke Area Data'!CC103","v":0},{"$f":"'Bespoke Area Data'!CD103","v":0},{"$f":"'Bespoke Area Data'!CE103","v":0},{"$f":"'Bespoke Area Data'!CF103","v":0},{"$f":"'Bespoke Area Data'!CG103","v":0},{"$f":"'Bespoke Area Data'!CH103","v":0},{"$f":"'Bespoke Area Data'!CI103","v":0},{"$f":"'Bespoke Area Data'!CJ103","v":0},{"$f":"'Bespoke Area Data'!CK103","v":0},{"$f":"'Bespoke Area Data'!CL103","v":0},{"$f":"'Bespoke Area Data'!CM103","v":0},{"$f":"'Bespoke Area Data'!CN103","v":0},{"$f":"'Bespoke Area Data'!CO103","v":0},{"$f":"'Bespoke Area Data'!CP103","v":0},{"$f":"'Bespoke Area Data'!CQ103","v":0},{"$f":"'Bespoke Area Data'!CR103","v":0},{"$f":"'Bespoke Area Data'!CS103","v":0},{"$f":"'Bespoke Area Data'!CT103","v":0},{"$f":"'Bespoke Area Data'!CU103","v":0},{"$f":"'Bespoke Area Data'!CV103","v":0},{"$f":"'Bespoke Area Data'!CW103","v":0},{"$f":"'Bespoke Area Data'!CX103","v":0},{"$f":"'Bespoke Area Data'!CY103","v":0},{"$f":"'Bespoke Area Data'!CZ103","v":0},{"$f":"'Bespoke Area Data'!DA103","v":0},{"$f":"'Bespoke Area Data'!DB103","v":0},{"$f":"'Bespoke Area Data'!DC103","v":0},{"$f":"'Bespoke Area Data'!DD103","v":0},{"$f":"'Bespoke Area Data'!DE103","v":0},{"$f":"'Bespoke Area Data'!DF103","v":0},{"$f":"'Bespoke Area Data'!DG103","v":0},{"$f":"'Bespoke Area Data'!DH103","v":0},{"$f":"'Bespoke Area Data'!DI103","v":0}]
["Bespoke","N/A",{"$f":"IF('Bespoke Area Name'!C30=\"\",\"No bespoke area name entered; Go to sheet \"\"Bespoke Area Name\"\"\",'Bespoke Area Name'!C30)","v":"No bespoke area name entered; Go to sheet \"Bespoke Area Name\""},"AREA0027",{"$f":"'Bespoke Area Data'!D106","v":0},{"$f":"'Bespoke Area Data'!E106","v":0},{"$f":"'Bespoke Area Data'!F106","v":0},{"$f":"'Bespoke Area Data'!G106","v":0},{"$f":"'Bespoke Area Data'!H106","v":0},{"$f":"'Bespoke Area Data'!I106","v":0},{"$f":"'Bespoke Area Data'!J106","v":0},{"$f":"'Bespoke Area Data'!K106","v":0},{"$f":"'Bespoke Area Data'!L106","v":0},{"$f":"'Bespoke Area Data'!M106","v":0},{"$f":"'Bespoke Area Data'!N106","v":0},{"$f":"'Bespoke Area Data'!O106","v":0},{"$f":"'Bespoke Area Data'!P106","v":0},{"$f":"'Bespoke Area Data'!Q106","v":0},{"$f":"'Bespoke Area Data'!R106","v":0},{"$f":"'Bespoke Area Data'!S106","v":0},{"$f":"'Bespoke Area Data'!T106","v":0},{"$f":"'Bespoke Area Data'!U106","v":0},{"$f":"'Bespoke Area Data'!V106","v":0},{"$f":"'Bespoke Area Data'!W106","v":0},{"$f":"'Bespoke Area Data'!X106","v":0},{"$f":"'Bespoke Area Data'!Y106","v":0},{"$f":"'Bespoke Area Data'!Z106","v":0},{"$f":"'Bespoke Area Data'!AA106","v":0},{"$f":"'Bespoke Area Data'!AB106","v":0},{"$f":"'Bespoke Area Data'!AC106","v":0},{"$f":"'Bespoke Area Data'!AD106","v":0},{"$f":"'Bespoke Area Data'!AE106","v":0},{"$f":"'Bespoke Area Data'!AF106","v":0},{"$f":"'Bespoke Area Data'!AG106","v":0},{"$f":"'Bespoke Area Data'!AH106","v":0},{"$f":"'Bespoke Area Data'!AI106","v":0},{"$f":"'Bespoke Area Data'!AJ106","v":0},{"$f":"'Bespoke Area Data'!AK106","v":0},{"$f":"'Bespoke Area Data'!AL106","v":0},{"$f":"'Bespoke Area Data'!AM106","v":0},{"$f":"'Bespoke Area Data'!AN106","v":0},{"$f":"'Bespoke Area Data'!AO106","v":0},{"$f":"'Bespoke Area Data'!AP106","v":0},{"$f":"'Bespoke Area Data'!AQ106","v":0},{"$f":"'Bespoke Area Data'!AR106","v":0},{"$f":"'Bespoke Area Data'!AS106","v":0},{"$f":"'Bespoke Area Data'!AT106","v":0},{"$f":"'Bespoke Area Data'!AU106","v":0},{"$f":"'Bespoke Area Data'!AV106","v":0},{"$f":"'Bespoke Area Data'!AW106","v":0},{"$f":"'Bespoke Area Data'!AX106","v":0},{"$f":"'Bespoke Area Data'!AY106","v":0},{"$f":"'Bespoke Area Data'!AZ106","v":0},{"$f":"'Bespoke Area Data'!BA106","v":0},{"$f":"'Bespoke Area Data'!BB106","v":0},{"$f":"'Bespoke Area Data'!BC106","v":0},{"$f":"'Bespoke Area Data'!BD106","v":0},{"$f":"'Bespoke Area Data'!BE106","v":0},{"$f":"'Bespoke Area Data'!BF106","v":0},{"$f":"'Bespoke Area Data'!BG106","v":0},{"$f":"'Bespoke Area Data'!BH106","v":0},{"$f":"'Bespoke Area Data'!BI106","v":0},{"$f":"'Bespoke Area Data'!BJ106","v":0},{"$f":"'Bespoke Area Data'!BK106","v":0},{"$f":"'Bespoke Area Data'!BL106","v":0},{"$f":"'Bespoke Area Data'!BM106","v":0},{"$f":"'Bespoke Area Data'!BN106","v":0},{"$f":"'Bespoke Area Data'!BO106","v":0},{"$f":"'Bespoke Area Data'!BP106","v":0},{"$f":"'Bespoke Area Data'!BQ106","v":0},{"$f":"'Bespoke Area Data'!BR106","v":0},{"$f":"'Bespoke Area Data'!BS106","v":0},{"$f":"'Bespoke Area Data'!BT106","v":0},{"$f":"'Bespoke Area Data'!BU106","v":0},{"$f":"'Bespoke Area Data'!BV106","v":0},{"$f":"'Bespoke Area Data'!BW106","v":0},{"$f":"'Bespoke Area Data'!BX106","v":0},{"$f":"'Bespoke Area Data'!BY106","v":0},{"$f":"'Bespoke Area Data'!BZ106","v":0},{"$f":"'Bespoke Area Data'!CA106","v":0},{"$f":"'Bespoke Area Data'!CB106","v":0},{"$f":"'Bespoke Area Data'!CC106","v":0},{"$f":"'Bespoke Area Data'!CD106","v":0},{"$f":"'Bespoke Area Data'!CE106","v":0},{"$f":"'Bespoke Area Data'!CF106","v":0},{"$f":"'Bespoke Area Data'!CG106","v":0},{"$f":"'Bespoke Area Data'!CH106","v":0},{"$f":"'Bespoke Area Data'!CI106","v":0},{"$f":"'Bespoke Area Data'!CJ106","v":0},{"$f":"'Bespoke Area Data'!CK106","v":0},{"$f":"'Bespoke Area Data'!CL106","v":0},{"$f":"'Bespoke Area Data'!CM106","v":0},{"$f":"'Bespoke Area Data'!CN106","v":0},{"$f":"'Bespoke Area Data'!CO106","v":0},{"$f":"'Bespoke Area Data'!CP106","v":0},{"$f":"'Bespoke Area Data'!CQ106","v":0},{"$f":"'Bespoke Area Data'!CR106","v":0},{"$f":"'Bespoke Area Data'!CS106","v":0},{"$f":"'Bespoke Area Data'!CT106","v":0},{"$f":"'Bespoke Area Data'!CU106","v":0},{"$f":"'Bespoke Area Data'!CV106","v":0},{"$f":"'Bespoke Area Data'!CW106","v":0},{"$f":"'Bespoke Area Data'!CX106","v":0},{"$f":"'Bespoke Area Data'!CY106","v":0},{"$f":"'Bespoke Area Data'!CZ106","v":0},{"$f":"'Bespoke Area Data'!DA106","v":0},{"$f":"'Bespoke Area Data'!DB106","v":0},{"$f":"'Bespoke Area Data'!DC106","v":0},{"$f":"'Bespoke Area Data'!DD106","v":0},{"$f":"'Bespoke Area Data'!DE106","v":0},{"$f":"'Bespoke Area Data'!DF106","v":0},{"$f":"'Bespoke Area Data'!DG106","v":0},{"$f":"'Bespoke Area Data'!DH106","v":0},{"$f":"'Bespoke Area Data'!DI106","v":0},{"$f":"'Bespoke Area Data'!DJ106","v":0},{"$f":"'Bespoke Area Data'!DK106","v":0},{"$f":"'Bespoke Area Data'!DL106","v":0},{"$f":"'Bespoke Area Data'!DM106","v":0},{"$f":"'Bespoke Area Data'!DN106","v":0},{"$f":"'Bespoke Area Data'!DO106","v":0},{"$f":"'Bespoke Area Data'!DP106","v":0},{"$f":"'Bespoke Area Data'!DQ106","v":0},{"$f":"'Bespoke Area Data'!DR106","v":0},{"$f":"'Bespoke Area Data'!DS106","v":0},{"$f":"'Bespoke Area Data'!DT106","v":0},{"$f":"'Bespoke Area Data'!DU106","v":0},{"$f":"'Bespoke Area Data'!DV106","v":0},{"$f":"'Bespoke Area Data'!DW106","v":0},{"$f":"'Bespoke Area Data'!DX106","v":0},{"$f":"'Bespoke Area Data'!DY106","v":0},{"$f":"'Bespoke Area Data'!DZ106","v":0},{"$f":"'Bespoke Area Data'!EA106","v":0},{"$f":"'Bespoke Area Data'!EB106","v":0},{"$f":"'Bespoke Area Data'!EC106","v":0},{"$f":"'Bespoke Area Data'!ED106","v":0},{"$f":"'Bespoke Area Data'!EE106","v":0},{"$f":"'Bespoke Area Data'!EF106","v":0},{"$f":"'Bespoke Area Data'!EG106","v":0},{"$f":"'Bespoke Area Data'!EH106","v":0},{"$f":"'Bespoke Area Data'!D107","v":0},{"$f":"'Bespoke Area Data'!E107","v":0},{"$f":"'Bespoke Area Data'!F107","v":0},{"$f":"'Bespoke Area Data'!G107","v":0},{"$f":"'Bespoke Area Data'!H107","v":0},{"$f":"'Bespoke Area Data'!I107","v":0},{"$f":"'Bespoke Area Data'!J107","v":0},{"$f":"'Bespoke Area Data'!K107","v":0},{"$f":"'Bespoke Area Data'!L107","v":0},{"$f":"'Bespoke Area Data'!M107","v":0},{"$f":"'Bespoke Area Data'!N107","v":0},{"$f":"'Bespoke Area Data'!O107","v":0},{"$f":"'Bespoke Area Data'!P107","v":0},{"$f":"'Bespoke Area Data'!Q107","v":0},{"$f":"'Bespoke Area Data'!R107","v":0},{"$f":"'Bespoke Area Data'!S107","v":0},{"$f":"'Bespoke Area Data'!T107","v":0},{"$f":"'Bespoke Area Data'!U107","v":0},{"$f":"'Bespoke Area Data'!V107","v":0},{"$f":"'Bespoke Area Data'!W107","v":0},{"$f":"'Bespoke Area Data'!X107","v":0},{"$f":"'Bespoke Area Data'!Y107","v":0},{"$f":"'Bespoke Area Data'!Z107","v":0},{"$f":"'Bespoke Area Data'!AA107","v":0},{"$f":"'Bespoke Area Data'!AB107","v":0},{"$f":"'Bespoke Area Data'!AC107","v":0},{"$f":"'Bespoke Area Data'!AD107","v":0},{"$f":"'Bespoke Area Data'!AE107","v":0},{"$f":"'Bespoke Area Data'!AF107","v":0},{"$f":"'Bespoke Area Data'!AG107","v":0},{"$f":"'Bespoke Area Data'!AH107","v":0},{"$f":"'Bespoke Area Data'!AI107","v":0},{"$f":"'Bespoke Area Data'!AJ107","v":0},{"$f":"'Bespoke Area Data'!AK107","v":0},{"$f":"'Bespoke Area Data'!AL107","v":0},{"$f":"'Bespoke Area Data'!AM107","v":0},{"$f":"'Bespoke Area Data'!AN107","v":0},{"$f":"'Bespoke Area Data'!AO107","v":0},{"$f":"'Bespoke Area Data'!AP107","v":0},{"$f":"'Bespoke Area Data'!AQ107","v":0},{"$f":"'Bespoke Area Data'!AR107","v":0},{"$f":"'Bespoke Area Data'!AS107","v":0},{"$f":"'Bespoke Area Data'!AT107","v":0},{"$f":"'Bespoke Area Data'!AU107","v":0},{"$f":"'Bespoke Area Data'!AV107","v":0},{"$f":"'Bespoke Area Data'!AW107","v":0},{"$f":"'Bespoke Area Data'!AX107","v":0},{"$f":"'Bespoke Area Data'!AY107","v":0},{"$f":"'Bespoke Area Data'!AZ107","v":0},{"$f":"'Bespoke Area Data'!BA107","v":0},{"$f":"'Bespoke Area Data'!BB107","v":0},{"$f":"'Bespoke Area Data'!BC107","v":0},{"$f":"'Bespoke Area Data'!BD107","v":0},{"$f":"'Bespoke Area Data'!BE107","v":0},{"$f":"'Bespoke Area Data'!BF107","v":0},{"$f":"'Bespoke Area Data'!BG107","v":0},{"$f":"'Bespoke Area Data'!BH107","v":0},{"$f":"'Bespoke Area Data'!BI107","v":0},{"$f":"'Bespoke Area Data'!BJ107","v":0},{"$f":"'Bespoke Area Data'!BK107","v":0},{"$f":"'Bespoke Area Data'!BL107","v":0},{"$f":"'Bespoke Area Data'!BM107","v":0},{"$f":"'Bespoke Area Data'!BN107","v":0},{"$f":"'Bespoke Area Data'!BO107","v":0},{"$f":"'Bespoke Area Data'!BP107","v":0},{"$f":"'Bespoke Area Data'!BQ107","v":0},{"$f":"'Bespoke Area Data'!BR107","v":0},{"$f":"'Bespoke Area Data'!BS107","v":0},{"$f":"'Bespoke Area Data'!BT107","v":0},{"$f":"'Bespoke Area Data'!BU107","v":0},{"$f":"'Bespoke Area Data'!BV107","v":0},{"$f":"'Bespoke Area Data'!BW107","v":0},{"$f":"'Bespoke Area Data'!BX107","v":0},{"$f":"'Bespoke Area Data'!BY107","v":0},{"$f":"'Bespoke Area Data'!BZ107","v":0},{"$f":"'Bespoke Area Data'!CA107","v":0},{"$f":"'Bespoke Area Data'!CB107","v":0},{"$f":"'Bespoke Area Data'!CC107","v":0},{"$f":"'Bespoke Area Data'!CD107","v":0},{"$f":"'Bespoke Area Data'!CE107","v":0},{"$f":"'Bespoke Area Data'!CF107","v":0},{"$f":"'Bespoke Area Data'!CG107","v":0},{"$f":"'Bespoke Area Data'!CH107","v":0},{"$f":"'Bespoke Area Data'!CI107","v":0},{"$f":"'Bespoke Area Data'!CJ107","v":0},{"$f":"'Bespoke Area Data'!CK107","v":0},{"$f":"'Bespoke Area Data'!CL107","v":0},{"$f":"'Bespoke Area Data'!CM107","v":0},{"$f":"'Bespoke Area Data'!CN107","v":0},{"$f":"'Bespoke Area Data'!CO107","v":0},{"$f":"'Bespoke Area Data'!CP107","v":0},{"$f":"'Bespoke Area Data'!CQ107","v":0},{"$f":"'Bespoke Area Data'!CR107","v":0},{"$f":"'Bespoke Area Data'!CS107","v":0},{"$f":"'Bespoke Area Data'!CT107","v":0},{"$f":"'Bespoke Area Data'!CU107","v":0},{"$f":"'Bespoke Area Data'!CV107","v":0},{"$f":"'Bespoke Area Data'!CW107","v":0},{"$f":"'Bespoke Area Data'!CX107","v":0},{"$f":"'Bespoke Area Data'!CY107","v":0},{"$f":"'Bespoke Area Data'!CZ107","v":0},{"$f":"'Bespoke Area Data'!DA107","v":0},{"$f":"'Bespoke Area Data'!DB107","v":0},{"$f":"'Bespoke Area Data'!DC107","v":0},{"$f":"'Bespoke Area Data'!DD107","v":0},{"$f":"'Bespoke Area Data'!DE107","v":0},{"$f":"'Bespoke Area Data'!DF107","v":0},{"$f":"'Bespoke Area Data'!DG107","v":0},{"$f":"'Bespoke Area Data'!DH107","v":0},{"$f":"'Bespoke Area Data'!DI107","v":0}]
["Bespoke","N/A",{"$f":"IF('Bespoke Area Name'!C31=\"\",\"No bespoke area name entered; Go to sheet \"\"Bespoke Area Name\"\"\",'Bespoke Area Name'!C31)","v":"No bespoke area name entered; Go to sheet \"Bespoke Area Name\""},"AREA0028",{"$f":"'Bespoke Area Data'!D110","v":0},{"$f":"'Bespoke Area Data'!E110","v":0},{"$f":"'Bespoke Area Data'!F110","v":0},{"$f":"'Bespoke Area Data'!G110","v":0},{"$f":"'Bespoke Area Data'!H110","v":0},{"$f":"'Bespoke Area Data'!I110","v":0},{"$f":"'Bespoke Area Data'!J110","v":0},{"$f":"'Bespoke Area Data'!K110","v":0},{"$f":"'Bespoke Area Data'!L110","v":0},{"$f":"'Bespoke Area Data'!M110","v":0},{"$f":"'Bespoke Area Data'!N110","v":0},{"$f":"'Bespoke Area Data'!O110","v":0},{"$f":"'Bespoke Area Data'!P110","v":0},{"$f":"'Bespoke Area Data'!Q110","v":0},{"$f":"'Bespoke Area Data'!R110","v":0},{"$f":"'Bespoke Area Data'!S110","v":0},{"$f":"'Bespoke Area Data'!T110","v":0},{"$f":"'Bespoke Area Data'!U110","v":0},{"$f":"'Bespoke Area Data'!V110","v":0},{"$f":"'Bespoke Area Data'!W110","v":0},{"$f":"'Bespoke Area Data'!X110","v":0},{"$f":"'Bespoke Area Data'!Y110","v":0},{"$f":"'Bespoke Area Data'!Z110","v":0},{"$f":"'Bespoke Area Data'!AA110","v":0},{"$f":"'Bespoke Area Data'!AB110","v":0},{"$f":"'Bespoke Area Data'!AC110","v":0},{"$f":"'Bespoke Area Data'!AD110","v":0},{"$f":"'Bespoke Area Data'!AE110","v":0},{"$f":"'Bespoke Area Data'!AF110","v":0},{"$f":"'Bespoke Area Data'!AG110","v":0},{"$f":"'Bespoke Area Data'!AH110","v":0},{"$f":"'Bespoke Area Data'!AI110","v":0},{"$f":"'Bespoke Area Data'!AJ110","v":0},{"$f":"'Bespoke Area Data'!AK110","v":0},{"$f":"'Bespoke Area Data'!AL110","v":0},{"$f":"'Bespoke Area Data'!AM110","v":0},{"$f":"'Bespoke Area Data'!AN110","v":0},{"$f":"'Bespoke Area Data'!AO110","v":0},{"$f":"'Bespoke Area Data'!AP110","v":0},{"$f":"'Bespoke Area Data'!AQ110","v":0},{"$f":"'Bespoke Area Data'!AR110","v":0},{"$f":"'Bespoke Area Data'!AS110","v":0},{"$f":"'Bespoke Area Data'!AT110","v":0},{"$f":"'Bespoke Area Data'!AU110","v":0},{"$f":"'Bespoke Area Data'!AV110","v":0},{"$f":"'Bespoke Area Data'!AW110","v":0},{"$f":"'Bespoke Area Data'!AX110","v":0},{"$f":"'Bespoke Area Data'!AY110","v":0},{"$f":"'Bespoke Area Data'!AZ110","v":0},{"$f":"'Bespoke Area Data'!BA110","v":0},{"$f":"'Bespoke Area Data'!BB110","v":0},{"$f":"'Bespoke Area Data'!BC110","v":0},{"$f":"'Bespoke Area Data'!BD110","v":0},{"$f":"'Bespoke Area Data'!BE110","v":0},{"$f":"'Bespoke Area Data'!BF110","v":0},{"$f":"'Bespoke Area Data'!BG110","v":0},{"$f":"'Bespoke Area Data'!BH110","v":0},{"$f":"'Bespoke Area Data'!BI110","v":0},{"$f":"'Bespoke Area Data'!BJ110","v":0},{"$f":"'Bespoke Area Data'!BK110","v":0},{"$f":"'Bespoke Area Data'!BL110","v":0},{"$f":"'Bespoke Area Data'!BM110","v":0},{"$f":"'Bespoke Area Data'!BN110","v":0},{"$f":"'Bespoke Area Data'!BO110","v":0},{"$f":"'Bespoke Area Data'!BP110","v":0},{"$f":"'Bespoke Area Data'!BQ110","v":0},{"$f":"'Bespoke Area Data'!BR110","v":0},{"$f":"'Bespoke Area Data'!BS110","v":0},{"$f":"'Bespoke Area Data'!BT110","v":0},{"$f":"'Bespoke Area Data'!BU110","v":0},{"$f":"'Bespoke Area Data'!BV110","v":0},{"$f":"'Bespoke Area Data'!BW110","v":0},{"$f":"'Bespoke Area Data'!BX110","v":0},{"$f":"'Bespoke Area Data'!BY110","v":0},{"$f":"'Bespoke Area Data'!BZ110","v":0},{"$f":"'Bespoke Area Data'!CA110","v":0},{"$f":"'Bespoke Area Data'!CB110","v":0},{"$f":"'Bespoke Area Data'!CC110","v":0},{"$f":"'Bespoke Area Data'!CD110","v":0},{"$f":"'Bespoke Area Data'!CE110","v":0},{"$f":"'Bespoke Area Data'!CF110","v":0},{"$f":"'Bespoke Area Data'!CG110","v":0},{"$f":"'Bespoke Area Data'!CH110","v":0},{"$f":"'Bespoke Area Data'!CI110","v":0},{"$f":"'Bespoke Area Data'!CJ110","v":0},{"$f":"'Bespoke Area Data'!CK110","v":0},{"$f":"'Bespoke Area Data'!CL110","v":0},{"$f":"'Bespoke Area Data'!CM110","v":0},{"$f":"'Bespoke Area Data'!CN110","v":0},{"$f":"'Bespoke Area Data'!CO110","v":0},{"$f":"'Bespoke Area Data'!CP110","v":0},{"$f":"'Bespoke Area Data'!CQ110","v":0},{"$f":"'Bespoke Area Data'!CR110","v":0},{"$f":"'Bespoke Area Data'!CS110","v":0},{"$f":"'Bespoke Area Data'!CT110","v":0},{"$f":"'Bespoke Area Data'!CU110","v":0},{"$f":"'Bespoke Area Data'!CV110","v":0},{"$f":"'Bespoke Area Data'!CW110","v":0},{"$f":"'Bespoke Area Data'!CX110","v":0},{"$f":"'Bespoke Area Data'!CY110","v":0},{"$f":"'Bespoke Area Data'!CZ110","v":0},{"$f":"'Bespoke Area Data'!DA110","v":0},{"$f":"'Bespoke Area Data'!DB110","v":0},{"$f":"'Bespoke Area Data'!DC110","v":0},{"$f":"'Bespoke Area Data'!DD110","v":0},{"$f":"'Bespoke Area Data'!DE110","v":0},{"$f":"'Bespoke Area Data'!DF110","v":0},{"$f":"'Bespoke Area Data'!DG110","v":0},{"$f":"'Bespoke Area Data'!DH110","v":0},{"$f":"'Bespoke Area Data'!DI110","v":0},{"$f":"'Bespoke Area Data'!DJ110","v":0},{"$f":"'Bespoke Area Data'!DK110","v":0},{"$f":"'Bespoke Area Data'!DL110","v":0},{"$f":"'Bespoke Area Data'!DM110","v":0},{"$f":"'Bespoke Area Data'!DN110","v":0},{"$f":"'Bespoke Area Data'!DO110","v":0},{"$f":"'Bespoke Area Data'!DP110","v":0},{"$f":"'Bespoke Area Data'!DQ110","v":0},{"$f":"'Bespoke Area Data'!DR110","v":0},{"$f":"'Bespoke Area Data'!DS110","v":0},{"$f":"'Bespoke Area Data'!DT110","v":0},{"$f":"'Bespoke Area Data'!DU110","v":0},{"$f":"'Bespoke Area Data'!DV110","v":0},{"$f":"'Bespoke Area Data'!DW110","v":0},{"$f":"'Bespoke Area Data'!DX110","v":0},{"$f":"'Bespoke Area Data'!DY110","v":0},{"$f":"'Bespoke Area Data'!DZ110","v":0},{"$f":"'Bespoke Area Data'!EA110","v":0},{"$f":"'Bespoke Area Data'!EB110","v":0},{"$f":"'Bespoke Area Data'!EC110","v":0},{"$f":"'Bespoke Area Data'!ED110","v":0},{"$f":"'Bespoke Area Data'!EE110","v":0},{"$f":"'Bespoke Area Data'!EF110","v":0},{"$f":"'Bespoke Area Data'!EG110","v":0},{"$f":"'Bespoke Area Data'!EH110","v":0},{"$f":"'Bespoke Area Data'!D111","v":0},{"$f":"'Bespoke Area Data'!E111","v":0},{"$f":"'Bespoke Area Data'!F111","v":0},{"$f":"'Bespoke Area Data'!G111","v":0},{"$f":"'Bespoke Area Data'!H111","v":0},{"$f":"'Bespoke Area Data'!I111","v":0},{"$f":"'Bespoke Area Data'!J111","v":0},{"$f":"'Bespoke Area Data'!K111","v":0},{"$f":"'Bespoke Area Data'!L111","v":0},{"$f":"'Bespoke Area Data'!M111","v":0},{"$f":"'Bespoke Area Data'!N111","v":0},{"$f":"'Bespoke Area Data'!O111","v":0},{"$f":"'Bespoke Area Data'!P111","v":0},{"$f":"'Bespoke Area Data'!Q111","v":0},{"$f":"'Bespoke Area Data'!R111","v":0},{"$f":"'Bespoke Area Data'!S111","v":0},{"$f":"'Bespoke Area Data'!T111","v":0},{"$f":"'Bespoke Area Data'!U111","v":0},{"$f":"'Bespoke Area Data'!V111","v":0},{"$f":"'Bespoke Area Data'!W111","v":0},{"$f":"'Bespoke Area Data'!X111","v":0},{"$f":"'Bespoke Area Data'!Y111","v":0},{"$f":"'Bespoke Area Data'!Z111","v":0},{"$f":"'Bespoke Area Data'!AA111","v":0},{"$f":"'Bespoke Area Data'!AB111","v":0},{"$f":"'Bespoke Area Data'!AC111","v":0},{"$f":"'Bespoke Area Data'!AD111","v":0},{"$f":"'Bespoke Area Data'!AE111","v":0},{"$f":"'Bespoke Area Data'!AF111","v":0},{"$f":"'Bespoke Area Data'!AG111","v":0},{"$f":"'Bespoke Area Data'!AH111","v":0},{"$f":"'Bespoke Area Data'!AI111","v":0},{"$f":"'Bespoke Area Data'!AJ111","v":0},{"$f":"'Bespoke Area Data'!AK111","v":0},{"$f":"'Bespoke Area Data'!AL111","v":0},{"$f":"'Bespoke Area Data'!AM111","v":0},{"$f":"'Bespoke Area Data'!AN111","v":0},{"$f":"'Bespoke Area Data'!AO111","v":0},{"$f":"'Bespoke Area Data'!AP111","v":0},{"$f":"'Bespoke Area Data'!AQ111","v":0},{"$f":"'Bespoke Area Data'!AR111","v":0},{"$f":"'Bespoke Area Data'!AS111","v":0},{"$f":"'Bespoke Area Data'!AT111","v":0},{"$f":"'Bespoke Area Data'!AU111","v":0},{"$f":"'Bespoke Area Data'!AV111","v":0},{"$f":"'Bespoke Area Data'!AW111","v":0},{"$f":"'Bespoke Area Data'!AX111","v":0},{"$f":"'Bespoke Area Data'!AY111","v":0},{"$f":"'Bespoke Area Data'!AZ111","v":0},{"$f":"'Bespoke Area Data'!BA111","v":0},{"$f":"'Bespoke Area Data'!BB111","v":0},{"$f":"'Bespoke Area Data'!BC111","v":0},{"$f":"'Bespoke Area Data'!BD111","v":0},{"$f":"'Bespoke Area Data'!BE111","v":0},{"$f":"'Bespoke Area Data'!BF111","v":0},{"$f":"'Bespoke Area Data'!BG111","v":0},{"$f":"'Bespoke Area Data'!BH111","v":0},{"$f":"'Bespoke Area Data'!BI111","v":0},{"$f":"'Bespoke Area Data'!BJ111","v":0},{"$f":"'Bespoke Area Data'!BK111","v":0},{"$f":"'Bespoke Area Data'!BL111","v":0},{"$f":"'Bespoke Area Data'!BM111","v":0},{"$f":"'Bespoke Area Data'!BN111","v":0},{"$f":"'Bespoke Area Data'!BO111","v":0},{"$f":"'Bespoke Area Data'!BP111","v":0},{"$f":"'Bespoke Area Data'!BQ111","v":0},{"$f":"'Bespoke Area Data'!BR111","v":0},{"$f":"'Bespoke Area Data'!BS111","v":0},{"$f":"'Bespoke Area Data'!BT111","v":0},{"$f":"'Bespoke Area Data'!BU111","v":0},{"$f":"'Bespoke Area Data'!BV111","v":0},{"$f":"'Bespoke Area Data'!BW111","v":0},{"$f":"'Bespoke Area Data'!BX111","v":0},{"$f":"'Bespoke Area Data'!BY111","v":0},{"$f":"'Bespoke Area Data'!BZ111","v":0},{"$f":"'Bespoke Area Data'!CA111","v":0},{"$f":"'Bespoke Area Data'!CB111","v":0},{"$f":"'Bespoke Area Data'!CC111","v":0},{"$f":"'Bespoke Area Data'!CD111","v":0},{"$f":"'Bespoke Area Data'!CE111","v":0},{"$f":"'Bespoke Area Data'!CF111","v":0},{"$f":"'Bespoke Area Data'!CG111","v":0},{"$f":"'Bespoke Area Data'!CH111","v":0},{"$f":"'Bespoke Area Data'!CI111","v":0},{"$f":"'Bespoke Area Data'!CJ111","v":0},{"$f":"'Bespoke Area Data'!CK111","v":0},{"$f":"'Bespoke Area Data'!CL111","v":0},{"$f":"'Bespoke Area Data'!CM111","v":0},{"$f":"'Bespoke Area Data'!CN111","v":0},{"$f":"'Bespoke Area Data'!CO111","v":0},{"$f":"'Bespoke Area Data'!CP111","v":0},{"$f":"'Bespoke Area Data'!CQ111","v":0},{"$f":"'Bespoke Area Data'!CR111","v":0},{"$f":"'Bespoke Area Data'!CS111","v":0},{"$f":"'Bespoke Area Data'!CT111","v":0},{"$f":"'Bespoke Area Data'!CU111","v":0},{"$f":"'Bespoke Area Data'!CV111","v":0},{"$f":"'Bespoke Area Data'!CW111","v":0},{"$f":"'Bespoke Area Data'!CX111","v":0},{"$f":"'Bespoke Area Data'!CY111","v":0},{"$f":"'Bespoke Area Data'!CZ111","v":0},{"$f":"'Bespoke Area Data'!DA111","v":0},{"$f":"'Bespoke Area Data'!DB111","v":0},{"$f":"'Bespoke Area Data'!DC111","v":0},{"$f":"'Bespoke Area Data'!DD111","v":0},{"$f":"'Bespoke Area Data'!DE111","v":0},{"$f":"'Bespoke Area Data'!DF111","v":0},{"$f":"'Bespoke Area Data'!DG111","v":0},{"$f":"'Bespoke Area Data'!DH111","v":0},{"$f":"'Bespoke Area Data'!DI111","v":0}]
["Bespoke","N/A",{"$f":"IF('Bespoke Area Name'!C32=\"\",\"No bespoke area name entered; Go to sheet \"\"Bespoke Area Name\"\"\",'Bespoke Area Name'!C32)","v":"No bespoke area name entered; Go to sheet \"Bespoke Area Name\""},"AREA0029",{"$f":"'Bespoke Area Data'!D114","v":0},{"$f":"'Bespoke Area Data'!E114","v":0},{"$f":"'Bespoke Area Data'!F114","v":0},{"$f":"'Bespoke Area Data'!G114","v":0},{"$f":"'Bespoke Area Data'!H114","v":0},{"$f":"'Bespoke Area Data'!I114","v":0},{"$f":"'Bespoke Area Data'!J114","v":0},{"$f":"'Bespoke Area Data'!K114","v":0},{"$f":"'Bespoke Area Data'!L114","v":0},{"$f":"'Bespoke Area Data'!M114","v":0},{"$f":"'Bespoke Area Data'!N114","v":0},{"$f":"'Bespoke Area Data'!O114","v":0},{"$f":"'Bespoke Area Data'!P114","v":0},{"$f":"'Bespoke Area Data'!Q114","v":0},{"$f":"'Bespoke Area Data'!R114","v":0},{"$f":"'Bespoke Area Data'!S114","v":0},{"$f":"'Bespoke Area Data'!T114","v":0},{"$f":"'Bespoke Area Data'!U114","v":0},{"$f":"'Bespoke Area Data'!V114","v":0},{"$f":"'Bespoke Area Data'!W114","v":0},{"$f":"'Bespoke Area Data'!X114","v":0},{"$f":"'Bespoke Area Data'!Y114","v":0},{"$f":"'Bespoke Area Data'!Z114","v":0},{"$f":"'Bespoke Area Data'!AA114","v":0},{"$f":"'Bespoke Area Data'!AB114","v":0},{"$f":"'Bespoke Area Data'!AC114","v":0},{"$f":"'Bespoke Area Data'!AD114","v":0},{"$f":"'Bespoke Area Data'!AE114","v":0},{"$f":"'Bespoke Area Data'!AF114","v":0},{"$f":"'Bespoke Area Data'!AG114","v":0},{"$f":"'Bespoke Area Data'!AH114","v":0},{"$f":"'Bespoke Area Data'!AI114","v":0},{"$f":"'Bespoke Area Data'!AJ114","v":0},{"$f":"'Bespoke Area Data'!AK114","v":0},{"$f":"'Bespoke Area Data'!AL114","v":0},{"$f":"'Bespoke Area Data'!AM114","v":0},{"$f":"'Bespoke Area Data'!AN114","v":0},{"$f":"'Bespoke Area Data'!AO114","v":0},{"$f":"'Bespoke Area Data'!AP114","v":0},{"$f":"'Bespoke Area Data'!AQ114","v":0},{"$f":"'Bespoke Area Data'!AR114","v":0},{"$f":"'Bespoke Area Data'!AS114","v":0},{"$f":"'Bespoke Area Data'!AT114","v":0},{"$f":"'Bespoke Area Data'!AU114","v":0},{"$f":"'Bespoke Area Data'!AV114","v":0},{"$f":"'Bespoke Area Data'!AW114","v":0},{"$f":"'Bespoke Area Data'!AX114","v":0},{"$f":"'Bespoke Area Data'!AY114","v":0},{"$f":"'Bespoke Area Data'!AZ114","v":0},{"$f":"'Bespoke Area Data'!BA114","v":0},{"$f":"'Bespoke Area Data'!BB114","v":0},{"$f":"'Bespoke Area Data'!BC114","v":0},{"$f":"'Bespoke Area Data'!BD114","v":0},{"$f":"'Bespoke Area Data'!BE114","v":0},{"$f":"'Bespoke Area Data'!BF114","v":0},{"$f":"'Bespoke Area Data'!BG114","v":0},{"$f":"'Bespoke Area Data'!BH114","v":0},{"$f":"'Bespoke Area Data'!BI114","v":0},{"$f":"'Bespoke Area Data'!BJ114","v":0},{"$f":"'Bespoke Area Data'!BK114","v":0},{"$f":"'Bespoke Area Data'!BL114","v":0},{"$f":"'Bespoke Area Data'!BM114","v":0},{"$f":"'Bespoke Area Data'!BN114","v":0},{"$f":"'Bespoke Area Data'!BO114","v":0},{"$f":"'Bespoke Area Data'!BP114","v":0},{"$f":"'Bespoke Area Data'!BQ114","v":0},{"$f":"'Bespoke Area Data'!BR114","v":0},{"$f":"'Bespoke Area Data'!BS114","v":0},{"$f":"'Bespoke Area Data'!BT114","v":0},{"$f":"'Bespoke Area Data'!BU114","v":0},{"$f":"'Bespoke Area Data'!BV114","v":0},{"$f":"'Bespoke Area Data'!BW114","v":0},{"$f":"'Bespoke Area Data'!BX114","v":0},{"$f":"'Bespoke Area Data'!BY114","v":0},{"$f":"'Bespoke Area Data'!BZ114","v":0},{"$f":"'Bespoke Area Data'!CA114","v":0},{"$f":"'Bespoke Area Data'!CB114","v":0},{"$f":"'Bespoke Area Data'!CC114","v":0},{"$f":"'Bespoke Area Data'!CD114","v":0},{"$f":"'Bespoke Area Data'!CE114","v":0},{"$f":"'Bespoke Area Data'!CF114","v":0},{"$f":"'Bespoke Area Data'!CG114","v":0},{"$f":"'Bespoke Area Data'!CH114","v":0},{"$f":"'Bespoke Area Data'!CI114","v":0},{"$f":"'Bespoke Area Data'!CJ114","v":0},{"$f":"'Bespoke Area Data'!CK114","v":0},{"$f":"'Bespoke Area Data'!CL114","v":0},{"$f":"'Bespoke Area Data'!CM114","v":0},{"$f":"'Bespoke Area Data'!CN114","v":0},{"$f":"'Bespoke Area Data'!CO114","v":0},{"$f":"'Bespoke Area Data'!CP114","v":0},{"$f":"'Bespoke Area Data'!CQ114","v":0},{"$f":"'Bespoke Area Data'!CR114","v":0},{"$f":"'Bespoke Area Data'!CS114","v":0},{"$f":"'Bespoke Area Data'!CT114","v":0},{"$f":"'Bespoke Area Data'!CU114","v":0},{"$f":"'Bespoke Area Data'!CV114","v":0},{"$f":"'Bespoke Area Data'!CW114","v":0},{"$f":"'Bespoke Area Data'!CX114","v":0},{"$f":"'Bespoke Area Data'!CY114","v":0},{"$f":"'Bespoke Area Data'!CZ114","v":0},{"$f":"'Bespoke Area Data'!DA114","v":0},{"$f":"'Bespoke Area Data'!DB114","v":0},{"$f":"'Bespoke Area Data'!DC114","v":0},{"$f":"'Bespoke Area Data'!DD114","v":0},{"$f":"'Bespoke Area Data'!DE114","v":0},{"$f":"'Bespoke Area Data'!DF114","v":0},{"$f":"'Bespoke Area Data'!DG114","v":0},{"$f":"'Bespoke Area Data'!DH114","v":0},{"$f":"'Bespoke Area Data'!DI114","v":0},{"$f":"'Bespoke Area Data'!DJ114","v":0},{"$f":"'Bespoke Area Data'!DK114","v":0},{"$f":"'Bespoke Area Data'!DL114","v":0},{"$f":"'Bespoke Area Data'!DM114","v":0},{"$f":"'Bespoke Area Data'!DN114","v":0},{"$f":"'Bespoke Area Data'!DO114","v":0},{"$f":"'Bespoke Area Data'!DP114","v":0},{"$f":"'Bespoke Area Data'!DQ114","v":0},{"$f":"'Bespoke Area Data'!DR114","v":0},{"$f":"'Bespoke Area Data'!DS114","v":0},{"$f":"'Bespoke Area Data'!DT114","v":0},{"$f":"'Bespoke Area Data'!DU114","v":0},{"$f":"'Bespoke Area Data'!DV114","v":0},{"$f":"'Bespoke Area Data'!DW114","v":0},{"$f":"'Bespoke Area Data'!DX114","v":0},{"$f":"'Bespoke Area Data'!DY114","v":0},{"$f":"'Bespoke Area Data'!DZ114","v":0},{"$f":"'Bespoke Area Data'!EA114","v":0},{"$f":"'Bespoke Area Data'!EB114","v":0},{"$f":"'Bespoke Area Data'!EC114","v":0},{"$f":"'Bespoke Area Data'!ED114","v":0},{"$f":"'Bespoke Area Data'!EE114","v":0},{"$f":"'Bespoke Area Data'!EF114","v":0},{"$f":"'Bespoke Area Data'!EG114","v":0},{"$f":"'Bespoke Area Data'!EH114","v":0},{"$f":"'Bespoke Area Data'!D115","v":0},{"$f":"'Bespoke Area Data'!E115","v":0},{"$f":"'Bespoke Area Data'!F115","v":0},{"$f":"'Bespoke Area Data'!G115","v":0},{"$f":"'Bespoke Area Data'!H115","v":0},{"$f":"'Bespoke Area Data'!I115","v":0},{"$f":"'Bespoke Area Data'!J115","v":0},{"$f":"'Bespoke Area Data'!K115","v":0},{"$f":"'Bespoke Area Data'!L115","v":0},{"$f":"'Bespoke Area Data'!M115","v":0},{"$f":"'Bespoke Area Data'!N115","v":0},{"$f":"'Bespoke Area Data'!O115","v":0},{"$f":"'Bespoke Area Data'!P115","v":0},{"$f":"'Bespoke Area Data'!Q115","v":0},{"$f":"'Bespoke Area Data'!R115","v":0},{"$f":"'Bespoke Area Data'!S115","v":0},{"$f":"'Bespoke Area Data'!T115","v":0},{"$f":"'Bespoke Area Data'!U115","v":0},{"$f":"'Bespoke Area Data'!V115","v":0},{"$f":"'Bespoke Area Data'!W115","v":0},{"$f":"'Bespoke Area Data'!X115","v":0},{"$f":"'Bespoke Area Data'!Y115","v":0},{"$f":"'Bespoke Area Data'!Z115","v":0},{"$f":"'Bespoke Area Data'!AA115","v":0},{"$f":"'Bespoke Area Data'!AB115","v":0},{"$f":"'Bespoke Area Data'!AC115","v":0},{"$f":"'Bespoke Area Data'!AD115","v":0},{"$f":"'Bespoke Area Data'!AE115","v":0},{"$f":"'Bespoke Area Data'!AF115","v":0},{"$f":"'Bespoke Area Data'!AG115","v":0},{"$f":"'Bespoke Area Data'!AH115","v":0},{"$f":"'Bespoke Area Data'!AI115","v":0},{"$f":"'Bespoke Area Data'!AJ115","v":0},{"$f":"'Bespoke Area Data'!AK115","v":0},{"$f":"'Bespoke Area Data'!AL115","v":0},{"$f":"'Bespoke Area Data'!AM115","v":0},{"$f":"'Bespoke Area Data'!AN115","v":0},{"$f":"'Bespoke Area Data'!AO115","v":0},{"$f":"'Bespoke Area Data'!AP115","v":0},{"$f":"'Bespoke Area Data'!AQ115","v":0},{"$f":"'Bespoke Area Data'!AR115","v":0},{"$f":"'Bespoke Area Data'!AS115","v":0},{"$f":"'Bespoke Area Data'!AT115","v":0},{"$f":"'Bespoke Area Data'!AU115","v":0},{"$f":"'Bespoke Area Data'!AV115","v":0},{"$f":"'Bespoke Area Data'!AW115","v":0},{"$f":"'Bespoke Area Data'!AX115","v":0},{"$f":"'Bespoke Area Data'!AY115","v":0},{"$f":"'Bespoke Area Data'!AZ115","v":0},{"$f":"'Bespoke Area Data'!BA115","v":0},{"$f":"'Bespoke Area Data'!BB115","v":0},{"$f":"'Bespoke Area Data'!BC115","v":0},{"$f":"'Bespoke Area Data'!BD115","v":0},{"$f":"'Bespoke Area Data'!BE115","v":0},{"$f":"'Bespoke Area Data'!BF115","v":0},{"$f":"'Bespoke Area Data'!BG115","v":0},{"$f":"'Bespoke Area Data'!BH115","v":0},{"$f":"'Bespoke Area Data'!BI115","v":0},{"$f":"'Bespoke Area Data'!BJ115","v":0},{"$f":"'Bespoke Area Data'!BK115","v":0},{"$f":"'Bespoke Area Data'!BL115","v":0},{"$f":"'Bespoke Area Data'!BM115","v":0},{"$f":"'Bespoke Area Data'!BN115","v":0},{"$f":"'Bespoke Area Data'!BO115","v":0},{"$f":"'Bespoke Area Data'!BP115","v":0},{"$f":"'Bespoke Area Data'!BQ115","v":0},{"$f":"'Bespoke Area Data'!BR115","v":0},{"$f":"'Bespoke Area Data'!BS115","v":0},{"$f":"'Bespoke Area Data'!BT115","v":0},{"$f":"'Bespoke Area Data'!BU115","v":0},{"$f":"'Bespoke Area Data'!BV115","v":0},{"$f":"'Bespoke Area Data'!BW115","v":0},{"$f":"'Bespoke Area Data'!BX115","v":0},{"$f":"'Bespoke Area Data'!BY115","v":0},{"$f":"'Bespoke Area Data'!BZ115","v":0},{"$f":"'Bespoke Area Data'!CA115","v":0},{"$f":"'Bespoke Area Data'!CB115","v":0},{"$f":"'Bespoke Area Data'!CC115","v":0},{"$f":"'Bespoke Area Data'!CD115","v":0},{"$f":"'Bespoke Area Data'!CE115","v":0},{"$f":"'Bespoke Area Data'!CF115","v":0},{"$f":"'Bespoke Area Data'!CG115","v":0},{"$f":"'Bespoke Area Data'!CH115","v":0},{"$f":"'Bespoke Area Data'!CI115","v":0},{"$f":"'Bespoke Area Data'!CJ115","v":0},{"$f":"'Bespoke Area Data'!CK115","v":0},{"$f":"'Bespoke Area Data'!CL115","v":0},{"$f":"'Bespoke Area Data'!CM115","v":0},{"$f":"'Bespoke Area Data'!CN115","v":0},{"$f":"'Bespoke Area Data'!CO115","v":0},{"$f":"'Bespoke Area Data'!CP115","v":0},{"$f":"'Bespoke Area Data'!CQ115","v":0},{"$f":"'Bespoke Area Data'!CR115","v":0},{"$f":"'Bespoke Area Data'!CS115","v":0},{"$f":"'Bespoke Area Data'!CT115","v":0},{"$f":"'Bespoke Area Data'!CU115","v":0},{"$f":"'Bespoke Area Data'!CV115","v":0},{"$f":"'Bespoke Area Data'!CW115","v":0},{"$f":"'Bespoke Area Data'!CX115","v":0},{"$f":"'Bespoke Area Data'!CY115","v":0},{"$f":"'Bespoke Area Data'!CZ115","v":0},{"$f":"'Bespoke Area Data'!DA115","v":0},{"$f":"'Bespoke Area Data'!DB115","v":0},{"$f":"'Bespoke Area Data'!DC115","v":0},{"$f":"'Bespoke Area Data'!DD115","v":0},{"$f":"'Bespoke Area Data'!DE115","v":0},{"$f":"'Bespoke Area Data'!DF115","v":0},{"$f":"'Bespoke Area Data'!DG115","v":0},{"$f":"'Bespoke Area Data'!DH115","v":0},{"$f":"'Bespoke Area Data'!DI115","v":0}]
["Bespoke","N/A",{"$f":"IF('Bespoke Area Name'!C33=\"\",\"No bespoke area name entered; Go to sheet \"\"Bespoke Area Name\"\"\",'Bespoke Area Name'!C33)","v":"No bespoke area name entered; Go to sheet \"Bespoke Area Name\""},"AREA0030",{"$f":"'Bespoke Area Data'!D118","v":0},{"$f":"'Bespoke Area Data'!E118","v":0},{"$f":"'Bespoke Area Data'!F118","v":0},{"$f":"'Bespoke Area Data'!G118","v":0},{"$f":"'Bespoke Area Data'!H118","v":0},{"$f":"'Bespoke Area Data'!I118","v":0},{"$f":"'Bespoke Area Data'!J118","v":0},{"$f":"'Bespoke Area Data'!K118","v":0},{"$f":"'Bespoke Area Data'!L118","v":0},{"$f":"'Bespoke Area Data'!M118","v":0},{"$f":"'Bespoke Area Data'!N118","v":0},{"$f":"'Bespoke Area Data'!O118","v":0},{"$f":"'Bespoke Area Data'!P118","v":0},{"$f":"'Bespoke Area Data'!Q118","v":0},{"$f":"'Bespoke Area Data'!R118","v":0},{"$f":"'Bespoke Area Data'!S118","v":0},{"$f":"'Bespoke Area Data'!T118","v":0},{"$f":"'Bespoke Area Data'!U118","v":0},{"$f":"'Bespoke Area Data'!V118","v":0},{"$f":"'Bespoke Area Data'!W118","v":0},{"$f":"'Bespoke Area Data'!X118","v":0},{"$f":"'Bespoke Area Data'!Y118","v":0},{"$f":"'Bespoke Area Data'!Z118","v":0},{"$f":"'Bespoke Area Data'!AA118","v":0},{"$f":"'Bespoke Area Data'!AB118","v":0},{"$f":"'Bespoke Area Data'!AC118","v":0},{"$f":"'Bespoke Area Data'!AD118","v":0},{"$f":"'Bespoke Area Data'!AE118","v":0},{"$f":"'Bespoke Area Data'!AF118","v":0},{"$f":"'Bespoke Area Data'!AG118","v":0},{"$f":"'Bespoke Area Data'!AH118","v":0},{"$f":"'Bespoke Area Data'!AI118","v":0},{"$f":"'Bespoke Area Data'!AJ118","v":0},{"$f":"'Bespoke Area Data'!AK118","v":0},{"$f":"'Bespoke Area Data'!AL118","v":0},{"$f":"'Bespoke Area Data'!AM118","v":0},{"$f":"'Bespoke Area Data'!AN118","v":0},{"$f":"'Bespoke Area Data'!AO118","v":0},{"$f":"'Bespoke Area Data'!AP118","v":0},{"$f":"'Bespoke Area Data'!AQ118","v":0},{"$f":"'Bespoke Area Data'!AR118","v":0},{"$f":"'Bespoke Area Data'!AS118","v":0},{"$f":"'Bespoke Area Data'!AT118","v":0},{"$f":"'Bespoke Area Data'!AU118","v":0},{"$f":"'Bespoke Area Data'!AV118","v":0},{"$f":"'Bespoke Area Data'!AW118","v":0},{"$f":"'Bespoke Area Data'!AX118","v":0},{"$f":"'Bespoke Area Data'!AY118","v":0},{"$f":"'Bespoke Area Data'!AZ118","v":0},{"$f":"'Bespoke Area Data'!BA118","v":0},{"$f":"'Bespoke Area Data'!BB118","v":0},{"$f":"'Bespoke Area Data'!BC118","v":0},{"$f":"'Bespoke Area Data'!BD118","v":0},{"$f":"'Bespoke Area Data'!BE118","v":0},{"$f":"'Bespoke Area Data'!BF118","v":0},{"$f":"'Bespoke Area Data'!BG118","v":0},{"$f":"'Bespoke Area Data'!BH118","v":0},{"$f":"'Bespoke Area Data'!BI118","v":0},{"$f":"'Bespoke Area Data'!BJ118","v":0},{"$f":"'Bespoke Area Data'!BK118","v":0},{"$f":"'Bespoke Area Data'!BL118","v":0},{"$f":"'Bespoke Area Data'!BM118","v":0},{"$f":"'Bespoke Area Data'!BN118","v":0},{"$f":"'Bespoke Area Data'!BO118","v":0},{"$f":"'Bespoke Area Data'!BP118","v":0},{"$f":"'Bespoke Area Data'!BQ118","v":0},{"$f":"'Bespoke Area Data'!BR118","v":0},{"$f":"'Bespoke Area Data'!BS118","v":0},{"$f":"'Bespoke Area Data'!BT118","v":0},{"$f":"'Bespoke Area Data'!BU118","v":0},{"$f":"'Bespoke Area Data'!BV118","v":0},{"$f":"'Bespoke Area Data'!BW118","v":0},{"$f":"'Bespoke Area Data'!BX118","v":0},{"$f":"'Bespoke Area Data'!BY118","v":0},{"$f":"'Bespoke Area Data'!BZ118","v":0},{"$f":"'Bespoke Area Data'!CA118","v":0},{"$f":"'Bespoke Area Data'!CB118","v":0},{"$f":"'Bespoke Area Data'!CC118","v":0},{"$f":"'Bespoke Area Data'!CD118","v":0},{"$f":"'Bespoke Area Data'!CE118","v":0},{"$f":"'Bespoke Area Data'!CF118","v":0},{"$f":"'Bespoke Area Data'!CG118","v":0},{"$f":"'Bespoke Area Data'!CH118","v":0},{"$f":"'Bespoke Area Data'!CI118","v":0},{"$f":"'Bespoke Area Data'!CJ118","v":0},{"$f":"'Bespoke Area Data'!CK118","v":0},{"$f":"'Bespoke Area Data'!CL118","v":0},{"$f":"'Bespoke Area Data'!CM118","v":0},{"$f":"'Bespoke Area Data'!CN118","v":0},{"$f":"'Bespoke Area Data'!CO118","v":0},{"$f":"'Bespoke Area Data'!CP118","v":0},{"$f":"'Bespoke Area Data'!CQ118","v":0},{"$f":"'Bespoke Area Data'!CR118","v":0},{"$f":"'Bespoke Area Data'!CS118","v":0},{"$f":"'Bespoke Area Data'!CT118","v":0},{"$f":"'Bespoke Area Data'!CU118","v":0},{"$f":"'Bespoke Area Data'!CV118","v":0},{"$f":"'Bespoke Area Data'!CW118","v":0},{"$f":"'Bespoke Area Data'!CX118","v":0},{"$f":"'Bespoke Area Data'!CY118","v":0},{"$f":"'Bespoke Area Data'!CZ118","v":0},{"$f":"'Bespoke Area Data'!DA118","v":0},{"$f":"'Bespoke Area Data'!DB118","v":0},{"$f":"'Bespoke Area Data'!DC118","v":0},{"$f":"'Bespoke Area Data'!DD118","v":0},{"$f":"'Bespoke Area Data'!DE118","v":0},{"$f":"'Bespoke Area Data'!DF118","v":0},{"$f":"'Bespoke Area Data'!DG118","v":0},{"$f":"'Bespoke Area Data'!DH118","v":0},{"$f":"'Bespoke Area Data'!DI118","v":0},{"$f":"'Bespoke Area Data'!DJ118","v":0},{"$f":"'Bespoke Area Data'!DK118","v":0},{"$f":"'Bespoke Area Data'!DL118","v":0},{"$f":"'Bespoke Area Data'!DM118","v":0},{"$f":"'Bespoke Area Data'!DN118","v":0},{"$f":"'Bespoke Area Data'!DO118","v":0},{"$f":"'Bespoke Area Data'!DP118","v":0},{"$f":"'Bespoke Area Data'!DQ118","v":0},{"$f":"'Bespoke Area Data'!DR118","v":0},{"$f":"'Bespoke Area Data'!DS118","v":0},{"$f":"'Bespoke Area Data'!DT118","v":0},{"$f":"'Bespoke Area Data'!DU118","v":0},{"$f":"'Bespoke Area Data'!DV118","v":0},{"$f":"'Bespoke Area Data'!DW118","v":0},{"$f":"'Bespoke Area Data'!DX118","v":0},{"$f":"'Bespoke Area Data'!DY118","v":0},{"$f":"'Bespoke Area Data'!DZ118","v":0},{"$f":"'Bespoke Area Data'!EA118","v":0},{"$f":"'Bespoke Area Data'!EB118","v":0},{"$f":"'Bespoke Area Data'!EC118","v":0},{"$f":"'Bespoke Area Data'!ED118","v":0},{"$f":"'Bespoke Area Data'!EE118","v":0},{"$f":"'Bespoke Area Data'!EF118","v":0},{"$f":"'Bespoke Area Data'!EG118","v":0},{"$f":"'Bespoke Area Data'!EH118","v":0},{"$f":"'Bespoke Area Data'!D119","v":0},{"$f":"'Bespoke Area Data'!E119","v":0},{"$f":"'Bespoke Area Data'!F119","v":0},{"$f":"'Bespoke Area Data'!G119","v":0},{"$f":"'Bespoke Area Data'!H119","v":0},{"$f":"'Bespoke Area Data'!I119","v":0},{"$f":"'Bespoke Area Data'!J119","v":0},{"$f":"'Bespoke Area Data'!K119","v":0},{"$f":"'Bespoke Area Data'!L119","v":0},{"$f":"'Bespoke Area Data'!M119","v":0},{"$f":"'Bespoke Area Data'!N119","v":0},{"$f":"'Bespoke Area Data'!O119","v":0},{"$f":"'Bespoke Area Data'!P119","v":0},{"$f":"'Bespoke Area Data'!Q119","v":0},{"$f":"'Bespoke Area Data'!R119","v":0},{"$f":"'Bespoke Area Data'!S119","v":0},{"$f":"'Bespoke Area Data'!T119","v":0},{"$f":"'Bespoke Area Data'!U119","v":0},{"$f":"'Bespoke Area Data'!V119","v":0},{"$f":"'Bespoke Area Data'!W119","v":0},{"$f":"'Bespoke Area Data'!X119","v":0},{"$f":"'Bespoke Area Data'!Y119","v":0},{"$f":"'Bespoke Area Data'!Z119","v":0},{"$f":"'Bespoke Area Data'!AA119","v":0},{"$f":"'Bespoke Area Data'!AB119","v":0},{"$f":"'Bespoke Area Data'!AC119","v":0},{"$f":"'Bespoke Area Data'!AD119","v":0},{"$f":"'Bespoke Area Data'!AE119","v":0},{"$f":"'Bespoke Area Data'!AF119","v":0},{"$f":"'Bespoke Area Data'!AG119","v":0},{"$f":"'Bespoke Area Data'!AH119","v":0},{"$f":"'Bespoke Area Data'!AI119","v":0},{"$f":"'Bespoke Area Data'!AJ119","v":0},{"$f":"'Bespoke Area Data'!AK119","v":0},{"$f":"'Bespoke Area Data'!AL119","v":0},{"$f":"'Bespoke Area Data'!AM119","v":0},{"$f":"'Bespoke Area Data'!AN119","v":0},{"$f":"'Bespoke Area Data'!AO119","v":0},{"$f":"'Bespoke Area Data'!AP119","v":0},{"$f":"'Bespoke Area Data'!AQ119","v":0},{"$f":"'Bespoke Area Data'!AR119","v":0},{"$f":"'Bespoke Area Data'!AS119","v":0},{"$f":"'Bespoke Area Data'!AT119","v":0},{"$f":"'Bespoke Area Data'!AU119","v":0},{"$f":"'Bespoke Area Data'!AV119","v":0},{"$f":"'Bespoke Area Data'!AW119","v":0},{"$f":"'Bespoke Area Data'!AX119","v":0},{"$f":"'Bespoke Area Data'!AY119","v":0},{"$f":"'Bespoke Area Data'!AZ119","v":0},{"$f":"'Bespoke Area Data'!BA119","v":0},{"$f":"'Bespoke Area Data'!BB119","v":0},{"$f":"'Bespoke Area Data'!BC119","v":0},{"$f":"'Bespoke Area Data'!BD119","v":0},{"$f":"'Bespoke Area Data'!BE119","v":0},{"$f":"'Bespoke Area Data'!BF119","v":0},{"$f":"'Bespoke Area Data'!BG119","v":0},{"$f":"'Bespoke Area Data'!BH119","v":0},{"$f":"'Bespoke Area Data'!BI119","v":0},{"$f":"'Bespoke Area Data'!BJ119","v":0},{"$f":"'Bespoke Area Data'!BK119","v":0},{"$f":"'Bespoke Area Data'!BL119","v":0},{"$f":"'Bespoke Area Data'!BM119","v":0},{"$f":"'Bespoke Area Data'!BN119","v":0},{"$f":"'Bespoke Area Data'!BO119","v":0},{"$f":"'Bespoke Area Data'!BP119","v":0},{"$f":"'Bespoke Area Data'!BQ119","v":0},{"$f":"'Bespoke Area Data'!BR119","v":0},{"$f":"'Bespoke Area Data'!BS119","v":0},{"$f":"'Bespoke Area Data'!BT119","v":0},{"$f":"'Bespoke Area Data'!BU119","v":0},{"$f":"'Bespoke Area Data'!BV119","v":0},{"$f":"'Bespoke Area Data'!BW119","v":0},{"$f":"'Bespoke Area Data'!BX119","v":0},{"$f":"'Bespoke Area Data'!BY119","v":0},{"$f":"'Bespoke Area Data'!BZ119","v":0},{"$f":"'Bespoke Area Data'!CA119","v":0},{"$f":"'Bespoke Area Data'!CB119","v":0},{"$f":"'Bespoke Area Data'!CC119","v":0},{"$f":"'Bespoke Area Data'!CD119","v":0},{"$f":"'Bespoke Area Data'!CE119","v":0},{"$f":"'Bespoke Area Data'!CF119","v":0},{"$f":"'Bespoke Area Data'!CG119","v":0},{"$f":"'Bespoke Area Data'!CH119","v":0},{"$f":"'Bespoke Area Data'!CI119","v":0},{"$f":"'Bespoke Area Data'!CJ119","v":0},{"$f":"'Bespoke Area Data'!CK119","v":0},{"$f":"'Bespoke Area Data'!CL119","v":0},{"$f":"'Bespoke Area Data'!CM119","v":0},{"$f":"'Bespoke Area Data'!CN119","v":0},{"$f":"'Bespoke Area Data'!CO119","v":0},{"$f":"'Bespoke Area Data'!CP119","v":0},{"$f":"'Bespoke Area Data'!CQ119","v":0},{"$f":"'Bespoke Area Data'!CR119","v":0},{"$f":"'Bespoke Area Data'!CS119","v":0},{"$f":"'Bespoke Area Data'!CT119","v":0},{"$f":"'Bespoke Area Data'!CU119","v":0},{"$f":"'Bespoke Area Data'!CV119","v":0},{"$f":"'Bespoke Area Data'!CW119","v":0},{"$f":"'Bespoke Area Data'!CX119","v":0},{"$f":"'Bespoke Area Data'!CY119","v":0},{"$f":"'Bespoke Area Data'!CZ119","v":0},{"$f":"'Bespoke Area Data'!DA119","v":0},{"$f":"'Bespoke Area Data'!DB119","v":0},{"$f":"'Bespoke Area Data'!DC119","v":0},{"$f":"'Bespoke Area Data'!DD119","v":0},{"$f":"'Bespoke Area Data'!DE119","v":0},{"$f":"'Bespoke Area Data'!DF119","v":0},{"$f":"'Bespoke Area Data'!DG119","v":0},{"$f":"'Bespoke Area Data'!DH119","v":0},{"$f":"'Bespoke Area Data'!DI119","v":0}]
["Bespoke","N/A",{"$f":"IF('Bespoke Area Name'!C34=\"\",\"No bespoke area name entered; Go to sheet \"\"Bespoke Area Name\"\"\",'Bespoke Area Name'!C34)","v":"No bespoke area name entered; Go to sheet \"Bespoke Area Name\""},"AREA0031",{"$f":"'Bespoke Area Data'!D122","v":0},{"$f":"'Bespoke Area Data'!E122","v":0},{"$f":"'Bespoke Area Data'!F122","v":0},{"$f":"'Bespoke Area Data'!G122","v":0},{"$f":"'Bespoke Area Data'!H122","v":0},{"$f":"'Bespoke Area Data'!I122","v":0},{"$f":"'Bespoke Area Data'!J122","v":0},{"$f":"'Bespoke Area Data'!K122","v":0},{"$f":"'Bespoke Area Data'!L122","v":0},{"$f":"'Bespoke Area Data'!M122","v":0},{"$f":"'Bespoke Area Data'!N122","v":0},{"$f":"'Bespoke Area Data'!O122","v":0},{"$f":"'Bespoke Area Data'!P122","v":0},{"$f":"'Bespoke Area Data'!Q122","v":0},{"$f":"'Bespoke Area Data'!R122","v":0},{"$f":"'Bespoke Area Data'!S122","v":0},{"$f":"'Bespoke Area Data'!T122","v":0},{"$f":"'Bespoke Area Data'!U122","v":0},{"$f":"'Bespoke Area Data'!V122","v":0},{"$f":"'Bespoke Area Data'!W122","v":0},{"$f":"'Bespoke Area Data'!X122","v":0},{"$f":"'Bespoke Area Data'!Y122","v":0},{"$f":"'Bespoke Area Data'!Z122","v":0},{"$f":"'Bespoke Area Data'!AA122","v":0},{"$f":"'Bespoke Area Data'!AB122","v":0},{"$f":"'Bespoke Area Data'!AC122","v":0},{"$f":"'Bespoke Area Data'!AD122","v":0},{"$f":"'Bespoke Area Data'!AE122","v":0},{"$f":"'Bespoke Area Data'!AF122","v":0},{"$f":"'Bespoke Area Data'!AG122","v":0},{"$f":"'Bespoke Area Data'!AH122","v":0},{"$f":"'Bespoke Area Data'!AI122","v":0},{"$f":"'Bespoke Area Data'!AJ122","v":0},{"$f":"'Bespoke Area Data'!AK122","v":0},{"$f":"'Bespoke Area Data'!AL122","v":0},{"$f":"'Bespoke Area Data'!AM122","v":0},{"$f":"'Bespoke Area Data'!AN122","v":0},{"$f":"'Bespoke Area Data'!AO122","v":0},{"$f":"'Bespoke Area Data'!AP122","v":0},{"$f":"'Bespoke Area Data'!AQ122","v":0},{"$f":"'Bespoke Area Data'!AR122","v":0},{"$f":"'Bespoke Area Data'!AS122","v":0},{"$f":"'Bespoke Area Data'!AT122","v":0},{"$f":"'Bespoke Area Data'!AU122","v":0},{"$f":"'Bespoke Area Data'!AV122","v":0},{"$f":"'Bespoke Area Data'!AW122","v":0},{"$f":"'Bespoke Area Data'!AX122","v":0},{"$f":"'Bespoke Area Data'!AY122","v":0},{"$f":"'Bespoke Area Data'!AZ122","v":0},{"$f":"'Bespoke Area Data'!BA122","v":0},{"$f":"'Bespoke Area Data'!BB122","v":0},{"$f":"'Bespoke Area Data'!BC122","v":0},{"$f":"'Bespoke Area Data'!BD122","v":0},{"$f":"'Bespoke Area Data'!BE122","v":0},{"$f":"'Bespoke Area Data'!BF122","v":0},{"$f":"'Bespoke Area Data'!BG122","v":0},{"$f":"'Bespoke Area Data'!BH122","v":0},{"$f":"'Bespoke Area Data'!BI122","v":0},{"$f":"'Bespoke Area Data'!BJ122","v":0},{"$f":"'Bespoke Area Data'!BK122","v":0},{"$f":"'Bespoke Area Data'!BL122","v":0},{"$f":"'Bespoke Area Data'!BM122","v":0},{"$f":"'Bespoke Area Data'!BN122","v":0},{"$f":"'Bespoke Area Data'!BO122","v":0},{"$f":"'Bespoke Area Data'!BP122","v":0},{"$f":"'Bespoke Area Data'!BQ122","v":0},{"$f":"'Bespoke Area Data'!BR122","v":0},{"$f":"'Bespoke Area Data'!BS122","v":0},{"$f":"'Bespoke Area Data'!BT122","v":0},{"$f":"'Bespoke Area Data'!BU122","v":0},{"$f":"'Bespoke Area Data'!BV122","v":0},{"$f":"'Bespoke Area Data'!BW122","v":0},{"$f":"'Bespoke Area Data'!BX122","v":0},{"$f":"'Bespoke Area Data'!BY122","v":0},{"$f":"'Bespoke Area Data'!BZ122","v":0},{"$f":"'Bespoke Area Data'!CA122","v":0},{"$f":"'Bespoke Area Data'!CB122","v":0},{"$f":"'Bespoke Area Data'!CC122","v":0},{"$f":"'Bespoke Area Data'!CD122","v":0},{"$f":"'Bespoke Area Data'!CE122","v":0},{"$f":"'Bespoke Area Data'!CF122","v":0},{"$f":"'Bespoke Area Data'!CG122","v":0},{"$f":"'Bespoke Area Data'!CH122","v":0},{"$f":"'Bespoke Area Data'!CI122","v":0},{"$f":"'Bespoke Area Data'!CJ122","v":0},{"$f":"'Bespoke Area Data'!CK122","v":0},{"$f":"'Bespoke Area Data'!CL122","v":0},{"$f":"'Bespoke Area Data'!CM122","v":0},{"$f":"'Bespoke Area Data'!CN122","v":0},{"$f":"'Bespoke Area Data'!CO122","v":0},{"$f":"'Bespoke Area Data'!CP122","v":0},{"$f":"'Bespoke Area Data'!CQ122","v":0},{"$f":"'Bespoke Area Data'!CR122","v":0},{"$f":"'Bespoke Area Data'!CS122","v":0},{"$f":"'Bespoke Area Data'!CT122","v":0},{"$f":"'Bespoke Area Data'!CU122","v":0},{"$f":"'Bespoke Area Data'!CV122","v":0},{"$f":"'Bespoke Area Data'!CW122","v":0},{"$f":"'Bespoke Area Data'!CX122","v":0},{"$f":"'Bespoke Area Data'!CY122","v":0},{"$f":"'Bespoke Area Data'!CZ122","v":0},{"$f":"'Bespoke Area Data'!DA122","v":0},{"$f":"'Bespoke Area Data'!DB122","v":0},{"$f":"'Bespoke Area Data'!DC122","v":0},{"$f":"'Bespoke Area Data'!DD122","v":0},{"$f":"'Bespoke Area Data'!DE122","v":0},{"$f":"'Bespoke Area Data'!DF122","v":0},{"$f":"'Bespoke Area Data'!DG122","v":0},{"$f":"'Bespoke Area Data'!DH122","v":0},{"$f":"'Bespoke Area Data'!DI122","v":0},{"$f":"'Bespoke Area Data'!DJ122","v":0},{"$f":"'Bespoke Area Data'!DK122","v":0},{"$f":"'Bespoke Area Data'!DL122","v":0},{"$f":"'Bespoke Area Data'!DM122","v":0},{"$f":"'Bespoke Area Data'!DN122","v":0},{"$f":"'Bespoke Area Data'!DO122","v":0},{"$f":"'Bespoke Area Data'!DP122","v":0},{"$f":"'Bespoke Area Data'!DQ122","v":0},{"$f":"'Bespoke Area Data'!DR122","v":0},{"$f":"'Bespoke Area Data'!DS122","v":0},{"$f":"'Bespoke Area Data'!DT122","v":0},{"$f":"'Bespoke Area Data'!DU122","v":0},{"$f":"'Bespoke Area Data'!DV122","v":0},{"$f":"'Bespoke Area Data'!DW122","v":0},{"$f":"'Bespoke Area Data'!DX122","v":0},{"$f":"'Bespoke Area Data'!DY122","v":0},{"$f":"'Bespoke Area Data'!DZ122","v":0},{"$f":"'Bespoke Area Data'!EA122","v":0},{"$f":"'Bespoke Area Data'!EB122","v":0},{"$f":"'Bespoke Area Data'!EC122","v":0},{"$f":"'Bespoke Area Data'!ED122","v":0},{"$f":"'Bespoke Area Data'!EE122","v":0},{"$f":"'Bespoke Area Data'!EF122","v":0},{"$f":"'Bespoke Area Data'!EG122","v":0},{"$f":"'Bespoke Area Data'!EH122","v":0},{"$f":"'Bespoke Area Data'!D123","v":0},{"$f":"'Bespoke Area Data'!E123","v":0},{"$f":"'Bespoke Area Data'!F123","v":0},{"$f":"'Bespoke Area Data'!G123","v":0},{"$f":"'Bespoke Area Data'!H123","v":0},{"$f":"'Bespoke Area Data'!I123","v":0},{"$f":"'Bespoke Area Data'!J123","v":0},{"$f":"'Bespoke Area Data'!K123","v":0},{"$f":"'Bespoke Area Data'!L123","v":0},{"$f":"'Bespoke Area Data'!M123","v":0},{"$f":"'Bespoke Area Data'!N123","v":0},{"$f":"'Bespoke Area Data'!O123","v":0},{"$f":"'Bespoke Area Data'!P123","v":0},{"$f":"'Bespoke Area Data'!Q123","v":0},{"$f":"'Bespoke Area Data'!R123","v":0},{"$f":"'Bespoke Area Data'!S123","v":0},{"$f":"'Bespoke Area Data'!T123","v":0},{"$f":"'Bespoke Area Data'!U123","v":0},{"$f":"'Bespoke Area Data'!V123","v":0},{"$f":"'Bespoke Area Data'!W123","v":0},{"$f":"'Bespoke Area Data'!X123","v":0},{"$f":"'Bespoke Area Data'!Y123","v":0},{"$f":"'Bespoke Area Data'!Z123","v":0},{"$f":"'Bespoke Area Data'!AA123","v":0},{"$f":"'Bespoke Area Data'!AB123","v":0},{"$f":"'Bespoke Area Data'!AC123","v":0},{"$f":"'Bespoke Area Data'!AD123","v":0},{"$f":"'Bespoke Area Data'!AE123","v":0},{"$f":"'Bespoke Area Data'!AF123","v":0},{"$f":"'Bespoke Area Data'!AG123","v":0},{"$f":"'Bespoke Area Data'!AH123","v":0},{"$f":"'Bespoke Area Data'!AI123","v":0},{"$f":"'Bespoke Area Data'!AJ123","v":0},{"$f":"'Bespoke Area Data'!AK123","v":0},{"$f":"'Bespoke Area Data'!AL123","v":0},{"$f":"'Bespoke Area Data'!AM123","v":0},{"$f":"'Bespoke Area Data'!AN123","v":0},{"$f":"'Bespoke Area Data'!AO123","v":0},{"$f":"'Bespoke Area Data'!AP123","v":0},{"$f":"'Bespoke Area Data'!AQ123","v":0},{"$f":"'Bespoke Area Data'!AR123","v":0},{"$f":"'Bespoke Area Data'!AS123","v":0},{"$f":"'Bespoke Area Data'!AT123","v":0},{"$f":"'Bespoke Area Data'!AU123","v":0},{"$f":"'Bespoke Area Data'!AV123","v":0},{"$f":"'Bespoke Area Data'!AW123","v":0},{"$f":"'Bespoke Area Data'!AX123","v":0},{"$f":"'Bespoke Area Data'!AY123","v":0},{"$f":"'Bespoke Area Data'!AZ123","v":0},{"$f":"'Bespoke Area Data'!BA123","v":0},{"$f":"'Bespoke Area Data'!BB123","v":0},{"$f":"'Bespoke Area Data'!BC123","v":0},{"$f":"'Bespoke Area Data'!BD123","v":0},{"$f":"'Bespoke Area Data'!BE123","v":0},{"$f":"'Bespoke Area Data'!BF123","v":0},{"$f":"'Bespoke Area Data'!BG123","v":0},{"$f":"'Bespoke Area Data'!BH123","v":0},{"$f":"'Bespoke Area Data'!BI123","v":0},{"$f":"'Bespoke Area Data'!BJ123","v":0},{"$f":"'Bespoke Area Data'!BK123","v":0},{"$f":"'Bespoke Area Data'!BL123","v":0},{"$f":"'Bespoke Area Data'!BM123","v":0},{"$f":"'Bespoke Area Data'!BN123","v":0},{"$f":"'Bespoke Area Data'!BO123","v":0},{"$f":"'Bespoke Area Data'!BP123","v":0},{"$f":"'Bespoke Area Data'!BQ123","v":0},{"$f":"'Bespoke Area Data'!BR123","v":0},{"$f":"'Bespoke Area Data'!BS123","v":0},{"$f":"'Bespoke Area Data'!BT123","v":0},{"$f":"'Bespoke Area Data'!BU123","v":0},{"$f":"'Bespoke Area Data'!BV123","v":0},{"$f":"'Bespoke Area Data'!BW123","v":0},{"$f":"'Bespoke Area Data'!BX123","v":0},{"$f":"'Bespoke Area Data'!BY123","v":0},{"$f":"'Bespoke Area Data'!BZ123","v":0},{"$f":"'Bespoke Area Data'!CA123","v":0},{"$f":"'Bespoke Area Data'!CB123","v":0},{"$f":"'Bespoke Area Data'!CC123","v":0},{"$f":"'Bespoke Area Data'!CD123","v":0},{"$f":"'Bespoke Area Data'!CE123","v":0},{"$f":"'Bespoke Area Data'!CF123","v":0},{"$f":"'Bespoke Area Data'!CG123","v":0},{"$f":"'Bespoke Area Data'!CH123","v":0},{"$f":"'Bespoke Area Data'!CI123","v":0},{"$f":"'Bespoke Area Data'!CJ123","v":0},{"$f":"'Bespoke Area Data'!CK123","v":0},{"$f":"'Bespoke Area Data'!CL123","v":0},{"$f":"'Bespoke Area Data'!CM123","v":0},{"$f":"'Bespoke Area Data'!CN123","v":0},{"$f":"'Bespoke Area Data'!CO123","v":0},{"$f":"'Bespoke Area Data'!CP123","v":0},{"$f":"'Bespoke Area Data'!CQ123","v":0},{"$f":"'Bespoke Area Data'!CR123","v":0},{"$f":"'Bespoke Area Data'!CS123","v":0},{"$f":"'Bespoke Area Data'!CT123","v":0},{"$f":"'Bespoke Area Data'!CU123","v":0},{"$f":"'Bespoke Area Data'!CV123","v":0},{"$f":"'Bespoke Area Data'!CW123","v":0},{"$f":"'Bespoke Area Data'!CX123","v":0},{"$f":"'Bespoke Area Data'!CY123","v":0},{"$f":"'Bespoke Area Data'!CZ123","v":0},{"$f":"'Bespoke Area Data'!DA123","v":0},{"$f":"'Bespoke Area Data'!DB123","v":0},{"$f":"'Bespoke Area Data'!DC123","v":0},{"$f":"'Bespoke Area Data'!DD123","v":0},{"$f":"'Bespoke Area Data'!DE123","v":0},{"$f":"'Bespoke Area Data'!DF123","v":0},{"$f":"'Bespoke Area Data'!DG123","v":0},{"$f":"'Bespoke Area Data'!DH123","v":0},{"$f":"'Bespoke Area Data'!DI123","v":0}]
["Bespoke","N/A",{"$f":"IF('Bespoke Area Name'!C35=\"\",\"No bespoke area name entered; Go to sheet \"\"Bespoke Area Name\"\"\",'Bespoke Area Name'!C35)","v":"No bespoke area name entered; Go to sheet \"Bespoke Area Name\""},"AREA0032",{"$f":"'Bespoke Area Data'!D126","v":0},{"$f":"'Bespoke Area Data'!E126","v":0},{"$f":"'Bespoke Area Data'!F126","v":0},{"$f":"'Bespoke Area Data'!G126","v":0},{"$f":"'Bespoke Area Data'!H126","v":0},{"$f":"'Bespoke Area Data'!I126","v":0},{"$f":"'Bespoke Area Data'!J126","v":0},{"$f":"'Bespoke Area Data'!K126","v":0},{"$f":"'Bespoke Area Data'!L126","v":0},{"$f":"'Bespoke Area Data'!M126","v":0},{"$f":"'Bespoke Area Data'!N126","v":0},{"$f":"'Bespoke Area Data'!O126","v":0},{"$f":"'Bespoke Area Data'!P126","v":0},{"$f":"'Bespoke Area Data'!Q126","v":0},{"$f":"'Bespoke Area Data'!R126","v":0},{"$f":"'Bespoke Area Data'!S126","v":0},{"$f":"'Bespoke Area Data'!T126","v":0},{"$f":"'Bespoke Area Data'!U126","v":0},{"$f":"'Bespoke Area Data'!V126","v":0},{"$f":"'Bespoke Area Data'!W126","v":0},{"$f":"'Bespoke Area Data'!X126","v":0},{"$f":"'Bespoke Area Data'!Y126","v":0},{"$f":"'Bespoke Area Data'!Z126","v":0},{"$f":"'Bespoke Area Data'!AA126","v":0},{"$f":"'Bespoke Area Data'!AB126","v":0},{"$f":"'Bespoke Area Data'!AC126","v":0},{"$f":"'Bespoke Area Data'!AD126","v":0},{"$f":"'Bespoke Area Data'!AE126","v":0},{"$f":"'Bespoke Area Data'!AF126","v":0},{"$f":"'Bespoke Area Data'!AG126","v":0},{"$f":"'Bespoke Area Data'!AH126","v":0},{"$f":"'Bespoke Area Data'!AI126","v":0},{"$f":"'Bespoke Area Data'!AJ126","v":0},{"$f":"'Bespoke Area Data'!AK126","v":0},{"$f":"'Bespoke Area Data'!AL126","v":0},{"$f":"'Bespoke Area Data'!AM126","v":0},{"$f":"'Bespoke Area Data'!AN126","v":0},{"$f":"'Bespoke Area Data'!AO126","v":0},{"$f":"'Bespoke Area Data'!AP126","v":0},{"$f":"'Bespoke Area Data'!AQ126","v":0},{"$f":"'Bespoke Area Data'!AR126","v":0},{"$f":"'Bespoke Area Data'!AS126","v":0},{"$f":"'Bespoke Area Data'!AT126","v":0},{"$f":"'Bespoke Area Data'!AU126","v":0},{"$f":"'Bespoke Area Data'!AV126","v":0},{"$f":"'Bespoke Area Data'!AW126","v":0},{"$f":"'Bespoke Area Data'!AX126","v":0},{"$f":"'Bespoke Area Data'!AY126","v":0},{"$f":"'Bespoke Area Data'!AZ126","v":0},{"$f":"'Bespoke Area Data'!BA126","v":0},{"$f":"'Bespoke Area Data'!BB126","v":0},{"$f":"'Bespoke Area Data'!BC126","v":0},{"$f":"'Bespoke Area Data'!BD126","v":0},{"$f":"'Bespoke Area Data'!BE126","v":0},{"$f":"'Bespoke Area Data'!BF126","v":0},{"$f":"'Bespoke Area Data'!BG126","v":0},{"$f":"'Bespoke Area Data'!BH126","v":0},{"$f":"'Bespoke Area Data'!BI126","v":0},{"$f":"'Bespoke Area Data'!BJ126","v":0},{"$f":"'Bespoke Area Data'!BK126","v":0},{"$f":"'Bespoke Area Data'!BL126","v":0},{"$f":"'Bespoke Area Data'!BM126","v":0},{"$f":"'Bespoke Area Data'!BN126","v":0},{"$f":"'Bespoke Area Data'!BO126","v":0},{"$f":"'Bespoke Area Data'!BP126","v":0},{"$f":"'Bespoke Area Data'!BQ126","v":0},{"$f":"'Bespoke Area Data'!BR126","v":0},{"$f":"'Bespoke Area Data'!BS126","v":0},{"$f":"'Bespoke Area Data'!BT126","v":0},{"$f":"'Bespoke Area Data'!BU126","v":0},{"$f":"'Bespoke Area Data'!BV126","v":0},{"$f":"'Bespoke Area Data'!BW126","v":0},{"$f":"'Bespoke Area Data'!BX126","v":0},{"$f":"'Bespoke Area Data'!BY126","v":0},{"$f":"'Bespoke Area Data'!BZ126","v":0},{"$f":"'Bespoke Area Data'!CA126","v":0},{"$f":"'Bespoke Area Data'!CB126","v":0},{"$f":"'Bespoke Area Data'!CC126","v":0},{"$f":"'Bespoke Area Data'!CD126","v":0},{"$f":"'Bespoke Area Data'!CE126","v":0},{"$f":"'Bespoke Area Data'!CF126","v":0},{"$f":"'Bespoke Area Data'!CG126","v":0},{"$f":"'Bespoke Area Data'!CH126","v":0},{"$f":"'Bespoke Area Data'!CI126","v":0},{"$f":"'Bespoke Area Data'!CJ126","v":0},{"$f":"'Bespoke Area Data'!CK126","v":0},{"$f":"'Bespoke Area Data'!CL126","v":0},{"$f":"'Bespoke Area Data'!CM126","v":0},{"$f":"'Bespoke Area Data'!CN126","v":0},{"$f":"'Bespoke Area Data'!CO126","v":0},{"$f":"'Bespoke Area Data'!CP126","v":0},{"$f":"'Bespoke Area Data'!CQ126","v":0},{"$f":"'Bespoke Area Data'!CR126","v":0},{"$f":"'Bespoke Area Data'!CS126","v":0},{"$f":"'Bespoke Area Data'!CT126","v":0},{"$f":"'Bespoke Area Data'!CU126","v":0},{"$f":"'Bespoke Area Data'!CV126","v":0},{"$f":"'Bespoke Area Data'!CW126","v":0},{"$f":"'Bespoke Area Data'!CX126","v":0},{"$f":"'Bespoke Area Data'!CY126","v":0},{"$f":"'Bespoke Area Data'!CZ126","v":0},{"$f":"'Bespoke Area Data'!DA126","v":0},{"$f":"'Bespoke Area Data'!DB126","v":0},{"$f":"'Bespoke Area Data'!DC126","v":0},{"$f":"'Bespoke Area Data'!DD126","v":0},{"$f":"'Bespoke Area Data'!DE126","v":0},{"$f":"'Bespoke Area Data'!DF126","v":0},{"$f":"'Bespoke Area Data'!DG126","v":0},{"$f":"'Bespoke Area Data'!DH126","v":0},{"$f":"'Bespoke Area Data'!DI126","v":0},{"$f":"'Bespoke Area Data'!DJ126","v":0},{"$f":"'Bespoke Area Data'!DK126","v":0},{"$f":"'Bespoke Area Data'!DL126","v":0},{"$f":"'Bespoke Area Data'!DM126","v":0},{"$f":"'Bespoke Area Data'!DN126","v":0},{"$f":"'Bespoke Area Data'!DO126","v":0},{"$f":"'Bespoke Area Data'!DP126","v":0},{"$f":"'Bespoke Area Data'!DQ126","v":0},{"$f":"'Bespoke Area Data'!DR126","v":0},{"$f":"'Bespoke Area Data'!DS126","v":0},{"$f":"'Bespoke Area Data'!DT126","v":0},{"$f":"'Bespoke Area Data'!DU126","v":0},{"$f":"'Bespoke Area Data'!DV126","v":0},{"$f":"'Bespoke Area Data'!DW126","v":0},{"$f":"'Bespoke Area Data'!DX126","v":0},{"$f":"'Bespoke Area Data'!DY126","v":0},{"$f":"'Bespoke Area Data'!DZ126","v":0},{"$f":"'Bespoke Area Data'!EA126","v":0},{"$f":"'Bespoke Area Data'!EB126","v":0},{"$f":"'Bespoke Area Data'!EC126","v":0},{"$f":"'Bespoke Area Data'!ED126","v":0},{"$f":"'Bespoke Area Data'!EE126","v":0},{"$f":"'Bespoke Area Data'!EF126","v":0},{"$f":"'Bespoke Area Data'!EG126","v":0},{"$f":"'Bespoke Area Data'!EH126","v":0},{"$f":"'Bespoke Area Data'!D127","v":0},{"$f":"'Bespoke Area Data'!E127","v":0},{"$f":"'Bespoke Area Data'!F127","v":0},{"$f":"'Bespoke Area Data'!G127","v":0},{"$f":"'Bespoke Area Data'!H127","v":0},{"$f":"'Bespoke Area Data'!I127","v":0},{"$f":"'Bespoke Area Data'!J127","v":0},{"$f":"'Bespoke Area Data'!K127","v":0},{"$f":"'Bespoke Area Data'!L127","v":0},{"$f":"'Bespoke Area Data'!M127","v":0},{"$f":"'Bespoke Area Data'!N127","v":0},{"$f":"'Bespoke Area Data'!O127","v":0},{"$f":"'Bespoke Area Data'!P127","v":0},{"$f":"'Bespoke Area Data'!Q127","v":0},{"$f":"'Bespoke Area Data'!R127","v":0},{"$f":"'Bespoke Area Data'!S127","v":0},{"$f":"'Bespoke Area Data'!T127","v":0},{"$f":"'Bespoke Area Data'!U127","v":0},{"$f":"'Bespoke Area Data'!V127","v":0},{"$f":"'Bespoke Area Data'!W127","v":0},{"$f":"'Bespoke Area Data'!X127","v":0},{"$f":"'Bespoke Area Data'!Y127","v":0},{"$f":"'Bespoke Area Data'!Z127","v":0},{"$f":"'Bespoke Area Data'!AA127","v":0},{"$f":"'Bespoke Area Data'!AB127","v":0},{"$f":"'Bespoke Area Data'!AC127","v":0},{"$f":"'Bespoke Area Data'!AD127","v":0},{"$f":"'Bespoke Area Data'!AE127","v":0},{"$f":"'Bespoke Area Data'!AF127","v":0},{"$f":"'Bespoke Area Data'!AG127","v":0},{"$f":"'Bespoke Area Data'!AH127","v":0},{"$f":"'Bespoke Area Data'!AI127","v":0},{"$f":"'Bespoke Area Data'!AJ127","v":0},{"$f":"'Bespoke Area Data'!AK127","v":0},{"$f":"'Bespoke Area Data'!AL127","v":0},{"$f":"'Bespoke Area Data'!AM127","v":0},{"$f":"'Bespoke Area Data'!AN127","v":0},{"$f":"'Bespoke Area Data'!AO127","v":0},{"$f":"'Bespoke Area Data'!AP127","v":0},{"$f":"'Bespoke Area Data'!AQ127","v":0},{"$f":"'Bespoke Area Data'!AR127","v":0},{"$f":"'Bespoke Area Data'!AS127","v":0},{"$f":"'Bespoke Area Data'!AT127","v":0},{"$f":"'Bespoke Area Data'!AU127","v":0},{"$f":"'Bespoke Area Data'!AV127","v":0},{"$f":"'Bespoke Area Data'!AW127","v":0},{"$f":"'Bespoke Area Data'!AX127","v":0},{"$f":"'Bespoke Area Data'!AY127","v":0},{"$f":"'Bespoke Area Data'!AZ127","v":0},{"$f":"'Bespoke Area Data'!BA127","v":0},{"$f":"'Bespoke Area Data'!BB127","v":0},{"$f":"'Bespoke Area Data'!BC127","v":0},{"$f":"'Bespoke Area Data'!BD127","v":0},{"$f":"'Bespoke Area Data'!BE127","v":0},{"$f":"'Bespoke Area Data'!BF127","v":0},{"$f":"'Bespoke Area Data'!BG127","v":0},{"$f":"'Bespoke Area Data'!BH127","v":0},{"$f":"'Bespoke Area Data'!BI127","v":0},{"$f":"'Bespoke Area Data'!BJ127","v":0},{"$f":"'Bespoke Area Data'!BK127","v":0},{"$f":"'Bespoke Area Data'!BL127","v":0},{"$f":"'Bespoke Area Data'!BM127","v":0},{"$f":"'Bespoke Area Data'!BN127","v":0},{"$f":"'Bespoke Area Data'!BO127","v":0},{"$f":"'Bespoke Area Data'!BP127","v":0},{"$f":"'Bespoke Area Data'!BQ127","v":0},{"$f":"'Bespoke Area Data'!BR127","v":0},{"$f":"'Bespoke Area Data'!BS127","v":0},{"$f":"'Bespoke Area Data'!BT127","v":0},{"$f":"'Bespoke Area Data'!BU127","v":0},{"$f":"'Bespoke Area Data'!BV127","v":0},{"$f":"'Bespoke Area Data'!BW127","v":0},{"$f":"'Bespoke Area Data'!BX127","v":0},{"$f":"'Bespoke Area Data'!BY127","v":0},{"$f":"'Bespoke Area Data'!BZ127","v":0},{"$f":"'Bespoke Area Data'!CA127","v":0},{"$f":"'Bespoke Area Data'!CB127","v":0},{"$f":"'Bespoke Area Data'!CC127","v":0},{"$f":"'Bespoke Area Data'!CD127","v":0},{"$f":"'Bespoke Area Data'!CE127","v":0},{"$f":"'Bespoke Area Data'!CF127","v":0},{"$f":"'Bespoke Area Data'!CG127","v":0},{"$f":"'Bespoke Area Data'!CH127","v":0},{"$f":"'Bespoke Area Data'!CI127","v":0},{"$f":"'Bespoke Area Data'!CJ127","v":0},{"$f":"'Bespoke Area Data'!CK127","v":0},{"$f":"'Bespoke Area Data'!CL127","v":0},{"$f":"'Bespoke Area Data'!CM127","v":0},{"$f":"'Bespoke Area Data'!CN127","v":0},{"$f":"'Bespoke Area Data'!CO127","v":0},{"$f":"'Bespoke Area Data'!CP127","v":0},{"$f":"'Bespoke Area Data'!CQ127","v":0},{"$f":"'Bespoke Area Data'!CR127","v":0},{"$f":"'Bespoke Area Data'!CS127","v":0},{"$f":"'Bespoke Area Data'!CT127","v":0},{"$f":"'Bespoke Area Data'!CU127","v":0},{"$f":"'Bespoke Area Data'!CV127","v":0},{"$f":"'Bespoke Area Data'!CW127","v":0},{"$f":"'Bespoke Area Data'!CX127","v":0},{"$f":"'Bespoke Area Data'!CY127","v":0},{"$f":"'Bespoke Area Data'!CZ127","v":0},{"$f":"'Bespoke Area Data'!DA127","v":0},{"$f":"'Bespoke Area Data'!DB127","v":0},{"$f":"'Bespoke Area Data'!DC127","v":0},{"$f":"'Bespoke Area Data'!DD127","v":0},{"$f":"'Bespoke Area Data'!DE127","v":0},{"$f":"'Bespoke Area Data'!DF127","v":0},{"$f":"'Bespoke Area Data'!DG127","v":0},{"$f":"'Bespoke Area Data'!DH127","v":0},{"$f":"'Bespoke Area Data'!DI127","v":0}]
["Bespoke","N/A",{"$f":"IF('Bespoke Area Name'!C36=\"\",\"No bespoke area name entered; Go to sheet \"\"Bespoke Area Name\"\"\",'Bespoke Area Name'!C36)","v":"No bespoke area name entered; Go to sheet \"Bespoke Area Name\""},"AREA0033",{"$f":"'Bespoke Area Data'!D130","v":0},{"$f":"'Bespoke Area Data'!E130","v":0},{"$f":"'Bespoke Area Data'!F130","v":0},{"$f":"'Bespoke Area Data'!G130","v":0},{"$f":"'Bespoke Area Data'!H130","v":0},{"$f":"'Bespoke Area Data'!I130","v":0},{"$f":"'Bespoke Area Data'!J130","v":0},{"$f":"'Bespoke Area Data'!K130","v":0},{"$f":"'Bespoke Area Data'!L130","v":0},{"$f":"'Bespoke Area Data'!M130","v":0},{"$f":"'Bespoke Area Data'!N130","v":0},{"$f":"'Bespoke Area Data'!O130","v":0},{"$f":"'Bespoke Area Data'!P130","v":0},{"$f":"'Bespoke Area Data'!Q130","v":0},{"$f":"'Bespoke Area Data'!R130","v":0},{"$f":"'Bespoke Area Data'!S130","v":0},{"$f":"'Bespoke Area Data'!T130","v":0},{"$f":"'Bespoke Area Data'!U130","v":0},{"$f":"'Bespoke Area Data'!V130","v":0},{"$f":"'Bespoke Area Data'!W130","v":0},{"$f":"'Bespoke Area Data'!X130","v":0},{"$f":"'Bespoke Area Data'!Y130","v":0},{"$f":"'Bespoke Area Data'!Z130","v":0},{"$f":"'Bespoke Area Data'!AA130","v":0},{"$f":"'Bespoke Area Data'!AB130","v":0},{"$f":"'Bespoke Area Data'!AC130","v":0},{"$f":"'Bespoke Area Data'!AD130","v":0},{"$f":"'Bespoke Area Data'!AE130","v":0},{"$f":"'Bespoke Area Data'!AF130","v":0},{"$f":"'Bespoke Area Data'!AG130","v":0},{"$f":"'Bespoke Area Data'!AH130","v":0},{"$f":"'Bespoke Area Data'!AI130","v":0},{"$f":"'Bespoke Area Data'!AJ130","v":0},{"$f":"'Bespoke Area Data'!AK130","v":0},{"$f":"'Bespoke Area Data'!AL130","v":0},{"$f":"'Bespoke Area Data'!AM130","v":0},{"$f":"'Bespoke Area Data'!AN130","v":0},{"$f":"'Bespoke Area Data'!AO130","v":0},{"$f":"'Bespoke Area Data'!AP130","v":0},{"$f":"'Bespoke Area Data'!AQ130","v":0},{"$f":"'Bespoke Area Data'!AR130","v":0},{"$f":"'Bespoke Area Data'!AS130","v":0},{"$f":"'Bespoke Area Data'!AT130","v":0},{"$f":"'Bespoke Area Data'!AU130","v":0},{"$f":"'Bespoke Area Data'!AV130","v":0},{"$f":"'Bespoke Area Data'!AW130","v":0},{"$f":"'Bespoke Area Data'!AX130","v":0},{"$f":"'Bespoke Area Data'!AY130","v":0},{"$f":"'Bespoke Area Data'!AZ130","v":0},{"$f":"'Bespoke Area Data'!BA130","v":0},{"$f":"'Bespoke Area Data'!BB130","v":0},{"$f":"'Bespoke Area Data'!BC130","v":0},{"$f":"'Bespoke Area Data'!BD130","v":0},{"$f":"'Bespoke Area Data'!BE130","v":0},{"$f":"'Bespoke Area Data'!BF130","v":0},{"$f":"'Bespoke Area Data'!BG130","v":0},{"$f":"'Bespoke Area Data'!BH130","v":0},{"$f":"'Bespoke Area Data'!BI130","v":0},{"$f":"'Bespoke Area Data'!BJ130","v":0},{"$f":"'Bespoke Area Data'!BK130","v":0},{"$f":"'Bespoke Area Data'!BL130","v":0},{"$f":"'Bespoke Area Data'!BM130","v":0},{"$f":"'Bespoke Area Data'!BN130","v":0},{"$f":"'Bespoke Area Data'!BO130","v":0},{"$f":"'Bespoke Area Data'!BP130","v":0},{"$f":"'Bespoke Area Data'!BQ130","v":0},{"$f":"'Bespoke Area Data'!BR130","v":0},{"$f":"'Bespoke Area Data'!BS130","v":0},{"$f":"'Bespoke Area Data'!BT130","v":0},{"$f":"'Bespoke Area Data'!BU130","v":0},{"$f":"'Bespoke Area Data'!BV130","v":0},{"$f":"'Bespoke Area Data'!BW130","v":0},{"$f":"'Bespoke Area Data'!BX130","v":0},{"$f":"'Bespoke Area Data'!BY130","v":0},{"$f":"'Bespoke Area Data'!BZ130","v":0},{"$f":"'Bespoke Area Data'!CA130","v":0},{"$f":"'Bespoke Area Data'!CB130","v":0},{"$f":"'Bespoke Area Data'!CC130","v":0},{"$f":"'Bespoke Area Data'!CD130","v":0},{"$f":"'Bespoke Area Data'!CE130","v":0},{"$f":"'Bespoke Area Data'!CF130","v":0},{"$f":"'Bespoke Area Data'!CG130","v":0},{"$f":"'Bespoke Area Data'!CH130","v":0},{"$f":"'Bespoke Area Data'!CI130","v":0},{"$f":"'Bespoke Area Data'!CJ130","v":0},{"$f":"'Bespoke Area Data'!CK130","v":0},{"$f":"'Bespoke Area Data'!CL130","v":0},{"$f":"'Bespoke Area Data'!CM130","v":0},{"$f":"'Bespoke Area Data'!CN130","v":0},{"$f":"'Bespoke Area Data'!CO130","v":0},{"$f":"'Bespoke Area Data'!CP130","v":0},{"$f":"'Bespoke Area Data'!CQ130","v":0},{"$f":"'Bespoke Area Data'!CR130","v":0},{"$f":"'Bespoke Area Data'!CS130","v":0},{"$f":"'Bespoke Area Data'!CT130","v":0},{"$f":"'Bespoke Area Data'!CU130","v":0},{"$f":"'Bespoke Area Data'!CV130","v":0},{"$f":"'Bespoke Area Data'!CW130","v":0},{"$f":"'Bespoke Area Data'!CX130","v":0},{"$f":"'Bespoke Area Data'!CY130","v":0},{"$f":"'Bespoke Area Data'!CZ130","v":0},{"$f":"'Bespoke Area Data'!DA130","v":0},{"$f":"'Bespoke Area Data'!DB130","v":0},{"$f":"'Bespoke Area Data'!DC130","v":0},{"$f":"'Bespoke Area Data'!DD130","v":0},{"$f":"'Bespoke Area Data'!DE130","v":0},{"$f":"'Bespoke Area Data'!DF130","v":0},{"$f":"'Bespoke Area Data'!DG130","v":0},{"$f":"'Bespoke Area Data'!DH130","v":0},{"$f":"'Bespoke Area Data'!DI130","v":0},{"$f":"'Bespoke Area Data'!DJ130","v":0},{"$f":"'Bespoke Area Data'!DK130","v":0},{"$f":"'Bespoke Area Data'!DL130","v":0},{"$f":"'Bespoke Area Data'!DM130","v":0},{"$f":"'Bespoke Area Data'!DN130","v":0},{"$f":"'Bespoke Area Data'!DO130","v":0},{"$f":"'Bespoke Area Data'!DP130","v":0},{"$f":"'Bespoke Area Data'!DQ130","v":0},{"$f":"'Bespoke Area Data'!DR130","v":0},{"$f":"'Bespoke Area Data'!DS130","v":0},{"$f":"'Bespoke Area Data'!DT130","v":0},{"$f":"'Bespoke Area Data'!DU130","v":0},{"$f":"'Bespoke Area Data'!DV130","v":0},{"$f":"'Bespoke Area Data'!DW130","v":0},{"$f":"'Bespoke Area Data'!DX130","v":0},{"$f":"'Bespoke Area Data'!DY130","v":0},{"$f":"'Bespoke Area Data'!DZ130","v":0},{"$f":"'Bespoke Area Data'!EA130","v":0},{"$f":"'Bespoke Area Data'!EB130","v":0},{"$f":"'Bespoke Area Data'!EC130","v":0},{"$f":"'Bespoke Area Data'!ED130","v":0},{"$f":"'Bespoke Area Data'!EE130","v":0},{"$f":"'Bespoke Area Data'!EF130","v":0},{"$f":"'Bespoke Area Data'!EG130","v":0},{"$f":"'Bespoke Area Data'!EH130","v":0},{"$f":"'Bespoke Area Data'!D131","v":0},{"$f":"'Bespoke Area Data'!E131","v":0},{"$f":"'Bespoke Area Data'!F131","v":0},{"$f":"'Bespoke Area Data'!G131","v":0},{"$f":"'Bespoke Area Data'!H131","v":0},{"$f":"'Bespoke Area Data'!I131","v":0},{"$f":"'Bespoke Area Data'!J131","v":0},{"$f":"'Bespoke Area Data'!K131","v":0},{"$f":"'Bespoke Area Data'!L131","v":0},{"$f":"'Bespoke Area Data'!M131","v":0},{"$f":"'Bespoke Area Data'!N131","v":0},{"$f":"'Bespoke Area Data'!O131","v":0},{"$f":"'Bespoke Area Data'!P131","v":0},{"$f":"'Bespoke Area Data'!Q131","v":0},{"$f":"'Bespoke Area Data'!R131","v":0},{"$f":"'Bespoke Area Data'!S131","v":0},{"$f":"'Bespoke Area Data'!T131","v":0},{"$f":"'Bespoke Area Data'!U131","v":0},{"$f":"'Bespoke Area Data'!V131","v":0},{"$f":"'Bespoke Area Data'!W131","v":0},{"$f":"'Bespoke Area Data'!X131","v":0},{"$f":"'Bespoke Area Data'!Y131","v":0},{"$f":"'Bespoke Area Data'!Z131","v":0},{"$f":"'Bespoke Area Data'!AA131","v":0},{"$f":"'Bespoke Area Data'!AB131","v":0},{"$f":"'Bespoke Area Data'!AC131","v":0},{"$f":"'Bespoke Area Data'!AD131","v":0},{"$f":"'Bespoke Area Data'!AE131","v":0},{"$f":"'Bespoke Area Data'!AF131","v":0},{"$f":"'Bespoke Area Data'!AG131","v":0},{"$f":"'Bespoke Area Data'!AH131","v":0},{"$f":"'Bespoke Area Data'!AI131","v":0},{"$f":"'Bespoke Area Data'!AJ131","v":0},{"$f":"'Bespoke Area Data'!AK131","v":0},{"$f":"'Bespoke Area Data'!AL131","v":0},{"$f":"'Bespoke Area Data'!AM131","v":0},{"$f":"'Bespoke Area Data'!AN131","v":0},{"$f":"'Bespoke Area Data'!AO131","v":0},{"$f":"'Bespoke Area Data'!AP131","v":0},{"$f":"'Bespoke Area Data'!AQ131","v":0},{"$f":"'Bespoke Area Data'!AR131","v":0},{"$f":"'Bespoke Area Data'!AS131","v":0},{"$f":"'Bespoke Area Data'!AT131","v":0},{"$f":"'Bespoke Area Data'!AU131","v":0},{"$f":"'Bespoke Area Data'!AV131","v":0},{"$f":"'Bespoke Area Data'!AW131","v":0},{"$f":"'Bespoke Area Data'!AX131","v":0},{"$f":"'Bespoke Area Data'!AY131","v":0},{"$f":"'Bespoke Area Data'!AZ131","v":0},{"$f":"'Bespoke Area Data'!BA131","v":0},{"$f":"'Bespoke Area Data'!BB131","v":0},{"$f":"'Bespoke Area Data'!BC131","v":0},{"$f":"'Bespoke Area Data'!BD131","v":0},{"$f":"'Bespoke Area Data'!BE131","v":0},{"$f":"'Bespoke Area Data'!BF131","v":0},{"$f":"'Bespoke Area Data'!BG131","v":0},{"$f":"'Bespoke Area Data'!BH131","v":0},{"$f":"'Bespoke Area Data'!BI131","v":0},{"$f":"'Bespoke Area Data'!BJ131","v":0},{"$f":"'Bespoke Area Data'!BK131","v":0},{"$f":"'Bespoke Area Data'!BL131","v":0},{"$f":"'Bespoke Area Data'!BM131","v":0},{"$f":"'Bespoke Area Data'!BN131","v":0},{"$f":"'Bespoke Area Data'!BO131","v":0},{"$f":"'Bespoke Area Data'!BP131","v":0},{"$f":"'Bespoke Area Data'!BQ131","v":0},{"$f":"'Bespoke Area Data'!BR131","v":0},{"$f":"'Bespoke Area Data'!BS131","v":0},{"$f":"'Bespoke Area Data'!BT131","v":0},{"$f":"'Bespoke Area Data'!BU131","v":0},{"$f":"'Bespoke Area Data'!BV131","v":0},{"$f":"'Bespoke Area Data'!BW131","v":0},{"$f":"'Bespoke Area Data'!BX131","v":0},{"$f":"'Bespoke Area Data'!BY131","v":0},{"$f":"'Bespoke Area Data'!BZ131","v":0},{"$f":"'Bespoke Area Data'!CA131","v":0},{"$f":"'Bespoke Area Data'!CB131","v":0},{"$f":"'Bespoke Area Data'!CC131","v":0},{"$f":"'Bespoke Area Data'!CD131","v":0},{"$f":"'Bespoke Area Data'!CE131","v":0},{"$f":"'Bespoke Area Data'!CF131","v":0},{"$f":"'Bespoke Area Data'!CG131","v":0},{"$f":"'Bespoke Area Data'!CH131","v":0},{"$f":"'Bespoke Area Data'!CI131","v":0},{"$f":"'Bespoke Area Data'!CJ131","v":0},{"$f":"'Bespoke Area Data'!CK131","v":0},{"$f":"'Bespoke Area Data'!CL131","v":0},{"$f":"'Bespoke Area Data'!CM131","v":0},{"$f":"'Bespoke Area Data'!CN131","v":0},{"$f":"'Bespoke Area Data'!CO131","v":0},{"$f":"'Bespoke Area Data'!CP131","v":0},{"$f":"'Bespoke Area Data'!CQ131","v":0},{"$f":"'Bespoke Area Data'!CR131","v":0},{"$f":"'Bespoke Area Data'!CS131","v":0},{"$f":"'Bespoke Area Data'!CT131","v":0},{"$f":"'Bespoke Area Data'!CU131","v":0},{"$f":"'Bespoke Area Data'!CV131","v":0},{"$f":"'Bespoke Area Data'!CW131","v":0},{"$f":"'Bespoke Area Data'!CX131","v":0},{"$f":"'Bespoke Area Data'!CY131","v":0},{"$f":"'Bespoke Area Data'!CZ131","v":0},{"$f":"'Bespoke Area Data'!DA131","v":0},{"$f":"'Bespoke Area Data'!DB131","v":0},{"$f":"'Bespoke Area Data'!DC131","v":0},{"$f":"'Bespoke Area Data'!DD131","v":0},{"$f":"'Bespoke Area Data'!DE131","v":0},{"$f":"'Bespoke Area Data'!DF131","v":0},{"$f":"'Bespoke Area Data'!DG131","v":0},{"$f":"'Bespoke Area Data'!DH131","v":0},{"$f":"'Bespoke Area Data'!DI131","v":0}]
["Bespoke","N/A",{"$f":"IF('Bespoke Area Name'!C37=\"\",\"No bespoke area name entered; Go to sheet \"\"Bespoke Area Name\"\"\",'Bespoke Area Name'!C37)","v":"No bespoke area name entered; Go to sheet \"Bespoke Area Name\""},"AREA0034",{"$f":"'Bespoke Area Data'!D134","v":0},{"$f":"'Bespoke Area Data'!E134","v":0},{"$f":"'Bespoke Area Data'!F134","v":0},{"$f":"'Bespoke Area Data'!G134","v":0},{"$f":"'Bespoke Area Data'!H134","v":0},{"$f":"'Bespoke Area Data'!I134","v":0},{"$f":"'Bespoke Area Data'!J134","v":0},{"$f":"'Bespoke Area Data'!K134","v":0},{"$f":"'Bespoke Area Data'!L134","v":0},{"$f":"'Bespoke Area Data'!M134","v":0},{"$f":"'Bespoke Area Data'!N134","v":0},{"$f":"'Bespoke Area Data'!O134","v":0},{"$f":"'Bespoke Area Data'!P134","v":0},{"$f":"'Bespoke Area Data'!Q134","v":0},{"$f":"'Bespoke Area Data'!R134","v":0},{"$f":"'Bespoke Area Data'!S134","v":0},{"$f":"'Bespoke Area Data'!T134","v":0},{"$f":"'Bespoke Area Data'!U134","v":0},{"$f":"'Bespoke Area Data'!V134","v":0},{"$f":"'Bespoke Area Data'!W134","v":0},{"$f":"'Bespoke Area Data'!X134","v":0},{"$f":"'Bespoke Area Data'!Y134","v":0},{"$f":"'Bespoke Area Data'!Z134","v":0},{"$f":"'Bespoke Area Data'!AA134","v":0},{"$f":"'Bespoke Area Data'!AB134","v":0},{"$f":"'Bespoke Area Data'!AC134","v":0},{"$f":"'Bespoke Area Data'!AD134","v":0},{"$f":"'Bespoke Area Data'!AE134","v":0},{"$f":"'Bespoke Area Data'!AF134","v":0},{"$f":"'Bespoke Area Data'!AG134","v":0},{"$f":"'Bespoke Area Data'!AH134","v":0},{"$f":"'Bespoke Area Data'!AI134","v":0},{"$f":"'Bespoke Area Data'!AJ134","v":0},{"$f":"'Bespoke Area Data'!AK134","v":0},{"$f":"'Bespoke Area Data'!AL134","v":0},{"$f":"'Bespoke Area Data'!AM134","v":0},{"$f":"'Bespoke Area Data'!AN134","v":0},{"$f":"'Bespoke Area Data'!AO134","v":0},{"$f":"'Bespoke Area Data'!AP134","v":0},{"$f":"'Bespoke Area Data'!AQ134","v":0},{"$f":"'Bespoke Area Data'!AR134","v":0},{"$f":"'Bespoke Area Data'!AS134","v":0},{"$f":"'Bespoke Area Data'!AT134","v":0},{"$f":"'Bespoke Area Data'!AU134","v":0},{"$f":"'Bespoke Area Data'!AV134","v":0},{"$f":"'Bespoke Area Data'!AW134","v":0},{"$f":"'Bespoke Area Data'!AX134","v":0},{"$f":"'Bespoke Area Data'!AY134","v":0},{"$f":"'Bespoke Area Data'!AZ134","v":0},{"$f":"'Bespoke Area Data'!BA134","v":0},{"$f":"'Bespoke Area Data'!BB134","v":0},{"$f":"'Bespoke Area Data'!BC134","v":0},{"$f":"'Bespoke Area Data'!BD134","v":0},{"$f":"'Bespoke Area Data'!BE134","v":0},{"$f":"'Bespoke Area Data'!BF134","v":0},{"$f":"'Bespoke Area Data'!BG134","v":0},{"$f":"'Bespoke Area Data'!BH134","v":0},{"$f":"'Bespoke Area Data'!BI134","v":0},{"$f":"'Bespoke Area Data'!BJ134","v":0},{"$f":"'Bespoke Area Data'!BK134","v":0},{"$f":"'Bespoke Area Data'!BL134","v":0},{"$f":"'Bespoke Area Data'!BM134","v":0},{"$f":"'Bespoke Area Data'!BN134","v":0},{"$f":"'Bespoke Area Data'!BO134","v":0},{"$f":"'Bespoke Area Data'!BP134","v":0},{"$f":"'Bespoke Area Data'!BQ134","v":0},{"$f":"'Bespoke Area Data'!BR134","v":0},{"$f":"'Bespoke Area Data'!BS134","v":0},{"$f":"'Bespoke Area Data'!BT134","v":0},{"$f":"'Bespoke Area Data'!BU134","v":0},{"$f":"'Bespoke Area Data'!BV134","v":0},{"$f":"'Bespoke Area Data'!BW134","v":0},{"$f":"'Bespoke Area Data'!BX134","v":0},{"$f":"'Bespoke Area Data'!BY134","v":0},{"$f":"'Bespoke Area Data'!BZ134","v":0},{"$f":"'Bespoke Area Data'!CA134","v":0},{"$f":"'Bespoke Area Data'!CB134","v":0},{"$f":"'Bespoke Area Data'!CC134","v":0},{"$f":"'Bespoke Area Data'!CD134","v":0},{"$f":"'Bespoke Area Data'!CE134","v":0},{"$f":"'Bespoke Area Data'!CF134","v":0},{"$f":"'Bespoke Area Data'!CG134","v":0},{"$f":"'Bespoke Area Data'!CH134","v":0},{"$f":"'Bespoke Area Data'!CI134","v":0},{"$f":"'Bespoke Area Data'!CJ134","v":0},{"$f":"'Bespoke Area Data'!CK134","v":0},{"$f":"'Bespoke Area Data'!CL134","v":0},{"$f":"'Bespoke Area Data'!CM134","v":0},{"$f":"'Bespoke Area Data'!CN134","v":0},{"$f":"'Bespoke Area Data'!CO134","v":0},{"$f":"'Bespoke Area Data'!CP134","v":0},{"$f":"'Bespoke Area Data'!CQ134","v":0},{"$f":"'Bespoke Area Data'!CR134","v":0},{"$f":"'Bespoke Area Data'!CS134","v":0},{"$f":"'Bespoke Area Data'!CT134","v":0},{"$f":"'Bespoke Area Data'!CU134","v":0},{"$f":"'Bespoke Area Data'!CV134","v":0},{"$f":"'Bespoke Area Data'!CW134","v":0},{"$f":"'Bespoke Area Data'!CX134","v":0},{"$f":"'Bespoke Area Data'!CY134","v":0},{"$f":"'Bespoke Area Data'!CZ134","v":0},{"$f":"'Bespoke Area Data'!DA134","v":0},{"$f":"'Bespoke Area Data'!DB134","v":0},{"$f":"'Bespoke Area Data'!DC134","v":0},{"$f":"'Bespoke Area Data'!DD134","v":0},{"$f":"'Bespoke Area Data'!DE134","v":0},{"$f":"'Bespoke Area Data'!DF134","v":0},{"$f":"'Bespoke Area Data'!DG134","v":0},{"$f":"'Bespoke Area Data'!DH134","v":0},{"$f":"'Bespoke Area Data'!DI134","v":0},{"$f":"'Bespoke Area Data'!DJ134","v":0},{"$f":"'Bespoke Area Data'!DK134","v":0},{"$f":"'Bespoke Area Data'!DL134","v":0},{"$f":"'Bespoke Area Data'!DM134","v":0},{"$f":"'Bespoke Area Data'!DN134","v":0},{"$f":"'Bespoke Area Data'!DO134","v":0},{"$f":"'Bespoke Area Data'!DP134","v":0},{"$f":"'Bespoke Area Data'!DQ134","v":0},{"$f":"'Bespoke Area Data'!DR134","v":0},{"$f":"'Bespoke Area Data'!DS134","v":0},{"$f":"'Bespoke Area Data'!DT134","v":0},{"$f":"'Bespoke Area Data'!DU134","v":0},{"$f":"'Bespoke Area Data'!DV134","v":0},{"$f":"'Bespoke Area Data'!DW134","v":0},{"$f":"'Bespoke Area Data'!DX134","v":0},{"$f":"'Bespoke Area Data'!DY134","v":0},{"$f":"'Bespoke Area Data'!DZ134","v":0},{"$f":"'Bespoke Area Data'!EA134","v":0},{"$f":"'Bespoke Area Data'!EB134","v":0},{"$f":"'Bespoke Area Data'!EC134","v":0},{"$f":"'Bespoke Area Data'!ED134","v":0},{"$f":"'Bespoke Area Data'!EE134","v":0},{"$f":"'Bespoke Area Data'!EF134","v":0},{"$f":"'Bespoke Area Data'!EG134","v":0},{"$f":"'Bespoke Area Data'!EH134","v":0},{"$f":"'Bespoke Area Data'!D135","v":0},{"$f":"'Bespoke Area Data'!E135","v":0},{"$f":"'Bespoke Area Data'!F135","v":0},{"$f":"'Bespoke Area Data'!G135","v":0},{"$f":"'Bespoke Area Data'!H135","v":0},{"$f":"'Bespoke Area Data'!I135","v":0},{"$f":"'Bespoke Area Data'!J135","v":0},{"$f":"'Bespoke Area Data'!K135","v":0},{"$f":"'Bespoke Area Data'!L135","v":0},{"$f":"'Bespoke Area Data'!M135","v":0},{"$f":"'Bespoke Area Data'!N135","v":0},{"$f":"'Bespoke Area Data'!O135","v":0},{"$f":"'Bespoke Area Data'!P135","v":0},{"$f":"'Bespoke Area Data'!Q135","v":0},{"$f":"'Bespoke Area Data'!R135","v":0},{"$f":"'Bespoke Area Data'!S135","v":0},{"$f":"'Bespoke Area Data'!T135","v":0},{"$f":"'Bespoke Area Data'!U135","v":0},{"$f":"'Bespoke Area Data'!V135","v":0},{"$f":"'Bespoke Area Data'!W135","v":0},{"$f":"'Bespoke Area Data'!X135","v":0},{"$f":"'Bespoke Area Data'!Y135","v":0},{"$f":"'Bespoke Area Data'!Z135","v":0},{"$f":"'Bespoke Area Data'!AA135","v":0},{"$f":"'Bespoke Area Data'!AB135","v":0},{"$f":"'Bespoke Area Data'!AC135","v":0},{"$f":"'Bespoke Area Data'!AD135","v":0},{"$f":"'Bespoke Area Data'!AE135","v":0},{"$f":"'Bespoke Area Data'!AF135","v":0},{"$f":"'Bespoke Area Data'!AG135","v":0},{"$f":"'Bespoke Area Data'!AH135","v":0},{"$f":"'Bespoke Area Data'!AI135","v":0},{"$f":"'Bespoke Area Data'!AJ135","v":0},{"$f":"'Bespoke Area Data'!AK135","v":0},{"$f":"'Bespoke Area Data'!AL135","v":0},{"$f":"'Bespoke Area Data'!AM135","v":0},{"$f":"'Bespoke Area Data'!AN135","v":0},{"$f":"'Bespoke Area Data'!AO135","v":0},{"$f":"'Bespoke Area Data'!AP135","v":0},{"$f":"'Bespoke Area Data'!AQ135","v":0},{"$f":"'Bespoke Area Data'!AR135","v":0},{"$f":"'Bespoke Area Data'!AS135","v":0},{"$f":"'Bespoke Area Data'!AT135","v":0},{"$f":"'Bespoke Area Data'!AU135","v":0},{"$f":"'Bespoke Area Data'!AV135","v":0},{"$f":"'Bespoke Area Data'!AW135","v":0},{"$f":"'Bespoke Area Data'!AX135","v":0},{"$f":"'Bespoke Area Data'!AY135","v":0},{"$f":"'Bespoke Area Data'!AZ135","v":0},{"$f":"'Bespoke Area Data'!BA135","v":0},{"$f":"'Bespoke Area Data'!BB135","v":0},{"$f":"'Bespoke Area Data'!BC135","v":0},{"$f":"'Bespoke Area Data'!BD135","v":0},{"$f":"'Bespoke Area Data'!BE135","v":0},{"$f":"'Bespoke Area Data'!BF135","v":0},{"$f":"'Bespoke Area Data'!BG135","v":0},{"$f":"'Bespoke Area Data'!BH135","v":0},{"$f":"'Bespoke Area Data'!BI135","v":0},{"$f":"'Bespoke Area Data'!BJ135","v":0},{"$f":"'Bespoke Area Data'!BK135","v":0},{"$f":"'Bespoke Area Data'!BL135","v":0},{"$f":"'Bespoke Area Data'!BM135","v":0},{"$f":"'Bespoke Area Data'!BN135","v":0},{"$f":"'Bespoke Area Data'!BO135","v":0},{"$f":"'Bespoke Area Data'!BP135","v":0},{"$f":"'Bespoke Area Data'!BQ135","v":0},{"$f":"'Bespoke Area Data'!BR135","v":0},{"$f":"'Bespoke Area Data'!BS135","v":0},{"$f":"'Bespoke Area Data'!BT135","v":0},{"$f":"'Bespoke Area Data'!BU135","v":0},{"$f":"'Bespoke Area Data'!BV135","v":0},{"$f":"'Bespoke Area Data'!BW135","v":0},{"$f":"'Bespoke Area Data'!BX135","v":0},{"$f":"'Bespoke Area Data'!BY135","v":0},{"$f":"'Bespoke Area Data'!BZ135","v":0},{"$f":"'Bespoke Area Data'!CA135","v":0},{"$f":"'Bespoke Area Data'!CB135","v":0},{"$f":"'Bespoke Area Data'!CC135","v":0},{"$f":"'Bespoke Area Data'!CD135","v":0},{"$f":"'Bespoke Area Data'!CE135","v":0},{"$f":"'Bespoke Area Data'!CF135","v":0},{"$f":"'Bespoke Area Data'!CG135","v":0},{"$f":"'Bespoke Area Data'!CH135","v":0},{"$f":"'Bespoke Area Data'!CI135","v":0},{"$f":"'Bespoke Area Data'!CJ135","v":0},{"$f":"'Bespoke Area Data'!CK135","v":0},{"$f":"'Bespoke Area Data'!CL135","v":0},{"$f":"'Bespoke Area Data'!CM135","v":0},{"$f":"'Bespoke Area Data'!CN135","v":0},{"$f":"'Bespoke Area Data'!CO135","v":0},{"$f":"'Bespoke Area Data'!CP135","v":0},{"$f":"'Bespoke Area Data'!CQ135","v":0},{"$f":"'Bespoke Area Data'!CR135","v":0},{"$f":"'Bespoke Area Data'!CS135","v":0},{"$f":"'Bespoke Area Data'!CT135","v":0},{"$f":"'Bespoke Area Data'!CU135","v":0},{"$f":"'Bespoke Area Data'!CV135","v":0},{"$f":"'Bespoke Area Data'!CW135","v":0},{"$f":"'Bespoke Area Data'!CX135","v":0},{"$f":"'Bespoke Area Data'!CY135","v":0},{"$f":"'Bespoke Area Data'!CZ135","v":0},{"$f":"'Bespoke Area Data'!DA135","v":0},{"$f":"'Bespoke Area Data'!DB135","v":0},{"$f":"'Bespoke Area Data'!DC135","v":0},{"$f":"'Bespoke Area Data'!DD135","v":0},{"$f":"'Bespoke Area Data'!DE135","v":0},{"$f":"'Bespoke Area Data'!DF135","v":0},{"$f":"'Bespoke Area Data'!DG135","v":0},{"$f":"'Bespoke Area Data'!DH135","v":0},{"$f":"'Bespoke Area Data'!DI135","v":0}]
["Bespoke","N/A",{"$f":"IF('Bespoke Area Name'!C38=\"\",\"No bespoke area name entered; Go to sheet \"\"Bespoke Area Name\"\"\",'Bespoke Area Name'!C38)","v":"No bespoke area name entered; Go to sheet \"Bespoke Area Name\""},"AREA0035",{"$f":"'Bespoke Area Data'!D138","v":0},{"$f":"'Bespoke Area Data'!E138","v":0},{"$f":"'Bespoke Area Data'!F138","v":0},{"$f":"'Bespoke Area Data'!G138","v":0},{"$f":"'Bespoke Area Data'!H138","v":0},{"$f":"'Bespoke Area Data'!I138","v":0},{"$f":"'Bespoke Area Data'!J138","v":0},{"$f":"'Bespoke Area Data'!K138","v":0},{"$f":"'Bespoke Area Data'!L138","v":0},{"$f":"'Bespoke Area Data'!M138","v":0},{"$f":"'Bespoke Area Data'!N138","v":0},{"$f":"'Bespoke Area Data'!O138","v":0},{"$f":"'Bespoke Area Data'!P138","v":0},{"$f":"'Bespoke Area Data'!Q138","v":0},{"$f":"'Bespoke Area Data'!R138","v":0},{"$f":"'Bespoke Area Data'!S138","v":0},{"$f":"'Bespoke Area Data'!T138","v":0},{"$f":"'Bespoke Area Data'!U138","v":0},{"$f":"'Bespoke Area Data'!V138","v":0},{"$f":"'Bespoke Area Data'!W138","v":0},{"$f":"'Bespoke Area Data'!X138","v":0},{"$f":"'Bespoke Area Data'!Y138","v":0},{"$f":"'Bespoke Area Data'!Z138","v":0},{"$f":"'Bespoke Area Data'!AA138","v":0},{"$f":"'Bespoke Area Data'!AB138","v":0},{"$f":"'Bespoke Area Data'!AC138","v":0},{"$f":"'Bespoke Area Data'!AD138","v":0},{"$f":"'Bespoke Area Data'!AE138","v":0},{"$f":"'Bespoke Area Data'!AF138","v":0},{"$f":"'Bespoke Area Data'!AG138","v":0},{"$f":"'Bespoke Area Data'!AH138","v":0},{"$f":"'Bespoke Area Data'!AI138","v":0},{"$f":"'Bespoke Area Data'!AJ138","v":0},{"$f":"'Bespoke Area Data'!AK138","v":0},{"$f":"'Bespoke Area Data'!AL138","v":0},{"$f":"'Bespoke Area Data'!AM138","v":0},{"$f":"'Bespoke Area Data'!AN138","v":0},{"$f":"'Bespoke Area Data'!AO138","v":0},{"$f":"'Bespoke Area Data'!AP138","v":0},{"$f":"'Bespoke Area Data'!AQ138","v":0},{"$f":"'Bespoke Area Data'!AR138","v":0},{"$f":"'Bespoke Area Data'!AS138","v":0},{"$f":"'Bespoke Area Data'!AT138","v":0},{"$f":"'Bespoke Area Data'!AU138","v":0},{"$f":"'Bespoke Area Data'!AV138","v":0},{"$f":"'Bespoke Area Data'!AW138","v":0},{"$f":"'Bespoke Area Data'!AX138","v":0},{"$f":"'Bespoke Area Data'!AY138","v":0},{"$f":"'Bespoke Area Data'!AZ138","v":0},{"$f":"'Bespoke Area Data'!BA138","v":0},{"$f":"'Bespoke Area Data'!BB138","v":0},{"$f":"'Bespoke Area Data'!BC138","v":0},{"$f":"'Bespoke Area Data'!BD138","v":0},{"$f":"'Bespoke Area Data'!BE138","v":0},{"$f":"'Bespoke Area Data'!BF138","v":0},{"$f":"'Bespoke Area Data'!BG138","v":0},{"$f":"'Bespoke Area Data'!BH138","v":0},{"$f":"'Bespoke Area Data'!BI138","v":0},{"$f":"'Bespoke Area Data'!BJ138","v":0},{"$f":"'Bespoke Area Data'!BK138","v":0},{"$f":"'Bespoke Area Data'!BL138","v":0},{"$f":"'Bespoke Area Data'!BM138","v":0},{"$f":"'Bespoke Area Data'!BN138","v":0},{"$f":"'Bespoke Area Data'!BO138","v":0},{"$f":"'Bespoke Area Data'!BP138","v":0},{"$f":"'Bespoke Area Data'!BQ138","v":0},{"$f":"'Bespoke Area Data'!BR138","v":0},{"$f":"'Bespoke Area Data'!BS138","v":0},{"$f":"'Bespoke Area Data'!BT138","v":0},{"$f":"'Bespoke Area Data'!BU138","v":0},{"$f":"'Bespoke Area Data'!BV138","v":0},{"$f":"'Bespoke Area Data'!BW138","v":0},{"$f":"'Bespoke Area Data'!BX138","v":0},{"$f":"'Bespoke Area Data'!BY138","v":0},{"$f":"'Bespoke Area Data'!BZ138","v":0},{"$f":"'Bespoke Area Data'!CA138","v":0},{"$f":"'Bespoke Area Data'!CB138","v":0},{"$f":"'Bespoke Area Data'!CC138","v":0},{"$f":"'Bespoke Area Data'!CD138","v":0},{"$f":"'Bespoke Area Data'!CE138","v":0},{"$f":"'Bespoke Area Data'!CF138","v":0},{"$f":"'Bespoke Area Data'!CG138","v":0},{"$f":"'Bespoke Area Data'!CH138","v":0},{"$f":"'Bespoke Area Data'!CI138","v":0},{"$f":"'Bespoke Area Data'!CJ138","v":0},{"$f":"'Bespoke Area Data'!CK138","v":0},{"$f":"'Bespoke Area Data'!CL138","v":0},{"$f":"'Bespoke Area Data'!CM138","v":0},{"$f":"'Bespoke Area Data'!CN138","v":0},{"$f":"'Bespoke Area Data'!CO138","v":0},{"$f":"'Bespoke Area Data'!CP138","v":0},{"$f":"'Bespoke Area Data'!CQ138","v":0},{"$f":"'Bespoke Area Data'!CR138","v":0},{"$f":"'Bespoke Area Data'!CS138","v":0},{"$f":"'Bespoke Area Data'!CT138","v":0},{"$f":"'Bespoke Area Data'!CU138","v":0},{"$f":"'Bespoke Area Data'!CV138","v":0},{"$f":"'Bespoke Area Data'!CW138","v":0},{"$f":"'Bespoke Area Data'!CX138","v":0},{"$f":"'Bespoke Area Data'!CY138","v":0},{"$f":"'Bespoke Area Data'!CZ138","v":0},{"$f":"'Bespoke Area Data'!DA138","v":0},{"$f":"'Bespoke Area Data'!DB138","v":0},{"$f":"'Bespoke Area Data'!DC138","v":0},{"$f":"'Bespoke Area Data'!DD138","v":0},{"$f":"'Bespoke Area Data'!DE138","v":0},{"$f":"'Bespoke Area Data'!DF138","v":0},{"$f":"'Bespoke Area Data'!DG138","v":0},{"$f":"'Bespoke Area Data'!DH138","v":0},{"$f":"'Bespoke Area Data'!DI138","v":0},{"$f":"'Bespoke Area Data'!DJ138","v":0},{"$f":"'Bespoke Area Data'!DK138","v":0},{"$f":"'Bespoke Area Data'!DL138","v":0},{"$f":"'Bespoke Area Data'!DM138","v":0},{"$f":"'Bespoke Area Data'!DN138","v":0},{"$f":"'Bespoke Area Data'!DO138","v":0},{"$f":"'Bespoke Area Data'!DP138","v":0},{"$f":"'Bespoke Area Data'!DQ138","v":0},{"$f":"'Bespoke Area Data'!DR138","v":0},{"$f":"'Bespoke Area Data'!DS138","v":0},{"$f":"'Bespoke Area Data'!DT138","v":0},{"$f":"'Bespoke Area Data'!DU138","v":0},{"$f":"'Bespoke Area Data'!DV138","v":0},{"$f":"'Bespoke Area Data'!DW138","v":0},{"$f":"'Bespoke Area Data'!DX138","v":0},{"$f":"'Bespoke Area Data'!DY138","v":0},{"$f":"'Bespoke Area Data'!DZ138","v":0},{"$f":"'Bespoke Area Data'!EA138","v":0},{"$f":"'Bespoke Area Data'!EB138","v":0},{"$f":"'Bespoke Area Data'!EC138","v":0},{"$f":"'Bespoke Area Data'!ED138","v":0},{"$f":"'Bespoke Area Data'!EE138","v":0},{"$f":"'Bespoke Area Data'!EF138","v":0},{"$f":"'Bespoke Area Data'!EG138","v":0},{"$f":"'Bespoke Area Data'!EH138","v":0},{"$f":"'Bespoke Area Data'!D139","v":0},{"$f":"'Bespoke Area Data'!E139","v":0},{"$f":"'Bespoke Area Data'!F139","v":0},{"$f":"'Bespoke Area Data'!G139","v":0},{"$f":"'Bespoke Area Data'!H139","v":0},{"$f":"'Bespoke Area Data'!I139","v":0},{"$f":"'Bespoke Area Data'!J139","v":0},{"$f":"'Bespoke Area Data'!K139","v":0},{"$f":"'Bespoke Area Data'!L139","v":0},{"$f":"'Bespoke Area Data'!M139","v":0},{"$f":"'Bespoke Area Data'!N139","v":0},{"$f":"'Bespoke Area Data'!O139","v":0},{"$f":"'Bespoke Area Data'!P139","v":0},{"$f":"'Bespoke Area Data'!Q139","v":0},{"$f":"'Bespoke Area Data'!R139","v":0},{"$f":"'Bespoke Area Data'!S139","v":0},{"$f":"'Bespoke Area Data'!T139","v":0},{"$f":"'Bespoke Area Data'!U139","v":0},{"$f":"'Bespoke Area Data'!V139","v":0},{"$f":"'Bespoke Area Data'!W139","v":0},{"$f":"'Bespoke Area Data'!X139","v":0},{"$f":"'Bespoke Area Data'!Y139","v":0},{"$f":"'Bespoke Area Data'!Z139","v":0},{"$f":"'Bespoke Area Data'!AA139","v":0},{"$f":"'Bespoke Area Data'!AB139","v":0},{"$f":"'Bespoke Area Data'!AC139","v":0},{"$f":"'Bespoke Area Data'!AD139","v":0},{"$f":"'Bespoke Area Data'!AE139","v":0},{"$f":"'Bespoke Area Data'!AF139","v":0},{"$f":"'Bespoke Area Data'!AG139","v":0},{"$f":"'Bespoke Area Data'!AH139","v":0},{"$f":"'Bespoke Area Data'!AI139","v":0},{"$f":"'Bespoke Area Data'!AJ139","v":0},{"$f":"'Bespoke Area Data'!AK139","v":0},{"$f":"'Bespoke Area Data'!AL139","v":0},{"$f":"'Bespoke Area Data'!AM139","v":0},{"$f":"'Bespoke Area Data'!AN139","v":0},{"$f":"'Bespoke Area Data'!AO139","v":0},{"$f":"'Bespoke Area Data'!AP139","v":0},{"$f":"'Bespoke Area Data'!AQ139","v":0},{"$f":"'Bespoke Area Data'!AR139","v":0},{"$f":"'Bespoke Area Data'!AS139","v":0},{"$f":"'Bespoke Area Data'!AT139","v":0},{"$f":"'Bespoke Area Data'!AU139","v":0},{"$f":"'Bespoke Area Data'!AV139","v":0},{"$f":"'Bespoke Area Data'!AW139","v":0},{"$f":"'Bespoke Area Data'!AX139","v":0},{"$f":"'Bespoke Area Data'!AY139","v":0},{"$f":"'Bespoke Area Data'!AZ139","v":0},{"$f":"'Bespoke Area Data'!BA139","v":0},{"$f":"'Bespoke Area Data'!BB139","v":0},{"$f":"'Bespoke Area Data'!BC139","v":0},{"$f":"'Bespoke Area Data'!BD139","v":0},{"$f":"'Bespoke Area Data'!BE139","v":0},{"$f":"'Bespoke Area Data'!BF139","v":0},{"$f":"'Bespoke Area Data'!BG139","v":0},{"$f":"'Bespoke Area Data'!BH139","v":0},{"$f":"'Bespoke Area Data'!BI139","v":0},{"$f":"'Bespoke Area Data'!BJ139","v":0},{"$f":"'Bespoke Area Data'!BK139","v":0},{"$f":"'Bespoke Area Data'!BL139","v":0},{"$f":"'Bespoke Area Data'!BM139","v":0},{"$f":"'Bespoke Area Data'!BN139","v":0},{"$f":"'Bespoke Area Data'!BO139","v":0},{"$f":"'Bespoke Area Data'!BP139","v":0},{"$f":"'Bespoke Area Data'!BQ139","v":0},{"$f":"'Bespoke Area Data'!BR139","v":0},{"$f":"'Bespoke Area Data'!BS139","v":0},{"$f":"'Bespoke Area Data'!BT139","v":0},{"$f":"'Bespoke Area Data'!BU139","v":0},{"$f":"'Bespoke Area Data'!BV139","v":0},{"$f":"'Bespoke Area Data'!BW139","v":0},{"$f":"'Bespoke Area Data'!BX139","v":0},{"$f":"'Bespoke Area Data'!BY139","v":0},{"$f":"'Bespoke Area Data'!BZ139","v":0},{"$f":"'Bespoke Area Data'!CA139","v":0},{"$f":"'Bespoke Area Data'!CB139","v":0},{"$f":"'Bespoke Area Data'!CC139","v":0},{"$f":"'Bespoke Area Data'!CD139","v":0},{"$f":"'Bespoke Area Data'!CE139","v":0},{"$f":"'Bespoke Area Data'!CF139","v":0},{"$f":"'Bespoke Area Data'!CG139","v":0},{"$f":"'Bespoke Area Data'!CH139","v":0},{"$f":"'Bespoke Area Data'!CI139","v":0},{"$f":"'Bespoke Area Data'!CJ139","v":0},{"$f":"'Bespoke Area Data'!CK139","v":0},{"$f":"'Bespoke Area Data'!CL139","v":0},{"$f":"'Bespoke Area Data'!CM139","v":0},{"$f":"'Bespoke Area Data'!CN139","v":0},{"$f":"'Bespoke Area Data'!CO139","v":0},{"$f":"'Bespoke Area Data'!CP139","v":0},{"$f":"'Bespoke Area Data'!CQ139","v":0},{"$f":"'Bespoke Area Data'!CR139","v":0},{"$f":"'Bespoke Area Data'!CS139","v":0},{"$f":"'Bespoke Area Data'!CT139","v":0},{"$f":"'Bespoke Area Data'!CU139","v":0},{"$f":"'Bespoke Area Data'!CV139","v":0},{"$f":"'Bespoke Area Data'!CW139","v":0},{"$f":"'Bespoke Area Data'!CX139","v":0},{"$f":"'Bespoke Area Data'!CY139","v":0},{"$f":"'Bespoke Area Data'!CZ139","v":0},{"$f":"'Bespoke Area Data'!DA139","v":0},{"$f":"'Bespoke Area Data'!DB139","v":0},{"$f":"'Bespoke Area Data'!DC139","v":0},{"$f":"'Bespoke Area Data'!DD139","v":0},{"$f":"'Bespoke Area Data'!DE139","v":0},{"$f":"'Bespoke Area Data'!DF139","v":0},{"$f":"'Bespoke Area Data'!DG139","v":0},{"$f":"'Bespoke Area Data'!DH139","v":0},{"$f":"'Bespoke Area Data'!DI139","v":0}]
["Bespoke","N/A",{"$f":"IF('Bespoke Area Name'!C39=\"\",\"No bespoke area name entered; Go to sheet \"\"Bespoke Area Name\"\"\",'Bespoke Area Name'!C39)","v":"No bespoke area name entered; Go to sheet \"Bespoke Area Name\""},"AREA0036",{"$f":"'Bespoke Area Data'!D142","v":0},{"$f":"'Bespoke Area Data'!E142","v":0},{"$f":"'Bespoke Area Data'!F142","v":0},{"$f":"'Bespoke Area Data'!G142","v":0},{"$f":"'Bespoke Area Data'!H142","v":0},{"$f":"'Bespoke Area Data'!I142","v":0},{"$f":"'Bespoke Area Data'!J142","v":0},{"$f":"'Bespoke Area Data'!K142","v":0},{"$f":"'Bespoke Area Data'!L142","v":0},{"$f":"'Bespoke Area Data'!M142","v":0},{"$f":"'Bespoke Area Data'!N142","v":0},{"$f":"'Bespoke Area Data'!O142","v":0},{"$f":"'Bespoke Area Data'!P142","v":0},{"$f":"'Bespoke Area Data'!Q142","v":0},{"$f":"'Bespoke Area Data'!R142","v":0},{"$f":"'Bespoke Area Data'!S142","v":0},{"$f":"'Bespoke Area Data'!T142","v":0},{"$f":"'Bespoke Area Data'!U142","v":0},{"$f":"'Bespoke Area Data'!V142","v":0},{"$f":"'Bespoke Area Data'!W142","v":0},{"$f":"'Bespoke Area Data'!X142","v":0},{"$f":"'Bespoke Area Data'!Y142","v":0},{"$f":"'Bespoke Area Data'!Z142","v":0},{"$f":"'Bespoke Area Data'!AA142","v":0},{"$f":"'Bespoke Area Data'!AB142","v":0},{"$f":"'Bespoke Area Data'!AC142","v":0},{"$f":"'Bespoke Area Data'!AD142","v":0},{"$f":"'Bespoke Area Data'!AE142","v":0},{"$f":"'Bespoke Area Data'!AF142","v":0},{"$f":"'Bespoke Area Data'!AG142","v":0},{"$f":"'Bespoke Area Data'!AH142","v":0},{"$f":"'Bespoke Area Data'!AI142","v":0},{"$f":"'Bespoke Area Data'!AJ142","v":0},{"$f":"'Bespoke Area Data'!AK142","v":0},{"$f":"'Bespoke Area Data'!AL142","v":0},{"$f":"'Bespoke Area Data'!AM142","v":0},{"$f":"'Bespoke Area Data'!AN142","v":0},{"$f":"'Bespoke Area Data'!AO142","v":0},{"$f":"'Bespoke Area Data'!AP142","v":0},{"$f":"'Bespoke Area Data'!AQ142","v":0},{"$f":"'Bespoke Area Data'!AR142","v":0},{"$f":"'Bespoke Area Data'!AS142","v":0},{"$f":"'Bespoke Area Data'!AT142","v":0},{"$f":"'Bespoke Area Data'!AU142","v":0},{"$f":"'Bespoke Area Data'!AV142","v":0},{"$f":"'Bespoke Area Data'!AW142","v":0},{"$f":"'Bespoke Area Data'!AX142","v":0},{"$f":"'Bespoke Area Data'!AY142","v":0},{"$f":"'Bespoke Area Data'!AZ142","v":0},{"$f":"'Bespoke Area Data'!BA142","v":0},{"$f":"'Bespoke Area Data'!BB142","v":0},{"$f":"'Bespoke Area Data'!BC142","v":0},{"$f":"'Bespoke Area Data'!BD142","v":0},{"$f":"'Bespoke Area Data'!BE142","v":0},{"$f":"'Bespoke Area Data'!BF142","v":0},{"$f":"'Bespoke Area Data'!BG142","v":0},{"$f":"'Bespoke Area Data'!BH142","v":0},{"$f":"'Bespoke Area Data'!BI142","v":0},{"$f":"'Bespoke Area Data'!BJ142","v":0},{"$f":"'Bespoke Area Data'!BK142","v":0},{"$f":"'Bespoke Area Data'!BL142","v":0},{"$f":"'Bespoke Area Data'!BM142","v":0},{"$f":"'Bespoke Area Data'!BN142","v":0},{"$f":"'Bespoke Area Data'!BO142","v":0},{"$f":"'Bespoke Area Data'!BP142","v":0},{"$f":"'Bespoke Area Data'!BQ142","v":0},{"$f":"'Bespoke Area Data'!BR142","v":0},{"$f":"'Bespoke Area Data'!BS142","v":0},{"$f":"'Bespoke Area Data'!BT142","v":0},{"$f":"'Bespoke Area Data'!BU142","v":0},{"$f":"'Bespoke Area Data'!BV142","v":0},{"$f":"'Bespoke Area Data'!BW142","v":0},{"$f":"'Bespoke Area Data'!BX142","v":0},{"$f":"'Bespoke Area Data'!BY142","v":0},{"$f":"'Bespoke Area Data'!BZ142","v":0},{"$f":"'Bespoke Area Data'!CA142","v":0},{"$f":"'Bespoke Area Data'!CB142","v":0},{"$f":"'Bespoke Area Data'!CC142","v":0},{"$f":"'Bespoke Area Data'!CD142","v":0},{"$f":"'Bespoke Area Data'!CE142","v":0},{"$f":"'Bespoke Area Data'!CF142","v":0},{"$f":"'Bespoke Area Data'!CG142","v":0},{"$f":"'Bespoke Area Data'!CH142","v":0},{"$f":"'Bespoke Area Data'!CI142","v":0},{"$f":"'Bespoke Area Data'!CJ142","v":0},{"$f":"'Bespoke Area Data'!CK142","v":0},{"$f":"'Bespoke Area Data'!CL142","v":0},{"$f":"'Bespoke Area Data'!CM142","v":0},{"$f":"'Bespoke Area Data'!CN142","v":0},{"$f":"'Bespoke Area Data'!CO142","v":0},{"$f":"'Bespoke Area Data'!CP142","v":0},{"$f":"'Bespoke Area Data'!CQ142","v":0},{"$f":"'Bespoke Area Data'!CR142","v":0},{"$f":"'Bespoke Area Data'!CS142","v":0},{"$f":"'Bespoke Area Data'!CT142","v":0},{"$f":"'Bespoke Area Data'!CU142","v":0},{"$f":"'Bespoke Area Data'!CV142","v":0},{"$f":"'Bespoke Area Data'!CW142","v":0},{"$f":"'Bespoke Area Data'!CX142","v":0},{"$f":"'Bespoke Area Data'!CY142","v":0},{"$f":"'Bespoke Area Data'!CZ142","v":0},{"$f":"'Bespoke Area Data'!DA142","v":0},{"$f":"'Bespoke Area Data'!DB142","v":0},{"$f":"'Bespoke Area Data'!DC142","v":0},{"$f":"'Bespoke Area Data'!DD142","v":0},{"$f":"'Bespoke Area Data'!DE142","v":0},{"$f":"'Bespoke Area Data'!DF142","v":0},{"$f":"'Bespoke Area Data'!DG142","v":0},{"$f":"'Bespoke Area Data'!DH142","v":0},{"$f":"'Bespoke Area Data'!DI142","v":0},{"$f":"'Bespoke Area Data'!DJ142","v":0},{"$f":"'Bespoke Area Data'!DK142","v":0},{"$f":"'Bespoke Area Data'!DL142","v":0},{"$f":"'Bespoke Area Data'!DM142","v":0},{"$f":"'Bespoke Area Data'!DN142","v":0},{"$f":"'Bespoke Area Data'!DO142","v":0},{"$f":"'Bespoke Area Data'!DP142","v":0},{"$f":"'Bespoke Area Data'!DQ142","v":0},{"$f":"'Bespoke Area Data'!DR142","v":0},{"$f":"'Bespoke Area Data'!DS142","v":0},{"$f":"'Bespoke Area Data'!DT142","v":0},{"$f":"'Bespoke Area Data'!DU142","v":0},{"$f":"'Bespoke Area Data'!DV142","v":0},{"$f":"'Bespoke Area Data'!DW142","v":0},{"$f":"'Bespoke Area Data'!DX142","v":0},{"$f":"'Bespoke Area Data'!DY142","v":0},{"$f":"'Bespoke Area Data'!DZ142","v":0},{"$f":"'Bespoke Area Data'!EA142","v":0},{"$f":"'Bespoke Area Data'!EB142","v":0},{"$f":"'Bespoke Area Data'!EC142","v":0},{"$f":"'Bespoke Area Data'!ED142","v":0},{"$f":"'Bespoke Area Data'!EE142","v":0},{"$f":"'Bespoke Area Data'!EF142","v":0},{"$f":"'Bespoke Area Data'!EG142","v":0},{"$f":"'Bespoke Area Data'!EH142","v":0},{"$f":"'Bespoke Area Data'!D143","v":0},{"$f":"'Bespoke Area Data'!E143","v":0},{"$f":"'Bespoke Area Data'!F143","v":0},{"$f":"'Bespoke Area Data'!G143","v":0},{"$f":"'Bespoke Area Data'!H143","v":0},{"$f":"'Bespoke Area Data'!I143","v":0},{"$f":"'Bespoke Area Data'!J143","v":0},{"$f":"'Bespoke Area Data'!K143","v":0},{"$f":"'Bespoke Area Data'!L143","v":0},{"$f":"'Bespoke Area Data'!M143","v":0},{"$f":"'Bespoke Area Data'!N143","v":0},{"$f":"'Bespoke Area Data'!O143","v":0},{"$f":"'Bespoke Area Data'!P143","v":0},{"$f":"'Bespoke Area Data'!Q143","v":0},{"$f":"'Bespoke Area Data'!R143","v":0},{"$f":"'Bespoke Area Data'!S143","v":0},{"$f":"'Bespoke Area Data'!T143","v":0},{"$f":"'Bespoke Area Data'!U143","v":0},{"$f":"'Bespoke Area Data'!V143","v":0},{"$f":"'Bespoke Area Data'!W143","v":0},{"$f":"'Bespoke Area Data'!X143","v":0},{"$f":"'Bespoke Area Data'!Y143","v":0},{"$f":"'Bespoke Area Data'!Z143","v":0},{"$f":"'Bespoke Area Data'!AA143","v":0},{"$f":"'Bespoke Area Data'!AB143","v":0},{"$f":"'Bespoke Area Data'!AC143","v":0},{"$f":"'Bespoke Area Data'!AD143","v":0},{"$f":"'Bespoke Area Data'!AE143","v":0},{"$f":"'Bespoke Area Data'!AF143","v":0},{"$f":"'Bespoke Area Data'!AG143","v":0},{"$f":"'Bespoke Area Data'!AH143","v":0},{"$f":"'Bespoke Area Data'!AI143","v":0},{"$f":"'Bespoke Area Data'!AJ143","v":0},{"$f":"'Bespoke Area Data'!AK143","v":0},{"$f":"'Bespoke Area Data'!AL143","v":0},{"$f":"'Bespoke Area Data'!AM143","v":0},{"$f":"'Bespoke Area Data'!AN143","v":0},{"$f":"'Bespoke Area Data'!AO143","v":0},{"$f":"'Bespoke Area Data'!AP143","v":0},{"$f":"'Bespoke Area Data'!AQ143","v":0},{"$f":"'Bespoke Area Data'!AR143","v":0},{"$f":"'Bespoke Area Data'!AS143","v":0},{"$f":"'Bespoke Area Data'!AT143","v":0},{"$f":"'Bespoke Area Data'!AU143","v":0},{"$f":"'Bespoke Area Data'!AV143","v":0},{"$f":"'Bespoke Area Data'!AW143","v":0},{"$f":"'Bespoke Area Data'!AX143","v":0},{"$f":"'Bespoke Area Data'!AY143","v":0},{"$f":"'Bespoke Area Data'!AZ143","v":0},{"$f":"'Bespoke Area Data'!BA143","v":0},{"$f":"'Bespoke Area Data'!BB143","v":0},{"$f":"'Bespoke Area Data'!BC143","v":0},{"$f":"'Bespoke Area Data'!BD143","v":0},{"$f":"'Bespoke Area Data'!BE143","v":0},{"$f":"'Bespoke Area Data'!BF143","v":0},{"$f":"'Bespoke Area Data'!BG143","v":0},{"$f":"'Bespoke Area Data'!BH143","v":0},{"$f":"'Bespoke Area Data'!BI143","v":0},{"$f":"'Bespoke Area Data'!BJ143","v":0},{"$f":"'Bespoke Area Data'!BK143","v":0},{"$f":"'Bespoke Area Data'!BL143","v":0},{"$f":"'Bespoke Area Data'!BM143","v":0},{"$f":"'Bespoke Area Data'!BN143","v":0},{"$f":"'Bespoke Area Data'!BO143","v":0},{"$f":"'Bespoke Area Data'!BP143","v":0},{"$f":"'Bespoke Area Data'!BQ143","v":0},{"$f":"'Bespoke Area Data'!BR143","v":0},{"$f":"'Bespoke Area Data'!BS143","v":0},{"$f":"'Bespoke Area Data'!BT143","v":0},{"$f":"'Bespoke Area Data'!BU143","v":0},{"$f":"'Bespoke Area Data'!BV143","v":0},{"$f":"'Bespoke Area Data'!BW143","v":0},{"$f":"'Bespoke Area Data'!BX143","v":0},{"$f":"'Bespoke Area Data'!BY143","v":0},{"$f":"'Bespoke Area Data'!BZ143","v":0},{"$f":"'Bespoke Area Data'!CA143","v":0},{"$f":"'Bespoke Area Data'!CB143","v":0},{"$f":"'Bespoke Area Data'!CC143","v":0},{"$f":"'Bespoke Area Data'!CD143","v":0},{"$f":"'Bespoke Area Data'!CE143","v":0},{"$f":"'Bespoke Area Data'!CF143","v":0},{"$f":"'Bespoke Area Data'!CG143","v":0},{"$f":"'Bespoke Area Data'!CH143","v":0},{"$f":"'Bespoke Area Data'!CI143","v":0},{"$f":"'Bespoke Area Data'!CJ143","v":0},{"$f":"'Bespoke Area Data'!CK143","v":0},{"$f":"'Bespoke Area Data'!CL143","v":0},{"$f":"'Bespoke Area Data'!CM143","v":0},{"$f":"'Bespoke Area Data'!CN143","v":0},{"$f":"'Bespoke Area Data'!CO143","v":0},{"$f":"'Bespoke Area Data'!CP143","v":0},{"$f":"'Bespoke Area Data'!CQ143","v":0},{"$f":"'Bespoke Area Data'!CR143","v":0},{"$f":"'Bespoke Area Data'!CS143","v":0},{"$f":"'Bespoke Area Data'!CT143","v":0},{"$f":"'Bespoke Area Data'!CU143","v":0},{"$f":"'Bespoke Area Data'!CV143","v":0},{"$f":"'Bespoke Area Data'!CW143","v":0},{"$f":"'Bespoke Area Data'!CX143","v":0},{"$f":"'Bespoke Area Data'!CY143","v":0},{"$f":"'Bespoke Area Data'!CZ143","v":0},{"$f":"'Bespoke Area Data'!DA143","v":0},{"$f":"'Bespoke Area Data'!DB143","v":0},{"$f":"'Bespoke Area Data'!DC143","v":0},{"$f":"'Bespoke Area Data'!DD143","v":0},{"$f":"'Bespoke Area Data'!DE143","v":0},{"$f":"'Bespoke Area Data'!DF143","v":0},{"$f":"'Bespoke Area Data'!DG143","v":0},{"$f":"'Bespoke Area Data'!DH143","v":0},{"$f":"'Bespoke Area Data'!DI143","v":0}]
["Bespoke","N/A",{"$f":"IF('Bespoke Area Name'!C40=\"\",\"No bespoke area name entered; Go to sheet \"\"Bespoke Area Name\"\"\",'Bespoke Area Name'!C40)","v":"No bespoke area name entered; Go to sheet \"Bespoke Area Name\""},"AREA0037",{"$f":"'Bespoke Area Data'!D146","v":0},{"$f":"'Bespoke Area Data'!E146","v":0},{"$f":"'Bespoke Area Data'!F146","v":0},{"$f":"'Bespoke Area Data'!G146","v":0},{"$f":"'Bespoke Area Data'!H146","v":0},{"$f":"'Bespoke Area Data'!I146","v":0},{"$f":"'Bespoke Area Data'!J146","v":0},{"$f":"'Bespoke Area Data'!K146","v":0},{"$f":"'Bespoke Area Data'!L146","v":0},{"$f":"'Bespoke Area Data'!M146","v":0},{"$f":"'Bespoke Area Data'!N146","v":0},{"$f":"'Bespoke Area Data'!O146","v":0},{"$f":"'Bespoke Area Data'!P146","v":0},{"$f":"'Bespoke Area Data'!Q146","v":0},{"$f":"'Bespoke Area Data'!R146","v":0},{"$f":"'Bespoke Area Data'!S146","v":0},{"$f":"'Bespoke Area Data'!T146","v":0},{"$f":"'Bespoke Area Data'!U146","v":0},{"$f":"'Bespoke Area Data'!V146","v":0},{"$f":"'Bespoke Area Data'!W146","v":0},{"$f":"'Bespoke Area Data'!X146","v":0},{"$f":"'Bespoke Area Data'!Y146","v":0},{"$f":"'Bespoke Area Data'!Z146","v":0},{"$f":"'Bespoke Area Data'!AA146","v":0},{"$f":"'Bespoke Area Data'!AB146","v":0},{"$f":"'Bespoke Area Data'!AC146","v":0},{"$f":"'Bespoke Area Data'!AD146","v":0},{"$f":"'Bespoke Area Data'!AE146","v":0},{"$f":"'Bespoke Area Data'!AF146","v":0},{"$f":"'Bespoke Area Data'!AG146","v":0},{"$f":"'Bespoke Area Data'!AH146","v":0},{"$f":"'Bespoke Area Data'!AI146","v":0},{"$f":"'Bespoke Area Data'!AJ146","v":0},{"$f":"'Bespoke Area Data'!AK146","v":0},{"$f":"'Bespoke Area Data'!AL146","v":0},{"$f":"'Bespoke Area Data'!AM146","v":0},{"$f":"'Bespoke Area Data'!AN146","v":0},{"$f":"'Bespoke Area Data'!AO146","v":0},{"$f":"'Bespoke Area Data'!AP146","v":0},{"$f":"'Bespoke Area Data'!AQ146","v":0},{"$f":"'Bespoke Area Data'!AR146","v":0},{"$f":"'Bespoke Area Data'!AS146","v":0},{"$f":"'Bespoke Area Data'!AT146","v":0},{"$f":"'Bespoke Area Data'!AU146","v":0},{"$f":"'Bespoke Area Data'!AV146","v":0},{"$f":"'Bespoke Area Data'!AW146","v":0},{"$f":"'Bespoke Area Data'!AX146","v":0},{"$f":"'Bespoke Area Data'!AY146","v":0},{"$f":"'Bespoke Area Data'!AZ146","v":0},{"$f":"'Bespoke Area Data'!BA146","v":0},{"$f":"'Bespoke Area Data'!BB146","v":0},{"$f":"'Bespoke Area Data'!BC146","v":0},{"$f":"'Bespoke Area Data'!BD146","v":0},{"$f":"'Bespoke Area Data'!BE146","v":0},{"$f":"'Bespoke Area Data'!BF146","v":0},{"$f":"'Bespoke Area Data'!BG146","v":0},{"$f":"'Bespoke Area Data'!BH146","v":0},{"$f":"'Bespoke Area Data'!BI146","v":0},{"$f":"'Bespoke Area Data'!BJ146","v":0},{"$f":"'Bespoke Area Data'!BK146","v":0},{"$f":"'Bespoke Area Data'!BL146","v":0},{"$f":"'Bespoke Area Data'!BM146","v":0},{"$f":"'Bespoke Area Data'!BN146","v":0},{"$f":"'Bespoke Area Data'!BO146","v":0},{"$f":"'Bespoke Area Data'!BP146","v":0},{"$f":"'Bespoke Area Data'!BQ146","v":0},{"$f":"'Bespoke Area Data'!BR146","v":0},{"$f":"'Bespoke Area Data'!BS146","v":0},{"$f":"'Bespoke Area Data'!BT146","v":0},{"$f":"'Bespoke Area Data'!BU146","v":0},{"$f":"'Bespoke Area Data'!BV146","v":0},{"$f":"'Bespoke Area Data'!BW146","v":0},{"$f":"'Bespoke Area Data'!BX146","v":0},{"$f":"'Bespoke Area Data'!BY146","v":0},{"$f":"'Bespoke Area Data'!BZ146","v":0},{"$f":"'Bespoke Area Data'!CA146","v":0},{"$f":"'Bespoke Area Data'!CB146","v":0},{"$f":"'Bespoke Area Data'!CC146","v":0},{"$f":"'Bespoke Area Data'!CD146","v":0},{"$f":"'Bespoke Area Data'!CE146","v":0},{"$f":"'Bespoke Area Data'!CF146","v":0},{"$f":"'Bespoke Area Data'!CG146","v":0},{"$f":"'Bespoke Area Data'!CH146","v":0},{"$f":"'Bespoke Area Data'!CI146","v":0},{"$f":"'Bespoke Area Data'!CJ146","v":0},{"$f":"'Bespoke Area Data'!CK146","v":0},{"$f":"'Bespoke Area Data'!CL146","v":0},{"$f":"'Bespoke Area Data'!CM146","v":0},{"$f":"'Bespoke Area Data'!CN146","v":0},{"$f":"'Bespoke Area Data'!CO146","v":0},{"$f":"'Bespoke Area Data'!CP146","v":0},{"$f":"'Bespoke Area Data'!CQ146","v":0},{"$f":"'Bespoke Area Data'!CR146","v":0},{"$f":"'Bespoke Area Data'!CS146","v":0},{"$f":"'Bespoke Area Data'!CT146","v":0},{"$f":"'Bespoke Area Data'!CU146","v":0},{"$f":"'Bespoke Area Data'!CV146","v":0},{"$f":"'Bespoke Area Data'!CW146","v":0},{"$f":"'Bespoke Area Data'!CX146","v":0},{"$f":"'Bespoke Area Data'!CY146","v":0},{"$f":"'Bespoke Area Data'!CZ146","v":0},{"$f":"'Bespoke Area Data'!DA146","v":0},{"$f":"'Bespoke Area Data'!DB146","v":0},{"$f":"'Bespoke Area Data'!DC146","v":0},{"$f":"'Bespoke Area Data'!DD146","v":0},{"$f":"'Bespoke Area Data'!DE146","v":0},{"$f":"'Bespoke Area Data'!DF146","v":0},{"$f":"'Bespoke Area Data'!DG146","v":0},{"$f":"'Bespoke Area Data'!DH146","v":0},{"$f":"'Bespoke Area Data'!DI146","v":0},{"$f":"'Bespoke Area Data'!DJ146","v":0},{"$f":"'Bespoke Area Data'!DK146","v":0},{"$f":"'Bespoke Area Data'!DL146","v":0},{"$f":"'Bespoke Area Data'!DM146","v":0},{"$f":"'Bespoke Area Data'!DN146","v":0},{"$f":"'Bespoke Area Data'!DO146","v":0},{"$f":"'Bespoke Area Data'!DP146","v":0},{"$f":"'Bespoke Area Data'!DQ146","v":0},{"$f":"'Bespoke Area Data'!DR146","v":0},{"$f":"'Bespoke Area Data'!DS146","v":0},{"$f":"'Bespoke Area Data'!DT146","v":0},{"$f":"'Bespoke Area Data'!DU146","v":0},{"$f":"'Bespoke Area Data'!DV146","v":0},{"$f":"'Bespoke Area Data'!DW146","v":0},{"$f":"'Bespoke Area Data'!DX146","v":0},{"$f":"'Bespoke Area Data'!DY146","v":0},{"$f":"'Bespoke Area Data'!DZ146","v":0},{"$f":"'Bespoke Area Data'!EA146","v":0},{"$f":"'Bespoke Area Data'!EB146","v":0},{"$f":"'Bespoke Area Data'!EC146","v":0},{"$f":"'Bespoke Area Data'!ED146","v":0},{"$f":"'Bespoke Area Data'!EE146","v":0},{"$f":"'Bespoke Area Data'!EF146","v":0},{"$f":"'Bespoke Area Data'!EG146","v":0},{"$f":"'Bespoke Area Data'!EH146","v":0},{"$f":"'Bespoke Area Data'!D147","v":0},{"$f":"'Bespoke Area Data'!E147","v":0},{"$f":"'Bespoke Area Data'!F147","v":0},{"$f":"'Bespoke Area Data'!G147","v":0},{"$f":"'Bespoke Area Data'!H147","v":0},{"$f":"'Bespoke Area Data'!I147","v":0},{"$f":"'Bespoke Area Data'!J147","v":0},{"$f":"'Bespoke Area Data'!K147","v":0},{"$f":"'Bespoke Area Data'!L147","v":0},{"$f":"'Bespoke Area Data'!M147","v":0},{"$f":"'Bespoke Area Data'!N147","v":0},{"$f":"'Bespoke Area Data'!O147","v":0},{"$f":"'Bespoke Area Data'!P147","v":0},{"$f":"'Bespoke Area Data'!Q147","v":0},{"$f":"'Bespoke Area Data'!R147","v":0},{"$f":"'Bespoke Area Data'!S147","v":0},{"$f":"'Bespoke Area Data'!T147","v":0},{"$f":"'Bespoke Area Data'!U147","v":0},{"$f":"'Bespoke Area Data'!V147","v":0},{"$f":"'Bespoke Area Data'!W147","v":0},{"$f":"'Bespoke Area Data'!X147","v":0},{"$f":"'Bespoke Area Data'!Y147","v":0},{"$f":"'Bespoke Area Data'!Z147","v":0},{"$f":"'Bespoke Area Data'!AA147","v":0},{"$f":"'Bespoke Area Data'!AB147","v":0},{"$f":"'Bespoke Area Data'!AC147","v":0},{"$f":"'Bespoke Area Data'!AD147","v":0},{"$f":"'Bespoke Area Data'!AE147","v":0},{"$f":"'Bespoke Area Data'!AF147","v":0},{"$f":"'Bespoke Area Data'!AG147","v":0},{"$f":"'Bespoke Area Data'!AH147","v":0},{"$f":"'Bespoke Area Data'!AI147","v":0},{"$f":"'Bespoke Area Data'!AJ147","v":0},{"$f":"'Bespoke Area Data'!AK147","v":0},{"$f":"'Bespoke Area Data'!AL147","v":0},{"$f":"'Bespoke Area Data'!AM147","v":0},{"$f":"'Bespoke Area Data'!AN147","v":0},{"$f":"'Bespoke Area Data'!AO147","v":0},{"$f":"'Bespoke Area Data'!AP147","v":0},{"$f":"'Bespoke Area Data'!AQ147","v":0},{"$f":"'Bespoke Area Data'!AR147","v":0},{"$f":"'Bespoke Area Data'!AS147","v":0},{"$f":"'Bespoke Area Data'!AT147","v":0},{"$f":"'Bespoke Area Data'!AU147","v":0},{"$f":"'Bespoke Area Data'!AV147","v":0},{"$f":"'Bespoke Area Data'!AW147","v":0},{"$f":"'Bespoke Area Data'!AX147","v":0},{"$f":"'Bespoke Area Data'!AY147","v":0},{"$f":"'Bespoke Area Data'!AZ147","v":0},{"$f":"'Bespoke Area Data'!BA147","v":0},{"$f":"'Bespoke Area Data'!BB147","v":0},{"$f":"'Bespoke Area Data'!BC147","v":0},{"$f":"'Bespoke Area Data'!BD147","v":0},{"$f":"'Bespoke Area Data'!BE147","v":0},{"$f":"'Bespoke Area Data'!BF147","v":0},{"$f":"'Bespoke Area Data'!BG147","v":0},{"$f":"'Bespoke Area Data'!BH147","v":0},{"$f":"'Bespoke Area Data'!BI147","v":0},{"$f":"'Bespoke Area Data'!BJ147","v":0},{"$f":"'Bespoke Area Data'!BK147","v":0},{"$f":"'Bespoke Area Data'!BL147","v":0},{"$f":"'Bespoke Area Data'!BM147","v":0},{"$f":"'Bespoke Area Data'!BN147","v":0},{"$f":"'Bespoke Area Data'!BO147","v":0},{"$f":"'Bespoke Area Data'!BP147","v":0},{"$f":"'Bespoke Area Data'!BQ147","v":0},{"$f":"'Bespoke Area Data'!BR147","v":0},{"$f":"'Bespoke Area Data'!BS147","v":0},{"$f":"'Bespoke Area Data'!BT147","v":0},{"$f":"'Bespoke Area Data'!BU147","v":0},{"$f":"'Bespoke Area Data'!BV147","v":0},{"$f":"'Bespoke Area Data'!BW147","v":0},{"$f":"'Bespoke Area Data'!BX147","v":0},{"$f":"'Bespoke Area Data'!BY147","v":0},{"$f":"'Bespoke Area Data'!BZ147","v":0},{"$f":"'Bespoke Area Data'!CA147","v":0},{"$f":"'Bespoke Area Data'!CB147","v":0},{"$f":"'Bespoke Area Data'!CC147","v":0},{"$f":"'Bespoke Area Data'!CD147","v":0},{"$f":"'Bespoke Area Data'!CE147","v":0},{"$f":"'Bespoke Area Data'!CF147","v":0},{"$f":"'Bespoke Area Data'!CG147","v":0},{"$f":"'Bespoke Area Data'!CH147","v":0},{"$f":"'Bespoke Area Data'!CI147","v":0},{"$f":"'Bespoke Area Data'!CJ147","v":0},{"$f":"'Bespoke Area Data'!CK147","v":0},{"$f":"'Bespoke Area Data'!CL147","v":0},{"$f":"'Bespoke Area Data'!CM147","v":0},{"$f":"'Bespoke Area Data'!CN147","v":0},{"$f":"'Bespoke Area Data'!CO147","v":0},{"$f":"'Bespoke Area Data'!CP147","v":0},{"$f":"'Bespoke Area Data'!CQ147","v":0},{"$f":"'Bespoke Area Data'!CR147","v":0},{"$f":"'Bespoke Area Data'!CS147","v":0},{"$f":"'Bespoke Area Data'!CT147","v":0},{"$f":"'Bespoke Area Data'!CU147","v":0},{"$f":"'Bespoke Area Data'!CV147","v":0},{"$f":"'Bespoke Area Data'!CW147","v":0},{"$f":"'Bespoke Area Data'!CX147","v":0},{"$f":"'Bespoke Area Data'!CY147","v":0},{"$f":"'Bespoke Area Data'!CZ147","v":0},{"$f":"'Bespoke Area Data'!DA147","v":0},{"$f":"'Bespoke Area Data'!DB147","v":0},{"$f":"'Bespoke Area Data'!DC147","v":0},{"$f":"'Bespoke Area Data'!DD147","v":0},{"$f":"'Bespoke Area Data'!DE147","v":0},{"$f":"'Bespoke Area Data'!DF147","v":0},{"$f":"'Bespoke Area Data'!DG147","v":0},{"$f":"'Bespoke Area Data'!DH147","v":0},{"$f":"'Bespoke Area Data'!DI147","v":0}]
["Bespoke","N/A",{"$f":"IF('Bespoke Area Name'!C41=\"\",\"No bespoke area name entered; Go to sheet \"\"Bespoke Area Name\"\"\",'Bespoke Area Name'!C41)","v":"No bespoke area name entered; Go to sheet \"Bespoke Area Name\""},"AREA0038",{"$f":"'Bespoke Area Data'!D150","v":0},{"$f":"'Bespoke Area Data'!E150","v":0},{"$f":"'Bespoke Area Data'!F150","v":0},{"$f":"'Bespoke Area Data'!G150","v":0},{"$f":"'Bespoke Area Data'!H150","v":0},{"$f":"'Bespoke Area Data'!I150","v":0},{"$f":"'Bespoke Area Data'!J150","v":0},{"$f":"'Bespoke Area Data'!K150","v":0},{"$f":"'Bespoke Area Data'!L150","v":0},{"$f":"'Bespoke Area Data'!M150","v":0},{"$f":"'Bespoke Area Data'!N150","v":0},{"$f":"'Bespoke Area Data'!O150","v":0},{"$f":"'Bespoke Area Data'!P150","v":0},{"$f":"'Bespoke Area Data'!Q150","v":0},{"$f":"'Bespoke Area Data'!R150","v":0},{"$f":"'Bespoke Area Data'!S150","v":0},{"$f":"'Bespoke Area Data'!T150","v":0},{"$f":"'Bespoke Area Data'!U150","v":0},{"$f":"'Bespoke Area Data'!V150","v":0},{"$f":"'Bespoke Area Data'!W150","v":0},{"$f":"'Bespoke Area Data'!X150","v":0},{"$f":"'Bespoke Area Data'!Y150","v":0},{"$f":"'Bespoke Area Data'!Z150","v":0},{"$f":"'Bespoke Area Data'!AA150","v":0},{"$f":"'Bespoke Area Data'!AB150","v":0},{"$f":"'Bespoke Area Data'!AC150","v":0},{"$f":"'Bespoke Area Data'!AD150","v":0},{"$f":"'Bespoke Area Data'!AE150","v":0},{"$f":"'Bespoke Area Data'!AF150","v":0},{"$f":"'Bespoke Area Data'!AG150","v":0},{"$f":"'Bespoke Area Data'!AH150","v":0},{"$f":"'Bespoke Area Data'!AI150","v":0},{"$f":"'Bespoke Area Data'!AJ150","v":0},{"$f":"'Bespoke Area Data'!AK150","v":0},{"$f":"'Bespoke Area Data'!AL150","v":0},{"$f":"'Bespoke Area Data'!AM150","v":0},{"$f":"'Bespoke Area Data'!AN150","v":0},{"$f":"'Bespoke Area Data'!AO150","v":0},{"$f":"'Bespoke Area Data'!AP150","v":0},{"$f":"'Bespoke Area Data'!AQ150","v":0},{"$f":"'Bespoke Area Data'!AR150","v":0},{"$f":"'Bespoke Area Data'!AS150","v":0},{"$f":"'Bespoke Area Data'!AT150","v":0},{"$f":"'Bespoke Area Data'!AU150","v":0},{"$f":"'Bespoke Area Data'!AV150","v":0},{"$f":"'Bespoke Area Data'!AW150","v":0},{"$f":"'Bespoke Area Data'!AX150","v":0},{"$f":"'Bespoke Area Data'!AY150","v":0},{"$f":"'Bespoke Area Data'!AZ150","v":0},{"$f":"'Bespoke Area Data'!BA150","v":0},{"$f":"'Bespoke Area Data'!BB150","v":0},{"$f":"'Bespoke Area Data'!BC150","v":0},{"$f":"'Bespoke Area Data'!BD150","v":0},{"$f":"'Bespoke Area Data'!BE150","v":0},{"$f":"'Bespoke Area Data'!BF150","v":0},{"$f":"'Bespoke Area Data'!BG150","v":0},{"$f":"'Bespoke Area Data'!BH150","v":0},{"$f":"'Bespoke Area Data'!BI150","v":0},{"$f":"'Bespoke Area Data'!BJ150","v":0},{"$f":"'Bespoke Area Data'!BK150","v":0},{"$f":"'Bespoke Area Data'!BL150","v":0},{"$f":"'Bespoke Area Data'!BM150","v":0},{"$f":"'Bespoke Area Data'!BN150","v":0},{"$f":"'Bespoke Area Data'!BO150","v":0},{"$f":"'Bespoke Area Data'!BP150","v":0},{"$f":"'Bespoke Area Data'!BQ150","v":0},{"$f":"'Bespoke Area Data'!BR150","v":0},{"$f":"'Bespoke Area Data'!BS150","v":0},{"$f":"'Bespoke Area Data'!BT150","v":0},{"$f":"'Bespoke Area Data'!BU150","v":0},{"$f":"'Bespoke Area Data'!BV150","v":0},{"$f":"'Bespoke Area Data'!BW150","v":0},{"$f":"'Bespoke Area Data'!BX150","v":0},{"$f":"'Bespoke Area Data'!BY150","v":0},{"$f":"'Bespoke Area Data'!BZ150","v":0},{"$f":"'Bespoke Area Data'!CA150","v":0},{"$f":"'Bespoke Area Data'!CB150","v":0},{"$f":"'Bespoke Area Data'!CC150","v":0},{"$f":"'Bespoke Area Data'!CD150","v":0},{"$f":"'Bespoke Area Data'!CE150","v":0},{"$f":"'Bespoke Area Data'!CF150","v":0},{"$f":"'Bespoke Area Data'!CG150","v":0},{"$f":"'Bespoke Area Data'!CH150","v":0},{"$f":"'Bespoke Area Data'!CI150","v":0},{"$f":"'Bespoke Area Data'!CJ150","v":0},{"$f":"'Bespoke Area Data'!CK150","v":0},{"$f":"'Bespoke Area Data'!CL150","v":0},{"$f":"'Bespoke Area Data'!CM150","v":0},{"$f":"'Bespoke Area Data'!CN150","v":0},{"$f":"'Bespoke Area Data'!CO150","v":0},{"$f":"'Bespoke Area Data'!CP150","v":0},{"$f":"'Bespoke Area Data'!CQ150","v":0},{"$f":"'Bespoke Area Data'!CR150","v":0},{"$f":"'Bespoke Area Data'!CS150","v":0},{"$f":"'Bespoke Area Data'!CT150","v":0},{"$f":"'Bespoke Area Data'!CU150","v":0},{"$f":"'Bespoke Area Data'!CV150","v":0},{"$f":"'Bespoke Area Data'!CW150","v":0},{"$f":"'Bespoke Area Data'!CX150","v":0},{"$f":"'Bespoke Area Data'!CY150","v":0},{"$f":"'Bespoke Area Data'!CZ150","v":0},{"$f":"'Bespoke Area Data'!DA150","v":0},{"$f":"'Bespoke Area Data'!DB150","v":0},{"$f":"'Bespoke Area Data'!DC150","v":0},{"$f":"'Bespoke Area Data'!DD150","v":0},{"$f":"'Bespoke Area Data'!DE150","v":0},{"$f":"'Bespoke Area Data'!DF150","v":0},{"$f":"'Bespoke Area Data'!DG150","v":0},{"$f":"'Bespoke Area Data'!DH150","v":0},{"$f":"'Bespoke Area Data'!DI150","v":0},{"$f":"'Bespoke Area Data'!DJ150","v":0},{"$f":"'Bespoke Area Data'!DK150","v":0},{"$f":"'Bespoke Area Data'!DL150","v":0},{"$f":"'Bespoke Area Data'!DM150","v":0},{"$f":"'Bespoke Area Data'!DN150","v":0},{"$f":"'Bespoke Area Data'!DO150","v":0},{"$f":"'Bespoke Area Data'!DP150","v":0},{"$f":"'Bespoke Area Data'!DQ150","v":0},{"$f":"'Bespoke Area Data'!DR150","v":0},{"$f":"'Bespoke Area Data'!DS150","v":0},{"$f":"'Bespoke Area Data'!DT150","v":0},{"$f":"'Bespoke Area Data'!DU150","v":0},{"$f":"'Bespoke Area Data'!DV150","v":0},{"$f":"'Bespoke Area Data'!DW150","v":0},{"$f":"'Bespoke Area Data'!DX150","v":0},{"$f":"'Bespoke Area Data'!DY150","v":0},{"$f":"'Bespoke Area Data'!DZ150","v":0},{"$f":"'Bespoke Area Data'!EA150","v":0},{"$f":"'Bespoke Area Data'!EB150","v":0},{"$f":"'Bespoke Area Data'!EC150","v":0},{"$f":"'Bespoke Area Data'!ED150","v":0},{"$f":"'Bespoke Area Data'!EE150","v":0},{"$f":"'Bespoke Area Data'!EF150","v":0},{"$f":"'Bespoke Area Data'!EG150","v":0},{"$f":"'Bespoke Area Data'!EH150","v":0},{"$f":"'Bespoke Area Data'!D151","v":0},{"$f":"'Bespoke Area Data'!E151","v":0},{"$f":"'Bespoke Area Data'!F151","v":0},{"$f":"'Bespoke Area Data'!G151","v":0},{"$f":"'Bespoke Area Data'!H151","v":0},{"$f":"'Bespoke Area Data'!I151","v":0},{"$f":"'Bespoke Area Data'!J151","v":0},{"$f":"'Bespoke Area Data'!K151","v":0},{"$f":"'Bespoke Area Data'!L151","v":0},{"$f":"'Bespoke Area Data'!M151","v":0},{"$f":"'Bespoke Area Data'!N151","v":0},{"$f":"'Bespoke Area Data'!O151","v":0},{"$f":"'Bespoke Area Data'!P151","v":0},{"$f":"'Bespoke Area Data'!Q151","v":0},{"$f":"'Bespoke Area Data'!R151","v":0},{"$f":"'Bespoke Area Data'!S151","v":0},{"$f":"'Bespoke Area Data'!T151","v":0},{"$f":"'Bespoke Area Data'!U151","v":0},{"$f":"'Bespoke Area Data'!V151","v":0},{"$f":"'Bespoke Area Data'!W151","v":0},{"$f":"'Bespoke Area Data'!X151","v":0},{"$f":"'Bespoke Area Data'!Y151","v":0},{"$f":"'Bespoke Area Data'!Z151","v":0},{"$f":"'Bespoke Area Data'!AA151","v":0},{"$f":"'Bespoke Area Data'!AB151","v":0},{"$f":"'Bespoke Area Data'!AC151","v":0},{"$f":"'Bespoke Area Data'!AD151","v":0},{"$f":"'Bespoke Area Data'!AE151","v":0},{"$f":"'Bespoke Area Data'!AF151","v":0},{"$f":"'Bespoke Area Data'!AG151","v":0},{"$f":"'Bespoke Area Data'!AH151","v":0},{"$f":"'Bespoke Area Data'!AI151","v":0},{"$f":"'Bespoke Area Data'!AJ151","v":0},{"$f":"'Bespoke Area Data'!AK151","v":0},{"$f":"'Bespoke Area Data'!AL151","v":0},{"$f":"'Bespoke Area Data'!AM151","v":0},{"$f":"'Bespoke Area Data'!AN151","v":0},{"$f":"'Bespoke Area Data'!AO151","v":0},{"$f":"'Bespoke Area Data'!AP151","v":0},{"$f":"'Bespoke Area Data'!AQ151","v":0},{"$f":"'Bespoke Area Data'!AR151","v":0},{"$f":"'Bespoke Area Data'!AS151","v":0},{"$f":"'Bespoke Area Data'!AT151","v":0},{"$f":"'Bespoke Area Data'!AU151","v":0},{"$f":"'Bespoke Area Data'!AV151","v":0},{"$f":"'Bespoke Area Data'!AW151","v":0},{"$f":"'Bespoke Area Data'!AX151","v":0},{"$f":"'Bespoke Area Data'!AY151","v":0},{"$f":"'Bespoke Area Data'!AZ151","v":0},{"$f":"'Bespoke Area Data'!BA151","v":0},{"$f":"'Bespoke Area Data'!BB151","v":0},{"$f":"'Bespoke Area Data'!BC151","v":0},{"$f":"'Bespoke Area Data'!BD151","v":0},{"$f":"'Bespoke Area Data'!BE151","v":0},{"$f":"'Bespoke Area Data'!BF151","v":0},{"$f":"'Bespoke Area Data'!BG151","v":0},{"$f":"'Bespoke Area Data'!BH151","v":0},{"$f":"'Bespoke Area Data'!BI151","v":0},{"$f":"'Bespoke Area Data'!BJ151","v":0},{"$f":"'Bespoke Area Data'!BK151","v":0},{"$f":"'Bespoke Area Data'!BL151","v":0},{"$f":"'Bespoke Area Data'!BM151","v":0},{"$f":"'Bespoke Area Data'!BN151","v":0},{"$f":"'Bespoke Area Data'!BO151","v":0},{"$f":"'Bespoke Area Data'!BP151","v":0},{"$f":"'Bespoke Area Data'!BQ151","v":0},{"$f":"'Bespoke Area Data'!BR151","v":0},{"$f":"'Bespoke Area Data'!BS151","v":0},{"$f":"'Bespoke Area Data'!BT151","v":0},{"$f":"'Bespoke Area Data'!BU151","v":0},{"$f":"'Bespoke Area Data'!BV151","v":0},{"$f":"'Bespoke Area Data'!BW151","v":0},{"$f":"'Bespoke Area Data'!BX151","v":0},{"$f":"'Bespoke Area Data'!BY151","v":0},{"$f":"'Bespoke Area Data'!BZ151","v":0},{"$f":"'Bespoke Area Data'!CA151","v":0},{"$f":"'Bespoke Area Data'!CB151","v":0},{"$f":"'Bespoke Area Data'!CC151","v":0},{"$f":"'Bespoke Area Data'!CD151","v":0},{"$f":"'Bespoke Area Data'!CE151","v":0},{"$f":"'Bespoke Area Data'!CF151","v":0},{"$f":"'Bespoke Area Data'!CG151","v":0},{"$f":"'Bespoke Area Data'!CH151","v":0},{"$f":"'Bespoke Area Data'!CI151","v":0},{"$f":"'Bespoke Area Data'!CJ151","v":0},{"$f":"'Bespoke Area Data'!CK151","v":0},{"$f":"'Bespoke Area Data'!CL151","v":0},{"$f":"'Bespoke Area Data'!CM151","v":0},{"$f":"'Bespoke Area Data'!CN151","v":0},{"$f":"'Bespoke Area Data'!CO151","v":0},{"$f":"'Bespoke Area Data'!CP151","v":0},{"$f":"'Bespoke Area Data'!CQ151","v":0},{"$f":"'Bespoke Area Data'!CR151","v":0},{"$f":"'Bespoke Area Data'!CS151","v":0},{"$f":"'Bespoke Area Data'!CT151","v":0},{"$f":"'Bespoke Area Data'!CU151","v":0},{"$f":"'Bespoke Area Data'!CV151","v":0},{"$f":"'Bespoke Area Data'!CW151","v":0},{"$f":"'Bespoke Area Data'!CX151","v":0},{"$f":"'Bespoke Area Data'!CY151","v":0},{"$f":"'Bespoke Area Data'!CZ151","v":0},{"$f":"'Bespoke Area Data'!DA151","v":0},{"$f":"'Bespoke Area Data'!DB151","v":0},{"$f":"'Bespoke Area Data'!DC151","v":0},{"$f":"'Bespoke Area Data'!DD151","v":0},{"$f":"'Bespoke Area Data'!DE151","v":0},{"$f":"'Bespoke Area Data'!DF151","v":0},{"$f":"'Bespoke Area Data'!DG151","v":0},{"$f":"'Bespoke Area Data'!DH151","v":0},{"$f":"'Bespoke Area Data'!DI151","v":0}]
["Bespoke","N/A",{"$f":"IF('Bespoke Area Name'!C42=\"\",\"No bespoke area name entered; Go to sheet \"\"Bespoke Area Name\"\"\",'Bespoke Area Name'!C42)","v":"No bespoke area name entered; Go to sheet \"Bespoke Area Name\""},"AREA0039",{"$f":"'Bespoke Area Data'!D154","v":0},{"$f":"'Bespoke Area Data'!E154","v":0},{"$f":"'Bespoke Area Data'!F154","v":0},{"$f":"'Bespoke Area Data'!G154","v":0},{"$f":"'Bespoke Area Data'!H154","v":0},{"$f":"'Bespoke Area Data'!I154","v":0},{"$f":"'Bespoke Area Data'!J154","v":0},{"$f":"'Bespoke Area Data'!K154","v":0},{"$f":"'Bespoke Area Data'!L154","v":0},{"$f":"'Bespoke Area Data'!M154","v":0},{"$f":"'Bespoke Area Data'!N154","v":0},{"$f":"'Bespoke Area Data'!O154","v":0},{"$f":"'Bespoke Area Data'!P154","v":0},{"$f":"'Bespoke Area Data'!Q154","v":0},{"$f":"'Bespoke Area Data'!R154","v":0},{"$f":"'Bespoke Area Data'!S154","v":0},{"$f":"'Bespoke Area Data'!T154","v":0},{"$f":"'Bespoke Area Data'!U154","v":0},{"$f":"'Bespoke Area Data'!V154","v":0},{"$f":"'Bespoke Area Data'!W154","v":0},{"$f":"'Bespoke Area Data'!X154","v":0},{"$f":"'Bespoke Area Data'!Y154","v":0},{"$f":"'Bespoke Area Data'!Z154","v":0},{"$f":"'Bespoke Area Data'!AA154","v":0},{"$f":"'Bespoke Area Data'!AB154","v":0},{"$f":"'Bespoke Area Data'!AC154","v":0},{"$f":"'Bespoke Area Data'!AD154","v":0},{"$f":"'Bespoke Area Data'!AE154","v":0},{"$f":"'Bespoke Area Data'!AF154","v":0},{"$f":"'Bespoke Area Data'!AG154","v":0},{"$f":"'Bespoke Area Data'!AH154","v":0},{"$f":"'Bespoke Area Data'!AI154","v":0},{"$f":"'Bespoke Area Data'!AJ154","v":0},{"$f":"'Bespoke Area Data'!AK154","v":0},{"$f":"'Bespoke Area Data'!AL154","v":0},{"$f":"'Bespoke Area Data'!AM154","v":0},{"$f":"'Bespoke Area Data'!AN154","v":0},{"$f":"'Bespoke Area Data'!AO154","v":0},{"$f":"'Bespoke Area Data'!AP154","v":0},{"$f":"'Bespoke Area Data'!AQ154","v":0},{"$f":"'Bespoke Area Data'!AR154","v":0},{"$f":"'Bespoke Area Data'!AS154","v":0},{"$f":"'Bespoke Area Data'!AT154","v":0},{"$f":"'Bespoke Area Data'!AU154","v":0},{"$f":"'Bespoke Area Data'!AV154","v":0},{"$f":"'Bespoke Area Data'!AW154","v":0},{"$f":"'Bespoke Area Data'!AX154","v":0},{"$f":"'Bespoke Area Data'!AY154","v":0},{"$f":"'Bespoke Area Data'!AZ154","v":0},{"$f":"'Bespoke Area Data'!BA154","v":0},{"$f":"'Bespoke Area Data'!BB154","v":0},{"$f":"'Bespoke Area Data'!BC154","v":0},{"$f":"'Bespoke Area Data'!BD154","v":0},{"$f":"'Bespoke Area Data'!BE154","v":0},{"$f":"'Bespoke Area Data'!BF154","v":0},{"$f":"'Bespoke Area Data'!BG154","v":0},{"$f":"'Bespoke Area Data'!BH154","v":0},{"$f":"'Bespoke Area Data'!BI154","v":0},{"$f":"'Bespoke Area Data'!BJ154","v":0},{"$f":"'Bespoke Area Data'!BK154","v":0},{"$f":"'Bespoke Area Data'!BL154","v":0},{"$f":"'Bespoke Area Data'!BM154","v":0},{"$f":"'Bespoke Area Data'!BN154","v":0},{"$f":"'Bespoke Area Data'!BO154","v":0},{"$f":"'Bespoke Area Data'!BP154","v":0},{"$f":"'Bespoke Area Data'!BQ154","v":0},{"$f":"'Bespoke Area Data'!BR154","v":0},{"$f":"'Bespoke Area Data'!BS154","v":0},{"$f":"'Bespoke Area Data'!BT154","v":0},{"$f":"'Bespoke Area Data'!BU154","v":0},{"$f":"'Bespoke Area Data'!BV154","v":0},{"$f":"'Bespoke Area Data'!BW154","v":0},{"$f":"'Bespoke Area Data'!BX154","v":0},{"$f":"'Bespoke Area Data'!BY154","v":0},{"$f":"'Bespoke Area Data'!BZ154","v":0},{"$f":"'Bespoke Area Data'!CA154","v":0},{"$f":"'Bespoke Area Data'!CB154","v":0},{"$f":"'Bespoke Area Data'!CC154","v":0},{"$f":"'Bespoke Area Data'!CD154","v":0},{"$f":"'Bespoke Area Data'!CE154","v":0},{"$f":"'Bespoke Area Data'!CF154","v":0},{"$f":"'Bespoke Area Data'!CG154","v":0},{"$f":"'Bespoke Area Data'!CH154","v":0},{"$f":"'Bespoke Area Data'!CI154","v":0},{"$f":"'Bespoke Area Data'!CJ154","v":0},{"$f":"'Bespoke Area Data'!CK154","v":0},{"$f":"'Bespoke Area Data'!CL154","v":0},{"$f":"'Bespoke Area Data'!CM154","v":0},{"$f":"'Bespoke Area Data'!CN154","v":0},{"$f":"'Bespoke Area Data'!CO154","v":0},{"$f":"'Bespoke Area Data'!CP154","v":0},{"$f":"'Bespoke Area Data'!CQ154","v":0},{"$f":"'Bespoke Area Data'!CR154","v":0},{"$f":"'Bespoke Area Data'!CS154","v":0},{"$f":"'Bespoke Area Data'!CT154","v":0},{"$f":"'Bespoke Area Data'!CU154","v":0},{"$f":"'Bespoke Area Data'!CV154","v":0},{"$f":"'Bespoke Area Data'!CW154","v":0},{"$f":"'Bespoke Area Data'!CX154","v":0},{"$f":"'Bespoke Area Data'!CY154","v":0},{"$f":"'Bespoke Area Data'!CZ154","v":0},{"$f":"'Bespoke Area Data'!DA154","v":0},{"$f":"'Bespoke Area Data'!DB154","v":0},{"$f":"'Bespoke Area Data'!DC154","v":0},{"$f":"'Bespoke Area Data'!DD154","v":0},{"$f":"'Bespoke Area Data'!DE154","v":0},{"$f":"'Bespoke Area Data'!DF154","v":0},{"$f":"'Bespoke Area Data'!DG154","v":0},{"$f":"'Bespoke Area Data'!DH154","v":0},{"$f":"'Bespoke Area Data'!DI154","v":0},{"$f":"'Bespoke Area Data'!DJ154","v":0},{"$f":"'Bespoke Area Data'!DK154","v":0},{"$f":"'Bespoke Area Data'!DL154","v":0},{"$f":"'Bespoke Area Data'!DM154","v":0},{"$f":"'Bespoke Area Data'!DN154","v":0},{"$f":"'Bespoke Area Data'!DO154","v":0},{"$f":"'Bespoke Area Data'!DP154","v":0},{"$f":"'Bespoke Area Data'!DQ154","v":0},{"$f":"'Bespoke Area Data'!DR154","v":0},{"$f":"'Bespoke Area Data'!DS154","v":0},{"$f":"'Bespoke Area Data'!DT154","v":0},{"$f":"'Bespoke Area Data'!DU154","v":0},{"$f":"'Bespoke Area Data'!DV154","v":0},{"$f":"'Bespoke Area Data'!DW154","v":0},{"$f":"'Bespoke Area Data'!DX154","v":0},{"$f":"'Bespoke Area Data'!DY154","v":0},{"$f":"'Bespoke Area Data'!DZ154","v":0},{"$f":"'Bespoke Area Data'!EA154","v":0},{"$f":"'Bespoke Area Data'!EB154","v":0},{"$f":"'Bespoke Area Data'!EC154","v":0},{"$f":"'Bespoke Area Data'!ED154","v":0},{"$f":"'Bespoke Area Data'!EE154","v":0},{"$f":"'Bespoke Area Data'!EF154","v":0},{"$f":"'Bespoke Area Data'!EG154","v":0},{"$f":"'Bespoke Area Data'!EH154","v":0},{"$f":"'Bespoke Area Data'!D155","v":0},{"$f":"'Bespoke Area Data'!E155","v":0},{"$f":"'Bespoke Area Data'!F155","v":0},{"$f":"'Bespoke Area Data'!G155","v":0},{"$f":"'Bespoke Area Data'!H155","v":0},{"$f":"'Bespoke Area Data'!I155","v":0},{"$f":"'Bespoke Area Data'!J155","v":0},{"$f":"'Bespoke Area Data'!K155","v":0},{"$f":"'Bespoke Area Data'!L155","v":0},{"$f":"'Bespoke Area Data'!M155","v":0},{"$f":"'Bespoke Area Data'!N155","v":0},{"$f":"'Bespoke Area Data'!O155","v":0},{"$f":"'Bespoke Area Data'!P155","v":0},{"$f":"'Bespoke Area Data'!Q155","v":0},{"$f":"'Bespoke Area Data'!R155","v":0},{"$f":"'Bespoke Area Data'!S155","v":0},{"$f":"'Bespoke Area Data'!T155","v":0},{"$f":"'Bespoke Area Data'!U155","v":0},{"$f":"'Bespoke Area Data'!V155","v":0},{"$f":"'Bespoke Area Data'!W155","v":0},{"$f":"'Bespoke Area Data'!X155","v":0},{"$f":"'Bespoke Area Data'!Y155","v":0},{"$f":"'Bespoke Area Data'!Z155","v":0},{"$f":"'Bespoke Area Data'!AA155","v":0},{"$f":"'Bespoke Area Data'!AB155","v":0},{"$f":"'Bespoke Area Data'!AC155","v":0},{"$f":"'Bespoke Area Data'!AD155","v":0},{"$f":"'Bespoke Area Data'!AE155","v":0},{"$f":"'Bespoke Area Data'!AF155","v":0},{"$f":"'Bespoke Area Data'!AG155","v":0},{"$f":"'Bespoke Area Data'!AH155","v":0},{"$f":"'Bespoke Area Data'!AI155","v":0},{"$f":"'Bespoke Area Data'!AJ155","v":0},{"$f":"'Bespoke Area Data'!AK155","v":0},{"$f":"'Bespoke Area Data'!AL155","v":0},{"$f":"'Bespoke Area Data'!AM155","v":0},{"$f":"'Bespoke Area Data'!AN155","v":0},{"$f":"'Bespoke Area Data'!AO155","v":0},{"$f":"'Bespoke Area Data'!AP155","v":0},{"$f":"'Bespoke Area Data'!AQ155","v":0},{"$f":"'Bespoke Area Data'!AR155","v":0},{"$f":"'Bespoke Area Data'!AS155","v":0},{"$f":"'Bespoke Area Data'!AT155","v":0},{"$f":"'Bespoke Area Data'!AU155","v":0},{"$f":"'Bespoke Area Data'!AV155","v":0},{"$f":"'Bespoke Area Data'!AW155","v":0},{"$f":"'Bespoke Area Data'!AX155","v":0},{"$f":"'Bespoke Area Data'!AY155","v":0},{"$f":"'Bespoke Area Data'!AZ155","v":0},{"$f":"'Bespoke Area Data'!BA155","v":0},{"$f":"'Bespoke Area Data'!BB155","v":0},{"$f":"'Bespoke Area Data'!BC155","v":0},{"$f":"'Bespoke Area Data'!BD155","v":0},{"$f":"'Bespoke Area Data'!BE155","v":0},{"$f":"'Bespoke Area Data'!BF155","v":0},{"$f":"'Bespoke Area Data'!BG155","v":0},{"$f":"'Bespoke Area Data'!BH155","v":0},{"$f":"'Bespoke Area Data'!BI155","v":0},{"$f":"'Bespoke Area Data'!BJ155","v":0},{"$f":"'Bespoke Area Data'!BK155","v":0},{"$f":"'Bespoke Area Data'!BL155","v":0},{"$f":"'Bespoke Area Data'!BM155","v":0},{"$f":"'Bespoke Area Data'!BN155","v":0},{"$f":"'Bespoke Area Data'!BO155","v":0},{"$f":"'Bespoke Area Data'!BP155","v":0},{"$f":"'Bespoke Area Data'!BQ155","v":0},{"$f":"'Bespoke Area Data'!BR155","v":0},{"$f":"'Bespoke Area Data'!BS155","v":0},{"$f":"'Bespoke Area Data'!BT155","v":0},{"$f":"'Bespoke Area Data'!BU155","v":0},{"$f":"'Bespoke Area Data'!BV155","v":0},{"$f":"'Bespoke Area Data'!BW155","v":0},{"$f":"'Bespoke Area Data'!BX155","v":0},{"$f":"'Bespoke Area Data'!BY155","v":0},{"$f":"'Bespoke Area Data'!BZ155","v":0},{"$f":"'Bespoke Area Data'!CA155","v":0},{"$f":"'Bespoke Area Data'!CB155","v":0},{"$f":"'Bespoke Area Data'!CC155","v":0},{"$f":"'Bespoke Area Data'!CD155","v":0},{"$f":"'Bespoke Area Data'!CE155","v":0},{"$f":"'Bespoke Area Data'!CF155","v":0},{"$f":"'Bespoke Area Data'!CG155","v":0},{"$f":"'Bespoke Area Data'!CH155","v":0},{"$f":"'Bespoke Area Data'!CI155","v":0},{"$f":"'Bespoke Area Data'!CJ155","v":0},{"$f":"'Bespoke Area Data'!CK155","v":0},{"$f":"'Bespoke Area Data'!CL155","v":0},{"$f":"'Bespoke Area Data'!CM155","v":0},{"$f":"'Bespoke Area Data'!CN155","v":0},{"$f":"'Bespoke Area Data'!CO155","v":0},{"$f":"'Bespoke Area Data'!CP155","v":0},{"$f":"'Bespoke Area Data'!CQ155","v":0},{"$f":"'Bespoke Area Data'!CR155","v":0},{"$f":"'Bespoke Area Data'!CS155","v":0},{"$f":"'Bespoke Area Data'!CT155","v":0},{"$f":"'Bespoke Area Data'!CU155","v":0},{"$f":"'Bespoke Area Data'!CV155","v":0},{"$f":"'Bespoke Area Data'!CW155","v":0},{"$f":"'Bespoke Area Data'!CX155","v":0},{"$f":"'Bespoke Area Data'!CY155","v":0},{"$f":"'Bespoke Area Data'!CZ155","v":0},{"$f":"'Bespoke Area Data'!DA155","v":0},{"$f":"'Bespoke Area Data'!DB155","v":0},{"$f":"'Bespoke Area Data'!DC155","v":0},{"$f":"'Bespoke Area Data'!DD155","v":0},{"$f":"'Bespoke Area Data'!DE155","v":0},{"$f":"'Bespoke Area Data'!DF155","v":0},{"$f":"'Bespoke Area Data'!DG155","v":0},{"$f":"'Bespoke Area Data'!DH155","v":0},{"$f":"'Bespoke Area Data'!DI155","v":0}]
["Bespoke","N/A",{"$f":"IF('Bespoke Area Name'!C43=\"\",\"No bespoke area name entered; Go to sheet \"\"Bespoke Area Name\"\"\",'Bespoke Area Name'!C43)","v":"No bespoke area name entered; Go to sheet \"Bespoke Area Name\""},"AREA0040",{"$f":"'Bespoke Area Data'!D158","v":0},{"$f":"'Bespoke Area Data'!E158","v":0},{"$f":"'Bespoke Area Data'!F158","v":0},{"$f":"'Bespoke Area Data'!G158","v":0},{"$f":"'Bespoke Area Data'!H158","v":0},{"$f":"'Bespoke Area Data'!I158","v":0},{"$f":"'Bespoke Area Data'!J158","v":0},{"$f":"'Bespoke Area Data'!K158","v":0},{"$f":"'Bespoke Area Data'!L158","v":0},{"$f":"'Bespoke Area Data'!M158","v":0},{"$f":"'Bespoke Area Data'!N158","v":0},{"$f":"'Bespoke Area Data'!O158","v":0},{"$f":"'Bespoke Area Data'!P158","v":0},{"$f":"'Bespoke Area Data'!Q158","v":0},{"$f":"'Bespoke Area Data'!R158","v":0},{"$f":"'Bespoke Area Data'!S158","v":0},{"$f":"'Bespoke Area Data'!T158","v":0},{"$f":"'Bespoke Area Data'!U158","v":0},{"$f":"'Bespoke Area Data'!V158","v":0},{"$f":"'Bespoke Area Data'!W158","v":0},{"$f":"'Bespoke Area Data'!X158","v":0},{"$f":"'Bespoke Area Data'!Y158","v":0},{"$f":"'Bespoke Area Data'!Z158","v":0},{"$f":"'Bespoke Area Data'!AA158","v":0},{"$f":"'Bespoke Area Data'!AB158","v":0},{"$f":"'Bespoke Area Data'!AC158","v":0},{"$f":"'Bespoke Area Data'!AD158","v":0},{"$f":"'Bespoke Area Data'!AE158","v":0},{"$f":"'Bespoke Area Data'!AF158","v":0},{"$f":"'Bespoke Area Data'!AG158","v":0},{"$f":"'Bespoke Area Data'!AH158","v":0},{"$f":"'Bespoke Area Data'!AI158","v":0},{"$f":"'Bespoke Area Data'!AJ158","v":0},{"$f":"'Bespoke Area Data'!AK158","v":0},{"$f":"'Bespoke Area Data'!AL158","v":0},{"$f":"'Bespoke Area Data'!AM158","v":0},{"$f":"'Bespoke Area Data'!AN158","v":0},{"$f":"'Bespoke Area Data'!AO158","v":0},{"$f":"'Bespoke Area Data'!AP158","v":0},{"$f":"'Bespoke Area Data'!AQ158","v":0},{"$f":"'Bespoke Area Data'!AR158","v":0},{"$f":"'Bespoke Area Data'!AS158","v":0},{"$f":"'Bespoke Area Data'!AT158","v":0},{"$f":"'Bespoke Area Data'!AU158","v":0},{"$f":"'Bespoke Area Data'!AV158","v":0},{"$f":"'Bespoke Area Data'!AW158","v":0},{"$f":"'Bespoke Area Data'!AX158","v":0},{"$f":"'Bespoke Area Data'!AY158","v":0},{"$f":"'Bespoke Area Data'!AZ158","v":0},{"$f":"'Bespoke Area Data'!BA158","v":0},{"$f":"'Bespoke Area Data'!BB158","v":0},{"$f":"'Bespoke Area Data'!BC158","v":0},{"$f":"'Bespoke Area Data'!BD158","v":0},{"$f":"'Bespoke Area Data'!BE158","v":0},{"$f":"'Bespoke Area Data'!BF158","v":0},{"$f":"'Bespoke Area Data'!BG158","v":0},{"$f":"'Bespoke Area Data'!BH158","v":0},{"$f":"'Bespoke Area Data'!BI158","v":0},{"$f":"'Bespoke Area Data'!BJ158","v":0},{"$f":"'Bespoke Area Data'!BK158","v":0},{"$f":"'Bespoke Area Data'!BL158","v":0},{"$f":"'Bespoke Area Data'!BM158","v":0},{"$f":"'Bespoke Area Data'!BN158","v":0},{"$f":"'Bespoke Area Data'!BO158","v":0},{"$f":"'Bespoke Area Data'!BP158","v":0},{"$f":"'Bespoke Area Data'!BQ158","v":0},{"$f":"'Bespoke Area Data'!BR158","v":0},{"$f":"'Bespoke Area Data'!BS158","v":0},{"$f":"'Bespoke Area Data'!BT158","v":0},{"$f":"'Bespoke Area Data'!BU158","v":0},{"$f":"'Bespoke Area Data'!BV158","v":0},{"$f":"'Bespoke Area Data'!BW158","v":0},{"$f":"'Bespoke Area Data'!BX158","v":0},{"$f":"'Bespoke Area Data'!BY158","v":0},{"$f":"'Bespoke Area Data'!BZ158","v":0},{"$f":"'Bespoke Area Data'!CA158","v":0},{"$f":"'Bespoke Area Data'!CB158","v":0},{"$f":"'Bespoke Area Data'!CC158","v":0},{"$f":"'Bespoke Area Data'!CD158","v":0},{"$f":"'Bespoke Area Data'!CE158","v":0},{"$f":"'Bespoke Area Data'!CF158","v":0},{"$f":"'Bespoke Area Data'!CG158","v":0},{"$f":"'Bespoke Area Data'!CH158","v":0},{"$f":"'Bespoke Area Data'!CI158","v":0},{"$f":"'Bespoke Area Data'!CJ158","v":0},{"$f":"'Bespoke Area Data'!CK158","v":0},{"$f":"'Bespoke Area Data'!CL158","v":0},{"$f":"'Bespoke Area Data'!CM158","v":0},{"$f":"'Bespoke Area Data'!CN158","v":0},{"$f":"'Bespoke Area Data'!CO158","v":0},{"$f":"'Bespoke Area Data'!CP158","v":0},{"$f":"'Bespoke Area Data'!CQ158","v":0},{"$f":"'Bespoke Area Data'!CR158","v":0},{"$f":"'Bespoke Area Data'!CS158","v":0},{"$f":"'Bespoke Area Data'!CT158","v":0},{"$f":"'Bespoke Area Data'!CU158","v":0},{"$f":"'Bespoke Area Data'!CV158","v":0},{"$f":"'Bespoke Area Data'!CW158","v":0},{"$f":"'Bespoke Area Data'!CX158","v":0},{"$f":"'Bespoke Area Data'!CY158","v":0},{"$f":"'Bespoke Area Data'!CZ158","v":0},{"$f":"'Bespoke Area Data'!DA158","v":0},{"$f":"'Bespoke Area Data'!DB158","v":0},{"$f":"'Bespoke Area Data'!DC158","v":0},{"$f":"'Bespoke Area Data'!DD158","v":0},{"$f":"'Bespoke Area Data'!DE158","v":0},{"$f":"'Bespoke Area Data'!DF158","v":0},{"$f":"'Bespoke Area Data'!DG158","v":0},{"$f":"'Bespoke Area Data'!DH158","v":0},{"$f":"'Bespoke Area Data'!DI158","v":0},{"$f":"'Bespoke Area Data'!DJ158","v":0},{"$f":"'Bespoke Area Data'!DK158","v":0},{"$f":"'Bespoke Area Data'!DL158","v":0},{"$f":"'Bespoke Area Data'!DM158","v":0},{"$f":"'Bespoke Area Data'!DN158","v":0},{"$f":"'Bespoke Area Data'!DO158","v":0},{"$f":"'Bespoke Area Data'!DP158","v":0},{"$f":"'Bespoke Area Data'!DQ158","v":0},{"$f":"'Bespoke Area Data'!DR158","v":0},{"$f":"'Bespoke Area Data'!DS158","v":0},{"$f":"'Bespoke Area Data'!DT158","v":0},{"$f":"'Bespoke Area Data'!DU158","v":0},{"$f":"'Bespoke Area Data'!DV158","v":0},{"$f":"'Bespoke Area Data'!DW158","v":0},{"$f":"'Bespoke Area Data'!DX158","v":0},{"$f":"'Bespoke Area Data'!DY158","v":0},{"$f":"'Bespoke Area Data'!DZ158","v":0},{"$f":"'Bespoke Area Data'!EA158","v":0},{"$f":"'Bespoke Area Data'!EB158","v":0},{"$f":"'Bespoke Area Data'!EC158","v":0},{"$f":"'Bespoke Area Data'!ED158","v":0},{"$f":"'Bespoke Area Data'!EE158","v":0},{"$f":"'Bespoke Area Data'!EF158","v":0},{"$f":"'Bespoke Area Data'!EG158","v":0},{"$f":"'Bespoke Area Data'!EH158","v":0},{"$f":"'Bespoke Area Data'!D159","v":0},{"$f":"'Bespoke Area Data'!E159","v":0},{"$f":"'Bespoke Area Data'!F159","v":0},{"$f":"'Bespoke Area Data'!G159","v":0},{"$f":"'Bespoke Area Data'!H159","v":0},{"$f":"'Bespoke Area Data'!I159","v":0},{"$f":"'Bespoke Area Data'!J159","v":0},{"$f":"'Bespoke Area Data'!K159","v":0},{"$f":"'Bespoke Area Data'!L159","v":0},{"$f":"'Bespoke Area Data'!M159","v":0},{"$f":"'Bespoke Area Data'!N159","v":0},{"$f":"'Bespoke Area Data'!O159","v":0},{"$f":"'Bespoke Area Data'!P159","v":0},{"$f":"'Bespoke Area Data'!Q159","v":0},{"$f":"'Bespoke Area Data'!R159","v":0},{"$f":"'Bespoke Area Data'!S159","v":0},{"$f":"'Bespoke Area Data'!T159","v":0},{"$f":"'Bespoke Area Data'!U159","v":0},{"$f":"'Bespoke Area Data'!V159","v":0},{"$f":"'Bespoke Area Data'!W159","v":0},{"$f":"'Bespoke Area Data'!X159","v":0},{"$f":"'Bespoke Area Data'!Y159","v":0},{"$f":"'Bespoke Area Data'!Z159","v":0},{"$f":"'Bespoke Area Data'!AA159","v":0},{"$f":"'Bespoke Area Data'!AB159","v":0},{"$f":"'Bespoke Area Data'!AC159","v":0},{"$f":"'Bespoke Area Data'!AD159","v":0},{"$f":"'Bespoke Area Data'!AE159","v":0},{"$f":"'Bespoke Area Data'!AF159","v":0},{"$f":"'Bespoke Area Data'!AG159","v":0},{"$f":"'Bespoke Area Data'!AH159","v":0},{"$f":"'Bespoke Area Data'!AI159","v":0},{"$f":"'Bespoke Area Data'!AJ159","v":0},{"$f":"'Bespoke Area Data'!AK159","v":0},{"$f":"'Bespoke Area Data'!AL159","v":0},{"$f":"'Bespoke Area Data'!AM159","v":0},{"$f":"'Bespoke Area Data'!AN159","v":0},{"$f":"'Bespoke Area Data'!AO159","v":0},{"$f":"'Bespoke Area Data'!AP159","v":0},{"$f":"'Bespoke Area Data'!AQ159","v":0},{"$f":"'Bespoke Area Data'!AR159","v":0},{"$f":"'Bespoke Area Data'!AS159","v":0},{"$f":"'Bespoke Area Data'!AT159","v":0},{"$f":"'Bespoke Area Data'!AU159","v":0},{"$f":"'Bespoke Area Data'!AV159","v":0},{"$f":"'Bespoke Area Data'!AW159","v":0},{"$f":"'Bespoke Area Data'!AX159","v":0},{"$f":"'Bespoke Area Data'!AY159","v":0},{"$f":"'Bespoke Area Data'!AZ159","v":0},{"$f":"'Bespoke Area Data'!BA159","v":0},{"$f":"'Bespoke Area Data'!BB159","v":0},{"$f":"'Bespoke Area Data'!BC159","v":0},{"$f":"'Bespoke Area Data'!BD159","v":0},{"$f":"'Bespoke Area Data'!BE159","v":0},{"$f":"'Bespoke Area Data'!BF159","v":0},{"$f":"'Bespoke Area Data'!BG159","v":0},{"$f":"'Bespoke Area Data'!BH159","v":0},{"$f":"'Bespoke Area Data'!BI159","v":0},{"$f":"'Bespoke Area Data'!BJ159","v":0},{"$f":"'Bespoke Area Data'!BK159","v":0},{"$f":"'Bespoke Area Data'!BL159","v":0},{"$f":"'Bespoke Area Data'!BM159","v":0},{"$f":"'Bespoke Area Data'!BN159","v":0},{"$f":"'Bespoke Area Data'!BO159","v":0},{"$f":"'Bespoke Area Data'!BP159","v":0},{"$f":"'Bespoke Area Data'!BQ159","v":0},{"$f":"'Bespoke Area Data'!BR159","v":0},{"$f":"'Bespoke Area Data'!BS159","v":0},{"$f":"'Bespoke Area Data'!BT159","v":0},{"$f":"'Bespoke Area Data'!BU159","v":0},{"$f":"'Bespoke Area Data'!BV159","v":0},{"$f":"'Bespoke Area Data'!BW159","v":0},{"$f":"'Bespoke Area Data'!BX159","v":0},{"$f":"'Bespoke Area Data'!BY159","v":0},{"$f":"'Bespoke Area Data'!BZ159","v":0},{"$f":"'Bespoke Area Data'!CA159","v":0},{"$f":"'Bespoke Area Data'!CB159","v":0},{"$f":"'Bespoke Area Data'!CC159","v":0},{"$f":"'Bespoke Area Data'!CD159","v":0},{"$f":"'Bespoke Area Data'!CE159","v":0},{"$f":"'Bespoke Area Data'!CF159","v":0},{"$f":"'Bespoke Area Data'!CG159","v":0},{"$f":"'Bespoke Area Data'!CH159","v":0},{"$f":"'Bespoke Area Data'!CI159","v":0},{"$f":"'Bespoke Area Data'!CJ159","v":0},{"$f":"'Bespoke Area Data'!CK159","v":0},{"$f":"'Bespoke Area Data'!CL159","v":0},{"$f":"'Bespoke Area Data'!CM159","v":0},{"$f":"'Bespoke Area Data'!CN159","v":0},{"$f":"'Bespoke Area Data'!CO159","v":0},{"$f":"'Bespoke Area Data'!CP159","v":0},{"$f":"'Bespoke Area Data'!CQ159","v":0},{"$f":"'Bespoke Area Data'!CR159","v":0},{"$f":"'Bespoke Area Data'!CS159","v":0},{"$f":"'Bespoke Area Data'!CT159","v":0},{"$f":"'Bespoke Area Data'!CU159","v":0},{"$f":"'Bespoke Area Data'!CV159","v":0},{"$f":"'Bespoke Area Data'!CW159","v":0},{"$f":"'Bespoke Area Data'!CX159","v":0},{"$f":"'Bespoke Area Data'!CY159","v":0},{"$f":"'Bespoke Area Data'!CZ159","v":0},{"$f":"'Bespoke Area Data'!DA159","v":0},{"$f":"'Bespoke Area Data'!DB159","v":0},{"$f":"'Bespoke Area Data'!DC159","v":0},{"$f":"'Bespoke Area Data'!DD159","v":0},{"$f":"'Bespoke Area Data'!DE159","v":0},{"$f":"'Bespoke Area Data'!DF159","v":0},{"$f":"'Bespoke Area Data'!DG159","v":0},{"$f":"'Bespoke Area Data'!DH159","v":0},{"$f":"'Bespoke Area Data'!DI159","v":0}]

{"sheet":"Quick Stats Number","index":8,"n_rows":630,"n_cols":226,"rows_kept":281,"cut":true,"hidden":true,"merged":[],"bounds":{"rows_first":125,"rows_last":31,"rows_between":125,"halvings":4}}
["Table Number 2011","Table Number 2011","Table Number 2011","Table Number 2011","PP04","PP04","PP04","PP04","PP04","PP04","PP04","PP04","PP04","PP04","PP04","PP04","PP04","PP04","PP04","PP04","PP04","PP04","PP04","PP04","QS103EW","QS103EW","QS103EW","QS103EW","PP05","PP05","PP05","PP05","PP05","PP05","PP05","PP05","PP05","PP05","PP05","PP05","PP05","PP05","PP05","PP05","PP05","PP05","PP05","PP05","LC101","LC101","LC101","LC101","PP06","PP06","PP06","PP06","PP06","PP06","PP06","PP06","PP06","PP06","PP06","PP06","PP06","PP06","PP06","PP06","PP06","PP06","PP06","PP06","LC101","LC101","LC101","LC101","QS106EW","QS106EW","QS106EW","QS106EW","QS116EW","QS116EW","QS116EW","QS116EW","QS116EW","QS116EW","QS116EW","QS116EW","QS116EW","QS116EW","QS116EW","QS116EW","QS118EW","QS118EW","QS118EW","QS118EW","QS118EW","QS118EW","QS118EW","QS118EW","QS118EW","QS118EW","QS118EW","QS118EW","QS205EW","QS205EW","QS205EW","QS205EW","QS205EW","QS205EW","QS401EW","QS401EW","QS401EW","QS401EW","QS401EW","QS401EW","QS401EW","QS401EW","QS401EW","QS401EW","QS401EW","QS401EW","QS403EW","QS403EW","QS403EW","QS403EW","QS403EW","QS403EW","QS403EW","QS403EW","QS403EW","QS403EW","QS403EW","QS403EW","QS403EW","QS403EW","QS406EW","QS406EW","QS406EW","QS406EW","QS406EW","QS406EW","QS406EW","QS406EW","QS406EW","QS407EW","QS407EW","QS407EW","QS407EW","QS407EW","QS407EW","QS407EW","QS407EW","QS407EW","QS407EW","QS408EW","QS408EW","QS408EW","QS408EW","QS408EW","QS408EW","QS411EW","QS411EW","QS411EW","QS411EW","QS411EW","QS411EW","QS411EW","QS412EW","QS412EW","QS412EW","QS412EW","QS412EW","QS412EW","QS415EW","QS415EW","QS415EW","QS415EW","QS415EW","QS415EW","QS415EW","QS415EW","QS502EW","QS502EW","QS502EW","QS502EW","QS502EW","QS502EW","QS502EW","QS502EW","QS502EW","QS502EW","QS502EW","QS502EW","QS502EW","QS502EW","QS701EW","QS701EW","QS701EW","QS701EW","QS701EW","QS701EW","QS701EW","QS701EW","QS701EW","QS701EW","QS701EW","QS701EW","QS701EW","QS803EW","QS803EW","QS803EW","QS803EW","QS803EW","QS803EW","QS702EW","QS702EW","QS702EW","QS702EW","QS702EW","QS702EW","QS702EW","QS702EW","QS702EW","QS702EW","QS702EW"]
["MI Variable Name","MI Variable Name","MI Variable Name","MI Variable Name","PP04_Persons_All_Ages","PP04_Persons_0_4","PP04_Persons_5_9","PP04_Persons_10_14","PP04_Persons_15_19","PP04_Persons_20_24","PP04_Persons_25_29","PP04_Persons_30_34","PP04_Persons_35_39","PP04_Persons_40_44","PP04_Persons_45_49","PP04_Persons_50_54","PP04_Persons_55_59","PP04_Persons_60_64","PP04_Persons_65_69","PP04_Persons_70_74","PP04_Persons_75_79","PP04_Persons_80_84","PP04_Persons_85_89","PP04_Persons_90Over","QS103_Persons_10","QS103_Persons_11","QS103_Persons_12","QS103_Persons_13_14","PP05_Males_All_Ages","PP05_Males_0_4","PP05_Males_5_9","PP05_Males_10_14","PP05_Males_15_19","PP05_Males_20_24","PP05_Males_25_29","PP05_Males_30_34","PP05_Males_35_39","PP05_Males_40_44","PP05_Males_45_49","PP05_Males_50_54","PP05_Males_55_59","PP05_Males_60_64","PP05_Males_65_69","PP05_Males_70_74","PP05_Males_75_79","PP05_Males_80_84","PP05_Males_85_89","PP05_Males_90Over","LC101_Males_10","LC101_Males_11","LC101_Males_12","LC101_Males_13_14","PP06_Females_All_Ages","PP06_Females_0_4","PP06_Females_5_9","PP06_Females_10_14","PP06_Females_15_19","PP06_Females_20_24","PP06_Females_25_29","PP06_Females_30_34","PP06_Females_35_39","PP06_Females_40_44","PP06_Females_45_49","PP06_Females_50_54","PP06_Females_55_59","PP06_Females_60_64","PP06_Females_65_69","PP06_Females_70_74","PP06_Females_75_79","PP06_Females_80_84","PP06_Females_85_89","PP06_Females_90Over","LC101_Females_10","LC101_Females_11","LC101_Females_12","LC101_Females_13_14","QS106_All_People","QS106_No_Second_Address","QS106_Second_Address_In_UK","QS106_Second_Address_Out_UK","QS116_All_HH","QS116_One_Person_HH","QS116_Married_HH_Dep_Child","QS116_Married_HH_No_Dep_Child","QS116_CivilPar_HH_Dep_Child","QS116_CivilPar_HH_No_Dep_Child","QS116_Cohabit_HH_Dep_Child","QS116_Cohabit_HH_No_Dep_Child","QS116_LonePar_HH_Dep_Child","QS116_LonePar_HH_No_Dep_Child","QS116_MultiPer_HH_AllFTStudent","QS116_MultiPer_HH_Other","QS118_Family_In_HH_Dep_Child","QS118_No_Dep_Child","QS118_1_Dep_Child_0to4","QS118_1_Dep_Child_5to11","QS118_1_Dep_Child_12to18","QS118_2_Dep_Child_Young0to4","QS118_2_Dep_Child_Young5to11","QS118_2_Dep_Child_Young12to18","QS118_3More_Dep_Chi_Youn0to4","QS118_3More_Dep_Chi_Youn5to11","QS118_3More_Dep_Chi_Youn12to18","QS118_Total_Dep_Children","QS205_All_People_3Over","QS205_Main_Language_English","QS205_Can_Speak_Eng_Vwell","QS205_Can_Speak_Eng_Well","QS205_Cannot_Speak_Eng_Well","QS205_Cannot_Speak_Eng","QS401_All_People_In_HH","QS401_All_In_Unshared_Dwelling","QS401_House_Total","QS401_Detached","QS401_SemiDetached","QS401_Terraced","QS401_Flat_Total","QS401_Flat_Purpose_Built","QS401_Flat_Shared_House","QS401_Flat_Commercial_Building","QS401_Caravan_Mobile","QS401_All_In_Shared_Dwelling","QS403_All_People_In_HH","QS403_Owned_Total","QS403_Owned_Outright","QS403_Owned_Mortgage_Loan","QS403_Shared_PartOwn_PartRent","QS403_Social _Rent_Total","QS403_Social _Rent_LA","QS403_Social _Rent_Other","QS403_Private_Rent_Total","QS403_Private_Rent_Landlrd_Let","QS403_Private_Rent_Employer","QS403_Private_Rent_Rela_Friend","QS403_Private_Rent_Other","QS403_Living_Rent_Free","QS406_All_HH_Space_With_Res","QS406_1_Person_In_HH","QS406_2_People_In_HH","QS406_3_People_In_HH","QS406_4_People_In_HH","QS406_5_People_In_HH","QS406_6_People_In_HH","QS406_7_People_In_HH","QS406_8Over_People_In_HH","QS407_All_HH_Space_With_Res","QS407_1_Room","QS407_2_Rooms","QS407_3_Rooms","QS407_4_Rooms","QS407_5_Rooms","QS407_6_Rooms","QS407_7_Rooms","QS407_8_Rooms","QS407_9_Or_More_Rooms","QS408_All_HH","QS408_OccRat_Room_Plus2_More","QS408_OccRat_Room_Plus1","QS408_OccRat_Room_0","QS408_OccRat_Room_Minus1","QS408_OccRat_Room_Minus2_Less","QS411_All_HH_Space_With_Res","QS411_0_Bedroom","QS411_1_Bedroom","QS411_2_Bedrooms","QS411_3_Bedrooms","QS411_4_Bedrooms","QS411_5_Bedrooms","QS412_All_HH","QS412_OccRat_Bedroom_Plus2_Mor","QS412_OccRat_Bedroom_Plus1","QS412_OccRat_Bedroom_0","QS412_OccRat_Bedroom_Minus1","QS412_OccRat_Bedroom_Minus2_Le","QS415_All_HH_Space_With_Res","QS415_No_Central_Heating","QS415_Gas_Central_Heating","QS415_Electric_Central_Heating","QS415_Oil_Central_Heating","QS415_Solid_Fuel_Central_Heat","QS415_Other_Central_Heating","QS415_TwoPlus_Central_Heating","QS502_All_People_16Over","QS502_No_Quals","QS502_1to4_Olevel_CSE_GCSEs","QS502_NVQ_Level1_Found_GNVQ","QS502_5More_Olevel_CSEs_GCSEs","QS502_NVQ_Level2_Intermed_GNVQ","QS502_Apprenticeship","QS502_2More_ALev_4More_ASLev","QS502_NVQ_Level3_Advanced_GNVQ","QS502_Degree_Higher_degree","QS502_NVQ_Level4to5_HNC_HND","QS502_Professional_Quals","QS502_Other_Vocational_Quals","QS502_Foreign_Quals","QS701_All_People_16_74","QS701_Home","QS701_Uground_Metro_LRail_Tram","QS701_Train","QS701_Bus_MiniBus_Coach","QS701_Taxi_Minicab","QS701_Motorcycle_Scooter_Moped","QS701_Car_Van_Driving","QS701_Car_Van_Passenger","QS701_Bicycle","QS701_On_Foot","QS701_Other","QS701_Not_In_Employment","QS803_All_People","QS803_Born_In_UK","QS803_UK_Less_2_Years","QS803_UK_2_Years_Over_Less_5","QS803_UK_5_Years_Over_Less_10","QS803_UK_10_Years_More","QS702_All_People_16_74_Employ","QS702EW_Less_2km","QS702EW_2km_Less_5km","QS702EW_5km_Less_10km","QS702EW_10km_Less_20km","QS702EW_20km_Less_30km","QS702EW_30km_Less_40km","QS702EW_40km_Less_60km","QS702EW_60km_Over","QS702EW_Home","QS702EW_Other"]
["ONS Variable Name","ONS Variable Name","ONS Variable Name","ONS Variable Name","Persons All Ages ","Persons 0 ‒ 4","Persons 5 ‒ 9","Persons 10 ‒ 14","Persons 15 ‒ 19","Persons 20 ‒ 24","Persons 25 ‒ 29","Persons 30 ‒ 34","Persons 35 ‒ 39","Persons 40 ‒ 44","Persons 45 ‒ 49","Persons 50 ‒ 54","Persons 55 ‒ 59","Persons 60 ‒ 64","Persons 65 ‒ 69","Persons 70 ‒ 74","Persons 75 ‒ 79","Persons 80 ‒ 84","Persons 85 ‒ 89","Persons 90 and over","Persons 10","Persons 11","Persons 12","Persons 13 ‒ 14","Males All Ages ","Males 0 ‒ 4","Males 5 ‒ 9","Males 10 ‒ 14","Males 15 ‒ 19","Males 20 ‒ 24","Males 25 ‒ 29","Males 30 ‒ 34","Males 35 ‒ 39","Males 40 ‒ 44","Males 45 ‒ 49","Males 50 ‒ 54","Males 55 ‒ 59","Males 60 ‒ 64","Males 65 ‒ 69","Males 70 ‒ 74","Males 75 ‒ 79","Males 80 ‒ 84","Males 85 ‒ 89","Males 90 and over","Males 10","Males 11","Males 12","Males 13 ‒ 14","Females All Ages ","Females 0 ‒ 4","Females 5 ‒ 9","Females 10 ‒ 14","Females 15 ‒ 19","Females 20 ‒ 24","Females 25 ‒ 29","Females 30 ‒ 34","Females 35 ‒ 39","Females 40 ‒ 44","Females 45 ‒ 49","Females 50 ‒ 54","Females 55 ‒ 59","Females 60 ‒ 64","Females 65 ‒ 69","Females 70 ‒ 74","Females 75 ‒ 79","Females 80 ‒ 84","Females 85 ‒ 89","Females 90 and over","Females 10","Females 11","Females 12","Females 13 ‒ 14","All categories: Second address","No second address","Second address within the UK","Second address outside the UK","All categories: Household type","One person household","Married couple household: With dependent children","Married couple household: No dependent children","Same-sex civil partnership couple household: With dependent children","Same-sex civil partnership couple household: No dependent children","Cohabiting couple household: With dependent children","Cohabiting couple household: No dependent children","Lone parent household: With dependent children","Lone parent household: No dependent children","Multi-person household: All full-time students","Multi-person household: Other","All categories: Dependent children in family","No dependent children in family","One dependent child in family aged 0 to 4","One dependent child in family aged 5 to 11","One dependent child in family aged 12 to 18","Two dependent children in family; youngest aged 0 to 4","Two dependent children in family; youngest aged 5 to 11","Two dependent children in family; youngest aged 12 to 18","Three or more dependent children in family; youngest aged 0 to 4","Three or more dependent children in family; youngest aged 5 to 11","Three or more dependent children in family; youngest aged 12 to 18","Total dependent children","All categories: Proficiency in English","Main language is English (English or Welsh in Wales)","Main language is not English (English or Welsh in Wales): Can speak English very well","Main language is not English (English or Welsh in Wales): Can speak English well","Main language is not English (English or Welsh in Wales): Cannot speak English well","Main language is not English (English or Welsh in Wales): Cannot speak English","All categories: Accommodation type","Unshared dwelling: Total","Unshared dwelling: Whole house or bungalow: Total","Unshared dwelling: Whole house or bungalow: Detached","Unshared dwelling: Whole house or bungalow: Semi-detached","Unshared dwelling: Whole house or bungalow: Terraced (including end-terrace)","Unshared dwelling: Flat, maisonette or apartment: Total","Unshared dwelling: Flat, maisonette or apartment: Purpose-built block of flats or tenement","Unshared dwelling: Flat, maisonette or apartment: Part of a converted or shared house (including bed-sits)","Unshared dwelling: Flat, maisonette or apartment: In commercial building","Unshared dwelling: Caravan or other mobile or temporary structure","Shared dwelling","All categories: Tenure","Owned: Total","Owned: Owned outright","Owned: Owned with a mortgage or loan","Shared ownership (part owned and part rented)","Social rented: Total","Social rented: Rented from council (Local Authority)","Social rented: Other social rented","Private rented: Total","Private rented: Private landlord or letting agency","Private rented: Employer of a household member","Private rented: Relative or friend of household member","Private rented: Other","Living rent free","All categories: Household size","1 person in household","2 people in household","3 people in household","4 people in household","5 people in household","6 people in household","7 people in household","8 or more people in household","All categories: Number of rooms","1 room","2 rooms","3 rooms","4 rooms","5 rooms","6 rooms","7 rooms","8 rooms","9 or more rooms","All categories: Occupancy rating (rooms) ","Occupancy rating (rooms) of +2 or more","Occupancy rating (rooms) of +1","Occupancy rating (rooms) of 0","Occupancy rating (rooms) of -1","Occupancy rating (rooms) of -2 or less","All categories: Number of bedrooms","No bedrooms","1 bedroom","2 bedrooms","3 bedrooms","4 bedrooms","5 or more bedrooms","All categories: Occupancy rating bedrooms","Occupancy rating (bedrooms) of +2 or more","Occupancy rating (bedrooms) of +1","Occupancy rating (bedrooms) of 0","Occupancy rating (bedrooms) of -1","Occupancy rating (bedrooms) of -2 or less","All categories: Type of central heating in household","No central heating ","Gas central heating","Electric (including storage heaters) central heating","Oil central heating","Solid fuel (for example wood, coal) central heating","Other central heating","Two or more types of central heating","All usual residents aged 16 and over","No qualifications","1-4 O levels/CSE/GCSEs (any grades), Entry Level, Foundation Diploma","NVQ Level 1, Foundation GNVQ, Basic Skills","5+ O level (Passes)/CSEs (Grade 1)/GCSEs (Grades A*-C), School Certificate, 1 A level/2-3 AS levels/VCEs, Higher Diploma, Welsh Baccalaureate Intermediate Diploma","NVQ Level 2, Intermediate GNVQ, City and Guilds Craft, BTEC First/General Diploma, RSA Diploma","Apprenticeship","2+ A levels/VCEs, 4+ AS levels, Higher School Certificate, Progression/Advanced Diploma, Welsh Baccalaureate Advanced Diploma","NVQ Level 3, Advanced GNVQ, City and Guilds Advanced Craft, ONC, OND, BTEC National, RSA Advanced Diploma","Degree (for example BA, BSc), Higher degree (for example MA, PhD, PGCE)","NVQ Level 4-5, HNC, HND, RSA Higher Diploma, BTEC Higher Level","Professional qualifications (for example teaching, nursing, accountancy)","Other vocational/work-related qualifications","Foreign qualifications","All Usual Residents Aged 16-74","Work mainly at or from home","Underground, metro, light rail, tram","Train","Bus, minibus or coach","Taxi","Motorcycle, scooter or moped","Driving a car or van","Passenger in a car or van","Bicycle","On foot","Other method of travel to work","Not in employment","All categories: Length of residence in the UK","Born in the UK","Resident in UK: Less than 2 years","Resident in UK: 2 years or more but less than 5 years","Resident in UK: 5 years or more but less than 10 years","Resident in UK: 10 years or more","All categories: Distance travelled to work","Less than 2km","2km to less than 5km","5km to less than 10km","10km to less than 20km","20km to less than 30km","30km to less than 40km","40km to less than 60km","60km and over","Work mainly at or from home","Other"]
["Area Type","ONS Area Name","System Area Name","Area Code",3,4,5,6,7,8,9,10,11,12,13,14,15,16,17,18,19,20,21,22,23,24,25,26,27,28,29,30,31,32,33,34,35,36,37,38,39,40,41,42,43,44,45,46,47,48,49,50,51,52,53,54,55,56,57,58,59,60,61,62,63,64,65,66,67,68,69,70,71,72,73,74,75,76,77,78,79,80,81,82,83,84,85,86,87,88,89,90,91,92,93,94,95,96,97,98,99,100,101,102,103,104,105,106,107,108,109,110,111,112,113,114,115,116,117,118,119,120,121,122,123,124,125,126,127,128,129,130,131,132,133,134,135,136,137,138,139,140,141,142,143,144,145,146,147,148,149,150,151,152,153,154,155,156,157,158,159,160,161,162,163,164,165,166,167,168,169,170,171,172,173,174,175,176,177,178,179,180,181,182,183,184,185,186,187,188,189,190,191,192,193,194,195,196,197,198,199,200,201,202,203,204,205,206,207,208,209,210,211,212,213,214,215,216,217,218,219,220,221,222,223,224]
["N/A","N/A","USE AREA TYPE AND AREA NAME SELECTION BOXES ABOVE TO CHOOSE AREA","TEXT005",0,0,0,0,0,0,0,0,0,0,0,0,0,0,0,0,0,0,0,0,0,0,0,0,0,0,0,0,0,0,0,0,0,0,0,0,0,0,0,0,0,0,0,0,0,0,0,0,0,0,0,0,0,0,0,0,0,0,0,0,0,0,0,0,0,0,0,0,0,0,0,0,0,0,0,0,0,0,0,0,0,0,0,0,0,0,0,0,0,0,0,0,0,0,0,0,0,0,0,0,0,0,0,0,0,0,0,0,0,0,0,0,0,0,0,0,0,0,0,0,0,0,0,0,0,0,0,0,0,0,0,0,0,0,0,0,0,0,0,0,0,0,0,0,0,0,0,0,0,0,0,0,0,0,0,0,0,0,0,0,0,0,0,0,0,0,0,0,0,0,0,0,0,0,0,0,0,0,0,0,0,0,0,0,0,0,0,0,0,0,0,0,0,0,0,0,0,0,0,0,0,0,0,0,0,0,0,0,0,0,0,0,0,0,0,0,0,0,0,0,0,0]
["N/A","N/A","USE COMPARISON AREA TYPE AND COMPARISON AREA NAME SELECTION BOXES ABOVE TO CHOOSE AREA","TEXT006",0,0,0,0,0,0,0,0,0,0,0,0,0,0,0,0,0,0,0,0,0,0,0,0,0,0,0,0,0,0,0,0,0,0,0,0,0,0,0,0,0,0,0,0,0,0,0,0,0,0,0,0,0,0,0,0,0,0,0,0,0,0,0,0,0,0,0,0,0,0,0,0,0,0,0,0,0,0,0,0,0,0,0,0,0,0,0,0,0,0,0,0,0,0,0,0,0,0,0,0,0,0,0,0,0,0,0,0,0,0,0,0,0,0,0,0,0,0,0,0,0,0,0,0,0,0,0,0,0,0,0,0,0,0,0,0,0,0,0,0,0,0,0,0,0,0,0,0,0,0,0,0,0,0,0,0,0,0,0,0,0,0,0,0,0,0,0,0,0,0,0,0,0,0,0,0,0,0,0,0,0,0,0,0,0,0,0,0,0,0,0,0,0,0,0,0,0,0,0,0,0,0,0,0,0,0,0,0,0,0,0,0,0,0,0,0,0,0,0,0,0,0]
["Country","England and Wales","England & Wales","K04000001",56075912,3496750,3135711,3258677,3539385,3807245,3836609,3683915,3732161,4099089,4100526,3601694,3183915,3377162,2674161,2178672,1777547,1338005,825671,429017,620448,640159,654585,1343485,27573376,1789744,1604914,1668191,1808009,1919169,1914298,1842456,1855920,2027932,2028286,1786690,1573599,1658007,1299081,1032457,804697,552538,292882,114506,0,0,0,0,28502536,1707006,1530797,1590486,1731376,1888076,1922311,1841459,1876241,2071157,2072240,1815004,1610316,1719155,1375080,1146215,972850,785467,532789,314511,0,0,0,0,56075912,53178271,2076827,820814,23366044,7067261,3797364,6292369,3263,33417,1004254,1587840,1854883,901362,128668,695363,15764047,8990056,1122419,713826,1288765,1009066,993119,550768,596719,424057,75252,12077665,53961451,49808185,1722197,1567919,725639,137511,55071113,54945714,46291451,13545713,18498376,14247362,8506095,6504800,1547558,453737,148168,125399,55071113,35813691,14156368,21657323,378991,9036726,4911077,4125649,9244758,8453786,157060,481428,152484,596947,23366044,7067261,7998031,3641569,3031078,1085188,386784,92734,63399,23366044,176529,663557,2353485,4440634,5781411,4575308,2377892,1496417,1500811,23366044,11718659,5352253,4299272,1465717,530143,23366044,57222,2693237,6460594,9725270,3362309,1067412,23366044,8077085,8057160,6131193,930997,169609,23366044,624095,18380370,1900765,962129,174681,369534,954470,45496780,10307327,15310405,3785105,15609957,6870816,2900130,8386280,4992793,7825700,2006440,6414702,7756589,2843115,41126540,1422708,1028800,1371025,1949442,137988,214244,15264527,1357280,762334,2846588,171400,14600204,56075912,48570902,955481,1199710,1557353,3792466,26526336,4404107,4851173,4595170,4067393,1531161,680415,616333,822306,2724010,2234268]
["Country","England","England","E92000001",53012456,3318449,2972632,3080929,3340265,3595321,3650881,3509221,3549116,3885934,3879815,3400095,2996992,3172277,2508154,2044129,1669345,1258773,776311,403817,587056,605569,618918,1269386,26069148,1698171,1521271,1577011,1706618,1810404,1820536,1754903,1765582,1923441,1919758,1687729,1481745,1557140,1217965,967953,755703,519650,275459,108109,0,0,0,0,26943308,1620278,1451361,1503918,1633647,1784917,1830345,1754318,1783534,1962493,1960057,1712366,1515247,1615137,1290189,1076176,913642,739123,500852,295708,0,0,0,0,53012456,50269168,1951958,791330,22063368,6666493,3607557,5919659,3122,32175,942613,1509667,1747646,846752,120874,666810,14885145,8476581,1064130,673379,1213580,957255,939630,520828,566275,402166,71321,11437443,51005610,46936780,1689406,1535579,709862,133983,52059931,51937437,43535028,12655919,17489167,13389942,8261640,6323040,1505219,433381,140769,122494,52059931,33740906,13260548,20480358,369442,8570417,4628071,3942346,8818651,8071527,152287,448845,145992,560515,22063368,6666493,7544404,3437917,2866800,1028477,369186,88823,61268,22063368,172008,641307,2264602,4227236,5446830,4275834,2223733,1400789,1411029,22063368,10970550,5057303,4106919,1412634,515962,22063368,54938,2593893,6145083,9088213,3166531,1014710,22063368,7558815,7594129,5849457,896144,164823,22063368,594561,17386813,1828589,848145,149694,357916,897650,42989620,9656810,14476106,3549205,14770857,6471092,2723419,7989853,4701028,7472181,1878697,6072830,7315650,2776829,38881374,1349568,1027625,1343684,1886539,131465,206550,14345882,1264553,742675,2701453,162727,13718653,53012456,45675317,928025,1170307,1521867,3716940,25162721,4170138,4627289,4364988,3848064,1439855,642205,586489,773984,2581832,2127877]
["Region","North East","North East Region","E12000001",2596886,149843,136299,145045,169440,184018,164303,151152,157149,183232,196020,181379,160945,168576,128511,110731,89861,65002,37546,17834,27047,28525,28936,60537,1269703,76837,69978,74056,86544,93423,81454,74912,77110,89591,96191,89282,79385,82644,62647,51571,40101,26311,13071,4595,0,0,0,0,1327183,73006,66321,70989,82896,90595,82849,76240,80039,93641,99829,92097,81560,85932,65864,59160,49760,38691,24475,13239,0,0,0,0,2596886,2478433,92727,25726,1129935,360500,156261,313530,145,1012,53085,69916,98685,46069,7857,22875,748196,434694,52558,38580,67928,43503,44508,23788,23935,15970,2732,532130,2506392,2435635,28783,27650,12007,2317,2550818,2549615,2295420,456235,1052193,786992,252402,195067,43517,13818,1793,1203,2550818,1647519,617458,1030061,8207,520106,349032,171074,351117,318764,3248,23368,5737,23869,1129935,360500,395055,180642,134678,41934,12837,2647,1642,1129935,3193,16748,94822,254761,314163,224694,107639,62085,51830,1129935,557830,309564,205268,46261,11012,1129935,2138,97988,357890,500350,133214,38355,1129935,378034,444382,272935,30546,4038,1129935,13919,959399,59282,20766,12679,14906,48984,2134449,565208,739262,240734,650935,393843,179420,307783,279634,267687,104566,260277,383460,50045,1924206,42528,29193,14018,107777,8805,5083,710827,81158,20361,122533,10687,771236,2596886,2468313,22956,22436,26322,56859,1152970,202172,235849,220617,192451,55976,20205,15795,33880,92336,83689]
["Region","North West","North West Region","E12000002",7052177,432091,392166,412407,456837,489640,466582,429685,450049,514802,522351,465140,409628,439644,342240,285502,227350,167246,99316,49501,78223,80300,82568,171316,3464685,221278,201216,211056,232944,245080,233143,214455,222369,254350,257533,230877,204381,218521,166900,134704,101428,67476,34421,12553,0,0,0,0,3587492,210813,190950,201351,223893,244560,233439,215230,227680,260452,264818,234263,205247,221123,175340,150798,125922,99770,64895,36948,0,0,0,0,7052177,6730583,245182,76412,3009549,969302,445772,782919,389,3249,137244,189561,266313,128304,14229,72267,1985879,1120596,142030,98193,176508,123275,122320,66747,75438,51546,9226,1521288,6791907,6446819,131068,130578,69718,13724,6927820,6918971,6226999,1392578,2708543,2125878,679451,545871,90773,42807,12521,8849,6927820,4671253,1833329,2837924,30888,1129256,493348,635908,1026012,943071,7577,62314,13050,70411,3009549,969302,1007844,472901,368345,128271,44677,10786,7423,3009549,13009,61219,271884,554145,805472,651145,308683,181413,162579,3009549,1565750,736506,519477,146340,41476,3009549,6486,286700,857570,1353542,395101,110150,3009549,1038652,1115998,743310,96326,15263,3009549,92991,2503709,201275,50019,13764,39119,108672,5727629,1419620,1946831,539791,1902610,952387,408636,944989,706813,830694,276297,753888,966631,202717,5184216,144079,20719,89429,267140,26302,19988,2021199,197661,70557,351807,19863,1955472,7052177,6474945,74516,95147,122395,285174,3228744,585311,674012,606289,467253,160888,70136,55505,82383,290983,235984]
["Region","Yorkshire and The Humber","Yorkshire and The Humber Region","E12000003",5283733,328447,297475,306096,348645,382679,347304,321328,337891,382902,381984,343804,305278,325329,252608,211241,170823,125598,75868,38433,57529,60323,61660,126584,2598078,167867,151669,155697,177105,192459,173233,161571,168905,190306,190360,170949,152360,160571,122565,98937,75981,50831,26663,10049,0,0,0,0,2685655,160580,145806,150399,171540,190220,174071,159757,168986,192596,191624,172855,152918,164758,130043,112304,94842,74767,49205,28384,0,0,0,0,5283733,5011184,215504,57045,2224059,679399,343437,614820,361,2329,107861,155921,175197,77923,15130,51681,1503259,864888,104157,69903,124672,93755,91476,51058,58179,38604,6567,1137414,5085191,4783865,104260,115293,67614,14159,5185677,5178767,4687182,1170523,2033395,1483264,483057,385800,64180,33077,8528,6910,5185677,3458411,1357743,2100668,19539,833458,573607,259851,814082,737346,12426,48822,15488,60187,2224059,679399,781520,340514,275165,94219,36846,9266,7130,2224059,11450,48305,199887,448232,603751,444507,216739,130655,120533,2224059,1119470,563602,393093,113349,34545,2224059,4659,222270,630433,972887,303458,90352,2224059,784372,819567,537964,70265,11891,2224059,74100,1812439,138290,58501,24015,31388,85326,4285941,1104692,1450438,408032,1368435,712684,308482,702773,496687,596081,182835,547941,748437,155202,3875219,110962,10716,58307,207114,16432,16173,1490020,155856,62119,285542,14833,1447145,5283733,4819042,66394,82195,99561,216541,2428074,434697,504164,444550,350214,119079,53218,45590,75234,224802,176526]
["Region","East Midlands","East Midlands Region","E12000004",4533222,270174,247564,264538,295914,307676,278581,267803,291852,335883,340232,298725,269931,291401,232160,182553,146526,110043,67862,33804,49914,51888,53398,109338,2234493,137772,126485,135543,151489,154922,138864,133906,144433,165981,168881,148896,134434,144616,113882,87782,67295,45617,24576,9119,0,0,0,0,2298729,132402,121079,128995,144425,152754,139717,133897,147419,169902,171351,149829,135497,146785,118278,94771,79231,64426,43286,24685,0,0,0,0,4533222,4300971,180456,51795,1895604,548989,305482,554739,258,2123,89065,135446,139935,65854,11823,41890,1313305,770522,86561,57536,106583,79697,82213,46320,45412,32449,6012,960184,4370763,4101046,95822,105884,56723,11288,4442192,4438597,4101387,1535953,1649125,916309,325470,258896,41163,25411,11740,3595,4442192,3058799,1215679,1843120,26047,645878,418506,227372,666285,607586,10747,38794,9158,45183,1895604,548989,685772,296530,244736,81798,27266,6584,3929,1895604,7137,35029,139119,315787,513523,406275,207827,135894,135013,1895604,1074570,432458,283812,80440,24324,1895604,3697,153288,502502,860782,291736,83599,1895604,735821,683650,414489,52765,8879,1895604,38112,1518135,120924,86749,27116,25952,78616,3694767,914014,1288159,335811,1190768,615079,265634,601774,440359,502111,167032,479570,668475,156546,3336532,108977,6537,28777,132073,8823,15557,1409030,129471,58995,236719,11582,1189991,4533222,4085011,56340,74550,95252,222069,2146541,377499,398021,351636,322457,138381,56644,47457,81778,215773,156895]
["Region","West Midlands","West Midlands Region","E12000005",5601847,354801,327060,340758,369312,380909,363286,343295,360103,406247,404030,351121,319685,335265,279804,225885,181119,135875,82016,41276,64350,66688,68125,141595,2763187,181789,167306,174818,188941,192838,182037,170956,180186,201570,200724,174851,159216,165509,136850,107641,82316,56274,28624,10741,0,0,0,0,2838660,173012,159754,165940,180371,188071,181249,172339,179917,204677,203306,176270,160469,169756,142954,118244,98803,79601,53392,30535,0,0,0,0,5601847,5360085,182822,58940,2294909,678248,380930,637428,222,2118,104037,142964,192067,94124,11084,51687,1588351,896765,110509,73527,133939,98650,98711,55718,66491,45784,8257,1253840,5388014,5001880,134457,144645,87657,19375,5509535,5502837,4922835,1414249,2179866,1328720,566073,470621,59590,35862,13929,6698,5509535,3687523,1502532,2184991,32680,957483,559931,397552,767361,702215,10356,43078,11712,64488,2294909,678248,776691,363132,298605,112956,44613,11747,8917,2294909,10657,45828,200121,384844,611838,496343,245735,153458,146085,2294909,1215601,525353,397611,117880,38464,2294909,5375,221376,579677,1077787,317861,92833,2294909,825516,791295,572284,88710,17104,2294909,67167,1812994,181764,81243,15520,38062,98159,4507405,1196794,1498372,415319,1384696,742391,280631,682667,533833,611781,206427,574449,774421,197991,4067119,121260,6663,64563,194723,13319,16370,1649987,154599,50388,251452,13552,1530243,5601847,4971874,70911,91899,128691,338472,2536876,413779,520096,466944,370395,148923,57914,44849,77627,246011,190338]
["Region","East of England","East of England Region","E12000006",5846965,361269,328512,345453,358697,352974,362643,363808,387651,432514,435701,380369,340626,372566,294329,237064,198778,151359,93653,48999,65734,67582,69733,142404,2875807,184950,168706,177256,183852,180048,180892,180748,192051,213707,215729,189313,167417,181519,143691,113333,91239,63699,34143,13514,0,0,0,0,2971158,176319,159806,168197,174845,172926,181751,183060,195600,218807,219972,191056,173209,191047,150638,123731,107539,87660,59510,35485,0,0,0,0,5846965,5584889,183681,78395,2423035,689710,425129,712334,322,2735,109377,170266,165785,84776,6468,56133,1695723,985703,113539,68475,131438,109154,111570,63919,58997,44601,8327,1267542,5628792,5317554,130200,118244,53402,9392,5748605,5743468,5073384,1822044,1891697,1359643,646713,535105,74729,36879,23371,5137,5748605,3963368,1552307,2411061,38829,850784,423832,426952,837507,757911,20756,43251,15589,58117,2423035,689710,860973,378048,334703,113217,34606,7468,4310,2423035,11420,56289,218770,427324,591100,477702,267353,179573,193504,2423035,1318884,534117,413597,121724,34713,2423035,5194,251374,633776,1002547,407633,122511,2423035,912653,835572,588708,74502,11600,2423035,48711,1806196,223532,205696,15004,25525,98371,4738333,1067449,1672091,369831,1623295,709293,308266,819330,497688,724380,194188,674067,833573,254515,4245544,161428,33110,205077,106303,13227,22475,1757121,143749,100651,288663,17708,1396032,5846965,5204750,85547,106825,133940,315903,2849512,470879,439335,362878,420974,238011,127805,125611,105940,304889,253190]
["Region","London","London (Greater London) Region","E12000007",8173941,591495,482809,456865,471659,629972,832966,796888,664046,610020,556656,461290,371936,342590,256772,216286,176831,131830,80574,42456,91000,91387,90730,183748,4033289,302540,245848,233268,239896,310403,412188,403225,336264,304686,273747,228084,181543,165592,121114,100729,79533,54234,28683,11712,0,0,0,0,4140652,288955,236961,223597,231763,319569,420778,393663,327782,305334,282909,233206,190393,176998,135658,115557,97298,77596,51891,30744,0,0,0,0,8173941,7672328,279588,222025,3266173,1030558,560627,609346,507,9615,101065,234944,325806,153753,23607,216345,2064263,1054104,194371,108096,168836,157813,128918,66732,104112,70235,11046,1845770,7809942,6083420,763502,643410,271693,47917,8073700,8009602,4582208,618858,1831596,2131754,3421994,2538578,756351,127065,5400,64098,8073700,3939795,1437803,2501992,88700,1862381,1050817,811564,2089459,1983957,14028,66713,24761,93365,3266173,1030558,947805,526610,439852,195395,85719,22396,17838,3266173,78991,217587,589608,791120,672302,459044,218491,125273,113757,3266173,976029,690485,892222,467569,239868,3266173,14466,705556,1030968,1022872,348537,143774,3266173,689538,923221,1273424,307934,72056,3266173,92411,2571307,325147,12115,1598,120347,143248,6549173,1152517,1820053,388598,2277952,653779,181897,1587374,483830,1950209,219177,976834,832659,1167048,6117482,202679,902263,532720,561605,20314,45976,1120826,69659,161705,352612,28538,2118585,8173941,5175677,368529,458019,620600,1551116,3998897,474585,715936,926646,795833,154589,38310,28294,52083,380665,431956]
["Region","South East","South East Region","E12000008",8634750,534235,488058,512875,541684,534287,528057,538471,578011,644796,653258,567834,495765,535399,424290,339405,282391,218727,139576,77631,97894,101017,103798,210166,4239298,273825,250195,263517,277823,270841,263534,266024,284695,318221,324463,282878,245086,261924,205415,160646,128445,91069,49636,21061,0,0,0,0,4395452,260410,237863,249358,263861,263446,264523,272447,293316,326575,328795,284956,250679,273475,218875,178759,153946,127658,89940,56570,0,0,0,0,8634750,8144186,340312,150252,3555463,1023154,641967,1013550,605,5805,146785,249904,237739,122202,18226,95526,2458022,1417001,167421,100736,188982,162401,165388,92021,85422,66384,12266,1860927,8313859,7832436,223997,180188,65638,11600,8446500,8431381,7168752,2590710,2578924,1999118,1225614,940733,213487,71394,37015,15119,8446500,5787815,2230360,3557455,86293,1104161,467019,637142,1381425,1238368,44277,68564,30216,86806,3555463,1023154,1247950,551773,492843,167581,53824,11742,6596,3555463,22825,100954,348982,634716,807265,673722,393952,263661,309386,3555463,1895601,764952,628936,205282,60692,3555463,8531,413761,932994,1383662,603887,212628,3555463,1318932,1195478,907483,116852,16718,3555463,84627,2818983,322154,141772,14650,40571,132706,6992666,1333955,2471595,492083,2727031,984776,455870,1501322,741971,1305654,317850,1119717,1258611,429796,6274341,279656,15338,311895,189926,16750,36467,2590701,200386,127614,463662,28328,2013618,8634750,7591430,130673,170271,213325,529051,4260723,706167,688146,604950,582465,301705,156951,168384,169351,502584,380020]
["Region","South West","South West Region","E12000009",5288935,296094,272689,296892,328077,333166,307159,296791,322364,375538,389583,350433,323198,361507,297440,235462,195666,153093,99900,53883,55365,57859,59970,123698,2590608,151313,139868,151800,168024,170390,155191,149106,159569,185029,192130,172599,157923,176244,144901,112610,89365,64139,35642,14765,0,0,0,0,2698327,144781,132821,145092,160053,162776,151968,147685,162795,190509,197453,177834,165275,185263,152539,122852,106301,88954,64258,39118,0,0,0,0,5288935,4986509,231686,70740,2264641,686633,347952,680993,313,3189,94094,160745,146119,73747,12450,58406,1528147,932308,92984,58333,114694,89007,94526,54525,48289,36593,6888,1058348,5110750,4934125,77317,69687,25410,4211,5175084,5164199,4476861,1654769,1563828,1258264,660866,452369,161429,47068,26472,10885,5175084,3526423,1513337,2013086,38259,666910,291979,374931,885403,782309,28872,53941,20281,58089,2264641,686633,840794,327767,277873,93106,28798,6187,3483,2264641,13326,59348,201409,416307,527416,442402,257314,168777,178342,2264641,1246815,500266,372903,113789,30868,2264641,4392,241580,619273,913784,365104,120508,2264641,875297,784966,538860,58244,7274,2264641,82523,1583651,256221,191284,25348,22046,103568,4359257,902561,1589305,359006,1645135,706860,334583,841841,520213,683584,210325,686087,849383,162969,3856715,177999,3086,38898,119878,7493,28461,1596171,132014,90285,348463,17636,1296331,5288935,4884275,52159,68965,81781,201755,2560384,505049,451730,380478,346022,122303,61022,55004,95708,323789,219279]
["Sub-Region","West Midlands (Met County)","West Midlands Metropolitan Area","E11000005",2736460,192528,174014,174834,192404,210315,198782,183273,179056,192797,185932,158750,139634,138600,116755,99078,82086,62285,36924,18413,33553,34172,35069,72040,1346950,98923,89026,89772,97585,104071,99168,90947,90064,95334,91597,79096,70057,68397,56465,46454,36627,25664,12872,4831,0,0,0,0,1389510,93605,84988,85062,94819,106244,99614,92326,88992,97463,94335,79654,69577,70203,60290,52624,45459,36621,24052,13582,0,0,0,0,2736460,2620457,87482,28521,1086748,332684,184604,261540,87,912,48059,60197,110315,51328,7887,29135,739582,387226,58248,36923,64693,49663,46149,25868,40031,26243,4538,661045,2619700,2325315,99553,108014,70471,16347,2693432,2688687,2335385,446750,1121487,767148,351581,300066,32611,18904,1721,4745,2693432,1686055,674037,1012018,16642,551881,370842,181039,404107,376083,2165,20329,5530,34747,1086748,332684,332547,172961,141111,61965,29788,8505,7187,1086748,7142,26288,111339,184686,311465,243804,103611,55383,43030,1086748,506687,261156,219029,72555,27321,1086748,3176,120999,266773,541772,117434,36594,1086748,341870,364439,308710,58709,13020,1086748,38117,880553,94956,1736,1195,25951,44240,2158382,627995,681306,200852,587594,339951,110000,301694,238091,283541,86233,230656,317841,129658,1958674,38020,5490,40347,148399,6670,6741,697242,69963,19419,107976,6107,812300,2736460,2282318,49633,61224,92503,250782,1146374,177617,278021,263077,153663,40625,15269,12208,32068,87044,86782]
["Sub-Region","N/A","Black Country","BC01",1139781,76596,69541,70233,74478,74426,77669,71879,74616,83981,81103,68987,61811,62979,54474,46779,37905,28248,16243,7833,13383,13551,14103,29196,561171,39007,35531,36125,38161,36883,38344,35854,37913,41754,39998,34580,31106,31345,26327,22104,16971,11543,5583,2042,0,0,0,0,578610,37589,34010,34108,36317,37543,39325,36025,36703,42227,41105,34407,30705,31634,28147,24675,20934,16705,10660,5791,0,0,0,0,1139781,1110849,22164,6768,461364,136234,76279,124642,38,304,23823,26359,42446,21717,422,9100,324488,178240,24110,15894,28332,20696,19935,11128,14736,9753,1664,265368,1093321,1003307,27082,33267,24313,5352,1129249,1128225,1004447,209903,547058,247486,122934,107110,8704,7120,844,1024,1129249,724949,293773,431176,5231,253224,189625,63599,131492,121803,780,7247,1662,14353,461364,136234,147434,76136,61610,24720,10467,2815,1948,461364,1691,7876,44595,77990,137158,110707,44656,22376,14315,461364,224575,114108,89804,24988,7889,461364,1096,46083,113895,244970,44831,10489,461364,147821,162587,126044,20872,4040,461364,15055,382672,36222,355,763,8227,18070,908420,295326,284708,90373,217216,155983,48565,92177,104597,87263,36610,86112,143142,39083,818191,14013,3816,12353,52113,2531,3416,313933,31626,7771,43346,2264,331009,1139781,1006571,11592,17514,27808,76296,487182,79268,125447,107521,67117,15777,5817,4843,11942,34175,35275]
["Local Authority","Hartlepool","Hartlepool","E06000001",92028,5698,5192,5653,6278,5955,5622,5033,5373,6463,7267,6464,5595,5837,4236,3938,3327,2241,1323,533,1060,1131,1153,2309,44751,2930,2648,2839,3167,3001,2686,2379,2674,3106,3561,3229,2762,2878,2095,1799,1469,940,451,137,0,0,0,0,47277,2768,2544,2814,3111,2954,2936,2654,2699,3357,3706,3235,2833,2959,2141,2139,1858,1301,872,396,0,0,0,0,92028,89553,1819,656,40434,13392,5432,10654,3,31,2229,2362,4170,1574,14,573,26789,14745,1879,1434,2731,1669,1642,940,1007,620,122,20770,88600,87345,477,408,286,84,91091,91063,84220,17724,31926,34570,6703,5739,449,515,140,28,91091,57843,20957,36886,364,18836,8733,10103,13114,12230,63,691,130,934,40434,13392,13478,6629,4759,1526,469,107,74,40434,95,502,3456,8535,10786,8563,3953,2354,2190,40434,20853,10637,7200,1411,333,40434,89,3480,11892,18480,4939,1554,40434,14261,15525,9522,980,146,40434,580,35401,2113,147,75,527,1591,74228,22758,24534,9342,18650,15263,7376,6832,10682,6176,3596,7492,13500,1088,66804,1045,33,481,2592,700,180,23871,3214,723,4514,414,29037,92028,89469,281,398,547,1333,37767,8452,10557,3406,5707,1684,681,489,1154,2473,3164]
["Local Authority","Middlesbrough","Middlesbrough","E06000002",138412,9431,8276,8485,10064,11690,9765,8295,8135,8984,9899,9233,7933,7531,5680,5153,4278,3115,1658,807,1652,1652,1643,3538,67732,4741,4199,4253,5129,6151,4809,4126,3981,4310,4806,4556,3845,3739,2794,2402,1856,1269,569,197,0,0,0,0,70680,4690,4077,4232,4935,5539,4956,4169,4154,4674,5093,4677,4088,3792,2886,2751,2422,1846,1089,610,0,0,0,0,138412,132025,4951,1436,57203,17708,7892,13785,9,40,2897,3275,6593,2807,654,1543,38097,20245,2935,2009,3560,2457,2328,1301,1905,1169,188,32182,132671,125489,2265,2840,1737,340,136156,135987,125261,21120,58589,45552,10687,8972,1035,680,39,169,136156,81159,29963,51196,692,28899,14027,14872,23368,21362,194,1336,476,2038,57203,17708,18554,9221,7220,2992,1084,239,185,57203,235,959,5029,10087,18630,12446,5130,2691,1996,57203,27223,14938,11043,3061,938,57203,122,5084,14732,29091,6481,1693,57203,18686,20890,14962,2281,384,57203,1042,49104,3622,65,43,848,2479,110409,33002,36378,13061,28165,20766,8704,12055,14418,11188,4710,10485,17898,3704,100551,1306,44,718,4975,957,197,32508,4745,1397,7063,637,46004,138412,127042,2374,1917,2420,4659,54547,10393,15799,11414,4137,1281,642,848,1733,3337,4963]
["Local Authority","Redcar and Cleveland","Redcar and Cleveland","E06000003",135177,7553,7098,7803,8835,8092,7628,6987,7654,9479,10398,9429,8458,9511,7776,6642,5017,3704,2133,980,1394,1584,1556,3269,65655,3918,3695,3968,4562,4072,3676,3331,3692,4535,5052,4656,4094,4606,3798,3159,2292,1539,755,255,0,0,0,0,69522,3635,3403,3835,4273,4020,3952,3656,3962,4944,5346,4773,4364,4905,3978,3483,2725,2165,1378,725,0,0,0,0,135177,131184,2872,1121,59605,18735,7812,17849,8,39,3147,3370,5517,2359,9,760,40583,23830,2671,2039,3795,2258,2397,1376,1192,878,147,28196,130641,129666,464,341,133,37,133929,133835,126398,26906,61972,37520,7392,5274,1316,802,45,94,133929,92584,37523,55061,556,23226,12817,10409,16493,14931,120,1241,201,1070,59605,18735,21165,9738,7119,2132,557,117,42,59605,114,625,4500,11296,17351,13748,6207,3358,2406,59605,32380,15079,9853,1899,394,59605,100,4797,16063,29517,7498,1630,59605,22262,22543,13336,1330,134,59605,1034,51856,2721,736,472,648,2138,111011,31550,38935,13928,29433,23884,11587,11064,16729,10066,5393,12237,22050,1065,99177,1742,43,1193,3372,414,259,37919,4054,894,5731,733,42823,135177,132158,212,324,438,2045,56354,8750,8270,11667,12544,1988,956,1050,1888,4034,5207]
["Local Authority","Stockton-on-Tees","Stockton-on-Tees","E06000004",191610,12322,10973,11457,12819,12651,12602,11445,12003,14087,14644,13399,11609,11648,8745,7357,6089,4279,2429,1052,2141,2273,2319,4724,94082,6232,5667,5975,6672,6536,6218,5604,5868,6905,7078,6533,5760,5733,4278,3456,2718,1730,839,280,0,0,0,0,97528,6090,5306,5482,6147,6115,6384,5841,6135,7182,7566,6866,5849,5915,4467,3901,3371,2549,1590,772,0,0,0,0,191610,183833,5844,1933,79159,21986,12859,22515,12,55,4111,5438,7491,3189,202,1301,56476,31548,4186,2932,5219,3575,3439,1956,2090,1306,225,42940,184166,180089,1807,1458,711,101,187959,187881,175724,51973,79565,44186,12020,10121,1050,849,137,78,187959,133554,45253,88301,515,27546,15785,11761,24978,22700,102,1892,284,1366,79159,21986,27938,13583,10704,3700,925,203,120,79159,212,922,5890,12586,22799,17618,8816,5438,4878,79159,44245,19007,12327,2854,726,79159,117,6128,18247,38469,13163,3035,79159,31297,28543,16894,2156,269,79159,932,70179,3559,567,135,922,2865,154503,36728,56556,18985,48790,31787,15458,20778,22832,18927,8455,19713,30123,3137,140654,2847,102,1166,5115,642,417,60422,6160,1715,7518,1018,53532,191610,182769,943,1291,1898,4709,87122,13975,19480,20574,11715,2257,1232,1730,2827,6376,6956]
["Local Authority","Darlington","Darlington","E06000005",105564,6579,6074,6224,6408,6071,6607,6429,6847,7641,7994,7258,6308,6685,5205,4512,3526,2646,1740,810,1147,1236,1286,2555,51483,3339,3183,3072,3331,2959,3215,3176,3295,3754,3988,3556,3160,3285,2595,2122,1577,1058,619,199,0,0,0,0,54081,3240,2891,3152,3077,3112,3392,3253,3552,3887,4006,3702,3148,3400,2610,2390,1949,1588,1121,611,0,0,0,0,105564,101972,2742,850,46670,15101,6669,12704,5,43,2227,3026,4312,1672,11,900,30966,17609,2273,1546,2755,1879,1933,1011,1110,747,103,23029,101547,98892,984,1045,538,88,104111,103979,95581,20750,42278,32553,8334,6748,1072,514,64,132,104111,70435,25891,44544,336,13989,10305,3684,18531,16736,331,1218,246,820,46670,15101,16657,7191,5352,1717,507,98,47,46670,154,736,3831,9393,12139,10265,4781,2876,2495,46670,25099,11849,7598,1719,405,46670,103,4242,15645,19090,5982,1608,46670,15682,18270,11388,1182,148,46670,814,40456,2762,713,139,333,1453,85357,21179,29795,9503,26712,16052,7637,11830,12389,10575,4870,11832,16565,2062,76635,2019,34,862,3430,441,193,30531,3400,1170,6625,309,27621,105564,100025,651,1105,991,2792,49014,11433,12516,4226,5552,4410,793,1234,1502,4180,3168]
["Local Authority","Halton","Halton","E06000006",125746,8354,7383,7577,8082,8024,8141,7666,8304,9034,9280,8768,8144,8508,5765,4605,3600,2532,1349,630,1447,1539,1556,3035,61368,4160,3762,3804,4132,3979,4036,3754,3978,4445,4588,4223,3954,4272,2859,2186,1539,1077,472,148,0,0,0,0,64378,4194,3621,3773,3950,4045,4105,3912,4326,4589,4692,4545,4190,4236,2906,2419,2061,1455,877,482,0,0,0,0,125746,122647,2490,609,53312,15833,7508,14522,7,55,2969,3226,5813,2519,8,852,37156,20546,2887,1969,3361,2392,2359,1198,1410,899,135,28662,120704,119443,513,472,242,34,124874,124857,117123,27526,43105,46492,7568,6659,538,371,166,17,124874,82112,28000,54112,701,29476,5510,23966,11683,10649,37,840,157,902,53312,15833,17938,9272,7130,2289,663,128,59,53312,93,694,4547,8449,17408,11740,5271,2820,2290,53312,27849,13199,9626,2199,439,53312,112,4376,12677,27937,7024,1186,53312,19128,19560,13034,1418,172,53312,1542,47309,1911,155,103,714,1578,100819,27126,37084,11583,28757,19324,7260,10966,13250,8902,4882,9422,17504,1214,92708,1541,38,1106,3843,350,355,39306,4071,1217,5437,313,35131,125746,122361,257,490,605,2033,57577,10704,13262,9929,9316,2987,1800,591,1614,3696,3678]
["Local Authority","Warrington","Warrington","E06000007",202228,12309,11555,12296,12507,12088,12503,12185,14120,16022,16591,13569,11828,12441,9980,8218,6007,4287,2498,1224,2315,2507,2484,4990,100300,6256,5979,6322,6559,6212,6363,6030,7104,7859,8332,6916,5909,6113,4788,3891,2798,1715,857,297,0,0,0,0,101928,6053,5576,5974,5948,5876,6140,6155,7016,8163,8259,6653,5919,6328,5192,4327,3209,2572,1641,927,0,0,0,0,202228,194386,5844,1998,85140,24534,15209,24269,12,70,3928,5804,6670,3123,55,1466,59754,33614,4232,2923,5350,3815,4199,2220,1819,1353,229,44663,194801,189020,2329,2244,1035,173,198828,198798,185589,54540,84356,46693,13109,11254,1200,655,100,30,198828,147644,52702,94942,1221,27723,13216,14507,21032,19200,125,1506,201,1208,85140,24534,29885,14347,11868,3388,893,142,83,85140,196,1317,7455,12450,22886,18618,9714,6393,6111,85140,49766,18224,13329,3112,709,85140,140,7697,20122,39931,13967,3283,85140,33989,29986,19028,1881,256,85140,1910,76020,3435,530,180,597,2468,163477,33815,60374,15896,60266,27938,12825,28812,22026,25858,9969,24607,30264,4821,149461,4648,148,2147,5039,400,692,71217,5803,2618,7626,518,48605,202228,190719,1463,2163,2437,5446,100856,15292,24014,16340,12844,9933,2767,998,2737,9336,6595]
["Local Authority","Blackburn with Darwen","Blackburn with Darwen","E06000008",147489,11278,10478,10322,10218,9718,10951,9907,10137,10818,9901,8934,7882,7884,5689,4667,3659,2701,1547,798,1969,2025,2075,4253,73547,5705,5339,5333,5365,4751,5437,5030,5105,5489,4958,4542,3967,4000,2826,2234,1688,1069,501,208,0,0,0,0,73942,5573,5139,4989,4853,4967,5514,4877,5032,5329,4943,4392,3915,3884,2863,2433,1971,1632,1046,590,0,0,0,0,147489,143219,3147,1123,57353,17419,11226,13734,13,43,2848,3116,5535,2277,29,1113,40093,19971,3086,2093,3598,2768,2440,1330,2708,1795,304,39059,140785,121852,6567,6686,4707,973,145827,145701,136054,22929,43207,69918,9478,7771,954,753,169,126,145827,99689,43611,56078,726,22791,7601,15190,20716,18713,140,1461,402,1905,57353,17419,17082,8808,7307,3741,1957,595,444,57353,220,1066,4568,10784,16088,13273,5619,3131,2604,57353,27792,15395,10222,2966,978,57353,174,5067,19375,23943,7000,1794,57353,15243,22427,16022,3002,659,57353,2109,47840,3304,384,179,833,2704,113122,32485,36429,11338,29184,18642,8156,12224,14027,12271,5372,11954,17164,6392,104417,2269,43,1003,3297,1133,322,38582,5034,600,7874,366,43894,147489,125695,1361,2626,3932,13875,60523,14083,14124,8256,8609,2796,1634,635,1341,4930,4115]
["Local Authority","Blackpool","Blackpool","E06000009",142065,8218,7436,8052,8648,8529,8580,7756,8609,10489,11025,9654,8415,9415,7729,6624,5238,3910,2431,1307,1456,1549,1648,3399,69775,4199,3809,4056,4314,4233,4203,3891,4325,5268,5603,4959,4234,4735,3796,3129,2316,1557,820,328,0,0,0,0,72290,4019,3627,3996,4334,4296,4377,3865,4284,5221,5422,4695,4181,4680,3933,3495,2922,2353,1611,979,0,0,0,0,142065,137850,3188,1027,64367,24446,6735,14559,15,184,3365,4240,6366,2800,53,1604,38988,22142,2924,2271,3641,2101,2211,1179,1478,876,165,28842,137019,133235,1418,1583,673,110,137960,137534,117181,13564,57157,46460,20082,12841,5414,1827,271,426,137960,88222,34394,53828,493,12689,8282,4407,35456,32872,140,2253,191,1100,64367,24446,20833,9345,6399,2321,743,171,109,64367,557,2242,7809,11704,16027,15294,6255,2657,1822,64367,31247,15908,12622,3597,993,64367,256,10460,16923,28763,6259,1706,64367,19889,23113,19262,1892,211,64367,3564,51293,6524,77,102,758,2049,116699,36559,37418,12200,28006,20637,8057,10174,13953,7968,4860,10263,19488,2851,103813,3305,41,528,5252,619,562,34724,4670,1948,9191,579,42394,142065,134362,755,1358,1674,3916,61419,15754,17613,8224,3217,2604,643,740,1468,6173,4983]
["Local Authority","Kingston upon Hull, City of","Kingston upon Hull, City of","E06000010",256406,17358,13974,13944,17416,24040,20274,17303,17229,17576,18022,15949,13746,13844,9635,8666,7322,5466,3166,1476,2563,2586,2797,5998,128420,8950,7212,7208,8948,12220,10177,9025,8942,9000,9143,7939,6966,6998,4707,4053,3282,2140,1092,418,0,0,0,0,127986,8408,6762,6736,8468,11820,10097,8278,8287,8576,8879,8010,6780,6846,4928,4613,4040,3326,2074,1058,0,0,0,0,256406,243660,10200,2546,112596,39788,12867,24390,13,87,7202,8312,11206,4617,1324,2790,69718,37854,6271,3725,6173,4693,3989,2257,2796,1659,301,55044,245742,229829,4682,6766,3712,753,252748,252464,226471,20887,73388,132196,25779,19173,4605,2001,214,284,252748,132208,42407,89801,993,65842,51846,13996,51021,47575,153,2452,841,2684,112596,39788,35562,17174,13273,4540,1660,365,234,112596,635,2973,12575,29994,34621,19406,7026,3258,2108,112596,42822,34586,26161,7077,1950,112596,288,14434,38765,47796,8734,2579,112596,29218,44393,33990,4452,543,112596,4431,94410,7744,59,138,1594,4220,208040,65851,69153,27450,46997,40139,14211,22838,23884,17866,6526,15952,35249,8669,190610,2118,54,676,14549,1160,1326,58996,8763,9082,13276,903,79707,256406,234585,4815,6149,5722,5135,110903,22484,39799,21744,5773,1946,1198,1070,3541,5676,7672]
["Local Authority","East Riding of Yorkshire","East Riding of Yorkshire","E06000011",334179,16400,16630,18625,20396,15779,15073,15931,20033,24381,26056,23938,22412,27070,21068,17648,13951,9769,5947,3072,3436,3685,3711,7793,163388,8458,8402,9438,10517,8302,7654,7838,9773,11896,12962,11972,10911,13187,10278,8396,6346,4151,2093,814,0,0,0,0,170791,7942,8228,9187,9879,7477,7419,8093,10260,12485,13094,11966,11501,13883,10790,9252,7605,5618,3854,2258,0,0,0,0,334179,319877,10511,3791,143032,39276,22644,50426,24,154,6162,9675,8299,4372,34,1966,102847,65227,5351,4079,7955,5160,6423,3754,2489,2010,399,64885,324485,319119,2194,1922,1066,184,326951,326802,307560,121487,121198,64875,18543,13123,3103,2317,699,149,326951,252686,107871,144815,854,26376,21201,5175,43253,39022,766,2878,587,3782,143032,39276,57418,21535,18017,5105,1309,261,111,143032,251,1655,8062,24894,34883,29967,17563,12317,13440,143032,89530,32374,16661,3701,766,143032,227,9258,39755,59950,26244,7598,143032,61378,53874,24892,2604,284,143032,3320,112121,7826,10253,2658,1040,5814,278333,65035,97887,25511,92819,50184,25153,41512,36929,37314,15159,44604,59158,5150,245594,9911,104,2300,4505,521,1204,107039,8790,5975,17034,1374,86837,334179,321312,1425,1985,2368,7089,158757,27211,17065,24412,29827,11759,6293,5188,6184,18942,11876]
["Local Authority","North East Lincolnshire","North East Lincolnshire","E06000012",159616,10005,8966,9264,10271,10521,9987,8703,9769,11330,11973,10683,9621,10236,7815,6918,5712,4101,2469,1272,1697,1819,1842,3906,78247,5154,4513,4694,5285,5248,4906,4322,4946,5563,5897,5302,4836,5114,3825,3158,2590,1691,887,316,0,0,0,0,81369,4851,4453,4570,4986,5273,5081,4381,4823,5767,6076,5381,4785,5122,3990,3760,3122,2410,1582,956,0,0,0,0,159616,154973,3421,1222,69707,21793,8868,19381,10,41,4025,4760,6587,2523,30,1689,46722,26960,3160,2229,4146,2831,2735,1526,1809,1124,202,34719,153508,149928,1271,1427,761,121,157786,157720,145382,35596,54668,55118,12225,8872,2285,1068,113,66,157786,107474,40095,67379,449,19390,7214,12176,29277,27034,253,1728,262,1196,69707,21793,25134,10699,8239,2748,837,194,63,69707,223,987,5526,9706,20054,18833,7575,4016,2787,69707,40524,16179,10180,2235,589,69707,131,6426,15070,38069,8396,1615,69707,27152,25188,15545,1629,193,69707,2330,60930,2891,576,243,636,2101,129377,38209,46018,16073,30735,25948,10551,10781,15192,9331,5286,12510,24434,2608,115823,1912,52,328,4319,564,658,45080,5079,3881,8297,606,45047,159616,152643,841,1239,1534,3359,70776,15634,21831,10499,6022,1845,1278,858,2534,4574,5701]
["Local Authority","North Lincolnshire","North Lincolnshire","E06000013",167446,10282,9377,9550,10155,9522,9969,9114,10180,12373,12862,11649,10922,11452,9017,7246,5771,4241,2542,1222,1872,1878,1899,3901,82623,5263,4794,4806,5309,4725,4949,4623,4981,6146,6527,5842,5405,5744,4391,3547,2611,1785,868,307,0,0,0,0,84823,5019,4583,4744,4846,4797,5020,4491,5199,6227,6335,5807,5517,5708,4626,3699,3160,2456,1674,915,0,0,0,0,167446,162275,3908,1263,70684,19420,10708,22321,8,67,4050,5020,5153,2350,4,1583,50365,30100,3221,2222,4114,2907,2981,1623,1881,1127,189,35836,161339,154455,1907,2936,1685,356,165871,165816,154942,58938,71791,24213,10008,7844,1146,1018,866,55,165871,117306,45145,72161,377,23254,11290,11964,23132,20815,446,1596,275,1802,70684,19420,26503,11570,8983,2924,971,205,108,70684,139,627,4361,10231,18896,18158,8075,5143,5054,70684,43208,15793,9156,1972,555,70684,124,4813,15569,37869,9938,2371,70684,29587,25328,13745,1749,275,70684,889,58962,2464,3755,1339,654,2621,136105,35633,50000,14473,37631,26190,12405,14129,17811,12656,6436,15995,27887,4069,122329,3323,34,370,1894,219,791,54922,5247,2998,7802,501,44228,167446,156487,1567,2389,2341,4662,78101,14268,16130,10639,12101,4937,2918,1921,3070,6841,5276]
["Local Authority","York","York","E06000014",198051,10677,9348,9712,14097,19746,14159,12552,12510,13756,13697,12017,10649,11716,9122,7807,6589,5040,3200,1657,1848,1838,1990,4036,96254,5414,4749,4998,6841,9717,7249,6266,6270,6754,6765,5918,5237,5665,4289,3557,2946,1980,1185,454,0,0,0,0,101797,5263,4599,4714,7256,10029,6910,6286,6240,7002,6932,6099,5412,6051,4833,4250,3643,3060,2015,1203,0,0,0,0,198051,177791,16273,3987,83552,25224,12303,22860,14,142,3263,7006,5376,2652,1792,2920,54202,33020,3836,2339,4120,3161,3176,1751,1481,1134,184,36064,191644,182213,4597,3721,967,146,190392,189996,167486,45322,73825,48339,22184,17756,3062,1366,326,396,190392,125534,52872,72662,1274,24904,15879,9025,36844,33682,736,1700,726,1836,83552,25224,31228,12414,9977,3194,1152,267,96,83552,471,1963,8097,17198,20365,15993,9021,5677,4767,83552,42862,20065,14695,4661,1269,83552,161,8759,26187,30774,13459,4212,83552,29882,30944,19677,2753,296,83552,2202,69483,7188,1262,207,493,2717,166275,29863,58120,12474,73537,23886,12587,47042,18492,37129,7393,26920,29909,7858,149789,5025,104,2545,7141,418,968,47885,4565,11297,18246,527,51068,198051,179823,4799,3431,3284,6714,98721,23810,26163,11687,6239,4207,4582,2954,3451,9297,6331]
["Local Authority","Derby","Derby","E06000015",248752,17743,14983,14857,16728,20069,18211,16563,16723,18012,17620,14612,12376,12586,10169,8715,7568,5972,3564,1681,2875,2996,2971,6015,123046,9160,7766,7649,8617,10102,9015,8190,8461,9038,8788,7373,6195,6215,4874,4095,3346,2458,1233,471,0,0,0,0,125706,8583,7217,7208,8111,9967,9196,8373,8262,8974,8832,7239,6181,6371,5295,4620,4222,3514,2331,1210,0,0,0,0,248752,236363,10071,2318,102271,31578,16762,25033,10,106,4896,7028,9269,3852,811,2926,68455,36924,5465,3205,5739,4842,4345,2330,3236,2027,342,57560,238011,215389,6967,8762,5682,1211,244625,244353,222556,61562,102422,58572,21464,17594,2625,1245,333,272,244625,155473,60722,94751,1703,44442,28748,15694,40726,37828,191,2306,401,2281,102271,31578,33604,15537,13438,4983,2123,599,409,102271,509,2181,9783,17175,29319,22735,10127,5737,4705,102271,51871,24109,18838,5545,1908,102271,237,10628,29338,46230,12385,3453,102271,33257,36315,27427,4393,879,102271,3504,86288,7215,38,157,1403,3666,198076,47731,67652,20246,60228,34561,17683,30948,25662,29093,9937,23501,34420,11272,179291,3696,87,1263,10128,939,982,68898,7273,4221,14357,578,66869,248752,214131,3634,6150,7796,17041,112422,22119,35130,15049,12100,5409,1547,2514,3368,7829,7357]
["Local Authority","Leicester","Leicester","E06000016",329839,24297,20780,20162,24490,35406,29571,25272,21955,20940,20240,18953,16501,14056,9977,8911,7321,5615,3605,1787,3914,3934,4016,8298,162884,12291,10598,10447,12174,16805,14711,13148,11120,10353,10118,9402,8390,7114,4830,4080,3222,2240,1295,546,0,0,0,0,166955,12006,10182,9715,12316,18601,14860,12124,10835,10587,10122,9551,8111,6942,5147,4831,4099,3375,2310,1241,0,0,0,0,329839,305726,18105,6008,123125,36951,23089,25823,16,129,4971,7103,12100,5457,2853,4633,82422,41107,7224,4047,7076,6325,5075,2811,5057,3158,542,79139,315011,228295,30259,32934,18818,4705,321527,320400,273230,39283,125446,108501,46984,37832,6140,3012,186,1127,321527,166411,65138,101273,1758,75317,50896,24421,74108,69583,565,2867,1093,3933,123125,36951,33618,19422,17970,8262,4422,1407,1073,123125,1667,5766,15919,19259,36044,26793,9170,4834,3673,123125,47214,28404,28751,12850,5906,123125,441,19052,32226,55060,11517,4829,123125,30396,37782,42639,9917,2391,123125,3449,97947,10903,101,118,4421,6186,260560,74409,77118,21248,70431,32418,8350,45120,20672,40511,7357,21901,29506,32492,242232,3996,235,1621,18660,766,689,71163,11084,5099,23323,858,104738,329839,218996,12591,14791,24977,58484,137494,31686,44409,21896,7887,4013,2896,2401,4023,9392,8891]
["Local Authority","Rutland","Rutland","E06000017",37369,1854,1850,2352,2895,1740,1907,1855,2145,2686,2642,2517,2362,2715,2331,1887,1436,1094,719,382,411,414,415,1112,18915,906,968,1253,1541,1008,1089,1008,1105,1368,1319,1253,1160,1345,1132,906,721,448,284,101,0,0,0,0,18454,948,882,1099,1354,732,818,847,1040,1318,1323,1264,1202,1370,1199,981,715,646,435,281,0,0,0,0,37369,33868,2667,834,15002,4111,2691,5368,0,21,470,969,758,417,1,196,10758,6811,512,393,718,572,696,451,311,234,60,7081,36309,35654,399,207,46,3,34252,34245,32359,17201,9495,5663,1686,1244,231,211,200,7,34252,24575,11320,13255,305,3530,871,2659,5338,3763,868,251,456,504,15002,4111,6089,2217,1845,577,117,31,15,15002,17,169,769,1889,3065,2910,1883,1735,2565,15002,10560,2544,1527,313,58,15002,25,817,3109,6116,3528,1407,15002,7964,4644,2192,174,28,15002,254,10669,1047,1911,193,95,833,30683,5453,10766,2445,13680,4606,2178,7121,3540,6002,1665,6001,6417,810,27052,1651,31,331,201,25,106,11232,747,634,2967,112,9015,37369,34972,308,280,368,1441,18037,3929,1198,2152,2356,1574,953,620,976,3011,1268]
["Local Authority","Nottingham","Nottingham","E06000018",305680,19959,16429,15860,27059,42766,26232,22433,19441,19645,18502,15772,13404,12626,9313,8207,7181,5696,3529,1626,3056,3039,3223,6542,153777,10277,8528,8115,13362,21302,13819,12151,10061,9924,9371,8011,6758,6698,4523,3790,3145,2239,1252,451,0,0,0,0,151903,9682,7901,7745,13697,21464,12413,10282,9380,9721,9131,7761,6646,5928,4790,4417,4036,3457,2277,1175,0,0,0,0,305680,266580,32232,6868,126131,45617,14489,21809,21,171,5741,9244,13518,4995,4753,5773,71526,37080,6567,4029,6167,5051,3942,2105,3895,2319,371,62647,293385,256411,13336,15518,6913,1207,289738,289018,241189,48313,103720,89156,47673,37683,7497,2493,156,720,289738,134096,48418,85678,1545,76800,55807,20993,73831,69797,303,3046,685,3466,126131,45617,38283,18679,12803,6333,3108,789,519,126131,1379,5343,16618,25204,39364,22826,8259,4004,3134,126131,47877,32671,29666,11720,4197,126131,388,18802,36774,55498,9808,4861,126131,34176,43792,40356,6675,1132,126131,3031,97860,14196,63,432,4371,6178,250104,63991,81194,23518,82388,35217,9481,57862,22921,39571,7296,22330,31883,20611,232072,4052,2540,1382,24777,1007,782,56814,6695,4358,19943,868,108854,305680,245951,11672,12170,14100,21787,123218,25562,35486,22556,8830,3666,1772,1395,5733,8856,9362]
["Local Authority","Herefordshire, County of","Herefordshire, County of","E06000019",183477,9580,9180,10494,10684,9431,9681,9606,10411,12832,14020,12677,12261,13604,11418,9078,7559,5637,3535,1789,1883,2071,2165,4375,90302,4944,4731,5314,5471,4952,4988,4884,5188,6369,6988,6215,5919,6676,5575,4432,3525,2407,1249,475,0,0,0,0,93175,4636,4449,5180,5213,4479,4693,4722,5223,6463,7032,6462,6342,6928,5843,4646,4034,3230,2286,1314,0,0,0,0,183477,175235,5663,2579,78319,22540,12334,25680,8,92,3250,5252,4728,2701,43,1691,54881,34249,3123,2153,4186,2812,3256,1961,1565,1302,274,36232,177688,171106,2151,2450,1643,338,180595,180396,164463,79360,53190,31913,14778,10820,2544,1414,1155,199,180595,122830,60000,62830,1886,24937,6400,18537,27948,24372,1259,1665,652,2994,78319,22540,29968,11451,9772,3317,978,196,97,78319,300,1563,5703,12125,16469,15150,10233,7480,9296,78319,48277,14863,11060,3249,870,78319,131,7022,18728,33037,14304,5097,78319,34194,24992,16745,2097,291,78319,3012,45103,7215,14613,1833,811,5732,151962,34845,51273,12349,55423,24888,10311,26224,18829,22535,7513,25822,30065,5727,133442,8436,87,679,1574,289,624,56590,4740,3305,13149,764,43205,183477,171229,1716,2901,2637,4994,90237,17872,13215,10050,11752,6004,2393,2117,3523,15123,8188]
["Local Authority","Telford and Wrekin","Telford and Wrekin","E06000020",166641,11344,10007,10594,11496,10863,10888,10334,11145,12850,12653,10502,9866,10010,7934,5994,4439,3042,1771,909,1955,2136,2052,4451,82549,5789,4897,5329,5888,5580,5522,5188,5727,6476,6387,5126,4867,4840,3930,2885,1991,1285,620,222,0,0,0,0,84092,5555,5110,5265,5608,5283,5366,5146,5418,6374,6266,5376,4999,5170,4004,3109,2448,1757,1151,687,0,0,0,0,166641,159836,5473,1332,66608,16793,11484,18944,17,78,4025,4930,6012,2682,177,1466,49025,27093,3510,2404,4344,3192,3088,1753,2135,1264,242,39070,159787,153163,2244,2665,1449,266,164440,164418,153677,54328,60861,38488,10267,8612,978,677,474,22,164440,105269,35732,69537,687,29490,12291,17199,27496,25061,488,1521,426,1498,66608,16793,23691,11579,9372,3666,1097,273,137,66608,130,858,4364,11288,18215,13511,7428,5485,5329,66608,36696,15877,10579,2744,712,66608,113,4681,15808,31341,12134,2531,66608,25368,24158,14745,1987,350,66608,1102,57909,2556,1419,438,577,2607,132440,32612,48121,14633,40592,26023,9025,16978,18006,14120,6982,15611,27327,4193,122279,3139,63,1089,3153,865,564,54848,6295,1669,6276,411,43907,166641,154504,1370,2136,2403,6228,78372,13034,19164,14976,7466,4937,2284,2237,2955,6331,4988]
["Local Authority","Stoke-on-Trent","Stoke-on-Trent","E06000021",249008,17092,14189,14260,16035,19089,18156,15829,16113,17810,17353,15534,14009,14721,11616,9368,7480,5639,3296,1419,2703,2880,2812,5865,123995,8610,7259,7286,8156,9552,9181,8087,8193,9186,8919,7794,7096,7268,5862,4437,3345,2279,1165,320,0,0,0,0,125013,8482,6930,6974,7879,9537,8975,7742,7920,8624,8434,7740,6913,7453,5754,4931,4135,3360,2131,1099,0,0,0,0,249008,239599,7875,1534,107575,35357,14692,27152,11,100,6095,6997,9833,4293,790,2255,70259,39072,5459,3633,6365,4751,3849,1940,3143,1749,298,55084,238572,224555,4968,5735,2811,503,246075,245933,228692,38632,119776,70284,17117,14382,1639,1096,124,142,246075,152049,59730,92319,867,54494,43017,11477,35475,32764,218,2044,449,3190,107575,35357,35631,17258,12549,4452,1610,423,295,107575,323,1817,9150,24436,36965,21664,7202,3555,2463,107575,48710,31305,20979,5099,1482,107575,230,9794,42163,46668,7177,1543,107575,27436,44489,30793,4185,672,107575,2701,91761,7455,110,678,1127,3743,200642,67773,62391,23639,46515,36888,11727,20032,22821,16588,6757,16092,32248,6382,182808,2691,31,773,8604,1386,879,70919,9375,1601,11289,561,74699,249008,228294,2523,4062,5899,8230,108109,19827,29878,23885,9578,3937,1258,2409,2906,6933,7498]
["Local Authority","Bath and North East Somerset","Bath and North East Somerset","E06000022",176016,9238,8700,9568,13282,15995,10141,9478,10726,12196,12824,11115,10134,10802,8803,7125,6041,4940,3249,1659,1848,1854,1929,3937,86072,4782,4496,4894,6630,7978,5304,4779,5226,6020,6315,5470,4904,5259,4274,3305,2761,2031,1182,462,0,0,0,0,89944,4456,4204,4674,6652,8017,4837,4699,5500,6176,6509,5645,5230,5543,4529,3820,3280,2909,2067,1197,0,0,0,0,176016,157562,14370,4084,73515,22535,11623,20687,10,113,2659,5011,4553,2260,1782,2282,47419,28410,2851,1807,3515,2900,3134,1895,1398,1244,265,33789,170629,163360,3652,2758,711,148,169977,169356,144087,40499,52938,50650,24821,14471,8765,1585,448,621,169977,116095,49578,66517,800,21661,5613,16048,29636,27308,307,1657,364,1785,73515,22535,26034,10483,9959,3327,908,183,86,73515,496,2090,7362,11970,15646,14666,8972,5845,6468,73515,40661,14810,12972,4048,1024,73515,139,9331,17491,28928,12723,4903,73515,28856,23735,18711,2010,203,73515,1698,56691,7625,3580,650,511,2760,146439,25140,52645,9521,68359,18681,9875,44599,14453,33702,6291,25779,24994,7263,130550,6512,121,3051,5472,221,891,47051,3891,2537,14579,532,45692,176016,159658,3405,2721,2695,7537,84858,17252,15658,9527,16284,3816,708,1246,2787,10624,6956]
["Local Authority","Bristol, City of","Bristol, City of","E06000023",428234,29633,22837,21703,27041,44371,40752,36418,30435,28307,27076,23319,20392,20078,15222,12503,10697,8538,5798,3114,4174,4326,4362,8841,213071,15135,11508,10934,13348,22136,20607,18967,15815,14513,13619,11641,10260,10128,7570,5964,4678,3498,1955,795,0,0,0,0,215163,14498,11329,10769,13693,22235,20145,17451,14620,13794,13457,11678,10132,9950,7652,6539,6019,5040,3843,2319,0,0,0,0,428234,392122,29094,7018,182747,61607,23698,36205,40,346,7569,16540,16350,6292,3556,10544,108656,60394,9832,4963,7564,7890,6307,3366,4900,2959,481,87823,409698,374709,15013,13887,5283,806,418814,416139,310460,27998,128555,153907,105408,65168,34374,5866,271,2675,418814,229684,85334,144350,2786,82201,61064,21137,99419,93466,556,4490,907,4724,182747,61607,60565,26593,21192,7932,3326,872,660,182747,2614,9587,24733,33949,45556,36776,14893,7608,7031,182747,77403,40995,40408,17752,6189,182747,496,30091,50959,74690,18012,8499,182747,53974,59623,59354,8552,1244,182747,5187,145843,22335,589,299,3129,5365,349653,70478,125012,27917,145232,46060,17441,100821,33183,86791,13245,51662,54066,24296,321506,9578,287,4150,20216,618,2375,104729,10233,16211,40468,1130,111511,428234,365108,9610,12256,16262,24998,209995,45846,63042,35751,15836,2946,2111,2808,6856,17841,16958]
["Local Authority","North Somerset","North Somerset","E06000024",202566,11653,11024,11579,11326,9491,10363,10691,12598,14997,15404,13428,12725,14654,12468,9603,7921,6122,4175,2344,2227,2324,2370,4658,98463,6069,5623,5906,5856,4740,5195,5159,6193,7374,7703,6481,6179,7105,6112,4541,3612,2555,1434,626,0,0,0,0,104103,5584,5401,5673,5470,4751,5168,5532,6405,7623,7701,6947,6546,7549,6356,5062,4309,3567,2741,1718,0,0,0,0,202566,194440,5765,2361,88227,27115,14362,27674,15,101,3435,5667,5745,2597,103,1413,60341,36536,3736,2327,4421,3664,3970,2161,1770,1493,263,41983,195597,190754,2061,1971,689,122,199225,198847,171561,73046,65206,33309,25838,15911,8581,1346,1448,378,199225,150010,60258,89752,1223,16167,6421,9746,30249,27655,308,2034,252,1576,88227,27115,33000,12468,11081,3406,900,156,101,88227,426,1887,7295,16047,18072,16886,11503,7979,8132,88227,52153,19275,12734,3260,805,88227,177,8626,22920,33659,18064,4781,88227,37393,30773,18398,1485,178,88227,1626,71716,6914,3890,386,632,3063,165914,32539,61068,12958,64208,27633,13459,30504,21300,25180,8859,28498,32842,4772,145352,6422,102,2339,2941,366,975,66826,5115,2692,9249,536,47789,202566,190809,1188,2061,2295,6213,97563,17364,12659,12469,19313,8229,2789,1191,3726,11734,8089]
["Local Authority","South Gloucestershire","South Gloucestershire","E06000025",262767,15925,14608,15858,17599,15458,15606,15863,17402,20709,21310,17270,15002,15748,13465,10575,8749,6086,3648,1886,2974,3056,3091,6737,130424,8091,7474,8208,9172,7984,7991,7880,8618,10308,10594,8765,7459,7733,6636,5028,3983,2653,1331,516,0,0,0,0,132343,7834,7134,7650,8427,7474,7615,7983,8784,10401,10716,8505,7543,8015,6829,5547,4766,3433,2317,1370,0,0,0,0,262767,251578,8883,2306,107538,28554,20457,33081,13,102,4539,7487,7431,3489,238,2147,77547,44785,5174,2925,6229,4996,5516,3338,2297,1933,354,57548,253267,245586,3573,2821,1117,170,258207,258144,237561,76500,91345,69716,19414,15743,2281,1390,1169,63,258207,198252,72305,125947,1108,23852,4491,19361,32932,29576,624,2272,460,2063,107538,28554,38898,17056,16507,4961,1228,238,96,107538,275,1890,7346,16244,26466,24417,13869,9077,7954,107538,64720,22498,15250,4155,915,107538,110,8240,22619,50653,21255,4661,107538,46741,36224,21937,2391,245,107538,1841,86672,8470,5511,712,790,3542,212837,39618,83749,18976,80553,36058,21228,38618,28220,31354,11972,31465,41063,7277,192468,6479,100,1724,6743,263,1906,95258,6948,5356,11150,604,55937,262767,245470,2329,3116,3685,8167,136531,21120,22334,34619,22076,3643,1730,2551,4599,12787,11072]
["Local Authority","Plymouth","Plymouth","E06000026",256384,15336,12947,13645,17804,24343,18888,15402,15537,17723,17582,16367,13955,15140,12156,9843,8120,5978,3639,1979,2521,2632,2781,5711,126684,7800,6673,6954,9148,12653,9687,7757,7735,8579,8690,8310,6782,7442,6000,4598,3628,2491,1253,504,0,0,0,0,129700,7536,6274,6691,8656,11690,9201,7645,7802,9144,8892,8057,7173,7698,6156,5245,4492,3487,2386,1475,0,0,0,0,256384,235587,17677,3120,109307,34317,15089,28752,14,128,5282,8248,8496,4047,1733,3201,70986,41705,5149,3022,5815,4366,4122,2329,2584,1610,284,51267,247025,238255,3797,3548,1226,199,251100,250277,202507,28984,82027,91496,47321,31882,13846,1593,449,823,251100,148071,55382,92689,1907,46472,21767,24705,52669,45846,2247,2968,1608,1981,109307,34317,38502,16644,12859,4667,1671,381,266,109307,738,3731,13680,22669,27203,22014,10143,5046,4083,109307,49236,26185,24460,7550,1876,109307,280,16473,32354,44818,11257,4125,109307,32773,38199,33927,3948,460,109307,5336,89844,9170,176,200,1197,3384,211502,47073,80267,22936,70683,42391,19818,36068,28500,25012,9416,24324,40860,6803,191786,3604,71,676,13168,813,2287,68077,7245,3094,17306,1125,74320,256384,238177,2628,3470,3870,8239,117466,24950,34918,26035,4949,964,1210,2389,4280,7898,9873]
["Local Authority","Torbay","Torbay","E06000027",130959,6690,6277,7092,7569,6779,6700,6140,7060,8855,9547,8809,8418,10169,8594,6970,5804,4415,3190,1881,1246,1415,1489,2942,63110,3417,3245,3645,3917,3451,3291,2907,3474,4322,4631,4299,4090,4804,4213,3339,2643,1786,1114,522,0,0,0,0,67849,3273,3032,3447,3652,3328,3409,3233,3586,4533,4916,4510,4328,5365,4381,3631,3161,2629,2076,1359,0,0,0,0,130959,126249,3355,1355,59010,20192,7150,17150,7,120,2379,3867,4590,2173,17,1365,38047,23694,2196,1618,3149,1936,2025,1239,1140,891,159,24999,126938,124205,1287,1030,361,55,127908,127380,101072,30967,35684,34421,26019,15408,8700,1911,289,528,127908,86955,38694,48261,1293,10126,1214,8912,28584,26279,145,1996,164,950,59010,20192,21959,7953,5879,2108,689,149,81,59010,593,2194,6559,13063,14240,10605,5491,3302,2963,59010,28034,15211,11252,3490,1023,59010,157,8729,18626,21802,7334,2362,59010,18738,22137,16496,1490,149,59010,2925,46397,7070,214,109,571,1724,109290,28215,38256,9811,31697,18993,8542,13083,13070,10281,4562,14442,20794,2948,94000,3494,32,549,2542,349,881,35229,3453,796,9134,453,37088,130959,123877,592,1087,1380,4023,56912,15388,10582,9766,3653,1889,1373,785,1417,6853,5206]
["Local Authority","Bournemouth","Bournemouth","E06000028",183491,10275,7861,8399,11390,17130,14935,14309,12392,12369,12284,10361,9285,10190,8048,6613,6149,5355,3834,2312,1606,1566,1717,3510,91386,5200,4074,4308,5609,8520,7489,7574,6642,6601,6365,5222,4627,5052,3993,3162,2752,2156,1403,637,0,0,0,0,92105,5075,3787,4091,5781,8610,7446,6735,5750,5768,5919,5139,4658,5138,4055,3451,3397,3199,2431,1675,0,0,0,0,183491,167438,12523,3530,82374,30390,10160,18175,15,230,3104,6684,5291,2698,1783,3844,47156,28327,3834,2041,3558,2933,2495,1416,1370,1004,178,32006,177096,160798,7229,6726,2051,292,179138,176851,111550,68401,29947,13202,64720,41253,19674,3793,581,2287,179138,104131,40842,63289,1226,18326,9804,8522,54015,51046,259,2285,425,1440,82374,30390,27575,11034,8664,3163,1135,252,161,82374,2092,5006,12103,21508,14428,12575,7163,4032,3467,82374,30869,20495,19449,8280,3281,82374,379,17029,29470,22206,9385,3905,82374,20072,28724,29448,3700,430,82374,3106,63572,12059,183,88,976,2390,155224,29720,54317,12360,56697,23575,9718,31421,17743,24476,6527,21530,26231,12947,137574,4812,138,1564,7841,316,1001,52347,4491,4250,11789,637,48388,183491,156077,4564,5962,6445,10443,89186,16787,24712,16630,6135,914,1767,1723,3257,9111,8150]
["Local Authority","Poole","Poole","E06000029",147645,8450,7583,7924,8620,8180,8712,8835,9331,10689,11078,9486,8771,9828,8011,6552,5808,4868,3167,1752,1506,1564,1598,3256,72121,4393,3837,3984,4396,4196,4357,4467,4694,5370,5504,4659,4256,4794,3905,3156,2511,2016,1110,516,0,0,0,0,75524,4057,3746,3940,4224,3984,4355,4368,4637,5319,5574,4827,4515,5034,4106,3396,3297,2852,2057,1236,0,0,0,0,147645,140737,4872,2036,63530,19134,9841,19065,7,144,2497,4549,4033,2346,82,1832,43170,26542,2732,1706,3244,2538,2581,1403,1326,923,175,29193,142577,137200,2492,2121,677,87,145103,144838,116748,62034,35252,19462,28001,22889,3785,1327,89,265,145103,102440,41968,60472,1205,16012,9140,6872,24340,21980,622,1417,321,1106,63530,19134,23517,9589,7772,2492,745,183,98,63530,308,1244,6339,13917,15694,11712,6676,4110,3530,63530,32182,15799,11809,2933,807,63530,134,6718,19879,24185,10081,2533,63530,22283,23486,15813,1717,231,63530,1490,54214,5293,134,85,459,1855,121986,26108,43520,9490,43390,19341,10333,20451,14356,16869,5464,18633,23213,5068,106391,4050,105,1152,3809,174,1056,46203,3823,3452,7401,484,34682,147645,135565,1259,2061,2503,6257,71709,13725,21184,12632,4818,863,966,1332,2662,7451,6076]
["Local Authority","Swindon","Swindon","E06000030",209156,14083,12273,12433,12424,12859,15075,15172,16297,16869,16371,13822,11634,10990,8453,6707,5633,4266,2616,1179,2385,2475,2489,5084,104618,7232,6304,6296,6369,6341,7433,7711,8506,8676,8375,7066,5862,5413,4119,3207,2554,1842,980,332,0,0,0,0,104538,6851,5969,6137,6055,6518,7642,7461,7791,8193,7996,6756,5772,5577,4334,3500,3079,2424,1636,847,0,0,0,0,209156,201897,5216,2043,88360,26143,15834,23226,14,117,4434,6913,6356,2756,38,2529,60595,33641,4747,2760,5036,4262,4065,2153,2196,1476,259,47141,200595,187424,5499,5376,1922,374,207858,207707,183945,50953,65070,67922,23435,20313,2260,862,327,151,207858,140240,43484,96756,2371,31046,22423,8623,32811,30136,343,1978,354,1390,88360,26143,30472,14261,11989,3813,1176,316,190,88360,420,2466,8736,16412,22540,17650,9323,5862,4951,88360,45487,20525,16204,4758,1386,88360,178,9522,24212,38053,13406,2989,88360,31357,31265,22687,2527,524,88360,1927,74362,7530,650,130,980,2781,167774,34424,65512,16385,54013,27947,13012,23857,19404,20927,7982,19688,29854,10890,154080,4353,86,1452,9356,507,1177,69539,6747,4667,11063,552,44581,209156,182215,3025,5585,7095,11236,109499,20280,31812,18354,5507,3104,2333,4312,6722,8849,8226]
["Local Authority","Peterborough","Peterborough","E06000031",183631,13904,11424,11349,11498,12502,15046,14112,12914,13289,12677,11014,9642,9382,6909,5792,5026,3803,2258,1090,2266,2252,2284,4547,90859,7143,5887,5763,5894,6319,7350,7162,6671,6647,6220,5461,4604,4710,3352,2789,2223,1541,839,284,0,0,0,0,92772,6761,5537,5586,5604,6183,7696,6950,6243,6642,6457,5553,5038,4672,3557,3003,2803,2262,1419,806,0,0,0,0,183631,176787,4911,1933,74023,21252,13106,18457,13,64,3804,5432,6804,2730,46,2315,51789,27509,4483,2524,4253,3748,3149,1734,2605,1557,227,44293,175077,146880,8235,11446,7115,1401,181827,181741,162248,53931,60373,47944,18753,15891,2081,781,740,86,181827,109792,38465,71327,1584,31393,11139,20254,37282,33927,845,1658,852,1776,74023,21252,24505,11997,9868,3870,1706,455,370,74023,453,1841,7775,12373,19651,15089,7449,4843,4549,74023,36739,16692,14412,4481,1699,74023,195,8527,17979,32433,11875,3014,74023,25725,24420,19938,3239,701,74023,1145,61369,5131,2036,199,1139,3004,144495,36158,48365,13504,40290,22738,8725,18401,14559,15991,5113,16612,24157,13609,132318,3454,103,2220,6571,578,621,53100,7642,5095,8134,526,44274,183631,145739,5616,8229,10003,14044,88044,16209,23938,15367,5179,4488,1914,2314,4851,7158,6626]
["Local Authority","Luton","Luton","E06000032",203201,16592,14221,13211,13561,16621,18812,16064,14066,13796,13538,11225,9267,8346,6542,6102,5032,3408,1877,920,2598,2567,2660,5386,101954,8581,7380,6631,6809,8535,9721,8145,7158,6924,6724,5642,4698,4126,3165,2964,2335,1461,717,238,0,0,0,0,101247,8011,6841,6580,6752,8086,9091,7919,6908,6872,6814,5583,4569,4220,3377,3138,2697,1947,1160,682,0,0,0,0,203201,195205,4842,3154,74293,20319,16019,16757,8,69,2955,4310,7127,3253,783,2693,52700,25805,4680,2428,4349,4149,3159,1857,3695,2282,296,53180,193195,153463,13411,15845,8842,1634,201549,200998,171359,28714,88309,54336,29437,24339,3681,1417,202,551,201549,124420,40477,83943,786,28547,18610,9937,46041,43313,180,1952,596,1755,74293,20319,20641,12413,10617,5292,3098,1004,909,74293,1131,2980,8302,13223,20947,16673,6095,3044,1898,74293,28774,17623,16486,7264,4146,74293,272,10027,18614,35579,7521,2280,74293,19282,22550,24218,6319,1924,74293,1810,60412,7004,104,75,1644,3244,156445,36953,48429,14423,38491,23002,8734,17936,15815,22397,5524,14994,21631,20721,145208,2657,293,5295,6682,1056,438,51435,7615,1175,11840,715,56007,203201,140329,8009,9983,12956,31924,89201,17868,20564,9403,9646,6117,2549,6216,1842,6171,8825]
["Local Authority","Southend-on-Sea","Southend-on-Sea","E06000033",173658,11213,9498,10194,10184,9832,11282,11623,12223,13083,12755,10887,9667,10419,8468,6716,5779,4769,3223,1843,1929,1952,2090,4223,85037,5735,4892,5219,5224,4865,5559,5860,6100,6457,6479,5553,4855,5094,3986,3159,2583,1847,1120,450,0,0,0,0,88621,5478,4606,4975,4960,4967,5723,5763,6123,6626,6276,5334,4812,5325,4482,3557,3196,2922,2103,1393,0,0,0,0,173658,168057,3848,1753,74678,24386,11394,18100,8,95,3771,5648,5711,3120,58,2387,48594,27372,3462,2122,3979,3437,3030,1814,1841,1314,223,37866,166899,158314,3858,3106,1436,185,171489,170863,128605,30375,61213,37017,42186,22867,16736,2583,72,626,171489,113923,42706,71217,704,18405,10606,7799,37217,35159,197,1636,225,1240,74678,24386,24848,11186,9501,3311,1076,236,134,74678,801,2776,9972,15648,16292,14033,7786,4273,3097,74678,33711,17535,16277,5361,1794,74678,228,12834,22189,26753,10060,2614,74678,21418,25701,23848,3278,433,74678,1616,63462,6464,78,64,749,2245,140621,34621,49558,12022,44306,20791,7063,20027,13747,16260,4891,18817,23570,6324,125007,3742,327,12789,4346,411,615,41109,3867,2323,11322,488,43668,173658,156536,1599,2688,3899,8936,81339,18007,16380,8802,5116,3143,1836,10465,2572,7434,7584]
["Local Authority","Thurrock","Thurrock","E06000034",157705,12005,10231,9949,9853,9804,11162,11808,12200,12558,11535,9453,8387,8739,5996,4742,3784,2873,1844,782,1866,1948,2052,4083,77823,5985,5233,5081,5053,4842,5368,5735,6038,6299,5948,4817,4261,4355,2913,2198,1693,1157,636,211,0,0,0,0,79882,6020,4998,4868,4800,4962,5794,6073,6162,6259,5587,4636,4126,4384,3083,2544,2091,1716,1208,571,0,0,0,0,157705,153583,2849,1273,62353,16368,11923,16175,2,41,3907,4466,5468,2450,42,1511,45209,23557,3786,2213,3785,3555,3136,1630,2056,1279,212,38656,150466,141477,3641,3627,1462,259,157072,157017,130304,21400,55238,53666,26227,24152,1008,1067,486,55,157072,106371,31900,74471,683,26929,23399,3530,22175,20837,128,1051,159,914,62353,16368,19584,11128,10184,3676,1054,246,113,62353,253,1477,7128,11981,20213,12281,4851,2440,1729,62353,26534,15773,14452,4299,1295,62353,142,7208,16117,30699,6719,1468,62353,18367,21690,18832,3006,458,62353,1660,49823,8173,147,89,620,1841,123407,32643,44232,11762,31389,20056,7471,11415,12799,11314,4187,11768,19947,7142,114124,2258,1392,11992,2892,484,797,47281,4234,1097,4588,405,36704,157705,138829,1893,3747,4656,8580,77420,9000,12249,10612,13188,10370,6076,1331,1563,5186,7845]
["Local Authority","Medway","Medway","E06000035",263925,17224,15967,16765,19031,19041,17581,17246,17313,19762,19699,17205,14632,15454,11597,9055,6997,4949,2915,1492,3236,3265,3347,6917,130825,8776,8085,8616,9777,9746,8849,8625,8625,9845,9768,8546,7370,7609,5717,4353,3163,2019,951,385,0,0,0,0,133100,8448,7882,8149,9254,9295,8732,8621,8688,9917,9931,8659,7262,7845,5880,4702,3834,2930,1964,1107,0,0,0,0,263925,252953,8385,2587,106209,29434,18414,28380,17,113,5974,7238,9233,4381,489,2536,75062,40864,5450,3464,6478,5203,5239,2812,2961,2193,398,61250,253480,240267,5281,5061,2448,423,259988,259766,232916,39912,81649,111355,25697,20425,3399,1873,1153,222,259988,177979,59413,118566,2699,31545,9130,22415,45811,41799,899,2172,941,1954,106209,29434,34837,18384,15493,5545,1908,388,220,106209,622,2740,8775,16846,31420,25779,10797,5283,3947,106209,53908,25699,18764,5976,1862,106209,260,10547,26993,51968,13277,3164,106209,34840,38009,29010,3734,616,106209,3376,90959,6219,648,236,1316,3455,210511,48226,79756,19156,61927,37765,16560,26041,24140,20920,8361,22041,37524,9491,194158,4615,283,11252,5903,444,1416,80403,7778,1449,12461,685,67469,263925,236589,3382,4234,5490,14230,126689,18518,23639,16670,16464,7024,5182,13207,3130,9922,12933]
["Local Authority","Bracknell Forest","Bracknell Forest","E06000036",113205,8027,6745,7082,7231,6349,7721,8414,8792,9425,9181,7911,6347,5833,4213,3307,2789,1953,1247,638,1314,1368,1426,2974,56107,4038,3478,3640,3743,3356,3840,3969,4412,4644,4588,4032,3198,2937,1993,1563,1283,789,439,165,0,0,0,0,57098,3989,3267,3442,3488,2993,3881,4445,4380,4781,4593,3879,3149,2896,2220,1744,1506,1164,808,473,0,0,0,0,113205,107656,3968,1581,45878,12707,9440,12182,9,69,1954,3574,3320,1553,24,1046,32580,17685,2654,1415,2613,2569,2417,1237,1056,784,150,25863,108293,101781,3470,2334,594,114,110512,110440,94982,34475,24143,36364,14080,12937,610,533,1378,72,110512,77540,22260,55280,1143,17156,5914,11242,13673,11491,787,884,511,1000,45878,12707,15522,7648,7185,2074,576,115,51,45878,289,1066,4529,8511,9057,8855,5434,3927,4210,45878,24794,10017,8235,2159,673,45878,129,5177,10949,17612,9700,2311,45878,17630,15337,11494,1246,171,45878,549,38665,4227,396,43,625,1373,89743,14639,34372,6737,35182,13361,5913,18445,10489,16675,4790,13272,16698,6227,83116,3663,112,3001,1237,207,501,43383,2880,1399,5124,407,21202,113205,98294,1577,2443,3519,7372,61914,9218,10398,8615,11509,4938,1692,2428,1035,6875,5206]
["Local Authority","West Berkshire","West Berkshire","E06000037",153822,10065,9017,9914,9633,7341,8506,9306,11109,12595,12486,10965,9506,9753,7406,5543,4337,3253,2065,1022,1878,2004,1936,4096,76321,5176,4645,5069,4957,3734,4289,4532,5397,6233,6296,5578,4744,4826,3641,2743,2010,1382,766,303,0,0,0,0,77501,4889,4372,4845,4676,3607,4217,4774,5712,6362,6190,5387,4762,4927,3765,2800,2327,1871,1299,719,0,0,0,0,153822,145654,5811,2357,62340,16123,12822,19470,8,64,2499,4545,3623,1933,15,1238,45641,26460,3027,1714,3316,3230,3377,1654,1479,1157,227,34290,147774,142737,2482,1857,609,89,150878,150792,135842,55944,53510,26388,13888,11293,1759,836,1062,86,150878,107095,38399,68696,1585,20294,1354,18940,19864,17117,1272,940,535,2040,62340,16123,22607,10190,9502,2875,822,154,67,62340,184,1325,4927,9809,12994,11751,7520,5796,8034,62340,37529,12334,9378,2559,540,62340,137,5677,13946,24660,13322,4598,62340,27020,20528,13279,1346,167,62340,1174,41047,7274,8839,782,705,2519,122731,21065,46192,8060,52481,16748,9017,28931,13552,24767,6695,20355,23437,5942,112054,6223,124,3997,2976,179,504,53437,3988,2126,7680,445,30375,153822,139909,1424,2118,2798,7573,81679,12398,12674,11932,10948,6241,2997,2827,4124,10689,6849]
["Local Authority","Reading","Reading","E06000038",155698,11937,8556,7968,9809,14574,15113,15244,12158,11104,9910,8269,6851,6373,4902,4156,3396,2736,1704,938,1562,1624,1561,3221,77967,6066,4402,3994,4908,7093,7360,7923,6494,5764,5034,4325,3496,3165,2399,1982,1523,1168,618,253,0,0,0,0,77731,5871,4154,3974,4901,7481,7753,7321,5664,5340,4876,3944,3355,3208,2503,2174,1873,1568,1086,685,0,0,0,0,155698,142768,9384,3546,62869,19237,10875,13303,7,98,2399,5270,5255,2267,931,3227,40499,21595,4318,1934,2800,3220,2384,1198,1754,1092,204,33409,148243,126690,10035,8378,2686,454,151330,150741,116177,20863,44646,50668,34338,27682,5450,1206,226,589,151330,83226,27480,55746,2307,24022,14754,9268,40637,38479,238,1471,449,1138,62869,19237,20410,9955,8066,3189,1382,361,269,62869,837,3376,8291,12033,14576,12175,5479,3035,3067,62869,26206,13780,14315,6309,2259,62869,197,9948,18285,24063,7356,3020,62869,17844,20165,20945,3304,611,62869,1986,48846,8929,149,36,785,2138,125582,21834,41509,7720,48427,13573,5437,33343,10359,33237,4891,17669,17898,16603,116808,3721,229,7696,8811,272,472,37661,3553,3323,13663,451,36956,155698,117078,6598,8679,9194,14149,79852,17851,19296,8319,6930,5424,2183,3423,3054,6999,6373]
["Local Authority","Slough","Slough","E06000039",140205,12777,9994,9034,8574,9574,13351,14201,11608,10093,8993,7631,6391,5160,3536,3101,2626,1879,1103,579,1809,1820,1752,3653,70120,6488,5134,4631,4394,4705,6274,7219,6109,5188,4579,3784,3328,2604,1725,1479,1146,755,410,168,0,0,0,0,70085,6289,4860,4403,4180,4869,7077,6982,5499,4905,4414,3847,3063,2556,1811,1622,1480,1124,693,411,0,0,0,0,140205,135436,2583,2186,50766,14447,12340,10227,2,33,1847,2689,5213,2261,101,1606,36648,16624,4103,1970,2939,3283,2294,1231,2460,1483,261,37887,132384,96508,13274,14339,6871,1392,139697,139386,105872,16974,46462,42436,33432,29375,3196,861,82,311,139697,76896,22624,54272,1570,25021,15188,9833,35103,33445,162,1187,309,1107,50766,14447,12370,8563,7812,4160,2180,678,556,50766,802,2963,8546,11399,12751,7933,3421,1803,1148,50766,14315,11340,14567,7117,3427,50766,169,9889,14157,19819,5119,1613,50766,9783,14176,20286,5269,1252,50766,1384,39391,6866,40,32,1082,1971,106645,21434,31314,7298,26766,12481,4165,14193,9025,19015,3843,10885,13293,20789,100458,2060,745,4706,5055,460,435,41109,4127,1608,6567,428,33158,140205,85553,5133,9149,14250,26120,67300,11851,13519,11082,9741,4514,2980,922,1037,4977,6677]
["Local Authority","Windsor and Maidenhead","Windsor and Maidenhead","E06000040",144560,9365,8584,8863,8343,7111,8841,9678,10626,11645,11195,9379,8161,8692,6943,5481,4617,3547,2243,1246,1684,1723,1740,3716,71328,4799,4496,4576,4434,3716,4302,4753,5294,5686,5659,4651,4022,4277,3353,2585,2099,1486,816,324,0,0,0,0,73232,4566,4088,4287,3909,3395,4539,4925,5332,5959,5536,4728,4139,4415,3590,2896,2518,2061,1427,922,0,0,0,0,144560,135145,5708,3707,58349,16554,12166,16701,7,105,2041,3978,3217,2014,16,1550,41009,23320,2874,1625,2908,2895,3006,1598,1409,1127,247,31783,138877,128631,5581,3253,1189,223,141065,140988,116954,49978,40394,26582,23017,18545,3021,1451,1017,77,141065,98390,38415,59975,702,17042,1523,15519,22526,19172,1577,825,952,2405,58349,16554,19740,9227,8683,2902,885,204,154,58349,323,1347,5676,9611,12240,10079,6776,5032,7265,58349,33277,11804,9368,3029,871,58349,123,6325,14064,20887,11922,5028,58349,24035,18798,13316,1903,297,58349,993,48543,4672,1542,108,654,1837,115900,18134,37751,5881,52053,12074,6545,32166,10132,31366,5571,20994,19449,10900,104247,6469,352,6680,1022,312,524,46438,2633,1746,7196,579,30296,144560,119434,2868,3648,4612,13998,73951,10708,9904,10960,12364,4804,4079,3318,1125,10898,5791]
["Local Authority","Wokingham","Wokingham","E06000041",154380,10031,9551,9740,9487,7428,8071,9782,11499,12460,12780,11173,9163,9426,7337,5715,4637,3154,1896,1050,1869,1999,2035,3837,76464,5227,4814,5108,4907,3905,4002,4664,5590,6158,6362,5685,4570,4587,3565,2744,2147,1422,704,303,0,0,0,0,77916,4804,4737,4632,4580,3523,4069,5118,5909,6302,6418,5488,4593,4839,3772,2971,2490,1732,1192,747,0,0,0,0,154380,146700,5094,2586,60332,14084,14790,19488,4,79,2010,3943,2949,1831,26,1128,45783,25798,2953,1632,3518,3356,3577,2027,1447,1237,238,35750,148442,141193,4140,2252,732,125,151740,151709,140454,74166,45861,20427,10375,8731,1049,595,880,31,151740,122889,43604,79285,1423,9730,6500,3230,16620,14764,682,778,396,1078,60332,14084,21502,10094,10397,3172,826,171,86,60332,118,852,3732,8046,11291,10899,8827,7609,8958,60332,40096,10788,7190,1853,405,60332,99,3993,11260,22503,17390,5087,60332,29625,19049,10423,1058,177,60332,752,53134,3187,949,77,522,1711,123010,16226,44166,6475,60076,14538,8392,36039,13222,33441,7639,23954,22711,7800,112273,6515,167,5798,2691,150,527,54986,2889,2009,5230,415,30896,154380,135322,1606,2507,3683,11262,81377,8973,13735,15652,11223,5906,2615,4475,1719,10842,6237]
["Local Authority","Milton Keynes","Milton Keynes","E06000042",248821,19908,16468,15805,14720,14056,19596,20960,19498,19090,17930,16011,14099,13169,8872,6595,4884,3610,2371,1179,3176,3121,3202,6306,123116,10179,8449,8040,7620,6913,9731,10411,9826,9481,8903,8043,6887,6465,4372,3054,2175,1464,814,289,0,0,0,0,125705,9729,8019,7765,7100,7143,9865,10549,9672,9609,9027,7968,7212,6704,4500,3541,2709,2146,1557,890,0,0,0,0,248821,239581,5873,3367,98584,25546,19520,24716,16,115,5146,7656,9105,3590,50,3124,71088,36793,6215,3385,5771,5615,4837,2524,3567,2053,328,62401,236730,214160,10195,8674,3240,461,246715,246603,219924,79554,71610,68760,26586,23981,1806,799,93,112,246715,146045,42820,103225,12586,40906,24920,15986,45547,42663,266,2248,370,1631,98584,25546,32859,17221,14896,5456,1837,477,292,98584,561,3205,10320,17760,25158,16914,9736,7165,7765,98584,47900,21759,19492,7024,2409,98584,260,10972,24334,39901,18155,4962,98584,34896,32227,26423,4249,789,98584,1234,82930,7236,1149,165,1703,4167,193429,34850,72188,17391,66339,30421,11853,32951,21825,35019,9108,26270,34763,17020,181385,6689,249,5613,7192,1560,661,83392,8239,3659,9833,696,53602,248821,202685,4845,8597,11979,20715,127783,17859,31324,27041,8823,6106,2338,3210,8819,12488,9775]
["Local Authority","Brighton and Hove","Brighton and Hove","E06000043",273369,15015,13291,13412,18039,28129,22998,21959,21789,21905,20443,15345,12638,12714,9535,7925,6676,5572,3758,2226,2728,2586,2679,5419,136108,7622,6840,6913,8944,13707,11935,11088,11183,11267,10286,7754,6375,6540,4742,3795,2980,2263,1283,591,0,0,0,0,137261,7393,6451,6499,9095,14422,11063,10871,10606,10638,10157,7591,6263,6174,4793,4130,3696,3309,2475,1635,0,0,0,0,273369,246528,19927,6914,121540,44294,14499,20189,88,959,5281,12065,9458,3761,2775,8171,67133,37498,5677,3733,5528,4382,4332,2109,1961,1655,258,49962,264238,242405,11322,8013,2173,325,266059,262475,164267,31445,64962,67860,98138,50866,42573,4699,70,3584,266059,145437,51945,93492,2139,38109,25695,12414,77763,73790,268,3196,509,2611,121540,44294,39817,17285,13244,4822,1613,297,168,121540,3140,8599,22948,29960,23102,16927,8519,4581,3764,121540,38265,28289,34231,15149,5606,121540,719,31244,39169,32461,12970,4977,121540,26223,37656,49493,7440,728,121540,5406,96888,13289,472,146,1782,3557,229024,36775,80722,16209,104723,27310,8581,74186,20761,64474,9126,36716,36337,20479,210792,10618,377,14555,19018,541,1082,52042,4875,6910,28752,1053,70969,273369,230484,7510,7342,8101,19932,139823,32300,31065,12447,10361,3367,5017,2366,12275,17356,13269]
["Local Authority","Portsmouth","Portsmouth","E06000044",205056,13548,11031,10927,15956,22761,16991,13860,13384,14280,13848,11926,9312,9820,7655,6206,5210,4000,2792,1549,2094,2210,2100,4523,103201,6955,5659,5574,8316,12191,8739,7169,6790,7277,6935,6106,4692,4890,3825,2881,2286,1550,954,412,0,0,0,0,101855,6593,5372,5353,7640,10570,8252,6691,6594,7003,6913,5820,4620,4930,3830,3325,2924,2450,1838,1137,0,0,0,0,205056,184047,17508,3501,85473,27471,11858,17474,22,152,4032,6826,8107,3084,2803,3644,52385,28024,4686,2766,4535,3491,3055,1678,2442,1467,241,42943,196712,182705,5817,5749,2113,328,200052,199131,145293,9627,35598,100068,53642,41314,9930,2398,196,921,200052,108889,38118,70771,1613,34723,22836,11887,52935,47482,1572,2794,1087,1892,85473,27471,27470,13514,10686,4422,1435,299,176,85473,842,3439,10801,16085,20105,18000,9959,3783,2459,85473,37348,19676,19159,7085,2205,85473,265,13071,24941,35700,8416,3080,85473,23322,29161,28529,3981,480,85473,4613,67180,9438,57,69,1368,2748,167256,35405,61878,15801,59374,27938,11592,34973,20598,24324,7359,19322,29272,9155,153705,3280,125,3498,7197,1025,1131,50299,5754,7148,16324,838,57086,205056,180032,4631,4571,5537,10285,96619,23310,24425,14837,6030,4603,1506,1450,4092,7092,9274]
["Local Authority","Southampton","Southampton","E06000045",236882,15407,11847,11555,17942,29384,21785,18600,15686,14602,14797,12716,10839,10946,8647,6796,5902,4759,3084,1588,2210,2252,2342,4751,119453,7954,6074,5977,9087,15062,11313,9637,8445,7506,7630,6474,5467,5416,4204,3206,2560,1913,1107,421,0,0,0,0,117429,7453,5773,5578,8855,14322,10472,8963,7241,7096,7167,6242,5372,5530,4443,3590,3342,2846,1977,1167,0,0,0,0,236882,211320,20098,5464,98254,33241,13439,20635,14,144,4262,8061,7766,3481,2878,4333,59059,33106,5169,2709,4361,4170,3244,1779,2625,1603,293,46515,227281,200352,10366,11259,4587,717,228459,227340,160173,33583,70796,55794,67034,56288,8771,1975,133,1119,228459,114137,40274,73863,2175,50249,36882,13367,59971,56845,217,2371,538,1927,98254,33241,31029,14638,11705,4846,1920,530,345,98254,1708,5035,15780,21111,21177,18521,8535,3794,2593,98254,36325,22503,26102,9735,3589,98254,425,20103,28656,36506,8676,3888,98254,24068,31017,37097,5384,688,98254,3686,69221,19158,117,118,2905,3049,195534,40991,69163,15910,70262,27505,11729,45149,19615,33144,6471,21577,29327,17532,180201,3737,120,3229,10433,535,1209,61164,7555,5243,18536,847,67593,236882,195231,7894,9566,10656,13535,112608,23327,31310,19111,9171,3367,1989,2190,4129,7767,10247]
["Local Authority","Isle of Wight","Isle of Wight","E06000046",138265,6412,6542,7968,8190,6808,6690,6340,7313,9523,10017,9307,9207,10994,9742,7370,6048,4724,3257,1813,1512,1522,1603,3331,67424,3322,3355,4147,4254,3593,3455,3261,3528,4521,4964,4592,4423,5364,4723,3591,2757,1926,1164,484,0,0,0,0,70841,3090,3187,3821,3936,3215,3235,3079,3785,5002,5053,4715,4784,5630,5019,3779,3291,2798,2093,1329,0,0,0,0,138265,132197,4551,1517,61085,19957,7804,18811,7,63,2680,3821,4482,2216,19,1225,40472,25283,2099,1732,3531,1872,2258,1363,1161,988,185,26431,134503,132033,1264,841,307,58,133713,133503,113294,47703,43308,22283,19537,12373,5435,1729,672,210,133713,93552,45715,47837,901,14373,1289,13084,23674,21531,212,1714,217,1213,61085,19957,23439,8333,6208,2182,746,147,73,61085,255,1537,5321,12223,15215,12513,6559,3808,3654,61085,33186,14407,9956,2926,610,61085,111,6309,20293,24525,7420,2427,61085,21286,23016,15156,1475,152,61085,3126,45230,7210,1935,530,589,2465,115589,28078,42031,10055,34589,21091,10096,14666,14964,12445,5322,16692,23483,2885,99747,3923,107,829,2582,144,1011,34251,2815,1814,10431,1392,40448,138265,131068,576,1002,1250,4369,59299,14437,6986,11072,10019,1064,584,535,1794,7280,5528]
["Local Authority","County Durham","County Durham","E06000047",513242,28574,25659,27869,33267,35155,30628,28133,30498,37519,39537,35713,32950,35395,27874,23009,17850,12785,7321,3506,5176,5421,5650,11622,251280,14599,13092,14158,16878,17682,15458,13855,14953,18582,19679,17304,16271,17377,13694,10904,8042,5251,2611,890,0,0,0,0,261962,13975,12567,13711,16389,17473,15170,14278,15545,18937,19858,18409,16679,18018,14180,12105,9808,7534,4710,2616,0,0,0,0,513242,488300,20466,4476,223803,70007,30770,66662,30,181,10615,13392,18377,8460,1487,3822,150027,89332,10419,7720,13474,8288,8797,4534,4240,2740,483,101010,496111,488753,3326,2768,1028,236,500288,500209,481791,108279,187338,186174,17940,13491,2115,2334,478,79,500288,343517,133284,210233,965,85804,55828,29976,65241,59670,418,4511,642,4761,223803,70007,80984,36607,26074,7430,2118,404,179,223803,281,2078,13929,52693,65226,44911,21492,12717,10476,223803,115670,64427,35589,6768,1349,223803,359,13863,75824,99941,27295,6521,223803,77389,92840,48237,4714,623,223803,1868,190999,6978,6121,5629,1788,10420,425258,116948,146611,47907,129173,81073,32904,60161,57960,48713,21573,52051,78755,7143,383796,9642,331,1948,13963,1521,1061,154210,17707,2243,23797,1471,155902,513242,496579,2945,3101,2638,7979,227894,36588,31877,38010,51191,19810,6846,2222,5704,20652,14994]
["Local Authority","Northumberland","Northumberland","E06000048",316028,16003,16345,17677,18464,16224,16187,16121,17907,22128,24842,24121,22172,24533,19062,15304,12249,8769,5233,2687,3238,3541,3620,7278,154124,8287,8451,9168,9509,8232,7953,8018,8778,10634,12039,11704,10863,11875,9426,7192,5673,3682,1888,752,0,0,0,0,161904,7716,7894,8509,8955,7992,8234,8103,9129,11494,12803,12417,11309,12658,9636,8112,6576,5087,3345,1935,0,0,0,0,316028,304166,8914,2948,138534,41406,20525,45724,18,116,6108,8423,9264,5134,19,1797,96209,59844,5436,4205,8010,4847,5793,3164,2492,2036,382,62137,306525,303498,1396,987,539,105,310591,310554,288741,86610,116600,85531,21362,16260,3291,1811,451,37,310591,211964,88268,123696,992,53376,32314,21062,39534,34737,1120,2843,834,4725,138534,41406,53502,20775,16422,4881,1232,226,90,138534,275,1611,10068,28562,34943,27142,15046,10106,10781,138534,78059,34151,21320,4201,803,138534,220,10772,40698,59864,20701,6279,138534,54773,52023,28776,2658,304,138534,1858,104652,7180,11564,4643,1331,7306,262162,62584,92799,27256,89642,48014,21181,41430,34619,36023,13806,41120,53019,3654,233224,9195,674,1952,7711,588,704,96053,9552,2137,16924,1411,86323,316028,307103,702,1094,1442,5687,146901,25944,14491,19568,30255,12969,5666,4162,5593,17894,10359]
["Local Authority","Cheshire East","Cheshire East","E06000049",370127,20194,19744,21383,22079,18615,19020,19532,24129,28386,29831,26124,23275,26443,21074,16877,13485,10248,6347,3341,4006,4248,4208,8921,181409,10426,10153,10880,11578,9498,9473,9575,11751,13782,14726,12964,11579,13030,10366,8086,6184,4213,2267,878,0,0,0,0,188718,9768,9591,10503,10501,9117,9547,9957,12378,14604,15105,13160,11696,13413,10708,8791,7301,6035,4080,2463,0,0,0,0,370127,352306,12831,4990,159441,47328,27310,49733,19,172,6432,10371,10059,5295,169,2553,110567,66263,6631,4642,9104,6457,7356,4195,2944,2466,509,76485,358268,348956,3802,3401,1788,321,365065,364954,340272,142930,123740,73602,23539,18923,2672,1944,1143,111,365065,279430,115574,163856,1455,36991,9877,27114,44023,40501,477,2488,557,3166,159441,47328,57990,25266,20969,5888,1589,276,135,159441,320,1942,10905,25464,37094,31450,19791,14844,17631,159441,100148,33030,20582,4607,1074,159441,237,11423,42285,63855,31899,9742,159441,69362,56720,29959,3001,399,159441,3643,129536,8966,8291,1287,1374,6344,304374,59806,105083,23216,127588,46577,23529,66177,38686,59105,17826,53846,57118,8659,270953,13462,262,5269,3326,582,1188,124069,9216,4761,17939,1062,89817,370127,349833,2405,3699,4031,10159,181136,32246,26242,25533,32196,12469,6538,4525,5530,23337,12520]
["Local Authority","Cheshire West and Chester","Cheshire West and Chester","E06000050",329608,18050,17443,18737,20105,19511,18796,18085,21296,24677,25698,22851,20573,22686,17832,14950,11683,8704,5215,2716,3541,3541,3736,7919,160586,9270,8909,9634,10279,9396,9251,8813,10477,12006,12637,11130,10168,11248,8801,7089,5252,3673,1846,707,0,0,0,0,169022,8780,8534,9103,9826,10115,9545,9272,10819,12671,13061,11721,10405,11438,9031,7861,6431,5031,3369,2009,0,0,0,0,329608,313898,12015,3695,141442,41841,22702,43235,14,135,5898,9150,9797,5215,605,2850,97317,58380,5963,4291,7897,5673,6184,3557,2726,2182,464,67225,318942,312137,3240,2390,1003,172,326236,326042,300918,106198,124313,70407,23738,19541,2546,1651,1386,194,326236,237003,94656,142347,2103,43918,23454,20464,40162,36154,817,2357,834,3050,141442,41841,51108,22381,18383,5617,1631,324,157,141442,430,1869,9315,21486,36093,30273,17648,11802,12526,141442,86280,30418,18862,4670,1212,141442,251,9903,33370,66252,24750,6916,141442,60781,49773,27510,2985,393,141442,2989,117746,7078,6269,894,1260,5206,271473,56940,97036,23025,106715,43982,20913,55526,34859,48708,15358,43956,51235,6855,243155,9450,263,3262,5566,871,1033,109464,8947,4284,15987,1011,83017,329608,313621,1531,2644,3160,8652,160138,26528,25727,23424,27282,13656,5786,4132,5441,17178,10984]
["Local Authority","Shropshire","Shropshire","E06000051",306129,15698,15632,17915,18951,16619,15619,15405,17790,22163,23574,21004,20160,22300,19059,15153,11709,8971,5571,2836,3262,3449,3567,7637,151606,8009,7835,9107,10035,9121,8105,7843,8771,11185,11881,10468,9888,10798,9227,7314,5475,3813,1965,766,0,0,0,0,154523,7689,7797,8808,8916,7498,7514,7562,9019,10978,11693,10536,10272,11502,9832,7839,6234,5158,3606,2070,0,0,0,0,306129,291084,11311,3734,129674,37540,20619,42342,17,148,5717,8803,7299,4672,49,2468,90752,56633,4841,3468,6916,4834,5465,3331,2587,2238,439,60490,296805,290668,2616,2251,1045,225,298183,298060,278915,125083,105993,47839,17556,12197,3118,2241,1589,123,298183,209559,97134,112425,1699,39128,14913,24215,43388,37391,2217,2623,1157,4409,129674,37540,49377,19083,16308,5444,1497,296,129,129674,324,2145,8156,20311,27388,27106,17054,12366,14824,129674,82123,26320,16009,4235,987,129674,217,9683,32547,56371,23108,7748,129674,56076,45461,25054,2699,384,129674,4128,79230,10551,22726,3189,1258,8592,252979,56943,87997,21170,94527,43145,17665,44015,32183,37688,13257,43063,52280,5742,223892,12532,165,1828,2977,577,922,98473,7831,4460,19973,1010,73144,306129,291742,2220,2182,2363,7622,150748,28113,18830,15802,21518,15321,5774,4640,5989,22808,11953]
["Local Authority","Cornwall","Cornwall","E06000052",532273,27366,26073,29972,31800,28357,26373,26702,30276,36620,38486,36853,35543,42611,35224,26543,21397,16349,10218,5510,5522,5831,6057,12562,257805,14073,13320,15426,16183,14451,13151,13305,14514,17403,18658,17783,17024,20731,17104,12763,9967,6928,3575,1446,0,0,0,0,274468,13293,12753,14546,15617,13906,13222,13397,15762,19217,19828,19070,18519,21880,18120,13780,11430,9421,6643,4064,0,0,0,0,532273,506780,20025,5468,230389,69269,32863,74023,45,296,10350,16089,14279,7993,708,4474,158686,100180,8408,5969,11958,8312,9357,5573,4623,3580,726,103809,515880,507616,3687,2937,1415,225,523432,522901,472919,207801,142519,122599,44568,29597,10159,4812,5414,531,523432,360690,176232,184458,4016,63190,28683,34507,88634,77393,2236,7292,1713,6902,230389,69269,87823,33313,26863,9046,3146,604,325,230389,1075,5384,17822,42847,57636,44933,26556,17223,16913,230389,129517,52356,35233,10642,2641,230389,351,20752,67553,95823,34468,11442,230389,89107,83625,51641,5340,676,230389,16624,111561,39486,38170,5976,2891,15681,442332,99237,159552,40788,155375,82336,35266,70215,58055,56714,21267,68935,94247,9422,388858,21187,220,2462,5953,742,2872,157708,12904,3950,34114,2415,144331,532273,508665,2430,3128,3687,14363,244527,46668,30531,31706,39596,14319,5470,4711,8621,38596,24309]
["Local Authority","Isles of Scilly","Isles of Scilly","E06000053",2203,105,105,114,56,111,135,127,130,170,175,155,142,172,164,107,81,84,37,33,27,23,18,46,1102,56,58,50,24,58,69,69,58,73,93,81,75,85,89,54,38,43,16,13,0,0,0,0,1101,49,47,64,32,53,66,58,72,97,82,74,67,87,75,53,43,41,21,20,0,0,0,0,2203,1976,171,56,989,336,133,342,0,0,35,77,23,18,0,25,643,448,20,24,24,44,48,16,12,7,0,343,2159,2110,17,25,7,0,2123,2120,1710,735,563,412,410,167,159,84,0,3,2123,862,606,256,19,400,260,140,639,436,81,31,91,203,989,336,378,122,114,32,4,1,2,989,20,74,109,179,186,188,98,66,69,989,518,193,159,91,28,989,1,172,295,335,134,52,989,354,341,274,18,2,989,260,18,391,128,65,12,115,1857,264,697,153,835,327,134,418,262,323,91,382,481,74,1622,175,0,2,8,1,37,290,27,209,505,57,311,2203,2070,18,34,29,52,1311,565,73,20,0,0,0,4,109,428,112]
["Local Authority","Wiltshire","Wiltshire","E06000054",470981,28373,27199,29276,29197,24720,25471,25078,30389,36130,36817,32734,28863,31246,25135,19935,16189,12267,7725,4237,5501,5741,5864,12170,231754,14420,13955,14780,14922,13359,13150,12430,14661,17588,18212,16345,14207,15332,12264,9530,7573,5127,2734,1165,0,0,0,0,239227,13953,13244,14496,14275,11361,12321,12648,15728,18542,18605,16389,14656,15914,12871,10405,8616,7140,4991,3072,0,0,0,0,470981,445379,19358,6244,194194,51845,36321,62407,17,214,7710,12905,12901,5976,35,3863,139931,82444,8639,5610,10532,8768,9579,5385,4650,3633,691,102659,453983,442229,5375,4357,1749,273,457954,457703,421128,170222,151548,99358,34220,26736,4641,2843,2355,251,457954,308967,125640,183327,3362,66588,17043,49545,72870,52204,10358,3498,6810,6167,194194,51845,74250,30011,26671,8556,2239,423,199,194194,548,3334,12081,32860,42363,38169,24310,18095,22434,194194,119062,39990,26339,7132,1671,194194,330,14181,47905,79963,39187,12628,194194,85435,65674,38366,4264,455,194194,4081,121602,24193,30276,2625,1439,9978,380013,70782,143579,32963,152813,63140,27944,77407,47416,63078,21101,64570,80897,13013,339595,17608,385,6233,6412,595,1942,154808,11725,6906,31113,1489,100379,470981,433908,3413,5410,6648,21602,239216,46432,25593,31023,38325,16609,10406,7302,12013,32701,18812]
["Local Authority","Bedford","Bedford","E06000055",157479,10099,9376,9955,10450,9640,10134,10394,10601,11843,11693,10206,8917,9303,7045,5716,4900,3780,2297,1130,1894,1871,2006,4184,77312,5085,4810,5206,5460,4745,4869,5043,5223,5908,5709,5100,4430,4604,3461,2789,2112,1610,842,306,0,0,0,0,80167,5014,4566,4749,4990,4895,5265,5351,5378,5935,5984,5106,4487,4699,3584,2927,2788,2170,1455,824,0,0,0,0,157479,149749,5604,2126,63812,18396,11901,17476,10,67,2495,3981,5361,2383,314,1428,44623,24492,3325,2104,3661,2896,3052,1745,1730,1323,295,36141,151285,134544,5564,6467,3995,715,154536,154130,136329,46840,54578,34911,16919,12680,3174,1065,882,406,154536,103551,39891,63660,1569,23765,2971,20794,24037,22206,295,1136,400,1614,63812,18396,21264,10534,8697,3236,1180,276,229,63812,462,1685,6246,9655,14533,12898,7164,5091,6078,63812,34918,12515,11494,3561,1324,63812,168,7371,13623,27343,11388,3919,63812,25013,19788,16274,2271,466,63812,1287,49263,6055,3256,397,861,2693,125871,25645,44305,10033,44189,18626,8724,23570,13633,21411,6071,19444,22323,9481,113764,4229,105,3610,3199,336,425,48057,4461,2912,8018,458,37954,157479,129755,2841,3993,5848,15042,75810,13693,16618,8184,8641,6027,2091,1898,4858,7921,5879]
["Local Authority","Central Bedfordshire","Central Bedfordshire","E06000056",254381,16009,14967,15480,15335,13598,14484,15621,17853,20123,21076,18150,15504,16292,12435,9510,7825,5407,3175,1537,2995,3047,3047,6391,126044,8057,7593,8024,8081,7149,7150,7445,8742,9946,10488,9194,7626,8175,6097,4644,3649,2352,1184,448,0,0,0,0,128337,7952,7374,7456,7254,6449,7334,8176,9111,10177,10588,8956,7878,8117,6338,4866,4176,3055,1991,1089,0,0,0,0,254381,245094,6470,2817,104399,27030,20204,32005,12,110,4899,7534,7345,3520,106,1634,76508,43696,5160,3348,6272,4964,5430,3052,2362,1876,348,57258,244806,237375,3476,2696,1030,229,252120,252074,231815,79246,90263,62306,18752,15831,1568,1353,1507,46,252120,186906,65104,121802,1971,32309,12655,19654,28882,24613,1353,1652,1264,2052,104399,27030,37399,17957,15702,4747,1239,217,108,104399,212,1642,7854,17854,25340,21419,12582,8628,8868,104399,60100,23147,16362,3952,838,104399,175,8404,25163,45587,20085,4985,104399,42282,36477,22872,2435,333,104399,1757,85018,7732,4604,529,935,3824,204602,39644,78939,17562,75334,34363,17850,36078,25932,31862,10827,30244,40056,7222,186658,7938,285,8500,2649,262,849,92037,6051,2125,10762,603,54597,254381,234252,2362,2339,3410,12018,132061,17887,12744,16544,27533,11318,5243,8120,6048,14781,11843]
["Local Authority","Aylesbury Vale","Aylesbury Vale","E07000004",174137,11345,10544,11267,10884,8763,9872,10928,12149,14083,14497,12564,10464,10741,7930,6279,4901,3575,2173,1178,2160,2242,2301,4564,86241,5832,5477,5858,5711,4344,4835,5375,6021,6885,7292,6394,5200,5346,3839,3041,2237,1504,757,293,0,0,0,0,87896,5513,5067,5409,5173,4419,5037,5553,6128,7198,7205,6170,5264,5395,4091,3238,2664,2071,1416,885,0,0,0,0,174137,166407,5344,2386,69406,17612,14758,20540,10,84,2891,5042,4335,2352,85,1697,50748,28484,3431,2073,4011,3458,3672,1978,1801,1572,268,40190,167427,159265,3712,2921,1250,279,170651,170446,157076,60410,57400,39266,13130,10831,1454,845,240,205,170651,124913,43799,81114,1371,20739,5483,15256,21921,19039,1033,1246,603,1707,69406,17612,25130,11111,10545,3457,1155,248,148,69406,390,1393,5564,11907,14718,12712,8311,6242,8169,69406,40031,14017,10968,3298,1092,69406,129,6481,16532,27257,14150,4857,69406,28613,22444,15735,2277,337,69406,1106,50326,5957,7528,534,914,3041,138567,24059,51279,10129,57777,20433,9354,30660,15900,27106,7292,24495,26715,6906,126740,6921,216,4425,2513,638,474,60447,4125,1529,8905,531,36016,174137,155305,1948,2455,3623,10806,90724,13967,10450,8919,14159,9544,4065,5711,3834,12152,7923]
["Local Authority","Chiltern","Chiltern","E07000005",92635,5473,5860,6339,5559,3693,3706,4400,5718,7006,7785,7072,5792,6264,5130,4202,3581,2560,1635,860,1186,1279,1352,2522,45049,2773,3076,3258,2834,1829,1848,2142,2770,3324,3845,3477,2889,3042,2506,1913,1614,1087,573,249,0,0,0,0,47586,2700,2784,3081,2725,1864,1858,2258,2948,3682,3940,3595,2903,3222,2624,2289,1967,1473,1062,611,0,0,0,0,92635,88310,2551,1774,36946,9179,8752,12128,6,49,1225,1894,1780,1210,5,718,27334,15490,1390,915,2093,1829,2236,1369,910,918,184,21951,89449,85924,1832,1183,437,73,91871,91824,82466,43523,24329,14614,8930,7027,1035,868,428,47,91871,71759,31065,40694,668,10326,1554,8772,8315,7624,239,336,116,803,36946,9179,13075,5858,6131,2040,517,85,61,36946,81,495,2129,5438,6356,6438,4740,4328,6941,36946,24739,6339,4362,1195,311,36946,51,2540,7949,12678,9281,4447,36946,18125,11198,6645,847,131,36946,406,31374,1724,1604,92,333,1413,73679,10864,24534,3170,37263,7499,4265,22833,6341,20519,3702,16314,12628,4378,65043,4613,2836,3440,612,166,285,27237,1655,406,3227,308,20258,92635,82386,735,1127,1621,6766,44785,4989,3842,5660,7119,3639,4843,2676,620,7188,4209]
["Local Authority","South Bucks","South Bucks","E07000006",66867,3931,3817,4090,3897,3114,3414,3464,4057,5202,5412,5002,4233,4283,3437,3115,2477,2001,1234,687,780,829,836,1645,32439,2026,1942,2134,1920,1579,1674,1678,1913,2529,2632,2567,2144,2082,1621,1438,1108,819,455,178,0,0,0,0,34428,1905,1875,1956,1977,1535,1740,1786,2144,2673,2780,2435,2089,2201,1816,1677,1369,1182,779,509,0,0,0,0,66867,63359,1915,1593,26514,7136,5734,8491,4,31,896,1437,1322,906,26,531,19358,11251,1124,702,1593,1246,1360,764,624,586,108,14563,64607,61037,1899,1168,423,80,65819,65793,56736,30852,17011,8873,8322,6927,717,678,735,26,65819,49644,20889,28755,929,7074,597,6477,7368,6509,336,315,208,804,26514,7136,8966,4176,4038,1507,465,138,88,26514,51,351,2124,4063,4803,4437,2890,2400,5395,26514,16708,4947,3742,903,214,26514,49,2158,5733,9175,5351,4048,26514,12514,8100,5191,607,102,26514,308,23051,1190,672,58,272,963,54201,8954,17333,2673,23846,5674,3326,14203,4726,13477,2429,10314,8737,4099,47802,3138,656,2754,524,105,250,21655,1289,441,2080,225,14685,66867,56480,1013,1081,1434,6859,33117,2950,4297,5832,5427,2741,2532,812,483,5211,2832]
["Local Authority","Wycombe","Wycombe","E07000007",171644,11083,10718,10856,10828,10404,10615,11127,11989,13274,12770,10900,9930,9954,8192,6405,5358,3796,2245,1200,2127,2255,2099,4375,84617,5582,5447,5475,5478,5242,5241,5505,6047,6462,6593,5393,4949,4875,4044,3028,2480,1633,821,322,0,0,0,0,87027,5501,5271,5381,5350,5162,5374,5622,5942,6812,6177,5507,4981,5079,4148,3377,2878,2163,1424,878,0,0,0,0,171644,161831,7036,2777,67861,18138,14375,19695,6,69,2318,4608,4248,2254,336,1814,48612,27306,3268,1983,3624,3227,3452,1870,1991,1585,306,39369,164954,152302,5300,4558,2299,495,168958,168760,146210,56473,63274,26463,22048,18137,2764,1147,502,198,168958,120073,45286,74787,1541,20172,13081,7091,25442,21628,1655,1095,1064,1730,67861,18138,23308,10326,10273,3801,1398,368,249,67861,333,1942,6613,10166,14721,13737,7944,5657,6748,67861,37516,13205,11600,4253,1287,67861,108,7412,14610,27940,13311,4480,67861,27093,21174,16414,2686,494,67861,1059,53184,6466,3469,264,739,2680,136787,23780,47376,8481,58650,17241,8733,33398,14083,30479,7037,22536,23359,9548,124188,6565,594,4339,3412,308,553,57045,3893,1144,8008,489,37838,171644,145817,2164,3505,4869,15289,86350,12871,12315,12508,11486,6802,3872,5697,1419,11425,7955]
["Local Authority","Cambridge","Cambridge","E07000008",123867,6703,5073,5006,10238,18076,13341,11384,8469,7654,7084,5908,5357,4973,3832,3045,2722,2306,1682,1014,991,1010,990,2015,62984,3360,2593,2570,5261,9594,7063,6006,4460,4034,3732,2982,2588,2465,1868,1413,1195,936,590,274,0,0,0,0,60883,3343,2480,2436,4977,8482,6278,5378,4009,3620,3352,2926,2769,2508,1964,1632,1527,1370,1092,740,0,0,0,0,123867,100275,16276,7316,46714,15848,7020,9625,10,98,1693,4228,2338,1440,1055,3359,26928,15723,2321,1111,1782,1839,1502,875,998,677,100,19829,119658,99062,11707,7010,1645,234,107345,106708,82380,12903,34554,34923,24200,20453,2825,922,128,637,107345,51567,22985,28582,1063,23727,15865,7862,29526,27064,598,945,919,1462,46714,15848,14791,7161,5721,2140,775,153,125,46714,970,2873,6404,8566,10040,8631,4111,2476,2643,46714,19787,9969,10383,4737,1838,46714,164,8890,12379,16141,6029,3111,46714,14175,14236,15606,2310,387,46714,1196,38262,4903,152,55,673,1473,106007,12606,34828,4794,51521,8595,3288,44382,6049,43717,2536,16897,12952,19259,98283,3856,136,2912,3862,215,504,18810,1669,17755,9389,329,38846,123867,87486,9042,8141,7362,11836,59437,15963,19464,3881,3329,1413,705,1205,3620,6417,3440]
["Local Authority","East Cambridgeshire","East Cambridgeshire","E07000009",83818,5506,5016,4812,4554,4110,4895,5629,6080,6562,6476,5478,4924,5469,4239,3301,2735,2132,1244,656,851,982,1020,1959,41443,2855,2619,2495,2339,2106,2339,2816,3045,3276,3208,2727,2438,2694,2085,1642,1278,851,450,180,0,0,0,0,42375,2651,2397,2317,2215,2004,2556,2813,3035,3286,3268,2751,2486,2775,2154,1659,1457,1281,794,476,0,0,0,0,83818,80225,2502,1091,34614,8893,6945,11007,6,68,1653,2873,1665,929,2,573,25432,15066,1757,986,1734,1731,1703,938,793,628,96,18360,80456,77308,1302,1200,540,106,83056,83043,78603,37701,27022,13880,3838,2971,533,334,602,13,83056,58465,22335,36130,1132,11105,1058,10047,10576,9537,278,635,126,1778,34614,8893,12958,5577,5103,1560,419,68,36,34614,74,492,2189,5926,7736,6670,4205,3324,3998,34614,21499,7205,4588,1077,245,34614,48,2514,9103,13887,6918,2144,34614,14795,12334,6679,703,103,34614,598,22075,3022,6656,371,245,1647,67481,14127,23840,4794,25320,10319,5040,13320,7628,12248,3101,10408,13284,3784,60714,3167,55,2379,720,104,314,30518,2146,1255,3025,236,16795,83818,75576,1558,1776,1727,3181,43919,4838,2865,6053,8579,7203,1957,867,2206,5702,3649]
["Local Authority","Fenland","Fenland","E07000010",95262,5221,4841,5525,5608,5353,5597,5224,5745,6881,6999,6221,6112,6616,5523,4572,3779,2919,1690,836,1049,1030,1133,2313,46811,2678,2487,2788,2811,2732,2738,2672,2859,3413,3498,3091,3022,3233,2751,2232,1754,1210,631,211,0,0,0,0,48451,2543,2354,2737,2797,2621,2859,2552,2886,3468,3501,3130,3090,3383,2772,2340,2025,1709,1059,625,0,0,0,0,95262,92403,2103,756,40620,11576,5850,13088,6,40,2093,3045,2861,1280,1,780,28731,17735,1772,1167,2249,1524,1625,972,881,671,135,19341,92135,86707,1196,2330,1659,243,93934,93867,87492,44068,28836,14588,5717,4522,718,477,658,67,93934,66121,27221,38900,515,11050,2052,8998,15225,13966,149,950,160,1023,40620,11576,15575,6137,4907,1675,560,121,69,40620,95,752,3018,7463,10450,8420,4539,2916,2967,40620,23322,9099,6036,1665,498,40620,82,3489,12655,17338,5610,1446,40620,14627,15454,9159,1155,225,40620,822,29718,3104,4647,403,414,1512,78482,24523,26205,7236,18255,13609,5170,6397,8490,4735,2615,7333,14416,3473,69258,2202,44,655,921,176,319,30474,3000,2065,4374,284,24744,95262,87053,1528,2080,2021,2580,44514,9093,4733,4764,6559,5105,2191,1268,1967,4683,4151]
["Local Authority","Huntingdonshire","Huntingdonshire","E07000011",169508,10098,9704,10361,10318,9507,9805,10239,11605,13498,13587,11759,10325,11402,8875,6614,4890,3567,2186,1168,1969,2027,2085,4280,84532,5185,5071,5367,5310,4986,4958,5021,5808,6723,6762,5968,5130,5660,4437,3240,2317,1497,788,304,0,0,0,0,84976,4913,4633,4994,5008,4521,4847,5218,5797,6775,6825,5791,5195,5742,4438,3374,2573,2070,1398,864,0,0,0,0,169508,162571,5011,1926,69333,17691,13228,22040,11,74,3253,5416,4097,2140,13,1370,50947,30111,3107,1915,3881,3216,3613,1985,1563,1325,231,37131,163419,157024,2514,2544,1136,201,166952,166928,155505,72956,51066,31483,10717,8826,1175,716,706,24,166952,121485,43798,77687,1113,20422,4223,16199,22530,19793,918,1261,558,1402,69333,17691,26076,11000,10238,3205,870,166,87,69333,167,1072,4753,10423,15880,12751,8954,7189,8144,69333,43029,13693,9586,2387,638,69333,118,5184,14842,28602,16831,3756,69333,31657,22689,13330,1437,220,69333,1292,53354,5066,5901,448,561,2711,137157,26361,51589,11198,51609,22212,9821,25024,17041,21524,7302,21211,27819,6671,125346,5443,119,3315,2224,265,579,60618,4498,3227,8275,428,36355,169508,153206,2614,2922,3266,7500,88991,14195,9551,10932,16720,8692,3414,2667,6143,10153,6524]
["Local Authority","South Cambridgeshire","South Cambridgeshire","E07000012",148755,9300,9061,9106,8734,7148,8083,9442,10791,11724,11795,10168,8945,9756,7515,5624,4576,3590,2244,1153,1812,1719,1909,3666,73790,4822,4671,4644,4489,3826,4070,4701,5384,5685,5805,5111,4375,4831,3730,2710,2174,1560,846,356,0,0,0,0,74965,4478,4390,4462,4245,3322,4013,4741,5407,6039,5990,5057,4570,4925,3785,2914,2402,2030,1398,797,0,0,0,0,148755,141228,5052,2475,59960,14772,13174,19320,17,94,2414,4374,2859,1691,33,1212,44450,25825,2723,1499,3225,3102,3248,1899,1361,1306,262,33732,143226,136429,4004,2142,557,94,146779,146750,139675,65848,50113,23714,5865,4598,739,528,1210,29,146779,105683,42762,62921,2651,19306,11320,7986,17526,14902,1069,813,742,1613,59960,14772,22332,9351,9555,2971,753,157,69,59960,161,887,3498,9511,11816,10683,7992,6668,8744,59960,38450,11963,7202,1860,485,59960,88,3937,13617,22290,14815,5213,59960,28387,19817,10439,1146,171,59960,908,38831,5161,11423,506,471,2660,119342,18248,42941,7442,55572,15956,8138,34237,12536,33955,5763,23912,21901,7690,107779,6172,129,2894,3454,132,787,50598,3114,6211,5247,401,28640,148755,132191,1909,2654,3847,8154,79139,7490,9453,16225,17179,4486,1790,2162,4272,10476,5606]
["Local Authority","Allerdale","Allerdale","E07000026",96422,4921,4706,5470,5790,4610,4808,4766,5449,7345,7409,6982,6529,7604,5912,4944,3847,2775,1687,868,960,1054,1134,2322,47371,2500,2475,2803,3016,2397,2405,2425,2562,3558,3672,3444,3263,3761,2996,2401,1762,1119,583,229,0,0,0,0,49051,2421,2231,2667,2774,2213,2403,2341,2887,3787,3737,3538,3266,3843,2916,2543,2085,1656,1104,639,0,0,0,0,96422,93312,2416,694,42345,13169,6270,13875,2,32,1788,2343,2694,1548,4,620,28891,17961,1634,1164,2382,1513,1763,984,762,607,121,18758,93469,92475,441,355,170,28,94970,94964,89807,27466,32923,29418,4843,3253,752,838,314,6,94970,68349,33297,35052,409,16604,2274,14330,8347,7195,173,794,185,1261,42345,13169,15710,6196,5199,1579,390,62,40,42345,61,406,2073,7507,12012,9237,4833,3076,3140,42345,25459,10601,5042,1023,220,42345,56,2110,11801,20272,6036,2070,42345,17667,16602,7321,675,80,42345,1313,31184,2302,3673,1171,374,2328,80155,21636,27992,7691,25730,14548,7586,10889,10637,9516,4156,11155,15297,1108,70978,3217,22,395,1766,136,232,29331,3489,706,6487,295,24902,96422,93845,330,401,428,1418,46076,9266,5329,5062,7493,5448,1801,1447,1323,6025,2882]
["Local Authority","Barrow-in-Furness","Barrow-in-Furness","E07000027",69087,3719,3641,4022,4491,3988,3924,3601,4195,5328,5354,4748,4310,4811,3978,3284,2382,1736,984,591,781,763,819,1659,34185,1898,1883,2023,2338,2052,1993,1823,2010,2643,2714,2409,2130,2419,1987,1588,1105,689,322,159,0,0,0,0,34902,1821,1758,1999,2153,1936,1931,1778,2185,2685,2640,2339,2180,2392,1991,1696,1277,1047,662,432,0,0,0,0,69087,66798,1831,458,31224,10791,4194,8695,2,18,1540,1806,2534,1152,8,484,20135,11753,1313,934,1923,1171,1288,651,576,453,73,14193,66916,66119,382,279,112,24,68392,68355,63644,9096,22068,32480,4304,3459,462,383,407,37,68392,51890,20854,31036,71,6644,5291,1353,9181,8314,108,664,95,606,31224,10791,10657,4744,3611,1042,292,65,22,31224,45,418,2148,6107,9908,7276,2811,1422,1089,31224,16944,8383,4748,975,174,31224,56,2435,10898,14080,2981,774,31224,10174,12937,7417,630,66,31224,2440,26124,1132,211,154,229,934,56796,14422,21434,7492,16034,12263,10047,5319,9522,4620,3625,5845,11122,775,51103,839,33,527,1623,442,546,17475,2332,1647,5563,230,19846,69087,67073,171,285,383,1175,31257,11122,8854,3423,1238,404,943,238,1096,2009,1930]
["Local Authority","Carlisle","Carlisle","E07000028",107524,6064,5515,5702,6590,6536,6685,6090,6721,7762,8138,7813,6764,7247,5665,4721,3908,2919,1782,902,1108,1033,1142,2419,52478,3076,2832,2824,3289,3156,3281,3087,3371,3864,4010,3885,3383,3611,2756,2230,1762,1178,624,259,0,0,0,0,55046,2988,2683,2878,3301,3380,3404,3003,3350,3898,4128,3928,3381,3636,2909,2491,2146,1741,1158,643,0,0,0,0,107524,103031,3692,801,48342,16423,6718,13718,4,52,2074,3075,3304,1828,238,908,31124,18839,2106,1425,2472,1793,1872,995,885,613,124,20896,103828,101053,1019,1128,540,88,106138,105887,97616,27010,40203,30403,8120,6587,970,563,151,251,106138,75791,31847,43944,536,14109,2492,11617,14551,13045,256,1032,218,1151,48342,16423,17028,6939,5709,1654,449,97,43,48342,180,720,3460,10425,12083,10074,5120,3253,3027,48342,26480,12520,7219,1714,409,48342,90,3610,15751,20575,6451,1865,48342,17739,19251,10239,995,118,48342,1475,36615,3219,3178,789,531,2535,89042,22164,31996,8693,28616,15644,7245,12615,11307,10172,4336,11851,17195,2102,79531,2835,30,327,3742,203,296,32456,3452,1415,8834,284,25657,107524,102253,662,1205,1213,2191,53874,13378,14371,6838,4792,1878,912,916,2093,5464,3232]
["Local Authority","Copeland","Copeland","E07000029",70603,3695,3567,3870,4202,3826,3978,3709,4183,5215,5775,5342,4660,5227,4018,3425,2625,1789,1019,478,711,738,771,1650,35476,1942,1825,1974,2285,1951,2103,1865,2019,2597,2921,2743,2401,2714,2044,1656,1197,764,348,127,0,0,0,0,35127,1753,1742,1896,1917,1875,1875,1844,2164,2618,2854,2599,2259,2513,1974,1769,1428,1025,671,351,0,0,0,0,70603,68145,1915,543,30536,9308,4583,9790,0,31,1379,1793,1975,1181,5,491,21026,12935,1267,977,1763,1121,1256,632,568,417,90,13713,68427,67672,317,302,123,13,69312,69286,66023,17543,27947,20533,2910,2063,492,355,353,26,69312,51324,22330,28994,163,11603,4863,6740,5480,4720,112,537,111,742,30536,9308,11198,4640,3768,1236,305,61,20,30536,49,348,1317,5323,9613,6675,3238,1972,2001,30536,18035,7798,3623,885,195,30536,61,1189,7952,15809,4214,1311,30536,12934,11962,4980,577,83,30536,868,24348,1768,1327,593,223,1409,58613,15800,21462,6638,16859,11900,7163,6726,8749,6044,3649,6562,11827,792,52702,1339,20,529,1560,170,277,21687,3146,572,3401,190,19811,70603,68577,277,260,360,1129,32891,5237,5027,5646,8610,1294,401,1109,1001,2782,1784]
["Local Authority","Eden","Eden","E07000030",52564,2383,2599,2947,2975,2442,2323,2355,2888,3973,4194,3869,3744,4343,3480,2808,2143,1660,978,460,536,583,588,1240,26033,1245,1353,1524,1551,1350,1176,1157,1417,1919,2111,1912,1823,2198,1763,1379,1019,672,342,122,0,0,0,0,26531,1138,1246,1423,1424,1092,1147,1198,1471,2054,2083,1957,1921,2145,1717,1429,1124,988,636,338,0,0,0,0,52564,49993,2033,538,23043,6958,3560,8010,2,29,850,1366,1071,713,37,447,15762,10225,713,577,1144,756,1008,568,385,339,47,9723,51149,50377,321,312,120,19,51613,51606,48202,21104,16291,10807,3183,2129,627,427,221,7,51613,37304,19964,17340,472,4612,621,3991,8052,7024,244,654,130,1173,23043,6958,9028,3122,2806,861,208,36,24,23043,88,378,1137,3617,5078,4670,3300,2314,2461,23043,15065,4775,2389,652,162,23043,27,1342,5676,10216,4345,1437,23043,10808,8215,3658,323,39,23043,952,9390,2340,6221,1332,273,2535,43976,9968,15577,3496,16998,6937,2863,8152,5335,6936,2154,7451,9311,848,38735,3341,22,222,587,77,90,16664,1363,345,4533,217,11274,52564,50767,235,281,353,928,27461,5512,2043,2816,3838,2133,1156,770,1071,5771,2351]
["Local Authority","South Lakeland","South Lakeland","E07000031",103658,4466,4729,5438,5798,4272,4571,4758,5535,7436,7913,7604,7227,8790,7387,5788,4639,3778,2295,1234,932,1070,1047,2389,50522,2337,2413,2821,3104,2254,2259,2360,2644,3567,3845,3701,3572,4338,3642,2850,2108,1580,796,331,0,0,0,0,53136,2129,2316,2617,2694,2018,2312,2398,2891,3869,4068,3903,3655,4452,3745,2938,2531,2198,1499,903,0,0,0,0,103658,97502,4355,1801,46552,15091,6543,16150,7,56,1568,2936,2040,1308,18,835,30954,20674,1370,1050,2147,1532,1811,1020,615,617,118,17820,101034,98839,1004,905,263,23,100514,100462,90535,32975,32589,24971,9728,6139,2298,1291,199,52,100514,74889,39014,35875,471,9703,6419,3284,13829,12119,407,1102,201,1622,46552,15091,18509,5964,5028,1496,370,68,26,46552,125,923,3075,8200,11023,9644,5891,3670,4001,46552,28838,10217,5664,1539,294,46552,87,3409,13012,19870,7493,2681,46552,20801,16892,8136,649,74,46552,1838,32033,4090,4151,901,388,3151,87777,16583,31347,6695,36786,13998,7606,19120,11384,17355,4985,18272,18179,2441,75831,4955,39,753,957,189,278,30695,2628,1388,9348,442,24159,103658,98649,774,974,966,2295,51672,11590,5730,5108,8186,3062,1493,958,2183,9125,4237]
["Local Authority","Amber Valley","Amber Valley","E07000032",122309,6404,6387,7202,7305,6233,6439,6549,8080,9660,9622,8512,7958,9179,7219,5277,4158,3074,1981,1070,1282,1511,1434,2975,60192,3215,3336,3618,3720,3209,3125,3176,4013,4801,4819,4268,3972,4597,3585,2594,1912,1268,710,254,0,0,0,0,62117,3189,3051,3584,3585,3024,3314,3373,4067,4859,4803,4244,3986,4582,3634,2683,2246,1806,1271,816,0,0,0,0,122309,118403,3090,816,52596,14658,8303,16660,11,78,2587,4176,3307,1920,0,896,37437,23045,2137,1626,3029,1981,2359,1283,988,843,146,24842,118478,117117,570,501,235,55,121167,121159,116387,46204,46581,23602,4637,3347,587,703,135,8,121167,91692,39206,52486,414,14668,6330,8338,13247,12030,94,927,196,1146,52596,14658,20280,8233,6802,1923,546,113,41,52596,47,463,3051,9388,15043,12093,5747,3468,3296,52596,31104,12825,6970,1431,266,52596,67,3261,16182,23950,7293,1843,52596,19805,20816,10752,1100,123,52596,1169,44290,2696,953,896,291,2301,100841,27220,35194,9741,31473,18327,8896,14641,13651,12768,5296,13489,19745,1364,90558,3024,71,696,2412,193,584,42174,3419,808,5744,256,31177,122309,118664,285,569,649,2142,59381,9926,9197,10471,13412,3083,752,832,1737,5697,4274]
["Local Authority","Bolsover","Bolsover","E07000033",75866,4275,4003,4379,4738,4267,4564,4129,4909,6126,5876,5173,4611,5032,4354,3183,2601,1904,1136,606,801,863,887,1828,37388,2185,2024,2192,2449,2173,2206,2079,2387,3049,2955,2631,2365,2509,2140,1570,1165,766,381,162,0,0,0,0,38478,2090,1979,2187,2289,2094,2358,2050,2522,3077,2921,2542,2246,2523,2214,1613,1436,1138,755,444,0,0,0,0,75866,73880,1572,414,32801,9521,4843,9950,7,37,1888,2440,2361,1218,5,531,23012,13783,1456,1135,2027,1250,1318,775,674,520,74,15750,73342,72169,354,357,355,107,75251,75249,72472,22668,33607,16197,2717,2107,253,357,60,2,75251,51773,20827,30946,171,12476,10256,2220,9992,9075,62,771,84,839,32801,9521,12197,5337,4021,1280,345,63,37,32801,28,300,1348,6628,10966,7700,3003,1540,1288,32801,18164,9358,4181,893,205,32801,63,1323,10760,16574,3387,694,32801,11568,13999,6418,721,95,32801,320,27888,760,449,2006,335,1043,62192,20455,21104,6913,14343,11978,4170,5243,8032,4342,2596,5899,11525,910,55945,1355,61,258,1639,121,295,24888,2446,281,3003,164,21434,75866,73574,285,433,509,1065,34511,4941,4298,6957,7472,2733,888,598,1294,2855,2475]
["Local Authority","Chesterfield","Chesterfield","E07000034",103788,5778,5071,6041,6477,5784,6071,5919,6765,7862,8113,7207,6453,6956,5652,4453,3565,2843,1918,860,1112,1179,1233,2517,50900,2916,2610,3101,3336,2842,3116,2890,3311,3887,4064,3640,3272,3429,2752,2100,1610,1135,667,222,0,0,0,0,52888,2862,2461,2940,3141,2942,2955,3029,3454,3975,4049,3567,3181,3527,2900,2353,1955,1708,1251,638,0,0,0,0,103788,100528,2659,601,46796,15412,6406,13132,5,48,2342,3387,3507,1690,3,864,30762,18394,1972,1395,2707,1702,1812,1087,900,663,130,21146,100281,98679,666,579,314,43,102681,102639,94483,26970,49602,17911,8009,6893,621,495,147,42,102681,67586,28505,39081,262,22573,19733,2840,11533,10433,100,835,165,727,46796,15412,16996,7097,5203,1559,396,83,50,46796,128,877,4294,10061,13519,9586,4350,2367,1614,46796,23783,12348,8458,1852,355,46796,81,5035,14927,20438,5414,901,46796,15751,17924,11949,1071,101,46796,619,41295,1878,141,846,629,1388,85595,23618,30522,9432,24171,17063,6104,10578,11519,8839,4289,10681,16489,1383,76409,1690,44,722,3839,379,373,31572,3244,526,5292,220,28508,103788,99838,286,546,796,2322,47901,9511,12080,6579,7244,1639,1266,744,1578,3755,3505]
["Local Authority","Derbyshire Dales","Derbyshire Dales","E07000035",71116,3077,3644,4208,4032,3008,2719,2822,3914,5291,5957,5357,5185,6075,4826,3680,2969,2165,1438,749,736,817,902,1753,35071,1565,1855,2188,2083,1641,1430,1423,1899,2651,2947,2713,2547,3005,2401,1771,1369,879,528,176,0,0,0,0,36045,1512,1789,2020,1949,1367,1289,1399,2015,2640,3010,2644,2638,3070,2425,1909,1600,1286,910,573,0,0,0,0,71116,67551,2566,999,30744,8899,4982,10794,4,51,1110,1960,1459,952,4,529,21521,13895,869,745,1610,998,1394,815,540,536,119,13607,69377,68658,349,241,104,25,69562,69544,65344,30304,22572,12468,4113,2770,614,729,87,18,69562,51874,26721,25153,473,7813,2914,4899,8109,7100,206,629,174,1293,30744,8899,12289,4173,3810,1218,292,37,26,30744,52,412,1997,4756,6797,6321,3954,2930,3525,30744,19899,6126,3712,841,166,30744,52,2251,7706,13073,5518,2144,30744,14045,10552,5612,469,66,30744,738,21521,1677,3446,870,293,2199,59299,12773,20331,4361,24588,9077,3865,13488,6998,12196,3306,12058,12090,975,51978,3705,48,455,787,61,213,23098,1676,367,4330,265,16973,71116,68787,196,308,355,1470,35005,5567,3426,4057,6306,3306,1271,824,1053,6390,2805]
["Local Authority","Erewash","Erewash","E07000036",112081,6527,5935,6188,7028,6714,6407,6480,7395,9001,9057,7498,6644,7211,5954,4703,3947,2757,1714,921,1124,1221,1222,2621,54934,3402,3053,3153,3552,3297,3054,3136,3659,4446,4549,3846,3310,3542,2926,2263,1760,1135,580,271,0,0,0,0,57147,3125,2882,3035,3476,3417,3353,3344,3736,4555,4508,3652,3334,3669,3028,2440,2187,1622,1134,650,0,0,0,0,112081,108656,2743,682,48692,14164,7264,14419,6,34,2584,3843,3690,1889,6,793,34076,20384,2230,1553,2964,2028,2052,1158,932,639,136,23128,108095,106600,602,553,291,49,110939,110891,105345,33713,51497,20135,5460,4181,605,674,86,48,110939,82482,31305,51177,481,13314,4371,8943,13745,12666,77,865,137,917,48692,14164,18141,8038,6139,1643,431,88,48,48692,84,548,3322,7733,15849,11504,4903,2771,1978,48692,28105,11782,7011,1484,310,48692,61,3493,13846,24211,5888,1193,48692,18189,18898,10506,983,116,48692,1543,42316,2336,195,289,397,1616,91948,23808,33734,9573,27500,17254,8506,12132,12133,10124,4282,10489,17495,1447,82609,2185,57,806,3846,158,637,36907,2917,1895,5224,219,27758,112081,108005,287,535,645,2609,54851,9771,8631,11388,11443,1756,762,854,1830,4621,3795]
["Local Authority","High Peak","High Peak","E07000037",90892,4961,4891,5487,5755,5059,4643,4635,5627,7329,7668,6758,5979,6431,4945,3697,2905,2154,1262,706,1005,1079,1157,2246,44774,2561,2469,2761,2948,2693,2303,2259,2732,3668,3799,3349,3041,3257,2406,1738,1317,856,439,178,0,0,0,0,46118,2400,2422,2726,2807,2366,2340,2376,2895,3661,3869,3409,2938,3174,2539,1959,1588,1298,823,528,0,0,0,0,90892,86815,3153,924,38946,11362,6210,11598,5,60,2008,2781,2675,1448,72,727,27038,16040,1606,1127,2352,1524,1821,976,815,646,131,19089,87942,86869,527,362,166,18,89867,89804,82610,23932,28435,30243,7060,4625,1633,802,134,63,89867,66929,26583,40346,440,10494,8216,2278,11109,9977,78,881,173,895,38946,11362,14259,6043,5215,1582,379,73,33,38946,110,687,2997,7633,9503,7635,4537,3005,2839,38946,21613,9353,6123,1546,311,38946,73,3411,11421,15786,6363,1892,38946,14660,14467,8782,932,105,38946,880,32906,1893,838,370,291,1768,74416,15520,27352,6936,28817,13182,5576,15006,10139,13322,4083,12349,15224,1278,67389,2991,60,2668,1224,163,286,28885,2181,628,6256,276,21771,90892,87633,216,484,526,2033,45618,9661,4869,5459,8712,4201,1433,1060,1130,5494,3599]
["Local Authority","North East Derbyshire","North East Derbyshire","E07000038",99023,4799,4909,5370,5956,5020,4764,4730,5907,7425,7628,7230,6712,7655,6567,5112,3893,2814,1674,858,1028,967,1124,2251,48564,2445,2435,2744,3111,2622,2368,2297,2885,3600,3806,3661,3319,3778,3179,2468,1788,1186,629,243,0,0,0,0,50459,2354,2474,2626,2845,2398,2396,2433,3022,3825,3822,3569,3393,3877,3388,2644,2105,1628,1045,615,0,0,0,0,99023,95999,2309,715,43070,12158,6559,14962,7,56,1994,2752,2463,1558,4,557,30679,19501,1551,1256,2457,1593,1865,1068,701,577,110,19016,96211,95384,394,295,107,31,98240,98238,94239,37553,44471,12215,3654,2890,276,488,345,2,98240,71766,32338,39428,330,18584,16728,1856,6833,6011,71,623,128,727,43070,12158,16643,6799,5570,1439,354,76,31,43070,39,349,2291,8307,13239,8863,4599,2804,2579,43070,24982,11201,5583,1085,219,43070,50,2422,12332,20525,6306,1435,43070,17326,16916,7963,778,87,43070,454,36934,877,845,2259,325,1376,82699,22277,28611,8123,25265,15136,6422,10961,10743,8987,4141,11206,15993,874,73460,2425,309,482,2708,125,342,34047,2822,332,3044,222,26602,99023,96602,179,296,395,1551,46858,5405,6824,10706,9438,2494,947,1010,1573,4680,3781]
["Local Authority","South Derbyshire","South Derbyshire","E07000039",94611,5724,5609,6082,5874,4873,5400,5972,6692,7842,7559,6242,5884,6231,4738,3429,2710,2016,1153,581,1108,1185,1257,2532,46963,2952,2905,3186,3073,2486,2629,2888,3309,3925,3733,3144,2891,3121,2381,1684,1235,839,418,164,0,0,0,0,47648,2772,2704,2896,2801,2387,2771,3084,3383,3917,3826,3098,2993,3110,2357,1745,1475,1177,735,417,0,0,0,0,94611,90844,2875,892,38992,10059,7252,12220,9,45,2031,3085,2544,1162,9,576,28683,16712,1851,1265,2305,1773,1988,1052,903,700,134,20993,91212,89697,708,515,242,50,93133,93131,89211,40643,33080,15488,3485,2674,412,399,435,2,93133,71998,26455,45543,262,8618,6400,2218,11377,10337,216,722,102,878,38992,10059,14598,6486,5587,1686,457,84,35,38992,74,452,1920,6400,10082,8359,4835,3477,3393,38992,24327,8707,4698,1026,234,38992,49,2022,10073,17413,7818,1617,38992,16671,14518,7088,637,78,38992,788,32061,1804,1645,902,319,1473,75910,16707,28839,7667,26031,14858,7379,11826,11271,10915,4627,10925,15564,1397,69450,2605,38,392,1333,172,486,36104,2499,769,3252,236,21564,94611,90941,285,403,639,2343,47886,5974,5630,11556,8820,2616,1958,1528,1472,5083,3249]
["Local Authority","East Devon","East Devon","E07000040",132457,5846,6014,7074,7320,5517,5201,5250,6635,8668,9191,8684,8804,10907,9857,8269,6954,5923,4043,2300,1370,1338,1415,2951,63321,3030,3119,3627,3794,2997,2662,2560,3122,4131,4367,4155,4160,5199,4735,3887,3137,2473,1495,671,0,0,0,0,69136,2816,2895,3447,3526,2520,2539,2690,3513,4537,4824,4529,4644,5708,5122,4382,3817,3450,2548,1629,0,0,0,0,132457,126301,4461,1695,59071,18269,8285,21189,3,86,1944,3465,2889,1855,8,1078,40251,26971,1691,1156,2780,1838,2338,1399,975,910,193,23786,129029,127216,925,659,191,38,129528,129401,115401,52791,36580,26030,13368,7904,3852,1612,632,127,129528,96674,50994,45680,690,12375,8432,3943,18200,15814,585,1405,396,1589,59071,18269,24150,7479,6318,2110,598,95,52,59071,153,856,3821,11167,13603,11320,7204,5030,5917,59071,36612,12925,7387,1730,417,59071,76,4499,17726,23183,10086,3501,59071,25326,21803,10878,935,129,59071,2288,39861,6357,6400,835,449,2881,112002,23597,38423,7217,43397,16090,7984,20878,11933,16899,5085,21508,22761,2661,92782,5835,84,1488,1581,165,630,37428,2873,1323,7861,640,32874,132457,125924,566,809,811,4347,59908,10754,5825,7154,12535,3723,1386,774,2187,10081,5489]
["Local Authority","Exeter","Exeter","E07000041",117773,6747,5535,5329,9396,14155,9027,8066,7333,7603,7593,6683,5890,6147,4750,3997,3427,3009,2011,1075,997,1048,1084,2200,57211,3438,2877,2717,4615,6982,4514,4101,3796,3813,3739,3311,2802,2962,2232,1790,1497,1120,657,248,0,0,0,0,60562,3309,2658,2612,4781,7173,4513,3965,3537,3790,3854,3372,3088,3185,2518,2207,1930,1889,1354,827,0,0,0,0,117773,102899,11825,3049,49242,16555,6504,11651,6,84,1992,3959,3443,1653,1408,1987,29704,17607,2231,1182,2211,1999,1784,963,1010,615,102,21092,113554,106151,3253,3239,784,127,111808,111368,90276,16215,32733,41328,20553,15659,3853,1041,539,440,111808,65868,26762,39106,1039,18398,10650,7748,25469,23795,232,1243,199,1034,49242,16555,16572,7042,5922,2089,763,191,108,49242,496,1950,5969,9851,11781,9470,4930,2540,2255,49242,22309,11785,10593,3623,932,49242,118,7608,13578,19108,6243,2587,49242,15865,16664,14996,1523,194,49242,2619,38883,5794,180,60,452,1254,99066,18156,36668,7888,41478,13711,5203,27530,9717,19446,3527,14731,17110,6357,89544,2622,55,1135,5264,211,706,27152,3049,3622,13065,258,32405,117773,104759,3452,2767,2383,4412,57139,17493,18513,4858,2629,1770,523,984,1546,4825,3998]
["Local Authority","Mid Devon","Mid Devon","E07000042",77750,4498,4243,4713,4656,3675,3888,3710,4487,5651,5954,5436,5143,5831,4797,3715,2880,2283,1430,760,866,944,935,1968,38070,2307,2220,2417,2408,1832,1994,1737,2188,2732,2857,2667,2532,2901,2408,1801,1338,981,524,226,0,0,0,0,39680,2191,2023,2296,2248,1843,1894,1973,2299,2919,3097,2769,2611,2930,2389,1914,1542,1302,906,534,0,0,0,0,77750,74742,2191,817,32758,8995,5534,10960,3,43,1459,2308,1879,982,6,589,23520,14540,1278,807,1557,1389,1522,926,760,624,117,16448,75093,73614,524,554,331,70,76866,76841,71807,31507,22664,17636,4711,3102,959,650,323,25,76866,53877,24183,29694,740,9235,6247,2988,11853,10717,275,733,128,1161,32758,8995,12585,4895,4212,1509,409,101,52,32758,99,579,2111,5644,7556,5984,3930,3038,3817,32758,19918,6865,4527,1208,240,32758,51,2577,8388,13061,6308,2373,32758,14296,11040,6743,603,76,32758,1826,17544,3721,5981,988,386,2312,63200,14323,22637,5003,23615,10178,4235,11348,7469,9313,2743,10467,12869,1559,55847,4082,39,370,1125,64,371,24711,1970,716,4790,270,17339,77750,73931,463,615,595,2146,38508,6751,2451,4153,7665,4264,886,817,1222,6773,3526]
["Local Authority","North Devon","North Devon","E07000043",93667,5014,4801,5286,5575,4821,4565,4641,5122,6429,6886,6429,6051,7239,6155,4782,3867,2989,1911,1104,963,1027,1041,2255,45558,2526,2458,2692,2953,2569,2252,2353,2435,3096,3376,3132,2913,3528,2976,2260,1816,1248,675,300,0,0,0,0,48109,2488,2343,2594,2622,2252,2313,2288,2687,3333,3510,3297,3138,3711,3179,2522,2051,1741,1236,804,0,0,0,0,93667,89930,2757,980,40001,11846,5971,13175,6,38,1777,2604,2493,1357,4,730,27919,17515,1551,988,2028,1471,1624,1034,881,684,143,18656,90661,89164,678,564,217,38,91592,91437,81539,36983,22156,22400,9310,5408,2587,1315,588,155,91592,63568,30280,33288,609,9334,2377,6957,16843,14418,726,1194,505,1238,40001,11846,15343,5620,4746,1710,574,108,54,40001,183,811,3391,6892,9545,7731,4689,3069,3690,40001,23123,8670,6266,1571,371,40001,67,3880,10560,16286,6393,2815,40001,16362,13982,8845,736,76,40001,2098,25571,4333,4594,662,338,2405,77378,18613,28310,7047,25196,13949,6233,10949,9957,8879,3298,11193,15509,1690,67507,4375,38,204,1527,150,437,25429,2264,1579,8389,362,22753,93667,89481,465,557,716,2448,44754,11194,6119,5450,6400,1364,429,651,1599,7582,3966]
["Local Authority","South Hams","South Hams","E07000044",83140,3677,3957,4602,4692,3648,3424,3245,3997,5535,6553,6346,6231,7479,6034,4469,3688,2774,1828,961,874,870,931,1927,40116,1919,2019,2376,2444,2034,1717,1557,1903,2550,3084,2985,3000,3564,2935,2183,1701,1197,667,281,0,0,0,0,43024,1758,1938,2226,2248,1614,1707,1688,2094,2985,3469,3361,3231,3915,3099,2286,1987,1577,1161,680,0,0,0,0,83140,78129,3471,1540,36858,11242,5519,12795,5,47,1230,2355,1932,1089,6,638,25302,16512,1073,869,1943,1153,1544,929,588,576,115,15479,81003,79918,628,341,99,17,81805,81784,74825,34426,23452,16947,6551,3758,1913,880,408,21,81805,59486,29947,29539,946,8793,1383,7410,11590,10202,266,927,195,990,36858,11242,14754,4887,4147,1331,387,74,36,36858,107,612,2796,6451,8530,6830,4606,3252,3674,36858,22486,7725,5152,1237,258,36858,40,3056,9577,14441,7135,2609,36858,16818,12456,6955,558,71,36858,1852,20201,5221,6129,636,411,2408,69868,12047,24748,4515,31005,10289,5540,16204,8005,14109,3540,15132,15137,1835,60617,4701,68,585,899,101,457,24907,1744,533,5475,529,20618,83140,78662,366,454,554,3104,39999,6671,3500,5214,6806,2342,1291,811,1397,7824,4143]
["Local Authority","Teignbridge","Teignbridge","E07000045",124220,5984,6041,6966,7157,5694,5432,5617,6646,8694,9713,8671,8609,9980,8397,6352,5357,4302,2997,1611,1313,1374,1376,2903,60179,3133,3081,3689,3725,2992,2764,2764,3144,4152,4727,4164,4138,4849,4073,3034,2475,1738,1082,455,0,0,0,0,64041,2851,2960,3277,3432,2702,2668,2853,3502,4542,4986,4507,4471,5131,4324,3318,2882,2564,1915,1156,0,0,0,0,124220,119302,3490,1428,54003,16222,7957,18032,7,89,2202,3673,3153,1736,9,923,37413,23915,1957,1369,2778,1822,2328,1280,938,851,175,23653,120740,118992,784,655,240,69,121337,121181,107903,47693,31636,28574,11556,6746,3639,1171,1722,156,121337,90166,41098,49068,1098,10712,2743,7969,18264,16411,275,1404,174,1097,54003,16222,21121,7600,6300,1982,593,120,65,54003,138,1234,4268,10608,12783,10008,6181,4157,4626,54003,30869,12453,8093,2189,399,54003,68,4943,16243,20400,9381,2968,54003,21355,20104,11493,945,106,54003,2720,37448,5716,4325,694,491,2609,103738,22353,37108,7888,38437,16355,7963,18748,12100,15407,4954,18657,21846,2446,89471,4888,52,1348,1601,126,646,39108,3076,987,6768,362,30509,124220,118429,536,615,759,3881,58962,9495,7410,9562,10889,4185,1029,986,1630,8611,5165]
["Local Authority","Torridge","Torridge","E07000046",63839,3157,3091,3493,3631,3025,2634,2891,3318,4294,4681,4508,4579,5559,4687,3480,2819,2032,1306,654,647,660,685,1501,31167,1618,1590,1831,1882,1517,1331,1410,1580,2096,2347,2113,2196,2712,2314,1743,1346,898,481,162,0,0,0,0,32672,1539,1501,1662,1749,1508,1303,1481,1738,2198,2334,2395,2383,2847,2373,1737,1473,1134,825,492,0,0,0,0,63839,61356,1831,652,27986,8402,3909,9844,5,40,1150,1782,1555,817,5,477,19446,12701,972,682,1381,905,1081,658,566,412,88,11991,61942,61293,277,254,95,23,62887,62844,58372,28535,14529,15308,4218,2606,1013,599,254,43,62887,45442,23216,22226,483,5757,1284,4473,10214,9098,185,854,77,991,27986,8402,11156,3746,3119,1099,344,81,39,27986,71,483,1607,4968,6731,5646,3452,2311,2717,27986,17270,6194,3484,891,147,27986,32,1870,7948,11741,4547,1848,27986,12177,10186,5139,437,47,27986,1796,13557,3514,6098,754,275,1992,53321,13550,18901,4554,16639,9663,4438,6795,6745,5451,2232,7449,11055,862,46510,3493,18,103,859,76,267,18248,1516,374,4210,238,17108,63839,61648,206,252,263,1470,29402,5202,3304,2663,5612,1646,543,610,1000,5830,2992]
["Local Authority","West Devon","West Devon","E07000047",53553,2556,2650,3055,2981,2394,2244,2356,2788,3594,4311,3932,3815,4487,3835,2844,2238,1704,1119,650,542,598,621,1294,26123,1280,1393,1558,1577,1257,1132,1172,1330,1773,2097,1924,1824,2148,1928,1409,1070,696,383,172,0,0,0,0,27430,1276,1257,1497,1404,1137,1112,1184,1458,1821,2214,2008,1991,2339,1907,1435,1168,1008,736,478,0,0,0,0,53553,50962,1854,737,22725,6414,3533,8199,2,29,850,1514,1121,697,1,365,16208,10606,692,524,1182,767,927,572,465,401,72,10123,52067,51361,333,261,95,17,51914,51891,48465,23815,13843,10807,3177,1898,756,523,249,23,51914,38396,19613,18783,340,4895,1326,3569,7538,6696,166,561,115,745,22725,6414,9260,3044,2709,949,260,56,33,22725,49,314,1527,3712,4982,4188,2857,2237,2859,22725,14517,4437,2984,665,122,22725,19,1693,5936,8749,4465,1863,22725,10550,7497,4301,342,35,22725,1271,11495,2257,4960,658,245,1839,44652,9077,15824,3209,17908,6924,3215,8992,5028,7675,2091,8504,9814,1026,38941,3218,32,172,566,91,192,15717,1142,282,3589,240,13700,53553,51007,229,332,307,1678,25241,4254,1332,2971,4240,1672,1333,909,856,5245,2429]
["Local Authority","Christchurch","Christchurch","E07000048",47752,2143,2214,2562,2512,2063,1882,2016,2392,3066,3284,2935,2775,3721,3514,3029,2802,2348,1620,874,485,505,521,1051,22874,1106,1165,1386,1296,1105,910,1004,1166,1457,1650,1403,1304,1715,1649,1390,1288,960,635,285,0,0,0,0,24878,1037,1049,1176,1216,958,972,1012,1226,1609,1634,1532,1471,2006,1865,1639,1514,1388,985,589,0,0,0,0,47752,45977,1176,599,21475,6856,2928,7414,2,31,756,1280,1054,751,3,400,14412,9607,640,447,947,719,854,471,330,340,57,8585,46503,45710,407,300,78,8,47298,47290,39722,20529,10348,8845,7397,5856,975,566,171,8,47298,35131,17522,17609,440,5836,445,5391,5498,5004,59,404,31,393,21475,6856,8396,2703,2414,830,220,42,14,21475,88,640,1791,4381,5595,4530,2321,1254,875,21475,11618,5163,3375,1122,197,21475,78,2262,6979,8649,2906,601,21475,7613,8279,4977,560,46,21475,413,17839,2333,74,53,132,631,40289,9421,13230,2435,13970,5914,3625,6015,4445,4822,1822,6612,7438,1083,32645,1364,21,444,743,58,243,13641,953,1000,1716,118,12344,47752,45048,208,288,366,1842,20301,3336,3788,3538,3031,493,620,358,680,2530,1927]
["Local Authority","East Dorset","East Dorset","E07000049",87166,3737,4092,4702,4801,3632,3013,3201,4249,5705,6481,6083,5796,7355,6300,5509,4811,3866,2526,1307,883,882,959,1978,41990,1932,2096,2454,2432,1985,1492,1557,2026,2730,3128,2938,2779,3461,3009,2603,2250,1700,1006,412,0,0,0,0,45176,1805,1996,2248,2369,1647,1521,1644,2223,2975,3353,3145,3017,3894,3291,2906,2561,2166,1520,895,0,0,0,0,87166,84000,2063,1103,37564,9820,5983,15190,7,44,1117,1982,1677,1200,0,544,27567,18661,1051,847,1909,1214,1587,1009,614,566,109,15798,85014,84125,526,267,81,15,86193,86178,77677,54142,14881,8654,7108,5926,632,550,1393,15,86193,69308,33687,35621,220,7234,685,6549,8480,7418,301,496,265,951,37564,9820,15987,5193,4648,1420,395,65,36,37564,89,463,1803,6589,8921,7067,4950,3629,4053,37564,24248,7984,4110,1017,205,37564,58,2117,10242,14971,7888,2288,37564,17448,13387,6035,623,71,37564,627,30012,2737,2070,374,263,1481,73557,15830,25177,4313,27831,10297,6982,12649,8267,9778,3846,13252,14784,1561,61047,3431,55,257,650,60,442,29966,1722,982,2218,267,20997,87166,82897,224,344,496,3205,40050,4173,4873,8607,7481,1468,1244,1061,1521,5926,3696]
["Local Authority","North Dorset","North Dorset","E07000050",68583,3647,3571,4204,4509,3402,3197,3387,4037,4685,4993,4627,4379,5146,4238,3471,2745,2195,1389,761,740,797,854,1813,34216,1891,1854,2186,2504,1974,1597,1792,1957,2363,2489,2291,2142,2451,2053,1691,1284,961,502,234,0,0,0,0,34367,1756,1717,2018,2005,1428,1600,1595,2080,2322,2504,2336,2237,2695,2185,1780,1461,1234,887,527,0,0,0,0,68583,63682,3725,1176,28670,8095,4726,10156,1,45,1053,1905,1417,794,3,475,20315,13052,1017,686,1385,1156,1156,658,631,493,81,13135,66426,64793,658,683,252,40,65572,65546,60640,27345,20271,13024,4584,3384,700,500,322,26,65572,45459,21344,24115,550,8878,644,8234,9675,7330,1201,549,595,1010,28670,8095,11492,4020,3485,1129,342,78,29,28670,76,549,1959,4711,6473,5481,3600,2647,3174,28670,17780,5768,3836,1052,234,28670,57,2334,7601,11535,5382,1761,28670,12594,9750,5699,557,70,28670,709,17451,2933,5174,395,235,1773,56230,11219,20607,4384,21763,8920,4190,10460,6496,8044,2712,9243,11855,1691,49140,2832,65,435,370,67,243,21916,1504,713,5047,240,15708,68583,63887,481,675,911,2629,33432,6846,2380,3631,5215,3085,1622,770,1258,5280,3345]
["Local Authority","Purbeck","Purbeck","E07000051",44973,2114,2214,2428,2534,2165,1998,1991,2370,3024,3285,3197,2983,3723,3231,2417,2146,1621,1038,494,422,470,519,1017,22028,1046,1158,1235,1399,1180,981,1002,1195,1465,1609,1551,1429,1766,1598,1167,988,714,400,145,0,0,0,0,22945,1068,1056,1193,1135,985,1017,989,1175,1559,1676,1646,1554,1957,1633,1250,1158,907,638,349,0,0,0,0,44973,42745,1599,629,19583,5699,2862,6984,1,21,730,1193,1026,723,0,344,13724,9045,572,443,991,687,775,478,382,302,49,8386,43749,43167,308,213,48,13,44334,44310,39017,17747,12324,8946,4751,3240,941,570,542,24,44334,30181,15368,14813,443,5682,1153,4529,7333,5588,907,382,456,695,19583,5699,7825,2699,2296,775,227,39,23,19583,43,327,1356,3882,5023,3903,2275,1387,1387,19583,11106,4724,2858,748,147,19583,27,1518,5801,8295,3006,936,19583,7790,7298,4012,434,49,19583,563,14665,1590,1288,279,129,1069,37678,8122,13716,2921,13380,6170,3303,6147,4539,4868,1845,6210,8026,879,32379,1690,33,419,390,42,285,13900,1036,634,2808,182,10960,44973,42541,181,268,346,1637,21419,3714,2632,3004,4138,1257,376,307,858,3125,2008]
["Local Authority","West Dorset","West Dorset","E07000052",99264,4343,4515,5579,5871,4300,3607,3876,4932,6400,7371,6898,6951,8343,7328,5773,5069,3958,2620,1530,966,1098,1090,2425,47731,2220,2346,2823,3029,2346,1782,1926,2418,3039,3544,3293,3296,4005,3487,2754,2331,1706,976,410,0,0,0,0,51533,2123,2169,2756,2842,1954,1825,1950,2514,3361,3827,3605,3655,4338,3841,3019,2738,2252,1644,1120,0,0,0,0,99264,93187,4330,1747,44386,14161,6064,15719,9,61,1605,2577,2127,1273,5,785,29761,19848,1244,945,2127,1352,1662,1030,772,674,107,17675,96731,95300,757,506,137,31,96596,96562,85953,37578,26149,22226,9912,7384,1626,902,697,34,96596,66936,36098,30838,858,13542,785,12757,13389,11827,532,825,205,1871,44386,14161,17794,5733,4585,1563,437,77,36,44386,124,647,3625,7674,10129,8437,5455,3869,4426,44386,27059,9202,6415,1440,270,44386,59,4013,11930,18256,7514,2614,44386,19707,14875,8955,776,73,44386,1623,25908,5463,7376,749,353,2914,83536,16801,29141,5628,34028,12591,6715,16815,9547,13943,4036,16573,17290,2123,70359,4607,96,571,771,139,421,27781,2041,1130,7780,377,24645,99264,93703,584,540,710,3727,45714,10162,4213,5430,5814,3530,1691,870,1738,8174,4092]
["Local Authority","Weymouth and Portland","Weymouth and Portland","E07000053",65167,3349,3237,3548,3895,3888,3394,3363,3669,4561,4848,4589,4295,4916,4056,3124,2541,1990,1242,662,632,666,750,1500,32432,1666,1675,1744,2086,2114,1768,1740,1886,2322,2499,2209,2125,2408,2008,1538,1143,865,446,190,0,0,0,0,32735,1683,1562,1804,1809,1774,1626,1623,1783,2239,2349,2380,2170,2508,2048,1586,1398,1125,796,472,0,0,0,0,65167,62445,2046,676,28535,9138,3610,8728,4,19,1361,1889,2091,1002,6,687,18984,11800,1091,793,1546,977,1071,592,602,428,84,12558,63144,61808,526,513,239,58,63373,63333,52340,15682,16159,20499,10945,7661,2377,907,48,40,63373,42571,19031,23540,350,8853,3029,5824,11051,10106,92,704,149,548,28535,9138,10699,4076,3089,1084,355,64,30,28535,128,762,2925,5824,6704,5915,3248,1703,1326,28535,14638,6692,5367,1515,323,28535,64,3443,8551,11694,3780,1003,28535,10105,9943,7593,801,93,28535,1123,23435,2661,139,73,228,876,54306,12236,20564,5605,16848,11101,5446,6655,7982,5418,2928,7517,11760,1262,47871,1488,25,382,2105,121,497,17765,1720,1017,4557,310,17884,65167,61672,347,503,532,2113,29987,6853,5843,4559,3709,653,923,724,1140,2987,2596]
["Local Authority","Eastbourne","Eastbourne","E07000061",99412,5327,4867,5380,6251,6093,6063,5712,5924,6559,6742,6008,5544,6639,5350,4735,4223,3797,2586,1612,1004,978,1091,2307,47559,2839,2467,2746,3207,3075,3026,2763,2865,3247,3265,2913,2612,3171,2551,2145,1844,1497,886,440,0,0,0,0,51853,2488,2400,2634,3044,3018,3037,2949,3059,3312,3477,3095,2932,3468,2799,2590,2379,2300,1700,1172,0,0,0,0,99412,93909,3831,1672,45012,16298,5559,11356,12,104,1866,3087,3390,1550,263,1527,27290,16314,1794,1235,2298,1538,1538,879,895,672,127,19112,96172,90223,2690,2348,776,135,96968,96404,70513,17986,24727,27800,25837,18328,6284,1225,54,564,96968,59900,26288,33612,656,12705,7306,5399,22885,21327,343,1007,208,822,45012,16298,15808,5959,4579,1634,552,121,61,45012,677,1928,6109,10692,10594,7419,3784,2093,1716,45012,18841,11728,9891,3389,1163,45012,194,7608,15041,15881,4816,1472,45012,12727,16476,13912,1731,166,45012,1314,36163,5539,145,67,496,1288,82691,19215,27736,6187,27059,12702,4824,12666,9207,10577,3013,12888,14026,4974,70473,2240,76,2690,2467,298,283,25658,2518,1334,6605,280,26024,99412,87494,1209,1842,2553,6314,44449,10878,12587,2411,2825,2890,1335,984,2111,4417,4011]
["Local Authority","Hastings","Hastings","E07000062",90254,5570,4772,5317,5759,5769,5621,5217,5732,6728,6772,6109,5395,6092,4525,3424,2824,2212,1515,901,990,1022,1057,2248,44014,2848,2457,2706,2854,2784,2768,2638,2961,3366,3369,2922,2559,2979,2301,1629,1291,880,492,210,0,0,0,0,46240,2722,2315,2611,2905,2985,2853,2579,2771,3362,3403,3187,2836,3113,2224,1795,1533,1332,1023,691,0,0,0,0,90254,86831,2504,919,41159,15781,4849,8950,9,80,2079,3029,3701,1510,56,1115,24597,13781,1905,1226,2180,1461,1428,814,998,680,124,19306,86858,83216,1539,1479,552,72,88562,88096,63802,18606,21541,23655,24130,13129,9718,1283,164,466,88562,50979,19714,31265,411,12860,1732,11128,23577,22234,179,978,186,735,41159,15781,13369,5696,3890,1502,687,156,78,41159,400,1707,6390,9523,9661,6364,3387,2025,1702,41159,16729,10392,10196,3040,802,41159,113,7862,13094,13749,4789,1552,41159,11359,14359,13901,1380,160,41159,1871,32537,4866,57,72,495,1261,73488,18649,25580,6478,21168,12344,3785,9234,8592,8040,2802,9390,12905,3204,66036,2380,72,2510,2327,358,392,22613,2672,596,6452,299,25365,90254,82413,713,1112,1794,4222,40671,9764,10893,3426,1709,1843,1030,1103,2181,4386,4336]
["Local Authority","Lewes","Lewes","E07000063",97502,5052,5229,5551,5579,4679,4596,4534,5478,6895,7498,6652,6391,7214,5981,4908,4271,3460,2232,1302,1083,1094,1090,2284,47363,2683,2732,2910,2919,2444,2415,2179,2545,3298,3733,3295,3066,3521,2829,2221,1966,1428,804,375,0,0,0,0,50139,2369,2497,2641,2660,2235,2181,2355,2933,3597,3765,3357,3325,3693,3152,2687,2305,2032,1428,927,0,0,0,0,97502,93383,2749,1370,42181,12744,6367,12972,20,156,1849,2768,2721,1557,19,1008,28786,17701,1539,1225,2244,1565,1874,997,867,665,109,19432,94522,92056,1372,814,237,43,95880,95803,83156,35889,27928,19339,12266,9126,2154,986,381,77,95880,70330,31217,39113,693,9899,7090,2809,13981,12716,179,931,155,977,42181,12744,15853,6074,5165,1723,482,106,34,42181,215,964,3824,8269,10963,7784,4353,2757,3052,42181,22543,9917,7250,2009,462,42181,104,4566,12528,16169,6648,2166,42181,15400,15326,10218,1126,111,42181,961,32488,3944,2564,199,378,1647,80534,17276,27885,5420,30287,11243,4799,16093,8544,14247,3165,14021,15062,3104,69269,3641,77,3632,3582,168,346,26073,1897,819,5027,270,23737,97502,90238,568,835,1124,4737,45532,7454,3856,5810,10068,2448,1053,1168,2880,6310,4485]
["Local Authority","Rother","Rother","E07000064",90588,3999,4096,5119,5038,3632,3377,3184,4110,5732,6545,6014,6017,7962,6696,5569,4839,4035,2836,1788,894,970,1056,2199,43021,1999,2126,2605,2648,1881,1697,1483,1935,2804,3168,2878,2879,3744,3201,2601,2194,1648,1039,491,0,0,0,0,47567,2000,1970,2514,2390,1751,1680,1701,2175,2928,3377,3136,3138,4218,3495,2968,2645,2387,1797,1297,0,0,0,0,90588,86324,2793,1471,40877,13889,5077,13738,8,102,1420,2395,2299,1281,1,667,26731,17766,1160,896,1984,1127,1367,902,803,620,106,16318,88240,86598,902,561,149,30,88149,88070,74167,39400,22184,12583,13637,8266,4099,1272,266,79,88149,64942,33288,31654,475,9195,1647,7548,12460,11323,240,762,135,1077,40877,13889,15959,5065,3768,1396,610,137,53,40877,196,795,3363,8538,9155,7352,4495,3078,3905,40877,23353,9598,5956,1562,408,40877,93,4137,13315,14554,6257,2521,40877,15924,15178,8756,892,127,40877,1147,28674,4588,3767,385,307,2009,76359,18858,24651,4483,26172,10153,4808,11978,7772,9668,3014,12687,13796,2343,62861,3593,110,2679,561,106,284,23694,1760,496,4054,246,25278,90588,84823,465,562,759,3979,37583,5760,3699,5358,5364,1850,1174,1106,2621,6336,4315]
["Local Authority","Wealden","Wealden","E07000065",148915,7508,8100,9023,8808,6306,6161,6132,8046,10780,11842,10606,9846,11615,9944,7634,6450,5020,3180,1914,1659,1772,1891,3701,71807,3954,4117,4575,4506,3224,3232,2860,3763,5108,5798,5227,4752,5530,4774,3597,3011,2115,1144,520,0,0,0,0,77108,3554,3983,4448,4302,3082,2929,3272,4283,5672,6044,5379,5094,6085,5170,4037,3439,2905,2036,1394,0,0,0,0,148915,142021,4360,2534,62676,17279,10909,21721,9,119,2337,3713,3418,2024,6,1141,44801,27964,2047,1626,3393,2409,2974,1700,1313,1132,243,30366,144649,141780,1547,984,306,32,146039,145965,133840,69482,45786,18572,10981,7968,1772,1241,1144,74,146039,115903,50326,65577,1116,10875,6268,4607,16154,14464,269,1225,196,1991,62676,17279,24503,8934,8222,2708,818,142,70,62676,133,924,3925,10382,14150,11163,7686,6041,8272,62676,39698,12781,7801,1977,419,62676,94,4783,17670,22213,12647,5269,62676,26916,22293,12051,1259,157,62676,1248,43075,5164,8588,649,584,3368,122443,24347,42566,7135,49442,16662,7858,24207,12787,18877,5156,22297,23095,4078,105879,6942,151,4981,1407,163,426,46973,3114,718,5760,449,34795,148915,138856,873,1075,1415,6696,71084,8830,5950,8584,12760,5880,2480,3927,3156,11746,7771]
["Local Authority","Basildon","Basildon","E07000066",174497,11405,10665,10891,11038,10089,10936,11562,11923,13215,13085,11571,9732,10497,7892,6593,5713,4155,2375,1160,2058,2142,2233,4458,84645,5892,5441,5537,5658,5103,5174,5613,5816,6510,6397,5701,4649,5121,3743,2950,2520,1686,817,317,0,0,0,0,89852,5513,5224,5354,5380,4986,5762,5949,6107,6705,6688,5870,5083,5376,4149,3643,3193,2469,1558,843,0,0,0,0,174497,170116,3065,1316,72746,21480,12346,20056,3,43,3573,4605,6140,3055,5,1440,50537,28160,3509,2141,4266,3488,3583,1845,1957,1348,240,40168,167632,163006,2493,1552,466,115,173372,173357,153599,42842,46130,64627,18866,17680,791,395,892,15,173372,117633,41017,76616,1482,35999,22032,13967,17221,15896,167,978,180,1037,72746,21480,24094,11812,10564,3461,969,235,131,72746,247,1841,7625,13311,20706,13672,7339,4354,3651,72746,35689,17360,14502,4260,935,72746,221,8679,18127,30446,12971,2302,72746,25590,24750,19528,2534,344,72746,859,62593,5731,238,154,1082,2089,139198,37084,51235,12630,38832,21902,8824,15666,13906,13116,4835,15242,22007,4673,125795,2997,580,13737,2806,728,598,47782,4621,1441,7279,437,42789,174497,161938,1206,1642,2986,6725,83006,12783,13413,10340,10708,4744,8985,5686,1358,6482,8507]
["Local Authority","Braintree","Braintree","E07000067",147084,9467,8729,8943,8669,7957,8373,8725,10042,11720,11358,9673,9048,9967,7418,5615,4376,3496,2258,1250,1738,1744,1804,3657,72137,4834,4513,4591,4459,3990,4139,4189,4946,5793,5627,4761,4466,4798,3671,2739,2034,1453,820,314,0,0,0,0,74947,4633,4216,4352,4210,3967,4234,4536,5096,5927,5731,4912,4582,5169,3747,2876,2342,2043,1438,936,0,0,0,0,147084,142392,3373,1319,61043,16537,11168,18501,14,74,2978,4293,4276,2095,9,1098,43890,25295,2958,1833,3343,2963,2997,1656,1440,1190,215,32997,141363,137792,1435,1393,626,117,145463,145406,132706,45492,51200,36014,12430,10666,1078,686,270,57,145463,102306,35979,66327,772,22998,5372,17626,18173,16499,373,1050,251,1214,61043,16537,22087,9914,8726,2875,697,133,74,61043,187,996,4666,11418,14630,11913,6739,4979,5515,61043,34382,13917,9806,2387,551,61043,134,5107,16621,25019,10738,3424,61043,23698,21836,13877,1444,188,61043,1140,42071,6774,7601,419,474,2564,118098,26958,44614,9796,39393,19462,7928,17021,13365,13355,4909,15753,22132,3661,106718,4417,211,6295,1653,262,460,48490,3654,1101,7256,401,32518,147084,138383,809,1369,1625,4898,74200,11685,7010,6818,13239,6779,2893,5117,4856,8511,7292]
["Local Authority","Brentwood","Brentwood","E07000068",73601,3926,4057,4585,4495,3648,3819,4229,4784,5602,6147,5147,4354,4759,3701,3192,2786,2180,1453,737,866,868,906,1945,35582,1979,2033,2280,2331,1886,1875,2045,2293,2724,2957,2549,2176,2353,1730,1468,1232,901,557,213,0,0,0,0,38019,1947,2024,2305,2164,1762,1944,2184,2491,2878,3190,2598,2178,2406,1971,1724,1554,1279,896,524,0,0,0,0,73601,70600,1818,1183,30646,8853,5979,9170,2,22,1078,1997,1835,1084,5,621,21410,12423,1162,807,1812,1348,1580,1012,583,567,116,15837,71293,69266,1199,634,163,31,72789,72758,62043,25591,25043,11409,10526,8910,1068,548,189,31,72789,56682,23237,33445,362,7730,5894,1836,7319,6691,163,347,118,696,30646,8853,10458,4715,4738,1466,348,49,19,30646,120,786,2850,5465,6282,5444,3892,2748,3059,30646,17515,6243,4917,1597,374,30646,51,3123,8080,11035,6414,1943,30646,12200,10452,6991,900,103,30646,460,26522,1986,442,64,264,908,60115,11651,20771,3563,24606,7366,3569,12695,5587,10961,2446,11141,10223,2505,52959,2239,683,8385,655,227,238,19234,1219,337,2828,206,16708,73601,67459,537,752,1083,3770,36251,4294,3331,3684,5961,5123,5169,626,541,4094,3428]
["Local Authority","Castle Point","Castle Point","E07000069",88011,4173,4395,5188,5477,4740,4212,4130,5133,6349,6517,5918,5642,7136,5799,4686,3666,2536,1532,782,942,1017,1065,2164,42907,2058,2256,2679,2829,2480,2169,2029,2528,3068,3232,3003,2711,3378,2781,2125,1720,1097,545,219,0,0,0,0,45104,2115,2139,2509,2648,2260,2043,2101,2605,3281,3285,2915,2931,3758,3018,2561,1946,1439,987,563,0,0,0,0,88011,85680,1588,743,36440,9524,5830,13076,5,13,1567,2133,2245,1488,4,555,26806,16917,1343,985,2122,1306,1741,968,696,618,110,17321,85553,84711,391,278,142,31,87385,87365,80789,38606,33970,8213,5017,3967,525,525,1559,20,87385,72897,29986,42911,211,4136,2918,1218,9595,8734,33,704,124,546,36440,9524,13588,5770,5170,1793,486,76,33,36440,65,488,2910,6570,10284,7321,4317,2607,1878,36440,19996,9120,5710,1335,279,36440,67,3385,10147,14694,6990,1157,36440,12851,14205,8339,929,116,36440,622,32098,2370,60,55,298,937,73142,21885,25973,6023,18521,11168,5595,6292,7297,4405,2284,6728,11945,920,64626,1700,169,5747,1465,250,336,26390,1947,651,2549,239,23183,88011,84864,153,203,404,2387,41443,5526,4983,7663,4531,2704,1447,5411,765,3625,4788]
["Local Authority","Chelmsford","Chelmsford","E07000070",168310,9994,9531,9747,10254,9875,10643,10531,11787,12844,12910,11157,10047,10972,8239,6469,5446,4092,2495,1277,1914,1937,1885,4011,82914,5118,4946,5105,5192,4949,5344,5201,5936,6284,6336,5562,4999,5242,4028,3051,2609,1734,899,379,0,0,0,0,85396,4876,4585,4642,5062,4926,5299,5330,5851,6560,6574,5595,5048,5730,4211,3418,2837,2358,1596,898,0,0,0,0,168310,161582,4619,2109,69667,19138,13102,21199,11,73,2837,5020,4202,2427,110,1548,49394,29064,3062,1852,3746,3189,3520,1941,1539,1233,248,36072,162290,157386,2636,1624,556,88,166182,166142,145925,56074,55248,34603,19487,17447,1181,859,730,40,166182,125186,46922,78264,864,19759,3088,16671,19012,17437,299,1053,223,1361,69667,19138,24829,11029,10339,3315,827,139,51,69667,284,1671,6399,10691,15080,13990,9143,6177,6232,69667,40632,13795,11216,3274,750,69667,138,7366,15429,28303,14556,3875,69667,29018,22674,16000,1764,211,69667,1503,53068,7288,4562,302,634,2310,137003,25844,51289,9386,54751,19646,9173,27488,14901,23116,6463,22702,24450,5329,123693,4709,374,11364,3386,266,588,50259,3624,2542,8927,412,37242,168310,155461,1452,1763,2746,6888,86451,14061,14068,7708,12168,5357,3584,11698,1569,8857,7381]
["Local Authority","Colchester","Colchester","E07000071",173074,10647,9403,9606,11711,13886,11947,11366,11633,12621,12217,10488,9399,10842,8200,6243,5216,3931,2398,1320,1836,1911,1971,3888,85343,5514,4871,4976,5981,7079,6036,5712,5868,6205,5998,5136,4571,5095,4036,2994,2431,1672,820,348,0,0,0,0,87731,5133,4532,4630,5730,6807,5911,5654,5765,6416,6219,5352,4828,5747,4164,3249,2785,2259,1578,972,0,0,0,0,173074,161020,7981,4073,71634,20849,12200,19897,12,80,3110,5188,5252,2437,821,1788,48674,27910,3602,2168,3717,3185,3222,1841,1614,1167,248,36305,166587,156901,4675,3824,995,192,167080,166828,143428,56188,54494,32746,23222,20894,1658,670,178,252,167080,112086,43363,68723,681,21394,12300,9094,31647,27149,1572,1552,1374,1272,71634,20849,25631,11291,9661,3098,868,172,64,71634,490,1909,6920,13016,16951,13653,7851,5316,5528,71634,38221,15326,12833,4095,1159,71634,182,7669,19833,28190,12300,3460,71634,26469,24521,18450,1967,227,71634,1296,52505,8310,5836,308,539,2840,141427,27440,52506,11965,51791,22844,8564,27843,15326,22773,5955,21776,25962,8126,128562,4484,183,6655,4918,291,700,49522,4219,3394,10754,467,42975,173074,153695,4074,3539,3501,8265,85587,16112,17862,9872,8059,5448,2803,1868,7572,8617,7374]
["Local Authority","Epping Forest","Epping Forest","E07000072",124659,7366,6831,7235,7384,6663,6624,7517,8378,9647,9925,8625,7619,8295,6426,5038,4274,3469,2178,1165,1368,1419,1433,3015,60440,3811,3507,3739,3777,3363,3216,3616,3998,4621,4792,4232,3706,4066,3114,2352,1955,1482,788,305,0,0,0,0,64219,3555,3324,3496,3607,3300,3408,3901,4380,5026,5133,4393,3913,4229,3312,2686,2319,1987,1390,860,0,0,0,0,124659,120150,2891,1618,51991,15285,9347,15145,6,59,2164,3266,3567,2105,94,953,36248,20955,2391,1511,2938,2421,2468,1453,1008,920,183,26590,120214,115796,2316,1520,497,85,123623,123595,104983,32032,43656,29295,17555,15558,1004,993,1057,28,123623,92386,35872,56514,420,17049,13431,3618,12531,11577,244,584,126,1237,51991,15285,17318,8406,7595,2519,681,120,67,51991,201,1179,5411,9661,12176,9320,5636,3811,4596,51991,27397,11442,9810,2769,573,51991,103,6184,12815,20110,9317,3462,51991,19751,17077,13396,1588,179,51991,970,42643,3753,2086,208,653,1678,101708,24360,34815,6596,35128,12765,5404,17699,9244,15752,3409,14716,15974,4561,90622,3673,11797,2732,1284,760,605,34216,1992,500,3673,377,29013,124659,113309,749,1044,1864,7693,61609,6067,5361,8618,15848,8260,2079,731,737,7060,6848]
["Local Authority","Harlow","Harlow","E07000073",81944,6020,4917,4929,5044,4858,5970,5942,5706,6051,5984,5442,4633,4143,3136,2777,2644,2139,1085,524,923,975,995,2036,39674,3114,2498,2553,2597,2355,2831,2927,2762,2983,2951,2621,2313,2038,1453,1192,1068,873,386,159,0,0,0,0,42270,2906,2419,2376,2447,2503,3139,3015,2944,3068,3033,2821,2320,2105,1683,1585,1576,1266,699,365,0,0,0,0,81944,79702,1623,619,34620,10599,5499,8540,7,24,1918,2264,3384,1535,30,820,23520,12578,1940,1059,2005,1849,1591,844,955,592,107,19254,78289,73522,2017,1819,783,148,81551,81520,66366,8895,13600,43871,15094,14366,453,275,60,31,81551,47128,13935,33193,706,24173,21215,2958,9082,8460,56,487,79,462,34620,10599,11168,5808,4828,1595,495,92,35,34620,202,1134,4496,8943,9516,5919,2421,1158,831,34620,12989,9175,8993,2753,710,34620,129,5058,11370,14008,3305,750,34620,9136,11677,11781,1837,189,34620,357,30623,1769,121,54,618,1078,65061,16948,24624,6445,15923,11418,3763,6148,7127,5837,2147,6536,10288,3438,58669,1127,1206,1723,2170,431,288,25156,2784,1028,4299,189,18268,81944,72474,1140,1596,2601,4133,40401,7572,9872,3879,4980,3568,2912,577,525,2778,3738]
["Local Authority","Maldon","Maldon","E07000074",61629,3027,3261,3726,3562,2883,2480,2833,3707,4890,4835,4611,4339,5101,4027,2949,2317,1562,916,603,680,733,804,1509,30458,1567,1690,1945,1863,1545,1248,1398,1761,2334,2403,2319,2171,2474,1993,1431,1166,657,339,154,0,0,0,0,31171,1460,1571,1781,1699,1338,1232,1435,1946,2556,2432,2292,2168,2627,2034,1518,1151,905,577,449,0,0,0,0,61629,59462,1427,740,25817,6923,4669,8996,3,26,1078,1706,1245,837,3,331,18798,11738,889,686,1470,1011,1273,710,481,445,95,12466,59844,59168,332,246,78,20,61097,61097,57375,29610,18872,8893,3274,2472,364,438,448,0,61097,48947,19952,28995,222,5789,326,5463,5590,4937,118,455,80,549,25817,6923,9731,3941,3684,1161,310,53,14,25817,40,371,1771,3681,5693,4772,3279,2746,3464,25817,16741,4824,3336,763,153,25817,42,2051,5893,9743,6250,1838,25817,11978,8445,4925,404,65,25817,629,14829,2658,5926,315,182,1278,50804,11749,18827,3691,16910,7876,4180,7410,5553,5799,2413,7584,9924,943,45406,2230,66,2339,474,79,194,20406,1299,558,2453,194,15114,61629,59216,135,263,313,1702,30292,4531,1939,2943,5684,2988,999,1953,1922,4092,3241]
["Local Authority","Cotswold","Cotswold","E07000079",82881,3929,4126,4746,4801,3837,3416,3502,4926,6201,6564,6182,5783,6379,5280,4146,3492,2789,1816,966,890,921,988,1947,40104,2005,2108,2451,2444,1954,1745,1713,2420,3004,3153,2948,2824,3115,2561,2005,1571,1145,665,273,0,0,0,0,42777,1924,2018,2295,2357,1883,1671,1789,2506,3197,3411,3234,2959,3264,2719,2141,1921,1644,1151,693,0,0,0,0,82881,77100,4159,1622,36236,10959,5999,12365,1,65,1233,2298,1542,1003,113,658,24743,15890,1133,865,1763,1245,1523,929,661,621,113,15825,80592,78983,819,591,178,21,81319,81284,75062,31905,26920,16237,5686,3970,989,727,536,35,81319,54038,25649,28389,1000,11863,1387,10476,12271,10489,807,600,375,2147,36236,10959,14134,4917,4395,1388,335,79,29,36236,67,515,2513,5593,7717,6772,4505,3458,5096,36236,23329,7061,4554,1078,214,36236,41,2896,8572,14428,7023,3276,36236,17393,11671,6525,574,73,36236,802,20580,4391,7232,692,358,2181,69138,12758,24282,3973,31020,8580,4224,17417,6582,14247,3303,13511,13293,2569,60075,4679,155,698,514,84,279,26355,1843,864,5737,321,18546,82881,77026,655,760,929,3511,41529,7105,3133,4124,5754,4060,1793,1386,2322,7995,3857]
["Local Authority","Basingstoke and Deane","Basingstoke and Deane","E07000084",167799,11355,9947,10369,9610,8910,11034,11448,12379,13687,13738,11439,9543,10189,7700,5747,4583,3223,1945,953,1964,2176,2133,4096,83116,5823,5106,5337,4981,4430,5318,5632,6047,6853,6914,5843,4786,5026,3707,2790,2134,1386,743,260,0,0,0,0,84683,5532,4841,5032,4629,4480,5716,5816,6332,6834,6824,5596,4757,5163,3993,2957,2449,1837,1202,693,0,0,0,0,167799,160798,4874,2127,69315,18298,13714,20420,13,92,3036,5291,4610,2210,17,1614,50130,28510,3692,2128,3815,3459,3406,1885,1722,1294,219,38197,161002,153042,3788,3075,923,174,166468,166420,149897,56413,43185,50299,16124,14241,1307,576,399,48,166468,115153,38354,76799,2034,28420,1205,27215,19144,17472,406,1104,162,1717,69315,18298,25207,11407,10049,3173,930,160,91,69315,302,1491,6073,11018,16452,13206,7842,5888,7043,69315,39391,14645,11440,3090,749,69315,147,6276,15412,29550,13972,3958,69315,29082,23166,15378,1485,204,69315,928,54074,5169,5344,387,604,2809,133947,23226,51111,10663,52806,21091,10187,27051,16915,24369,7972,20595,25881,7559,123243,5638,121,4754,3823,250,560,59331,4438,1930,8821,456,33121,167799,149831,1968,3470,4301,8229,90122,15127,17453,10406,11321,7392,2584,3748,5164,10042,6885]
["Local Authority","East Hampshire","East Hampshire","E07000085",115608,6209,6512,7305,7331,5382,5101,5497,7006,8762,9639,8772,7553,8236,6647,5159,4122,3191,2045,1139,1347,1380,1517,3061,56237,3149,3341,3722,3787,2823,2615,2557,3384,4164,4620,4377,3778,4044,3187,2406,1921,1349,723,290,0,0,0,0,59371,3060,3171,3583,3544,2559,2486,2940,3622,4598,5019,4395,3775,4192,3460,2753,2201,1842,1322,849,0,0,0,0,115608,109569,3962,2077,47258,12182,9573,15954,5,40,1588,2958,2541,1539,7,871,34657,20813,1827,1227,2662,1991,2396,1546,1024,969,202,24916,112015,109069,1544,1038,304,60,113394,113358,102030,51829,29721,20480,10790,8735,1275,780,538,36,113394,84560,34420,50140,948,13533,1672,11861,12970,10648,977,783,562,1383,47258,12182,17858,7353,6906,2171,622,118,48,47258,180,1022,3386,7040,9646,8345,6001,4799,6839,47258,29625,8706,6565,1862,500,47258,111,4219,10481,17591,10880,3976,47258,21517,15031,9558,1009,143,47258,817,36188,3690,3568,309,457,2229,94019,15857,33495,5889,41957,13733,6827,22030,11507,18584,5434,18235,19025,3556,83522,5016,99,3124,789,96,402,39562,2472,999,5469,429,25065,115608,106027,805,1290,1731,5755,58457,8504,4041,7431,10179,5532,2927,2151,3526,8475,5691]
["Local Authority","New Forest","New Forest","E07000091",176462,8592,8512,9665,9726,8146,7544,7840,9664,11681,13216,12097,11748,13889,11741,9685,8428,6956,4681,2651,1843,1896,1962,3964,84784,4401,4391,5004,4962,4219,3723,3769,4513,5584,6364,5955,5672,6610,5670,4566,3907,2957,1747,770,0,0,0,0,91678,4191,4121,4661,4764,3927,3821,4071,5151,6097,6852,6142,6076,7279,6071,5119,4521,3999,2934,1881,0,0,0,0,176462,168837,5107,2518,76839,22210,11594,27291,15,91,2591,4663,4378,2459,8,1539,53808,34983,2761,1845,3809,2618,3238,1853,1315,1160,226,33091,171328,168369,1553,1049,309,48,173491,173407,155678,82736,45089,27853,15786,12486,1615,1685,1943,84,173491,129572,62152,67420,1035,19620,11707,7913,21393,18554,995,1378,466,1871,76839,22210,30783,10849,9194,2772,802,155,74,76839,254,1404,5250,12789,18540,15966,9720,6453,6463,76839,47048,16067,10288,2782,654,76839,124,6472,20569,32270,13783,3621,76839,32526,27024,15503,1601,185,76839,1716,62026,5284,3374,563,565,3311,147514,31178,51692,9961,55670,22511,14103,25869,17285,20573,7260,25064,29355,3998,124798,6243,131,1898,1654,171,788,57631,3800,3137,6763,777,41805,176462,165816,845,1146,1851,6804,82993,12784,10072,14215,14076,6134,2097,1061,3518,11249,7787]
["Local Authority","Winchester","Winchester","E07000094",116595,6580,6497,6953,8134,7517,5635,6231,7491,8288,8899,7985,6934,7672,6193,4971,4046,3286,2069,1214,1318,1328,1355,2952,56629,3379,3317,3711,4117,3443,2816,2987,3665,4086,4308,3990,3437,3747,3002,2355,1842,1376,705,346,0,0,0,0,59966,3201,3180,3242,4017,4074,2819,3244,3826,4202,4591,3995,3497,3925,3191,2616,2204,1910,1364,868,0,0,0,0,116595,106010,8087,2498,46865,12837,9360,14810,7,66,1496,3245,2249,1190,484,1121,32811,19573,1802,1149,2395,2146,2241,1314,1042,962,187,24069,112812,109598,1652,1232,294,36,111542,111486,98186,44894,30352,22940,12340,9692,1895,753,960,56,111542,76443,32355,44088,836,15837,10843,4994,16656,13990,1176,820,670,1770,46865,12837,17404,6713,6846,2264,621,130,50,46865,168,1003,3983,7588,8449,8106,5957,4628,6983,46865,28516,8754,7012,2072,511,46865,93,4890,10737,16103,10728,4314,46865,21112,14458,9950,1182,163,46865,783,34589,3903,4492,447,431,2220,95110,13828,33204,5476,49516,11785,5686,31047,9872,26007,5066,22009,18599,4094,84495,5226,119,3298,1650,95,438,34987,2146,1155,7749,455,27177,116595,106236,1333,1387,1685,5954,57318,9063,6237,6502,10325,4139,1894,1921,4072,8633,4532]
["Local Authority","North Hertfordshire","North Hertfordshire","E07000099",127114,8027,7401,7669,7370,6126,7582,8262,9359,9896,10189,8530,7234,7758,5950,4883,4381,3120,2215,1162,1499,1512,1540,3118,62380,4125,3784,3873,3767,3152,3712,4061,4564,4919,5038,4306,3575,3802,2962,2314,2036,1317,775,298,0,0,0,0,64734,3902,3617,3796,3603,2974,3870,4201,4795,4977,5151,4224,3659,3956,2988,2569,2345,1803,1440,864,0,0,0,0,127114,122159,3329,1626,53426,15494,10150,15189,6,63,2313,3936,3437,1798,8,1032,37349,21272,2630,1486,2823,2529,2669,1558,1160,1040,182,28376,122243,117204,2433,1736,731,139,125817,125760,110276,34708,41636,33932,14973,12942,1134,897,511,57,125817,85814,32139,53675,918,23352,9025,14327,14631,13553,238,627,213,1102,53426,15494,18605,8435,7688,2406,634,113,51,53426,189,1229,5601,9135,12278,10426,5631,4091,4846,53426,28954,11928,9460,2552,532,53426,89,5956,13133,22158,9063,3027,53426,20603,18341,12925,1384,173,53426,893,41950,5091,2757,197,540,1998,102388,18416,37305,7134,43627,14155,6525,24991,10877,23160,5421,18098,18546,5035,91510,4422,221,7794,1117,167,400,40153,2809,1240,6364,303,26520,127114,114162,875,1468,2125,8484,64990,10477,7210,8739,8225,5750,3526,6844,1663,7594,4962]
["Local Authority","St Albans","St Albans","E07000100",140664,10296,9082,8926,7972,6342,7831,9626,11242,11541,10981,9223,7916,7910,6031,5018,4214,3319,2092,1102,1765,1773,1822,3566,69040,5263,4673,4468,4065,3170,3754,4718,5550,5805,5434,4623,3926,3821,2961,2389,1945,1418,765,292,0,0,0,0,71624,5033,4409,4458,3907,3172,4077,4908,5692,5736,5547,4600,3990,4089,3070,2629,2269,1901,1327,810,0,0,0,0,140664,134013,4357,2294,56140,14988,13561,15356,10,61,1938,3921,3007,1851,26,1421,40249,21545,2890,1364,2944,3338,3161,1856,1528,1342,281,34312,134510,127012,3964,2364,1020,150,139058,138869,118344,41800,47358,29186,20095,16646,2302,1147,430,189,139058,104449,39646,64803,516,16090,11380,4710,16959,15827,298,639,195,1044,56140,14988,18843,8609,9494,3115,838,154,99,56140,293,1487,5134,9559,10513,10341,7123,5366,6324,56140,32458,10982,8953,2983,764,56140,106,6018,13294,20053,12143,4526,56140,23124,18237,12859,1698,222,56140,760,48932,3655,446,80,417,1850,110590,14268,37372,5219,58069,11278,5628,38846,9655,37997,5302,27017,18594,7939,99863,5599,673,13489,1724,186,449,39425,2160,1219,6090,364,28485,140664,121715,1506,2173,3438,11832,71378,8911,8328,10068,9425,7236,9859,1669,1208,9221,5453]
["Local Authority","Ashford","Ashford","E07000105",117956,7771,7358,7838,7621,6245,6470,6548,7559,9483,9196,7471,6749,7679,6195,4614,3697,2729,1792,941,1500,1539,1607,3192,57232,3928,3751,3954,4011,3098,2986,3083,3628,4618,4601,3682,3309,3691,2953,2221,1684,1125,676,233,0,0,0,0,60724,3843,3607,3884,3610,3147,3484,3465,3931,4865,4595,3789,3440,3988,3242,2393,2013,1604,1116,708,0,0,0,0,117956,113664,2838,1454,47787,12242,8898,14441,11,64,2521,3401,3707,1592,7,903,35197,19857,2365,1491,2757,2315,2473,1319,1374,1045,201,27874,113353,107842,2539,2130,704,138,116993,116903,107024,41637,36542,28845,9042,7368,1152,522,837,90,116993,80838,29588,51250,1460,16149,10541,5608,17256,15539,268,1166,283,1290,47787,12242,17251,7824,6955,2512,757,167,79,47787,101,814,3261,8231,11790,9377,5484,4031,4698,47787,27380,10530,7411,1977,489,47787,69,3595,11924,20532,8615,3052,47787,19309,16510,10538,1242,188,47787,874,34647,3272,5401,493,516,2584,93411,19777,34736,7507,32067,15396,6446,14879,10652,12459,4083,13795,17570,4356,84252,3995,95,3755,1507,151,377,36833,3134,1465,5920,314,26706,117956,106993,1374,2065,2426,5098,57546,9451,10813,5025,5994,4915,2424,1310,4917,7206,5491]
["Local Authority","Gravesham","Gravesham","E07000109",101720,6647,6275,6529,6723,6502,6618,6369,6638,7666,7584,6437,5568,5874,4631,3886,3350,2375,1348,700,1213,1269,1291,2756,50139,3392,3284,3368,3400,3219,3282,3162,3312,3784,3786,3243,2767,2847,2263,1829,1539,990,479,193,0,0,0,0,51581,3255,2991,3161,3323,3283,3336,3207,3326,3882,3798,3194,2801,3027,2368,2057,1811,1385,869,507,0,0,0,0,101720,98748,1897,1075,40431,11131,7436,11146,7,32,2064,2575,3392,1683,13,952,29102,15902,2119,1296,2449,1967,2004,1112,1174,940,139,23847,97749,88729,2748,3541,2297,434,100976,100890,87258,17528,35304,34426,13373,10770,1841,762,259,86,100976,67082,25676,41406,692,16109,12961,3148,16224,15199,132,716,177,869,40431,11131,13015,6732,5978,2332,909,202,132,40431,179,1058,4499,6281,11530,8960,4067,2155,1702,40431,19637,9188,8099,2672,835,40431,104,4876,9535,19144,5332,1440,40431,13168,13549,11502,1874,338,40431,1003,33910,2551,857,129,535,1446,80964,19742,28588,6771,23070,12668,5898,9524,8462,8647,3028,8993,13575,5184,73191,1837,214,5187,3177,198,536,28875,3021,463,3864,267,25552,101720,87419,1923,2471,2795,7112,47639,6344,6097,6804,7922,3781,5333,1216,1066,3912,5164]
["Local Authority","Thanet","Thanet","E07000114",134186,8093,7241,8570,8593,7396,7320,6813,7347,8932,9346,8461,8080,9581,7908,6401,5238,4333,2866,1667,1557,1598,1770,3645,64555,4172,3784,4507,4515,3685,3425,3212,3485,4292,4542,4169,3861,4698,3760,2968,2334,1721,983,442,0,0,0,0,69631,3921,3457,4063,4078,3711,3895,3601,3862,4640,4804,4292,4219,4883,4148,3433,2904,2612,1883,1225,0,0,0,0,134186,128509,4130,1547,59513,20646,7321,15677,5,97,2982,3790,5419,2175,83,1318,38029,22056,2597,1714,3160,2285,2210,1306,1485,1037,179,28899,129355,123423,2045,2129,1426,332,131755,131340,105893,28049,43489,34355,24936,16326,6893,1717,511,415,131755,82389,35287,47102,395,15926,7099,8827,31864,29540,346,1705,273,1181,59513,20646,20566,8516,6281,2312,861,204,127,59513,321,1948,7435,12838,14853,10463,5443,3142,3070,59513,28043,14549,12123,3861,937,59513,135,8434,20591,20707,6924,2722,59513,17677,22360,17256,1965,255,59513,1762,49895,5266,203,94,622,1671,108556,30784,36336,9025,28864,17801,7025,12454,11840,10581,3714,13382,19984,4152,94452,2940,102,2168,3502,364,575,33109,3793,1395,6890,362,39252,134186,122657,1629,2036,2252,5612,55200,11232,13109,7197,2645,4071,1000,1140,3770,5793,5243]
["Local Authority","Tonbridge and Malling","Tonbridge and Malling","E07000115",120805,7447,7668,8169,8078,5841,5804,6599,8450,9831,9668,8330,6900,7593,6088,4953,4033,2917,1580,856,1574,1591,1607,3397,59207,3941,3906,4114,4204,2962,2814,3086,4046,4851,4740,4184,3496,3717,2893,2322,1872,1255,564,240,0,0,0,0,61598,3506,3762,4055,3874,2879,2990,3513,4404,4980,4928,4146,3404,3876,3195,2631,2161,1662,1016,616,0,0,0,0,120805,115924,3289,1592,48140,11553,9876,14999,7,56,2399,3261,3306,1645,2,1036,35979,20229,2120,1372,2873,2454,2861,1553,1218,1094,205,28562,116435,113551,1579,949,289,67,119401,119369,109843,35904,47515,26424,9215,7480,953,782,311,32,119401,86377,31479,54898,1806,18634,2472,16162,11567,10278,414,687,188,1017,48140,11553,17521,7955,7748,2513,663,131,56,48140,103,767,3576,7399,11273,10236,6097,3983,4706,48140,28479,10154,7208,1861,438,48140,83,3805,11470,20481,9047,3254,48140,19749,16344,10709,1176,162,48140,982,40254,2895,1732,214,375,1688,95821,19135,35263,6466,37610,13901,6641,18747,10128,15074,4214,15268,17936,3311,86435,3768,134,7295,1293,168,526,37883,2630,855,5151,290,26442,120805,112529,819,1103,1509,4845,59993,7681,6945,9612,8538,4048,3222,6605,1140,6831,5371]
["Local Authority","Hyndburn","Hyndburn","E07000120",80734,5427,5002,5057,5280,5041,5287,4972,5268,6089,5822,5057,4569,5054,4020,3053,2385,1798,1043,510,967,1001,997,2092,39977,2780,2639,2548,2715,2487,2588,2508,2593,3133,2895,2463,2318,2582,1969,1444,1068,728,391,128,0,0,0,0,40757,2647,2363,2509,2565,2554,2699,2464,2675,2956,2927,2594,2251,2472,2051,1609,1317,1070,652,382,0,0,0,0,80734,78487,1715,532,34341,11061,5161,8772,1,19,1874,2167,3328,1325,12,621,23086,12505,1693,1291,2202,1440,1324,739,1085,683,124,19064,77442,72890,1401,1597,1294,260,80088,80067,75678,11327,21862,42489,4138,3317,409,412,251,21,80088,57058,24158,32900,169,8285,2814,5471,13828,12616,34,1086,92,748,34341,11061,11449,5336,3990,1504,679,165,157,34341,64,432,2634,6557,11211,7842,2957,1551,1093,34341,17587,9475,5709,1197,373,34341,77,2932,14610,12783,3353,586,34341,8286,14875,9547,1337,296,34341,1786,29092,1469,121,143,485,1245,64092,17942,21426,6494,17194,12243,6303,6333,9175,5705,3250,6923,11158,1703,58356,1175,11,349,2286,390,240,24306,2644,407,4002,183,22363,80734,74942,404,846,918,3624,35993,7087,7880,7710,3888,1721,1028,611,628,2860,2580]
["Local Authority","Rossendale","Rossendale","E07000125",67982,4329,3903,4052,4309,3869,3940,4029,4565,5361,5271,4733,4359,4721,3364,2441,1932,1453,914,437,819,799,774,1660,33367,2198,2043,1997,2188,1880,1922,1976,2237,2609,2681,2342,2162,2384,1674,1227,833,604,307,103,0,0,0,0,34615,2131,1860,2055,2121,1989,2018,2053,2328,2752,2590,2391,2197,2337,1690,1214,1099,849,607,334,0,0,0,0,67982,65706,1680,596,29058,8988,4417,7860,3,39,1703,2121,2418,1057,5,447,19893,11231,1412,980,1781,1238,1213,658,765,519,96,15257,65362,63686,641,539,426,70,67262,67253,63090,16020,18666,28404,4022,3270,343,409,141,9,67262,49537,18404,31133,175,7990,2856,5134,8959,8055,39,787,78,601,29058,8988,10046,4655,3507,1289,386,120,67,29058,47,432,2660,6768,7030,5400,3048,1847,1826,29058,14584,7574,5424,1216,260,29058,43,2890,9808,10832,4497,988,29058,9468,11055,7518,886,131,29058,805,25431,1060,241,187,206,1128,54811,13130,19442,5241,18945,9965,4012,8553,7785,7575,2998,8072,10461,851,50075,1613,29,171,1905,140,222,23634,2000,241,2669,184,17267,67982,64864,178,295,461,2184,32808,4773,4655,5029,6900,3466,951,437,635,3292,2670]
["Local Authority","West Lancashire","West Lancashire","E07000127",110685,5998,5935,6685,7724,7196,5447,5051,6661,8008,8545,7731,6943,7886,6470,5294,4020,2734,1558,799,1248,1340,1332,2765,53840,3129,3102,3512,3845,3589,2669,2446,3175,3902,4186,3792,3320,3780,3115,2560,1848,1134,542,194,0,0,0,0,56845,2869,2833,3173,3879,3607,2778,2605,3486,4106,4359,3939,3623,4106,3355,2734,2172,1600,1016,605,0,0,0,0,110685,104687,4817,1181,45381,12226,7448,14694,5,24,1882,2414,3677,1932,344,735,32546,19319,1760,1447,2778,1940,2153,1196,1019,776,158,23269,107192,105051,680,854,524,83,108689,108657,101469,35042,40872,25555,6321,5345,554,422,867,32,108689,81325,32292,49033,521,13900,12010,1890,11930,10887,109,802,132,1013,45381,12226,16340,7415,6482,2147,618,98,55,45381,75,336,2940,5849,12109,9814,6036,4146,4076,45381,28286,9429,6089,1258,319,45381,71,2975,9796,21425,8776,2338,45381,19161,16500,8689,899,132,45381,700,37600,2642,1927,413,472,1627,90712,21296,31614,7721,32026,14590,6541,15783,11920,12634,4535,14128,16525,1774,81601,2780,95,1724,1471,600,285,35231,3181,876,5106,345,29907,110685,106397,660,849,716,2063,51694,8765,7040,8169,10607,4160,1371,1003,1134,5648,3797]
["Local Authority","Charnwood","Charnwood","E07000130",166100,9120,8279,8924,12886,16121,10079,9261,10126,11758,11794,10507,9650,10333,8064,6287,5219,4036,2372,1284,1691,1802,1783,3648,82913,4624,4300,4642,6895,8823,4991,4657,4956,5756,5860,5240,4796,5219,3922,3027,2370,1643,848,344,0,0,0,0,83187,4496,3979,4282,5991,7298,5088,4604,5170,6002,5934,5267,4854,5114,4142,3260,2849,2393,1524,940,0,0,0,0,166100,150273,13122,2705,66516,18658,11394,19866,15,74,2838,4640,4154,2294,1223,1360,46015,27375,2961,1796,3689,2804,2988,1695,1402,1100,205,32675,160599,150341,4350,4068,1545,295,158719,158622,147050,51994,65131,29925,11099,9021,1171,907,473,97,158719,116688,46881,69807,1007,16751,11015,5736,22895,21097,261,1299,238,1378,66516,18658,23591,10518,9334,3085,975,228,127,66516,265,1159,5120,9708,17730,14469,7675,5234,5156,66516,38390,14529,10292,2597,708,66516,132,5591,15940,29419,11673,3761,66516,26722,23405,14630,1503,256,66516,1293,58080,3478,574,260,467,2364,137878,28265,50376,11144,52809,21260,11414,32437,15810,24021,6395,18254,23944,6059,124967,4044,91,1228,3958,152,598,53571,3995,3026,8567,342,45395,166100,148831,2654,2329,2215,10071,79572,13917,12816,15970,14343,3945,1374,1444,2617,7925,5221]
["Local Authority","Oadby and Wigston","Oadby and Wigston","E07000135",56170,2882,2803,3370,5006,3463,3023,2964,3159,3907,4310,3746,3218,3432,2803,2522,2293,1734,1019,516,633,630,693,1414,27169,1468,1426,1730,2588,1758,1462,1421,1528,1856,2051,1892,1604,1657,1323,1160,1010,721,372,142,0,0,0,0,29001,1414,1377,1640,2418,1705,1561,1543,1631,2051,2259,1854,1614,1775,1480,1362,1283,1013,647,374,0,0,0,0,56170,52726,2808,636,21339,5488,4166,7063,1,10,943,1170,1279,902,8,309,16007,9476,892,591,1380,889,1036,687,481,485,90,11694,54445,49874,2253,1495,686,137,53765,53763,51150,18239,25823,7088,2610,2185,196,229,3,2,53765,44161,18592,25569,364,3576,2569,1007,5291,4818,45,360,68,373,21339,5488,7335,3295,3316,1277,435,131,62,21339,32,246,972,3389,6138,4961,2586,1568,1447,21339,12596,5143,2689,749,162,21339,30,1013,5250,10298,3743,1005,21339,8340,8108,4211,578,102,21339,383,19318,779,31,15,186,627,46359,10461,15909,3311,16184,6584,3275,8936,4821,7021,1814,6269,7432,2390,40797,994,44,291,2187,81,165,17898,1566,807,2242,124,14398,56170,47700,467,554,1107,6342,26399,4071,5669,8087,1865,900,528,610,772,2187,1710]
["Local Authority","South Holland","South Holland","E07000140",88270,4488,4295,4982,4928,4523,4705,4668,5303,6150,6595,5843,5548,6579,5462,4767,3933,2920,1695,886,925,966,1045,2046,43119,2384,2187,2521,2478,2285,2347,2284,2565,3037,3257,2864,2681,3239,2658,2303,1851,1296,617,265,0,0,0,0,45151,2104,2108,2461,2450,2238,2358,2384,2738,3113,3338,2979,2867,3340,2804,2464,2082,1624,1078,621,0,0,0,0,88270,85469,1984,817,37264,9441,5592,13193,4,36,1848,2999,2172,1159,6,814,27490,17699,1541,1069,2069,1295,1510,868,720,612,107,17155,85509,79362,1310,2597,1980,260,87409,87356,83931,48775,27117,8039,3070,2069,592,409,355,53,87409,63174,27925,35249,588,10520,8449,2071,12215,10912,384,735,184,912,37264,9441,15369,5695,4657,1380,534,135,53,37264,83,407,1829,5972,8662,8219,5258,3387,3447,37264,23885,7629,4219,1129,402,37264,70,2065,10684,17240,5668,1537,37264,15263,13951,6869,987,194,37264,701,24491,2726,6118,1103,291,1834,73354,22628,23414,6197,18134,11720,4529,6635,7489,4866,2516,7396,14143,3909,63920,2510,33,385,639,82,245,29275,2778,1755,3564,224,22430,88270,79830,1642,2370,2159,2269,41490,6672,6438,4599,7632,3969,1278,851,1707,4954,3390]
["Local Authority","Great Yarmouth","Great Yarmouth","E07000145",97277,5528,4930,5584,6241,5942,5731,4879,5261,6533,6826,6162,6061,7228,6111,4746,3861,2951,1812,890,1068,1051,1147,2318,47762,2823,2529,2848,3252,3094,2887,2469,2592,3164,3284,3041,2973,3551,3031,2328,1778,1254,616,248,0,0,0,0,49515,2705,2401,2736,2989,2848,2844,2410,2669,3369,3542,3121,3088,3677,3080,2418,2083,1697,1196,642,0,0,0,0,97277,94256,2137,884,42079,12571,5316,12651,7,38,2514,2891,3508,1610,7,966,28972,17427,1864,1296,2514,1539,1555,940,1018,656,163,20195,93925,90128,1263,1489,869,176,96230,96095,84723,29414,23894,31415,10610,8083,1640,887,762,135,96230,62112,28466,33646,299,16310,12898,3412,16366,14906,276,942,242,1143,42079,12571,15664,6541,4846,1702,579,119,57,42079,223,793,3743,8197,11674,8619,4097,2477,2256,42079,22120,10041,7414,1902,602,42079,79,4467,13273,17948,4891,1421,42079,13757,15880,10896,1342,204,42079,1570,28006,4167,5723,406,475,1732,79748,26164,26240,7351,17331,13530,6014,6044,8584,4387,2540,7333,14314,2501,70234,1670,34,260,2496,248,421,25119,2783,1728,5486,1019,28970,97277,90922,794,1372,1801,2388,41264,9196,8479,4920,3964,3008,1544,691,1432,3817,4213]
["Local Authority","Norwich","Norwich","E07000148",132512,8425,6267,5809,8838,15289,12794,10521,8987,8592,7820,6878,6430,6517,5043,4199,3684,3128,2134,1157,1123,1144,1146,2396,65267,4288,3187,3027,4305,7230,6352,5461,4717,4563,4042,3438,3083,3169,2470,1968,1637,1277,747,306,0,0,0,0,67245,4137,3080,2782,4533,8059,6442,5060,4270,4029,3778,3440,3347,3348,2573,2231,2047,1851,1387,851,0,0,0,0,132512,119588,10437,2487,60319,23020,6142,11500,13,109,2923,5580,4751,1970,1423,2888,33332,19382,3024,1603,2395,2237,1673,885,1312,725,96,24155,127320,117260,4116,4259,1472,213,127754,127494,96703,15401,33829,47473,30680,26900,2730,1050,111,260,127754,55870,22161,33709,931,40717,32001,8716,29066,26962,164,1691,249,1170,60319,23020,20223,8168,5929,2086,693,146,54,60319,442,2077,8173,12777,15883,12117,4546,2337,1967,60319,26138,15139,14451,3690,901,60319,155,9667,18383,24781,5417,1916,60319,17981,21235,19298,1640,165,60319,1580,50251,4937,268,126,1228,1929,110805,25073,39013,9551,41461,15507,4679,27639,9923,22149,3584,14776,17258,7908,100702,2530,89,777,5035,308,706,28792,3257,5600,14887,443,38278,132512,115440,4159,3782,3846,5285,62424,17244,19686,6630,3102,2251,1514,706,2058,4781,4452]
["Local Authority","Corby","Corby","E07000150",61255,4519,3610,3748,3806,3924,4786,4231,4075,4597,4839,4079,3528,3201,2619,2105,1622,1110,634,222,729,728,749,1542,30147,2295,1821,1827,1954,1938,2310,2232,2026,2290,2397,2045,1740,1539,1246,1000,720,461,245,61,0,0,0,0,31108,2224,1789,1921,1852,1986,2476,1999,2049,2307,2442,2034,1788,1662,1373,1105,902,649,389,161,0,0,0,0,61255,59699,1127,429,25215,6696,3937,6401,2,20,1598,2064,2611,1195,3,688,18131,9841,1565,925,1591,1277,1077,594,780,412,69,14375,58466,52969,1567,2570,1217,143,60990,60990,56217,14303,23370,18544,4698,4192,324,182,75,0,60990,38815,11315,27500,240,11560,9655,1905,9837,9265,41,476,55,538,25215,6696,8717,4690,3404,1244,340,93,31,25215,71,372,1779,3984,8055,5919,2653,1394,988,25215,13334,6272,4209,1105,295,25215,68,1569,5233,13797,3871,677,25215,9812,9045,5563,698,97,25215,266,22555,971,277,61,243,842,48637,13439,16589,5491,11846,8498,3447,4377,5205,3437,1777,3917,7901,3620,45049,807,25,299,1859,419,182,19862,3417,871,2775,172,14361,61255,53203,1111,2036,2215,2690,30688,7045,9418,3518,2587,1258,1232,613,1308,1860,1849]
["Local Authority","South Northamptonshire","South Northamptonshire","E07000155",85189,4771,5201,5507,4978,3589,3603,4299,5883,7242,7359,6420,5598,6340,4754,3342,2588,1909,1190,616,1034,1125,1073,2275,42098,2457,2632,2891,2616,1898,1809,2007,2769,3476,3569,3255,2870,3049,2447,1657,1266,841,427,162,0,0,0,0,43091,2314,2569,2616,2362,1691,1794,2292,3114,3766,3790,3165,2728,3291,2307,1685,1322,1068,763,454,0,0,0,0,85189,81845,2317,1027,34717,8264,7436,11989,6,29,1301,2463,1795,968,5,461,26284,15634,1338,979,2006,1706,2027,1093,696,682,123,18984,82449,81357,607,356,111,18,84497,84490,81153,40267,28924,11962,3171,2467,379,325,166,7,84497,66468,23954,42514,829,7603,1978,5625,8584,7698,191,525,170,1013,34717,8264,13398,5528,5433,1626,366,72,30,34717,51,368,1315,4776,7409,6583,4912,4117,5186,34717,23955,6674,3207,746,135,34717,32,1543,7268,13891,9184,2799,34717,17543,11787,4957,378,52,34717,624,24387,2865,4323,322,301,1895,68624,11955,25857,4833,29091,10160,5650,14666,8269,12586,3884,11909,14182,2061,62321,3901,53,1056,758,52,268,33632,2088,485,3235,212,16581,85189,80240,477,525,805,3142,45740,4802,3165,7446,9300,4138,2003,1535,2789,6786,3776]
["Local Authority","Richmondshire","Richmondshire","E07000166",51965,2910,2810,2949,3529,4252,3467,2751,2964,3654,3667,3329,3064,3543,2797,2233,1730,1212,717,387,572,606,599,1172,27407,1505,1475,1558,2259,2999,2117,1410,1503,1753,1792,1637,1532,1720,1369,1076,806,513,270,113,0,0,0,0,24558,1405,1335,1391,1270,1253,1350,1341,1461,1901,1875,1692,1532,1823,1428,1157,924,699,447,274,0,0,0,0,51965,47475,3776,714,20207,5239,3841,7055,4,31,687,1185,1270,592,0,303,14820,8958,879,613,1105,920,993,486,461,350,55,10303,50193,48511,748,676,196,62,47344,47335,44766,16894,17763,10109,2424,1634,487,303,145,9,47344,29577,14153,15424,198,4664,2949,1715,11924,6736,2695,539,1954,981,20207,5239,8116,2996,2724,864,221,36,11,20207,77,320,1019,3464,4662,4156,2623,1747,2139,20207,12535,4413,2424,652,183,20207,39,1288,5186,8857,3624,1213,20207,8745,7275,3763,367,57,20207,350,10632,1552,4997,619,213,1844,42698,7925,16405,5194,15211,8398,2958,7057,5693,6177,2340,7136,9745,1375,38652,2661,30,451,541,101,134,16231,1421,470,5032,723,10857,51965,47600,822,914,713,1916,27795,6558,3453,2625,3418,1540,937,867,1433,4910,2054]
["Local Authority","Ryedale","Ryedale","E07000167",51751,2385,2473,3024,3187,2203,2085,2130,2687,3666,4025,3741,3742,4351,3604,2829,2338,1743,1000,538,512,552,612,1348,25413,1262,1223,1568,1735,1149,1055,1073,1251,1760,1980,1885,1821,2187,1773,1318,1069,756,394,154,0,0,0,0,26338,1123,1250,1456,1452,1054,1030,1057,1436,1906,2045,1856,1921,2164,1831,1511,1269,987,606,384,0,0,0,0,51751,49260,1776,715,22524,6546,3384,8140,2,19,838,1451,1094,667,0,383,15739,10371,722,517,1133,726,862,545,423,368,72,9571,50336,49534,324,323,142,13,50611,50611,48147,21631,17222,9294,2287,1426,416,445,177,0,50611,34374,18168,16206,153,6203,438,5765,8582,7527,396,496,163,1299,22524,6546,9149,3122,2553,834,255,45,20,22524,45,259,1144,3952,5068,4445,2963,2032,2616,22524,14371,4999,2489,521,144,22524,30,1344,6316,9325,3952,1557,22524,10060,8255,3807,359,43,22524,809,11248,1615,5355,1287,280,1930,43200,10369,14205,3188,16167,6607,3121,7690,4824,6594,1955,7356,8484,880,37581,2994,27,278,415,44,179,15638,1342,788,3577,222,12077,51751,49603,308,363,360,1117,25504,4719,1947,2275,3896,2231,1030,872,1379,5114,2041]
["Local Authority","Broxtowe","Broxtowe","E07000172",109487,6163,5301,5848,6455,6722,6625,6541,7272,8259,8480,7489,6686,7548,5930,4803,3858,2846,1771,890,1077,1140,1191,2440,54118,3190,2674,2979,3366,3542,3386,3274,3663,4154,4108,3707,3359,3676,2885,2311,1776,1158,675,235,0,0,0,0,55369,2973,2627,2869,3089,3180,3239,3267,3609,4105,4372,3782,3327,3872,3045,2492,2082,1688,1096,655,0,0,0,0,109487,104613,3472,1402,46820,13083,7567,14579,14,62,2045,3518,2842,1587,313,1210,32563,19971,2022,1321,2644,1877,1883,1172,918,632,123,21587,105758,101456,1922,1666,617,97,108570,108555,100561,42001,40631,17929,7879,6654,556,669,115,15,108570,80833,33755,47078,309,10502,8590,1912,15982,14251,453,965,313,944,46820,13083,17509,7643,6194,1803,443,93,52,46820,60,640,2975,7449,13765,11129,5429,3097,2276,46820,27780,10630,6455,1592,363,46820,80,3137,11878,23194,6990,1541,46820,19153,17096,9331,1107,133,46820,828,41729,2106,76,294,281,1506,90938,21031,32007,7862,32047,14815,7380,17555,10902,16510,4438,13243,16651,3304,81573,2374,377,782,5040,128,462,34000,2532,2271,4985,234,28388,109487,101055,1368,1487,1376,4201,53185,7862,10279,13676,7865,1387,891,778,2268,4688,3491]
["Local Authority","Rushcliffe","Rushcliffe","E07000176",111129,6392,6233,6621,6610,6174,5320,6165,7367,8646,8947,7785,7035,7411,6006,4621,3949,3017,1931,899,1222,1336,1366,2697,54703,3245,3266,3407,3402,3129,2630,3001,3639,4245,4473,3920,3494,3742,2898,2216,1808,1211,729,248,0,0,0,0,56426,3147,2967,3214,3208,3045,2690,3164,3728,4401,4474,3865,3541,3669,3108,2405,2141,1806,1202,651,0,0,0,0,111129,104530,5214,1385,45835,12464,9208,14440,8,55,1629,3007,2507,1272,282,963,32462,18978,1865,1253,2519,2181,2393,1383,911,803,176,23788,107458,104706,1504,890,311,47,108804,108740,101372,54399,35614,11359,6855,4923,1426,506,513,64,108804,85624,35682,49942,649,7698,2254,5444,14001,12883,129,799,190,832,45835,12464,16956,6889,6848,1973,533,107,65,45835,123,446,2371,6450,9351,9225,6724,5203,5942,45835,30958,8800,4672,1122,283,45835,64,2443,9926,18311,11258,3833,45835,22731,15561,6743,713,87,45835,647,39277,1969,1612,325,272,1733,90551,14835,31990,5805,44189,12340,5806,27586,10247,24238,4791,19898,17366,2908,80755,4108,93,671,4774,98,267,36786,2298,1687,4303,261,25409,111129,103851,576,802,1116,4784,55346,6242,8558,10804,9914,3533,1531,963,2701,7416,3684]
["Local Authority","West Oxfordshire","West Oxfordshire","E07000181",104779,6362,5759,6056,5998,5308,6043,6162,6979,8068,8428,7184,6223,6947,5685,4428,3619,2790,1756,984,1137,1206,1202,2511,51447,3230,2905,3068,3189,2875,3122,3013,3334,3905,4149,3568,3004,3357,2738,2170,1664,1244,621,291,0,0,0,0,53332,3132,2854,2988,2809,2433,2921,3149,3645,4163,4279,3616,3219,3590,2947,2258,1955,1546,1135,693,0,0,0,0,104779,99391,3857,1531,43241,11412,8398,13946,7,78,1655,3241,2295,1318,14,877,31320,18844,1949,1114,2286,2037,2104,1191,917,744,134,22018,100956,98204,1323,1058,328,43,102415,102390,95002,37229,35016,22757,6879,5403,792,684,509,25,102415,72105,28901,43204,1340,12443,1611,10832,15056,11396,1960,730,970,1471,43241,11412,16431,6755,6153,1868,489,98,35,43241,108,840,2685,7236,9626,8673,5524,3890,4659,43241,26481,9163,5700,1571,326,43241,67,3162,10774,17657,8662,2919,43241,18876,15089,8362,804,110,43241,607,29772,4341,5516,400,389,2216,85312,15054,32107,6381,36365,12724,6295,20066,9861,17808,4185,15484,17491,3583,76163,4516,87,1053,2444,101,495,36866,2588,2315,5777,273,19648,104779,96293,792,1278,1640,4776,56515,10490,3742,7891,10738,5893,1574,1265,2563,7665,4694]
["Local Authority","Mendip","Mendip","E07000187",109279,5915,5913,6988,7590,5359,5114,5100,6284,8167,8625,7763,7227,7956,6210,4839,4001,3063,2089,1076,1217,1369,1367,3035,53387,3023,3086,3614,3981,2674,2537,2426,3004,3934,4255,3803,3599,3927,3008,2322,1866,1284,748,296,0,0,0,0,55892,2892,2827,3374,3609,2685,2577,2674,3280,4233,4370,3960,3628,4029,3202,2517,2135,1779,1341,780,0,0,0,0,109279,103184,4414,1681,46157,13809,7340,14342,4,47,2073,3173,2992,1463,7,907,31855,19301,1687,1203,2497,1770,2100,1208,1060,831,198,22623,105753,103243,1118,953,397,42,106031,105966,97501,35900,35716,25885,8154,5810,1560,784,311,65,106031,76168,33622,42546,770,12003,3092,8911,15618,14121,285,1082,130,1472,46157,13809,17069,6711,5835,2029,549,102,53,46157,169,941,3623,7666,10138,9029,5868,3981,4742,46157,27661,9357,6884,1841,414,46157,71,4315,11311,19054,8358,3048,46157,19839,15255,9962,987,114,46157,1291,31184,3889,6027,790,348,2628,88882,19054,32246,6820,34648,14126,6309,17201,10243,14566,3965,14581,17394,2697,78653,5035,80,493,1010,124,413,35092,2652,1212,7396,338,24808,109279,102405,908,1025,1200,3741,53845,10739,5253,6424,9117,4167,2052,946,1538,8580,5029]
["Local Authority","East Staffordshire","East Staffordshire","E07000193",113583,7002,6556,6694,7184,6722,7199,6846,7349,8657,8838,7780,6630,6995,5740,4629,3713,2729,1554,766,1300,1310,1330,2754,56385,3544,3368,3353,3764,3479,3630,3550,3738,4332,4392,3950,3341,3453,2837,2181,1640,1081,557,195,0,0,0,0,57198,3458,3188,3341,3420,3243,3569,3296,3611,4325,4446,3830,3289,3542,2903,2448,2073,1648,997,571,0,0,0,0,113583,109522,2944,1117,47251,13823,8249,13799,8,48,2143,3314,3316,1649,7,895,33073,19114,2304,1424,2626,1949,2140,1226,1226,901,163,24944,109290,102582,1823,2898,1674,313,111488,111449,102706,37826,36796,28084,8458,7056,808,594,285,39,111488,79981,32962,47019,534,13429,4483,8946,16423,14962,234,1027,200,1121,47251,13823,16652,7561,6031,2115,737,204,128,47251,164,918,3312,7381,11389,10889,5464,3811,3923,47251,28028,10115,6683,1912,513,47251,89,3781,12456,20797,8121,2007,47251,18768,16572,10368,1334,209,47251,1860,35638,3782,2635,593,529,2214,91821,22671,31997,8995,28512,16316,7365,12810,11726,11509,4767,12216,17472,3751,83059,2820,35,626,1628,440,411,36485,3685,1767,6767,257,28138,113583,103736,1378,2106,2334,4029,54921,11510,10969,6171,7849,3849,2218,1519,1474,5555,3807]
["Local Authority","South Staffordshire","South Staffordshire","E07000196",108131,4878,5210,6236,6655,6035,4972,4785,6363,8149,8789,8069,7316,8169,7051,5666,4251,2907,1763,867,1114,1183,1282,2657,53243,2485,2675,3162,3485,3335,2554,2366,3081,4034,4316,3932,3543,4028,3439,2817,1962,1209,599,221,0,0,0,0,54888,2393,2535,3074,3170,2700,2418,2419,3282,4115,4473,4137,3773,4141,3612,2849,2289,1698,1164,646,0,0,0,0,108131,104381,2872,878,44458,11239,7748,16376,0,34,1852,2663,2458,1537,0,551,33153,20872,1495,1299,2983,1675,2006,1275,717,694,137,20933,105328,104334,503,320,135,36,106157,106144,98647,45010,42589,11048,6192,5077,495,620,1305,13,106157,83079,36049,47030,436,12930,1191,11739,8701,7781,181,605,134,1011,44458,11239,16981,7213,6581,1879,434,88,43,44458,77,466,2309,7020,9908,9462,6328,4481,4407,44458,28548,9310,5141,1225,234,44458,79,2597,10724,19804,9081,2173,44458,19360,15989,8102,914,93,44458,824,37727,1652,1784,406,475,1590,90506,21699,31883,7871,30921,15432,7247,13421,12371,11452,5171,13886,18179,988,80718,2901,110,1300,1719,107,339,40250,2716,570,3046,270,27390,108131,105129,118,224,418,2242,53328,5047,6291,13268,10582,4355,1320,890,1459,5996,4120]
["Local Authority","Forest Heath","Forest Heath","E07000201",59748,4123,3223,3092,2960,4675,5508,4574,3993,3952,3883,3408,3081,3582,2756,2307,1882,1450,909,390,625,601,638,1228,30153,2129,1656,1579,1488,2504,2882,2382,2118,2030,1978,1711,1497,1760,1326,1132,910,611,324,136,0,0,0,0,29595,1994,1567,1513,1472,2171,2626,2192,1875,1922,1905,1697,1584,1822,1430,1175,972,839,585,254,0,0,0,0,59748,57424,1314,1010,25376,7238,4257,7308,1,18,1094,2163,1712,813,12,760,17543,10414,1493,777,1182,1139,979,529,635,338,57,12260,57155,54020,1043,1363,619,110,58175,58131,52371,21859,17706,12806,5443,4428,651,364,317,44,58175,31995,13028,18967,793,8483,3209,5274,14585,12809,832,511,433,2319,25376,7238,9669,4082,3034,1013,263,54,23,25376,102,522,2028,6173,6706,4473,2450,1546,1376,25376,12746,6650,4382,1295,303,25376,57,2271,8768,9801,3545,934,25376,8547,9949,5897,888,95,25376,423,14629,3315,5219,186,354,1250,48684,12505,14413,3676,11761,6832,3168,5368,4581,5161,1457,4912,8223,6635,44053,1435,26,253,574,121,235,22429,1844,1156,3299,168,12513,59748,46020,5408,4121,1760,2439,31540,6728,3070,4556,5370,2777,857,997,1373,3079,2733]
["Local Authority","Ipswich","Ipswich","E07000202",133384,9250,7630,7552,8636,9562,10877,9963,9124,9425,8991,8184,7223,7137,5239,4362,3880,3231,2011,1107,1421,1511,1467,3153,66428,4820,4022,3960,4425,4525,5635,5093,4663,4902,4506,4039,3540,3473,2636,2062,1753,1370,686,318,0,0,0,0,66956,4430,3608,3592,4211,5037,5242,4870,4461,4523,4485,4145,3683,3664,2603,2300,2127,1861,1325,789,0,0,0,0,133384,128244,3863,1277,57298,18507,8570,13777,17,63,3203,4636,4723,2101,36,1665,37624,20887,3237,1715,2939,2572,2287,1314,1533,981,159,29582,127615,117903,3352,3852,2136,372,131262,131064,110050,19533,56765,33752,20898,17583,2338,977,116,198,131262,76763,28022,48741,747,27270,18942,8328,25275,23831,186,1041,217,1207,57298,18507,19242,9036,6959,2438,838,176,102,57298,434,2040,6698,9161,15951,14011,4802,2305,1896,57298,27844,13129,11392,3876,1057,57298,165,7308,14543,28592,5252,1438,57298,18895,19943,16343,1809,308,57298,2169,45239,7345,159,67,687,1632,107396,27723,38670,10064,30836,18051,7035,14509,11657,12738,3914,12331,17839,6139,97167,2216,59,1622,5067,237,724,36712,4529,3069,10929,315,31688,133384,117601,2482,3300,4037,5964,65479,16126,18385,6845,6392,2498,1471,1061,2882,4674,5145]
["Local Authority","Elmbridge","Elmbridge","E07000207",130875,9358,8639,8315,7155,5109,6036,8430,10219,10958,11045,9006,7419,7668,5818,4722,4043,3273,2344,1318,1658,1703,1675,3279,63462,4803,4394,4349,3678,2555,2901,4032,4907,5259,5542,4306,3676,3682,2763,2136,1849,1418,833,379,0,0,0,0,67413,4555,4245,3966,3477,2554,3135,4398,5312,5699,5503,4700,3743,3986,3055,2586,2194,1855,1511,939,0,0,0,0,130875,123326,3631,3918,52922,14568,12924,14423,5,94,1775,3398,2778,1777,26,1154,37618,19997,2753,1358,2804,3189,3192,1656,1198,1235,236,31669,125284,117069,4676,2653,755,131,129483,129411,108823,50897,36436,21490,20484,16880,2295,1309,104,72,129483,96485,36248,60237,783,11005,2486,8519,19990,18785,362,690,153,1220,52922,14568,17450,8221,9102,2758,666,117,40,52922,229,1316,4692,8968,9047,8755,6094,4872,8949,52922,31817,10078,7830,2573,624,52922,79,5255,12692,16873,10874,7149,52922,23842,16409,11208,1325,138,52922,729,45999,3564,219,57,601,1753,103005,13628,31377,4075,51209,8684,4204,33862,7601,33271,4368,22670,16102,11151,92027,6287,669,13432,1380,194,761,33767,1701,2062,4012,465,27297,130875,106959,3043,3537,4101,13235,64730,6566,8453,9503,9740,11703,1939,587,805,9879,5555]
["Local Authority","Reigate and Banstead","Reigate and Banstead","E07000211",137835,9153,8091,8218,7676,6965,8147,9676,10118,10703,10946,9110,7833,8466,6263,4918,4282,3419,2427,1424,1612,1635,1672,3299,67422,4699,4018,4161,3925,3601,3999,4718,4984,5281,5538,4534,3911,4149,3016,2317,1940,1420,830,381,0,0,0,0,70413,4454,4073,4057,3751,3364,4148,4958,5134,5422,5408,4576,3922,4317,3247,2601,2342,1999,1597,1043,0,0,0,0,137835,131817,3802,2216,55423,15163,11558,15832,3,74,2289,4154,3147,1912,14,1277,39481,22312,2853,1436,2916,2904,2896,1593,1298,1078,195,30600,132316,125749,3651,2116,686,114,134346,134161,109641,42244,44180,23217,24024,19872,2868,1284,496,185,134346,100000,35918,64082,1442,15334,3415,11919,16637,15441,231,793,172,933,55423,15163,18958,8866,8777,2722,723,149,65,55423,249,1273,5238,10235,10845,10708,6532,4459,5884,55423,30842,11684,9236,2930,731,55423,131,5712,14333,20851,10089,4307,55423,21810,18530,13043,1814,226,55423,799,47740,3845,464,78,656,1841,110725,18363,38041,6753,47818,14074,5884,26899,10676,23755,4926,21247,19414,7275,99173,4791,378,10710,2071,349,618,41681,2601,1222,6428,387,27937,137835,121187,1446,2345,3528,9329,71236,9834,10810,10872,10271,7459,5073,1201,1011,8477,6228]
["Local Authority","Waverley","Waverley","E07000216",121572,7341,7335,7727,7910,5101,5248,6384,8348,9333,9432,8300,7255,8036,6710,5251,4585,3405,2368,1503,1461,1493,1572,3201,59326,3759,3780,4056,4191,2597,2640,2983,4061,4654,4578,4137,3555,3867,3207,2517,2069,1425,847,403,0,0,0,0,62246,3582,3555,3671,3719,2504,2608,3401,4287,4679,4854,4163,3700,4169,3503,2734,2516,1980,1521,1100,0,0,0,0,121572,112833,5853,2886,49280,13698,10534,15566,6,62,1519,3027,2189,1562,154,963,34839,20473,2025,1169,2356,2373,2622,1413,1158,1060,190,26356,117340,113371,2166,1425,322,56,117219,117159,103859,53376,34110,16373,12949,9762,2247,940,351,60,117219,88342,36329,52013,1034,13146,9956,3190,12857,11467,567,614,209,1840,49280,13698,17801,7437,7145,2448,592,103,56,49280,188,924,4162,7514,9055,8552,6188,4990,7707,49280,31070,8916,6964,1848,482,49280,74,5036,11417,17330,10578,4845,49280,22114,15632,10323,1060,151,49280,589,40724,3108,2089,190,428,2152,97478,14790,31924,4344,49663,10139,5315,30747,8979,26582,4730,21366,17440,5443,85617,6031,173,6656,1001,88,419,35790,2240,916,5467,397,26439,121572,108682,1439,1584,2014,7853,59178,7651,6071,6505,9535,3540,2302,5857,2213,9954,5550]
["Local Authority","Woking","Woking","E07000217",99198,7278,6003,5578,5320,4961,6812,7803,8103,7687,7418,6494,5443,5455,4090,3290,2883,2254,1527,799,1150,1062,1161,2205,49144,3729,3075,2846,2717,2435,3342,3947,4160,3885,3701,3259,2807,2708,1979,1593,1302,895,563,201,0,0,0,0,50054,3549,2928,2732,2603,2526,3470,3856,3943,3802,3717,3235,2636,2747,2111,1697,1581,1359,964,598,0,0,0,0,99198,94908,2378,1912,39467,10499,9016,11122,6,54,1330,2889,2062,1290,27,1172,28335,15757,2240,1080,1961,2221,1930,1115,1098,797,136,22686,94761,85179,4646,3447,1260,229,98282,98222,80726,34205,26670,19851,17273,14969,1472,832,223,60,98282,70017,25050,44967,919,11186,7782,3404,15379,14208,328,616,227,781,39467,10499,13130,6450,6280,2125,698,149,136,39467,230,1315,4459,6857,8208,6509,4033,3229,4627,39467,20479,8041,7425,2699,823,39467,125,5149,9288,14235,7420,3250,39467,14981,12159,10438,1588,301,39467,894,31319,4765,264,67,750,1408,79185,12042,25979,4140,34386,8255,3865,21024,7162,21044,3760,14755,13059,8410,71722,3400,204,8164,1194,187,394,29669,1928,1368,4567,266,20381,99198,79477,2308,3348,4110,9955,51341,7242,7283,8068,7124,3169,5322,2161,783,5842,4347]
["Local Authority","Warwick","Warwick","E07000222",137648,7920,7128,7127,8025,11623,9321,9220,9552,10083,10131,8571,7707,8190,6711,5171,4280,3445,2277,1166,1357,1447,1413,2910,68650,4047,3673,3695,4284,6156,4730,4662,4874,4998,5089,4347,3775,4120,3281,2471,1946,1369,829,304,0,0,0,0,68998,3873,3455,3432,3741,5467,4591,4558,4678,5085,5042,4224,3932,4070,3430,2700,2334,2076,1448,862,0,0,0,0,137648,125555,8974,3119,58679,18600,9770,15748,7,84,1891,4420,3656,1828,966,1709,38043,22515,2645,1614,2826,2533,2521,1325,1003,880,181,26910,132826,125010,3736,2772,1114,194,134590,134274,113434,37356,46088,29990,20635,15488,3874,1273,205,316,134590,92502,37290,55212,1072,16339,11478,4861,23488,21954,301,976,257,1189,58679,18600,20646,8406,7467,2368,834,216,142,58679,250,1476,5338,11564,12250,11035,6592,4653,5521,58679,32042,13363,9444,3068,762,58679,116,6049,16314,21771,10415,4014,58679,22858,20879,13153,1593,196,58679,1230,46514,6492,1757,158,516,2012,114051,18691,40079,7556,52634,15386,7850,34715,12438,30819,6270,21578,20508,6917,102883,4714,77,2331,2559,148,406,45068,3368,2228,8358,351,33275,137648,121745,2372,2471,2588,8472,69608,13046,12720,9860,10547,4267,2107,1322,3096,8208,4435]
["Local Authority","Horsham","Horsham","E07000227",131301,7151,7251,8469,7876,5660,5858,6732,8200,10310,10978,9784,8353,9109,7279,5851,4903,3814,2356,1367,1592,1752,1740,3385,63806,3742,3697,4359,4088,2951,2877,3195,3856,4959,5307,4857,4087,4488,3520,2767,2227,1621,843,365,0,0,0,0,67495,3409,3554,4110,3788,2709,2981,3537,4344,5351,5671,4927,4266,4621,3759,3084,2676,2193,1513,1002,0,0,0,0,131301,124586,4340,2375,54923,15476,10774,17888,10,77,1853,3587,2698,1597,6,957,38935,23476,2063,1468,2914,2426,2855,1535,1033,987,178,27411,127080,123650,1891,1151,341,47,128633,128575,113185,54507,36918,21760,14779,12615,1296,868,611,58,128633,97988,39634,58354,742,13907,1505,12402,14405,12882,497,823,203,1591,54923,15476,20234,8246,7898,2303,606,102,58,54923,306,1256,4676,8833,10988,10038,6730,5212,6884,54923,33258,10645,8091,2340,589,54923,137,5743,13053,20591,11327,4072,54923,23761,17963,11873,1165,161,54923,1116,40090,4894,5587,350,558,2328,106758,17407,37831,6132,48554,14151,7007,25486,11310,20348,5241,20389,20410,4463,94318,5695,102,4719,1161,77,409,43221,2817,1121,6607,370,28019,131301,120813,1140,1341,1727,6280,66299,9117,6810,6815,12849,6075,2779,4281,2107,9683,5783]
["Local Authority","Worthing","Worthing","E07000229",104640,6346,5559,5584,5659,5497,6013,6415,6938,7933,7919,6775,5852,6576,5344,4597,3986,3569,2504,1574,1053,1092,1154,2285,50384,3309,2960,2819,2932,2702,2867,3092,3400,3988,3866,3376,2847,3238,2504,2112,1671,1458,848,395,0,0,0,0,54256,3037,2599,2765,2727,2795,3146,3323,3538,3945,4053,3399,3005,3338,2840,2485,2315,2111,1656,1179,0,0,0,0,104640,100845,2616,1179,47044,16890,6962,11980,13,94,1860,3289,3107,1577,48,1224,29264,17170,2042,1301,2195,1933,1895,998,934,668,128,21200,100851,96472,2036,1674,587,82,102752,102209,77110,23995,27605,25510,25092,16911,6684,1497,7,543,102752,73352,28658,44694,440,9884,2266,7618,18412,17004,139,1087,182,664,47044,16890,15807,6424,5565,1647,572,97,42,47044,685,2004,5978,10421,10444,8549,4613,2421,1929,47044,21533,11555,9644,3226,1086,47044,173,8303,15081,16885,5143,1459,47044,13066,17637,14645,1551,145,47044,1666,37064,6232,216,54,409,1403,85971,18319,30430,6533,29941,13608,5338,13602,10397,11366,4186,13334,15619,3888,74338,2821,61,3262,1588,170,487,29459,2621,2611,7265,266,23727,104640,94784,945,1446,2052,5413,50611,12595,11712,3445,5496,2834,1286,1105,2337,5271,4530]
["Local Authority","Redditch","Redditch","E07000236",84214,5629,4886,4996,5076,5175,5995,6022,5904,6042,5901,5470,5618,5616,4052,2699,2046,1603,986,498,966,990,948,2092,41848,2941,2522,2596,2604,2584,2914,3060,2950,3006,2973,2657,2716,2875,2070,1327,930,673,312,138,0,0,0,0,42366,2688,2364,2400,2472,2591,3081,2962,2954,3036,2928,2813,2902,2741,1982,1372,1116,930,674,360,0,0,0,0,84214,81683,1868,663,34722,9282,5916,10072,1,38,1774,2705,2964,1284,2,684,25167,14349,1826,1262,2098,1588,1512,863,950,609,110,19023,80856,76513,1388,1822,977,156,83745,83637,74978,24580,26190,24208,8634,7580,782,272,25,108,83745,57126,18339,38787,287,16198,12784,3414,9506,8716,81,648,61,628,34722,9282,12550,5709,4785,1647,526,134,89,34722,194,848,3592,5248,9566,6823,3827,2502,2122,34722,18333,7219,6610,2022,538,34722,109,4303,7064,16211,5887,1148,34722,13219,10845,9117,1355,186,34722,522,30743,1583,194,50,422,1208,67656,16996,25074,6714,19515,12323,4864,8512,8570,7055,3418,7826,12751,2697,62523,1673,29,742,3064,208,230,29837,2862,671,3418,188,19601,84214,77516,687,1476,1570,2965,42922,7731,11907,3999,5708,4482,874,383,1065,3623,3150]
["Local Authority","Bury","Bury","E08000002",185060,12235,11108,11361,11545,10688,11622,11483,12314,14180,14354,12337,10581,11712,8968,7324,5616,4007,2397,1228,2136,2223,2305,4697,90588,6226,5782,5854,5976,5393,5656,5561,5969,6897,7066,6113,5236,5801,4383,3391,2477,1612,892,303,0,0,0,0,94472,6009,5326,5507,5569,5295,5966,5922,6345,7283,7288,6224,5345,5911,4585,3933,3139,2395,1505,925,0,0,0,0,185060,178784,4579,1697,78113,24263,13021,20792,9,78,3800,4883,6564,3219,23,1461,53194,29431,3632,2580,4881,3488,3371,1837,2301,1412,261,42593,177700,169065,3238,3253,1825,319,183025,182999,167861,38020,76573,53268,15084,13075,1190,819,54,26,183025,133146,48570,84576,499,22924,14951,7973,24631,22490,121,1834,186,1825,78113,24263,26003,12647,9981,3454,1187,321,257,78113,200,1280,6602,15965,20530,16743,8208,4684,3901,78113,40576,19413,13964,3360,800,78113,160,6882,23682,34249,10619,2521,78113,26474,29380,19421,2477,361,78113,1881,68474,4511,252,87,712,2196,147935,33377,50794,12808,52294,24225,9165,24626,18409,22787,6929,21382,25481,5239,134687,3845,4295,555,5769,718,467,58347,4932,1195,7490,423,46651,185060,168945,1178,2286,3472,9179,88036,13856,17131,19581,15805,3567,1170,1084,1861,7689,6292]
["Local Authority","Stockport","Stockport","E08000007",283275,17342,15808,16759,16875,15184,15896,17124,18582,21363,22206,19670,17176,18263,14277,12238,10122,7640,4441,2309,3201,3317,3269,6972,138400,8948,8176,8488,8806,7558,7669,8378,9049,10393,10897,9869,8704,9082,6860,5712,4534,3113,1578,586,0,0,0,0,144875,8394,7632,8271,8069,7626,8227,8746,9533,10970,11309,9801,8472,9181,7417,6526,5588,4527,2863,1723,0,0,0,0,283275,273464,7012,2799,121979,38535,20091,33672,19,129,5114,7523,9853,5038,12,1993,82703,47039,5887,3925,7208,5285,5423,2891,2611,2030,404,61533,272921,264449,3950,2967,1310,245,280915,280688,254378,67201,128812,58365,26194,21899,2530,1765,116,227,280915,215105,82237,132868,1696,31598,21171,10427,30397,27814,180,2126,277,2119,121979,38535,41329,18868,16015,5199,1509,352,172,121979,357,2029,10036,20609,30557,27704,14568,8773,7346,121979,69260,28060,18789,4726,1144,121979,258,11231,33050,53800,18321,5319,121979,45609,44149,28470,3337,414,121979,2837,105519,8139,506,123,1516,3339,229822,47430,80259,18694,89458,34163,16587,46539,27419,42671,12066,37841,39902,6987,205310,7234,228,6971,11125,457,773,89656,6005,2802,11179,700,68180,283275,263914,1165,2040,3175,12981,137130,20812,29557,29992,23689,3157,1549,2095,2864,13362,10053]
["Local Authority","Liverpool","Liverpool","E08000012",466415,26099,22254,24315,34572,50636,39966,33053,28069,30893,32022,29288,25364,24418,17685,16342,13967,9742,5307,2423,4582,4728,4851,10154,230483,13392,11316,12265,16759,25455,21151,17470,14186,15498,15243,14333,12630,12252,8594,7622,6073,3896,1747,601,0,0,0,0,235932,12707,10938,12050,17813,25181,18815,15583,13883,15395,16779,14955,12734,12166,9091,8720,7894,5846,3560,1822,0,0,0,0,466415,429611,30055,6749,206515,80973,21486,37934,32,162,7469,11729,23337,12081,3466,7846,116306,62743,9447,6680,11821,7230,6782,3887,4214,2966,536,90778,450439,422074,10977,11494,4892,1002,450085,447813,378576,38996,144398,195182,69135,51782,13320,4033,102,2272,450085,230943,85187,145756,2153,113496,20592,92904,98844,92741,416,3738,1949,4649,206515,80973,60213,30559,22422,8435,2851,704,358,206515,2082,7072,25403,38579,55875,45664,16450,9007,6383,206515,90381,53298,42804,15130,4902,206515,644,26202,54680,97667,20586,6736,206515,63556,74964,58636,8097,1262,206515,9941,168154,17184,261,145,4381,6449,388315,111532,123078,38408,122066,59917,17029,74575,41168,59677,13732,41094,52439,17580,356876,5258,1102,9962,38601,2777,794,95678,11805,4062,25208,1383,160246,466415,420290,10489,9134,11103,15399,196630,34811,51672,48405,17061,5491,2175,4363,4965,12180,15507]
["Local Authority","Wirral","Wirral","E08000015",319783,18514,17677,19005,19863,18069,17939,17112,19161,22719,24360,22395,20263,21740,17035,14284,12018,9295,5481,2853,3581,3653,3872,7899,153847,9444,9064,9738,10332,8955,8731,8123,9171,11007,11584,10824,9830,10727,8254,6562,5242,3682,1845,732,0,0,0,0,165936,9070,8613,9267,9531,9114,9208,8989,9990,11712,12776,11571,10433,11013,8781,7722,6776,5613,3636,2121,0,0,0,0,319783,309921,7311,2551,140583,47329,19210,37141,16,132,5670,7606,13891,6813,20,2755,91781,52302,6035,4438,8525,5416,5767,3299,3214,2351,434,68763,308781,303789,2285,1554,928,225,316384,316020,283273,58087,144581,80605,32711,21511,8159,3041,36,364,316384,223487,88242,135245,1232,40957,15478,25479,48353,44916,196,2843,398,2355,140583,47329,46532,21818,16925,5796,1705,304,174,140583,393,1999,11094,20922,32805,35361,17953,10535,9521,140583,83342,32052,19686,4438,1065,140583,209,12034,30869,67933,22480,7058,140583,57252,50517,29534,2886,394,140583,4607,123570,6459,350,141,1644,3812,260498,61014,91257,25122,89354,47040,20325,41989,33200,36049,13172,38833,47505,4881,230851,5605,1374,8419,10107,986,1295,88088,8512,2306,11960,1277,90922,319783,306853,928,1453,2293,8256,139929,20927,30527,32533,19400,5932,1877,2717,4051,11602,10363]
["Local Authority","Doncaster","Doncaster","E08000017",302402,19220,17072,17407,18937,19417,20239,17825,18852,21581,22572,20928,18364,18847,14737,12372,10174,7486,4346,2026,3205,3379,3489,7334,149230,9751,8633,8772,9699,9798,10370,9238,9558,10584,11248,10503,9186,9200,7296,5698,4494,3098,1572,532,0,0,0,0,153172,9469,8439,8635,9238,9619,9869,8587,9294,10997,11324,10425,9178,9647,7441,6674,5680,4388,2774,1494,0,0,0,0,302402,293534,6969,1899,126487,36104,18297,36942,19,123,7650,8877,10679,4912,24,2860,88886,51480,6094,4071,7649,5651,5259,2878,3406,2047,351,65651,290756,278867,3471,4814,3023,581,297200,296940,281128,72418,138571,70139,14541,11309,1700,1532,1271,260,297200,199827,76836,122991,830,48509,42583,5926,44407,40459,387,3207,354,3627,126487,36104,45170,20979,16425,5569,1699,359,182,126487,361,1386,8335,20059,40400,31471,12461,6679,5335,126487,70344,31647,18758,4404,1334,126487,204,8887,30346,69266,14513,3271,126487,47959,47127,27228,3581,592,126487,1831,111722,3253,1349,2633,1542,4157,244909,74119,82240,30158,60684,46854,18662,24139,27693,19348,10124,25179,43689,6933,220877,4837,120,2916,10123,826,832,86549,10210,3301,13427,674,87062,302402,283733,2125,4229,4781,7534,133815,20502,25659,26358,19433,8124,3913,3416,4564,11055,10791]
["Local Authority","North Tyneside","North Tyneside","E08000022",200801,11732,10653,10921,11459,10908,12411,13326,13505,14813,15766,14180,12773,13059,9704,8392,7124,5363,3155,1557,2090,2135,2112,4584,96883,6116,5474,5566,5830,5379,5918,6569,6527,7137,7750,6952,6267,6327,4659,3766,3151,2057,1046,392,0,0,0,0,103918,5616,5179,5355,5629,5529,6493,6757,6978,7676,8016,7228,6506,6732,5045,4626,3973,3306,2109,1165,0,0,0,0,200801,194493,4595,1713,91295,30960,12862,24470,6,106,3880,6127,7747,3420,26,1691,59231,34422,4421,3159,5179,3567,3712,1904,1587,1068,212,40945,193700,190008,1818,1216,528,130,199142,199090,168254,24286,91577,52391,30768,23488,5984,1296,68,52,199142,136202,47023,89179,750,39029,30378,8651,21831,19587,184,1854,206,1330,91295,30960,31879,14107,10722,2785,689,98,55,91295,206,1352,8745,22186,23533,17618,9107,5091,3457,91295,44575,25663,17130,3305,622,91295,150,8962,29925,39186,10217,2855,91295,30014,37089,22082,1896,214,91295,1326,80988,4696,52,92,1117,3024,165088,39157,58663,17669,55220,29004,14779,26654,21432,24756,8801,23258,30753,3342,147889,3238,8650,1454,8714,801,479,55227,6085,2399,7974,1005,51863,200801,192855,667,1154,1989,4136,96026,16314,21840,21618,16995,1658,467,806,2639,6997,6692]
["Local Authority","Dudley","Dudley","E08000027",312925,18867,17934,18539,19863,18141,18947,18024,19798,23848,23248,19583,18389,19547,17255,14247,11379,8418,4673,2225,3594,3537,3646,7762,153819,9554,9069,9528,10270,9124,9299,8917,9866,11824,11547,9797,9186,9731,8487,6839,5119,3476,1585,601,0,0,0,0,159106,9313,8865,9011,9593,9017,9648,9107,9932,12024,11701,9786,9203,9816,8768,7408,6260,4942,3088,1624,0,0,0,0,312925,305021,6311,1593,129867,36652,21659,39764,11,82,6518,8017,9625,5465,16,2058,92719,54139,6051,4045,7747,5358,5994,3261,3408,2295,421,68666,301573,291886,3323,3514,2385,465,310398,310216,284369,72064,160800,51505,25709,22041,1895,1773,138,182,310398,220034,91324,128710,1467,57723,49276,8447,27479,25162,270,1749,298,3695,129867,36652,45175,21746,17603,5877,1975,476,363,129867,334,1994,10865,21275,38042,31529,14228,7264,4336,129867,69481,30824,22548,5659,1355,129867,273,11753,31539,68937,14661,2704,129867,46208,46714,32094,4216,635,129867,4726,110486,9000,94,262,1396,3903,253421,75980,84183,24535,70267,46982,16428,27937,33175,24292,12068,28093,44677,4977,226726,4931,197,4190,10343,444,1234,98853,8237,1748,11257,564,84728,312925,296308,1086,1805,3453,10273,141998,22859,35502,31218,20914,4167,1585,1285,3228,10956,10284]
["Local Authority","Sandwell","Sandwell","E08000028",308063,22669,20194,19333,20220,20793,23085,21235,21168,22411,21398,17991,15495,15230,13139,11381,9186,6950,4096,2089,3714,3756,3893,7970,151592,11529,10348,10101,10364,10328,11076,10527,10795,11030,10450,9188,7807,7649,6309,5364,4113,2748,1354,512,0,0,0,0,156471,11140,9846,9232,9856,10465,12009,10708,10373,11381,10948,8803,7688,7581,6830,6017,5073,4202,2742,1577,0,0,0,0,308063,301553,4919,1591,121498,35935,20939,29869,8,84,6532,6750,12459,6107,88,2727,85819,44624,7241,4605,7532,5971,5218,2840,4446,2887,455,75621,294251,258951,9910,12849,10190,2351,305928,305709,269455,40611,143655,85189,36112,31832,2361,1919,142,219,305928,183357,70221,113136,1596,75744,63361,12383,40569,37911,200,2021,437,4662,121498,35935,35998,20756,16496,7177,3469,954,713,121498,459,2272,12945,21224,39329,29273,9291,4212,2493,121498,52796,31801,26377,7852,2672,121498,312,13206,30265,66245,9115,2355,121498,34389,42517,36277,6878,1437,121498,4176,99907,9390,55,156,2464,5350,241829,85040,72228,24748,48731,40499,10767,20851,26412,20933,8338,18302,34512,14463,219508,2846,1635,3672,18311,753,841,77240,9035,2030,11588,679,90878,308063,258993,4687,7210,10772,26401,128630,20368,34988,33361,14481,2430,1747,1140,3118,7840,9157]
["Local Authority","Calderdale","Calderdale","E08000033",203826,12906,11982,12563,12629,11421,12089,12375,13604,15959,15886,14195,12401,13344,9848,7745,5956,4629,2831,1463,2328,2534,2556,5145,99627,6469,6025,6415,6445,5676,5944,6152,6772,7884,7908,7070,6240,6570,4848,3666,2532,1721,952,338,0,0,0,0,104199,6437,5957,6148,6184,5745,6145,6223,6832,8075,7978,7125,6161,6774,5000,4079,3424,2908,1879,1125,0,0,0,0,203826,196497,5464,1865,88621,29023,13725,22894,29,146,4578,6318,7164,2994,28,1722,58845,32908,4063,2890,5174,3778,3777,2126,2259,1600,270,45993,196024,186166,3112,3530,2585,631,202376,202162,182689,33638,60344,88707,19247,15953,2089,1205,226,214,202376,143066,55162,87904,835,25607,9588,16019,30609,27544,242,2405,418,2259,88621,29023,30183,13197,10711,3548,1376,333,250,88621,283,2106,10046,21421,21731,15514,7930,4934,4656,88621,40589,23988,18246,4737,1061,88621,190,10771,29568,33268,11292,3532,88621,27273,34244,24073,2605,426,88621,4862,71632,5985,954,566,998,3624,163645,38943,56896,14577,55568,27879,13319,27126,20221,24384,7374,23488,29361,4618,148766,4795,81,3242,8222,519,628,61160,6179,903,10444,472,52121,203826,188590,1306,2095,2732,9103,96645,17372,21761,18300,12837,5308,2047,1098,1729,9506,6687]
["Local Authority","City of London","City of London","E09000001",7375,236,182,169,197,545,956,820,598,627,600,471,476,463,329,258,185,146,75,42,39,28,35,67,4091,92,97,95,100,288,536,471,353,378,354,303,259,239,189,144,78,70,24,21,0,0,0,0,3284,144,85,74,97,257,420,349,245,249,246,168,217,224,140,114,107,76,51,21,0,0,0,0,7375,5667,1115,593,4385,2472,258,667,0,50,64,381,104,76,30,283,1609,1178,115,71,82,59,48,18,19,18,1,652,7212,5976,830,305,89,12,7187,7162,201,32,16,153,6961,6263,232,466,0,25,7187,3023,1666,1357,27,1344,773,571,2465,2263,28,100,74,328,4385,2472,1356,339,153,36,17,7,5,4385,373,870,1357,1086,366,175,86,38,34,4385,512,832,1524,1023,494,4385,75,2337,1383,430,132,28,4385,359,1042,2655,288,41,4385,189,1338,2104,56,0,610,88,6755,454,1789,180,3596,317,116,3193,249,4140,157,2107,989,1567,6307,436,926,274,268,44,25,145,12,252,2297,68,1560,7375,4670,509,512,494,1190,4747,2257,846,384,137,31,23,17,83,687,282]
["Local Authority","Bromley","Bromley","E09000006",309392,20095,18061,18612,17912,16119,17887,21064,22214,24854,24312,20684,17049,18492,14177,11593,10224,8228,5086,2729,3639,3563,3779,7631,148588,10228,9123,9586,9165,7826,8651,10193,10565,12037,11657,10177,8260,8807,6732,5217,4516,3312,1811,725,0,0,0,0,160804,9867,8938,9026,8747,8293,9236,10871,11649,12817,12655,10507,8789,9685,7445,6376,5708,4916,3275,2004,0,0,0,0,309392,297843,7139,4410,130862,40815,23748,34153,17,214,4857,8056,10568,5315,50,3069,88218,48549,6673,4005,7143,6153,6311,3472,2924,2538,450,69639,297299,280077,9301,5706,1931,284,307023,306360,239299,64369,104272,70658,66726,49489,13356,3881,335,663,307023,223431,83924,139507,2169,40788,4366,36422,38345,35916,427,1652,350,2290,130862,40815,41993,21331,18166,6504,1592,314,147,130862,893,3699,14910,25559,27014,25055,15017,9484,9231,130862,66575,28494,25337,7995,2461,130862,313,17128,34471,48907,22182,7861,130862,46728,43322,35383,4789,640,130862,2614,114271,8057,373,86,1672,3789,248806,44572,82798,14299,102325,28190,11642,58314,21393,54140,10020,44187,40003,18198,222539,8800,5026,46672,11355,786,1681,60948,3378,2254,9574,894,71171,309392,264648,3223,5018,8780,27723,151368,15585,18933,21859,48292,11462,2061,1111,1785,15799,14481]
["Local Authority","Camden","Camden","E09000007",220338,13168,10898,9594,12523,21863,25923,24427,19169,15977,13244,10958,9362,9255,7306,5631,4442,3455,2048,1095,2097,1963,1826,3708,107885,6834,5427,4856,6019,10286,12523,12331,9531,8105,6668,5672,4723,4407,3409,2615,1982,1454,735,308,0,0,0,0,112453,6334,5471,4738,6504,11577,13400,12096,9638,7872,6576,5286,4639,4848,3897,3016,2460,2001,1313,787,0,0,0,0,220338,190645,16007,13686,97534,39531,11646,12384,18,559,2115,9134,7362,3992,2299,8494,48340,26816,4286,2324,3267,3561,2688,1219,2402,1582,195,39685,212089,162326,27177,15709,5812,1065,212443,207069,42061,5534,12095,24432,164916,107979,51194,5743,92,5374,212443,67967,33901,34066,1349,73612,52959,20653,66169,62752,567,2004,846,3346,97534,39531,28215,13085,10245,4095,1511,495,357,97534,6116,12241,23651,24696,15362,6636,3151,2299,3382,97534,17914,17669,30258,20452,11241,97534,1018,35307,31749,18521,7060,3879,97534,12965,24078,48293,10127,2071,97534,3406,71550,9762,1457,35,7226,4098,184873,23451,47467,7789,77571,11663,2845,68192,8437,82819,4101,32847,21029,43030,173833,8984,37305,7089,16076,770,1237,10904,793,7072,17641,1095,64867,220338,126695,16055,15084,15564,46940,108966,17698,27648,29373,6766,1417,489,585,1449,14366,9175]
["Local Authority","Hammersmith and Fulham","Hammersmith and Fulham","E09000013",182493,11900,8559,7621,7916,17279,26021,22008,17182,13669,11414,8703,7131,6677,5011,4091,3035,2265,1297,714,1613,1600,1516,2892,88914,6060,4292,3814,4009,8613,12467,10830,8731,6733,5585,4240,3301,3075,2325,1897,1396,903,461,182,0,0,0,0,93579,5840,4267,3807,3907,8666,13554,11178,8451,6936,5829,4463,3830,3602,2686,2194,1639,1362,836,532,0,0,0,0,182493,163067,11022,8404,80590,30148,9862,10435,8,291,1546,7586,6719,3589,1143,9263,41032,22612,3968,1998,2904,3133,2112,1033,1893,1210,169,33088,174921,135236,20945,14185,3942,613,180652,177029,62047,3324,12311,46412,114909,70760,40127,4022,73,3623,180652,60456,25924,34532,2394,54456,27606,26850,60696,57786,327,2044,539,2650,80590,30148,24049,11863,9029,3430,1422,364,285,80590,3651,7336,19981,20696,13113,7365,3805,2304,2339,80590,17086,15152,26113,14368,7871,80590,452,25807,26790,15866,7997,3678,80590,12893,19862,37657,8496,1682,80590,2447,63427,7322,443,15,3245,3691,152863,19515,38812,7160,62456,10884,2816,53353,8034,65902,3967,25432,18331,35996,145552,6098,38996,4466,13802,414,2173,12002,710,7420,12783,754,45934,182493,104454,12933,13077,15137,36892,99618,14006,18115,34833,10020,1412,584,592,1140,10416,8500]
["Local Authority","Havering","Havering","E09000016",237232,13661,13230,14365,15358,14976,14662,14484,14734,17071,17659,16520,13674,14561,11053,9508,8719,6941,4196,1860,2667,2863,2941,5894,114209,6986,6721,7317,7839,7541,7169,6983,7205,8102,8569,8245,6744,7127,5167,4206,3651,2726,1444,467,0,0,0,0,123023,6675,6509,7048,7519,7435,7493,7501,7529,8969,9090,8275,6930,7434,5886,5302,5068,4215,2752,1393,0,0,0,0,237232,230993,4228,2011,97199,28215,16717,28345,9,58,4049,5384,7941,4591,52,1838,68315,39088,4457,2873,5861,4199,4583,2683,2257,1977,337,51638,229106,218645,5028,3801,1351,281,235671,235512,198906,28246,103998,66662,36277,31514,2414,2349,329,159,235671,178166,67328,110838,1212,30531,23077,7454,24380,22826,148,1236,170,1382,97199,28215,31228,16132,14344,5252,1532,320,176,97199,391,2013,9198,17674,29259,21060,9357,4669,3578,97199,47300,23710,19023,5638,1528,97199,193,9574,23641,48093,12419,3279,97199,33455,33805,25925,3499,515,97199,1946,85484,5673,169,114,1174,2639,192844,50951,66378,15080,55280,28292,12078,22807,19273,19882,6601,21406,29247,8361,171128,4038,10763,20347,8711,1216,1016,54368,3642,1020,7080,645,58282,237232,212840,1768,2857,5283,14484,112846,12721,17158,16215,19467,21170,2104,971,1534,8705,12801]
["Local Authority","Kingston upon Thames","Kingston upon Thames","E09000021",160060,10964,8966,8541,9864,13505,12358,13356,13407,12157,11126,9504,7972,7982,5694,4547,3753,3022,2136,1206,1655,1754,1732,3400,78103,5616,4546,4186,4858,6386,6159,6580,6742,6074,5466,4784,3955,3878,2818,2145,1664,1220,707,319,0,0,0,0,81957,5348,4420,4355,5006,7119,6199,6776,6665,6083,5660,4720,4017,4104,2876,2402,2089,1802,1429,887,0,0,0,0,160060,147696,7844,4520,63639,18198,13364,14757,12,130,2021,4811,4001,2322,1241,2782,42276,22619,3747,1872,3230,3393,3013,1572,1436,1163,231,34327,153286,128110,12265,9245,3239,427,156358,155559,110539,23062,57141,30336,44912,34657,7604,2651,108,799,156358,101192,35329,65863,966,16978,11805,5173,35944,33687,454,1261,542,1278,63639,18198,19807,10964,9719,3516,1084,224,127,63639,895,2894,7808,13928,12498,11918,6685,3697,3316,63639,27455,14200,13786,5934,2264,63639,177,9700,18094,22928,8964,3776,63639,18805,20981,20048,3312,493,63639,1943,52623,6154,66,36,820,1997,129790,17400,39397,6060,57870,11830,4497,41086,10298,41622,5085,23363,18482,19336,119673,5156,2967,18777,8520,250,1174,31212,1778,3351,8298,474,37716,160060,114820,5661,7124,9792,22663,81957,11610,12889,11716,21788,5002,1145,694,1004,8942,7167]
["Local Authority","Lambeth","Lambeth","E09000022",303086,20701,16376,14754,14058,26702,43135,37005,27198,23088,20897,15601,11372,9012,6623,5994,4438,3287,1936,909,2940,3014,2938,5862,150921,10590,8153,7519,7045,12870,21717,18588,14287,11819,10438,7602,5547,4473,3107,2819,2013,1363,696,275,0,0,0,0,152165,10111,8223,7235,7013,13832,21418,18417,12911,11269,10459,7999,5825,4539,3516,3175,2425,1924,1240,634,0,0,0,0,303086,283757,12135,7194,130017,44691,13964,14328,26,770,4023,12965,15932,6354,830,16134,70374,35654,7425,4576,5794,5160,3928,1846,3516,2169,306,61544,290080,231326,25554,22432,9206,1562,300101,295305,100270,9671,31691,58908,194940,135853,55135,3952,95,4796,300101,96633,30436,66197,3701,104113,59910,44203,92754,87969,588,3167,1030,2900,130017,44691,39789,21164,14670,6211,2520,592,380,130017,4043,10779,29451,36545,24163,12038,5809,3665,3524,130017,26858,26850,41966,23130,11213,130017,661,35725,46216,30216,11755,5444,130017,20050,33355,58996,14712,2904,130017,4251,100211,11524,606,40,6759,6626,248300,35352,70353,16280,100999,24953,4605,82104,18438,99271,8333,38926,32931,46152,237730,7498,50781,23795,32773,410,2385,20520,1172,13455,12737,968,71236,303086,185337,13625,17648,24691,61785,166494,14376,32941,64043,17599,2468,1118,1093,2120,13862,16874]
["Local Authority","Richmond upon Thames","Richmond upon Thames","E09000027",186990,14038,11107,9827,9085,9145,12546,16026,17433,15937,14536,11805,10067,10142,7406,5617,4525,3709,2503,1536,2005,2060,2038,3724,91149,7213,5630,4992,4453,4479,6096,7744,8673,7904,7251,5857,5022,4904,3613,2604,1994,1498,826,396,0,0,0,0,95841,6825,5477,4835,4632,4666,6450,8282,8760,8033,7285,5948,5045,5238,3793,3013,2531,2211,1677,1140,0,0,0,0,186990,172499,8228,6263,79835,26008,16545,17406,12,269,2535,6572,4302,2650,275,3261,50879,27313,4681,2224,3410,4390,3660,1840,1685,1446,230,41159,178321,159702,11090,5695,1591,243,184098,183488,127543,18580,54639,54324,55621,38675,13267,3679,324,610,184098,121678,47349,74329,1152,20497,5374,15123,38925,36703,482,1305,435,1846,79835,26008,25479,12428,11198,3607,902,133,80,79835,890,3525,10854,18326,15082,12217,7745,5222,5974,79835,36143,18743,16943,6120,1886,79835,224,13237,24469,22420,12596,6889,79835,26568,26674,23396,2851,346,79835,2055,68408,5203,372,65,1187,2545,150052,15915,44295,5710,79511,11062,4370,60767,9938,65460,5811,34379,23357,22143,137779,8870,10605,21768,7531,237,1654,32271,1341,6062,8138,727,38575,186990,141585,5664,6321,8695,24725,99204,10657,14139,15697,28346,4720,1513,961,1280,13870,8021]
["Local Authority","Waltham Forest","Waltham Forest","E09000031",258249,20839,16463,14760,15241,20604,26508,24168,21112,20243,17340,14321,11301,9783,7231,6182,4967,3662,2267,1257,3026,2910,2889,5935,128970,10764,8425,7504,7821,10439,13642,12371,10941,10258,8516,6995,5384,4769,3373,2971,2211,1498,746,342,0,0,0,0,129279,10075,8038,7256,7420,10165,12866,11797,10171,9985,8824,7326,5917,5014,3858,3211,2756,2164,1521,915,0,0,0,0,258249,248598,5207,4444,96861,28756,18026,17384,20,238,3978,6485,10812,5005,601,5556,64967,31170,6814,3695,5416,5253,3998,2016,3921,2325,359,62463,245420,180543,23346,27281,12416,1834,256615,255449,169522,15755,50022,103745,85774,56423,24725,4626,153,1166,256615,125751,42823,82928,2344,52977,26904,26073,73097,69982,273,2079,763,2446,96861,28756,24330,16875,14428,7235,3536,935,766,96861,1836,5436,16462,23666,22447,15692,6585,3045,1692,96861,27568,21364,25474,14112,8343,96861,382,18766,30768,34672,9202,3071,96861,18674,26808,36261,11750,3368,96861,3117,78940,7291,122,53,2806,4532,203131,42262,55579,13392,56549,23439,5632,34888,16349,44855,6922,25233,25477,37198,190978,4085,40146,12468,13452,739,1110,34428,2271,3430,8152,740,69957,258249,158437,10892,16997,23205,48718,121021,12441,15249,28045,31352,3017,982,734,1443,9193,18565]
["Community Forum","N/A","Castle and Priory, St James's and St Thomas's Community Forum","CF03",42346,3205,2975,2770,2900,2811,3101,2815,2874,3230,3151,2422,2117,1910,1708,1493,1229,893,494,248,534,520,581,1135,20790,1590,1482,1430,1468,1371,1493,1349,1470,1579,1556,1191,1107,998,838,730,553,344,165,76,0,0,0,0,21556,1615,1493,1340,1432,1440,1608,1466,1404,1651,1595,1231,1010,912,870,763,676,549,329,172,0,0,0,0,42346,41406,715,225,16695,4839,3052,3998,1,10,934,1018,1720,768,8,347,11813,5971,967,638,1073,798,817,418,669,388,74,10902,40391,37274,930,1170,847,170,41933,41912,37993,8314,22007,7672,3913,3413,290,210,6,21,41933,24521,9031,15490,285,11830,10051,1779,4612,4174,102,230,106,685,16695,4839,5021,2914,2354,922,424,115,106,16695,71,375,1841,3086,4910,3401,1608,852,551,16695,7416,4137,3745,1083,314,16695,53,1889,4386,8061,1930,376,16695,4800,5894,5019,832,150,16695,592,13639,1457,8,22,298,679,32790,10894,10299,3448,7744,5914,1561,3043,3921,2963,1328,2936,5021,1351,29926,440,31,287,1923,94,165,11475,1107,202,1656,85,12461,42346,37430,362,597,1127,2830,17465,3259,4771,3985,1894,399,157,143,439,1165,1253]
["Community Forum","N/A","Brierley Hill, Brockmoor and Pensnett Community Forum","CF04",26858,2032,1582,1545,1793,1924,2133,1788,1797,2036,1868,1494,1405,1463,1181,986,793,595,301,142,320,305,295,625,13280,1011,808,763,945,942,1043,911,908,1004,957,758,693,750,602,458,353,239,97,38,0,0,0,0,13578,1021,774,782,848,982,1090,877,889,1032,911,736,712,713,579,528,440,356,204,104,0,0,0,0,26858,26334,439,85,11332,3480,1532,2765,0,6,804,849,1164,498,2,232,7786,4194,712,436,651,547,449,226,332,205,34,6260,25595,24728,280,359,196,32,26694,26671,23567,3287,15241,5039,3086,2663,220,203,18,23,26694,14394,5292,9102,84,8706,7698,1008,3062,2829,37,162,34,448,11332,3480,3723,1946,1374,533,204,46,26,11332,60,325,1386,2823,3485,2102,699,301,151,11332,4254,3067,2962,840,209,11332,28,1621,3848,5053,631,151,11332,2702,3994,3979,585,72,11332,612,8879,1283,6,57,130,365,21335,7728,6870,2408,4328,4131,1021,1445,2383,1214,664,1354,3404,507,19504,263,5,203,971,49,154,7385,884,225,1459,58,7848,26858,25476,109,223,406,644,11656,2797,3658,1653,1370,305,109,73,227,655,809]
["Community Forum","N/A","Belle Vale, Hayley Green and Cradley South Community Forum","CF09",25346,1540,1430,1451,1596,1444,1502,1425,1593,1837,1799,1695,1527,1690,1441,1060,961,756,412,187,288,278,277,608,12387,801,733,765,794,726,734,687,791,895,882,845,736,846,696,511,435,308,155,47,0,0,0,0,12959,739,697,686,802,718,768,738,802,942,917,850,791,844,745,549,526,448,257,140,0,0,0,0,25346,24688,531,127,10720,3090,1815,3262,4,6,490,627,798,465,1,162,7580,4414,489,355,669,428,464,288,287,151,35,5566,24427,23628,286,272,201,40,25289,25258,22832,3806,14764,4262,2409,2251,55,103,17,31,25289,18177,7442,10735,82,4634,3845,789,2111,1941,6,145,19,285,10720,3090,3801,1782,1388,435,138,37,49,10720,12,114,692,1803,3030,2910,1280,563,316,10720,6119,2491,1603,405,102,10720,23,671,2588,6143,1089,206,10720,4096,3969,2297,301,57,10720,290,9231,728,10,35,138,288,20599,5806,7102,1853,6195,3729,1443,2515,2858,2218,1069,2553,3703,340,18283,465,8,299,917,36,100,8248,634,96,798,43,6639,25346,24073,73,136,312,752,11644,1606,2370,2665,2306,329,180,93,295,954,846]
["Township","N/A","Halesowen Township","T4",63118,3720,3481,3657,4015,3663,3766,3697,3886,4657,4633,4198,3872,4150,3565,2657,2213,1784,1018,486,721,659,733,1544,30902,1917,1756,1854,2031,1850,1853,1815,1917,2290,2278,2099,1875,2079,1750,1296,1006,746,357,133,0,0,0,0,32216,1803,1725,1803,1984,1813,1913,1882,1969,2367,2355,2099,1997,2071,1815,1361,1207,1038,661,353,0,0,0,0,63118,61549,1228,341,26334,7518,4559,8134,5,18,1193,1605,1805,1076,1,420,18697,10993,1207,759,1648,1046,1154,689,679,436,86,13643,60917,58544,832,796,621,124,62807,62767,57346,12097,33559,11690,5402,4841,221,340,19,40,62807,46973,19491,27482,209,8985,7197,1788,5971,5512,18,409,32,669,26334,7518,9173,4375,3497,1174,400,95,102,26334,26,243,1904,3941,7517,7052,3277,1523,851,26334,15199,5994,3988,913,240,26334,48,1889,5944,14976,2945,532,26334,10098,9531,5798,765,142,26334,814,22629,1745,33,56,329,728,51462,14174,17801,4765,15316,9315,3597,6233,7153,5480,2666,6231,9144,1083,45961,1129,21,993,2445,122,231,20517,1592,280,1947,128,16556,63118,59264,204,381,700,2569,29405,4026,6042,7786,4894,767,439,256,760,2371,2064]
["Early Help Cluster","N/A","Brierley Hill Early Help Cluster","EHC1",64631,3737,3575,3694,4007,3760,3823,3596,4077,5023,4727,3979,3656,4335,3938,3242,2361,1738,906,457,734,716,714,1530,31780,1918,1841,1827,2085,1910,1935,1821,2010,2501,2332,1943,1829,2093,1939,1578,1076,702,308,132,0,0,0,0,32851,1819,1734,1867,1922,1850,1888,1775,2067,2522,2395,2036,1827,2242,1999,1664,1285,1036,598,325,0,0,0,0,64631,63114,1248,269,26977,7243,4355,8786,0,13,1399,1742,1972,1096,2,369,19650,11781,1202,875,1601,1137,1277,671,597,438,71,13697,62382,61268,410,428,228,48,64110,64087,59709,15866,35285,8558,4325,3511,380,434,53,23,64110,46607,19663,26944,148,11363,10061,1302,5305,4884,50,303,68,687,26977,7243,9854,4568,3715,1154,341,64,38,26977,70,515,2164,5021,7819,6292,2846,1477,773,26977,14131,6564,4718,1281,283,26977,45,2431,7491,13446,3090,474,26977,9269,9916,6801,883,108,26977,1092,22765,2034,15,74,235,762,52771,15740,17806,5201,14329,10248,3637,5325,7084,4448,2522,5796,9762,768,47309,944,19,558,1767,69,304,21261,1833,446,2555,112,17441,64631,62508,160,272,507,1184,29868,5322,8442,5311,4358,925,350,251,603,2183,2123]
["Early Help Cluster","N/A","Halesowen Early Help Cluster","EHC4",63118,3720,3481,3657,4015,3663,3766,3697,3886,4657,4633,4198,3872,4150,3565,2657,2213,1784,1018,486,721,659,733,1544,30902,1917,1756,1854,2031,1850,1853,1815,1917,2290,2278,2099,1875,2079,1750,1296,1006,746,357,133,0,0,0,0,32216,1803,1725,1803,1984,1813,1913,1882,1969,2367,2355,2099,1997,2071,1815,1361,1207,1038,661,353,0,0,0,0,63118,61549,1228,341,26334,7518,4559,8134,5,18,1193,1605,1805,1076,1,420,18697,10993,1207,759,1648,1046,1154,689,679,436,86,13643,60917,58544,832,796,621,124,62807,62767,57346,12097,33559,11690,5402,4841,221,340,19,40,62807,46973,19491,27482,209,8985,7197,1788,5971,5512,18,409,32,669,26334,7518,9173,4375,3497,1174,400,95,102,26334,26,243,1904,3941,7517,7052,3277,1523,851,26334,15199,5994,3988,913,240,26334,48,1889,5944,14976,2945,532,26334,10098,9531,5798,765,142,26334,814,22629,1745,33,56,329,728,51462,14174,17801,4765,15316,9315,3597,6233,7153,5480,2666,6231,9144,1083,45961,1129,21,993,2445,122,231,20517,1592,280,1947,128,16556,63118,59264,204,381,700,2569,29405,4026,6042,7786,4894,767,439,256,760,2371,2064]
["Ward Post June 2004","Brockmoor and Pensnett","Brockmoor and Pensnett Ward","E05001239",12923,942,780,786,922,848,932,738,839,991,938,763,665,707,594,536,414,317,148,63,171,163,133,319,6360,476,392,397,504,424,434,365,414,473,476,369,349,354,302,247,189,135,46,14,0,0,0,0,6563,466,388,389,418,424,498,373,425,518,462,394,316,353,292,289,225,182,102,49,0,0,0,0,12923,12689,192,42,5230,1409,744,1429,0,1,370,355,599,239,2,82,3812,2056,324,221,343,243,218,108,182,99,18,3085,12339,11980,115,162,71,11,12824,12824,12183,2005,8468,1710,634,458,98,78,7,0,12824,7037,2747,4290,37,4300,3989,311,1197,1117,11,60,9,253,5230,1409,1763,961,675,282,106,21,13,5230,10,87,505,1327,1648,1060,344,166,83,5230,2110,1364,1350,325,81,5230,12,549,1732,2457,400,80,5230,1387,1811,1725,270,37,5230,225,4347,393,4,34,61,166,10225,3965,3171,1164,1842,1926,481,591,1088,468,298,540,1592,210,9283,109,2,62,451,21,58,3505,434,100,647,24,3870,12923,12347,36,81,183,276,5413,1432,1706,768,520,115,49,38,110,293,382]
["Ward Post June 2004","Halesowen North","Halesowen North Ward","E05001244",12173,710,683,706,791,704,751,734,702,975,944,820,694,693,622,551,471,359,193,70,124,127,151,304,5948,359,340,356,408,348,366,366,347,485,466,421,331,329,296,269,225,143,71,22,0,0,0,0,6225,351,343,350,383,356,385,368,355,490,478,399,363,364,326,282,246,216,122,48,0,0,0,0,12173,11884,234,55,5120,1551,890,1464,0,4,231,325,352,216,0,87,3544,2049,234,128,333,216,236,117,126,91,14,2635,11772,11187,197,197,154,37,12155,12148,11261,2265,6073,2923,887,735,52,100,0,7,12155,9271,3884,5387,50,1408,1019,389,1319,1207,4,103,5,107,5120,1551,1711,813,683,234,85,22,21,5120,2,39,381,767,1431,1524,617,240,119,5120,2927,1222,756,171,44,5120,7,386,1215,3012,410,90,5120,1830,1914,1177,172,27,5120,183,4337,403,1,6,66,124,9922,2790,3530,979,2732,1864,666,1086,1401,969,485,1060,1764,257,8829,201,4,312,489,27,42,3815,301,60,394,29,3155,12173,11210,36,73,130,724,5674,804,1017,1994,621,102,85,60,170,447,374]
["Ward Post June 2004","Lye and Stourbridge North","Lye and Stourbridge North Ward","E05001249",12346,863,767,743,747,745,824,838,884,920,914,769,741,790,672,447,284,232,121,45,138,160,137,308,6155,445,389,392,370,376,396,421,454,473,467,387,371,394,333,220,115,93,43,16,0,0,0,0,6191,418,378,351,377,369,428,417,430,447,447,382,370,396,339,227,169,139,78,29,0,0,0,0,12346,12067,225,54,5162,1634,854,1407,1,3,244,341,399,188,1,90,3516,1980,260,143,260,223,219,114,189,104,24,2904,11820,11057,250,259,206,48,12328,12315,10811,2122,6518,2171,1497,1230,161,106,7,13,12328,8475,3340,5135,171,2130,1607,523,1417,1291,5,111,10,135,5162,1634,1675,818,618,224,126,31,36,5162,9,160,656,778,1819,1065,402,160,113,5162,2329,1317,1123,333,60,5162,13,795,1152,2767,328,107,5162,1571,1784,1551,207,49,5162,218,4411,301,0,10,56,166,9807,2970,3287,1036,2379,1896,595,912,1302,770,392,801,1697,303,9125,146,2,256,349,28,42,3801,346,75,507,26,3547,12346,11318,66,93,202,667,5578,1070,1382,935,973,168,59,47,108,374,462]
["Ward Post June 2004","Pedmore and Stourbridge East","Pedmore and Stourbridge East Ward","E05001252",12471,610,626,638,676,549,555,594,721,851,902,832,796,941,875,756,670,489,251,139,141,129,113,255,6027,295,313,328,332,293,278,293,371,420,450,422,382,453,430,362,287,209,77,32,0,0,0,0,6444,315,313,310,344,256,277,301,350,431,452,410,414,488,445,394,383,280,174,107,0,0,0,0,12471,12002,346,123,5295,1407,869,1977,0,6,183,318,246,219,0,70,3874,2548,183,122,273,189,235,117,93,89,25,2392,12114,11876,106,86,40,6,12306,12306,11415,5052,4789,1574,891,749,86,56,0,0,12306,9676,4670,5006,23,1598,1530,68,912,855,6,44,7,97,5295,1407,2127,834,636,199,60,20,12,5295,2,32,291,707,1231,1255,772,534,471,5295,3552,988,605,125,25,5295,8,272,1029,2702,1025,259,5295,2626,1711,849,95,14,5295,88,4697,336,13,3,27,131,10454,2481,3359,693,4101,1555,690,2053,1309,1769,617,2003,1930,195,8905,363,13,399,216,8,28,3919,240,50,319,22,3328,12471,11905,32,50,71,413,5577,644,1013,1056,1253,274,70,84,131,647,405]
["Ward Post June 2004","St James's","St James's Ward","E05001254",14213,912,870,847,880,856,1003,969,979,1154,1225,840,725,664,602,583,496,349,175,84,147,170,184,346,7159,456,436,462,466,432,493,484,526,593,625,430,389,364,299,274,220,124,63,23,0,0,0,0,7054,456,434,385,414,424,510,485,453,561,600,410,336,300,303,309,276,225,112,61,0,0,0,0,14213,13885,230,98,6164,2225,1056,1383,1,4,285,393,472,214,1,130,3894,2037,337,210,349,262,288,154,139,97,21,3221,13665,12757,289,358,226,35,14073,14054,11639,3498,6750,1391,2411,2161,146,104,4,19,14073,8392,3129,5263,167,3570,2401,1169,1764,1552,76,59,77,180,6164,2225,1800,914,827,260,99,21,18,6164,28,199,1096,1280,1490,1018,498,343,212,6164,2495,1520,1655,407,87,6164,17,1171,1918,2207,722,129,6164,1501,2243,2137,245,38,6164,206,4763,862,7,3,115,208,11401,3507,3714,1141,2961,2014,564,1191,1373,1204,518,1168,1853,483,10297,180,10,110,553,24,66,4336,339,73,646,28,3932,14213,12595,133,177,422,886,6365,1250,1668,1465,686,173,69,57,146,432,419]
["Ward Post June 2004","Wordsley","Wordsley Ward","E05001259",12582,643,714,679,680,660,744,730,833,1073,922,755,655,878,950,743,430,268,137,88,131,137,139,272,6190,350,373,322,359,312,370,388,399,548,461,376,317,387,466,373,215,106,42,26,0,0,0,0,6392,293,341,357,321,348,374,342,434,525,461,379,338,491,484,370,215,162,95,62,0,0,0,0,12582,12270,268,44,5220,1269,904,1918,0,5,235,358,290,193,0,48,3946,2497,203,155,303,230,255,112,88,91,12,2504,12202,12124,46,19,9,4,12440,12440,11884,2988,7610,1286,556,426,51,79,0,0,12440,10320,4258,6062,35,1128,914,214,893,826,2,54,11,64,5220,1269,2033,899,760,207,40,8,4,5220,2,88,335,801,1638,1411,597,245,103,5220,2992,1279,738,188,23,5220,5,312,1258,2975,589,81,5220,2055,1999,1056,100,10,5220,198,4542,291,3,6,45,135,10421,2803,3783,1049,2968,2276,837,1125,1575,935,553,1203,2156,87,9498,196,3,135,313,8,68,4745,330,76,335,19,3270,12582,12365,6,24,33,154,6228,735,1979,1027,1067,220,74,55,145,483,443]
["Lower Super Output Area 2011","Dudley 028B","LSOA Code E01009723 / Name Dudley 028B","E01009723",1258,53,83,76,94,73,60,57,73,107,118,118,119,99,53,36,24,6,6,3,19,14,9,34,637,32,40,44,53,37,31,27,38,52,55,57,57,49,29,20,10,2,2,2,0,0,0,0,621,21,43,32,41,36,29,30,35,55,63,61,62,50,24,16,14,4,4,1,0,0,0,0,1258,1225,23,10,466,74,111,188,0,1,26,26,21,17,0,2,402,239,17,12,42,19,35,17,11,10,0,277,1229,1215,4,6,3,1,1258,1258,1238,1051,178,9,20,17,1,2,0,0,1258,1158,383,775,24,6,2,4,67,57,0,10,0,3,466,74,166,95,97,27,5,2,0,466,0,1,4,41,92,121,97,68,42,466,350,79,33,3,1,466,1,4,59,238,147,17,466,237,166,54,7,2,466,7,439,7,0,0,2,11,1029,159,412,109,404,237,94,140,158,129,63,156,255,16,990,27,1,29,11,0,3,580,43,7,38,5,246,1258,1226,2,0,4,26,744,128,197,103,140,30,10,7,14,66,49]
["Lower Super Output Area 2011","Dudley 028C","LSOA Code E01009724 / Name Dudley 028C","E01009724",1497,83,77,73,80,82,95,112,96,113,123,138,137,107,71,45,30,17,17,1,15,14,13,31,732,40,32,42,37,41,44,60,52,55,63,60,71,52,40,18,14,6,5,0,0,0,0,0,765,43,45,31,43,41,51,52,44,58,60,78,66,55,31,27,16,11,12,1,0,0,0,0,1497,1466,27,4,623,153,124,230,0,1,23,48,27,13,0,4,468,292,25,16,36,35,34,14,8,6,2,299,1451,1448,1,0,2,0,1497,1497,1457,901,478,78,40,38,2,0,0,0,1497,1401,510,891,17,5,5,0,73,68,0,5,0,1,623,153,228,112,105,21,2,1,1,623,1,4,33,125,125,136,101,62,36,623,381,160,75,5,2,623,0,38,168,293,105,19,623,247,246,126,4,0,623,25,566,16,0,0,4,12,1243,206,501,124,444,298,113,161,247,121,92,142,284,8,1178,35,1,36,33,0,2,680,51,16,38,2,284,1497,1487,0,1,0,9,894,152,228,159,160,32,10,5,18,72,58]
["Lower Super Output Area 2011","Dudley 027E","LSOA Code E01009729 / Name Dudley 027E","E01009729",1570,100,79,106,94,88,106,91,108,102,114,106,82,96,87,97,49,33,28,4,17,21,28,40,787,54,41,67,46,39,51,53,48,52,54,53,44,46,45,46,25,14,8,1,0,0,0,0,783,46,38,39,48,49,55,38,60,50,60,53,38,50,42,51,24,19,20,3,0,0,0,0,1570,1528,37,5,620,140,100,238,0,0,37,29,51,16,0,9,478,287,31,20,30,26,30,21,16,13,4,352,1514,1496,4,11,2,1,1570,1570,1552,375,1031,146,18,14,0,4,0,0,1570,1109,486,623,0,299,299,0,142,119,0,23,0,20,620,140,214,120,105,32,5,2,2,620,0,7,50,118,182,166,63,23,11,620,320,135,121,41,3,620,1,43,164,328,75,9,620,221,195,174,29,1,620,22,554,23,0,0,7,14,1266,447,414,138,312,261,82,111,154,68,55,91,203,13,1152,23,0,25,35,1,4,514,58,6,70,1,415,1570,1535,3,6,9,17,737,196,200,89,101,16,4,4,24,55,48]
["Lower Super Output Area 2011","Dudley 039B","LSOA Code E01009733 / Name Dudley 039B","E01009733",1779,165,111,77,86,168,169,117,137,110,110,93,79,89,83,48,51,41,32,13,16,15,15,31,887,73,62,46,40,81,76,55,97,56,59,55,30,46,40,22,20,14,11,4,0,0,0,0,892,92,49,31,46,87,93,62,40,54,51,38,49,43,43,26,31,27,21,9,0,0,0,0,1779,1724,49,6,929,496,82,112,0,0,43,46,97,33,0,20,419,195,57,30,34,40,19,9,25,9,1,390,1682,1450,67,94,56,15,1762,1745,619,88,169,362,1126,1092,9,25,0,17,1762,454,181,273,12,1090,1050,40,151,137,5,8,1,55,929,496,211,127,55,20,9,2,9,929,6,40,172,338,268,58,30,6,11,929,208,362,270,69,20,929,3,195,418,283,23,7,929,131,438,315,34,11,929,25,626,228,1,0,26,23,1407,549,398,147,240,211,58,103,153,106,40,123,171,76,1270,21,0,18,117,1,5,327,27,3,96,3,652,1779,1494,38,43,99,105,618,110,88,147,144,17,6,1,11,44,50]
["Lower Super Output Area 2011","Dudley 034E","LSOA Code E01009738 / Name Dudley 034E","E01009738",1558,108,108,94,132,67,79,93,108,118,104,95,76,95,61,73,43,43,46,15,17,16,14,47,750,55,57,52,64,35,37,51,47,59,44,46,44,47,32,34,20,12,13,1,0,0,0,0,808,53,51,42,68,32,42,42,61,59,60,49,32,48,29,39,23,31,33,14,0,0,0,0,1558,1539,17,2,607,162,128,171,0,0,31,20,43,41,0,11,442,235,22,17,40,32,29,25,26,13,3,404,1499,1455,17,12,14,1,1558,1558,1537,112,1298,127,18,14,4,0,3,0,1558,1112,408,704,6,352,341,11,70,60,0,10,0,18,607,162,188,99,96,45,11,2,4,607,1,2,13,34,193,265,67,24,8,607,404,110,74,15,4,607,3,15,55,479,50,5,607,255,211,121,16,4,607,23,487,64,0,2,4,27,1222,420,415,115,295,226,84,104,184,93,57,104,202,19,1075,15,1,15,37,5,5,475,36,6,52,2,426,1558,1468,1,7,28,54,649,100,135,137,128,20,11,5,22,41,50]
["Lower Super Output Area 2011","Dudley 039C","LSOA Code E01009739 / Name Dudley 039C","E01009739",1537,96,103,84,96,95,79,93,121,142,108,99,70,78,91,72,52,35,15,8,20,11,17,36,756,60,53,39,52,46,42,50,58,65,53,46,32,39,44,29,31,10,2,5,0,0,0,0,781,36,50,45,44,49,37,43,63,77,55,53,38,39,47,43,21,25,13,3,0,0,0,0,1537,1503,33,1,640,153,103,193,0,0,40,35,64,36,0,16,473,265,39,25,39,24,34,16,21,7,3,355,1480,1442,15,10,11,2,1537,1537,1478,143,707,628,59,46,4,9,0,0,1537,1067,366,701,1,260,245,15,194,190,0,4,0,15,640,153,243,124,84,28,6,2,0,640,0,6,20,193,190,150,49,20,12,640,305,175,120,31,9,640,0,9,265,322,32,12,640,184,272,156,28,0,640,28,559,17,0,1,19,16,1230,379,435,125,329,233,79,142,169,122,60,127,239,14,1120,21,1,10,68,2,9,508,24,3,76,2,396,1537,1471,1,15,12,38,724,155,110,198,106,22,8,3,12,59,51]
["Lower Super Output Area 2011","Dudley 023D","LSOA Code E01009743 / Name Dudley 023D","E01009743",1795,144,146,153,136,106,111,127,115,142,115,78,88,80,86,64,51,31,13,9,37,27,26,63,862,70,74,85,74,54,50,51,56,70,44,44,48,36,38,25,22,16,2,3,0,0,0,0,933,74,72,68,62,52,61,76,59,72,71,34,40,44,48,39,29,15,11,6,0,0,0,0,1795,1772,20,3,696,190,103,146,0,2,63,40,101,38,0,13,504,229,30,26,55,49,32,16,34,30,3,539,1714,1689,8,10,5,2,1794,1794,1736,104,1551,81,56,53,1,2,2,0,1794,782,226,556,3,901,899,2,70,56,3,9,2,38,696,190,207,119,103,49,24,1,3,696,1,8,101,175,294,87,16,8,6,696,207,149,258,67,15,696,1,104,243,330,13,5,696,148,173,305,63,7,696,29,587,45,0,5,3,27,1314,592,397,133,200,219,35,59,121,42,29,44,156,16,1210,6,0,10,57,4,5,383,72,23,91,7,552,1795,1748,7,2,14,24,658,167,222,92,67,19,3,6,17,27,38]
["Lower Super Output Area 2011","Dudley 013A","LSOA Code E01009748 / Name Dudley 013A","E01009748",1636,152,106,94,126,117,111,98,100,123,100,98,84,77,85,63,57,29,9,7,20,26,17,31,796,74,55,49,61,55,42,49,54,55,47,52,42,38,45,31,26,14,4,3,0,0,0,0,840,78,51,45,65,62,69,49,46,68,53,46,42,39,40,32,31,15,5,4,0,0,0,0,1636,1609,26,1,649,173,93,143,0,0,56,35,100,38,2,9,480,224,56,33,49,42,26,10,23,14,3,431,1552,1484,33,21,11,3,1627,1627,1558,279,1203,76,69,40,21,8,0,0,1627,631,223,408,5,798,791,7,145,133,6,5,1,48,649,173,204,128,85,44,9,2,4,649,4,13,91,181,161,121,37,35,6,649,219,155,212,44,19,649,2,100,213,233,88,13,649,159,185,259,40,6,649,25,563,22,0,4,9,26,1261,542,335,144,215,206,45,76,104,68,32,64,180,34,1159,12,0,9,58,0,8,359,48,8,84,1,572,1636,1530,7,12,38,49,587,138,187,103,50,6,10,5,14,27,47]
["Lower Super Output Area 2011","Dudley 017C","LSOA Code E01009753 / Name Dudley 017C","E01009753",1578,131,126,124,137,107,103,92,98,112,118,75,66,76,59,55,37,41,19,2,21,28,22,53,754,69,60,65,76,51,48,39,43,47,59,38,36,31,29,27,17,12,7,0,0,0,0,0,824,62,66,59,61,56,55,53,55,65,59,37,30,45,30,28,20,29,12,2,0,0,0,0,1578,1545,28,5,615,164,90,122,0,1,64,32,104,27,0,11,451,190,42,29,48,36,37,19,26,21,3,475,1498,1473,8,11,5,1,1578,1578,1521,113,1099,309,57,50,0,7,0,0,1578,561,199,362,0,863,767,96,113,112,0,1,0,41,615,164,173,122,91,54,9,2,0,615,0,12,67,169,235,97,21,7,7,615,183,176,192,56,8,615,1,66,212,308,21,7,615,119,204,250,40,2,615,13,526,47,1,2,6,20,1161,466,375,146,170,245,45,43,113,38,24,49,156,21,1062,7,0,1,61,1,8,353,58,14,60,5,494,1578,1534,0,1,19,24,568,169,169,77,47,15,2,2,18,29,40]
["Lower Super Output Area 2011","Dudley 017D","LSOA Code E01009754 / Name Dudley 017D","E01009754",1641,127,102,92,114,117,151,92,111,109,110,114,98,85,67,57,47,27,15,6,27,12,15,38,792,59,55,39,62,64,69,49,48,51,52,61,47,42,33,28,14,12,5,2,0,0,0,0,849,68,47,53,52,53,82,43,63,58,58,53,51,43,34,29,33,15,10,4,0,0,0,0,1641,1616,17,8,640,149,97,190,0,0,42,43,74,32,0,13,490,268,50,25,39,33,29,11,23,10,2,392,1552,1479,29,26,17,1,1641,1641,1614,316,1121,177,27,7,2,18,0,0,1641,946,348,598,4,505,427,78,147,138,4,5,0,39,640,149,213,139,86,30,16,3,4,640,1,5,41,204,179,131,44,17,18,640,252,185,160,33,10,640,3,41,269,270,44,13,640,134,257,210,33,6,640,25,549,35,0,2,8,21,1299,452,424,146,234,249,64,80,143,76,46,71,231,43,1204,16,0,12,59,4,9,469,52,14,113,4,452,1641,1540,15,16,37,33,752,226,207,100,86,15,9,4,17,36,52]
["Lower Super Output Area 2011","Dudley 005B","LSOA Code E01009760 / Name Dudley 005B","E01009760",1317,101,84,77,95,92,82,64,75,108,92,93,76,57,51,59,57,30,13,11,10,15,15,37,652,56,44,38,48,47,41,30,31,48,49,44,45,28,27,23,31,14,6,2,0,0,0,0,665,45,40,39,47,45,41,34,44,60,43,49,31,29,24,36,26,16,7,9,0,0,0,0,1317,1289,24,4,505,109,85,159,0,0,36,26,57,24,0,9,396,211,26,15,40,35,24,15,18,10,2,331,1262,1251,6,3,2,0,1317,1317,1303,87,1122,94,14,6,7,1,0,0,1317,935,320,615,6,252,250,2,99,98,0,1,0,25,505,109,162,107,86,30,9,1,1,505,1,3,15,34,253,151,29,15,4,505,265,141,75,18,6,505,0,11,49,421,18,6,505,193,192,100,20,0,505,34,416,28,0,3,3,21,1029,366,318,123,216,216,69,53,150,47,44,68,165,12,918,13,1,8,65,3,3,388,56,9,37,1,334,1317,1268,1,11,8,29,584,62,199,167,38,14,1,2,15,35,51]
["Lower Super Output Area 2011","Dudley 004A","LSOA Code E01009765 / Name Dudley 004A","E01009765",1604,83,108,92,103,73,88,94,107,127,134,100,103,97,93,93,59,29,17,4,15,18,19,40,799,42,56,47,49,38,46,44,59,56,70,49,53,46,47,45,27,18,7,0,0,0,0,0,805,41,52,45,54,35,42,50,48,71,64,51,50,51,46,48,32,11,10,4,0,0,0,0,1604,1569,32,3,641,145,119,247,0,0,38,28,38,20,0,6,498,300,20,23,38,27,40,21,17,10,2,354,1551,1522,10,11,7,1,1604,1604,1579,298,1017,264,25,18,6,1,0,0,1604,1299,550,749,1,170,164,6,131,121,0,10,0,3,641,145,229,121,105,33,3,5,0,641,0,9,21,96,243,177,73,10,12,641,357,171,88,20,5,641,0,20,151,425,41,4,641,242,245,139,15,0,641,32,564,25,0,0,6,14,1299,400,452,153,285,264,111,90,191,75,65,81,235,9,1190,16,3,33,57,1,3,549,54,11,53,1,409,1604,1557,0,5,5,37,781,85,212,247,82,25,5,6,17,34,68]
["Lower Super Output Area 2011","Dudley 001E","LSOA Code E01009770 / Name Dudley 001E","E01009770",1453,100,75,72,88,94,85,63,104,104,97,88,98,87,71,87,64,56,15,5,16,15,13,28,710,57,41,37,48,41,37,27,52,51,50,40,50,44,33,37,26,34,5,0,0,0,0,0,743,43,34,35,40,53,48,36,52,53,47,48,48,43,38,50,38,22,10,5,0,0,0,0,1453,1431,19,3,634,191,80,197,0,1,37,33,56,34,0,5,450,270,40,24,30,27,21,10,15,11,2,303,1384,1342,16,16,9,1,1453,1453,1213,385,705,123,240,219,6,15,0,0,1453,947,477,470,0,422,342,80,53,47,0,6,0,31,634,191,231,104,66,31,9,1,1,634,3,6,53,148,210,147,43,18,6,634,299,166,128,33,8,634,0,54,188,341,45,6,634,215,231,163,22,3,634,39,560,9,0,2,9,15,1194,481,354,132,208,209,73,72,138,56,46,68,178,16,1054,15,18,9,40,0,1,438,36,16,28,2,451,1453,1397,0,6,17,33,603,107,156,147,66,18,6,8,15,41,39]
["Lower Super Output Area 2011","Dudley 004D","LSOA Code E01009771 / Name Dudley 004D","E01009771",1392,44,51,48,56,61,55,54,77,83,103,78,66,79,105,120,138,103,45,26,9,12,2,25,667,21,27,23,26,23,26,35,39,44,51,47,30,29,46,64,63,51,13,9,0,0,0,0,725,23,24,25,30,38,29,19,38,39,52,31,36,50,59,56,75,52,32,17,0,0,0,0,1392,1370,18,4,640,209,71,252,0,1,24,36,16,29,0,2,431,319,17,15,17,15,25,15,2,5,1,184,1363,1349,4,5,3,2,1338,1338,1264,189,975,100,74,64,8,2,0,0,1338,1212,688,524,4,51,16,35,63,54,4,4,1,8,640,209,262,84,73,11,1,0,0,640,1,5,48,49,132,275,99,23,8,640,461,98,71,8,2,640,0,49,77,487,21,6,640,338,183,112,7,0,640,13,583,26,0,1,6,11,1236,480,380,102,233,199,102,86,153,80,57,99,218,7,924,11,2,25,23,1,12,441,25,3,37,0,344,1392,1360,0,0,8,24,580,71,146,177,67,14,3,8,14,36,44]
["Lower Super Output Area 2011","Dudley 004F","LSOA Code E01009776 / Name Dudley 004F","E01009776",1534,79,80,104,110,85,69,70,104,124,132,86,78,110,79,71,68,59,18,8,14,21,23,46,758,38,43,41,69,52,32,37,46,67,59,44,34,55,36,40,27,26,9,3,0,0,0,0,776,41,37,63,41,33,37,33,58,57,73,42,44,55,43,31,41,33,9,5,0,0,0,0,1534,1497,30,7,590,121,125,229,0,1,24,36,32,16,0,6,468,286,17,15,40,29,35,21,15,9,1,339,1495,1470,11,7,7,0,1534,1534,1517,333,1108,76,17,8,2,7,0,0,1534,1312,545,767,2,125,122,3,73,66,0,7,0,22,590,121,215,98,113,29,8,4,2,590,0,1,8,18,159,284,76,31,13,590,427,110,43,9,1,590,0,8,44,471,59,8,590,288,201,87,11,3,590,29,528,17,1,0,4,11,1248,370,403,126,322,246,102,108,174,78,63,116,233,22,1095,18,1,14,50,1,4,552,42,6,32,4,371,1534,1489,7,1,14,23,724,77,174,241,76,22,3,5,23,56,47]
["Lower Super Output Area 2011","Dudley 007A","LSOA Code E01009781 / Name Dudley 007A","E01009781",1899,120,100,103,106,127,121,114,155,182,124,111,108,107,98,77,78,41,16,11,26,18,16,43,940,60,38,57,51,53,60,53,85,100,72,54,60,53,49,39,35,14,5,2,0,0,0,0,959,60,62,46,55,74,61,61,70,82,52,57,48,54,49,38,43,27,11,9,0,0,0,0,1899,1856,40,3,890,340,122,216,0,0,58,53,57,30,1,13,545,305,54,32,43,35,39,14,13,9,1,381,1822,1817,2,3,0,0,1899,1889,1445,542,585,318,444,396,22,26,0,10,1899,1163,431,732,42,547,316,231,122,112,2,4,4,25,890,340,285,118,111,28,5,3,0,890,12,37,154,207,180,154,67,51,28,890,363,222,230,55,20,890,7,200,247,332,90,14,890,240,296,323,26,5,890,33,756,57,0,0,19,25,1555,504,513,162,405,308,86,165,219,125,74,158,277,14,1409,29,0,12,75,0,10,657,58,10,42,3,513,1899,1856,0,3,13,27,896,70,353,178,103,25,10,3,12,69,73]
["Lower Super Output Area 2011","Dudley 008C","LSOA Code E01009783 / Name Dudley 008C","E01009783",1467,87,89,91,106,84,103,77,74,105,119,81,102,79,65,71,64,44,22,4,18,22,21,30,737,43,53,50,51,53,58,31,33,48,59,44,51,44,35,29,30,17,6,2,0,0,0,0,730,44,36,41,55,31,45,46,41,57,60,37,51,35,30,42,34,27,16,2,0,0,0,0,1467,1441,20,6,597,144,92,170,0,1,32,33,67,46,0,12,450,255,34,21,45,20,39,10,16,10,0,332,1422,1404,6,9,3,0,1467,1462,1395,157,886,352,67,49,8,10,0,5,1467,826,310,516,0,534,528,6,97,93,0,4,0,10,597,144,202,136,78,29,6,1,1,597,3,3,29,102,212,182,36,20,10,597,290,180,98,23,6,597,0,35,135,373,47,7,597,188,230,164,14,1,597,28,498,47,0,2,5,17,1184,467,355,140,210,215,70,65,136,49,36,84,170,10,1050,17,0,7,85,0,13,409,45,5,38,4,427,1467,1440,0,1,9,17,623,77,218,142,60,18,6,3,11,40,48]
["Lower Super Output Area 2011","Dudley 007B","LSOA Code E01009786 / Name Dudley 007B","E01009786",1497,134,96,98,88,107,120,118,90,115,88,92,86,76,49,43,42,28,17,10,17,21,17,43,732,67,46,62,40,45,55,64,44,67,41,36,45,42,27,22,12,8,8,1,0,0,0,0,765,67,50,36,48,62,65,54,46,48,47,56,41,34,22,21,30,20,9,9,0,0,0,0,1497,1469,27,1,626,188,76,133,0,0,51,50,82,35,0,11,434,220,45,27,34,41,23,11,22,9,2,382,1421,1397,9,7,7,1,1497,1497,1269,120,633,516,228,212,5,11,0,0,1497,570,164,406,30,763,498,265,115,102,4,9,0,19,626,188,197,110,89,27,12,2,1,626,0,5,86,155,256,90,13,13,8,626,205,178,206,33,4,626,2,88,170,327,30,9,626,161,213,220,27,5,626,14,507,76,1,0,5,23,1154,447,402,131,192,240,56,56,121,54,27,57,163,9,1057,11,0,1,67,2,6,436,51,10,42,6,425,1497,1452,1,5,15,24,632,99,201,157,47,23,2,4,6,40,53]
["Lower Super Output Area 2011","Dudley 026A","LSOA Code E01009791 / Name Dudley 026A","E01009791",1509,79,90,92,79,86,94,114,87,106,108,106,105,89,58,57,64,41,44,10,17,20,20,35,765,41,46,50,41,45,49,55,50,49,58,59,45,47,27,32,35,16,16,4,0,0,0,0,744,38,44,42,38,41,45,59,37,57,50,47,60,42,31,25,29,25,28,6,0,0,0,0,1509,1481,21,7,662,228,115,194,0,0,21,41,35,23,0,5,440,266,32,16,29,22,40,7,11,14,3,313,1470,1391,26,35,15,3,1509,1502,1316,213,900,203,186,186,0,0,0,7,1509,1132,467,665,4,268,181,87,81,70,0,10,1,24,662,228,216,88,89,26,10,2,3,662,0,9,95,74,165,192,90,31,6,662,381,112,136,29,4,662,0,107,93,398,55,9,662,264,189,185,22,2,662,9,537,99,0,0,12,5,1232,316,434,124,371,247,87,136,180,122,66,125,251,35,1073,23,0,43,49,2,4,511,42,2,44,6,347,1509,1403,4,12,19,71,726,89,132,256,76,19,18,8,22,49,57]
["Lower Super Output Area 2011","Dudley 026D","LSOA Code E01009796 / Name Dudley 026D","E01009796",1510,72,60,87,125,111,89,80,79,108,143,109,98,89,79,63,46,43,20,9,11,13,18,45,738,34,32,43,66,55,44,43,34,57,66,63,46,43,38,34,19,11,7,3,0,0,0,0,772,38,28,44,59,56,45,37,45,51,77,46,52,46,41,29,27,32,13,6,0,0,0,0,1510,1470,33,7,604,171,108,175,0,0,33,42,35,30,0,10,434,254,27,11,51,19,22,25,12,11,2,307,1465,1372,45,24,17,7,1503,1503,1441,333,937,171,62,53,9,0,0,0,1503,1210,506,704,2,162,136,26,116,112,0,4,0,13,604,171,194,93,96,29,13,6,2,604,0,2,9,79,179,186,81,49,19,604,390,137,61,13,3,604,0,15,134,374,66,15,604,229,246,105,23,1,604,29,529,29,1,1,5,10,1262,345,475,116,364,225,83,148,181,136,60,144,232,30,1144,32,2,28,64,2,4,493,39,7,67,8,398,1510,1389,3,3,12,103,746,115,110,259,82,10,9,7,26,66,62]
["Lower Super Output Area 2011","Dudley 030D","LSOA Code E01009801 / Name Dudley 030D","E01009801",1664,69,81,83,101,84,67,73,91,111,142,120,116,118,117,95,66,66,39,25,16,11,16,40,815,36,50,41,55,40,30,39,46,53,65,54,54,62,57,49,33,31,12,8,0,0,0,0,849,33,31,42,46,44,37,34,45,58,77,66,62,56,60,46,33,35,27,17,0,0,0,0,1664,1620,29,15,667,156,133,266,0,0,17,27,25,32,0,11,508,329,24,14,45,24,33,19,11,8,1,304,1625,1591,15,9,8,2,1634,1634,1520,507,983,30,114,84,4,26,0,0,1634,1496,683,813,6,43,43,0,74,70,0,4,0,15,667,156,255,104,119,22,9,1,1,667,0,0,9,52,132,219,122,74,59,667,517,117,26,6,1,667,2,5,95,403,135,27,667,336,241,84,4,2,667,9,609,21,4,0,4,20,1418,308,490,121,519,226,127,217,199,189,87,255,260,26,1222,45,0,21,79,0,2,590,34,7,28,4,412,1664,1562,1,2,17,82,810,85,103,320,98,16,18,5,17,94,54]
["Lower Super Output Area 2011","Dudley 036D","LSOA Code E01009804 / Name Dudley 036D","E01009804",1328,42,43,75,75,63,58,62,74,77,125,111,118,140,93,62,33,33,22,22,18,16,17,24,662,25,23,47,41,32,34,29,39,34,59,52,56,76,43,31,15,14,6,6,0,0,0,0,666,17,20,28,34,31,24,33,35,43,66,59,62,64,50,31,18,19,16,16,0,0,0,0,1328,1293,26,9,534,132,105,227,0,1,11,28,10,17,0,3,405,277,17,13,29,12,23,21,6,6,1,216,1299,1278,11,7,3,0,1286,1286,1170,931,211,28,114,107,4,3,2,0,1286,1201,574,627,0,27,16,11,48,47,0,1,0,10,534,132,195,95,88,20,3,0,1,534,0,3,70,19,46,104,140,82,70,534,401,52,72,9,0,534,1,72,32,163,223,43,534,314,122,90,7,1,534,22,429,52,9,5,7,10,1156,212,420,81,484,162,109,218,169,161,82,215,233,22,1046,42,1,17,55,2,2,537,29,4,26,3,328,1328,1269,0,2,6,51,718,86,76,246,127,22,15,7,14,89,36]
["Lower Super Output Area 2011","Dudley 039F","LSOA Code E01009806 / Name Dudley 039F","E01009806",1451,56,57,54,86,77,103,90,82,117,109,101,114,107,118,60,50,36,19,15,13,7,12,22,713,33,25,26,45,35,47,50,41,66,56,48,52,50,57,32,22,15,8,5,0,0,0,0,738,23,32,28,41,42,56,40,41,51,53,53,62,57,61,28,28,21,11,10,0,0,0,0,1451,1404,34,13,672,223,88,224,0,0,18,48,34,27,0,10,446,303,19,16,40,17,24,12,7,5,3,231,1418,1403,6,6,2,1,1451,1451,1229,348,530,351,222,199,18,5,0,0,1451,1169,502,667,5,110,34,76,152,137,0,14,1,15,672,223,249,105,65,25,5,0,0,672,1,7,63,100,184,167,88,40,22,672,405,156,86,22,3,672,2,55,160,322,122,11,672,283,265,106,15,3,672,11,611,22,1,0,6,21,1266,279,457,109,459,228,97,198,184,191,83,182,230,13,1146,28,0,16,76,4,3,519,29,9,74,4,384,1451,1387,2,2,16,44,762,110,90,230,164,24,15,6,13,51,59]
["Lower Super Output Area 2011","Dudley 043D","LSOA Code E01009811 / Name Dudley 043D","E01009811",1536,69,82,90,95,69,76,53,101,107,123,106,105,121,87,77,82,67,18,8,17,18,19,36,752,35,42,42,55,30,41,24,51,50,64,52,49,57,40,32,40,33,11,4,0,0,0,0,784,34,40,48,40,39,35,29,50,57,59,54,56,64,47,45,42,34,7,4,0,0,0,0,1536,1504,30,2,663,173,117,228,0,0,30,42,40,26,0,7,486,297,29,23,42,21,38,17,9,8,2,309,1500,1486,9,4,1,0,1536,1536,1390,291,912,187,146,143,3,0,0,0,1536,1215,523,692,7,219,42,177,76,66,0,10,0,19,663,173,257,115,91,23,3,1,0,663,0,6,34,79,170,198,110,47,19,663,443,118,80,21,1,663,0,28,112,434,73,16,663,313,235,105,8,2,663,12,561,73,0,1,2,14,1280,312,482,106,428,232,106,185,174,152,61,201,247,10,1105,38,1,18,47,1,5,545,32,8,32,0,378,1536,1500,0,3,5,28,727,58,163,150,172,27,12,4,12,70,59]
["Lower Super Output Area 2011","Dudley 012A","LSOA Code E01009816 / Name Dudley 012A","E01009816",1473,56,80,80,72,73,69,69,70,129,108,90,112,139,124,70,63,40,16,13,10,21,19,30,720,27,45,44,32,42,36,36,35,61,55,37,56,62,63,41,20,16,7,5,0,0,0,0,753,29,35,36,40,31,33,33,35,68,53,53,56,77,61,29,43,24,9,8,0,0,0,0,1473,1433,34,6,607,121,107,268,0,0,18,30,30,26,0,7,481,325,19,21,31,18,34,16,9,8,0,266,1443,1433,5,4,0,1,1467,1467,1451,567,841,43,14,13,1,0,2,0,1467,1390,674,716,1,13,6,7,58,54,0,4,0,5,607,121,261,110,88,20,7,0,0,607,0,3,14,101,212,151,83,27,16,607,362,165,73,6,1,607,1,15,138,374,69,10,607,252,235,115,4,1,607,13,553,23,1,0,6,11,1241,317,430,98,372,253,108,127,180,120,77,159,229,4,1109,26,1,16,28,1,3,538,40,8,69,0,379,1473,1449,4,0,2,18,730,140,166,159,104,19,7,9,14,59,53]
["Lower Super Output Area 2011","Dudley 012B","LSOA Code E01009817 / Name Dudley 012B","E01009817",1283,44,75,83,69,44,23,42,74,90,90,88,78,115,102,90,66,61,34,15,13,17,16,37,605,20,37,42,34,26,13,21,31,42,40,39,41,52,50,49,29,25,11,3,0,0,0,0,678,24,38,41,35,18,10,21,43,48,50,49,37,63,52,41,37,36,23,12,0,0,0,0,1283,1240,30,13,544,133,104,227,0,0,18,17,25,18,0,2,409,262,7,15,41,22,34,10,10,6,2,254,1267,1262,3,2,0,0,1274,1274,1252,540,679,33,21,2,13,6,1,0,1274,1208,587,621,1,16,4,12,46,41,0,5,0,3,544,133,218,94,75,21,3,0,0,544,0,0,10,67,119,172,94,46,36,544,405,114,19,6,0,544,0,10,110,312,83,29,544,270,214,56,4,0,544,8,505,12,1,1,3,14,1068,253,324,64,419,176,87,181,152,149,79,208,207,8,892,19,1,11,16,1,4,456,22,6,27,2,327,1283,1250,1,4,1,27,565,81,103,154,102,16,9,2,8,45,45]
["Lower Super Output Area 2011","Dudley 014E","LSOA Code E01009822 / Name Dudley 014E","E01009822",1504,55,62,81,65,66,60,70,71,114,99,87,92,104,126,118,107,62,38,27,11,23,17,30,722,35,31,32,29,39,35,39,29,55,46,44,44,56,54,51,55,24,13,11,0,0,0,0,782,20,31,49,36,27,25,31,42,59,53,43,48,48,72,67,52,38,25,16,0,0,0,0,1504,1461,36,7,657,195,98,265,0,0,18,41,19,15,0,6,462,326,17,13,24,21,26,14,8,10,3,246,1468,1461,3,3,1,0,1467,1467,1400,834,389,177,67,34,14,19,0,0,1467,1267,682,585,2,67,65,2,122,115,0,4,3,9,657,195,259,98,76,21,6,1,1,657,1,10,53,85,159,167,86,56,40,657,438,118,82,17,2,657,1,59,206,265,112,14,657,246,272,124,13,2,657,10,588,31,0,1,5,22,1284,341,385,95,462,226,114,183,203,169,72,198,279,8,1050,42,0,16,25,1,7,467,35,13,51,5,388,1504,1477,1,4,2,20,662,98,135,142,118,22,7,8,12,70,50]
["Lower Super Output Area 2011","Dudley 019B","LSOA Code E01009826 / Name Dudley 019B","E01009826",1469,59,68,61,69,51,63,53,82,87,100,100,99,129,159,125,84,50,23,7,5,11,12,33,725,28,36,27,44,26,41,24,42,44,48,43,56,61,75,57,38,23,10,2,0,0,0,0,744,31,32,34,25,25,22,29,40,43,52,57,43,68,84,68,46,27,13,5,0,0,0,0,1469,1429,32,8,638,144,107,293,0,0,16,26,21,23,0,8,489,343,15,16,38,20,26,18,10,2,1,238,1440,1424,9,2,5,0,1469,1469,1417,696,672,49,52,50,2,0,0,0,1469,1359,747,612,0,26,26,0,74,69,0,5,0,10,638,144,280,111,85,16,2,0,0,638,0,2,10,96,154,177,85,76,38,638,465,138,27,8,0,638,1,8,199,298,124,8,638,275,287,71,5,0,638,8,602,10,0,0,2,16,1264,313,405,74,435,176,101,215,170,165,81,245,240,18,1100,27,0,12,16,0,5,560,23,9,35,2,411,1469,1436,4,1,10,18,689,80,176,144,133,25,12,9,14,63,33]
["Lower Super Output Area 2011","Dudley 037A","LSOA Code E01009831 / Name Dudley 037A","E01009831",1469,72,87,80,103,91,78,69,68,124,101,94,96,101,90,92,43,47,25,8,16,12,15,37,748,38,53,34,45,50,38,38,35,61,56,50,53,54,47,49,16,17,12,2,0,0,0,0,721,34,34,46,58,41,40,31,33,63,45,44,43,47,43,43,27,30,13,6,0,0,0,0,1469,1452,16,1,638,227,83,164,0,0,33,41,47,32,0,11,408,242,20,14,40,25,22,13,15,14,3,312,1428,1374,28,20,5,1,1469,1469,1298,79,894,325,171,171,0,0,0,0,1469,785,295,490,0,552,546,6,106,103,0,3,0,26,638,227,195,92,77,29,10,5,3,638,0,8,99,65,303,94,44,19,6,638,284,151,167,27,9,638,3,115,67,407,38,8,638,230,177,212,14,5,638,11,555,52,0,3,2,15,1210,517,330,117,187,202,67,50,127,49,31,54,174,21,1087,17,1,14,57,3,8,389,50,3,42,2,501,1469,1398,2,9,11,49,586,73,174,119,85,10,5,8,15,46,51]
["Lower Super Output Area 2011","Dudley 042A","LSOA Code E01009832 / Name Dudley 042A","E01009832",1650,128,110,128,124,91,86,84,100,120,119,98,85,69,67,71,70,61,28,11,23,27,30,48,780,57,59,74,62,46,40,34,50,56,47,45,48,36,30,40,19,24,10,3,0,0,0,0,870,71,51,54,62,45,46,50,50,64,72,53,37,33,37,31,51,37,18,8,0,0,0,0,1650,1626,23,1,659,185,100,166,0,0,48,35,77,35,0,13,470,238,29,30,42,33,26,21,29,21,1,451,1571,1550,6,10,4,1,1650,1650,1466,83,953,430,184,152,18,14,0,0,1650,725,233,492,0,773,773,0,122,118,0,4,0,30,659,185,208,124,78,38,13,10,3,659,0,3,32,172,232,163,36,15,6,659,267,214,139,30,9,659,1,26,211,394,18,9,659,179,260,185,30,5,659,14,585,26,1,1,5,27,1261,505,376,132,228,217,66,73,142,55,28,76,225,16,1091,23,1,20,60,3,2,395,48,15,47,2,475,1650,1585,2,2,18,43,616,60,188,146,91,16,6,3,6,48,52]
["Lower Super Output Area 2011","Dudley 037B","LSOA Code E01009836 / Name Dudley 037B","E01009836",1834,203,119,89,113,132,167,134,105,131,112,104,116,85,57,42,42,45,22,16,21,10,22,36,910,96,51,43,53,47,74,82,58,72,64,63,62,46,30,25,16,14,8,6,0,0,0,0,924,107,68,46,60,85,93,52,47,59,48,41,54,39,27,17,26,31,14,10,0,0,0,0,1834,1803,25,6,859,425,98,113,0,0,57,43,83,28,0,12,438,197,63,22,23,38,26,9,40,16,4,476,1700,1423,76,88,99,14,1834,1821,895,101,540,254,924,821,26,77,2,13,1834,629,329,300,1,854,770,84,291,282,0,7,2,59,859,425,195,91,70,27,35,9,7,859,1,41,305,133,239,87,31,9,13,859,189,202,366,82,20,859,0,335,163,323,28,10,859,132,248,424,45,10,859,34,669,85,1,3,23,44,1400,557,396,125,218,227,54,90,124,79,40,67,172,109,1275,18,1,16,60,2,7,355,35,7,82,5,687,1834,1466,25,60,73,210,588,132,143,80,102,13,5,6,13,40,54]
["Lower Super Output Area 2011","Dudley 017E","LSOA Code E01009841 / Name Dudley 017E","E01009841",1605,134,123,117,114,101,104,101,116,112,86,91,80,74,64,67,41,49,20,11,24,19,24,50,780,68,65,55,57,48,45,42,62,55,44,45,48,33,31,34,18,17,9,4,0,0,0,0,825,66,58,62,57,53,59,59,54,57,42,46,32,41,33,33,23,32,11,7,0,0,0,0,1605,1578,24,3,631,188,86,153,0,0,48,30,84,36,0,6,449,221,40,20,36,32,21,16,33,25,5,453,1528,1469,14,34,10,1,1580,1577,1411,116,860,435,166,142,20,4,0,3,1580,689,270,419,6,716,713,3,134,121,0,11,2,35,631,188,201,90,85,35,20,11,1,631,1,11,93,79,288,107,39,7,6,631,241,149,191,44,6,631,4,116,85,393,25,8,631,178,175,230,43,5,631,39,525,22,0,6,11,28,1208,508,357,149,193,209,46,50,130,37,31,53,157,37,1087,11,0,6,64,2,7,334,48,12,76,4,523,1605,1498,3,27,27,50,564,171,145,104,42,13,1,4,10,32,42]
["Lower Super Output Area 2011","Dudley 041B","LSOA Code E01009846 / Name Dudley 041B","E01009846",1473,64,67,81,97,81,46,60,71,84,121,104,105,130,96,70,89,55,41,11,13,16,17,35,719,32,31,45,45,48,30,25,34,43,59,44,56,63,50,33,35,24,16,6,0,0,0,0,754,32,36,36,52,33,16,35,37,41,62,60,49,67,46,37,54,31,25,5,0,0,0,0,1473,1426,30,17,617,155,101,256,0,0,17,25,38,19,0,6,461,303,15,13,38,22,27,21,10,7,5,283,1433,1425,5,3,0,0,1473,1473,1463,562,758,143,8,8,0,0,2,0,1473,1239,612,627,0,129,129,0,92,88,0,4,0,13,617,155,237,102,89,26,5,2,1,617,0,0,18,43,136,198,100,65,57,617,469,98,39,11,0,617,0,25,119,349,99,25,617,294,211,103,9,0,617,11,569,20,0,0,3,14,1244,296,392,80,490,198,88,230,146,205,76,248,205,13,1048,38,1,32,13,1,4,520,46,4,29,2,358,1473,1442,0,0,5,26,690,65,103,197,130,25,12,5,11,78,64]
["Lower Super Output Area 2011","Dudley 038A","LSOA Code E01009847 / Name Dudley 038A","E01009847",1465,59,73,85,108,59,44,70,84,127,120,104,86,118,120,71,61,49,20,7,10,16,14,45,724,30,42,44,64,23,25,35,46,55,63,48,40,57,58,34,26,21,11,2,0,0,0,0,741,29,31,41,44,36,19,35,38,72,57,56,46,61,62,37,35,28,9,5,0,0,0,0,1465,1419,30,16,607,140,104,227,0,2,25,25,34,36,0,14,458,291,19,21,30,23,25,27,8,12,2,291,1431,1424,5,1,1,0,1465,1465,1450,322,689,439,15,6,7,2,0,0,1465,1211,518,693,2,204,204,0,39,36,0,3,0,9,607,140,234,114,84,31,4,0,0,607,0,0,15,39,237,187,85,33,11,607,398,133,57,13,6,607,2,6,66,477,50,6,607,287,218,87,13,2,607,9,576,9,0,1,2,10,1222,348,424,97,393,209,99,149,168,125,60,171,269,9,1085,24,0,28,26,2,5,483,45,7,64,1,400,1465,1437,0,4,3,21,685,103,113,191,93,32,2,10,15,68,58]
["Lower Super Output Area 2011","Dudley 041D","LSOA Code E01009852 / Name Dudley 041D","E01009852",1493,65,71,83,79,52,44,42,65,105,113,112,110,120,127,108,82,64,33,18,14,12,20,37,720,31,32,40,44,33,22,20,25,56,59,48,61,56,61,51,37,28,10,6,0,0,0,0,773,34,39,43,35,19,22,22,40,49,54,64,49,64,66,57,45,36,23,12,0,0,0,0,1493,1437,40,16,601,117,121,286,0,0,14,29,18,12,0,4,483,329,17,11,29,19,35,21,11,10,1,279,1460,1432,12,12,3,1,1473,1473,1467,1074,369,24,6,0,0,6,0,0,1473,1383,734,649,0,9,9,0,68,66,0,2,0,13,601,117,266,93,96,19,5,4,1,601,0,2,4,49,119,124,133,97,73,601,499,75,21,5,1,601,0,10,107,238,201,45,601,363,186,46,4,2,601,9,575,6,0,0,2,9,1252,253,396,64,537,168,111,256,144,224,102,254,219,24,1055,60,2,36,16,1,3,498,17,7,23,3,389,1493,1427,10,4,4,48,666,81,82,156,158,32,8,7,16,92,34]
["Lower Super Output Area 2011","Dudley 040B","LSOA Code E01009857 / Name Dudley 040B","E01009857",1613,127,94,102,105,74,121,135,107,133,103,90,81,113,75,66,43,16,19,9,25,22,16,39,785,68,50,48,60,35,55,64,56,66,49,47,32,53,41,29,17,8,7,0,0,0,0,0,828,59,44,54,45,39,66,71,51,67,54,43,49,60,34,37,26,8,12,9,0,0,0,0,1613,1568,35,10,694,240,105,144,0,2,40,51,57,38,0,17,450,239,37,19,38,32,30,16,22,15,2,395,1537,1448,35,31,20,3,1613,1613,1469,125,839,505,144,113,26,5,0,0,1613,922,300,622,3,532,521,11,144,139,0,4,1,12,694,240,214,108,76,34,13,6,3,694,0,20,99,95,300,115,44,12,9,694,293,176,173,43,9,694,6,109,119,404,43,13,694,226,222,212,27,7,694,26,546,92,0,0,8,22,1265,387,403,142,374,228,72,189,167,151,46,132,197,34,1178,35,3,79,39,1,9,415,29,9,64,2,493,1613,1489,8,8,31,77,685,130,124,115,128,29,7,5,17,69,61]
["Lower Super Output Area 2011","Dudley 033C","LSOA Code E01009861 / Name Dudley 033C","E01009861",1549,105,107,90,88,86,115,119,114,124,113,87,76,84,84,56,38,35,21,7,22,18,15,35,741,40,47,44,36,42,57,59,58,59,51,46,39,47,40,29,25,15,5,2,0,0,0,0,808,65,60,46,52,44,58,60,56,65,62,41,37,37,44,27,13,20,16,5,0,0,0,0,1549,1532,8,9,646,187,110,181,0,1,38,43,53,20,0,13,449,247,36,31,38,25,18,17,20,17,0,370,1483,1411,23,28,16,5,1545,1545,1436,174,691,571,109,63,12,34,0,0,1545,1033,396,637,0,270,254,16,227,204,1,18,4,15,646,187,217,114,85,25,15,0,3,646,4,8,45,149,216,155,40,17,12,646,291,181,133,31,10,646,1,45,239,324,33,4,646,176,252,189,25,4,646,42,551,23,0,0,4,26,1225,402,396,131,311,288,71,131,192,99,68,114,176,20,1124,21,0,20,84,2,5,478,41,13,43,6,411,1549,1466,2,11,21,49,713,93,206,146,113,15,8,6,12,52,62]
["Lower Super Output Area 2011","Dudley 033D","LSOA Code E01009862 / Name Dudley 033D","E01009862",1759,119,91,118,117,122,131,130,111,132,132,102,71,103,73,68,56,32,31,20,28,24,14,52,848,64,42,49,56,53,65,69,56,68,63,54,37,50,36,34,22,14,11,5,0,0,0,0,911,55,49,69,61,69,66,61,55,64,69,48,34,53,37,34,34,18,20,15,0,0,0,0,1759,1722,28,9,724,210,103,202,0,0,47,56,64,26,0,16,502,286,44,20,37,33,27,14,23,14,4,400,1682,1606,40,17,13,6,1733,1731,1517,246,842,429,214,203,9,2,0,2,1733,1065,413,652,2,444,324,120,183,176,1,6,0,39,724,210,253,119,83,40,14,1,4,724,0,6,75,144,290,133,56,14,6,724,318,193,164,42,7,724,0,78,179,422,42,3,724,231,253,210,26,4,724,19,647,21,1,0,10,26,1410,470,485,154,317,257,70,116,174,109,52,118,218,26,1271,18,0,18,78,7,9,513,58,14,61,2,493,1759,1650,3,14,28,64,778,95,293,117,126,26,9,5,19,35,53]
["Lower Super Output Area 2011","Dudley 025D","LSOA Code E01009867 / Name Dudley 025D","E01009867",1734,99,112,99,107,100,96,94,116,127,116,108,106,112,108,88,63,49,27,7,21,28,15,35,861,56,55,47,57,50,44,42,61,55,58,58,58,49,58,51,29,17,14,2,0,0,0,0,873,43,57,52,50,50,52,52,55,72,58,50,48,63,50,37,34,32,13,5,0,0,0,0,1734,1698,30,6,694,158,124,256,0,1,31,26,50,38,0,10,540,327,31,26,38,32,34,16,19,14,3,378,1672,1641,4,14,11,2,1734,1734,1678,325,1104,249,56,22,33,1,0,0,1734,1321,550,771,5,261,261,0,133,130,0,3,0,14,694,158,257,126,99,37,16,1,0,694,2,19,45,55,242,205,85,31,10,694,409,135,112,34,4,694,4,60,109,434,80,7,694,267,238,168,16,5,694,44,556,63,0,3,9,19,1404,534,461,121,286,233,88,90,190,81,52,102,205,13,1258,20,0,20,50,3,8,551,41,12,64,2,487,1734,1678,0,9,8,39,771,173,228,113,95,15,10,7,17,49,64]
["Lower Super Output Area 2011","Dudley 020A","LSOA Code E01009872 / Name Dudley 020A","E01009872",1499,96,117,115,123,91,92,98,99,129,114,113,79,56,61,39,23,25,17,12,24,19,27,45,760,51,49,63,63,50,38,46,53,68,58,61,50,35,31,19,12,8,4,1,0,0,0,0,739,45,68,52,60,41,54,52,46,61,56,52,29,21,30,20,11,17,13,11,0,0,0,0,1499,1460,34,5,615,231,100,112,0,0,45,29,64,27,0,7,388,172,22,25,42,26,39,15,26,18,3,408,1441,1379,27,19,15,1,1499,1496,1269,131,610,528,226,205,17,4,1,3,1499,786,220,566,10,529,513,16,150,144,0,6,0,24,615,231,131,94,98,40,18,2,1,615,8,15,55,131,256,102,28,11,9,615,216,190,148,45,16,615,0,68,180,334,25,8,615,135,250,200,26,4,615,34,413,138,1,2,8,19,1148,416,388,150,217,233,46,67,124,63,40,58,191,26,1071,13,0,16,62,1,12,389,39,6,74,3,456,1499,1410,1,7,26,55,615,141,174,112,78,7,2,4,16,32,49]
["Lower Super Output Area 2011","Dudley 018E","LSOA Code E01009875 / Name Dudley 018E","E01009875",1594,115,87,100,103,75,114,79,107,129,100,84,83,73,94,90,58,55,33,15,16,16,25,43,769,49,51,54,46,31,58,32,47,77,49,40,41,39,48,40,32,20,12,3,0,0,0,0,825,66,36,46,57,44,56,47,60,52,51,44,42,34,46,50,26,35,21,12,0,0,0,0,1594,1564,25,5,623,162,102,181,0,0,45,43,54,26,0,10,454,250,34,17,44,29,30,15,22,12,1,375,1521,1483,17,17,4,0,1512,1512,1421,180,867,374,91,85,6,0,0,0,1512,1014,374,640,21,355,351,4,109,95,0,14,0,13,623,162,223,107,92,25,11,1,2,623,0,7,42,181,242,95,37,9,10,623,250,189,154,27,3,623,2,33,218,332,31,7,623,189,234,180,17,3,623,35,525,29,0,0,14,20,1266,540,351,124,206,253,75,53,145,52,39,71,200,16,1105,9,1,10,79,2,11,398,43,11,78,2,461,1594,1533,1,5,12,43,644,136,244,111,51,13,6,3,12,33,35]
["Lower Super Output Area 2011","Dudley 020E","LSOA Code E01009877 / Name Dudley 020E","E01009877",1566,134,140,95,98,98,123,82,102,120,106,80,70,77,70,43,47,48,30,3,19,24,20,32,763,65,72,46,46,38,55,43,57,56,58,44,32,40,36,18,20,22,14,1,0,0,0,0,803,69,68,49,52,60,68,39,45,64,48,36,38,37,34,25,27,26,16,2,0,0,0,0,1566,1536,29,1,633,183,79,132,0,0,53,44,77,47,0,18,437,226,25,21,31,37,36,12,33,15,1,429,1480,1456,9,7,8,0,1566,1566,1409,79,1038,292,157,147,4,6,0,0,1566,647,260,387,0,807,788,19,82,74,0,6,2,30,633,183,196,108,89,36,17,3,1,633,0,7,13,155,294,116,31,8,9,633,270,189,131,38,5,633,1,6,230,359,29,8,633,171,271,161,29,1,633,54,523,16,0,3,8,29,1175,529,345,134,165,226,48,47,106,30,28,42,181,20,1047,7,0,10,70,2,5,350,38,16,79,4,466,1566,1523,1,6,16,20,581,174,187,72,58,10,3,2,12,26,37]
["Lower Super Output Area 2011","Dudley 009E","LSOA Code E01009882 / Name Dudley 009E","E01009882",1415,103,90,87,92,93,96,92,87,91,124,86,88,66,71,68,37,30,8,6,18,21,12,36,712,54,51,51,54,37,56,42,43,43,58,43,38,33,39,34,18,14,3,1,0,0,0,0,703,49,39,36,38,56,40,50,44,48,66,43,50,33,32,34,19,16,5,5,0,0,0,0,1415,1372,29,14,542,123,113,170,0,1,18,32,56,21,0,8,424,231,32,17,41,31,32,10,15,13,2,340,1348,1268,25,34,19,2,1406,1406,1378,343,821,214,24,10,14,0,4,0,1406,1179,485,694,0,54,38,16,158,147,0,11,0,15,542,123,187,94,92,29,11,2,4,542,0,9,16,57,185,160,73,24,18,542,340,111,64,18,9,542,2,17,99,353,54,17,542,223,193,100,21,5,542,14,489,17,1,2,6,13,1116,276,372,102,351,216,82,144,146,143,61,111,209,45,1035,23,0,10,47,4,4,462,38,6,49,1,391,1415,1265,17,11,20,102,644,151,161,135,69,11,9,4,12,52,40]
["Lower Super Output Area 2011","Dudley 015A","LSOA Code E01009887 / Name Dudley 015A","E01009887",1783,140,110,116,135,102,138,122,120,126,110,112,108,96,80,51,61,26,20,10,21,26,24,45,868,67,59,54,59,52,70,61,62,58,62,53,50,47,41,24,27,10,9,3,0,0,0,0,915,73,51,62,76,50,68,61,58,68,48,59,58,49,39,27,34,16,11,7,0,0,0,0,1783,1750,24,9,637,146,129,172,0,0,36,37,59,38,1,19,493,262,41,27,45,23,30,11,35,15,4,449,1699,1514,44,85,39,17,1759,1759,1668,203,1132,333,91,83,5,3,0,0,1759,1116,466,650,0,397,375,22,204,185,4,11,4,42,637,146,198,118,88,44,25,10,8,637,0,1,27,51,228,205,80,31,14,637,362,148,81,35,11,637,2,12,72,475,54,22,637,251,220,121,35,10,637,17,550,28,0,4,7,31,1383,500,371,115,288,236,63,118,157,114,42,119,186,85,1266,18,2,7,84,4,6,447,63,8,82,2,543,1783,1497,27,35,54,170,723,175,183,128,83,8,3,3,19,51,70]
["Lower Super Output Area 2011","Dudley 010B","LSOA Code E01009892 / Name Dudley 010B","E01009892",1508,92,112,103,115,128,115,121,112,88,99,85,74,56,61,52,45,19,20,11,22,20,20,41,745,45,65,50,49,62,67,61,68,45,39,35,32,28,31,28,20,11,6,3,0,0,0,0,763,47,47,53,66,66,48,60,44,43,60,50,42,28,30,24,25,8,14,8,0,0,0,0,1508,1476,27,5,632,257,95,100,0,1,15,29,73,45,0,17,373,186,23,22,46,23,12,7,26,27,1,385,1454,1241,47,65,82,19,1508,1508,1263,123,682,458,245,206,24,15,0,0,1508,656,306,350,6,522,474,48,261,236,0,20,5,63,632,257,163,86,47,32,28,9,10,632,10,35,164,89,117,132,44,27,14,632,207,113,207,80,25,632,2,213,100,249,43,25,632,122,150,285,61,14,632,26,505,41,0,1,14,45,1177,470,338,129,210,171,34,84,110,89,33,66,147,64,1082,13,0,7,93,6,6,238,30,9,91,6,583,1508,1192,29,31,65,191,499,132,138,89,33,6,4,10,15,33,39]
["Lower Super Output Area 2011","Dudley 002D","LSOA Code E01009895 / Name Dudley 002D","E01009895",1407,72,79,86,90,78,67,66,83,116,87,108,80,96,78,70,56,47,37,11,18,17,18,33,673,34,37,48,52,40,26,33,43,51,43,63,39,47,36,27,28,18,8,0,0,0,0,0,734,38,42,38,38,38,41,33,40,65,44,45,41,49,42,43,28,29,29,11,0,0,0,0,1407,1369,32,6,611,194,99,185,0,1,26,26,44,26,0,10,417,244,30,23,26,20,29,20,13,10,2,300,1362,1356,3,3,0,0,1407,1407,1243,514,441,288,164,151,5,8,0,0,1407,952,401,551,2,346,228,118,91,86,0,4,1,16,611,194,204,93,82,30,8,0,0,611,5,13,96,39,172,139,78,39,30,611,336,106,128,32,9,611,1,110,70,320,96,14,611,230,185,175,21,0,611,11,529,46,0,1,10,14,1145,336,403,125,326,222,67,129,143,106,66,151,195,8,994,24,5,8,55,3,6,454,23,7,36,2,371,1407,1377,1,2,3,24,623,70,133,206,68,18,3,5,16,54,50]
["Lower Super Output Area 2011","Dudley 003B","LSOA Code E01009897 / Name Dudley 003B","E01009897",1455,59,69,70,72,56,46,50,77,122,100,83,92,95,104,140,111,73,30,6,10,16,12,32,732,30,40,36,38,34,26,24,38,61,54,40,44,50,57,53,52,39,14,2,0,0,0,0,723,29,29,34,34,22,20,26,39,61,46,43,48,45,47,87,59,34,16,4,0,0,0,0,1455,1406,38,11,606,117,120,296,0,1,16,19,15,19,0,3,490,337,24,14,34,19,35,16,4,6,1,258,1422,1411,3,6,2,0,1455,1455,1443,426,1005,12,12,9,0,3,0,0,1455,1397,751,646,0,11,11,0,44,33,0,10,1,3,606,117,266,109,94,17,3,0,0,606,0,0,7,54,136,226,113,50,20,606,463,118,20,5,0,606,0,4,88,442,59,13,606,314,225,63,4,0,606,7,579,9,0,1,2,8,1244,301,363,77,452,221,125,191,186,148,93,173,252,7,1024,23,4,21,27,0,3,508,30,7,21,1,379,1455,1442,1,1,2,9,645,56,170,178,98,23,6,6,16,56,36]
["Lower Super Output Area 2011","Dudley 003E","LSOA Code E01009902 / Name Dudley 003E","E01009902",1269,48,51,68,64,59,35,48,69,78,100,71,104,136,138,97,53,33,11,6,14,11,19,24,615,28,18,39,35,26,14,26,31,43,49,31,46,64,61,53,27,16,6,2,0,0,0,0,654,20,33,29,29,33,21,22,38,35,51,40,58,72,77,44,26,17,5,4,0,0,0,0,1269,1244,20,5,533,109,92,267,0,0,7,20,20,16,0,2,428,306,11,7,32,20,29,11,6,5,1,210,1248,1239,4,5,0,0,1269,1269,1231,647,501,83,38,25,0,13,0,0,1269,1173,619,554,3,37,33,4,48,42,0,6,0,8,533,109,237,87,79,17,4,0,0,533,1,0,7,25,192,179,76,44,9,533,407,85,34,6,1,533,0,5,61,399,56,12,533,288,184,55,6,0,533,7,505,8,0,0,5,8,1091,234,367,75,381,198,115,146,187,133,82,169,225,9,988,28,2,12,36,2,9,484,25,5,26,0,359,1269,1239,0,0,1,29,629,49,134,207,95,19,3,11,14,58,39]
["Lower Super Output Area 2011","Dudley 035D","LSOA Code E01009907 / Name Dudley 035D","E01009907",1468,89,62,74,101,102,111,85,76,123,127,99,88,86,65,36,57,31,31,25,11,19,16,28,707,46,32,40,49,45,59,40,37,61,55,54,38,42,33,12,30,13,15,6,0,0,0,0,761,43,30,34,52,57,52,45,39,62,72,45,50,44,32,24,27,18,16,19,0,0,0,0,1468,1413,40,15,637,214,103,141,0,0,32,46,50,28,0,23,406,217,40,24,40,24,13,26,8,14,0,306,1408,1392,8,4,3,1,1425,1415,1305,247,496,562,110,69,28,13,0,10,1425,1071,405,666,7,112,102,10,222,204,4,14,0,13,637,214,197,125,70,27,2,1,1,637,1,14,33,95,166,175,92,38,23,637,395,148,68,23,3,637,3,57,190,310,64,13,637,180,308,131,15,3,637,28,528,41,1,1,9,29,1222,279,409,101,528,213,65,265,160,236,67,204,242,25,1078,33,0,52,46,0,3,468,28,9,98,3,338,1468,1407,2,7,8,44,740,150,103,153,157,28,8,7,16,70,48]
["Lower Super Output Area 2011","Dudley 035E","LSOA Code E01009908 / Name Dudley 035E","E01009908",1652,96,101,106,112,93,86,77,105,149,157,105,118,94,85,59,44,40,21,4,25,24,13,44,814,43,47,63,58,61,51,36,47,74,73,52,53,50,39,21,26,12,7,1,0,0,0,0,838,53,54,43,54,32,35,41,58,75,84,53,65,44,46,38,18,28,14,3,0,0,0,0,1652,1583,47,22,679,185,134,179,0,1,35,52,40,32,0,21,477,268,26,13,35,30,43,28,20,14,0,392,1596,1571,15,3,6,1,1640,1640,1505,336,550,619,135,84,41,10,0,0,1640,1376,500,876,2,52,36,16,192,174,3,15,0,18,679,185,230,114,110,29,9,2,0,679,0,20,43,82,126,172,103,72,61,679,444,132,71,27,5,679,0,42,174,301,128,34,679,272,270,126,10,1,679,29,584,32,0,1,6,27,1323,196,465,92,751,214,58,393,181,377,72,367,291,35,1214,61,0,56,36,2,3,562,21,10,110,6,347,1652,1586,5,3,15,43,867,148,108,152,190,42,11,11,20,110,75]
["Lower Super Output Area 2011","Dudley 021C","LSOA Code E01009913 / Name Dudley 021C","E01009913",1544,86,97,84,93,69,68,82,94,143,108,80,80,102,101,117,74,44,14,8,11,15,18,40,775,51,53,44,49,32,35,41,40,74,56,40,42,48,52,54,38,21,3,2,0,0,0,0,769,35,44,40,44,37,33,41,54,69,52,40,38,54,49,63,36,23,11,6,0,0,0,0,1544,1523,20,1,648,163,110,244,0,2,36,33,36,20,0,4,486,303,23,23,38,29,25,12,17,12,4,328,1498,1489,8,0,1,0,1544,1544,1524,116,1245,163,20,8,0,12,0,0,1544,1203,487,716,1,236,174,62,89,83,0,6,0,15,648,163,264,88,88,36,6,3,0,648,0,12,45,130,202,143,92,18,6,648,349,160,109,27,3,648,0,51,219,313,57,8,648,213,256,157,22,0,648,34,545,38,0,0,7,24,1266,453,424,116,242,258,89,81,163,72,41,93,247,13,1126,24,0,14,31,0,13,484,45,17,61,3,434,1544,1513,0,3,5,23,692,139,216,91,100,23,3,5,12,53,50]
["Lower Super Output Area 2011","Dudley 024A","LSOA Code E01009917 / Name Dudley 024A","E01009917",1266,61,70,90,67,56,58,79,77,123,89,74,75,88,127,82,26,12,7,5,16,21,19,34,628,27,34,41,35,31,30,40,38,67,38,36,35,39,64,47,16,3,3,4,0,0,0,0,638,34,36,49,32,25,28,39,39,56,51,38,40,49,63,35,10,9,4,1,0,0,0,0,1266,1239,21,6,498,83,93,225,0,0,27,22,26,21,0,1,419,271,13,15,29,23,32,11,14,9,2,268,1235,1234,1,0,0,0,1266,1266,1263,142,964,157,3,3,0,0,0,0,1266,1156,489,667,0,62,47,15,48,46,0,2,0,0,498,83,208,94,84,25,4,0,0,498,0,1,4,20,213,179,57,15,9,498,339,113,36,8,2,498,1,0,33,420,41,3,498,255,167,69,7,0,498,16,464,9,0,0,0,9,1021,244,409,107,290,254,100,102,177,82,55,126,236,6,971,13,0,8,33,2,5,511,31,4,34,2,328,1266,1253,0,2,0,11,643,68,212,103,124,25,8,3,17,42,41]
["Bespoke","N/A",{"$f":"IF('Bespoke Area Name'!C4=\"\",\"No bespoke area name entered; Go to sheet \"\"Bespoke Area Name\"\"\",'Bespoke Area Name'!C4)","v":"No bespoke area name entered; Go to sheet \"Bespoke Area Name\""},"AREA0001",{"$f":"'Bespoke Area Data'!D4","v":0},{"$f":"'Bespoke Area Data'!E4","v":0},{"$f":"'Bespoke Area Data'!F4","v":0},{"$f":"'Bespoke Area Data'!G4","v":0},{"$f":"'Bespoke Area Data'!H4","v":0},{"$f":"'Bespoke Area Data'!I4","v":0},{"$f":"'Bespoke Area Data'!J4","v":0},{"$f":"'Bespoke Area Data'!K4","v":0},{"$f":"'Bespoke Area Data'!L4","v":0},{"$f":"'Bespoke Area Data'!M4","v":0},{"$f":"'Bespoke Area Data'!N4","v":0},{"$f":"'Bespoke Area Data'!O4","v":0},{"$f":"'Bespoke Area Data'!P4","v":0},{"$f":"'Bespoke Area Data'!Q4","v":0},{"$f":"'Bespoke Area Data'!R4","v":0},{"$f":"'Bespoke Area Data'!S4","v":0},{"$f":"'Bespoke Area Data'!T4","v":0},{"$f":"'Bespoke Area Data'!U4","v":0},{"$f":"'Bespoke Area Data'!V4","v":0},{"$f":"'Bespoke Area Data'!W4","v":0},{"$f":"'Bespoke Area Data'!X4","v":0},{"$f":"'Bespoke Area Data'!Y4","v":0},{"$f":"'Bespoke Area Data'!Z4","v":0},{"$f":"'Bespoke Area Data'!AA4","v":0},{"$f":"'Bespoke Area Data'!AB4","v":0},{"$f":"'Bespoke Area Data'!AC4","v":0},{"$f":"'Bespoke Area Data'!AD4","v":0},{"$f":"'Bespoke Area Data'!AE4","v":0},{"$f":"'Bespoke Area Data'!AF4","v":0},{"$f":"'Bespoke Area Data'!AG4","v":0},{"$f":"'Bespoke Area Data'!AH4","v":0},{"$f":"'Bespoke Area Data'!AI4","v":0},{"$f":"'Bespoke Area Data'!AJ4","v":0},{"$f":"'Bespoke Area Data'!AK4","v":0},{"$f":"'Bespoke Area Data'!AL4","v":0},{"$f":"'Bespoke Area Data'!AM4","v":0},{"$f":"'Bespoke Area Data'!AN4","v":0},{"$f":"'Bespoke Area Data'!AO4","v":0},{"$f":"'Bespoke Area Data'!AP4","v":0},{"$f":"'Bespoke Area Data'!AQ4","v":0},{"$f":"'Bespoke Area Data'!AR4","v":0},{"$f":"'Bespoke Area Data'!AS4","v":0},{"$f":"'Bespoke Area Data'!AT4","v":0},{"$f":"'Bespoke Area Data'!AU4","v":0},{"$f":"'Bespoke Area Data'!AV4","v":0},{"$f":"'Bespoke Area Data'!AW4","v":0},{"$f":"'Bespoke Area Data'!AX4","v":0},{"$f":"'Bespoke Area Data'!AY4","v":0},{"$f":"'Bespoke Area Data'!AZ4","v":0},{"$f":"'Bespoke Area Data'!BA4","v":0},{"$f":"'Bespoke Area Data'!BB4","v":0},{"$f":"'Bespoke Area Data'!BC4","v":0},{"$f":"'Bespoke Area Data'!BD4","v":0},{"$f":"'Bespoke Area Data'!BE4","v":0},{"$f":"'Bespoke Area Data'!BF4","v":0},{"$f":"'Bespoke Area Data'!BG4","v":0},{"$f":"'Bespoke Area Data'!BH4","v":0},{"$f":"'Bespoke Area Data'!BI4","v":0},{"$f":"'Bespoke Area Data'!BJ4","v":0},{"$f":"'Bespoke Area Data'!BK4","v":0},{"$f":"'Bespoke Area Data'!BL4","v":0},{"$f":"'Bespoke Area Data'!BM4","v":0},{"$f":"'Bespoke Area Data'!BN4","v":0},{"$f":"'Bespoke Area Data'!BO4","v":0},{"$f":"'Bespoke Area Data'!BP4","v":0},{"$f":"'Bespoke Area Data'!BQ4","v":0},{"$f":"'Bespoke Area Data'!BR4","v":0},{"$f":"'Bespoke Area Data'!BS4","v":0},{"$f":"'Bespoke Area Data'!BT4","v":0},{"$f":"'Bespoke Area Data'!BU4","v":0},{"$f":"'Bespoke Area Data'!BV4","v":0},{"$f":"'Bespoke Area Data'!BW4","v":0},{"$f":"'Bespoke Area Data'!BX4","v":0},{"$f":"'Bespoke Area Data'!BY4","v":0},{"$f":"'Bespoke Area Data'!BZ4","v":0},{"$f":"'Bespoke Area Data'!CA4","v":0},{"$f":"'Bespoke Area Data'!CB4","v":0},{"$f":"'Bespoke Area Data'!CC4","v":0},{"$f":"'Bespoke Area Data'!CD4","v":0},{"$f":"'Bespoke Area Data'!CE4","v":0},{"$f":"'Bespoke Area Data'!CF4","v":0},{"$f":"'Bespoke Area Data'!CG4","v":0},{"$f":"'Bespoke Area Data'!CH4","v":0},{"$f":"'Bespoke Area Data'!CI4","v":0},{"$f":"'Bespoke Area Data'!CJ4","v":0},{"$f":"'Bespoke Area Data'!CK4","v":0},{"$f":"'Bespoke Area Data'!CL4","v":0},{"$f":"'Bespoke Area Data'!CM4","v":0},{"$f":"'Bespoke Area Data'!CN4","v":0},{"$f":"'Bespoke Area Data'!CO4","v":0},{"$f":"'Bespoke Area Data'!CP4","v":0},{"$f":"'Bespoke Area Data'!CQ4","v":0},{"$f":"'Bespoke Area Data'!CR4","v":0},{"$f":"'Bespoke Area Data'!CS4","v":0},{"$f":"'Bespoke Area Data'!CT4","v":0},{"$f":"'Bespoke Area Data'!CU4","v":0},{"$f":"'Bespoke Area Data'!CV4","v":0},{"$f":"'Bespoke Area Data'!CW4","v":0},{"$f":"'Bespoke Area Data'!CX4","v":0},{"$f":"'Bespoke Area Data'!CY4","v":0},{"$f":"'Bespoke Area Data'!CZ4","v":0},{"$f":"'Bespoke Area Data'!DA4","v":0},{"$f":"'Bespoke Area Data'!DB4","v":0},{"$f":"'Bespoke Area Data'!DC4","v":0},{"$f":"'Bespoke Area Data'!DD4","v":0},{"$f":"'Bespoke Area Data'!DE4","v":0},{"$f":"'Bespoke Area Data'!DF4","v":0},{"$f":"'Bespoke Area Data'!DG4","v":0},{"$f":"'Bespoke Area Data'!DH4","v":0},{"$f":"'Bespoke Area Data'!DI4","v":0},{"$f":"'Bespoke Area Data'!DJ4","v":0},{"$f":"'Bespoke Area Data'!DK4","v":0},{"$f":"'Bespoke Area Data'!DL4","v":0},{"$f":"'Bespoke Area Data'!DM4","v":0},{"$f":"'Bespoke Area Data'!DN4","v":0},{"$f":"'Bespoke Area Data'!DO4","v":0},{"$f":"'Bespoke Area Data'!DP4","v":0},{"$f":"'Bespoke Area Data'!DQ4","v":0},{"$f":"'Bespoke Area Data'!DR4","v":0},{"$f":"'Bespoke Area Data'!DS4","v":0},{"$f":"'Bespoke Area Data'!DT4","v":0},{"$f":"'Bespoke Area Data'!DU4","v":0},{"$f":"'Bespoke Area Data'!DV4","v":0},{"$f":"'Bespoke Area Data'!DW4","v":0},{"$f":"'Bespoke Area Data'!DX4","v":0},{"$f":"'Bespoke Area Data'!DY4","v":0},{"$f":"'Bespoke Area Data'!DZ4","v":0},{"$f":"'Bespoke Area Data'!EA4","v":0},{"$f":"'Bespoke Area Data'!EB4","v":0},{"$f":"'Bespoke Area Data'!EC4","v":0},{"$f":"'Bespoke Area Data'!ED4","v":0},{"$f":"'Bespoke Area Data'!EE4","v":0},{"$f":"'Bespoke Area Data'!EF4","v":0},{"$f":"'Bespoke Area Data'!EG4","v":0},{"$f":"'Bespoke Area Data'!EH4","v":0},{"$f":"'Bespoke Area Data'!EI4","v":0},{"$f":"'Bespoke Area Data'!EJ4","v":0},{"$f":"'Bespoke Area Data'!EK4","v":0},{"$f":"'Bespoke Area Data'!EL4","v":0},{"$f":"'Bespoke Area Data'!EM4","v":0},{"$f":"'Bespoke Area Data'!EN4","v":0},{"$f":"'Bespoke Area Data'!EO4","v":0},{"$f":"'Bespoke Area Data'!EP4","v":0},{"$f":"'Bespoke Area Data'!EQ4","v":0},{"$f":"'Bespoke Area Data'!ER4","v":0},{"$f":"'Bespoke Area Data'!ES4","v":0},{"$f":"'Bespoke Area Data'!ET4","v":0},{"$f":"'Bespoke Area Data'!EU4","v":0},{"$f":"'Bespoke Area Data'!EV4","v":0},{"$f":"'Bespoke Area Data'!EW4","v":0},{"$f":"'Bespoke Area Data'!EX4","v":0},{"$f":"'Bespoke Area Data'!EY4","v":0},{"$f":"'Bespoke Area Data'!EZ4","v":0},{"$f":"'Bespoke Area Data'!FA4","v":0},{"$f":"'Bespoke Area Data'!FB4","v":0},{"$f":"'Bespoke Area Data'!FC4","v":0},{"$f":"'Bespoke Area Data'!FD4","v":0},{"$f":"'Bespoke Area Data'!D5","v":0},{"$f":"'Bespoke Area Data'!E5","v":0},{"$f":"'Bespoke Area Data'!F5","v":0},{"$f":"'Bespoke Area Data'!G5","v":0},{"$f":"'Bespoke Area Data'!H5","v":0},{"$f":"'Bespoke Area Data'!I5","v":0},{"$f":"'Bespoke Area Data'!J5","v":0},{"$f":"'Bespoke Area Data'!K5","v":0},{"$f":"'Bespoke Area Data'!L5","v":0},{"$f":"'Bespoke Area Data'!M5","v":0},{"$f":"'Bespoke Area Data'!N5","v":0},{"$f":"'Bespoke Area Data'!O5","v":0},{"$f":"'Bespoke Area Data'!P5","v":0},{"$f":"'Bespoke Area Data'!Q5","v":0},{"$f":"'Bespoke Area Data'!R5","v":0},{"$f":"'Bespoke Area Data'!S5","v":0},{"$f":"'Bespoke Area Data'!T5","v":0},{"$f":"'Bespoke Area Data'!U5","v":0},{"$f":"'Bespoke Area Data'!V5","v":0},{"$f":"'Bespoke Area Data'!W5","v":0},{"$f":"'Bespoke Area Data'!X5","v":0},{"$f":"'Bespoke Area Data'!Y5","v":0},{"$f":"'Bespoke Area Data'!Z5","v":0},{"$f":"'Bespoke Area Data'!AA5","v":0},{"$f":"'Bespoke Area Data'!AB5","v":0},{"$f":"'Bespoke Area Data'!AC5","v":0},{"$f":"'Bespoke Area Data'!AD5","v":0},{"$f":"'Bespoke Area Data'!AE5","v":0},{"$f":"'Bespoke Area Data'!AF5","v":0},{"$f":"'Bespoke Area Data'!AG5","v":0},{"$f":"'Bespoke Area Data'!AH5","v":0},{"$f":"'Bespoke Area Data'!AI5","v":0},{"$f":"'Bespoke Area Data'!AJ5","v":0},{"$f":"'Bespoke Area Data'!AK5","v":0},{"$f":"'Bespoke Area Data'!AL5","v":0},{"$f":"'Bespoke Area Data'!AM5","v":0},{"$f":"'Bespoke Area Data'!AN5","v":0},{"$f":"'Bespoke Area Data'!AO5","v":0},{"$f":"'Bespoke Area Data'!AP5","v":0},{"$f":"'Bespoke Area Data'!AQ5","v":0},{"$f":"'Bespoke Area Data'!AR5","v":0},{"$f":"'Bespoke Area Data'!AS5","v":0},{"$f":"'Bespoke Area Data'!AT5","v":0},{"$f":"'Bespoke Area Data'!AU5","v":0},{"$f":"'Bespoke Area Data'!AV5","v":0},{"$f":"'Bespoke Area Data'!AW5","v":0},{"$f":"'Bespoke Area Data'!AX5","v":0},{"$f":"'Bespoke Area Data'!AY5","v":0},{"$f":"'Bespoke Area Data'!AZ5","v":0},{"$f":"'Bespoke Area Data'!BA5","v":0},{"$f":"'Bespoke Area Data'!BB5","v":0},{"$f":"'Bespoke Area Data'!BC5","v":0},{"$f":"'Bespoke Area Data'!BD5","v":0},{"$f":"'Bespoke Area Data'!BE5","v":0},{"$f":"'Bespoke Area Data'!BF5","v":0},{"$f":"'Bespoke Area Data'!BG5","v":0},{"$f":"'Bespoke Area Data'!BH5","v":0},{"$f":"'Bespoke Area Data'!BI5","v":0},{"$f":"'Bespoke Area Data'!BJ5","v":0},{"$f":"'Bespoke Area Data'!BK5","v":0},{"$f":"'Bespoke Area Data'!BL5","v":0},{"$f":"'Bespoke Area Data'!BM5","v":0},{"$f":"'Bespoke Area Data'!BN5","v":0},{"$f":"'Bespoke Area Data'!BO5","v":0},{"$f":"'Bespoke Area Data'!BP5","v":0}]
["Bespoke","N/A",{"$f":"IF('Bespoke Area Name'!C5=\"\",\"No bespoke area name entered; Go to sheet \"\"Bespoke Area Name\"\"\",'Bespoke Area Name'!C5)","v":"No bespoke area name entered; Go to sheet \"Bespoke Area Name\""},"AREA0002",{"$f":"'Bespoke Area Data'!D8","v":0},{"$f":"'Bespoke Area Data'!E8","v":0},{"$f":"'Bespoke Area Data'!F8","v":0},{"$f":"'Bespoke Area Data'!G8","v":0},{"$f":"'Bespoke Area Data'!H8","v":0},{"$f":"'Bespoke Area Data'!I8","v":0},{"$f":"'Bespoke Area Data'!J8","v":0},{"$f":"'Bespoke Area Data'!K8","v":0},{"$f":"'Bespoke Area Data'!L8","v":0},{"$f":"'Bespoke Area Data'!M8","v":0},{"$f":"'Bespoke Area Data'!N8","v":0},{"$f":"'Bespoke Area Data'!O8","v":0},{"$f":"'Bespoke Area Data'!P8","v":0},{"$f":"'Bespoke Area Data'!Q8","v":0},{"$f":"'Bespoke Area Data'!R8","v":0},{"$f":"'Bespoke Area Data'!S8","v":0},{"$f":"'Bespoke Area Data'!T8","v":0},{"$f":"'Bespoke Area Data'!U8","v":0},{"$f":"'Bespoke Area Data'!V8","v":0},{"$f":"'Bespoke Area Data'!W8","v":0},{"$f":"'Bespoke Area Data'!X8","v":0},{"$f":"'Bespoke Area Data'!Y8","v":0},{"$f":"'Bespoke Area Data'!Z8","v":0},{"$f":"'Bespoke Area Data'!AA8","v":0},{"$f":"'Bespoke Area Data'!AB8","v":0},{"$f":"'Bespoke Area Data'!AC8","v":0},{"$f":"'Bespoke Area Data'!AD8","v":0},{"$f":"'Bespoke Area Data'!AE8","v":0},{"$f":"'Bespoke Area Data'!AF8","v":0},{"$f":"'Bespoke Area Data'!AG8","v":0},{"$f":"'Bespoke Area Data'!AH8","v":0},{"$f":"'Bespoke Area Data'!AI8","v":0},{"$f":"'Bespoke Area Data'!AJ8","v":0},{"$f":"'Bespoke Area Data'!AK8","v":0},{"$f":"'Bespoke Area Data'!AL8","v":0},{"$f":"'Bespoke Area Data'!AM8","v":0},{"$f":"'Bespoke Area Data'!AN8","v":0},{"$f":"'Bespoke Area Data'!AO8","v":0},{"$f":"'Bespoke Area Data'!AP8","v":0},{"$f":"'Bespoke Area Data'!AQ8","v":0},{"$f":"'Bespoke Area Data'!AR8","v":0},{"$f":"'Bespoke Area Data'!AS8","v":0},{"$f":"'Bespoke Area Data'!AT8","v":0},{"$f":"'Bespoke Area Data'!AU8","v":0},{"$f":"'Bespoke Area Data'!AV8","v":0},{"$f":"'Bespoke Area Data'!AW8","v":0},{"$f":"'Bespoke Area Data'!AX8","v":0},{"$f":"'Bespoke Area Data'!AY8","v":0},{"$f":"'Bespoke Area Data'!AZ8","v":0},{"$f":"'Bespoke Area Data'!BA8","v":0},{"$f":"'Bespoke Area Data'!BB8","v":0},{"$f":"'Bespoke Area Data'!BC8","v":0},{"$f":"'Bespoke Area Data'!BD8","v":0},{"$f":"'Bespoke Area Data'!BE8","v":0},{"$f":"'Bespoke Area Data'!BF8","v":0},{"$f":"'Bespoke Area Data'!BG8","v":0},{"$f":"'Bespoke Area Data'!BH8","v":0},{"$f":"'Bespoke Area Data'!BI8","v":0},{"$f":"'Bespoke Area Data'!BJ8","v":0},{"$f":"'Bespoke Area Data'!BK8","v":0},{"$f":"'Bespoke Area Data'!BL8","v":0},{"$f":"'Bespoke Area Data'!BM8","v":0},{"$f":"'Bespoke Area Data'!BN8","v":0},{"$f":"'Bespoke Area Data'!BO8","v":0},{"$f":"'Bespoke Area Data'!BP8","v":0},{"$f":"'Bespoke Area Data'!BQ8","v":0},{"$f":"'Bespoke Area Data'!BR8","v":0},{"$f":"'Bespoke Area Data'!BS8","v":0},{"$f":"'Bespoke Area Data'!BT8","v":0},{"$f":"'Bespoke Area Data'!BU8","v":0},{"$f":"'Bespoke Area Data'!BV8","v":0},{"$f":"'Bespoke Area Data'!BW8","v":0},{"$f":"'Bespoke Area Data'!BX8","v":0},{"$f":"'Bespoke Area Data'!BY8","v":0},{"$f":"'Bespoke Area Data'!BZ8","v":0},{"$f":"'Bespoke Area Data'!CA8","v":0},{"$f":"'Bespoke Area Data'!CB8","v":0},{"$f":"'Bespoke Area Data'!CC8","v":0},{"$f":"'Bespoke Area Data'!CD8","v":0},{"$f":"'Bespoke Area Data'!CE8","v":0},{"$f":"'Bespoke Area Data'!CF8","v":0},{"$f":"'Bespoke Area Data'!CG8","v":0},{"$f":"'Bespoke Area Data'!CH8","v":0},{"$f":"'Bespoke Area Data'!CI8","v":0},{"$f":"'Bespoke Area Data'!CJ8","v":0},{"$f":"'Bespoke Area Data'!CK8","v":0},{"$f":"'Bespoke Area Data'!CL8","v":0},{"$f":"'Bespoke Area Data'!CM8","v":0},{"$f":"'Bespoke Area Data'!CN8","v":0},{"$f":"'Bespoke Area Data'!CO8","v":0},{"$f":"'Bespoke Area Data'!CP8","v":0},{"$f":"'Bespoke Area Data'!CQ8","v":0},{"$f":"'Bespoke Area Data'!CR8","v":0},{"$f":"'Bespoke Area Data'!CS8","v":0},{"$f":"'Bespoke Area Data'!CT8","v":0},{"$f":"'Bespoke Area Data'!CU8","v":0},{"$f":"'Bespoke Area Data'!CV8","v":0},{"$f":"'Bespoke Area Data'!CW8","v":0},{"$f":"'Bespoke Area Data'!CX8","v":0},{"$f":"'Bespoke Area Data'!CY8","v":0},{"$f":"'Bespoke Area Data'!CZ8","v":0},{"$f":"'Bespoke Area Data'!DA8","v":0},{"$f":"'Bespoke Area Data'!DB8","v":0},{"$f":"'Bespoke Area Data'!DC8","v":0},{"$f":"'Bespoke Area Data'!DD8","v":0},{"$f":"'Bespoke Area Data'!DE8","v":0},{"$f":"'Bespoke Area Data'!DF8","v":0},{"$f":"'Bespoke Area Data'!DG8","v":0},{"$f":"'Bespoke Area Data'!DH8","v":0},{"$f":"'Bespoke Area Data'!DI8","v":0},{"$f":"'Bespoke Area Data'!DJ8","v":0},{"$f":"'Bespoke Area Data'!DK8","v":0},{"$f":"'Bespoke Area Data'!DL8","v":0},{"$f":"'Bespoke Area Data'!DM8","v":0},{"$f":"'Bespoke Area Data'!DN8","v":0},{"$f":"'Bespoke Area Data'!DO8","v":0},{"$f":"'Bespoke Area Data'!DP8","v":0},{"$f":"'Bespoke Area Data'!DQ8","v":0},{"$f":"'Bespoke Area Data'!DR8","v":0},{"$f":"'Bespoke Area Data'!DS8","v":0},{"$f":"'Bespoke Area Data'!DT8","v":0},{"$f":"'Bespoke Area Data'!DU8","v":0},{"$f":"'Bespoke Area Data'!DV8","v":0},{"$f":"'Bespoke Area Data'!DW8","v":0},{"$f":"'Bespoke Area Data'!DX8","v":0},{"$f":"'Bespoke Area Data'!DY8","v":0},{"$f":"'Bespoke Area Data'!DZ8","v":0},{"$f":"'Bespoke Area Data'!EA8","v":0},{"$f":"'Bespoke Area Data'!EB8","v":0},{"$f":"'Bespoke Area Data'!EC8","v":0},{"$f":"'Bespoke Area Data'!ED8","v":0},{"$f":"'Bespoke Area Data'!EE8","v":0},{"$f":"'Bespoke Area Data'!EF8","v":0},{"$f":"'Bespoke Area Data'!EG8","v":0},{"$f":"'Bespoke Area Data'!EH8","v":0},{"$f":"'Bespoke Area Data'!EI8","v":0},{"$f":"'Bespoke Area Data'!EJ8","v":0},{"$f":"'Bespoke Area Data'!EK8","v":0},{"$f":"'Bespoke Area Data'!EL8","v":0},{"$f":"'Bespoke Area Data'!EM8","v":0},{"$f":"'Bespoke Area Data'!EN8","v":0},{"$f":"'Bespoke Area Data'!EO8","v":0},{"$f":"'Bespoke Area Data'!EP8","v":0},{"$f":"'Bespoke Area Data'!EQ8","v":0},{"$f":"'Bespoke Area Data'!ER8","v":0},{"$f":"'Bespoke Area Data'!ES8","v":0},{"$f":"'Bespoke Area Data'!ET8","v":0},{"$f":"'Bespoke Area Data'!EU8","v":0},{"$f":"'Bespoke Area Data'!EV8","v":0},{"$f":"'Bespoke Area Data'!EW8","v":0},{"$f":"'Bespoke Area Data'!EX8","v":0},{"$f":"'Bespoke Area Data'!EY8","v":0},{"$f":"'Bespoke Area Data'!EZ8","v":0},{"$f":"'Bespoke Area Data'!FA8","v":0},{"$f":"'Bespoke Area Data'!FB8","v":0},{"$f":"'Bespoke Area Data'!FC8","v":0},{"$f":"'Bespoke Area Data'!FD8","v":0},{"$f":"'Bespoke Area Data'!D9","v":0},{"$f":"'Bespoke Area Data'!E9","v":0},{"$f":"'Bespoke Area Data'!F9","v":0},{"$f":"'Bespoke Area Data'!G9","v":0},{"$f":"'Bespoke Area Data'!H9","v":0},{"$f":"'Bespoke Area Data'!I9","v":0},{"$f":"'Bespoke Area Data'!J9","v":0},{"$f":"'Bespoke Area Data'!K9","v":0},{"$f":"'Bespoke Area Data'!L9","v":0},{"$f":"'Bespoke Area Data'!M9","v":0},{"$f":"'Bespoke Area Data'!N9","v":0},{"$f":"'Bespoke Area Data'!O9","v":0},{"$f":"'Bespoke Area Data'!P9","v":0},{"$f":"'Bespoke Area Data'!Q9","v":0},{"$f":"'Bespoke Area Data'!R9","v":0},{"$f":"'Bespoke Area Data'!S9","v":0},{"$f":"'Bespoke Area Data'!T9","v":0},{"$f":"'Bespoke Area Data'!U9","v":0},{"$f":"'Bespoke Area Data'!V9","v":0},{"$f":"'Bespoke Area Data'!W9","v":0},{"$f":"'Bespoke Area Data'!X9","v":0},{"$f":"'Bespoke Area Data'!Y9","v":0},{"$f":"'Bespoke Area Data'!Z9","v":0},{"$f":"'Bespoke Area Data'!AA9","v":0},{"$f":"'Bespoke Area Data'!AB9","v":0},{"$f":"'Bespoke Area Data'!AC9","v":0},{"$f":"'Bespoke Area Data'!AD9","v":0},{"$f":"'Bespoke Area Data'!AE9","v":0},{"$f":"'Bespoke Area Data'!AF9","v":0},{"$f":"'Bespoke Area Data'!AG9","v":0},{"$f":"'Bespoke Area Data'!AH9","v":0},{"$f":"'Bespoke Area Data'!AI9","v":0},{"$f":"'Bespoke Area Data'!AJ9","v":0},{"$f":"'Bespoke Area Data'!AK9","v":0},{"$f":"'Bespoke Area Data'!AL9","v":0},{"$f":"'Bespoke Area Data'!AM9","v":0},{"$f":"'Bespoke Area Data'!AN9","v":0},{"$f":"'Bespoke Area Data'!AO9","v":0},{"$f":"'Bespoke Area Data'!AP9","v":0},{"$f":"'Bespoke Area Data'!AQ9","v":0},{"$f":"'Bespoke Area Data'!AR9","v":0},{"$f":"'Bespoke Area Data'!AS9","v":0},{"$f":"'Bespoke Area Data'!AT9","v":0},{"$f":"'Bespoke Area Data'!AU9","v":0},{"$f":"'Bespoke Area Data'!AV9","v":0},{"$f":"'Bespoke Area Data'!AW9","v":0},{"$f":"'Bespoke Area Data'!AX9","v":0},{"$f":"'Bespoke Area Data'!AY9","v":0},{"$f":"'Bespoke Area Data'!AZ9","v":0},{"$f":"'Bespoke Area Data'!BA9","v":0},{"$f":"'Bespoke Area Data'!BB9","v":0},{"$f":"'Bespoke Area Data'!BC9","v":0},{"$f":"'Bespoke Area Data'!BD9","v":0},{"$f":"'Bespoke Area Data'!BE9","v":0},{"$f":"'Bespoke Area Data'!BF9","v":0},{"$f":"'Bespoke Area Data'!BG9","v":0},{"$f":"'Bespoke Area Data'!BH9","v":0},{"$f":"'Bespoke Area Data'!BI9","v":0},{"$f":"'Bespoke Area Data'!BJ9","v":0},{"$f":"'Bespoke Area Data'!BK9","v":0},{"$f":"'Bespoke Area Data'!BL9","v":0},{"$f":"'Bespoke Area Data'!BM9","v":0},{"$f":"'Bespoke Area Data'!BN9","v":0},{"$f":"'Bespoke Area Data'!BO9","v":0},{"$f":"'Bespoke Area Data'!BP9","v":0}]
["Bespoke","N/A",{"$f":"IF('Bespoke Area Name'!C10=\"\",\"No bespoke area name entered; Go to sheet \"\"Bespoke Area Name\"\"\",'Bespoke Area Name'!C10)","v":"No bespoke area name entered; Go to sheet \"Bespoke Area Name\""},"AREA0007",{"$f":"'Bespoke Area Data'!D28","v":0},{"$f":"'Bespoke Area Data'!E28","v":0},{"$f":"'Bespoke Area Data'!F28","v":0},{"$f":"'Bespoke Area Data'!G28","v":0},{"$f":"'Bespoke Area Data'!H28","v":0},{"$f":"'Bespoke Area Data'!I28","v":0},{"$f":"'Bespoke Area Data'!J28","v":0},{"$f":"'Bespoke Area Data'!K28","v":0},{"$f":"'Bespoke Area Data'!L28","v":0},{"$f":"'Bespoke Area Data'!M28","v":0},{"$f":"'Bespoke Area Data'!N28","v":0},{"$f":"'Bespoke Area Data'!O28","v":0},{"$f":"'Bespoke Area Data'!P28","v":0},{"$f":"'Bespoke Area Data'!Q28","v":0},{"$f":"'Bespoke Area Data'!R28","v":0},{"$f":"'Bespoke Area Data'!S28","v":0},{"$f":"'Bespoke Area Data'!T28","v":0},{"$f":"'Bespoke Area Data'!U28","v":0},{"$f":"'Bespoke Area Data'!V28","v":0},{"$f":"'Bespoke Area Data'!W28","v":0},{"$f":"'Bespoke Area Data'!X28","v":0},{"$f":"'Bespoke Area Data'!Y28","v":0},{"$f":"'Bespoke Area Data'!Z28","v":0},{"$f":"'Bespoke Area Data'!AA28","v":0},{"$f":"'Bespoke Area Data'!AB28","v":0},{"$f":"'Bespoke Area Data'!AC28","v":0},{"$f":"'Bespoke Area Data'!AD28","v":0},{"$f":"'Bespoke Area Data'!AE28","v":0},{"$f":"'Bespoke Area Data'!AF28","v":0},{"$f":"'Bespoke Area Data'!AG28","v":0},{"$f":"'Bespoke Area Data'!AH28","v":0},{"$f":"'Bespoke Area Data'!AI28","v":0},{"$f":"'Bespoke Area Data'!AJ28","v":0},{"$f":"'Bespoke Area Data'!AK28","v":0},{"$f":"'Bespoke Area Data'!AL28","v":0},{"$f":"'Bespoke Area Data'!AM28","v":0},{"$f":"'Bespoke Area Data'!AN28","v":0},{"$f":"'Bespoke Area Data'!AO28","v":0},{"$f":"'Bespoke Area Data'!AP28","v":0},{"$f":"'Bespoke Area Data'!AQ28","v":0},{"$f":"'Bespoke Area Data'!AR28","v":0},{"$f":"'Bespoke Area Data'!AS28","v":0},{"$f":"'Bespoke Area Data'!AT28","v":0},{"$f":"'Bespoke Area Data'!AU28","v":0},{"$f":"'Bespoke Area Data'!AV28","v":0},{"$f":"'Bespoke Area Data'!AW28","v":0},{"$f":"'Bespoke Area Data'!AX28","v":0},{"$f":"'Bespoke Area Data'!AY28","v":0},{"$f":"'Bespoke Area Data'!AZ28","v":0},{"$f":"'Bespoke Area Data'!BA28","v":0},{"$f":"'Bespoke Area Data'!BB28","v":0},{"$f":"'Bespoke Area Data'!BC28","v":0},{"$f":"'Bespoke Area Data'!BD28","v":0},{"$f":"'Bespoke Area Data'!BE28","v":0},{"$f":"'Bespoke Area Data'!BF28","v":0},{"$f":"'Bespoke Area Data'!BG28","v":0},{"$f":"'Bespoke Area Data'!BH28","v":0},{"$f":"'Bespoke Area Data'!BI28","v":0},{"$f":"'Bespoke Area Data'!BJ28","v":0},{"$f":"'Bespoke Area Data'!BK28","v":0},{"$f":"'Bespoke Area Data'!BL28","v":0},{"$f":"'Bespoke Area Data'!BM28","v":0},{"$f":"'Bespoke Area Data'!BN28","v":0},{"$f":"'Bespoke Area Data'!BO28","v":0},{"$f":"'Bespoke Area Data'!BP28","v":0},{"$f":"'Bespoke Area Data'!BQ28","v":0},{"$f":"'Bespoke Area Data'!BR28","v":0},{"$f":"'Bespoke Area Data'!BS28","v":0},{"$f":"'Bespoke Area Data'!BT28","v":0},{"$f":"'Bespoke Area Data'!BU28","v":0},{"$f":"'Bespoke Area Data'!BV28","v":0},{"$f":"'Bespoke Area Data'!BW28","v":0},{"$f":"'Bespoke Area Data'!BX28","v":0},{"$f":"'Bespoke Area Data'!BY28","v":0},{"$f":"'Bespoke Area Data'!BZ28","v":0},{"$f":"'Bespoke Area Data'!CA28","v":0},{"$f":"'Bespoke Area Data'!CB28","v":0},{"$f":"'Bespoke Area Data'!CC28","v":0},{"$f":"'Bespoke Area Data'!CD28","v":0},{"$f":"'Bespoke Area Data'!CE28","v":0},{"$f":"'Bespoke Area Data'!CF28","v":0},{"$f":"'Bespoke Area Data'!CG28","v":0},{"$f":"'Bespoke Area Data'!CH28","v":0},{"$f":"'Bespoke Area Data'!CI28","v":0},{"$f":"'Bespoke Area Data'!CJ28","v":0},{"$f":"'Bespoke Area Data'!CK28","v":0},{"$f":"'Bespoke Area Data'!CL28","v":0},{"$f":"'Bespoke Area Data'!CM28","v":0},{"$f":"'Bespoke Area Data'!CN28","v":0},{"$f":"'Bespoke Area Data'!CO28","v":0},{"$f":"'Bespoke Area Data'!CP28","v":0},{"$f":"'Bespoke Area Data'!CQ28","v":0},{"$f":"'Bespoke Area Data'!CR28","v":0},{"$f":"'Bespoke Area Data'!CS28","v":0},{"$f":"'Bespoke Area Data'!CT28","v":0},{"$f":"'Bespoke Area Data'!CU28","v":0},{"$f":"'Bespoke Area Data'!CV28","v":0},{"$f":"'Bespoke Area Data'!CW28","v":0},{"$f":"'Bespoke Area Data'!CX28","v":0},{"$f":"'Bespoke Area Data'!CY28","v":0},{"$f":"'Bespoke Area Data'!CZ28","v":0},{"$f":"'Bespoke Area Data'!DA28","v":0},{"$f":"'Bespoke Area Data'!DB28","v":0},{"$f":"'Bespoke Area Data'!DC28","v":0},{"$f":"'Bespoke Area Data'!DD28","v":0},{"$f":"'Bespoke Area Data'!DE28","v":0},{"$f":"'Bespoke Area Data'!DF28","v":0},{"$f":"'Bespoke Area Data'!DG28","v":0},{"$f":"'Bespoke Area Data'!DH28","v":0},{"$f":"'Bespoke Area Data'!DI28","v":0},{"$f":"'Bespoke Area Data'!DJ28","v":0},{"$f":"'Bespoke Area Data'!DK28","v":0},{"$f":"'Bespoke Area Data'!DL28","v":0},{"$f":"'Bespoke Area Data'!DM28","v":0},{"$f":"'Bespoke Area Data'!DN28","v":0},{"$f":"'Bespoke Area Data'!DO28","v":0},{"$f":"'Bespoke Area Data'!DP28","v":0},{"$f":"'Bespoke Area Data'!DQ28","v":0},{"$f":"'Bespoke Area Data'!DR28","v":0},{"$f":"'Bespoke Area Data'!DS28","v":0},{"$f":"'Bespoke Area Data'!DT28","v":0},{"$f":"'Bespoke Area Data'!DU28","v":0},{"$f":"'Bespoke Area Data'!DV28","v":0},{"$f":"'Bespoke Area Data'!DW28","v":0},{"$f":"'Bespoke Area Data'!DX28","v":0},{"$f":"'Bespoke Area Data'!DY28","v":0},{"$f":"'Bespoke Area Data'!DZ28","v":0},{"$f":"'Bespoke Area Data'!EA28","v":0},{"$f":"'Bespoke Area Data'!EB28","v":0},{"$f":"'Bespoke Area Data'!EC28","v":0},{"$f":"'Bespoke Area Data'!ED28","v":0},{"$f":"'Bespoke Area Data'!EE28","v":0},{"$f":"'Bespoke Area Data'!EF28","v":0},{"$f":"'Bespoke Area Data'!EG28","v":0},{"$f":"'Bespoke Area Data'!EH28","v":0},{"$f":"'Bespoke Area Data'!EI28","v":0},{"$f":"'Bespoke Area Data'!EJ28","v":0},{"$f":"'Bespoke Area Data'!EK28","v":0},{"$f":"'Bespoke Area Data'!EL28","v":0},{"$f":"'Bespoke Area Data'!EM28","v":0},{"$f":"'Bespoke Area Data'!EN28","v":0},{"$f":"'Bespoke Area Data'!EO28","v":0},{"$f":"'Bespoke Area Data'!EP28","v":0},{"$f":"'Bespoke Area Data'!EQ28","v":0},{"$f":"'Bespoke Area Data'!ER28","v":0},{"$f":"'Bespoke Area Data'!ES28","v":0},{"$f":"'Bespoke Area Data'!ET28","v":0},{"$f":"'Bespoke Area Data'!EU28","v":0},{"$f":"'Bespoke Area Data'!EV28","v":0},{"$f":"'Bespoke Area Data'!EW28","v":0},{"$f":"'Bespoke Area Data'!EX28","v":0},{"$f":"'Bespoke Area Data'!EY28","v":0},{"$f":"'Bespoke Area Data'!EZ28","v":0},{"$f":"'Bespoke Area Data'!FA28","v":0},{"$f":"'Bespoke Area Data'!FB28","v":0},{"$f":"'Bespoke Area Data'!FC28","v":0},{"$f":"'Bespoke Area Data'!FD28","v":0},{"$f":"'Bespoke Area Data'!D29","v":0},{"$f":"'Bespoke Area Data'!E29","v":0},{"$f":"'Bespoke Area Data'!F29","v":0},{"$f":"'Bespoke Area Data'!G29","v":0},{"$f":"'Bespoke Area Data'!H29","v":0},{"$f":"'Bespoke Area Data'!I29","v":0},{"$f":"'Bespoke Area Data'!J29","v":0},{"$f":"'Bespoke Area Data'!K29","v":0},{"$f":"'Bespoke Area Data'!L29","v":0},{"$f":"'Bespoke Area Data'!M29","v":0},{"$f":"'Bespoke Area Data'!N29","v":0},{"$f":"'Bespoke Area Data'!O29","v":0},{"$f":"'Bespoke Area Data'!P29","v":0},{"$f":"'Bespoke Area Data'!Q29","v":0},{"$f":"'Bespoke Area Data'!R29","v":0},{"$f":"'Bespoke Area Data'!S29","v":0},{"$f":"'Bespoke Area Data'!T29","v":0},{"$f":"'Bespoke Area Data'!U29","v":0},{"$f":"'Bespoke Area Data'!V29","v":0},{"$f":"'Bespoke Area Data'!W29","v":0},{"$f":"'Bespoke Area Data'!X29","v":0},{"$f":"'Bespoke Area Data'!Y29","v":0},{"$f":"'Bespoke Area Data'!Z29","v":0},{"$f":"'Bespoke Area Data'!AA29","v":0},{"$f":"'Bespoke Area Data'!AB29","v":0},{"$f":"'Bespoke Area Data'!AC29","v":0},{"$f":"'Bespoke Area Data'!AD29","v":0},{"$f":"'Bespoke Area Data'!AE29","v":0},{"$f":"'Bespoke Area Data'!AF29","v":0},{"$f":"'Bespoke Area Data'!AG29","v":0},{"$f":"'Bespoke Area Data'!AH29","v":0},{"$f":"'Bespoke Area Data'!AI29","v":0},{"$f":"'Bespoke Area Data'!AJ29","v":0},{"$f":"'Bespoke Area Data'!AK29","v":0},{"$f":"'Bespoke Area Data'!AL29","v":0},{"$f":"'Bespoke Area Data'!AM29","v":0},{"$f":"'Bespoke Area Data'!AN29","v":0},{"$f":"'Bespoke Area Data'!AO29","v":0},{"$f":"'Bespoke Area Data'!AP29","v":0},{"$f":"'Bespoke Area Data'!AQ29","v":0},{"$f":"'Bespoke Area Data'!AR29","v":0},{"$f":"'Bespoke Area Data'!AS29","v":0},{"$f":"'Bespoke Area Data'!AT29","v":0},{"$f":"'Bespoke Area Data'!AU29","v":0},{"$f":"'Bespoke Area Data'!AV29","v":0},{"$f":"'Bespoke Area Data'!AW29","v":0},{"$f":"'Bespoke Area Data'!AX29","v":0},{"$f":"'Bespoke Area Data'!AY29","v":0},{"$f":"'Bespoke Area Data'!AZ29","v":0},{"$f":"'Bespoke Area Data'!BA29","v":0},{"$f":"'Bespoke Area Data'!BB29","v":0},{"$f":"'Bespoke Area Data'!BC29","v":0},{"$f":"'Bespoke Area Data'!BD29","v":0},{"$f":"'Bespoke Area Data'!BE29","v":0},{"$f":"'Bespoke Area Data'!BF29","v":0},{"$f":"'Bespoke Area Data'!BG29","v":0},{"$f":"'Bespoke Area Data'!BH29","v":0},{"$f":"'Bespoke Area Data'!BI29","v":0},{"$f":"'Bespoke Area Data'!BJ29","v":0},{"$f":"'Bespoke Area Data'!BK29","v":0},{"$f":"'Bespoke Area Data'!BL29","v":0},{"$f":"'Bespoke Area Data'!BM29","v":0},{"$f":"'Bespoke Area Data'!BN29","v":0},{"$f":"'Bespoke Area Data'!BO29","v":0},{"$f":"'Bespoke Area Data'!BP29","v":0}]
["Bespoke","N/A",{"$f":"IF('Bespoke Area Name'!C13=\"\",\"No bespoke area name entered; Go to sheet \"\"Bespoke Area Name\"\"\",'Bespoke Area Name'!C13)","v":"No bespoke area name entered; Go to sheet \"Bespoke Area Name\""},"AREA0010",{"$f":"'Bespoke Area Data'!D40","v":0},{"$f":"'Bespoke Area Data'!E40","v":0},{"$f":"'Bespoke Area Data'!F40","v":0},{"$f":"'Bespoke Area Data'!G40","v":0},{"$f":"'Bespoke Area Data'!H40","v":0},{"$f":"'Bespoke Area Data'!I40","v":0},{"$f":"'Bespoke Area Data'!J40","v":0},{"$f":"'Bespoke Area Data'!K40","v":0},{"$f":"'Bespoke Area Data'!L40","v":0},{"$f":"'Bespoke Area Data'!M40","v":0},{"$f":"'Bespoke Area Data'!N40","v":0},{"$f":"'Bespoke Area Data'!O40","v":0},{"$f":"'Bespoke Area Data'!P40","v":0},{"$f":"'Bespoke Area Data'!Q40","v":0},{"$f":"'Bespoke Area Data'!R40","v":0},{"$f":"'Bespoke Area Data'!S40","v":0},{"$f":"'Bespoke Area Data'!T40","v":0},{"$f":"'Bespoke Area Data'!U40","v":0},{"$f":"'Bespoke Area Data'!V40","v":0},{"$f":"'Bespoke Area Data'!W40","v":0},{"$f":"'Bespoke Area Data'!X40","v":0},{"$f":"'Bespoke Area Data'!Y40","v":0},{"$f":"'Bespoke Area Data'!Z40","v":0},{"$f":"'Bespoke Area Data'!AA40","v":0},{"$f":"'Bespoke Area Data'!AB40","v":0},{"$f":"'Bespoke Area Data'!AC40","v":0},{"$f":"'Bespoke Area Data'!AD40","v":0},{"$f":"'Bespoke Area Data'!AE40","v":0},{"$f":"'Bespoke Area Data'!AF40","v":0},{"$f":"'Bespoke Area Data'!AG40","v":0},{"$f":"'Bespoke Area Data'!AH40","v":0},{"$f":"'Bespoke Area Data'!AI40","v":0},{"$f":"'Bespoke Area Data'!AJ40","v":0},{"$f":"'Bespoke Area Data'!AK40","v":0},{"$f":"'Bespoke Area Data'!AL40","v":0},{"$f":"'Bespoke Area Data'!AM40","v":0},{"$f":"'Bespoke Area Data'!AN40","v":0},{"$f":"'Bespoke Area Data'!AO40","v":0},{"$f":"'Bespoke Area Data'!AP40","v":0},{"$f":"'Bespoke Area Data'!AQ40","v":0},{"$f":"'Bespoke Area Data'!AR40","v":0},{"$f":"'Bespoke Area Data'!AS40","v":0},{"$f":"'Bespoke Area Data'!AT40","v":0},{"$f":"'Bespoke Area Data'!AU40","v":0},{"$f":"'Bespoke Area Data'!AV40","v":0},{"$f":"'Bespoke Area Data'!AW40","v":0},{"$f":"'Bespoke Area Data'!AX40","v":0},{"$f":"'Bespoke Area Data'!AY40","v":0},{"$f":"'Bespoke Area Data'!AZ40","v":0},{"$f":"'Bespoke Area Data'!BA40","v":0},{"$f":"'Bespoke Area Data'!BB40","v":0},{"$f":"'Bespoke Area Data'!BC40","v":0},{"$f":"'Bespoke Area Data'!BD40","v":0},{"$f":"'Bespoke Area Data'!BE40","v":0},{"$f":"'Bespoke Area Data'!BF40","v":0},{"$f":"'Bespoke Area Data'!BG40","v":0},{"$f":"'Bespoke Area Data'!BH40","v":0},{"$f":"'Bespoke Area Data'!BI40","v":0},{"$f":"'Bespoke Area Data'!BJ40","v":0},{"$f":"'Bespoke Area Data'!BK40","v":0},{"$f":"'Bespoke Area Data'!BL40","v":0},{"$f":"'Bespoke Area Data'!BM40","v":0},{"$f":"'Bespoke Area Data'!BN40","v":0},{"$f":"'Bespoke Area Data'!BO40","v":0},{"$f":"'Bespoke Area Data'!BP40","v":0},{"$f":"'Bespoke Area Data'!BQ40","v":0},{"$f":"'Bespoke Area Data'!BR40","v":0},{"$f":"'Bespoke Area Data'!BS40","v":0},{"$f":"'Bespoke Area Data'!BT40","v":0},{"$f":"'Bespoke Area Data'!BU40","v":0},{"$f":"'Bespoke Area Data'!BV40","v":0},{"$f":"'Bespoke Area Data'!BW40","v":0},{"$f":"'Bespoke Area Data'!BX40","v":0},{"$f":"'Bespoke Area Data'!BY40","v":0},{"$f":"'Bespoke Area Data'!BZ40","v":0},{"$f":"'Bespoke Area Data'!CA40","v":0},{"$f":"'Bespoke Area Data'!CB40","v":0},{"$f":"'Bespoke Area Data'!CC40","v":0},{"$f":"'Bespoke Area Data'!CD40","v":0},{"$f":"'Bespoke Area Data'!CE40","v":0},{"$f":"'Bespoke Area Data'!CF40","v":0},{"$f":"'Bespoke Area Data'!CG40","v":0},{"$f":"'Bespoke Area Data'!CH40","v":0},{"$f":"'Bespoke Area Data'!CI40","v":0},{"$f":"'Bespoke Area Data'!CJ40","v":0},{"$f":"'Bespoke Area Data'!CK40","v":0},{"$f":"'Bespoke Area Data'!CL40","v":0},{"$f":"'Bespoke Area Data'!CM40","v":0},{"$f":"'Bespoke Area Data'!CN40","v":0},{"$f":"'Bespoke Area Data'!CO40","v":0},{"$f":"'Bespoke Area Data'!CP40","v":0},{"$f":"'Bespoke Area Data'!CQ40","v":0},{"$f":"'Bespoke Area Data'!CR40","v":0},{"$f":"'Bespoke Area Data'!CS40","v":0},{"$f":"'Bespoke Area Data'!CT40","v":0},{"$f":"'Bespoke Area Data'!CU40","v":0},{"$f":"'Bespoke Area Data'!CV40","v":0},{"$f":"'Bespoke Area Data'!CW40","v":0},{"$f":"'Bespoke Area Data'!CX40","v":0},{"$f":"'Bespoke Area Data'!CY40","v":0},{"$f":"'Bespoke Area Data'!CZ40","v":0},{"$f":"'Bespoke Area Data'!DA40","v":0},{"$f":"'Bespoke Area Data'!DB40","v":0},{"$f":"'Bespoke Area Data'!DC40","v":0},{"$f":"'Bespoke Area Data'!DD40","v":0},{"$f":"'Bespoke Area Data'!DE40","v":0},{"$f":"'Bespoke Area Data'!DF40","v":0},{"$f":"'Bespoke Area Data'!DG40","v":0},{"$f":"'Bespoke Area Data'!DH40","v":0},{"$f":"'Bespoke Area Data'!DI40","v":0},{"$f":"'Bespoke Area Data'!DJ40","v":0},{"$f":"'Bespoke Area Data'!DK40","v":0},{"$f":"'Bespoke Area Data'!DL40","v":0},{"$f":"'Bespoke Area Data'!DM40","v":0},{"$f":"'Bespoke Area Data'!DN40","v":0},{"$f":"'Bespoke Area Data'!DO40","v":0},{"$f":"'Bespoke Area Data'!DP40","v":0},{"$f":"'Bespoke Area Data'!DQ40","v":0},{"$f":"'Bespoke Area Data'!DR40","v":0},{"$f":"'Bespoke Area Data'!DS40","v":0},{"$f":"'Bespoke Area Data'!DT40","v":0},{"$f":"'Bespoke Area Data'!DU40","v":0},{"$f":"'Bespoke Area Data'!DV40","v":0},{"$f":"'Bespoke Area Data'!DW40","v":0},{"$f":"'Bespoke Area Data'!DX40","v":0},{"$f":"'Bespoke Area Data'!DY40","v":0},{"$f":"'Bespoke Area Data'!DZ40","v":0},{"$f":"'Bespoke Area Data'!EA40","v":0},{"$f":"'Bespoke Area Data'!EB40","v":0},{"$f":"'Bespoke Area Data'!EC40","v":0},{"$f":"'Bespoke Area Data'!ED40","v":0},{"$f":"'Bespoke Area Data'!EE40","v":0},{"$f":"'Bespoke Area Data'!EF40","v":0},{"$f":"'Bespoke Area Data'!EG40","v":0},{"$f":"'Bespoke Area Data'!EH40","v":0},{"$f":"'Bespoke Area Data'!EI40","v":0},{"$f":"'Bespoke Area Data'!EJ40","v":0},{"$f":"'Bespoke Area Data'!EK40","v":0},{"$f":"'Bespoke Area Data'!EL40","v":0},{"$f":"'Bespoke Area Data'!EM40","v":0},{"$f":"'Bespoke Area Data'!EN40","v":0},{"$f":"'Bespoke Area Data'!EO40","v":0},{"$f":"'Bespoke Area Data'!EP40","v":0},{"$f":"'Bespoke Area Data'!EQ40","v":0},{"$f":"'Bespoke Area Data'!ER40","v":0},{"$f":"'Bespoke Area Data'!ES40","v":0},{"$f":"'Bespoke Area Data'!ET40","v":0},{"$f":"'Bespoke Area Data'!EU40","v":0},{"$f":"'Bespoke Area Data'!EV40","v":0},{"$f":"'Bespoke Area Data'!EW40","v":0},{"$f":"'Bespoke Area Data'!EX40","v":0},{"$f":"'Bespoke Area Data'!EY40","v":0},{"$f":"'Bespoke Area Data'!EZ40","v":0},{"$f":"'Bespoke Area Data'!FA40","v":0},{"$f":"'Bespoke Area Data'!FB40","v":0},{"$f":"'Bespoke Area Data'!FC40","v":0},{"$f":"'Bespoke Area Data'!FD40","v":0},{"$f":"'Bespoke Area Data'!D41","v":0},{"$f":"'Bespoke Area Data'!E41","v":0},{"$f":"'Bespoke Area Data'!F41","v":0},{"$f":"'Bespoke Area Data'!G41","v":0},{"$f":"'Bespoke Area Data'!H41","v":0},{"$f":"'Bespoke Area Data'!I41","v":0},{"$f":"'Bespoke Area Data'!J41","v":0},{"$f":"'Bespoke Area Data'!K41","v":0},{"$f":"'Bespoke Area Data'!L41","v":0},{"$f":"'Bespoke Area Data'!M41","v":0},{"$f":"'Bespoke Area Data'!N41","v":0},{"$f":"'Bespoke Area Data'!O41","v":0},{"$f":"'Bespoke Area Data'!P41","v":0},{"$f":"'Bespoke Area Data'!Q41","v":0},{"$f":"'Bespoke Area Data'!R41","v":0},{"$f":"'Bespoke Area Data'!S41","v":0},{"$f":"'Bespoke Area Data'!T41","v":0},{"$f":"'Bespoke Area Data'!U41","v":0},{"$f":"'Bespoke Area Data'!V41","v":0},{"$f":"'Bespoke Area Data'!W41","v":0},{"$f":"'Bespoke Area Data'!X41","v":0},{"$f":"'Bespoke Area Data'!Y41","v":0},{"$f":"'Bespoke Area Data'!Z41","v":0},{"$f":"'Bespoke Area Data'!AA41","v":0},{"$f":"'Bespoke Area Data'!AB41","v":0},{"$f":"'Bespoke Area Data'!AC41","v":0},{"$f":"'Bespoke Area Data'!AD41","v":0},{"$f":"'Bespoke Area Data'!AE41","v":0},{"$f":"'Bespoke Area Data'!AF41","v":0},{"$f":"'Bespoke Area Data'!AG41","v":0},{"$f":"'Bespoke Area Data'!AH41","v":0},{"$f":"'Bespoke Area Data'!AI41","v":0},{"$f":"'Bespoke Area Data'!AJ41","v":0},{"$f":"'Bespoke Area Data'!AK41","v":0},{"$f":"'Bespoke Area Data'!AL41","v":0},{"$f":"'Bespoke Area Data'!AM41","v":0},{"$f":"'Bespoke Area Data'!AN41","v":0},{"$f":"'Bespoke Area Data'!AO41","v":0},{"$f":"'Bespoke Area Data'!AP41","v":0},{"$f":"'Bespoke Area Data'!AQ41","v":0},{"$f":"'Bespoke Area Data'!AR41","v":0},{"$f":"'Bespoke Area Data'!AS41","v":0},{"$f":"'Bespoke Area Data'!AT41","v":0},{"$f":"'Bespoke Area Data'!AU41","v":0},{"$f":"'Bespoke Area Data'!AV41","v":0},{"$f":"'Bespoke Area Data'!AW41","v":0},{"$f":"'Bespoke Area Data'!AX41","v":0},{"$f":"'Bespoke Area Data'!AY41","v":0},{"$f":"'Bespoke Area Data'!AZ41","v":0},{"$f":"'Bespoke Area Data'!BA41","v":0},{"$f":"'Bespoke Area Data'!BB41","v":0},{"$f":"'Bespoke Area Data'!BC41","v":0},{"$f":"'Bespoke Area Data'!BD41","v":0},{"$f":"'Bespoke Area Data'!BE41","v":0},{"$f":"'Bespoke Area Data'!BF41","v":0},{"$f":"'Bespoke Area Data'!BG41","v":0},{"$f":"'Bespoke Area Data'!BH41","v":0},{"$f":"'Bespoke Area Data'!BI41","v":0},{"$f":"'Bespoke Area Data'!BJ41","v":0},{"$f":"'Bespoke Area Data'!BK41","v":0},{"$f":"'Bespoke Area Data'!BL41","v":0},{"$f":"'Bespoke Area Data'!BM41","v":0},{"$f":"'Bespoke Area Data'!BN41","v":0},{"$f":"'Bespoke Area Data'!BO41","v":0},{"$f":"'Bespoke Area Data'!BP41","v":0}]
["Bespoke","N/A",{"$f":"IF('Bespoke Area Name'!C14=\"\",\"No bespoke area name entered; Go to sheet \"\"Bespoke Area Name\"\"\",'Bespoke Area Name'!C14)","v":"No bespoke area name entered; Go to sheet \"Bespoke Area Name\""},"AREA0011",{"$f":"'Bespoke Area Data'!D44","v":0},{"$f":"'Bespoke Area Data'!E44","v":0},{"$f":"'Bespoke Area Data'!F44","v":0},{"$f":"'Bespoke Area Data'!G44","v":0},{"$f":"'Bespoke Area Data'!H44","v":0},{"$f":"'Bespoke Area Data'!I44","v":0},{"$f":"'Bespoke Area Data'!J44","v":0},{"$f":"'Bespoke Area Data'!K44","v":0},{"$f":"'Bespoke Area Data'!L44","v":0},{"$f":"'Bespoke Area Data'!M44","v":0},{"$f":"'Bespoke Area Data'!N44","v":0},{"$f":"'Bespoke Area Data'!O44","v":0},{"$f":"'Bespoke Area Data'!P44","v":0},{"$f":"'Bespoke Area Data'!Q44","v":0},{"$f":"'Bespoke Area Data'!R44","v":0},{"$f":"'Bespoke Area Data'!S44","v":0},{"$f":"'Bespoke Area Data'!T44","v":0},{"$f":"'Bespoke Area Data'!U44","v":0},{"$f":"'Bespoke Area Data'!V44","v":0},{"$f":"'Bespoke Area Data'!W44","v":0},{"$f":"'Bespoke Area Data'!X44","v":0},{"$f":"'Bespoke Area Data'!Y44","v":0},{"$f":"'Bespoke Area Data'!Z44","v":0},{"$f":"'Bespoke Area Data'!AA44","v":0},{"$f":"'Bespoke Area Data'!AB44","v":0},{"$f":"'Bespoke Area Data'!AC44","v":0},{"$f":"'Bespoke Area Data'!AD44","v":0},{"$f":"'Bespoke Area Data'!AE44","v":0},{"$f":"'Bespoke Area Data'!AF44","v":0},{"$f":"'Bespoke Area Data'!AG44","v":0},{"$f":"'Bespoke Area Data'!AH44","v":0},{"$f":"'Bespoke Area Data'!AI44","v":0},{"$f":"'Bespoke Area Data'!AJ44","v":0},{"$f":"'Bespoke Area Data'!AK44","v":0},{"$f":"'Bespoke Area Data'!AL44","v":0},{"$f":"'Bespoke Area Data'!AM44","v":0},{"$f":"'Bespoke Area Data'!AN44","v":0},{"$f":"'Bespoke Area Data'!AO44","v":0},{"$f":"'Bespoke Area Data'!AP44","v":0},{"$f":"'Bespoke Area Data'!AQ44","v":0},{"$f":"'Bespoke Area Data'!AR44","v":0},{"$f":"'Bespoke Area Data'!AS44","v":0},{"$f":"'Bespoke Area Data'!AT44","v":0},{"$f":"'Bespoke Area Data'!AU44","v":0},{"$f":"'Bespoke Area Data'!AV44","v":0},{"$f":"'Bespoke Area Data'!AW44","v":0},{"$f":"'Bespoke Area Data'!AX44","v":0},{"$f":"'Bespoke Area Data'!AY44","v":0},{"$f":"'Bespoke Area Data'!AZ44","v":0},{"$f":"'Bespoke Area Data'!BA44","v":0},{"$f":"'Bespoke Area Data'!BB44","v":0},{"$f":"'Bespoke Area Data'!BC44","v":0},{"$f":"'Bespoke Area Data'!BD44","v":0},{"$f":"'Bespoke Area Data'!BE44","v":0},{"$f":"'Bespoke Area Data'!BF44","v":0},{"$f":"'Bespoke Area Data'!BG44","v":0},{"$f":"'Bespoke Area Data'!BH44","v":0},{"$f":"'Bespoke Area Data'!BI44","v":0},{"$f":"'Bespoke Area Data'!BJ44","v":0},{"$f":"'Bespoke Area Data'!BK44","v":0},{"$f":"'Bespoke Area Data'!BL44","v":0},{"$f":"'Bespoke Area Data'!BM44","v":0},{"$f":"'Bespoke Area Data'!BN44","v":0},{"$f":"'Bespoke Area Data'!BO44","v":0},{"$f":"'Bespoke Area Data'!BP44","v":0},{"$f":"'Bespoke Area Data'!BQ44","v":0},{"$f":"'Bespoke Area Data'!BR44","v":0},{"$f":"'Bespoke Area Data'!BS44","v":0},{"$f":"'Bespoke Area Data'!BT44","v":0},{"$f":"'Bespoke Area Data'!BU44","v":0},{"$f":"'Bespoke Area Data'!BV44","v":0},{"$f":"'Bespoke Area Data'!BW44","v":0},{"$f":"'Bespoke Area Data'!BX44","v":0},{"$f":"'Bespoke Area Data'!BY44","v":0},{"$f":"'Bespoke Area Data'!BZ44","v":0},{"$f":"'Bespoke Area Data'!CA44","v":0},{"$f":"'Bespoke Area Data'!CB44","v":0},{"$f":"'Bespoke Area Data'!CC44","v":0},{"$f":"'Bespoke Area Data'!CD44","v":0},{"$f":"'Bespoke Area Data'!CE44","v":0},{"$f":"'Bespoke Area Data'!CF44","v":0},{"$f":"'Bespoke Area Data'!CG44","v":0},{"$f":"'Bespoke Area Data'!CH44","v":0},{"$f":"'Bespoke Area Data'!CI44","v":0},{"$f":"'Bespoke Area Data'!CJ44","v":0},{"$f":"'Bespoke Area Data'!CK44","v":0},{"$f":"'Bespoke Area Data'!CL44","v":0},{"$f":"'Bespoke Area Data'!CM44","v":0},{"$f":"'Bespoke Area Data'!CN44","v":0},{"$f":"'Bespoke Area Data'!CO44","v":0},{"$f":"'Bespoke Area Data'!CP44","v":0},{"$f":"'Bespoke Area Data'!CQ44","v":0},{"$f":"'Bespoke Area Data'!CR44","v":0},{"$f":"'Bespoke Area Data'!CS44","v":0},{"$f":"'Bespoke Area Data'!CT44","v":0},{"$f":"'Bespoke Area Data'!CU44","v":0},{"$f":"'Bespoke Area Data'!CV44","v":0},{"$f":"'Bespoke Area Data'!CW44","v":0},{"$f":"'Bespoke Area Data'!CX44","v":0},{"$f":"'Bespoke Area Data'!CY44","v":0},{"$f":"'Bespoke Area Data'!CZ44","v":0},{"$f":"'Bespoke Area Data'!DA44","v":0},{"$f":"'Bespoke Area Data'!DB44","v":0},{"$f":"'Bespoke Area Data'!DC44","v":0},{"$f":"'Bespoke Area Data'!DD44","v":0},{"$f":"'Bespoke Area Data'!DE44","v":0},{"$f":"'Bespoke Area Data'!DF44","v":0},{"$f":"'Bespoke Area Data'!DG44","v":0},{"$f":"'Bespoke Area Data'!DH44","v":0},{"$f":"'Bespoke Area Data'!DI44","v":0},{"$f":"'Bespoke Area Data'!DJ44","v":0},{"$f":"'Bespoke Area Data'!DK44","v":0},{"$f":"'Bespoke Area Data'!DL44","v":0},{"$f":"'Bespoke Area Data'!DM44","v":0},{"$f":"'Bespoke Area Data'!DN44","v":0},{"$f":"'Bespoke Area Data'!DO44","v":0},{"$f":"'Bespoke Area Data'!DP44","v":0},{"$f":"'Bespoke Area Data'!DQ44","v":0},{"$f":"'Bespoke Area Data'!DR44","v":0},{"$f":"'Bespoke Area Data'!DS44","v":0},{"$f":"'Bespoke Area Data'!DT44","v":0},{"$f":"'Bespoke Area Data'!DU44","v":0},{"$f":"'Bespoke Area Data'!DV44","v":0},{"$f":"'Bespoke Area Data'!DW44","v":0},{"$f":"'Bespoke Area Data'!DX44","v":0},{"$f":"'Bespoke Area Data'!DY44","v":0},{"$f":"'Bespoke Area Data'!DZ44","v":0},{"$f":"'Bespoke Area Data'!EA44","v":0},{"$f":"'Bespoke Area Data'!EB44","v":0},{"$f":"'Bespoke Area Data'!EC44","v":0},{"$f":"'Bespoke Area Data'!ED44","v":0},{"$f":"'Bespoke Area Data'!EE44","v":0},{"$f":"'Bespoke Area Data'!EF44","v":0},{"$f":"'Bespoke Area Data'!EG44","v":0},{"$f":"'Bespoke Area Data'!EH44","v":0},{"$f":"'Bespoke Area Data'!EI44","v":0},{"$f":"'Bespoke Area Data'!EJ44","v":0},{"$f":"'Bespoke Area Data'!EK44","v":0},{"$f":"'Bespoke Area Data'!EL44","v":0},{"$f":"'Bespoke Area Data'!EM44","v":0},{"$f":"'Bespoke Area Data'!EN44","v":0},{"$f":"'Bespoke Area Data'!EO44","v":0},{"$f":"'Bespoke Area Data'!EP44","v":0},{"$f":"'Bespoke Area Data'!EQ44","v":0},{"$f":"'Bespoke Area Data'!ER44","v":0},{"$f":"'Bespoke Area Data'!ES44","v":0},{"$f":"'Bespoke Area Data'!ET44","v":0},{"$f":"'Bespoke Area Data'!EU44","v":0},{"$f":"'Bespoke Area Data'!EV44","v":0},{"$f":"'Bespoke Area Data'!EW44","v":0},{"$f":"'Bespoke Area Data'!EX44","v":0},{"$f":"'Bespoke Area Data'!EY44","v":0},{"$f":"'Bespoke Area Data'!EZ44","v":0},{"$f":"'Bespoke Area Data'!FA44","v":0},{"$f":"'Bespoke Area Data'!FB44","v":0},{"$f":"'Bespoke Area Data'!FC44","v":0},{"$f":"'Bespoke Area Data'!FD44","v":0},{"$f":"'Bespoke Area Data'!D45","v":0},{"$f":"'Bespoke Area Data'!E45","v":0},{"$f":"'Bespoke Area Data'!F45","v":0},{"$f":"'Bespoke Area Data'!G45","v":0},{"$f":"'Bespoke Area Data'!H45","v":0},{"$f":"'Bespoke Area Data'!I45","v":0},{"$f":"'Bespoke Area Data'!J45","v":0},{"$f":"'Bespoke Area Data'!K45","v":0},{"$f":"'Bespoke Area Data'!L45","v":0},{"$f":"'Bespoke Area Data'!M45","v":0},{"$f":"'Bespoke Area Data'!N45","v":0},{"$f":"'Bespoke Area Data'!O45","v":0},{"$f":"'Bespoke Area Data'!P45","v":0},{"$f":"'Bespoke Area Data'!Q45","v":0},{"$f":"'Bespoke Area Data'!R45","v":0},{"$f":"'Bespoke Area Data'!S45","v":0},{"$f":"'Bespoke Area Data'!T45","v":0},{"$f":"'Bespoke Area Data'!U45","v":0},{"$f":"'Bespoke Area Data'!V45","v":0},{"$f":"'Bespoke Area Data'!W45","v":0},{"$f":"'Bespoke Area Data'!X45","v":0},{"$f":"'Bespoke Area Data'!Y45","v":0},{"$f":"'Bespoke Area Data'!Z45","v":0},{"$f":"'Bespoke Area Data'!AA45","v":0},{"$f":"'Bespoke Area Data'!AB45","v":0},{"$f":"'Bespoke Area Data'!AC45","v":0},{"$f":"'Bespoke Area Data'!AD45","v":0},{"$f":"'Bespoke Area Data'!AE45","v":0},{"$f":"'Bespoke Area Data'!AF45","v":0},{"$f":"'Bespoke Area Data'!AG45","v":0},{"$f":"'Bespoke Area Data'!AH45","v":0},{"$f":"'Bespoke Area Data'!AI45","v":0},{"$f":"'Bespoke Area Data'!AJ45","v":0},{"$f":"'Bespoke Area Data'!AK45","v":0},{"$f":"'Bespoke Area Data'!AL45","v":0},{"$f":"'Bespoke Area Data'!AM45","v":0},{"$f":"'Bespoke Area Data'!AN45","v":0},{"$f":"'Bespoke Area Data'!AO45","v":0},{"$f":"'Bespoke Area Data'!AP45","v":0},{"$f":"'Bespoke Area Data'!AQ45","v":0},{"$f":"'Bespoke Area Data'!AR45","v":0},{"$f":"'Bespoke Area Data'!AS45","v":0},{"$f":"'Bespoke Area Data'!AT45","v":0},{"$f":"'Bespoke Area Data'!AU45","v":0},{"$f":"'Bespoke Area Data'!AV45","v":0},{"$f":"'Bespoke Area Data'!AW45","v":0},{"$f":"'Bespoke Area Data'!AX45","v":0},{"$f":"'Bespoke Area Data'!AY45","v":0},{"$f":"'Bespoke Area Data'!AZ45","v":0},{"$f":"'Bespoke Area Data'!BA45","v":0},{"$f":"'Bespoke Area Data'!BB45","v":0},{"$f":"'Bespoke Area Data'!BC45","v":0},{"$f":"'Bespoke Area Data'!BD45","v":0},{"$f":"'Bespoke Area Data'!BE45","v":0},{"$f":"'Bespoke Area Data'!BF45","v":0},{"$f":"'Bespoke Area Data'!BG45","v":0},{"$f":"'Bespoke Area Data'!BH45","v":0},{"$f":"'Bespoke Area Data'!BI45","v":0},{"$f":"'Bespoke Area Data'!BJ45","v":0},{"$f":"'Bespoke Area Data'!BK45","v":0},{"$f":"'Bespoke Area Data'!BL45","v":0},{"$f":"'Bespoke Area Data'!BM45","v":0},{"$f":"'Bespoke Area Data'!BN45","v":0},{"$f":"'Bespoke Area Data'!BO45","v":0},{"$f":"'Bespoke Area Data'!BP45","v":0}]
["Bespoke","N/A",{"$f":"IF('Bespoke Area Name'!C15=\"\",\"No bespoke area name entered; Go to sheet \"\"Bespoke Area Name\"\"\",'Bespoke Area Name'!C15)","v":"No bespoke area name entered; Go to sheet \"Bespoke Area Name\""},"AREA0012",{"$f":"'Bespoke Area Data'!D48","v":0},{"$f":"'Bespoke Area Data'!E48","v":0},{"$f":"'Bespoke Area Data'!F48","v":0},{"$f":"'Bespoke Area Data'!G48","v":0},{"$f":"'Bespoke Area Data'!H48","v":0},{"$f":"'Bespoke Area Data'!I48","v":0},{"$f":"'Bespoke Area Data'!J48","v":0},{"$f":"'Bespoke Area Data'!K48","v":0},{"$f":"'Bespoke Area Data'!L48","v":0},{"$f":"'Bespoke Area Data'!M48","v":0},{"$f":"'Bespoke Area Data'!N48","v":0},{"$f":"'Bespoke Area Data'!O48","v":0},{"$f":"'Bespoke Area Data'!P48","v":0},{"$f":"'Bespoke Area Data'!Q48","v":0},{"$f":"'Bespoke Area Data'!R48","v":0},{"$f":"'Bespoke Area Data'!S48","v":0},{"$f":"'Bespoke Area Data'!T48","v":0},{"$f":"'Bespoke Area Data'!U48","v":0},{"$f":"'Bespoke Area Data'!V48","v":0},{"$f":"'Bespoke Area Data'!W48","v":0},{"$f":"'Bespoke Area Data'!X48","v":0},{"$f":"'Bespoke Area Data'!Y48","v":0},{"$f":"'Bespoke Area Data'!Z48","v":0},{"$f":"'Bespoke Area Data'!AA48","v":0},{"$f":"'Bespoke Area Data'!AB48","v":0},{"$f":"'Bespoke Area Data'!AC48","v":0},{"$f":"'Bespoke Area Data'!AD48","v":0},{"$f":"'Bespoke Area Data'!AE48","v":0},{"$f":"'Bespoke Area Data'!AF48","v":0},{"$f":"'Bespoke Area Data'!AG48","v":0},{"$f":"'Bespoke Area Data'!AH48","v":0},{"$f":"'Bespoke Area Data'!AI48","v":0},{"$f":"'Bespoke Area Data'!AJ48","v":0},{"$f":"'Bespoke Area Data'!AK48","v":0},{"$f":"'Bespoke Area Data'!AL48","v":0},{"$f":"'Bespoke Area Data'!AM48","v":0},{"$f":"'Bespoke Area Data'!AN48","v":0},{"$f":"'Bespoke Area Data'!AO48","v":0},{"$f":"'Bespoke Area Data'!AP48","v":0},{"$f":"'Bespoke Area Data'!AQ48","v":0},{"$f":"'Bespoke Area Data'!AR48","v":0},{"$f":"'Bespoke Area Data'!AS48","v":0},{"$f":"'Bespoke Area Data'!AT48","v":0},{"$f":"'Bespoke Area Data'!AU48","v":0},{"$f":"'Bespoke Area Data'!AV48","v":0},{"$f":"'Bespoke Area Data'!AW48","v":0},{"$f":"'Bespoke Area Data'!AX48","v":0},{"$f":"'Bespoke Area Data'!AY48","v":0},{"$f":"'Bespoke Area Data'!AZ48","v":0},{"$f":"'Bespoke Area Data'!BA48","v":0},{"$f":"'Bespoke Area Data'!BB48","v":0},{"$f":"'Bespoke Area Data'!BC48","v":0},{"$f":"'Bespoke Area Data'!BD48","v":0},{"$f":"'Bespoke Area Data'!BE48","v":0},{"$f":"'Bespoke Area Data'!BF48","v":0},{"$f":"'Bespoke Area Data'!BG48","v":0},{"$f":"'Bespoke Area Data'!BH48","v":0},{"$f":"'Bespoke Area Data'!BI48","v":0},{"$f":"'Bespoke Area Data'!BJ48","v":0},{"$f":"'Bespoke Area Data'!BK48","v":0},{"$f":"'Bespoke Area Data'!BL48","v":0},{"$f":"'Bespoke Area Data'!BM48","v":0},{"$f":"'Bespoke Area Data'!BN48","v":0},{"$f":"'Bespoke Area Data'!BO48","v":0},{"$f":"'Bespoke Area Data'!BP48","v":0},{"$f":"'Bespoke Area Data'!BQ48","v":0},{"$f":"'Bespoke Area Data'!BR48","v":0},{"$f":"'Bespoke Area Data'!BS48","v":0},{"$f":"'Bespoke Area Data'!BT48","v":0},{"$f":"'Bespoke Area Data'!BU48","v":0},{"$f":"'Bespoke Area Data'!BV48","v":0},{"$f":"'Bespoke Area Data'!BW48","v":0},{"$f":"'Bespoke Area Data'!BX48","v":0},{"$f":"'Bespoke Area Data'!BY48","v":0},{"$f":"'Bespoke Area Data'!BZ48","v":0},{"$f":"'Bespoke Area Data'!CA48","v":0},{"$f":"'Bespoke Area Data'!CB48","v":0},{"$f":"'Bespoke Area Data'!CC48","v":0},{"$f":"'Bespoke Area Data'!CD48","v":0},{"$f":"'Bespoke Area Data'!CE48","v":0},{"$f":"'Bespoke Area Data'!CF48","v":0},{"$f":"'Bespoke Area Data'!CG48","v":0},{"$f":"'Bespoke Area Data'!CH48","v":0},{"$f":"'Bespoke Area Data'!CI48","v":0},{"$f":"'Bespoke Area Data'!CJ48","v":0},{"$f":"'Bespoke Area Data'!CK48","v":0},{"$f":"'Bespoke Area Data'!CL48","v":0},{"$f":"'Bespoke Area Data'!CM48","v":0},{"$f":"'Bespoke Area Data'!CN48","v":0},{"$f":"'Bespoke Area Data'!CO48","v":0},{"$f":"'Bespoke Area Data'!CP48","v":0},{"$f":"'Bespoke Area Data'!CQ48","v":0},{"$f":"'Bespoke Area Data'!CR48","v":0},{"$f":"'Bespoke Area Data'!CS48","v":0},{"$f":"'Bespoke Area Data'!CT48","v":0},{"$f":"'Bespoke Area Data'!CU48","v":0},{"$f":"'Bespoke Area Data'!CV48","v":0},{"$f":"'Bespoke Area Data'!CW48","v":0},{"$f":"'Bespoke Area Data'!CX48","v":0},{"$f":"'Bespoke Area Data'!CY48","v":0},{"$f":"'Bespoke Area Data'!CZ48","v":0},{"$f":"'Bespoke Area Data'!DA48","v":0},{"$f":"'Bespoke Area Data'!DB48","v":0},{"$f":"'Bespoke Area Data'!DC48","v":0},{"$f":"'Bespoke Area Data'!DD48","v":0},{"$f":"'Bespoke Area Data'!DE48","v":0},{"$f":"'Bespoke Area Data'!DF48","v":0},{"$f":"'Bespoke Area Data'!DG48","v":0},{"$f":"'Bespoke Area Data'!DH48","v":0},{"$f":"'Bespoke Area Data'!DI48","v":0},{"$f":"'Bespoke Area Data'!DJ48","v":0},{"$f":"'Bespoke Area Data'!DK48","v":0},{"$f":"'Bespoke Area Data'!DL48","v":0},{"$f":"'Bespoke Area Data'!DM48","v":0},{"$f":"'Bespoke Area Data'!DN48","v":0},{"$f":"'Bespoke Area Data'!DO48","v":0},{"$f":"'Bespoke Area Data'!DP48","v":0},{"$f":"'Bespoke Area Data'!DQ48","v":0},{"$f":"'Bespoke Area Data'!DR48","v":0},{"$f":"'Bespoke Area Data'!DS48","v":0},{"$f":"'Bespoke Area Data'!DT48","v":0},{"$f":"'Bespoke Area Data'!DU48","v":0},{"$f":"'Bespoke Area Data'!DV48","v":0},{"$f":"'Bespoke Area Data'!DW48","v":0},{"$f":"'Bespoke Area Data'!DX48","v":0},{"$f":"'Bespoke Area Data'!DY48","v":0},{"$f":"'Bespoke Area Data'!DZ48","v":0},{"$f":"'Bespoke Area Data'!EA48","v":0},{"$f":"'Bespoke Area Data'!EB48","v":0},{"$f":"'Bespoke Area Data'!EC48","v":0},{"$f":"'Bespoke Area Data'!ED48","v":0},{"$f":"'Bespoke Area Data'!EE48","v":0},{"$f":"'Bespoke Area Data'!EF48","v":0},{"$f":"'Bespoke Area Data'!EG48","v":0},{"$f":"'Bespoke Area Data'!EH48","v":0},{"$f":"'Bespoke Area Data'!EI48","v":0},{"$f":"'Bespoke Area Data'!EJ48","v":0},{"$f":"'Bespoke Area Data'!EK48","v":0},{"$f":"'Bespoke Area Data'!EL48","v":0},{"$f":"'Bespoke Area Data'!EM48","v":0},{"$f":"'Bespoke Area Data'!EN48","v":0},{"$f":"'Bespoke Area Data'!EO48","v":0},{"$f":"'Bespoke Area Data'!EP48","v":0},{"$f":"'Bespoke Area Data'!EQ48","v":0},{"$f":"'Bespoke Area Data'!ER48","v":0},{"$f":"'Bespoke Area Data'!ES48","v":0},{"$f":"'Bespoke Area Data'!ET48","v":0},{"$f":"'Bespoke Area Data'!EU48","v":0},{"$f":"'Bespoke Area Data'!EV48","v":0},{"$f":"'Bespoke Area Data'!EW48","v":0},{"$f":"'Bespoke Area Data'!EX48","v":0},{"$f":"'Bespoke Area Data'!EY48","v":0},{"$f":"'Bespoke Area Data'!EZ48","v":0},{"$f":"'Bespoke Area Data'!FA48","v":0},{"$f":"'Bespoke Area Data'!FB48","v":0},{"$f":"'Bespoke Area Data'!FC48","v":0},{"$f":"'Bespoke Area Data'!FD48","v":0},{"$f":"'Bespoke Area Data'!D49","v":0},{"$f":"'Bespoke Area Data'!E49","v":0},{"$f":"'Bespoke Area Data'!F49","v":0},{"$f":"'Bespoke Area Data'!G49","v":0},{"$f":"'Bespoke Area Data'!H49","v":0},{"$f":"'Bespoke Area Data'!I49","v":0},{"$f":"'Bespoke Area Data'!J49","v":0},{"$f":"'Bespoke Area Data'!K49","v":0},{"$f":"'Bespoke Area Data'!L49","v":0},{"$f":"'Bespoke Area Data'!M49","v":0},{"$f":"'Bespoke Area Data'!N49","v":0},{"$f":"'Bespoke Area Data'!O49","v":0},{"$f":"'Bespoke Area Data'!P49","v":0},{"$f":"'Bespoke Area Data'!Q49","v":0},{"$f":"'Bespoke Area Data'!R49","v":0},{"$f":"'Bespoke Area Data'!S49","v":0},{"$f":"'Bespoke Area Data'!T49","v":0},{"$f":"'Bespoke Area Data'!U49","v":0},{"$f":"'Bespoke Area Data'!V49","v":0},{"$f":"'Bespoke Area Data'!W49","v":0},{"$f":"'Bespoke Area Data'!X49","v":0},{"$f":"'Bespoke Area Data'!Y49","v":0},{"$f":"'Bespoke Area Data'!Z49","v":0},{"$f":"'Bespoke Area Data'!AA49","v":0},{"$f":"'Bespoke Area Data'!AB49","v":0},{"$f":"'Bespoke Area Data'!AC49","v":0},{"$f":"'Bespoke Area Data'!AD49","v":0},{"$f":"'Bespoke Area Data'!AE49","v":0},{"$f":"'Bespoke Area Data'!AF49","v":0},{"$f":"'Bespoke Area Data'!AG49","v":0},{"$f":"'Bespoke Area Data'!AH49","v":0},{"$f":"'Bespoke Area Data'!AI49","v":0},{"$f":"'Bespoke Area Data'!AJ49","v":0},{"$f":"'Bespoke Area Data'!AK49","v":0},{"$f":"'Bespoke Area Data'!AL49","v":0},{"$f":"'Bespoke Area Data'!AM49","v":0},{"$f":"'Bespoke Area Data'!AN49","v":0},{"$f":"'Bespoke Area Data'!AO49","v":0},{"$f":"'Bespoke Area Data'!AP49","v":0},{"$f":"'Bespoke Area Data'!AQ49","v":0},{"$f":"'Bespoke Area Data'!AR49","v":0},{"$f":"'Bespoke Area Data'!AS49","v":0},{"$f":"'Bespoke Area Data'!AT49","v":0},{"$f":"'Bespoke Area Data'!AU49","v":0},{"$f":"'Bespoke Area Data'!AV49","v":0},{"$f":"'Bespoke Area Data'!AW49","v":0},{"$f":"'Bespoke Area Data'!AX49","v":0},{"$f":"'Bespoke Area Data'!AY49","v":0},{"$f":"'Bespoke Area Data'!AZ49","v":0},{"$f":"'Bespoke Area Data'!BA49","v":0},{"$f":"'Bespoke Area Data'!BB49","v":0},{"$f":"'Bespoke Area Data'!BC49","v":0},{"$f":"'Bespoke Area Data'!BD49","v":0},{"$f":"'Bespoke Area Data'!BE49","v":0},{"$f":"'Bespoke Area Data'!BF49","v":0},{"$f":"'Bespoke Area Data'!BG49","v":0},{"$f":"'Bespoke Area Data'!BH49","v":0},{"$f":"'Bespoke Area Data'!BI49","v":0},{"$f":"'Bespoke Area Data'!BJ49","v":0},{"$f":"'Bespoke Area Data'!BK49","v":0},{"$f":"'Bespoke Area Data'!BL49","v":0},{"$f":"'Bespoke Area Data'!BM49","v":0},{"$f":"'Bespoke Area Data'!BN49","v":0},{"$f":"'Bespoke Area Data'!BO49","v":0},{"$f":"'Bespoke Area Data'!BP49","v":0}]
["Bespoke","N/A",{"$f":"IF('Bespoke Area Name'!C16=\"\",\"No bespoke area name entered; Go to sheet \"\"Bespoke Area Name\"\"\",'Bespoke Area Name'!C16)","v":"No bespoke area name entered; Go to sheet \"Bespoke Area Name\""},"AREA0013",{"$f":"'Bespoke Area Data'!D52","v":0},{"$f":"'Bespoke Area Data'!E52","v":0},{"$f":"'Bespoke Area Data'!F52","v":0},{"$f":"'Bespoke Area Data'!G52","v":0},{"$f":"'Bespoke Area Data'!H52","v":0},{"$f":"'Bespoke Area Data'!I52","v":0},{"$f":"'Bespoke Area Data'!J52","v":0},{"$f":"'Bespoke Area Data'!K52","v":0},{"$f":"'Bespoke Area Data'!L52","v":0},{"$f":"'Bespoke Area Data'!M52","v":0},{"$f":"'Bespoke Area Data'!N52","v":0},{"$f":"'Bespoke Area Data'!O52","v":0},{"$f":"'Bespoke Area Data'!P52","v":0},{"$f":"'Bespoke Area Data'!Q52","v":0},{"$f":"'Bespoke Area Data'!R52","v":0},{"$f":"'Bespoke Area Data'!S52","v":0},{"$f":"'Bespoke Area Data'!T52","v":0},{"$f":"'Bespoke Area Data'!U52","v":0},{"$f":"'Bespoke Area Data'!V52","v":0},{"$f":"'Bespoke Area Data'!W52","v":0},{"$f":"'Bespoke Area Data'!X52","v":0},{"$f":"'Bespoke Area Data'!Y52","v":0},{"$f":"'Bespoke Area Data'!Z52","v":0},{"$f":"'Bespoke Area Data'!AA52","v":0},{"$f":"'Bespoke Area Data'!AB52","v":0},{"$f":"'Bespoke Area Data'!AC52","v":0},{"$f":"'Bespoke Area Data'!AD52","v":0},{"$f":"'Bespoke Area Data'!AE52","v":0},{"$f":"'Bespoke Area Data'!AF52","v":0},{"$f":"'Bespoke Area Data'!AG52","v":0},{"$f":"'Bespoke Area Data'!AH52","v":0},{"$f":"'Bespoke Area Data'!AI52","v":0},{"$f":"'Bespoke Area Data'!AJ52","v":0},{"$f":"'Bespoke Area Data'!AK52","v":0},{"$f":"'Bespoke Area Data'!AL52","v":0},{"$f":"'Bespoke Area Data'!AM52","v":0},{"$f":"'Bespoke Area Data'!AN52","v":0},{"$f":"'Bespoke Area Data'!AO52","v":0},{"$f":"'Bespoke Area Data'!AP52","v":0},{"$f":"'Bespoke Area Data'!AQ52","v":0},{"$f":"'Bespoke Area Data'!AR52","v":0},{"$f":"'Bespoke Area Data'!AS52","v":0},{"$f":"'Bespoke Area Data'!AT52","v":0},{"$f":"'Bespoke Area Data'!AU52","v":0},{"$f":"'Bespoke Area Data'!AV52","v":0},{"$f":"'Bespoke Area Data'!AW52","v":0},{"$f":"'Bespoke Area Data'!AX52","v":0},{"$f":"'Bespoke Area Data'!AY52","v":0},{"$f":"'Bespoke Area Data'!AZ52","v":0},{"$f":"'Bespoke Area Data'!BA52","v":0},{"$f":"'Bespoke Area Data'!BB52","v":0},{"$f":"'Bespoke Area Data'!BC52","v":0},{"$f":"'Bespoke Area Data'!BD52","v":0},{"$f":"'Bespoke Area Data'!BE52","v":0},{"$f":"'Bespoke Area Data'!BF52","v":0},{"$f":"'Bespoke Area Data'!BG52","v":0},{"$f":"'Bespoke Area Data'!BH52","v":0},{"$f":"'Bespoke Area Data'!BI52","v":0},{"$f":"'Bespoke Area Data'!BJ52","v":0},{"$f":"'Bespoke Area Data'!BK52","v":0},{"$f":"'Bespoke Area Data'!BL52","v":0},{"$f":"'Bespoke Area Data'!BM52","v":0},{"$f":"'Bespoke Area Data'!BN52","v":0},{"$f":"'Bespoke Area Data'!BO52","v":0},{"$f":"'Bespoke Area Data'!BP52","v":0},{"$f":"'Bespoke Area Data'!BQ52","v":0},{"$f":"'Bespoke Area Data'!BR52","v":0},{"$f":"'Bespoke Area Data'!BS52","v":0},{"$f":"'Bespoke Area Data'!BT52","v":0},{"$f":"'Bespoke Area Data'!BU52","v":0},{"$f":"'Bespoke Area Data'!BV52","v":0},{"$f":"'Bespoke Area Data'!BW52","v":0},{"$f":"'Bespoke Area Data'!BX52","v":0},{"$f":"'Bespoke Area Data'!BY52","v":0},{"$f":"'Bespoke Area Data'!BZ52","v":0},{"$f":"'Bespoke Area Data'!CA52","v":0},{"$f":"'Bespoke Area Data'!CB52","v":0},{"$f":"'Bespoke Area Data'!CC52","v":0},{"$f":"'Bespoke Area Data'!CD52","v":0},{"$f":"'Bespoke Area Data'!CE52","v":0},{"$f":"'Bespoke Area Data'!CF52","v":0},{"$f":"'Bespoke Area Data'!CG52","v":0},{"$f":"'Bespoke Area Data'!CH52","v":0},{"$f":"'Bespoke Area Data'!CI52","v":0},{"$f":"'Bespoke Area Data'!CJ52","v":0},{"$f":"'Bespoke Area Data'!CK52","v":0},{"$f":"'Bespoke Area Data'!CL52","v":0},{"$f":"'Bespoke Area Data'!CM52","v":0},{"$f":"'Bespoke Area Data'!CN52","v":0},{"$f":"'Bespoke Area Data'!CO52","v":0},{"$f":"'Bespoke Area Data'!CP52","v":0},{"$f":"'Bespoke Area Data'!CQ52","v":0},{"$f":"'Bespoke Area Data'!CR52","v":0},{"$f":"'Bespoke Area Data'!CS52","v":0},{"$f":"'Bespoke Area Data'!CT52","v":0},{"$f":"'Bespoke Area Data'!CU52","v":0},{"$f":"'Bespoke Area Data'!CV52","v":0},{"$f":"'Bespoke Area Data'!CW52","v":0},{"$f":"'Bespoke Area Data'!CX52","v":0},{"$f":"'Bespoke Area Data'!CY52","v":0},{"$f":"'Bespoke Area Data'!CZ52","v":0},{"$f":"'Bespoke Area Data'!DA52","v":0},{"$f":"'Bespoke Area Data'!DB52","v":0},{"$f":"'Bespoke Area Data'!DC52","v":0},{"$f":"'Bespoke Area Data'!DD52","v":0},{"$f":"'Bespoke Area Data'!DE52","v":0},{"$f":"'Bespoke Area Data'!DF52","v":0},{"$f":"'Bespoke Area Data'!DG52","v":0},{"$f":"'Bespoke Area Data'!DH52","v":0},{"$f":"'Bespoke Area Data'!DI52","v":0},{"$f":"'Bespoke Area Data'!DJ52","v":0},{"$f":"'Bespoke Area Data'!DK52","v":0},{"$f":"'Bespoke Area Data'!DL52","v":0},{"$f":"'Bespoke Area Data'!DM52","v":0},{"$f":"'Bespoke Area Data'!DN52","v":0},{"$f":"'Bespoke Area Data'!DO52","v":0},{"$f":"'Bespoke Area Data'!DP52","v":0},{"$f":"'Bespoke Area Data'!DQ52","v":0},{"$f":"'Bespoke Area Data'!DR52","v":0},{"$f":"'Bespoke Area Data'!DS52","v":0},{"$f":"'Bespoke Area Data'!DT52","v":0},{"$f":"'Bespoke Area Data'!DU52","v":0},{"$f":"'Bespoke Area Data'!DV52","v":0},{"$f":"'Bespoke Area Data'!DW52","v":0},{"$f":"'Bespoke Area Data'!DX52","v":0},{"$f":"'Bespoke Area Data'!DY52","v":0},{"$f":"'Bespoke Area Data'!DZ52","v":0},{"$f":"'Bespoke Area Data'!EA52","v":0},{"$f":"'Bespoke Area Data'!EB52","v":0},{"$f":"'Bespoke Area Data'!EC52","v":0},{"$f":"'Bespoke Area Data'!ED52","v":0},{"$f":"'Bespoke Area Data'!EE52","v":0},{"$f":"'Bespoke Area Data'!EF52","v":0},{"$f":"'Bespoke Area Data'!EG52","v":0},{"$f":"'Bespoke Area Data'!EH52","v":0},{"$f":"'Bespoke Area Data'!EI52","v":0},{"$f":"'Bespoke Area Data'!EJ52","v":0},{"$f":"'Bespoke Area Data'!EK52","v":0},{"$f":"'Bespoke Area Data'!EL52","v":0},{"$f":"'Bespoke Area Data'!EM52","v":0},{"$f":"'Bespoke Area Data'!EN52","v":0},{"$f":"'Bespoke Area Data'!EO52","v":0},{"$f":"'Bespoke Area Data'!EP52","v":0},{"$f":"'Bespoke Area Data'!EQ52","v":0},{"$f":"'Bespoke Area Data'!ER52","v":0},{"$f":"'Bespoke Area Data'!ES52","v":0},{"$f":"'Bespoke Area Data'!ET52","v":0},{"$f":"'Bespoke Area Data'!EU52","v":0},{"$f":"'Bespoke Area Data'!EV52","v":0},{"$f":"'Bespoke Area Data'!EW52","v":0},{"$f":"'Bespoke Area Data'!EX52","v":0},{"$f":"'Bespoke Area Data'!EY52","v":0},{"$f":"'Bespoke Area Data'!EZ52","v":0},{"$f":"'Bespoke Area Data'!FA52","v":0},{"$f":"'Bespoke Area Data'!FB52","v":0},{"$f":"'Bespoke Area Data'!FC52","v":0},{"$f":"'Bespoke Area Data'!FD52","v":0},{"$f":"'Bespoke Area Data'!D53","v":0},{"$f":"'Bespoke Area Data'!E53","v":0},{"$f":"'Bespoke Area Data'!F53","v":0},{"$f":"'Bespoke Area Data'!G53","v":0},{"$f":"'Bespoke Area Data'!H53","v":0},{"$f":"'Bespoke Area Data'!I53","v":0},{"$f":"'Bespoke Area Data'!J53","v":0},{"$f":"'Bespoke Area Data'!K53","v":0},{"$f":"'Bespoke Area Data'!L53","v":0},{"$f":"'Bespoke Area Data'!M53","v":0},{"$f":"'Bespoke Area Data'!N53","v":0},{"$f":"'Bespoke Area Data'!O53","v":0},{"$f":"'Bespoke Area Data'!P53","v":0},{"$f":"'Bespoke Area Data'!Q53","v":0},{"$f":"'Bespoke Area Data'!R53","v":0},{"$f":"'Bespoke Area Data'!S53","v":0},{"$f":"'Bespoke Area Data'!T53","v":0},{"$f":"'Bespoke Area Data'!U53","v":0},{"$f":"'Bespoke Area Data'!V53","v":0},{"$f":"'Bespoke Area Data'!W53","v":0},{"$f":"'Bespoke Area Data'!X53","v":0},{"$f":"'Bespoke Area Data'!Y53","v":0},{"$f":"'Bespoke Area Data'!Z53","v":0},{"$f":"'Bespoke Area Data'!AA53","v":0},{"$f":"'Bespoke Area Data'!AB53","v":0},{"$f":"'Bespoke Area Data'!AC53","v":0},{"$f":"'Bespoke Area Data'!AD53","v":0},{"$f":"'Bespoke Area Data'!AE53","v":0},{"$f":"'Bespoke Area Data'!AF53","v":0},{"$f":"'Bespoke Area Data'!AG53","v":0},{"$f":"'Bespoke Area Data'!AH53","v":0},{"$f":"'Bespoke Area Data'!AI53","v":0},{"$f":"'Bespoke Area Data'!AJ53","v":0},{"$f":"'Bespoke Area Data'!AK53","v":0},{"$f":"'Bespoke Area Data'!AL53","v":0},{"$f":"'Bespoke Area Data'!AM53","v":0},{"$f":"'Bespoke Area Data'!AN53","v":0},{"$f":"'Bespoke Area Data'!AO53","v":0},{"$f":"'Bespoke Area Data'!AP53","v":0},{"$f":"'Bespoke Area Data'!AQ53","v":0},{"$f":"'Bespoke Area Data'!AR53","v":0},{"$f":"'Bespoke Area Data'!AS53","v":0},{"$f":"'Bespoke Area Data'!AT53","v":0},{"$f":"'Bespoke Area Data'!AU53","v":0},{"$f":"'Bespoke Area Data'!AV53","v":0},{"$f":"'Bespoke Area Data'!AW53","v":0},{"$f":"'Bespoke Area Data'!AX53","v":0},{"$f":"'Bespoke Area Data'!AY53","v":0},{"$f":"'Bespoke Area Data'!AZ53","v":0},{"$f":"'Bespoke Area Data'!BA53","v":0},{"$f":"'Bespoke Area Data'!BB53","v":0},{"$f":"'Bespoke Area Data'!BC53","v":0},{"$f":"'Bespoke Area Data'!BD53","v":0},{"$f":"'Bespoke Area Data'!BE53","v":0},{"$f":"'Bespoke Area Data'!BF53","v":0},{"$f":"'Bespoke Area Data'!BG53","v":0},{"$f":"'Bespoke Area Data'!BH53","v":0},{"$f":"'Bespoke Area Data'!BI53","v":0},{"$f":"'Bespoke Area Data'!BJ53","v":0},{"$f":"'Bespoke Area Data'!BK53","v":0},{"$f":"'Bespoke Area Data'!BL53","v":0},{"$f":"'Bespoke Area Data'!BM53","v":0},{"$f":"'Bespoke Area Data'!BN53","v":0},{"$f":"'Bespoke Area Data'!BO53","v":0},{"$f":"'Bespoke Area Data'!BP53","v":0}]
["Bespoke","N/A",{"$f":"IF('Bespoke Area Name'!C17=\"\",\"No bespoke area name entered; Go to sheet \"\"Bespoke Area Name\"\"\",'Bespoke Area Name'!C17)","v":"No bespoke area name entered; Go to sheet \"Bespoke Area Name\""},"AREA0014",{"$f":"'Bespoke Area Data'!D56","v":0},{"$f":"'Bespoke Area Data'!E56","v":0},{"$f":"'Bespoke Area Data'!F56","v":0},{"$f":"'Bespoke Area Data'!G56","v":0},{"$f":"'Bespoke Area Data'!H56","v":0},{"$f":"'Bespoke Area Data'!I56","v":0},{"$f":"'Bespoke Area Data'!J56","v":0},{"$f":"'Bespoke Area Data'!K56","v":0},{"$f":"'Bespoke Area Data'!L56","v":0},{"$f":"'Bespoke Area Data'!M56","v":0},{"$f":"'Bespoke Area Data'!N56","v":0},{"$f":"'Bespoke Area Data'!O56","v":0},{"$f":"'Bespoke Area Data'!P56","v":0},{"$f":"'Bespoke Area Data'!Q56","v":0},{"$f":"'Bespoke Area Data'!R56","v":0},{"$f":"'Bespoke Area Data'!S56","v":0},{"$f":"'Bespoke Area Data'!T56","v":0},{"$f":"'Bespoke Area Data'!U56","v":0},{"$f":"'Bespoke Area Data'!V56","v":0},{"$f":"'Bespoke Area Data'!W56","v":0},{"$f":"'Bespoke Area Data'!X56","v":0},{"$f":"'Bespoke Area Data'!Y56","v":0},{"$f":"'Bespoke Area Data'!Z56","v":0},{"$f":"'Bespoke Area Data'!AA56","v":0},{"$f":"'Bespoke Area Data'!AB56","v":0},{"$f":"'Bespoke Area Data'!AC56","v":0},{"$f":"'Bespoke Area Data'!AD56","v":0},{"$f":"'Bespoke Area Data'!AE56","v":0},{"$f":"'Bespoke Area Data'!AF56","v":0},{"$f":"'Bespoke Area Data'!AG56","v":0},{"$f":"'Bespoke Area Data'!AH56","v":0},{"$f":"'Bespoke Area Data'!AI56","v":0},{"$f":"'Bespoke Area Data'!AJ56","v":0},{"$f":"'Bespoke Area Data'!AK56","v":0},{"$f":"'Bespoke Area Data'!AL56","v":0},{"$f":"'Bespoke Area Data'!AM56","v":0},{"$f":"'Bespoke Area Data'!AN56","v":0},{"$f":"'Bespoke Area Data'!AO56","v":0},{"$f":"'Bespoke Area Data'!AP56","v":0},{"$f":"'Bespoke Area Data'!AQ56","v":0},{"$f":"'Bespoke Area Data'!AR56","v":0},{"$f":"'Bespoke Area Data'!AS56","v":0},{"$f":"'Bespoke Area Data'!AT56","v":0},{"$f":"'Bespoke Area Data'!AU56","v":0},{"$f":"'Bespoke Area Data'!AV56","v":0},{"$f":"'Bespoke Area Data'!AW56","v":0},{"$f":"'Bespoke Area Data'!AX56","v":0},{"$f":"'Bespoke Area Data'!AY56","v":0},{"$f":"'Bespoke Area Data'!AZ56","v":0},{"$f":"'Bespoke Area Data'!BA56","v":0},{"$f":"'Bespoke Area Data'!BB56","v":0},{"$f":"'Bespoke Area Data'!BC56","v":0},{"$f":"'Bespoke Area Data'!BD56","v":0},{"$f":"'Bespoke Area Data'!BE56","v":0},{"$f":"'Bespoke Area Data'!BF56","v":0},{"$f":"'Bespoke Area Data'!BG56","v":0},{"$f":"'Bespoke Area Data'!BH56","v":0},{"$f":"'Bespoke Area Data'!BI56","v":0},{"$f":"'Bespoke Area Data'!BJ56","v":0},{"$f":"'Bespoke Area Data'!BK56","v":0},{"$f":"'Bespoke Area Data'!BL56","v":0},{"$f":"'Bespoke Area Data'!BM56","v":0},{"$f":"'Bespoke Area Data'!BN56","v":0},{"$f":"'Bespoke Area Data'!BO56","v":0},{"$f":"'Bespoke Area Data'!BP56","v":0},{"$f":"'Bespoke Area Data'!BQ56","v":0},{"$f":"'Bespoke Area Data'!BR56","v":0},{"$f":"'Bespoke Area Data'!BS56","v":0},{"$f":"'Bespoke Area Data'!BT56","v":0},{"$f":"'Bespoke Area Data'!BU56","v":0},{"$f":"'Bespoke Area Data'!BV56","v":0},{"$f":"'Bespoke Area Data'!BW56","v":0},{"$f":"'Bespoke Area Data'!BX56","v":0},{"$f":"'Bespoke Area Data'!BY56","v":0},{"$f":"'Bespoke Area Data'!BZ56","v":0},{"$f":"'Bespoke Area Data'!CA56","v":0},{"$f":"'Bespoke Area Data'!CB56","v":0},{"$f":"'Bespoke Area Data'!CC56","v":0},{"$f":"'Bespoke Area Data'!CD56","v":0},{"$f":"'Bespoke Area Data'!CE56","v":0},{"$f":"'Bespoke Area Data'!CF56","v":0},{"$f":"'Bespoke Area Data'!CG56","v":0},{"$f":"'Bespoke Area Data'!CH56","v":0},{"$f":"'Bespoke Area Data'!CI56","v":0},{"$f":"'Bespoke Area Data'!CJ56","v":0},{"$f":"'Bespoke Area Data'!CK56","v":0},{"$f":"'Bespoke Area Data'!CL56","v":0},{"$f":"'Bespoke Area Data'!CM56","v":0},{"$f":"'Bespoke Area Data'!CN56","v":0},{"$f":"'Bespoke Area Data'!CO56","v":0},{"$f":"'Bespoke Area Data'!CP56","v":0},{"$f":"'Bespoke Area Data'!CQ56","v":0},{"$f":"'Bespoke Area Data'!CR56","v":0},{"$f":"'Bespoke Area Data'!CS56","v":0},{"$f":"'Bespoke Area Data'!CT56","v":0},{"$f":"'Bespoke Area Data'!CU56","v":0},{"$f":"'Bespoke Area Data'!CV56","v":0},{"$f":"'Bespoke Area Data'!CW56","v":0},{"$f":"'Bespoke Area Data'!CX56","v":0},{"$f":"'Bespoke Area Data'!CY56","v":0},{"$f":"'Bespoke Area Data'!CZ56","v":0},{"$f":"'Bespoke Area Data'!DA56","v":0},{"$f":"'Bespoke Area Data'!DB56","v":0},{"$f":"'Bespoke Area Data'!DC56","v":0},{"$f":"'Bespoke Area Data'!DD56","v":0},{"$f":"'Bespoke Area Data'!DE56","v":0},{"$f":"'Bespoke Area Data'!DF56","v":0},{"$f":"'Bespoke Area Data'!DG56","v":0},{"$f":"'Bespoke Area Data'!DH56","v":0},{"$f":"'Bespoke Area Data'!DI56","v":0},{"$f":"'Bespoke Area Data'!DJ56","v":0},{"$f":"'Bespoke Area Data'!DK56","v":0},{"$f":"'Bespoke Area Data'!DL56","v":0},{"$f":"'Bespoke Area Data'!DM56","v":0},{"$f":"'Bespoke Area Data'!DN56","v":0},{"$f":"'Bespoke Area Data'!DO56","v":0},{"$f":"'Bespoke Area Data'!DP56","v":0},{"$f":"'Bespoke Area Data'!DQ56","v":0},{"$f":"'Bespoke Area Data'!DR56","v":0},{"$f":"'Bespoke Area Data'!DS56","v":0},{"$f":"'Bespoke Area Data'!DT56","v":0},{"$f":"'Bespoke Area Data'!DU56","v":0},{"$f":"'Bespoke Area Data'!DV56","v":0},{"$f":"'Bespoke Area Data'!DW56","v":0},{"$f":"'Bespoke Area Data'!DX56","v":0},{"$f":"'Bespoke Area Data'!DY56","v":0},{"$f":"'Bespoke Area Data'!DZ56","v":0},{"$f":"'Bespoke Area Data'!EA56","v":0},{"$f":"'Bespoke Area Data'!EB56","v":0},{"$f":"'Bespoke Area Data'!EC56","v":0},{"$f":"'Bespoke Area Data'!ED56","v":0},{"$f":"'Bespoke Area Data'!EE56","v":0},{"$f":"'Bespoke Area Data'!EF56","v":0},{"$f":"'Bespoke Area Data'!EG56","v":0},{"$f":"'Bespoke Area Data'!EH56","v":0},{"$f":"'Bespoke Area Data'!EI56","v":0},{"$f":"'Bespoke Area Data'!EJ56","v":0},{"$f":"'Bespoke Area Data'!EK56","v":0},{"$f":"'Bespoke Area Data'!EL56","v":0},{"$f":"'Bespoke Area Data'!EM56","v":0},{"$f":"'Bespoke Area Data'!EN56","v":0},{"$f":"'Bespoke Area Data'!EO56","v":0},{"$f":"'Bespoke Area Data'!EP56","v":0},{"$f":"'Bespoke Area Data'!EQ56","v":0},{"$f":"'Bespoke Area Data'!ER56","v":0},{"$f":"'Bespoke Area Data'!ES56","v":0},{"$f":"'Bespoke Area Data'!ET56","v":0},{"$f":"'Bespoke Area Data'!EU56","v":0},{"$f":"'Bespoke Area Data'!EV56","v":0},{"$f":"'Bespoke Area Data'!EW56","v":0},{"$f":"'Bespoke Area Data'!EX56","v":0},{"$f":"'Bespoke Area Data'!EY56","v":0},{"$f":"'Bespoke Area Data'!EZ56","v":0},{"$f":"'Bespoke Area Data'!FA56","v":0},{"$f":"'Bespoke Area Data'!FB56","v":0},{"$f":"'Bespoke Area Data'!FC56","v":0},{"$f":"'Bespoke Area Data'!FD56","v":0},{"$f":"'Bespoke Area Data'!D57","v":0},{"$f":"'Bespoke Area Data'!E57","v":0},{"$f":"'Bespoke Area Data'!F57","v":0},{"$f":"'Bespoke Area Data'!G57","v":0},{"$f":"'Bespoke Area Data'!H57","v":0},{"$f":"'Bespoke Area Data'!I57","v":0},{"$f":"'Bespoke Area Data'!J57","v":0},{"$f":"'Bespoke Area Data'!K57","v":0},{"$f":"'Bespoke Area Data'!L57","v":0},{"$f":"'Bespoke Area Data'!M57","v":0},{"$f":"'Bespoke Area Data'!N57","v":0},{"$f":"'Bespoke Area Data'!O57","v":0},{"$f":"'Bespoke Area Data'!P57","v":0},{"$f":"'Bespoke Area Data'!Q57","v":0},{"$f":"'Bespoke Area Data'!R57","v":0},{"$f":"'Bespoke Area Data'!S57","v":0},{"$f":"'Bespoke Area Data'!T57","v":0},{"$f":"'Bespoke Area Data'!U57","v":0},{"$f":"'Bespoke Area Data'!V57","v":0},{"$f":"'Bespoke Area Data'!W57","v":0},{"$f":"'Bespoke Area Data'!X57","v":0},{"$f":"'Bespoke Area Data'!Y57","v":0},{"$f":"'Bespoke Area Data'!Z57","v":0},{"$f":"'Bespoke Area Data'!AA57","v":0},{"$f":"'Bespoke Area Data'!AB57","v":0},{"$f":"'Bespoke Area Data'!AC57","v":0},{"$f":"'Bespoke Area Data'!AD57","v":0},{"$f":"'Bespoke Area Data'!AE57","v":0},{"$f":"'Bespoke Area Data'!AF57","v":0},{"$f":"'Bespoke Area Data'!AG57","v":0},{"$f":"'Bespoke Area Data'!AH57","v":0},{"$f":"'Bespoke Area Data'!AI57","v":0},{"$f":"'Bespoke Area Data'!AJ57","v":0},{"$f":"'Bespoke Area Data'!AK57","v":0},{"$f":"'Bespoke Area Data'!AL57","v":0},{"$f":"'Bespoke Area Data'!AM57","v":0},{"$f":"'Bespoke Area Data'!AN57","v":0},{"$f":"'Bespoke Area Data'!AO57","v":0},{"$f":"'Bespoke Area Data'!AP57","v":0},{"$f":"'Bespoke Area Data'!AQ57","v":0},{"$f":"'Bespoke Area Data'!AR57","v":0},{"$f":"'Bespoke Area Data'!AS57","v":0},{"$f":"'Bespoke Area Data'!AT57","v":0},{"$f":"'Bespoke Area Data'!AU57","v":0},{"$f":"'Bespoke Area Data'!AV57","v":0},{"$f":"'Bespoke Area Data'!AW57","v":0},{"$f":"'Bespoke Area Data'!AX57","v":0},{"$f":"'Bespoke Area Data'!AY57","v":0},{"$f":"'Bespoke Area Data'!AZ57","v":0},{"$f":"'Bespoke Area Data'!BA57","v":0},{"$f":"'Bespoke Area Data'!BB57","v":0},{"$f":"'Bespoke Area Data'!BC57","v":0},{"$f":"'Bespoke Area Data'!BD57","v":0},{"$f":"'Bespoke Area Data'!BE57","v":0},{"$f":"'Bespoke Area Data'!BF57","v":0},{"$f":"'Bespoke Area Data'!BG57","v":0},{"$f":"'Bespoke Area Data'!BH57","v":0},{"$f":"'Bespoke Area Data'!BI57","v":0},{"$f":"'Bespoke Area Data'!BJ57","v":0},{"$f":"'Bespoke Area Data'!BK57","v":0},{"$f":"'Bespoke Area Data'!BL57","v":0},{"$f":"'Bespoke Area Data'!BM57","v":0},{"$f":"'Bespoke Area Data'!BN57","v":0},{"$f":"'Bespoke Area Data'!BO57","v":0},{"$f":"'Bespoke Area Data'!BP57","v":0}]
["Bespoke","N/A",{"$f":"IF('Bespoke Area Name'!C18=\"\",\"No bespoke area name entered; Go to sheet \"\"Bespoke Area Name\"\"\",'Bespoke Area Name'!C18)","v":"No bespoke area name entered; Go to sheet \"Bespoke Area Name\""},"AREA0015",{"$f":"'Bespoke Area Data'!D60","v":0},{"$f":"'Bespoke Area Data'!E60","v":0},{"$f":"'Bespoke Area Data'!F60","v":0},{"$f":"'Bespoke Area Data'!G60","v":0},{"$f":"'Bespoke Area Data'!H60","v":0},{"$f":"'Bespoke Area Data'!I60","v":0},{"$f":"'Bespoke Area Data'!J60","v":0},{"$f":"'Bespoke Area Data'!K60","v":0},{"$f":"'Bespoke Area Data'!L60","v":0},{"$f":"'Bespoke Area Data'!M60","v":0},{"$f":"'Bespoke Area Data'!N60","v":0},{"$f":"'Bespoke Area Data'!O60","v":0},{"$f":"'Bespoke Area Data'!P60","v":0},{"$f":"'Bespoke Area Data'!Q60","v":0},{"$f":"'Bespoke Area Data'!R60","v":0},{"$f":"'Bespoke Area Data'!S60","v":0},{"$f":"'Bespoke Area Data'!T60","v":0},{"$f":"'Bespoke Area Data'!U60","v":0},{"$f":"'Bespoke Area Data'!V60","v":0},{"$f":"'Bespoke Area Data'!W60","v":0},{"$f":"'Bespoke Area Data'!X60","v":0},{"$f":"'Bespoke Area Data'!Y60","v":0},{"$f":"'Bespoke Area Data'!Z60","v":0},{"$f":"'Bespoke Area Data'!AA60","v":0},{"$f":"'Bespoke Area Data'!AB60","v":0},{"$f":"'Bespoke Area Data'!AC60","v":0},{"$f":"'Bespoke Area Data'!AD60","v":0},{"$f":"'Bespoke Area Data'!AE60","v":0},{"$f":"'Bespoke Area Data'!AF60","v":0},{"$f":"'Bespoke Area Data'!AG60","v":0},{"$f":"'Bespoke Area Data'!AH60","v":0},{"$f":"'Bespoke Area Data'!AI60","v":0},{"$f":"'Bespoke Area Data'!AJ60","v":0},{"$f":"'Bespoke Area Data'!AK60","v":0},{"$f":"'Bespoke Area Data'!AL60","v":0},{"$f":"'Bespoke Area Data'!AM60","v":0},{"$f":"'Bespoke Area Data'!AN60","v":0},{"$f":"'Bespoke Area Data'!AO60","v":0},{"$f":"'Bespoke Area Data'!AP60","v":0},{"$f":"'Bespoke Area Data'!AQ60","v":0},{"$f":"'Bespoke Area Data'!AR60","v":0},{"$f":"'Bespoke Area Data'!AS60","v":0},{"$f":"'Bespoke Area Data'!AT60","v":0},{"$f":"'Bespoke Area Data'!AU60","v":0},{"$f":"'Bespoke Area Data'!AV60","v":0},{"$f":"'Bespoke Area Data'!AW60","v":0},{"$f":"'Bespoke Area Data'!AX60","v":0},{"$f":"'Bespoke Area Data'!AY60","v":0},{"$f":"'Bespoke Area Data'!AZ60","v":0},{"$f":"'Bespoke Area Data'!BA60","v":0},{"$f":"'Bespoke Area Data'!BB60","v":0},{"$f":"'Bespoke Area Data'!BC60","v":0},{"$f":"'Bespoke Area Data'!BD60","v":0},{"$f":"'Bespoke Area Data'!BE60","v":0},{"$f":"'Bespoke Area Data'!BF60","v":0},{"$f":"'Bespoke Area Data'!BG60","v":0},{"$f":"'Bespoke Area Data'!BH60","v":0},{"$f":"'Bespoke Area Data'!BI60","v":0},{"$f":"'Bespoke Area Data'!BJ60","v":0},{"$f":"'Bespoke Area Data'!BK60","v":0},{"$f":"'Bespoke Area Data'!BL60","v":0},{"$f":"'Bespoke Area Data'!BM60","v":0},{"$f":"'Bespoke Area Data'!BN60","v":0},{"$f":"'Bespoke Area Data'!BO60","v":0},{"$f":"'Bespoke Area Data'!BP60","v":0},{"$f":"'Bespoke Area Data'!BQ60","v":0},{"$f":"'Bespoke Area Data'!BR60","v":0},{"$f":"'Bespoke Area Data'!BS60","v":0},{"$f":"'Bespoke Area Data'!BT60","v":0},{"$f":"'Bespoke Area Data'!BU60","v":0},{"$f":"'Bespoke Area Data'!BV60","v":0},{"$f":"'Bespoke Area Data'!BW60","v":0},{"$f":"'Bespoke Area Data'!BX60","v":0},{"$f":"'Bespoke Area Data'!BY60","v":0},{"$f":"'Bespoke Area Data'!BZ60","v":0},{"$f":"'Bespoke Area Data'!CA60","v":0},{"$f":"'Bespoke Area Data'!CB60","v":0},{"$f":"'Bespoke Area Data'!CC60","v":0},{"$f":"'Bespoke Area Data'!CD60","v":0},{"$f":"'Bespoke Area Data'!CE60","v":0},{"$f":"'Bespoke Area Data'!CF60","v":0},{"$f":"'Bespoke Area Data'!CG60","v":0},{"$f":"'Bespoke Area Data'!CH60","v":0},{"$f":"'Bespoke Area Data'!CI60","v":0},{"$f":"'Bespoke Area Data'!CJ60","v":0},{"$f":"'Bespoke Area Data'!CK60","v":0},{"$f":"'Bespoke Area Data'!CL60","v":0},{"$f":"'Bespoke Area Data'!CM60","v":0},{"$f":"'Bespoke Area Data'!CN60","v":0},{"$f":"'Bespoke Area Data'!CO60","v":0},{"$f":"'Bespoke Area Data'!CP60","v":0},{"$f":"'Bespoke Area Data'!CQ60","v":0},{"$f":"'Bespoke Area Data'!CR60","v":0},{"$f":"'Bespoke Area Data'!CS60","v":0},{"$f":"'Bespoke Area Data'!CT60","v":0},{"$f":"'Bespoke Area Data'!CU60","v":0},{"$f":"'Bespoke Area Data'!CV60","v":0},{"$f":"'Bespoke Area Data'!CW60","v":0},{"$f":"'Bespoke Area Data'!CX60","v":0},{"$f":"'Bespoke Area Data'!CY60","v":0},{"$f":"'Bespoke Area Data'!CZ60","v":0},{"$f":"'Bespoke Area Data'!DA60","v":0},{"$f":"'Bespoke Area Data'!DB60","v":0},{"$f":"'Bespoke Area Data'!DC60","v":0},{"$f":"'Bespoke Area Data'!DD60","v":0},{"$f":"'Bespoke Area Data'!DE60","v":0},{"$f":"'Bespoke Area Data'!DF60","v":0},{"$f":"'Bespoke Area Data'!DG60","v":0},{"$f":"'Bespoke Area Data'!DH60","v":0},{"$f":"'Bespoke Area Data'!DI60","v":0},{"$f":"'Bespoke Area Data'!DJ60","v":0},{"$f":"'Bespoke Area Data'!DK60","v":0},{"$f":"'Bespoke Area Data'!DL60","v":0},{"$f":"'Bespoke Area Data'!DM60","v":0},{"$f":"'Bespoke Area Data'!DN60","v":0},{"$f":"'Bespoke Area Data'!DO60","v":0},{"$f":"'Bespoke Area Data'!DP60","v":0},{"$f":"'Bespoke Area Data'!DQ60","v":0},{"$f":"'Bespoke Area Data'!DR60","v":0},{"$f":"'Bespoke Area Data'!DS60","v":0},{"$f":"'Bespoke Area Data'!DT60","v":0},{"$f":"'Bespoke Area Data'!DU60","v":0},{"$f":"'Bespoke Area Data'!DV60","v":0},{"$f":"'Bespoke Area Data'!DW60","v":0},{"$f":"'Bespoke Area Data'!DX60","v":0},{"$f":"'Bespoke Area Data'!DY60","v":0},{"$f":"'Bespoke Area Data'!DZ60","v":0},{"$f":"'Bespoke Area Data'!EA60","v":0},{"$f":"'Bespoke Area Data'!EB60","v":0},{"$f":"'Bespoke Area Data'!EC60","v":0},{"$f":"'Bespoke Area Data'!ED60","v":0},{"$f":"'Bespoke Area Data'!EE60","v":0},{"$f":"'Bespoke Area Data'!EF60","v":0},{"$f":"'Bespoke Area Data'!EG60","v":0},{"$f":"'Bespoke Area Data'!EH60","v":0},{"$f":"'Bespoke Area Data'!EI60","v":0},{"$f":"'Bespoke Area Data'!EJ60","v":0},{"$f":"'Bespoke Area Data'!EK60","v":0},{"$f":"'Bespoke Area Data'!EL60","v":0},{"$f":"'Bespoke Area Data'!EM60","v":0},{"$f":"'Bespoke Area Data'!EN60","v":0},{"$f":"'Bespoke Area Data'!EO60","v":0},{"$f":"'Bespoke Area Data'!EP60","v":0},{"$f":"'Bespoke Area Data'!EQ60","v":0},{"$f":"'Bespoke Area Data'!ER60","v":0},{"$f":"'Bespoke Area Data'!ES60","v":0},{"$f":"'Bespoke Area Data'!ET60","v":0},{"$f":"'Bespoke Area Data'!EU60","v":0},{"$f":"'Bespoke Area Data'!EV60","v":0},{"$f":"'Bespoke Area Data'!EW60","v":0},{"$f":"'Bespoke Area Data'!EX60","v":0},{"$f":"'Bespoke Area Data'!EY60","v":0},{"$f":"'Bespoke Area Data'!EZ60","v":0},{"$f":"'Bespoke Area Data'!FA60","v":0},{"$f":"'Bespoke Area Data'!FB60","v":0},{"$f":"'Bespoke Area Data'!FC60","v":0},{"$f":"'Bespoke Area Data'!FD60","v":0},{"$f":"'Bespoke Area Data'!D61","v":0},{"$f":"'Bespoke Area Data'!E61","v":0},{"$f":"'Bespoke Area Data'!F61","v":0},{"$f":"'Bespoke Area Data'!G61","v":0},{"$f":"'Bespoke Area Data'!H61","v":0},{"$f":"'Bespoke Area Data'!I61","v":0},{"$f":"'Bespoke Area Data'!J61","v":0},{"$f":"'Bespoke Area Data'!K61","v":0},{"$f":"'Bespoke Area Data'!L61","v":0},{"$f":"'Bespoke Area Data'!M61","v":0},{"$f":"'Bespoke Area Data'!N61","v":0},{"$f":"'Bespoke Area Data'!O61","v":0},{"$f":"'Bespoke Area Data'!P61","v":0},{"$f":"'Bespoke Area Data'!Q61","v":0},{"$f":"'Bespoke Area Data'!R61","v":0},{"$f":"'Bespoke Area Data'!S61","v":0},{"$f":"'Bespoke Area Data'!T61","v":0},{"$f":"'Bespoke Area Data'!U61","v":0},{"$f":"'Bespoke Area Data'!V61","v":0},{"$f":"'Bespoke Area Data'!W61","v":0},{"$f":"'Bespoke Area Data'!X61","v":0},{"$f":"'Bespoke Area Data'!Y61","v":0},{"$f":"'Bespoke Area Data'!Z61","v":0},{"$f":"'Bespoke Area Data'!AA61","v":0},{"$f":"'Bespoke Area Data'!AB61","v":0},{"$f":"'Bespoke Area Data'!AC61","v":0},{"$f":"'Bespoke Area Data'!AD61","v":0},{"$f":"'Bespoke Area Data'!AE61","v":0},{"$f":"'Bespoke Area Data'!AF61","v":0},{"$f":"'Bespoke Area Data'!AG61","v":0},{"$f":"'Bespoke Area Data'!AH61","v":0},{"$f":"'Bespoke Area Data'!AI61","v":0},{"$f":"'Bespoke Area Data'!AJ61","v":0},{"$f":"'Bespoke Area Data'!AK61","v":0},{"$f":"'Bespoke Area Data'!AL61","v":0},{"$f":"'Bespoke Area Data'!AM61","v":0},{"$f":"'Bespoke Area Data'!AN61","v":0},{"$f":"'Bespoke Area Data'!AO61","v":0},{"$f":"'Bespoke Area Data'!AP61","v":0},{"$f":"'Bespoke Area Data'!AQ61","v":0},{"$f":"'Bespoke Area Data'!AR61","v":0},{"$f":"'Bespoke Area Data'!AS61","v":0},{"$f":"'Bespoke Area Data'!AT61","v":0},{"$f":"'Bespoke Area Data'!AU61","v":0},{"$f":"'Bespoke Area Data'!AV61","v":0},{"$f":"'Bespoke Area Data'!AW61","v":0},{"$f":"'Bespoke Area Data'!AX61","v":0},{"$f":"'Bespoke Area Data'!AY61","v":0},{"$f":"'Bespoke Area Data'!AZ61","v":0},{"$f":"'Bespoke Area Data'!BA61","v":0},{"$f":"'Bespoke Area Data'!BB61","v":0},{"$f":"'Bespoke Area Data'!BC61","v":0},{"$f":"'Bespoke Area Data'!BD61","v":0},{"$f":"'Bespoke Area Data'!BE61","v":0},{"$f":"'Bespoke Area Data'!BF61","v":0},{"$f":"'Bespoke Area Data'!BG61","v":0},{"$f":"'Bespoke Area Data'!BH61","v":0},{"$f":"'Bespoke Area Data'!BI61","v":0},{"$f":"'Bespoke Area Data'!BJ61","v":0},{"$f":"'Bespoke Area Data'!BK61","v":0},{"$f":"'Bespoke Area Data'!BL61","v":0},{"$f":"'Bespoke Area Data'!BM61","v":0},{"$f":"'Bespoke Area Data'!BN61","v":0},{"$f":"'Bespoke Area Data'!BO61","v":0},{"$f":"'Bespoke Area Data'!BP61","v":0}]
["Bespoke","N/A",{"$f":"IF('Bespoke Area Name'!C19=\"\",\"No bespoke area name entered; Go to sheet \"\"Bespoke Area Name\"\"\",'Bespoke Area Name'!C19)","v":"No bespoke area name entered; Go to sheet \"Bespoke Area Name\""},"AREA0016",{"$f":"'Bespoke Area Data'!D64","v":0},{"$f":"'Bespoke Area Data'!E64","v":0},{"$f":"'Bespoke Area Data'!F64","v":0},{"$f":"'Bespoke Area Data'!G64","v":0},{"$f":"'Bespoke Area Data'!H64","v":0},{"$f":"'Bespoke Area Data'!I64","v":0},{"$f":"'Bespoke Area Data'!J64","v":0},{"$f":"'Bespoke Area Data'!K64","v":0},{"$f":"'Bespoke Area Data'!L64","v":0},{"$f":"'Bespoke Area Data'!M64","v":0},{"$f":"'Bespoke Area Data'!N64","v":0},{"$f":"'Bespoke Area Data'!O64","v":0},{"$f":"'Bespoke Area Data'!P64","v":0},{"$f":"'Bespoke Area Data'!Q64","v":0},{"$f":"'Bespoke Area Data'!R64","v":0},{"$f":"'Bespoke Area Data'!S64","v":0},{"$f":"'Bespoke Area Data'!T64","v":0},{"$f":"'Bespoke Area Data'!U64","v":0},{"$f":"'Bespoke Area Data'!V64","v":0},{"$f":"'Bespoke Area Data'!W64","v":0},{"$f":"'Bespoke Area Data'!X64","v":0},{"$f":"'Bespoke Area Data'!Y64","v":0},{"$f":"'Bespoke Area Data'!Z64","v":0},{"$f":"'Bespoke Area Data'!AA64","v":0},{"$f":"'Bespoke Area Data'!AB64","v":0},{"$f":"'Bespoke Area Data'!AC64","v":0},{"$f":"'Bespoke Area Data'!AD64","v":0},{"$f":"'Bespoke Area Data'!AE64","v":0},{"$f":"'Bespoke Area Data'!AF64","v":0},{"$f":"'Bespoke Area Data'!AG64","v":0},{"$f":"'Bespoke Area Data'!AH64","v":0},{"$f":"'Bespoke Area Data'!AI64","v":0},{"$f":"'Bespoke Area Data'!AJ64","v":0},{"$f":"'Bespoke Area Data'!AK64","v":0},{"$f":"'Bespoke Area Data'!AL64","v":0},{"$f":"'Bespoke Area Data'!AM64","v":0},{"$f":"'Bespoke Area Data'!AN64","v":0},{"$f":"'Bespoke Area Data'!AO64","v":0},{"$f":"'Bespoke Area Data'!AP64","v":0},{"$f":"'Bespoke Area Data'!AQ64","v":0},{"$f":"'Bespoke Area Data'!AR64","v":0},{"$f":"'Bespoke Area Data'!AS64","v":0},{"$f":"'Bespoke Area Data'!AT64","v":0},{"$f":"'Bespoke Area Data'!AU64","v":0},{"$f":"'Bespoke Area Data'!AV64","v":0},{"$f":"'Bespoke Area Data'!AW64","v":0},{"$f":"'Bespoke Area Data'!AX64","v":0},{"$f":"'Bespoke Area Data'!AY64","v":0},{"$f":"'Bespoke Area Data'!AZ64","v":0},{"$f":"'Bespoke Area Data'!BA64","v":0},{"$f":"'Bespoke Area Data'!BB64","v":0},{"$f":"'Bespoke Area Data'!BC64","v":0},{"$f":"'Bespoke Area Data'!BD64","v":0},{"$f":"'Bespoke Area Data'!BE64","v":0},{"$f":"'Bespoke Area Data'!BF64","v":0},{"$f":"'Bespoke Area Data'!BG64","v":0},{"$f":"'Bespoke Area Data'!BH64","v":0},{"$f":"'Bespoke Area Data'!BI64","v":0},{"$f":"'Bespoke Area Data'!BJ64","v":0},{"$f":"'Bespoke Area Data'!BK64","v":0},{"$f":"'Bespoke Area Data'!BL64","v":0},{"$f":"'Bespoke Area Data'!BM64","v":0},{"$f":"'Bespoke Area Data'!BN64","v":0},{"$f":"'Bespoke Area Data'!BO64","v":0},{"$f":"'Bespoke Area Data'!BP64","v":0},{"$f":"'Bespoke Area Data'!BQ64","v":0},{"$f":"'Bespoke Area Data'!BR64","v":0},{"$f":"'Bespoke Area Data'!BS64","v":0},{"$f":"'Bespoke Area Data'!BT64","v":0},{"$f":"'Bespoke Area Data'!BU64","v":0},{"$f":"'Bespoke Area Data'!BV64","v":0},{"$f":"'Bespoke Area Data'!BW64","v":0},{"$f":"'Bespoke Area Data'!BX64","v":0},{"$f":"'Bespoke Area Data'!BY64","v":0},{"$f":"'Bespoke Area Data'!BZ64","v":0},{"$f":"'Bespoke Area Data'!CA64","v":0},{"$f":"'Bespoke Area Data'!CB64","v":0},{"$f":"'Bespoke Area Data'!CC64","v":0},{"$f":"'Bespoke Area Data'!CD64","v":0},{"$f":"'Bespoke Area Data'!CE64","v":0},{"$f":"'Bespoke Area Data'!CF64","v":0},{"$f":"'Bespoke Area Data'!CG64","v":0},{"$f":"'Bespoke Area Data'!CH64","v":0},{"$f":"'Bespoke Area Data'!CI64","v":0},{"$f":"'Bespoke Area Data'!CJ64","v":0},{"$f":"'Bespoke Area Data'!CK64","v":0},{"$f":"'Bespoke Area Data'!CL64","v":0},{"$f":"'Bespoke Area Data'!CM64","v":0},{"$f":"'Bespoke Area Data'!CN64","v":0},{"$f":"'Bespoke Area Data'!CO64","v":0},{"$f":"'Bespoke Area Data'!CP64","v":0},{"$f":"'Bespoke Area Data'!CQ64","v":0},{"$f":"'Bespoke Area Data'!CR64","v":0},{"$f":"'Bespoke Area Data'!CS64","v":0},{"$f":"'Bespoke Area Data'!CT64","v":0},{"$f":"'Bespoke Area Data'!CU64","v":0},{"$f":"'Bespoke Area Data'!CV64","v":0},{"$f":"'Bespoke Area Data'!CW64","v":0},{"$f":"'Bespoke Area Data'!CX64","v":0},{"$f":"'Bespoke Area Data'!CY64","v":0},{"$f":"'Bespoke Area Data'!CZ64","v":0},{"$f":"'Bespoke Area Data'!DA64","v":0},{"$f":"'Bespoke Area Data'!DB64","v":0},{"$f":"'Bespoke Area Data'!DC64","v":0},{"$f":"'Bespoke Area Data'!DD64","v":0},{"$f":"'Bespoke Area Data'!DE64","v":0},{"$f":"'Bespoke Area Data'!DF64","v":0},{"$f":"'Bespoke Area Data'!DG64","v":0},{"$f":"'Bespoke Area Data'!DH64","v":0},{"$f":"'Bespoke Area Data'!DI64","v":0},{"$f":"'Bespoke Area Data'!DJ64","v":0},{"$f":"'Bespoke Area Data'!DK64","v":0},{"$f":"'Bespoke Area Data'!DL64","v":0},{"$f":"'Bespoke Area Data'!DM64","v":0},{"$f":"'Bespoke Area Data'!DN64","v":0},{"$f":"'Bespoke Area Data'!DO64","v":0},{"$f":"'Bespoke Area Data'!DP64","v":0},{"$f":"'Bespoke Area Data'!DQ64","v":0},{"$f":"'Bespoke Area Data'!DR64","v":0},{"$f":"'Bespoke Area Data'!DS64","v":0},{"$f":"'Bespoke Area Data'!DT64","v":0},{"$f":"'Bespoke Area Data'!DU64","v":0},{"$f":"'Bespoke Area Data'!DV64","v":0},{"$f":"'Bespoke Area Data'!DW64","v":0},{"$f":"'Bespoke Area Data'!DX64","v":0},{"$f":"'Bespoke Area Data'!DY64","v":0},{"$f":"'Bespoke Area Data'!DZ64","v":0},{"$f":"'Bespoke Area Data'!EA64","v":0},{"$f":"'Bespoke Area Data'!EB64","v":0},{"$f":"'Bespoke Area Data'!EC64","v":0},{"$f":"'Bespoke Area Data'!ED64","v":0},{"$f":"'Bespoke Area Data'!EE64","v":0},{"$f":"'Bespoke Area Data'!EF64","v":0},{"$f":"'Bespoke Area Data'!EG64","v":0},{"$f":"'Bespoke Area Data'!EH64","v":0},{"$f":"'Bespoke Area Data'!EI64","v":0},{"$f":"'Bespoke Area Data'!EJ64","v":0},{"$f":"'Bespoke Area Data'!EK64","v":0},{"$f":"'Bespoke Area Data'!EL64","v":0},{"$f":"'Bespoke Area Data'!EM64","v":0},{"$f":"'Bespoke Area Data'!EN64","v":0},{"$f":"'Bespoke Area Data'!EO64","v":0},{"$f":"'Bespoke Area Data'!EP64","v":0},{"$f":"'Bespoke Area Data'!EQ64","v":0},{"$f":"'Bespoke Area Data'!ER64","v":0},{"$f":"'Bespoke Area Data'!ES64","v":0},{"$f":"'Bespoke Area Data'!ET64","v":0},{"$f":"'Bespoke Area Data'!EU64","v":0},{"$f":"'Bespoke Area Data'!EV64","v":0},{"$f":"'Bespoke Area Data'!EW64","v":0},{"$f":"'Bespoke Area Data'!EX64","v":0},{"$f":"'Bespoke Area Data'!EY64","v":0},{"$f":"'Bespoke Area Data'!EZ64","v":0},{"$f":"'Bespoke Area Data'!FA64","v":0},{"$f":"'Bespoke Area Data'!FB64","v":0},{"$f":"'Bespoke Area Data'!FC64","v":0},{"$f":"'Bespoke Area Data'!FD64","v":0},{"$f":"'Bespoke Area Data'!D65","v":0},{"$f":"'Bespoke Area Data'!E65","v":0},{"$f":"'Bespoke Area Data'!F65","v":0},{"$f":"'Bespoke Area Data'!G65","v":0},{"$f":"'Bespoke Area Data'!H65","v":0},{"$f":"'Bespoke Area Data'!I65","v":0},{"$f":"'Bespoke Area Data'!J65","v":0},{"$f":"'Bespoke Area Data'!K65","v":0},{"$f":"'Bespoke Area Data'!L65","v":0},{"$f":"'Bespoke Area Data'!M65","v":0},{"$f":"'Bespoke Area Data'!N65","v":0},{"$f":"'Bespoke Area Data'!O65","v":0},{"$f":"'Bespoke Area Data'!P65","v":0},{"$f":"'Bespoke Area Data'!Q65","v":0},{"$f":"'Bespoke Area Data'!R65","v":0},{"$f":"'Bespoke Area Data'!S65","v":0},{"$f":"'Bespoke Area Data'!T65","v":0},{"$f":"'Bespoke Area Data'!U65","v":0},{"$f":"'Bespoke Area Data'!V65","v":0},{"$f":"'Bespoke Area Data'!W65","v":0},{"$f":"'Bespoke Area Data'!X65","v":0},{"$f":"'Bespoke Area Data'!Y65","v":0},{"$f":"'Bespoke Area Data'!Z65","v":0},{"$f":"'Bespoke Area Data'!AA65","v":0},{"$f":"'Bespoke Area Data'!AB65","v":0},{"$f":"'Bespoke Area Data'!AC65","v":0},{"$f":"'Bespoke Area Data'!AD65","v":0},{"$f":"'Bespoke Area Data'!AE65","v":0},{"$f":"'Bespoke Area Data'!AF65","v":0},{"$f":"'Bespoke Area Data'!AG65","v":0},{"$f":"'Bespoke Area Data'!AH65","v":0},{"$f":"'Bespoke Area Data'!AI65","v":0},{"$f":"'Bespoke Area Data'!AJ65","v":0},{"$f":"'Bespoke Area Data'!AK65","v":0},{"$f":"'Bespoke Area Data'!AL65","v":0},{"$f":"'Bespoke Area Data'!AM65","v":0},{"$f":"'Bespoke Area Data'!AN65","v":0},{"$f":"'Bespoke Area Data'!AO65","v":0},{"$f":"'Bespoke Area Data'!AP65","v":0},{"$f":"'Bespoke Area Data'!AQ65","v":0},{"$f":"'Bespoke Area Data'!AR65","v":0},{"$f":"'Bespoke Area Data'!AS65","v":0},{"$f":"'Bespoke Area Data'!AT65","v":0},{"$f":"'Bespoke Area Data'!AU65","v":0},{"$f":"'Bespoke Area Data'!AV65","v":0},{"$f":"'Bespoke Area Data'!AW65","v":0},{"$f":"'Bespoke Area Data'!AX65","v":0},{"$f":"'Bespoke Area Data'!AY65","v":0},{"$f":"'Bespoke Area Data'!AZ65","v":0},{"$f":"'Bespoke Area Data'!BA65","v":0},{"$f":"'Bespoke Area Data'!BB65","v":0},{"$f":"'Bespoke Area Data'!BC65","v":0},{"$f":"'Bespoke Area Data'!BD65","v":0},{"$f":"'Bespoke Area Data'!BE65","v":0},{"$f":"'Bespoke Area Data'!BF65","v":0},{"$f":"'Bespoke Area Data'!BG65","v":0},{"$f":"'Bespoke Area Data'!BH65","v":0},{"$f":"'Bespoke Area Data'!BI65","v":0},{"$f":"'Bespoke Area Data'!BJ65","v":0},{"$f":"'Bespoke Area Data'!BK65","v":0},{"$f":"'Bespoke Area Data'!BL65","v":0},{"$f":"'Bespoke Area Data'!BM65","v":0},{"$f":"'Bespoke Area Data'!BN65","v":0},{"$f":"'Bespoke Area Data'!BO65","v":0},{"$f":"'Bespoke Area Data'!BP65","v":0}]
["Bespoke","N/A",{"$f":"IF('Bespoke Area Name'!C20=\"\",\"No bespoke area name entered; Go to sheet \"\"Bespoke Area Name\"\"\",'Bespoke Area Name'!C20)","v":"No bespoke area name entered; Go to sheet \"Bespoke Area Name\""},"AREA0017",{"$f":"'Bespoke Area Data'!D68","v":0},{"$f":"'Bespoke Area Data'!E68","v":0},{"$f":"'Bespoke Area Data'!F68","v":0},{"$f":"'Bespoke Area Data'!G68","v":0},{"$f":"'Bespoke Area Data'!H68","v":0},{"$f":"'Bespoke Area Data'!I68","v":0},{"$f":"'Bespoke Area Data'!J68","v":0},{"$f":"'Bespoke Area Data'!K68","v":0},{"$f":"'Bespoke Area Data'!L68","v":0},{"$f":"'Bespoke Area Data'!M68","v":0},{"$f":"'Bespoke Area Data'!N68","v":0},{"$f":"'Bespoke Area Data'!O68","v":0},{"$f":"'Bespoke Area Data'!P68","v":0},{"$f":"'Bespoke Area Data'!Q68","v":0},{"$f":"'Bespoke Area Data'!R68","v":0},{"$f":"'Bespoke Area Data'!S68","v":0},{"$f":"'Bespoke Area Data'!T68","v":0},{"$f":"'Bespoke Area Data'!U68","v":0},{"$f":"'Bespoke Area Data'!V68","v":0},{"$f":"'Bespoke Area Data'!W68","v":0},{"$f":"'Bespoke Area Data'!X68","v":0},{"$f":"'Bespoke Area Data'!Y68","v":0},{"$f":"'Bespoke Area Data'!Z68","v":0},{"$f":"'Bespoke Area Data'!AA68","v":0},{"$f":"'Bespoke Area Data'!AB68","v":0},{"$f":"'Bespoke Area Data'!AC68","v":0},{"$f":"'Bespoke Area Data'!AD68","v":0},{"$f":"'Bespoke Area Data'!AE68","v":0},{"$f":"'Bespoke Area Data'!AF68","v":0},{"$f":"'Bespoke Area Data'!AG68","v":0},{"$f":"'Bespoke Area Data'!AH68","v":0},{"$f":"'Bespoke Area Data'!AI68","v":0},{"$f":"'Bespoke Area Data'!AJ68","v":0},{"$f":"'Bespoke Area Data'!AK68","v":0},{"$f":"'Bespoke Area Data'!AL68","v":0},{"$f":"'Bespoke Area Data'!AM68","v":0},{"$f":"'Bespoke Area Data'!AN68","v":0},{"$f":"'Bespoke Area Data'!AO68","v":0},{"$f":"'Bespoke Area Data'!AP68","v":0},{"$f":"'Bespoke Area Data'!AQ68","v":0},{"$f":"'Bespoke Area Data'!AR68","v":0},{"$f":"'Bespoke Area Data'!AS68","v":0},{"$f":"'Bespoke Area Data'!AT68","v":0},{"$f":"'Bespoke Area Data'!AU68","v":0},{"$f":"'Bespoke Area Data'!AV68","v":0},{"$f":"'Bespoke Area Data'!AW68","v":0},{"$f":"'Bespoke Area Data'!AX68","v":0},{"$f":"'Bespoke Area Data'!AY68","v":0},{"$f":"'Bespoke Area Data'!AZ68","v":0},{"$f":"'Bespoke Area Data'!BA68","v":0},{"$f":"'Bespoke Area Data'!BB68","v":0},{"$f":"'Bespoke Area Data'!BC68","v":0},{"$f":"'Bespoke Area Data'!BD68","v":0},{"$f":"'Bespoke Area Data'!BE68","v":0},{"$f":"'Bespoke Area Data'!BF68","v":0},{"$f":"'Bespoke Area Data'!BG68","v":0},{"$f":"'Bespoke Area Data'!BH68","v":0},{"$f":"'Bespoke Area Data'!BI68","v":0},{"$f":"'Bespoke Area Data'!BJ68","v":0},{"$f":"'Bespoke Area Data'!BK68","v":0},{"$f":"'Bespoke Area Data'!BL68","v":0},{"$f":"'Bespoke Area Data'!BM68","v":0},{"$f":"'Bespoke Area Data'!BN68","v":0},{"$f":"'Bespoke Area Data'!BO68","v":0},{"$f":"'Bespoke Area Data'!BP68","v":0},{"$f":"'Bespoke Area Data'!BQ68","v":0},{"$f":"'Bespoke Area Data'!BR68","v":0},{"$f":"'Bespoke Area Data'!BS68","v":0},{"$f":"'Bespoke Area Data'!BT68","v":0},{"$f":"'Bespoke Area Data'!BU68","v":0},{"$f":"'Bespoke Area Data'!BV68","v":0},{"$f":"'Bespoke Area Data'!BW68","v":0},{"$f":"'Bespoke Area Data'!BX68","v":0},{"$f":"'Bespoke Area Data'!BY68","v":0},{"$f":"'Bespoke Area Data'!BZ68","v":0},{"$f":"'Bespoke Area Data'!CA68","v":0},{"$f":"'Bespoke Area Data'!CB68","v":0},{"$f":"'Bespoke Area Data'!CC68","v":0},{"$f":"'Bespoke Area Data'!CD68","v":0},{"$f":"'Bespoke Area Data'!CE68","v":0},{"$f":"'Bespoke Area Data'!CF68","v":0},{"$f":"'Bespoke Area Data'!CG68","v":0},{"$f":"'Bespoke Area Data'!CH68","v":0},{"$f":"'Bespoke Area Data'!CI68","v":0},{"$f":"'Bespoke Area Data'!CJ68","v":0},{"$f":"'Bespoke Area Data'!CK68","v":0},{"$f":"'Bespoke Area Data'!CL68","v":0},{"$f":"'Bespoke Area Data'!CM68","v":0},{"$f":"'Bespoke Area Data'!CN68","v":0},{"$f":"'Bespoke Area Data'!CO68","v":0},{"$f":"'Bespoke Area Data'!CP68","v":0},{"$f":"'Bespoke Area Data'!CQ68","v":0},{"$f":"'Bespoke Area Data'!CR68","v":0},{"$f":"'Bespoke Area Data'!CS68","v":0},{"$f":"'Bespoke Area Data'!CT68","v":0},{"$f":"'Bespoke Area Data'!CU68","v":0},{"$f":"'Bespoke Area Data'!CV68","v":0},{"$f":"'Bespoke Area Data'!CW68","v":0},{"$f":"'Bespoke Area Data'!CX68","v":0},{"$f":"'Bespoke Area Data'!CY68","v":0},{"$f":"'Bespoke Area Data'!CZ68","v":0},{"$f":"'Bespoke Area Data'!DA68","v":0},{"$f":"'Bespoke Area Data'!DB68","v":0},{"$f":"'Bespoke Area Data'!DC68","v":0},{"$f":"'Bespoke Area Data'!DD68","v":0},{"$f":"'Bespoke Area Data'!DE68","v":0},{"$f":"'Bespoke Area Data'!DF68","v":0},{"$f":"'Bespoke Area Data'!DG68","v":0},{"$f":"'Bespoke Area Data'!DH68","v":0},{"$f":"'Bespoke Area Data'!DI68","v":0},{"$f":"'Bespoke Area Data'!DJ68","v":0},{"$f":"'Bespoke Area Data'!DK68","v":0},{"$f":"'Bespoke Area Data'!DL68","v":0},{"$f":"'Bespoke Area Data'!DM68","v":0},{"$f":"'Bespoke Area Data'!DN68","v":0},{"$f":"'Bespoke Area Data'!DO68","v":0},{"$f":"'Bespoke Area Data'!DP68","v":0},{"$f":"'Bespoke Area Data'!DQ68","v":0},{"$f":"'Bespoke Area Data'!DR68","v":0},{"$f":"'Bespoke Area Data'!DS68","v":0},{"$f":"'Bespoke Area Data'!DT68","v":0},{"$f":"'Bespoke Area Data'!DU68","v":0},{"$f":"'Bespoke Area Data'!DV68","v":0},{"$f":"'Bespoke Area Data'!DW68","v":0},{"$f":"'Bespoke Area Data'!DX68","v":0},{"$f":"'Bespoke Area Data'!DY68","v":0},{"$f":"'Bespoke Area Data'!DZ68","v":0},{"$f":"'Bespoke Area Data'!EA68","v":0},{"$f":"'Bespoke Area Data'!EB68","v":0},{"$f":"'Bespoke Area Data'!EC68","v":0},{"$f":"'Bespoke Area Data'!ED68","v":0},{"$f":"'Bespoke Area Data'!EE68","v":0},{"$f":"'Bespoke Area Data'!EF68","v":0},{"$f":"'Bespoke Area Data'!EG68","v":0},{"$f":"'Bespoke Area Data'!EH68","v":0},{"$f":"'Bespoke Area Data'!EI68","v":0},{"$f":"'Bespoke Area Data'!EJ68","v":0},{"$f":"'Bespoke Area Data'!EK68","v":0},{"$f":"'Bespoke Area Data'!EL68","v":0},{"$f":"'Bespoke Area Data'!EM68","v":0},{"$f":"'Bespoke Area Data'!EN68","v":0},{"$f":"'Bespoke Area Data'!EO68","v":0},{"$f":"'Bespoke Area Data'!EP68","v":0},{"$f":"'Bespoke Area Data'!EQ68","v":0},{"$f":"'Bespoke Area Data'!ER68","v":0},{"$f":"'Bespoke Area Data'!ES68","v":0},{"$f":"'Bespoke Area Data'!ET68","v":0},{"$f":"'Bespoke Area Data'!EU68","v":0},{"$f":"'Bespoke Area Data'!EV68","v":0},{"$f":"'Bespoke Area Data'!EW68","v":0},{"$f":"'Bespoke Area Data'!EX68","v":0},{"$f":"'Bespoke Area Data'!EY68","v":0},{"$f":"'Bespoke Area Data'!EZ68","v":0},{"$f":"'Bespoke Area Data'!FA68","v":0},{"$f":"'Bespoke Area Data'!FB68","v":0},{"$f":"'Bespoke Area Data'!FC68","v":0},{"$f":"'Bespoke Area Data'!FD68","v":0},{"$f":"'Bespoke Area Data'!D69","v":0},{"$f":"'Bespoke Area Data'!E69","v":0},{"$f":"'Bespoke Area Data'!F69","v":0},{"$f":"'Bespoke Area Data'!G69","v":0},{"$f":"'Bespoke Area Data'!H69","v":0},{"$f":"'Bespoke Area Data'!I69","v":0},{"$f":"'Bespoke Area Data'!J69","v":0},{"$f":"'Bespoke Area Data'!K69","v":0},{"$f":"'Bespoke Area Data'!L69","v":0},{"$f":"'Bespoke Area Data'!M69","v":0},{"$f":"'Bespoke Area Data'!N69","v":0},{"$f":"'Bespoke Area Data'!O69","v":0},{"$f":"'Bespoke Area Data'!P69","v":0},{"$f":"'Bespoke Area Data'!Q69","v":0},{"$f":"'Bespoke Area Data'!R69","v":0},{"$f":"'Bespoke Area Data'!S69","v":0},{"$f":"'Bespoke Area Data'!T69","v":0},{"$f":"'Bespoke Area Data'!U69","v":0},{"$f":"'Bespoke Area Data'!V69","v":0},{"$f":"'Bespoke Area Data'!W69","v":0},{"$f":"'Bespoke Area Data'!X69","v":0},{"$f":"'Bespoke Area Data'!Y69","v":0},{"$f":"'Bespoke Area Data'!Z69","v":0},{"$f":"'Bespoke Area Data'!AA69","v":0},{"$f":"'Bespoke Area Data'!AB69","v":0},{"$f":"'Bespoke Area Data'!AC69","v":0},{"$f":"'Bespoke Area Data'!AD69","v":0},{"$f":"'Bespoke Area Data'!AE69","v":0},{"$f":"'Bespoke Area Data'!AF69","v":0},{"$f":"'Bespoke Area Data'!AG69","v":0},{"$f":"'Bespoke Area Data'!AH69","v":0},{"$f":"'Bespoke Area Data'!AI69","v":0},{"$f":"'Bespoke Area Data'!AJ69","v":0},{"$f":"'Bespoke Area Data'!AK69","v":0},{"$f":"'Bespoke Area Data'!AL69","v":0},{"$f":"'Bespoke Area Data'!AM69","v":0},{"$f":"'Bespoke Area Data'!AN69","v":0},{"$f":"'Bespoke Area Data'!AO69","v":0},{"$f":"'Bespoke Area Data'!AP69","v":0},{"$f":"'Bespoke Area Data'!AQ69","v":0},{"$f":"'Bespoke Area Data'!AR69","v":0},{"$f":"'Bespoke Area Data'!AS69","v":0},{"$f":"'Bespoke Area Data'!AT69","v":0},{"$f":"'Bespoke Area Data'!AU69","v":0},{"$f":"'Bespoke Area Data'!AV69","v":0},{"$f":"'Bespoke Area Data'!AW69","v":0},{"$f":"'Bespoke Area Data'!AX69","v":0},{"$f":"'Bespoke Area Data'!AY69","v":0},{"$f":"'Bespoke Area Data'!AZ69","v":0},{"$f":"'Bespoke Area Data'!BA69","v":0},{"$f":"'Bespoke Area Data'!BB69","v":0},{"$f":"'Bespoke Area Data'!BC69","v":0},{"$f":"'Bespoke Area Data'!BD69","v":0},{"$f":"'Bespoke Area Data'!BE69","v":0},{"$f":"'Bespoke Area Data'!BF69","v":0},{"$f":"'Bespoke Area Data'!BG69","v":0},{"$f":"'Bespoke Area Data'!BH69","v":0},{"$f":"'Bespoke Area Data'!BI69","v":0},{"$f":"'Bespoke Area Data'!BJ69","v":0},{"$f":"'Bespoke Area Data'!BK69","v":0},{"$f":"'Bespoke Area Data'!BL69","v":0},{"$f":"'Bespoke Area Data'!BM69","v":0},{"$f":"'Bespoke Area Data'!BN69","v":0},{"$f":"'Bespoke Area Data'!BO69","v":0},{"$f":"'Bespoke Area Data'!BP69","v":0}]
["Bespoke","N/A",{"$f":"IF('Bespoke Area Name'!C21=\"\",\"No bespoke area name entered; Go to sheet \"\"Bespoke Area Name\"\"\",'Bespoke Area Name'!C21)","v":"No bespoke area name entered; Go to sheet \"Bespoke Area Name\""},"AREA0018",{"$f":"'Bespoke Area Data'!D72","v":0},{"$f":"'Bespoke Area Data'!E72","v":0},{"$f":"'Bespoke Area Data'!F72","v":0},{"$f":"'Bespoke Area Data'!G72","v":0},{"$f":"'Bespoke Area Data'!H72","v":0},{"$f":"'Bespoke Area Data'!I72","v":0},{"$f":"'Bespoke Area Data'!J72","v":0},{"$f":"'Bespoke Area Data'!K72","v":0},{"$f":"'Bespoke Area Data'!L72","v":0},{"$f":"'Bespoke Area Data'!M72","v":0},{"$f":"'Bespoke Area Data'!N72","v":0},{"$f":"'Bespoke Area Data'!O72","v":0},{"$f":"'Bespoke Area Data'!P72","v":0},{"$f":"'Bespoke Area Data'!Q72","v":0},{"$f":"'Bespoke Area Data'!R72","v":0},{"$f":"'Bespoke Area Data'!S72","v":0},{"$f":"'Bespoke Area Data'!T72","v":0},{"$f":"'Bespoke Area Data'!U72","v":0},{"$f":"'Bespoke Area Data'!V72","v":0},{"$f":"'Bespoke Area Data'!W72","v":0},{"$f":"'Bespoke Area Data'!X72","v":0},{"$f":"'Bespoke Area Data'!Y72","v":0},{"$f":"'Bespoke Area Data'!Z72","v":0},{"$f":"'Bespoke Area Data'!AA72","v":0},{"$f":"'Bespoke Area Data'!AB72","v":0},{"$f":"'Bespoke Area Data'!AC72","v":0},{"$f":"'Bespoke Area Data'!AD72","v":0},{"$f":"'Bespoke Area Data'!AE72","v":0},{"$f":"'Bespoke Area Data'!AF72","v":0},{"$f":"'Bespoke Area Data'!AG72","v":0},{"$f":"'Bespoke Area Data'!AH72","v":0},{"$f":"'Bespoke Area Data'!AI72","v":0},{"$f":"'Bespoke Area Data'!AJ72","v":0},{"$f":"'Bespoke Area Data'!AK72","v":0},{"$f":"'Bespoke Area Data'!AL72","v":0},{"$f":"'Bespoke Area Data'!AM72","v":0},{"$f":"'Bespoke Area Data'!AN72","v":0},{"$f":"'Bespoke Area Data'!AO72","v":0},{"$f":"'Bespoke Area Data'!AP72","v":0},{"$f":"'Bespoke Area Data'!AQ72","v":0},{"$f":"'Bespoke Area Data'!AR72","v":0},{"$f":"'Bespoke Area Data'!AS72","v":0},{"$f":"'Bespoke Area Data'!AT72","v":0},{"$f":"'Bespoke Area Data'!AU72","v":0},{"$f":"'Bespoke Area Data'!AV72","v":0},{"$f":"'Bespoke Area Data'!AW72","v":0},{"$f":"'Bespoke Area Data'!AX72","v":0},{"$f":"'Bespoke Area Data'!AY72","v":0},{"$f":"'Bespoke Area Data'!AZ72","v":0},{"$f":"'Bespoke Area Data'!BA72","v":0},{"$f":"'Bespoke Area Data'!BB72","v":0},{"$f":"'Bespoke Area Data'!BC72","v":0},{"$f":"'Bespoke Area Data'!BD72","v":0},{"$f":"'Bespoke Area Data'!BE72","v":0},{"$f":"'Bespoke Area Data'!BF72","v":0},{"$f":"'Bespoke Area Data'!BG72","v":0},{"$f":"'Bespoke Area Data'!BH72","v":0},{"$f":"'Bespoke Area Data'!BI72","v":0},{"$f":"'Bespoke Area Data'!BJ72","v":0},{"$f":"'Bespoke Area Data'!BK72","v":0},{"$f":"'Bespoke Area Data'!BL72","v":0},{"$f":"'Bespoke Area Data'!BM72","v":0},{"$f":"'Bespoke Area Data'!BN72","v":0},{"$f":"'Bespoke Area Data'!BO72","v":0},{"$f":"'Bespoke Area Data'!BP72","v":0},{"$f":"'Bespoke Area Data'!BQ72","v":0},{"$f":"'Bespoke Area Data'!BR72","v":0},{"$f":"'Bespoke Area Data'!BS72","v":0},{"$f":"'Bespoke Area Data'!BT72","v":0},{"$f":"'Bespoke Area Data'!BU72","v":0},{"$f":"'Bespoke Area Data'!BV72","v":0},{"$f":"'Bespoke Area Data'!BW72","v":0},{"$f":"'Bespoke Area Data'!BX72","v":0},{"$f":"'Bespoke Area Data'!BY72","v":0},{"$f":"'Bespoke Area Data'!BZ72","v":0},{"$f":"'Bespoke Area Data'!CA72","v":0},{"$f":"'Bespoke Area Data'!CB72","v":0},{"$f":"'Bespoke Area Data'!CC72","v":0},{"$f":"'Bespoke Area Data'!CD72","v":0},{"$f":"'Bespoke Area Data'!CE72","v":0},{"$f":"'Bespoke Area Data'!CF72","v":0},{"$f":"'Bespoke Area Data'!CG72","v":0},{"$f":"'Bespoke Area Data'!CH72","v":0},{"$f":"'Bespoke Area Data'!CI72","v":0},{"$f":"'Bespoke Area Data'!CJ72","v":0},{"$f":"'Bespoke Area Data'!CK72","v":0},{"$f":"'Bespoke Area Data'!CL72","v":0},{"$f":"'Bespoke Area Data'!CM72","v":0},{"$f":"'Bespoke Area Data'!CN72","v":0},{"$f":"'Bespoke Area Data'!CO72","v":0},{"$f":"'Bespoke Area Data'!CP72","v":0},{"$f":"'Bespoke Area Data'!CQ72","v":0},{"$f":"'Bespoke Area Data'!CR72","v":0},{"$f":"'Bespoke Area Data'!CS72","v":0},{"$f":"'Bespoke Area Data'!CT72","v":0},{"$f":"'Bespoke Area Data'!CU72","v":0},{"$f":"'Bespoke Area Data'!CV72","v":0},{"$f":"'Bespoke Area Data'!CW72","v":0},{"$f":"'Bespoke Area Data'!CX72","v":0},{"$f":"'Bespoke Area Data'!CY72","v":0},{"$f":"'Bespoke Area Data'!CZ72","v":0},{"$f":"'Bespoke Area Data'!DA72","v":0},{"$f":"'Bespoke Area Data'!DB72","v":0},{"$f":"'Bespoke Area Data'!DC72","v":0},{"$f":"'Bespoke Area Data'!DD72","v":0},{"$f":"'Bespoke Area Data'!DE72","v":0},{"$f":"'Bespoke Area Data'!DF72","v":0},{"$f":"'Bespoke Area Data'!DG72","v":0},{"$f":"'Bespoke Area Data'!DH72","v":0},{"$f":"'Bespoke Area Data'!DI72","v":0},{"$f":"'Bespoke Area Data'!DJ72","v":0},{"$f":"'Bespoke Area Data'!DK72","v":0},{"$f":"'Bespoke Area Data'!DL72","v":0},{"$f":"'Bespoke Area Data'!DM72","v":0},{"$f":"'Bespoke Area Data'!DN72","v":0},{"$f":"'Bespoke Area Data'!DO72","v":0},{"$f":"'Bespoke Area Data'!DP72","v":0},{"$f":"'Bespoke Area Data'!DQ72","v":0},{"$f":"'Bespoke Area Data'!DR72","v":0},{"$f":"'Bespoke Area Data'!DS72","v":0},{"$f":"'Bespoke Area Data'!DT72","v":0},{"$f":"'Bespoke Area Data'!DU72","v":0},{"$f":"'Bespoke Area Data'!DV72","v":0},{"$f":"'Bespoke Area Data'!DW72","v":0},{"$f":"'Bespoke Area Data'!DX72","v":0},{"$f":"'Bespoke Area Data'!DY72","v":0},{"$f":"'Bespoke Area Data'!DZ72","v":0},{"$f":"'Bespoke Area Data'!EA72","v":0},{"$f":"'Bespoke Area Data'!EB72","v":0},{"$f":"'Bespoke Area Data'!EC72","v":0},{"$f":"'Bespoke Area Data'!ED72","v":0},{"$f":"'Bespoke Area Data'!EE72","v":0},{"$f":"'Bespoke Area Data'!EF72","v":0},{"$f":"'Bespoke Area Data'!EG72","v":0},{"$f":"'Bespoke Area Data'!EH72","v":0},{"$f":"'Bespoke Area Data'!EI72","v":0},{"$f":"'Bespoke Area Data'!EJ72","v":0},{"$f":"'Bespoke Area Data'!EK72","v":0},{"$f":"'Bespoke Area Data'!EL72","v":0},{"$f":"'Bespoke Area Data'!EM72","v":0},{"$f":"'Bespoke Area Data'!EN72","v":0},{"$f":"'Bespoke Area Data'!EO72","v":0},{"$f":"'Bespoke Area Data'!EP72","v":0},{"$f":"'Bespoke Area Data'!EQ72","v":0},{"$f":"'Bespoke Area Data'!ER72","v":0},{"$f":"'Bespoke Area Data'!ES72","v":0},{"$f":"'Bespoke Area Data'!ET72","v":0},{"$f":"'Bespoke Area Data'!EU72","v":0},{"$f":"'Bespoke Area Data'!EV72","v":0},{"$f":"'Bespoke Area Data'!EW72","v":0},{"$f":"'Bespoke Area Data'!EX72","v":0},{"$f":"'Bespoke Area Data'!EY72","v":0},{"$f":"'Bespoke Area Data'!EZ72","v":0},{"$f":"'Bespoke Area Data'!FA72","v":0},{"$f":"'Bespoke Area Data'!FB72","v":0},{"$f":"'Bespoke Area Data'!FC72","v":0},{"$f":"'Bespoke Area Data'!FD72","v":0},{"$f":"'Bespoke Area Data'!D73","v":0},{"$f":"'Bespoke Area Data'!E73","v":0},{"$f":"'Bespoke Area Data'!F73","v":0},{"$f":"'Bespoke Area Data'!G73","v":0},{"$f":"'Bespoke Area Data'!H73","v":0},{"$f":"'Bespoke Area Data'!I73","v":0},{"$f":"'Bespoke Area Data'!J73","v":0},{"$f":"'Bespoke Area Data'!K73","v":0},{"$f":"'Bespoke Area Data'!L73","v":0},{"$f":"'Bespoke Area Data'!M73","v":0},{"$f":"'Bespoke Area Data'!N73","v":0},{"$f":"'Bespoke Area Data'!O73","v":0},{"$f":"'Bespoke Area Data'!P73","v":0},{"$f":"'Bespoke Area Data'!Q73","v":0},{"$f":"'Bespoke Area Data'!R73","v":0},{"$f":"'Bespoke Area Data'!S73","v":0},{"$f":"'Bespoke Area Data'!T73","v":0},{"$f":"'Bespoke Area Data'!U73","v":0},{"$f":"'Bespoke Area Data'!V73","v":0},{"$f":"'Bespoke Area Data'!W73","v":0},{"$f":"'Bespoke Area Data'!X73","v":0},{"$f":"'Bespoke Area Data'!Y73","v":0},{"$f":"'Bespoke Area Data'!Z73","v":0},{"$f":"'Bespoke Area Data'!AA73","v":0},{"$f":"'Bespoke Area Data'!AB73","v":0},{"$f":"'Bespoke Area Data'!AC73","v":0},{"$f":"'Bespoke Area Data'!AD73","v":0},{"$f":"'Bespoke Area Data'!AE73","v":0},{"$f":"'Bespoke Area Data'!AF73","v":0},{"$f":"'Bespoke Area Data'!AG73","v":0},{"$f":"'Bespoke Area Data'!AH73","v":0},{"$f":"'Bespoke Area Data'!AI73","v":0},{"$f":"'Bespoke Area Data'!AJ73","v":0},{"$f":"'Bespoke Area Data'!AK73","v":0},{"$f":"'Bespoke Area Data'!AL73","v":0},{"$f":"'Bespoke Area Data'!AM73","v":0},{"$f":"'Bespoke Area Data'!AN73","v":0},{"$f":"'Bespoke Area Data'!AO73","v":0},{"$f":"'Bespoke Area Data'!AP73","v":0},{"$f":"'Bespoke Area Data'!AQ73","v":0},{"$f":"'Bespoke Area Data'!AR73","v":0},{"$f":"'Bespoke Area Data'!AS73","v":0},{"$f":"'Bespoke Area Data'!AT73","v":0},{"$f":"'Bespoke Area Data'!AU73","v":0},{"$f":"'Bespoke Area Data'!AV73","v":0},{"$f":"'Bespoke Area Data'!AW73","v":0},{"$f":"'Bespoke Area Data'!AX73","v":0},{"$f":"'Bespoke Area Data'!AY73","v":0},{"$f":"'Bespoke Area Data'!AZ73","v":0},{"$f":"'Bespoke Area Data'!BA73","v":0},{"$f":"'Bespoke Area Data'!BB73","v":0},{"$f":"'Bespoke Area Data'!BC73","v":0},{"$f":"'Bespoke Area Data'!BD73","v":0},{"$f":"'Bespoke Area Data'!BE73","v":0},{"$f":"'Bespoke Area Data'!BF73","v":0},{"$f":"'Bespoke Area Data'!BG73","v":0},{"$f":"'Bespoke Area Data'!BH73","v":0},{"$f":"'Bespoke Area Data'!BI73","v":0},{"$f":"'Bespoke Area Data'!BJ73","v":0},{"$f":"'Bespoke Area Data'!BK73","v":0},{"$f":"'Bespoke Area Data'!BL73","v":0},{"$f":"'Bespoke Area Data'!BM73","v":0},{"$f":"'Bespoke Area Data'!BN73","v":0},{"$f":"'Bespoke Area Data'!BO73","v":0},{"$f":"'Bespoke Area Data'!BP73","v":0}]
["Bespoke","N/A",{"$f":"IF('Bespoke Area Name'!C22=\"\",\"No bespoke area name entered; Go to sheet \"\"Bespoke Area Name\"\"\",'Bespoke Area Name'!C22)","v":"No bespoke area name entered; Go to sheet \"Bespoke Area Name\""},"AREA0019",{"$f":"'Bespoke Area Data'!D76","v":0},{"$f":"'Bespoke Area Data'!E76","v":0},{"$f":"'Bespoke Area Data'!F76","v":0},{"$f":"'Bespoke Area Data'!G76","v":0},{"$f":"'Bespoke Area Data'!H76","v":0},{"$f":"'Bespoke Area Data'!I76","v":0},{"$f":"'Bespoke Area Data'!J76","v":0},{"$f":"'Bespoke Area Data'!K76","v":0},{"$f":"'Bespoke Area Data'!L76","v":0},{"$f":"'Bespoke Area Data'!M76","v":0},{"$f":"'Bespoke Area Data'!N76","v":0},{"$f":"'Bespoke Area Data'!O76","v":0},{"$f":"'Bespoke Area Data'!P76","v":0},{"$f":"'Bespoke Area Data'!Q76","v":0},{"$f":"'Bespoke Area Data'!R76","v":0},{"$f":"'Bespoke Area Data'!S76","v":0},{"$f":"'Bespoke Area Data'!T76","v":0},{"$f":"'Bespoke Area Data'!U76","v":0},{"$f":"'Bespoke Area Data'!V76","v":0},{"$f":"'Bespoke Area Data'!W76","v":0},{"$f":"'Bespoke Area Data'!X76","v":0},{"$f":"'Bespoke Area Data'!Y76","v":0},{"$f":"'Bespoke Area Data'!Z76","v":0},{"$f":"'Bespoke Area Data'!AA76","v":0},{"$f":"'Bespoke Area Data'!AB76","v":0},{"$f":"'Bespoke Area Data'!AC76","v":0},{"$f":"'Bespoke Area Data'!AD76","v":0},{"$f":"'Bespoke Area Data'!AE76","v":0},{"$f":"'Bespoke Area Data'!AF76","v":0},{"$f":"'Bespoke Area Data'!AG76","v":0},{"$f":"'Bespoke Area Data'!AH76","v":0},{"$f":"'Bespoke Area Data'!AI76","v":0},{"$f":"'Bespoke Area Data'!AJ76","v":0},{"$f":"'Bespoke Area Data'!AK76","v":0},{"$f":"'Bespoke Area Data'!AL76","v":0},{"$f":"'Bespoke Area Data'!AM76","v":0},{"$f":"'Bespoke Area Data'!AN76","v":0},{"$f":"'Bespoke Area Data'!AO76","v":0},{"$f":"'Bespoke Area Data'!AP76","v":0},{"$f":"'Bespoke Area Data'!AQ76","v":0},{"$f":"'Bespoke Area Data'!AR76","v":0},{"$f":"'Bespoke Area Data'!AS76","v":0},{"$f":"'Bespoke Area Data'!AT76","v":0},{"$f":"'Bespoke Area Data'!AU76","v":0},{"$f":"'Bespoke Area Data'!AV76","v":0},{"$f":"'Bespoke Area Data'!AW76","v":0},{"$f":"'Bespoke Area Data'!AX76","v":0},{"$f":"'Bespoke Area Data'!AY76","v":0},{"$f":"'Bespoke Area Data'!AZ76","v":0},{"$f":"'Bespoke Area Data'!BA76","v":0},{"$f":"'Bespoke Area Data'!BB76","v":0},{"$f":"'Bespoke Area Data'!BC76","v":0},{"$f":"'Bespoke Area Data'!BD76","v":0},{"$f":"'Bespoke Area Data'!BE76","v":0},{"$f":"'Bespoke Area Data'!BF76","v":0},{"$f":"'Bespoke Area Data'!BG76","v":0},{"$f":"'Bespoke Area Data'!BH76","v":0},{"$f":"'Bespoke Area Data'!BI76","v":0},{"$f":"'Bespoke Area Data'!BJ76","v":0},{"$f":"'Bespoke Area Data'!BK76","v":0},{"$f":"'Bespoke Area Data'!BL76","v":0},{"$f":"'Bespoke Area Data'!BM76","v":0},{"$f":"'Bespoke Area Data'!BN76","v":0},{"$f":"'Bespoke Area Data'!BO76","v":0},{"$f":"'Bespoke Area Data'!BP76","v":0},{"$f":"'Bespoke Area Data'!BQ76","v":0},{"$f":"'Bespoke Area Data'!BR76","v":0},{"$f":"'Bespoke Area Data'!BS76","v":0},{"$f":"'Bespoke Area Data'!BT76","v":0},{"$f":"'Bespoke Area Data'!BU76","v":0},{"$f":"'Bespoke Area Data'!BV76","v":0},{"$f":"'Bespoke Area Data'!BW76","v":0},{"$f":"'Bespoke Area Data'!BX76","v":0},{"$f":"'Bespoke Area Data'!BY76","v":0},{"$f":"'Bespoke Area Data'!BZ76","v":0},{"$f":"'Bespoke Area Data'!CA76","v":0},{"$f":"'Bespoke Area Data'!CB76","v":0},{"$f":"'Bespoke Area Data'!CC76","v":0},{"$f":"'Bespoke Area Data'!CD76","v":0},{"$f":"'Bespoke Area Data'!CE76","v":0},{"$f":"'Bespoke Area Data'!CF76","v":0},{"$f":"'Bespoke Area Data'!CG76","v":0},{"$f":"'Bespoke Area Data'!CH76","v":0},{"$f":"'Bespoke Area Data'!CI76","v":0},{"$f":"'Bespoke Area Data'!CJ76","v":0},{"$f":"'Bespoke Area Data'!CK76","v":0},{"$f":"'Bespoke Area Data'!CL76","v":0},{"$f":"'Bespoke Area Data'!CM76","v":0},{"$f":"'Bespoke Area Data'!CN76","v":0},{"$f":"'Bespoke Area Data'!CO76","v":0},{"$f":"'Bespoke Area Data'!CP76","v":0},{"$f":"'Bespoke Area Data'!CQ76","v":0},{"$f":"'Bespoke Area Data'!CR76","v":0},{"$f":"'Bespoke Area Data'!CS76","v":0},{"$f":"'Bespoke Area Data'!CT76","v":0},{"$f":"'Bespoke Area Data'!CU76","v":0},{"$f":"'Bespoke Area Data'!CV76","v":0},{"$f":"'Bespoke Area Data'!CW76","v":0},{"$f":"'Bespoke Area Data'!CX76","v":0},{"$f":"'Bespoke Area Data'!CY76","v":0},{"$f":"'Bespoke Area Data'!CZ76","v":0},{"$f":"'Bespoke Area Data'!DA76","v":0},{"$f":"'Bespoke Area Data'!DB76","v":0},{"$f":"'Bespoke Area Data'!DC76","v":0},{"$f":"'Bespoke Area Data'!DD76","v":0},{"$f":"'Bespoke Area Data'!DE76","v":0},{"$f":"'Bespoke Area Data'!DF76","v":0},{"$f":"'Bespoke Area Data'!DG76","v":0},{"$f":"'Bespoke Area Data'!DH76","v":0},{"$f":"'Bespoke Area Data'!DI76","v":0},{"$f":"'Bespoke Area Data'!DJ76","v":0},{"$f":"'Bespoke Area Data'!DK76","v":0},{"$f":"'Bespoke Area Data'!DL76","v":0},{"$f":"'Bespoke Area Data'!DM76","v":0},{"$f":"'Bespoke Area Data'!DN76","v":0},{"$f":"'Bespoke Area Data'!DO76","v":0},{"$f":"'Bespoke Area Data'!DP76","v":0},{"$f":"'Bespoke Area Data'!DQ76","v":0},{"$f":"'Bespoke Area Data'!DR76","v":0},{"$f":"'Bespoke Area Data'!DS76","v":0},{"$f":"'Bespoke Area Data'!DT76","v":0},{"$f":"'Bespoke Area Data'!DU76","v":0},{"$f":"'Bespoke Area Data'!DV76","v":0},{"$f":"'Bespoke Area Data'!DW76","v":0},{"$f":"'Bespoke Area Data'!DX76","v":0},{"$f":"'Bespoke Area Data'!DY76","v":0},{"$f":"'Bespoke Area Data'!DZ76","v":0},{"$f":"'Bespoke Area Data'!EA76","v":0},{"$f":"'Bespoke Area Data'!EB76","v":0},{"$f":"'Bespoke Area Data'!EC76","v":0},{"$f":"'Bespoke Area Data'!ED76","v":0},{"$f":"'Bespoke Area Data'!EE76","v":0},{"$f":"'Bespoke Area Data'!EF76","v":0},{"$f":"'Bespoke Area Data'!EG76","v":0},{"$f":"'Bespoke Area Data'!EH76","v":0},{"$f":"'Bespoke Area Data'!EI76","v":0},{"$f":"'Bespoke Area Data'!EJ76","v":0},{"$f":"'Bespoke Area Data'!EK76","v":0},{"$f":"'Bespoke Area Data'!EL76","v":0},{"$f":"'Bespoke Area Data'!EM76","v":0},{"$f":"'Bespoke Area Data'!EN76","v":0},{"$f":"'Bespoke Area Data'!EO76","v":0},{"$f":"'Bespoke Area Data'!EP76","v":0},{"$f":"'Bespoke Area Data'!EQ76","v":0},{"$f":"'Bespoke Area Data'!ER76","v":0},{"$f":"'Bespoke Area Data'!ES76","v":0},{"$f":"'Bespoke Area Data'!ET76","v":0},{"$f":"'Bespoke Area Data'!EU76","v":0},{"$f":"'Bespoke Area Data'!EV76","v":0},{"$f":"'Bespoke Area Data'!EW76","v":0},{"$f":"'Bespoke Area Data'!EX76","v":0},{"$f":"'Bespoke Area Data'!EY76","v":0},{"$f":"'Bespoke Area Data'!EZ76","v":0},{"$f":"'Bespoke Area Data'!FA76","v":0},{"$f":"'Bespoke Area Data'!FB76","v":0},{"$f":"'Bespoke Area Data'!FC76","v":0},{"$f":"'Bespoke Area Data'!FD76","v":0},{"$f":"'Bespoke Area Data'!D77","v":0},{"$f":"'Bespoke Area Data'!E77","v":0},{"$f":"'Bespoke Area Data'!F77","v":0},{"$f":"'Bespoke Area Data'!G77","v":0},{"$f":"'Bespoke Area Data'!H77","v":0},{"$f":"'Bespoke Area Data'!I77","v":0},{"$f":"'Bespoke Area Data'!J77","v":0},{"$f":"'Bespoke Area Data'!K77","v":0},{"$f":"'Bespoke Area Data'!L77","v":0},{"$f":"'Bespoke Area Data'!M77","v":0},{"$f":"'Bespoke Area Data'!N77","v":0},{"$f":"'Bespoke Area Data'!O77","v":0},{"$f":"'Bespoke Area Data'!P77","v":0},{"$f":"'Bespoke Area Data'!Q77","v":0},{"$f":"'Bespoke Area Data'!R77","v":0},{"$f":"'Bespoke Area Data'!S77","v":0},{"$f":"'Bespoke Area Data'!T77","v":0},{"$f":"'Bespoke Area Data'!U77","v":0},{"$f":"'Bespoke Area Data'!V77","v":0},{"$f":"'Bespoke Area Data'!W77","v":0},{"$f":"'Bespoke Area Data'!X77","v":0},{"$f":"'Bespoke Area Data'!Y77","v":0},{"$f":"'Bespoke Area Data'!Z77","v":0},{"$f":"'Bespoke Area Data'!AA77","v":0},{"$f":"'Bespoke Area Data'!AB77","v":0},{"$f":"'Bespoke Area Data'!AC77","v":0},{"$f":"'Bespoke Area Data'!AD77","v":0},{"$f":"'Bespoke Area Data'!AE77","v":0},{"$f":"'Bespoke Area Data'!AF77","v":0},{"$f":"'Bespoke Area Data'!AG77","v":0},{"$f":"'Bespoke Area Data'!AH77","v":0},{"$f":"'Bespoke Area Data'!AI77","v":0},{"$f":"'Bespoke Area Data'!AJ77","v":0},{"$f":"'Bespoke Area Data'!AK77","v":0},{"$f":"'Bespoke Area Data'!AL77","v":0},{"$f":"'Bespoke Area Data'!AM77","v":0},{"$f":"'Bespoke Area Data'!AN77","v":0},{"$f":"'Bespoke Area Data'!AO77","v":0},{"$f":"'Bespoke Area Data'!AP77","v":0},{"$f":"'Bespoke Area Data'!AQ77","v":0},{"$f":"'Bespoke Area Data'!AR77","v":0},{"$f":"'Bespoke Area Data'!AS77","v":0},{"$f":"'Bespoke Area Data'!AT77","v":0},{"$f":"'Bespoke Area Data'!AU77","v":0},{"$f":"'Bespoke Area Data'!AV77","v":0},{"$f":"'Bespoke Area Data'!AW77","v":0},{"$f":"'Bespoke Area Data'!AX77","v":0},{"$f":"'Bespoke Area Data'!AY77","v":0},{"$f":"'Bespoke Area Data'!AZ77","v":0},{"$f":"'Bespoke Area Data'!BA77","v":0},{"$f":"'Bespoke Area Data'!BB77","v":0},{"$f":"'Bespoke Area Data'!BC77","v":0},{"$f":"'Bespoke Area Data'!BD77","v":0},{"$f":"'Bespoke Area Data'!BE77","v":0},{"$f":"'Bespoke Area Data'!BF77","v":0},{"$f":"'Bespoke Area Data'!BG77","v":0},{"$f":"'Bespoke Area Data'!BH77","v":0},{"$f":"'Bespoke Area Data'!BI77","v":0},{"$f":"'Bespoke Area Data'!BJ77","v":0},{"$f":"'Bespoke Area Data'!BK77","v":0},{"$f":"'Bespoke Area Data'!BL77","v":0},{"$f":"'Bespoke Area Data'!BM77","v":0},{"$f":"'Bespoke Area Data'!BN77","v":0},{"$f":"'Bespoke Area Data'!BO77","v":0},{"$f":"'Bespoke Area Data'!BP77","v":0}]
["Bespoke","N/A",{"$f":"IF('Bespoke Area Name'!C23=\"\",\"No bespoke area name entered; Go to sheet \"\"Bespoke Area Name\"\"\",'Bespoke Area Name'!C23)","v":"No bespoke area name entered; Go to sheet \"Bespoke Area Name\""},"AREA0020",{"$f":"'Bespoke Area Data'!D80","v":0},{"$f":"'Bespoke Area Data'!E80","v":0},{"$f":"'Bespoke Area Data'!F80","v":0},{"$f":"'Bespoke Area Data'!G80","v":0},{"$f":"'Bespoke Area Data'!H80","v":0},{"$f":"'Bespoke Area Data'!I80","v":0},{"$f":"'Bespoke Area Data'!J80","v":0},{"$f":"'Bespoke Area Data'!K80","v":0},{"$f":"'Bespoke Area Data'!L80","v":0},{"$f":"'Bespoke Area Data'!M80","v":0},{"$f":"'Bespoke Area Data'!N80","v":0},{"$f":"'Bespoke Area Data'!O80","v":0},{"$f":"'Bespoke Area Data'!P80","v":0},{"$f":"'Bespoke Area Data'!Q80","v":0},{"$f":"'Bespoke Area Data'!R80","v":0},{"$f":"'Bespoke Area Data'!S80","v":0},{"$f":"'Bespoke Area Data'!T80","v":0},{"$f":"'Bespoke Area Data'!U80","v":0},{"$f":"'Bespoke Area Data'!V80","v":0},{"$f":"'Bespoke Area Data'!W80","v":0},{"$f":"'Bespoke Area Data'!X80","v":0},{"$f":"'Bespoke Area Data'!Y80","v":0},{"$f":"'Bespoke Area Data'!Z80","v":0},{"$f":"'Bespoke Area Data'!AA80","v":0},{"$f":"'Bespoke Area Data'!AB80","v":0},{"$f":"'Bespoke Area Data'!AC80","v":0},{"$f":"'Bespoke Area Data'!AD80","v":0},{"$f":"'Bespoke Area Data'!AE80","v":0},{"$f":"'Bespoke Area Data'!AF80","v":0},{"$f":"'Bespoke Area Data'!AG80","v":0},{"$f":"'Bespoke Area Data'!AH80","v":0},{"$f":"'Bespoke Area Data'!AI80","v":0},{"$f":"'Bespoke Area Data'!AJ80","v":0},{"$f":"'Bespoke Area Data'!AK80","v":0},{"$f":"'Bespoke Area Data'!AL80","v":0},{"$f":"'Bespoke Area Data'!AM80","v":0},{"$f":"'Bespoke Area Data'!AN80","v":0},{"$f":"'Bespoke Area Data'!AO80","v":0},{"$f":"'Bespoke Area Data'!AP80","v":0},{"$f":"'Bespoke Area Data'!AQ80","v":0},{"$f":"'Bespoke Area Data'!AR80","v":0},{"$f":"'Bespoke Area Data'!AS80","v":0},{"$f":"'Bespoke Area Data'!AT80","v":0},{"$f":"'Bespoke Area Data'!AU80","v":0},{"$f":"'Bespoke Area Data'!AV80","v":0},{"$f":"'Bespoke Area Data'!AW80","v":0},{"$f":"'Bespoke Area Data'!AX80","v":0},{"$f":"'Bespoke Area Data'!AY80","v":0},{"$f":"'Bespoke Area Data'!AZ80","v":0},{"$f":"'Bespoke Area Data'!BA80","v":0},{"$f":"'Bespoke Area Data'!BB80","v":0},{"$f":"'Bespoke Area Data'!BC80","v":0},{"$f":"'Bespoke Area Data'!BD80","v":0},{"$f":"'Bespoke Area Data'!BE80","v":0},{"$f":"'Bespoke Area Data'!BF80","v":0},{"$f":"'Bespoke Area Data'!BG80","v":0},{"$f":"'Bespoke Area Data'!BH80","v":0},{"$f":"'Bespoke Area Data'!BI80","v":0},{"$f":"'Bespoke Area Data'!BJ80","v":0},{"$f":"'Bespoke Area Data'!BK80","v":0},{"$f":"'Bespoke Area Data'!BL80","v":0},{"$f":"'Bespoke Area Data'!BM80","v":0},{"$f":"'Bespoke Area Data'!BN80","v":0},{"$f":"'Bespoke Area Data'!BO80","v":0},{"$f":"'Bespoke Area Data'!BP80","v":0},{"$f":"'Bespoke Area Data'!BQ80","v":0},{"$f":"'Bespoke Area Data'!BR80","v":0},{"$f":"'Bespoke Area Data'!BS80","v":0},{"$f":"'Bespoke Area Data'!BT80","v":0},{"$f":"'Bespoke Area Data'!BU80","v":0},{"$f":"'Bespoke Area Data'!BV80","v":0},{"$f":"'Bespoke Area Data'!BW80","v":0},{"$f":"'Bespoke Area Data'!BX80","v":0},{"$f":"'Bespoke Area Data'!BY80","v":0},{"$f":"'Bespoke Area Data'!BZ80","v":0},{"$f":"'Bespoke Area Data'!CA80","v":0},{"$f":"'Bespoke Area Data'!CB80","v":0},{"$f":"'Bespoke Area Data'!CC80","v":0},{"$f":"'Bespoke Area Data'!CD80","v":0},{"$f":"'Bespoke Area Data'!CE80","v":0},{"$f":"'Bespoke Area Data'!CF80","v":0},{"$f":"'Bespoke Area Data'!CG80","v":0},{"$f":"'Bespoke Area Data'!CH80","v":0},{"$f":"'Bespoke Area Data'!CI80","v":0},{"$f":"'Bespoke Area Data'!CJ80","v":0},{"$f":"'Bespoke Area Data'!CK80","v":0},{"$f":"'Bespoke Area Data'!CL80","v":0},{"$f":"'Bespoke Area Data'!CM80","v":0},{"$f":"'Bespoke Area Data'!CN80","v":0},{"$f":"'Bespoke Area Data'!CO80","v":0},{"$f":"'Bespoke Area Data'!CP80","v":0},{"$f":"'Bespoke Area Data'!CQ80","v":0},{"$f":"'Bespoke Area Data'!CR80","v":0},{"$f":"'Bespoke Area Data'!CS80","v":0},{"$f":"'Bespoke Area Data'!CT80","v":0},{"$f":"'Bespoke Area Data'!CU80","v":0},{"$f":"'Bespoke Area Data'!CV80","v":0},{"$f":"'Bespoke Area Data'!CW80","v":0},{"$f":"'Bespoke Area Data'!CX80","v":0},{"$f":"'Bespoke Area Data'!CY80","v":0},{"$f":"'Bespoke Area Data'!CZ80","v":0},{"$f":"'Bespoke Area Data'!DA80","v":0},{"$f":"'Bespoke Area Data'!DB80","v":0},{"$f":"'Bespoke Area Data'!DC80","v":0},{"$f":"'Bespoke Area Data'!DD80","v":0},{"$f":"'Bespoke Area Data'!DE80","v":0},{"$f":"'Bespoke Area Data'!DF80","v":0},{"$f":"'Bespoke Area Data'!DG80","v":0},{"$f":"'Bespoke Area Data'!DH80","v":0},{"$f":"'Bespoke Area Data'!DI80","v":0},{"$f":"'Bespoke Area Data'!DJ80","v":0},{"$f":"'Bespoke Area Data'!DK80","v":0},{"$f":"'Bespoke Area Data'!DL80","v":0},{"$f":"'Bespoke Area Data'!DM80","v":0},{"$f":"'Bespoke Area Data'!DN80","v":0},{"$f":"'Bespoke Area Data'!DO80","v":0},{"$f":"'Bespoke Area Data'!DP80","v":0},{"$f":"'Bespoke Area Data'!DQ80","v":0},{"$f":"'Bespoke Area Data'!DR80","v":0},{"$f":"'Bespoke Area Data'!DS80","v":0},{"$f":"'Bespoke Area Data'!DT80","v":0},{"$f":"'Bespoke Area Data'!DU80","v":0},{"$f":"'Bespoke Area Data'!DV80","v":0},{"$f":"'Bespoke Area Data'!DW80","v":0},{"$f":"'Bespoke Area Data'!DX80","v":0},{"$f":"'Bespoke Area Data'!DY80","v":0},{"$f":"'Bespoke Area Data'!DZ80","v":0},{"$f":"'Bespoke Area Data'!EA80","v":0},{"$f":"'Bespoke Area Data'!EB80","v":0},{"$f":"'Bespoke Area Data'!EC80","v":0},{"$f":"'Bespoke Area Data'!ED80","v":0},{"$f":"'Bespoke Area Data'!EE80","v":0},{"$f":"'Bespoke Area Data'!EF80","v":0},{"$f":"'Bespoke Area Data'!EG80","v":0},{"$f":"'Bespoke Area Data'!EH80","v":0},{"$f":"'Bespoke Area Data'!EI80","v":0},{"$f":"'Bespoke Area Data'!EJ80","v":0},{"$f":"'Bespoke Area Data'!EK80","v":0},{"$f":"'Bespoke Area Data'!EL80","v":0},{"$f":"'Bespoke Area Data'!EM80","v":0},{"$f":"'Bespoke Area Data'!EN80","v":0},{"$f":"'Bespoke Area Data'!EO80","v":0},{"$f":"'Bespoke Area Data'!EP80","v":0},{"$f":"'Bespoke Area Data'!EQ80","v":0},{"$f":"'Bespoke Area Data'!ER80","v":0},{"$f":"'Bespoke Area Data'!ES80","v":0},{"$f":"'Bespoke Area Data'!ET80","v":0},{"$f":"'Bespoke Area Data'!EU80","v":0},{"$f":"'Bespoke Area Data'!EV80","v":0},{"$f":"'Bespoke Area Data'!EW80","v":0},{"$f":"'Bespoke Area Data'!EX80","v":0},{"$f":"'Bespoke Area Data'!EY80","v":0},{"$f":"'Bespoke Area Data'!EZ80","v":0},{"$f":"'Bespoke Area Data'!FA80","v":0},{"$f":"'Bespoke Area Data'!FB80","v":0},{"$f":"'Bespoke Area Data'!FC80","v":0},{"$f":"'Bespoke Area Data'!FD80","v":0},{"$f":"'Bespoke Area Data'!D81","v":0},{"$f":"'Bespoke Area Data'!E81","v":0},{"$f":"'Bespoke Area Data'!F81","v":0},{"$f":"'Bespoke Area Data'!G81","v":0},{"$f":"'Bespoke Area Data'!H81","v":0},{"$f":"'Bespoke Area Data'!I81","v":0},{"$f":"'Bespoke Area Data'!J81","v":0},{"$f":"'Bespoke Area Data'!K81","v":0},{"$f":"'Bespoke Area Data'!L81","v":0},{"$f":"'Bespoke Area Data'!M81","v":0},{"$f":"'Bespoke Area Data'!N81","v":0},{"$f":"'Bespoke Area Data'!O81","v":0},{"$f":"'Bespoke Area Data'!P81","v":0},{"$f":"'Bespoke Area Data'!Q81","v":0},{"$f":"'Bespoke Area Data'!R81","v":0},{"$f":"'Bespoke Area Data'!S81","v":0},{"$f":"'Bespoke Area Data'!T81","v":0},{"$f":"'Bespoke Area Data'!U81","v":0},{"$f":"'Bespoke Area Data'!V81","v":0},{"$f":"'Bespoke Area Data'!W81","v":0},{"$f":"'Bespoke Area Data'!X81","v":0},{"$f":"'Bespoke Area Data'!Y81","v":0},{"$f":"'Bespoke Area Data'!Z81","v":0},{"$f":"'Bespoke Area Data'!AA81","v":0},{"$f":"'Bespoke Area Data'!AB81","v":0},{"$f":"'Bespoke Area Data'!AC81","v":0},{"$f":"'Bespoke Area Data'!AD81","v":0},{"$f":"'Bespoke Area Data'!AE81","v":0},{"$f":"'Bespoke Area Data'!AF81","v":0},{"$f":"'Bespoke Area Data'!AG81","v":0},{"$f":"'Bespoke Area Data'!AH81","v":0},{"$f":"'Bespoke Area Data'!AI81","v":0},{"$f":"'Bespoke Area Data'!AJ81","v":0},{"$f":"'Bespoke Area Data'!AK81","v":0},{"$f":"'Bespoke Area Data'!AL81","v":0},{"$f":"'Bespoke Area Data'!AM81","v":0},{"$f":"'Bespoke Area Data'!AN81","v":0},{"$f":"'Bespoke Area Data'!AO81","v":0},{"$f":"'Bespoke Area Data'!AP81","v":0},{"$f":"'Bespoke Area Data'!AQ81","v":0},{"$f":"'Bespoke Area Data'!AR81","v":0},{"$f":"'Bespoke Area Data'!AS81","v":0},{"$f":"'Bespoke Area Data'!AT81","v":0},{"$f":"'Bespoke Area Data'!AU81","v":0},{"$f":"'Bespoke Area Data'!AV81","v":0},{"$f":"'Bespoke Area Data'!AW81","v":0},{"$f":"'Bespoke Area Data'!AX81","v":0},{"$f":"'Bespoke Area Data'!AY81","v":0},{"$f":"'Bespoke Area Data'!AZ81","v":0},{"$f":"'Bespoke Area Data'!BA81","v":0},{"$f":"'Bespoke Area Data'!BB81","v":0},{"$f":"'Bespoke Area Data'!BC81","v":0},{"$f":"'Bespoke Area Data'!BD81","v":0},{"$f":"'Bespoke Area Data'!BE81","v":0},{"$f":"'Bespoke Area Data'!BF81","v":0},{"$f":"'Bespoke Area Data'!BG81","v":0},{"$f":"'Bespoke Area Data'!BH81","v":0},{"$f":"'Bespoke Area Data'!BI81","v":0},{"$f":"'Bespoke Area Data'!BJ81","v":0},{"$f":"'Bespoke Area Data'!BK81","v":0},{"$f":"'Bespoke Area Data'!BL81","v":0},{"$f":"'Bespoke Area Data'!BM81","v":0},{"$f":"'Bespoke Area Data'!BN81","v":0},{"$f":"'Bespoke Area Data'!BO81","v":0},{"$f":"'Bespoke Area Data'!BP81","v":0}]
["Bespoke","N/A",{"$f":"IF('Bespoke Area Name'!C24=\"\",\"No bespoke area name entered; Go to sheet \"\"Bespoke Area Name\"\"\",'Bespoke Area Name'!C24)","v":"No bespoke area name entered; Go to sheet \"Bespoke Area Name\""},"AREA0021",{"$f":"'Bespoke Area Data'!D84","v":0},{"$f":"'Bespoke Area Data'!E84","v":0},{"$f":"'Bespoke Area Data'!F84","v":0},{"$f":"'Bespoke Area Data'!G84","v":0},{"$f":"'Bespoke Area Data'!H84","v":0},{"$f":"'Bespoke Area Data'!I84","v":0},{"$f":"'Bespoke Area Data'!J84","v":0},{"$f":"'Bespoke Area Data'!K84","v":0},{"$f":"'Bespoke Area Data'!L84","v":0},{"$f":"'Bespoke Area Data'!M84","v":0},{"$f":"'Bespoke Area Data'!N84","v":0},{"$f":"'Bespoke Area Data'!O84","v":0},{"$f":"'Bespoke Area Data'!P84","v":0},{"$f":"'Bespoke Area Data'!Q84","v":0},{"$f":"'Bespoke Area Data'!R84","v":0},{"$f":"'Bespoke Area Data'!S84","v":0},{"$f":"'Bespoke Area Data'!T84","v":0},{"$f":"'Bespoke Area Data'!U84","v":0},{"$f":"'Bespoke Area Data'!V84","v":0},{"$f":"'Bespoke Area Data'!W84","v":0},{"$f":"'Bespoke Area Data'!X84","v":0},{"$f":"'Bespoke Area Data'!Y84","v":0},{"$f":"'Bespoke Area Data'!Z84","v":0},{"$f":"'Bespoke Area Data'!AA84","v":0},{"$f":"'Bespoke Area Data'!AB84","v":0},{"$f":"'Bespoke Area Data'!AC84","v":0},{"$f":"'Bespoke Area Data'!AD84","v":0},{"$f":"'Bespoke Area Data'!AE84","v":0},{"$f":"'Bespoke Area Data'!AF84","v":0},{"$f":"'Bespoke Area Data'!AG84","v":0},{"$f":"'Bespoke Area Data'!AH84","v":0},{"$f":"'Bespoke Area Data'!AI84","v":0},{"$f":"'Bespoke Area Data'!AJ84","v":0},{"$f":"'Bespoke Area Data'!AK84","v":0},{"$f":"'Bespoke Area Data'!AL84","v":0},{"$f":"'Bespoke Area Data'!AM84","v":0},{"$f":"'Bespoke Area Data'!AN84","v":0},{"$f":"'Bespoke Area Data'!AO84","v":0},{"$f":"'Bespoke Area Data'!AP84","v":0},{"$f":"'Bespoke Area Data'!AQ84","v":0},{"$f":"'Bespoke Area Data'!AR84","v":0},{"$f":"'Bespoke Area Data'!AS84","v":0},{"$f":"'Bespoke Area Data'!AT84","v":0},{"$f":"'Bespoke Area Data'!AU84","v":0},{"$f":"'Bespoke Area Data'!AV84","v":0},{"$f":"'Bespoke Area Data'!AW84","v":0},{"$f":"'Bespoke Area Data'!AX84","v":0},{"$f":"'Bespoke Area Data'!AY84","v":0},{"$f":"'Bespoke Area Data'!AZ84","v":0},{"$f":"'Bespoke Area Data'!BA84","v":0},{"$f":"'Bespoke Area Data'!BB84","v":0},{"$f":"'Bespoke Area Data'!BC84","v":0},{"$f":"'Bespoke Area Data'!BD84","v":0},{"$f":"'Bespoke Area Data'!BE84","v":0},{"$f":"'Bespoke Area Data'!BF84","v":0},{"$f":"'Bespoke Area Data'!BG84","v":0},{"$f":"'Bespoke Area Data'!BH84","v":0},{"$f":"'Bespoke Area Data'!BI84","v":0},{"$f":"'Bespoke Area Data'!BJ84","v":0},{"$f":"'Bespoke Area Data'!BK84","v":0},{"$f":"'Bespoke Area Data'!BL84","v":0},{"$f":"'Bespoke Area Data'!BM84","v":0},{"$f":"'Bespoke Area Data'!BN84","v":0},{"$f":"'Bespoke Area Data'!BO84","v":0},{"$f":"'Bespoke Area Data'!BP84","v":0},{"$f":"'Bespoke Area Data'!BQ84","v":0},{"$f":"'Bespoke Area Data'!BR84","v":0},{"$f":"'Bespoke Area Data'!BS84","v":0},{"$f":"'Bespoke Area Data'!BT84","v":0},{"$f":"'Bespoke Area Data'!BU84","v":0},{"$f":"'Bespoke Area Data'!BV84","v":0},{"$f":"'Bespoke Area Data'!BW84","v":0},{"$f":"'Bespoke Area Data'!BX84","v":0},{"$f":"'Bespoke Area Data'!BY84","v":0},{"$f":"'Bespoke Area Data'!BZ84","v":0},{"$f":"'Bespoke Area Data'!CA84","v":0},{"$f":"'Bespoke Area Data'!CB84","v":0},{"$f":"'Bespoke Area Data'!CC84","v":0},{"$f":"'Bespoke Area Data'!CD84","v":0},{"$f":"'Bespoke Area Data'!CE84","v":0},{"$f":"'Bespoke Area Data'!CF84","v":0},{"$f":"'Bespoke Area Data'!CG84","v":0},{"$f":"'Bespoke Area Data'!CH84","v":0},{"$f":"'Bespoke Area Data'!CI84","v":0},{"$f":"'Bespoke Area Data'!CJ84","v":0},{"$f":"'Bespoke Area Data'!CK84","v":0},{"$f":"'Bespoke Area Data'!CL84","v":0},{"$f":"'Bespoke Area Data'!CM84","v":0},{"$f":"'Bespoke Area Data'!CN84","v":0},{"$f":"'Bespoke Area Data'!CO84","v":0},{"$f":"'Bespoke Area Data'!CP84","v":0},{"$f":"'Bespoke Area Data'!CQ84","v":0},{"$f":"'Bespoke Area Data'!CR84","v":0},{"$f":"'Bespoke Area Data'!CS84","v":0},{"$f":"'Bespoke Area Data'!CT84","v":0},{"$f":"'Bespoke Area Data'!CU84","v":0},{"$f":"'Bespoke Area Data'!CV84","v":0},{"$f":"'Bespoke Area Data'!CW84","v":0},{"$f":"'Bespoke Area Data'!CX84","v":0},{"$f":"'Bespoke Area Data'!CY84","v":0},{"$f":"'Bespoke Area Data'!CZ84","v":0},{"$f":"'Bespoke Area Data'!DA84","v":0},{"$f":"'Bespoke Area Data'!DB84","v":0},{"$f":"'Bespoke Area Data'!DC84","v":0},{"$f":"'Bespoke Area Data'!DD84","v":0},{"$f":"'Bespoke Area Data'!DE84","v":0},{"$f":"'Bespoke Area Data'!DF84","v":0},{"$f":"'Bespoke Area Data'!DG84","v":0},{"$f":"'Bespoke Area Data'!DH84","v":0},{"$f":"'Bespoke Area Data'!DI84","v":0},{"$f":"'Bespoke Area Data'!DJ84","v":0},{"$f":"'Bespoke Area Data'!DK84","v":0},{"$f":"'Bespoke Area Data'!DL84","v":0},{"$f":"'Bespoke Area Data'!DM84","v":0},{"$f":"'Bespoke Area Data'!DN84","v":0},{"$f":"'Bespoke Area Data'!DO84","v":0},{"$f":"'Bespoke Area Data'!DP84","v":0},{"$f":"'Bespoke Area Data'!DQ84","v":0},{"$f":"'Bespoke Area Data'!DR84","v":0},{"$f":"'Bespoke Area Data'!DS84","v":0},{"$f":"'Bespoke Area Data'!DT84","v":0},{"$f":"'Bespoke Area Data'!DU84","v":0},{"$f":"'Bespoke Area Data'!DV84","v":0},{"$f":"'Bespoke Area Data'!DW84","v":0},{"$f":"'Bespoke Area Data'!DX84","v":0},{"$f":"'Bespoke Area Data'!DY84","v":0},{"$f":"'Bespoke Area Data'!DZ84","v":0},{"$f":"'Bespoke Area Data'!EA84","v":0},{"$f":"'Bespoke Area Data'!EB84","v":0},{"$f":"'Bespoke Area Data'!EC84","v":0},{"$f":"'Bespoke Area Data'!ED84","v":0},{"$f":"'Bespoke Area Data'!EE84","v":0},{"$f":"'Bespoke Area Data'!EF84","v":0},{"$f":"'Bespoke Area Data'!EG84","v":0},{"$f":"'Bespoke Area Data'!EH84","v":0},{"$f":"'Bespoke Area Data'!EI84","v":0},{"$f":"'Bespoke Area Data'!EJ84","v":0},{"$f":"'Bespoke Area Data'!EK84","v":0},{"$f":"'Bespoke Area Data'!EL84","v":0},{"$f":"'Bespoke Area Data'!EM84","v":0},{"$f":"'Bespoke Area Data'!EN84","v":0},{"$f":"'Bespoke Area Data'!EO84","v":0},{"$f":"'Bespoke Area Data'!EP84","v":0},{"$f":"'Bespoke Area Data'!EQ84","v":0},{"$f":"'Bespoke Area Data'!ER84","v":0},{"$f":"'Bespoke Area Data'!ES84","v":0},{"$f":"'Bespoke Area Data'!ET84","v":0},{"$f":"'Bespoke Area Data'!EU84","v":0},{"$f":"'Bespoke Area Data'!EV84","v":0},{"$f":"'Bespoke Area Data'!EW84","v":0},{"$f":"'Bespoke Area Data'!EX84","v":0},{"$f":"'Bespoke Area Data'!EY84","v":0},{"$f":"'Bespoke Area Data'!EZ84","v":0},{"$f":"'Bespoke Area Data'!FA84","v":0},{"$f":"'Bespoke Area Data'!FB84","v":0},{"$f":"'Bespoke Area Data'!FC84","v":0},{"$f":"'Bespoke Area Data'!FD84","v":0},{"$f":"'Bespoke Area Data'!D85","v":0},{"$f":"'Bespoke Area Data'!E85","v":0},{"$f":"'Bespoke Area Data'!F85","v":0},{"$f":"'Bespoke Area Data'!G85","v":0},{"$f":"'Bespoke Area Data'!H85","v":0},{"$f":"'Bespoke Area Data'!I85","v":0},{"$f":"'Bespoke Area Data'!J85","v":0},{"$f":"'Bespoke Area Data'!K85","v":0},{"$f":"'Bespoke Area Data'!L85","v":0},{"$f":"'Bespoke Area Data'!M85","v":0},{"$f":"'Bespoke Area Data'!N85","v":0},{"$f":"'Bespoke Area Data'!O85","v":0},{"$f":"'Bespoke Area Data'!P85","v":0},{"$f":"'Bespoke Area Data'!Q85","v":0},{"$f":"'Bespoke Area Data'!R85","v":0},{"$f":"'Bespoke Area Data'!S85","v":0},{"$f":"'Bespoke Area Data'!T85","v":0},{"$f":"'Bespoke Area Data'!U85","v":0},{"$f":"'Bespoke Area Data'!V85","v":0},{"$f":"'Bespoke Area Data'!W85","v":0},{"$f":"'Bespoke Area Data'!X85","v":0},{"$f":"'Bespoke Area Data'!Y85","v":0},{"$f":"'Bespoke Area Data'!Z85","v":0},{"$f":"'Bespoke Area Data'!AA85","v":0},{"$f":"'Bespoke Area Data'!AB85","v":0},{"$f":"'Bespoke Area Data'!AC85","v":0},{"$f":"'Bespoke Area Data'!AD85","v":0},{"$f":"'Bespoke Area Data'!AE85","v":0},{"$f":"'Bespoke Area Data'!AF85","v":0},{"$f":"'Bespoke Area Data'!AG85","v":0},{"$f":"'Bespoke Area Data'!AH85","v":0},{"$f":"'Bespoke Area Data'!AI85","v":0},{"$f":"'Bespoke Area Data'!AJ85","v":0},{"$f":"'Bespoke Area Data'!AK85","v":0},{"$f":"'Bespoke Area Data'!AL85","v":0},{"$f":"'Bespoke Area Data'!AM85","v":0},{"$f":"'Bespoke Area Data'!AN85","v":0},{"$f":"'Bespoke Area Data'!AO85","v":0},{"$f":"'Bespoke Area Data'!AP85","v":0},{"$f":"'Bespoke Area Data'!AQ85","v":0},{"$f":"'Bespoke Area Data'!AR85","v":0},{"$f":"'Bespoke Area Data'!AS85","v":0},{"$f":"'Bespoke Area Data'!AT85","v":0},{"$f":"'Bespoke Area Data'!AU85","v":0},{"$f":"'Bespoke Area Data'!AV85","v":0},{"$f":"'Bespoke Area Data'!AW85","v":0},{"$f":"'Bespoke Area Data'!AX85","v":0},{"$f":"'Bespoke Area Data'!AY85","v":0},{"$f":"'Bespoke Area Data'!AZ85","v":0},{"$f":"'Bespoke Area Data'!BA85","v":0},{"$f":"'Bespoke Area Data'!BB85","v":0},{"$f":"'Bespoke Area Data'!BC85","v":0},{"$f":"'Bespoke Area Data'!BD85","v":0},{"$f":"'Bespoke Area Data'!BE85","v":0},{"$f":"'Bespoke Area Data'!BF85","v":0},{"$f":"'Bespoke Area Data'!BG85","v":0},{"$f":"'Bespoke Area Data'!BH85","v":0},{"$f":"'Bespoke Area Data'!BI85","v":0},{"$f":"'Bespoke Area Data'!BJ85","v":0},{"$f":"'Bespoke Area Data'!BK85","v":0},{"$f":"'Bespoke Area Data'!BL85","v":0},{"$f":"'Bespoke Area Data'!BM85","v":0},{"$f":"'Bespoke Area Data'!BN85","v":0},{"$f":"'Bespoke Area Data'!BO85","v":0},{"$f":"'Bespoke Area Data'!BP85","v":0}]
["Bespoke","N/A",{"$f":"IF('Bespoke Area Name'!C25=\"\",\"No bespoke area name entered; Go to sheet \"\"Bespoke Area Name\"\"\",'Bespoke Area Name'!C25)","v":"No bespoke area name entered; Go to sheet \"Bespoke Area Name\""},"AREA0022",{"$f":"'Bespoke Area Data'!D88","v":0},{"$f":"'Bespoke Area Data'!E88","v":0},{"$f":"'Bespoke Area Data'!F88","v":0},{"$f":"'Bespoke Area Data'!G88","v":0},{"$f":"'Bespoke Area Data'!H88","v":0},{"$f":"'Bespoke Area Data'!I88","v":0},{"$f":"'Bespoke Area Data'!J88","v":0},{"$f":"'Bespoke Area Data'!K88","v":0},{"$f":"'Bespoke Area Data'!L88","v":0},{"$f":"'Bespoke Area Data'!M88","v":0},{"$f":"'Bespoke Area Data'!N88","v":0},{"$f":"'Bespoke Area Data'!O88","v":0},{"$f":"'Bespoke Area Data'!P88","v":0},{"$f":"'Bespoke Area Data'!Q88","v":0},{"$f":"'Bespoke Area Data'!R88","v":0},{"$f":"'Bespoke Area Data'!S88","v":0},{"$f":"'Bespoke Area Data'!T88","v":0},{"$f":"'Bespoke Area Data'!U88","v":0},{"$f":"'Bespoke Area Data'!V88","v":0},{"$f":"'Bespoke Area Data'!W88","v":0},{"$f":"'Bespoke Area Data'!X88","v":0},{"$f":"'Bespoke Area Data'!Y88","v":0},{"$f":"'Bespoke Area Data'!Z88","v":0},{"$f":"'Bespoke Area Data'!AA88","v":0},{"$f":"'Bespoke Area Data'!AB88","v":0},{"$f":"'Bespoke Area Data'!AC88","v":0},{"$f":"'Bespoke Area Data'!AD88","v":0},{"$f":"'Bespoke Area Data'!AE88","v":0},{"$f":"'Bespoke Area Data'!AF88","v":0},{"$f":"'Bespoke Area Data'!AG88","v":0},{"$f":"'Bespoke Area Data'!AH88","v":0},{"$f":"'Bespoke Area Data'!AI88","v":0},{"$f":"'Bespoke Area Data'!AJ88","v":0},{"$f":"'Bespoke Area Data'!AK88","v":0},{"$f":"'Bespoke Area Data'!AL88","v":0},{"$f":"'Bespoke Area Data'!AM88","v":0},{"$f":"'Bespoke Area Data'!AN88","v":0},{"$f":"'Bespoke Area Data'!AO88","v":0},{"$f":"'Bespoke Area Data'!AP88","v":0},{"$f":"'Bespoke Area Data'!AQ88","v":0},{"$f":"'Bespoke Area Data'!AR88","v":0},{"$f":"'Bespoke Area Data'!AS88","v":0},{"$f":"'Bespoke Area Data'!AT88","v":0},{"$f":"'Bespoke Area Data'!AU88","v":0},{"$f":"'Bespoke Area Data'!AV88","v":0},{"$f":"'Bespoke Area Data'!AW88","v":0},{"$f":"'Bespoke Area Data'!AX88","v":0},{"$f":"'Bespoke Area Data'!AY88","v":0},{"$f":"'Bespoke Area Data'!AZ88","v":0},{"$f":"'Bespoke Area Data'!BA88","v":0},{"$f":"'Bespoke Area Data'!BB88","v":0},{"$f":"'Bespoke Area Data'!BC88","v":0},{"$f":"'Bespoke Area Data'!BD88","v":0},{"$f":"'Bespoke Area Data'!BE88","v":0},{"$f":"'Bespoke Area Data'!BF88","v":0},{"$f":"'Bespoke Area Data'!BG88","v":0},{"$f":"'Bespoke Area Data'!BH88","v":0},{"$f":"'Bespoke Area Data'!BI88","v":0},{"$f":"'Bespoke Area Data'!BJ88","v":0},{"$f":"'Bespoke Area Data'!BK88","v":0},{"$f":"'Bespoke Area Data'!BL88","v":0},{"$f":"'Bespoke Area Data'!BM88","v":0},{"$f":"'Bespoke Area Data'!BN88","v":0},{"$f":"'Bespoke Area Data'!BO88","v":0},{"$f":"'Bespoke Area Data'!BP88","v":0},{"$f":"'Bespoke Area Data'!BQ88","v":0},{"$f":"'Bespoke Area Data'!BR88","v":0},{"$f":"'Bespoke Area Data'!BS88","v":0},{"$f":"'Bespoke Area Data'!BT88","v":0},{"$f":"'Bespoke Area Data'!BU88","v":0},{"$f":"'Bespoke Area Data'!BV88","v":0},{"$f":"'Bespoke Area Data'!BW88","v":0},{"$f":"'Bespoke Area Data'!BX88","v":0},{"$f":"'Bespoke Area Data'!BY88","v":0},{"$f":"'Bespoke Area Data'!BZ88","v":0},{"$f":"'Bespoke Area Data'!CA88","v":0},{"$f":"'Bespoke Area Data'!CB88","v":0},{"$f":"'Bespoke Area Data'!CC88","v":0},{"$f":"'Bespoke Area Data'!CD88","v":0},{"$f":"'Bespoke Area Data'!CE88","v":0},{"$f":"'Bespoke Area Data'!CF88","v":0},{"$f":"'Bespoke Area Data'!CG88","v":0},{"$f":"'Bespoke Area Data'!CH88","v":0},{"$f":"'Bespoke Area Data'!CI88","v":0},{"$f":"'Bespoke Area Data'!CJ88","v":0},{"$f":"'Bespoke Area Data'!CK88","v":0},{"$f":"'Bespoke Area Data'!CL88","v":0},{"$f":"'Bespoke Area Data'!CM88","v":0},{"$f":"'Bespoke Area Data'!CN88","v":0},{"$f":"'Bespoke Area Data'!CO88","v":0},{"$f":"'Bespoke Area Data'!CP88","v":0},{"$f":"'Bespoke Area Data'!CQ88","v":0},{"$f":"'Bespoke Area Data'!CR88","v":0},{"$f":"'Bespoke Area Data'!CS88","v":0},{"$f":"'Bespoke Area Data'!CT88","v":0},{"$f":"'Bespoke Area Data'!CU88","v":0},{"$f":"'Bespoke Area Data'!CV88","v":0},{"$f":"'Bespoke Area Data'!CW88","v":0},{"$f":"'Bespoke Area Data'!CX88","v":0},{"$f":"'Bespoke Area Data'!CY88","v":0},{"$f":"'Bespoke Area Data'!CZ88","v":0},{"$f":"'Bespoke Area Data'!DA88","v":0},{"$f":"'Bespoke Area Data'!DB88","v":0},{"$f":"'Bespoke Area Data'!DC88","v":0},{"$f":"'Bespoke Area Data'!DD88","v":0},{"$f":"'Bespoke Area Data'!DE88","v":0},{"$f":"'Bespoke Area Data'!DF88","v":0},{"$f":"'Bespoke Area Data'!DG88","v":0},{"$f":"'Bespoke Area Data'!DH88","v":0},{"$f":"'Bespoke Area Data'!DI88","v":0},{"$f":"'Bespoke Area Data'!DJ88","v":0},{"$f":"'Bespoke Area Data'!DK88","v":0},{"$f":"'Bespoke Area Data'!DL88","v":0},{"$f":"'Bespoke Area Data'!DM88","v":0},{"$f":"'Bespoke Area Data'!DN88","v":0},{"$f":"'Bespoke Area Data'!DO88","v":0},{"$f":"'Bespoke Area Data'!DP88","v":0},{"$f":"'Bespoke Area Data'!DQ88","v":0},{"$f":"'Bespoke Area Data'!DR88","v":0},{"$f":"'Bespoke Area Data'!DS88","v":0},{"$f":"'Bespoke Area Data'!DT88","v":0},{"$f":"'Bespoke Area Data'!DU88","v":0},{"$f":"'Bespoke Area Data'!DV88","v":0},{"$f":"'Bespoke Area Data'!DW88","v":0},{"$f":"'Bespoke Area Data'!DX88","v":0},{"$f":"'Bespoke Area Data'!DY88","v":0},{"$f":"'Bespoke Area Data'!DZ88","v":0},{"$f":"'Bespoke Area Data'!EA88","v":0},{"$f":"'Bespoke Area Data'!EB88","v":0},{"$f":"'Bespoke Area Data'!EC88","v":0},{"$f":"'Bespoke Area Data'!ED88","v":0},{"$f":"'Bespoke Area Data'!EE88","v":0},{"$f":"'Bespoke Area Data'!EF88","v":0},{"$f":"'Bespoke Area Data'!EG88","v":0},{"$f":"'Bespoke Area Data'!EH88","v":0},{"$f":"'Bespoke Area Data'!EI88","v":0},{"$f":"'Bespoke Area Data'!EJ88","v":0},{"$f":"'Bespoke Area Data'!EK88","v":0},{"$f":"'Bespoke Area Data'!EL88","v":0},{"$f":"'Bespoke Area Data'!EM88","v":0},{"$f":"'Bespoke Area Data'!EN88","v":0},{"$f":"'Bespoke Area Data'!EO88","v":0},{"$f":"'Bespoke Area Data'!EP88","v":0},{"$f":"'Bespoke Area Data'!EQ88","v":0},{"$f":"'Bespoke Area Data'!ER88","v":0},{"$f":"'Bespoke Area Data'!ES88","v":0},{"$f":"'Bespoke Area Data'!ET88","v":0},{"$f":"'Bespoke Area Data'!EU88","v":0},{"$f":"'Bespoke Area Data'!EV88","v":0},{"$f":"'Bespoke Area Data'!EW88","v":0},{"$f":"'Bespoke Area Data'!EX88","v":0},{"$f":"'Bespoke Area Data'!EY88","v":0},{"$f":"'Bespoke Area Data'!EZ88","v":0},{"$f":"'Bespoke Area Data'!FA88","v":0},{"$f":"'Bespoke Area Data'!FB88","v":0},{"$f":"'Bespoke Area Data'!FC88","v":0},{"$f":"'Bespoke Area Data'!FD88","v":0},{"$f":"'Bespoke Area Data'!D89","v":0},{"$f":"'Bespoke Area Data'!E89","v":0},{"$f":"'Bespoke Area Data'!F89","v":0},{"$f":"'Bespoke Area Data'!G89","v":0},{"$f":"'Bespoke Area Data'!H89","v":0},{"$f":"'Bespoke Area Data'!I89","v":0},{"$f":"'Bespoke Area Data'!J89","v":0},{"$f":"'Bespoke Area Data'!K89","v":0},{"$f":"'Bespoke Area Data'!L89","v":0},{"$f":"'Bespoke Area Data'!M89","v":0},{"$f":"'Bespoke Area Data'!N89","v":0},{"$f":"'Bespoke Area Data'!O89","v":0},{"$f":"'Bespoke Area Data'!P89","v":0},{"$f":"'Bespoke Area Data'!Q89","v":0},{"$f":"'Bespoke Area Data'!R89","v":0},{"$f":"'Bespoke Area Data'!S89","v":0},{"$f":"'Bespoke Area Data'!T89","v":0},{"$f":"'Bespoke Area Data'!U89","v":0},{"$f":"'Bespoke Area Data'!V89","v":0},{"$f":"'Bespoke Area Data'!W89","v":0},{"$f":"'Bespoke Area Data'!X89","v":0},{"$f":"'Bespoke Area Data'!Y89","v":0},{"$f":"'Bespoke Area Data'!Z89","v":0},{"$f":"'Bespoke Area Data'!AA89","v":0},{"$f":"'Bespoke Area Data'!AB89","v":0},{"$f":"'Bespoke Area Data'!AC89","v":0},{"$f":"'Bespoke Area Data'!AD89","v":0},{"$f":"'Bespoke Area Data'!AE89","v":0},{"$f":"'Bespoke Area Data'!AF89","v":0},{"$f":"'Bespoke Area Data'!AG89","v":0},{"$f":"'Bespoke Area Data'!AH89","v":0},{"$f":"'Bespoke Area Data'!AI89","v":0},{"$f":"'Bespoke Area Data'!AJ89","v":0},{"$f":"'Bespoke Area Data'!AK89","v":0},{"$f":"'Bespoke Area Data'!AL89","v":0},{"$f":"'Bespoke Area Data'!AM89","v":0},{"$f":"'Bespoke Area Data'!AN89","v":0},{"$f":"'Bespoke Area Data'!AO89","v":0},{"$f":"'Bespoke Area Data'!AP89","v":0},{"$f":"'Bespoke Area Data'!AQ89","v":0},{"$f":"'Bespoke Area Data'!AR89","v":0},{"$f":"'Bespoke Area Data'!AS89","v":0},{"$f":"'Bespoke Area Data'!AT89","v":0},{"$f":"'Bespoke Area Data'!AU89","v":0},{"$f":"'Bespoke Area Data'!AV89","v":0},{"$f":"'Bespoke Area Data'!AW89","v":0},{"$f":"'Bespoke Area Data'!AX89","v":0},{"$f":"'Bespoke Area Data'!AY89","v":0},{"$f":"'Bespoke Area Data'!AZ89","v":0},{"$f":"'Bespoke Area Data'!BA89","v":0},{"$f":"'Bespoke Area Data'!BB89","v":0},{"$f":"'Bespoke Area Data'!BC89","v":0},{"$f":"'Bespoke Area Data'!BD89","v":0},{"$f":"'Bespoke Area Data'!BE89","v":0},{"$f":"'Bespoke Area Data'!BF89","v":0},{"$f":"'Bespoke Area Data'!BG89","v":0},{"$f":"'Bespoke Area Data'!BH89","v":0},{"$f":"'Bespoke Area Data'!BI89","v":0},{"$f":"'Bespoke Area Data'!BJ89","v":0},{"$f":"'Bespoke Area Data'!BK89","v":0},{"$f":"'Bespoke Area Data'!BL89","v":0},{"$f":"'Bespoke Area Data'!BM89","v":0},{"$f":"'Bespoke Area Data'!BN89","v":0},{"$f":"'Bespoke Area Data'!BO89","v":0},{"$f":"'Bespoke Area Data'!BP89","v":0}]
["Bespoke","N/A",{"$f":"IF('Bespoke Area Name'!C26=\"\",\"No bespoke area name entered; Go to sheet \"\"Bespoke Area Name\"\"\",'Bespoke Area Name'!C26)","v":"No bespoke area name entered; Go to sheet \"Bespoke Area Name\""},"AREA0023",{"$f":"'Bespoke Area Data'!D92","v":0},{"$f":"'Bespoke Area Data'!E92","v":0},{"$f":"'Bespoke Area Data'!F92","v":0},{"$f":"'Bespoke Area Data'!G92","v":0},{"$f":"'Bespoke Area Data'!H92","v":0},{"$f":"'Bespoke Area Data'!I92","v":0},{"$f":"'Bespoke Area Data'!J92","v":0},{"$f":"'Bespoke Area Data'!K92","v":0},{"$f":"'Bespoke Area Data'!L92","v":0},{"$f":"'Bespoke Area Data'!M92","v":0},{"$f":"'Bespoke Area Data'!N92","v":0},{"$f":"'Bespoke Area Data'!O92","v":0},{"$f":"'Bespoke Area Data'!P92","v":0},{"$f":"'Bespoke Area Data'!Q92","v":0},{"$f":"'Bespoke Area Data'!R92","v":0},{"$f":"'Bespoke Area Data'!S92","v":0},{"$f":"'Bespoke Area Data'!T92","v":0},{"$f":"'Bespoke Area Data'!U92","v":0},{"$f":"'Bespoke Area Data'!V92","v":0},{"$f":"'Bespoke Area Data'!W92","v":0},{"$f":"'Bespoke Area Data'!X92","v":0},{"$f":"'Bespoke Area Data'!Y92","v":0},{"$f":"'Bespoke Area Data'!Z92","v":0},{"$f":"'Bespoke Area Data'!AA92","v":0},{"$f":"'Bespoke Area Data'!AB92","v":0},{"$f":"'Bespoke Area Data'!AC92","v":0},{"$f":"'Bespoke Area Data'!AD92","v":0},{"$f":"'Bespoke Area Data'!AE92","v":0},{"$f":"'Bespoke Area Data'!AF92","v":0},{"$f":"'Bespoke Area Data'!AG92","v":0},{"$f":"'Bespoke Area Data'!AH92","v":0},{"$f":"'Bespoke Area Data'!AI92","v":0},{"$f":"'Bespoke Area Data'!AJ92","v":0},{"$f":"'Bespoke Area Data'!AK92","v":0},{"$f":"'Bespoke Area Data'!AL92","v":0},{"$f":"'Bespoke Area Data'!AM92","v":0},{"$f":"'Bespoke Area Data'!AN92","v":0},{"$f":"'Bespoke Area Data'!AO92","v":0},{"$f":"'Bespoke Area Data'!AP92","v":0},{"$f":"'Bespoke Area Data'!AQ92","v":0},{"$f":"'Bespoke Area Data'!AR92","v":0},{"$f":"'Bespoke Area Data'!AS92","v":0},{"$f":"'Bespoke Area Data'!AT92","v":0},{"$f":"'Bespoke Area Data'!AU92","v":0},{"$f":"'Bespoke Area Data'!AV92","v":0},{"$f":"'Bespoke Area Data'!AW92","v":0},{"$f":"'Bespoke Area Data'!AX92","v":0},{"$f":"'Bespoke Area Data'!AY92","v":0},{"$f":"'Bespoke Area Data'!AZ92","v":0},{"$f":"'Bespoke Area Data'!BA92","v":0},{"$f":"'Bespoke Area Data'!BB92","v":0},{"$f":"'Bespoke Area Data'!BC92","v":0},{"$f":"'Bespoke Area Data'!BD92","v":0},{"$f":"'Bespoke Area Data'!BE92","v":0},{"$f":"'Bespoke Area Data'!BF92","v":0},{"$f":"'Bespoke Area Data'!BG92","v":0},{"$f":"'Bespoke Area Data'!BH92","v":0},{"$f":"'Bespoke Area Data'!BI92","v":0},{"$f":"'Bespoke Area Data'!BJ92","v":0},{"$f":"'Bespoke Area Data'!BK92","v":0},{"$f":"'Bespoke Area Data'!BL92","v":0},{"$f":"'Bespoke Area Data'!BM92","v":0},{"$f":"'Bespoke Area Data'!BN92","v":0},{"$f":"'Bespoke Area Data'!BO92","v":0},{"$f":"'Bespoke Area Data'!BP92","v":0},{"$f":"'Bespoke Area Data'!BQ92","v":0},{"$f":"'Bespoke Area Data'!BR92","v":0},{"$f":"'Bespoke Area Data'!BS92","v":0},{"$f":"'Bespoke Area Data'!BT92","v":0},{"$f":"'Bespoke Area Data'!BU92","v":0},{"$f":"'Bespoke Area Data'!BV92","v":0},{"$f":"'Bespoke Area Data'!BW92","v":0},{"$f":"'Bespoke Area Data'!BX92","v":0},{"$f":"'Bespoke Area Data'!BY92","v":0},{"$f":"'Bespoke Area Data'!BZ92","v":0},{"$f":"'Bespoke Area Data'!CA92","v":0},{"$f":"'Bespoke Area Data'!CB92","v":0},{"$f":"'Bespoke Area Data'!CC92","v":0},{"$f":"'Bespoke Area Data'!CD92","v":0},{"$f":"'Bespoke Area Data'!CE92","v":0},{"$f":"'Bespoke Area Data'!CF92","v":0},{"$f":"'Bespoke Area Data'!CG92","v":0},{"$f":"'Bespoke Area Data'!CH92","v":0},{"$f":"'Bespoke Area Data'!CI92","v":0},{"$f":"'Bespoke Area Data'!CJ92","v":0},{"$f":"'Bespoke Area Data'!CK92","v":0},{"$f":"'Bespoke Area Data'!CL92","v":0},{"$f":"'Bespoke Area Data'!CM92","v":0},{"$f":"'Bespoke Area Data'!CN92","v":0},{"$f":"'Bespoke Area Data'!CO92","v":0},{"$f":"'Bespoke Area Data'!CP92","v":0},{"$f":"'Bespoke Area Data'!CQ92","v":0},{"$f":"'Bespoke Area Data'!CR92","v":0},{"$f":"'Bespoke Area Data'!CS92","v":0},{"$f":"'Bespoke Area Data'!CT92","v":0},{"$f":"'Bespoke Area Data'!CU92","v":0},{"$f":"'Bespoke Area Data'!CV92","v":0},{"$f":"'Bespoke Area Data'!CW92","v":0},{"$f":"'Bespoke Area Data'!CX92","v":0},{"$f":"'Bespoke Area Data'!CY92","v":0},{"$f":"'Bespoke Area Data'!CZ92","v":0},{"$f":"'Bespoke Area Data'!DA92","v":0},{"$f":"'Bespoke Area Data'!DB92","v":0},{"$f":"'Bespoke Area Data'!DC92","v":0},{"$f":"'Bespoke Area Data'!DD92","v":0},{"$f":"'Bespoke Area Data'!DE92","v":0},{"$f":"'Bespoke Area Data'!DF92","v":0},{"$f":"'Bespoke Area Data'!DG92","v":0},{"$f":"'Bespoke Area Data'!DH92","v":0},{"$f":"'Bespoke Area Data'!DI92","v":0},{"$f":"'Bespoke Area Data'!DJ92","v":0},{"$f":"'Bespoke Area Data'!DK92","v":0},{"$f":"'Bespoke Area Data'!DL92","v":0},{"$f":"'Bespoke Area Data'!DM92","v":0},{"$f":"'Bespoke Area Data'!DN92","v":0},{"$f":"'Bespoke Area Data'!DO92","v":0},{"$f":"'Bespoke Area Data'!DP92","v":0},{"$f":"'Bespoke Area Data'!DQ92","v":0},{"$f":"'Bespoke Area Data'!DR92","v":0},{"$f":"'Bespoke Area Data'!DS92","v":0},{"$f":"'Bespoke Area Data'!DT92","v":0},{"$f":"'Bespoke Area Data'!DU92","v":0},{"$f":"'Bespoke Area Data'!DV92","v":0},{"$f":"'Bespoke Area Data'!DW92","v":0},{"$f":"'Bespoke Area Data'!DX92","v":0},{"$f":"'Bespoke Area Data'!DY92","v":0},{"$f":"'Bespoke Area Data'!DZ92","v":0},{"$f":"'Bespoke Area Data'!EA92","v":0},{"$f":"'Bespoke Area Data'!EB92","v":0},{"$f":"'Bespoke Area Data'!EC92","v":0},{"$f":"'Bespoke Area Data'!ED92","v":0},{"$f":"'Bespoke Area Data'!EE92","v":0},{"$f":"'Bespoke Area Data'!EF92","v":0},{"$f":"'Bespoke Area Data'!EG92","v":0},{"$f":"'Bespoke Area Data'!EH92","v":0},{"$f":"'Bespoke Area Data'!EI92","v":0},{"$f":"'Bespoke Area Data'!EJ92","v":0},{"$f":"'Bespoke Area Data'!EK92","v":0},{"$f":"'Bespoke Area Data'!EL92","v":0},{"$f":"'Bespoke Area Data'!EM92","v":0},{"$f":"'Bespoke Area Data'!EN92","v":0},{"$f":"'Bespoke Area Data'!EO92","v":0},{"$f":"'Bespoke Area Data'!EP92","v":0},{"$f":"'Bespoke Area Data'!EQ92","v":0},{"$f":"'Bespoke Area Data'!ER92","v":0},{"$f":"'Bespoke Area Data'!ES92","v":0},{"$f":"'Bespoke Area Data'!ET92","v":0},{"$f":"'Bespoke Area Data'!EU92","v":0},{"$f":"'Bespoke Area Data'!EV92","v":0},{"$f":"'Bespoke Area Data'!EW92","v":0},{"$f":"'Bespoke Area Data'!EX92","v":0},{"$f":"'Bespoke Area Data'!EY92","v":0},{"$f":"'Bespoke Area Data'!EZ92","v":0},{"$f":"'Bespoke Area Data'!FA92","v":0},{"$f":"'Bespoke Area Data'!FB92","v":0},{"$f":"'Bespoke Area Data'!FC92","v":0},{"$f":"'Bespoke Area Data'!FD92","v":0},{"$f":"'Bespoke Area Data'!D93","v":0},{"$f":"'Bespoke Area Data'!E93","v":0},{"$f":"'Bespoke Area Data'!F93","v":0},{"$f":"'Bespoke Area Data'!G93","v":0},{"$f":"'Bespoke Area Data'!H93","v":0},{"$f":"'Bespoke Area Data'!I93","v":0},{"$f":"'Bespoke Area Data'!J93","v":0},{"$f":"'Bespoke Area Data'!K93","v":0},{"$f":"'Bespoke Area Data'!L93","v":0},{"$f":"'Bespoke Area Data'!M93","v":0},{"$f":"'Bespoke Area Data'!N93","v":0},{"$f":"'Bespoke Area Data'!O93","v":0},{"$f":"'Bespoke Area Data'!P93","v":0},{"$f":"'Bespoke Area Data'!Q93","v":0},{"$f":"'Bespoke Area Data'!R93","v":0},{"$f":"'Bespoke Area Data'!S93","v":0},{"$f":"'Bespoke Area Data'!T93","v":0},{"$f":"'Bespoke Area Data'!U93","v":0},{"$f":"'Bespoke Area Data'!V93","v":0},{"$f":"'Bespoke Area Data'!W93","v":0},{"$f":"'Bespoke Area Data'!X93","v":0},{"$f":"'Bespoke Area Data'!Y93","v":0},{"$f":"'Bespoke Area Data'!Z93","v":0},{"$f":"'Bespoke Area Data'!AA93","v":0},{"$f":"'Bespoke Area Data'!AB93","v":0},{"$f":"'Bespoke Area Data'!AC93","v":0},{"$f":"'Bespoke Area Data'!AD93","v":0},{"$f":"'Bespoke Area Data'!AE93","v":0},{"$f":"'Bespoke Area Data'!AF93","v":0},{"$f":"'Bespoke Area Data'!AG93","v":0},{"$f":"'Bespoke Area Data'!AH93","v":0},{"$f":"'Bespoke Area Data'!AI93","v":0},{"$f":"'Bespoke Area Data'!AJ93","v":0},{"$f":"'Bespoke Area Data'!AK93","v":0},{"$f":"'Bespoke Area Data'!AL93","v":0},{"$f":"'Bespoke Area Data'!AM93","v":0},{"$f":"'Bespoke Area Data'!AN93","v":0},{"$f":"'Bespoke Area Data'!AO93","v":0},{"$f":"'Bespoke Area Data'!AP93","v":0},{"$f":"'Bespoke Area Data'!AQ93","v":0},{"$f":"'Bespoke Area Data'!AR93","v":0},{"$f":"'Bespoke Area Data'!AS93","v":0},{"$f":"'Bespoke Area Data'!AT93","v":0},{"$f":"'Bespoke Area Data'!AU93","v":0},{"$f":"'Bespoke Area Data'!AV93","v":0},{"$f":"'Bespoke Area Data'!AW93","v":0},{"$f":"'Bespoke Area Data'!AX93","v":0},{"$f":"'Bespoke Area Data'!AY93","v":0},{"$f":"'Bespoke Area Data'!AZ93","v":0},{"$f":"'Bespoke Area Data'!BA93","v":0},{"$f":"'Bespoke Area Data'!BB93","v":0},{"$f":"'Bespoke Area Data'!BC93","v":0},{"$f":"'Bespoke Area Data'!BD93","v":0},{"$f":"'Bespoke Area Data'!BE93","v":0},{"$f":"'Bespoke Area Data'!BF93","v":0},{"$f":"'Bespoke Area Data'!BG93","v":0},{"$f":"'Bespoke Area Data'!BH93","v":0},{"$f":"'Bespoke Area Data'!BI93","v":0},{"$f":"'Bespoke Area Data'!BJ93","v":0},{"$f":"'Bespoke Area Data'!BK93","v":0},{"$f":"'Bespoke Area Data'!BL93","v":0},{"$f":"'Bespoke Area Data'!BM93","v":0},{"$f":"'Bespoke Area Data'!BN93","v":0},{"$f":"'Bespoke Area Data'!BO93","v":0},{"$f":"'Bespoke Area Data'!BP93","v":0}]
["Bespoke","N/A",{"$f":"IF('Bespoke Area Name'!C27=\"\",\"No bespoke area name entered; Go to sheet \"\"Bespoke Area Name\"\"\",'Bespoke Area Name'!C27)","v":"No bespoke area name entered; Go to sheet \"Bespoke Area Name\""},"AREA0024",{"$f":"'Bespoke Area Data'!D96","v":0},{"$f":"'Bespoke Area Data'!E96","v":0},{"$f":"'Bespoke Area Data'!F96","v":0},{"$f":"'Bespoke Area Data'!G96","v":0},{"$f":"'Bespoke Area Data'!H96","v":0},{"$f":"'Bespoke Area Data'!I96","v":0},{"$f":"'Bespoke Area Data'!J96","v":0},{"$f":"'Bespoke Area Data'!K96","v":0},{"$f":"'Bespoke Area Data'!L96","v":0},{"$f":"'Bespoke Area Data'!M96","v":0},{"$f":"'Bespoke Area Data'!N96","v":0},{"$f":"'Bespoke Area Data'!O96","v":0},{"$f":"'Bespoke Area Data'!P96","v":0},{"$f":"'Bespoke Area Data'!Q96","v":0},{"$f":"'Bespoke Area Data'!R96","v":0},{"$f":"'Bespoke Area Data'!S96","v":0},{"$f":"'Bespoke Area Data'!T96","v":0},{"$f":"'Bespoke Area Data'!U96","v":0},{"$f":"'Bespoke Area Data'!V96","v":0},{"$f":"'Bespoke Area Data'!W96","v":0},{"$f":"'Bespoke Area Data'!X96","v":0},{"$f":"'Bespoke Area Data'!Y96","v":0},{"$f":"'Bespoke Area Data'!Z96","v":0},{"$f":"'Bespoke Area Data'!AA96","v":0},{"$f":"'Bespoke Area Data'!AB96","v":0},{"$f":"'Bespoke Area Data'!AC96","v":0},{"$f":"'Bespoke Area Data'!AD96","v":0},{"$f":"'Bespoke Area Data'!AE96","v":0},{"$f":"'Bespoke Area Data'!AF96","v":0},{"$f":"'Bespoke Area Data'!AG96","v":0},{"$f":"'Bespoke Area Data'!AH96","v":0},{"$f":"'Bespoke Area Data'!AI96","v":0},{"$f":"'Bespoke Area Data'!AJ96","v":0},{"$f":"'Bespoke Area Data'!AK96","v":0},{"$f":"'Bespoke Area Data'!AL96","v":0},{"$f":"'Bespoke Area Data'!AM96","v":0},{"$f":"'Bespoke Area Data'!AN96","v":0},{"$f":"'Bespoke Area Data'!AO96","v":0},{"$f":"'Bespoke Area Data'!AP96","v":0},{"$f":"'Bespoke Area Data'!AQ96","v":0},{"$f":"'Bespoke Area Data'!AR96","v":0},{"$f":"'Bespoke Area Data'!AS96","v":0},{"$f":"'Bespoke Area Data'!AT96","v":0},{"$f":"'Bespoke Area Data'!AU96","v":0},{"$f":"'Bespoke Area Data'!AV96","v":0},{"$f":"'Bespoke Area Data'!AW96","v":0},{"$f":"'Bespoke Area Data'!AX96","v":0},{"$f":"'Bespoke Area Data'!AY96","v":0},{"$f":"'Bespoke Area Data'!AZ96","v":0},{"$f":"'Bespoke Area Data'!BA96","v":0},{"$f":"'Bespoke Area Data'!BB96","v":0},{"$f":"'Bespoke Area Data'!BC96","v":0},{"$f":"'Bespoke Area Data'!BD96","v":0},{"$f":"'Bespoke Area Data'!BE96","v":0},{"$f":"'Bespoke Area Data'!BF96","v":0},{"$f":"'Bespoke Area Data'!BG96","v":0},{"$f":"'Bespoke Area Data'!BH96","v":0},{"$f":"'Bespoke Area Data'!BI96","v":0},{"$f":"'Bespoke Area Data'!BJ96","v":0},{"$f":"'Bespoke Area Data'!BK96","v":0},{"$f":"'Bespoke Area Data'!BL96","v":0},{"$f":"'Bespoke Area Data'!BM96","v":0},{"$f":"'Bespoke Area Data'!BN96","v":0},{"$f":"'Bespoke Area Data'!BO96","v":0},{"$f":"'Bespoke Area Data'!BP96","v":0},{"$f":"'Bespoke Area Data'!BQ96","v":0},{"$f":"'Bespoke Area Data'!BR96","v":0},{"$f":"'Bespoke Area Data'!BS96","v":0},{"$f":"'Bespoke Area Data'!BT96","v":0},{"$f":"'Bespoke Area Data'!BU96","v":0},{"$f":"'Bespoke Area Data'!BV96","v":0},{"$f":"'Bespoke Area Data'!BW96","v":0},{"$f":"'Bespoke Area Data'!BX96","v":0},{"$f":"'Bespoke Area Data'!BY96","v":0},{"$f":"'Bespoke Area Data'!BZ96","v":0},{"$f":"'Bespoke Area Data'!CA96","v":0},{"$f":"'Bespoke Area Data'!CB96","v":0},{"$f":"'Bespoke Area Data'!CC96","v":0},{"$f":"'Bespoke Area Data'!CD96","v":0},{"$f":"'Bespoke Area Data'!CE96","v":0},{"$f":"'Bespoke Area Data'!CF96","v":0},{"$f":"'Bespoke Area Data'!CG96","v":0},{"$f":"'Bespoke Area Data'!CH96","v":0},{"$f":"'Bespoke Area Data'!CI96","v":0},{"$f":"'Bespoke Area Data'!CJ96","v":0},{"$f":"'Bespoke Area Data'!CK96","v":0},{"$f":"'Bespoke Area Data'!CL96","v":0},{"$f":"'Bespoke Area Data'!CM96","v":0},{"$f":"'Bespoke Area Data'!CN96","v":0},{"$f":"'Bespoke Area Data'!CO96","v":0},{"$f":"'Bespoke Area Data'!CP96","v":0},{"$f":"'Bespoke Area Data'!CQ96","v":0},{"$f":"'Bespoke Area Data'!CR96","v":0},{"$f":"'Bespoke Area Data'!CS96","v":0},{"$f":"'Bespoke Area Data'!CT96","v":0},{"$f":"'Bespoke Area Data'!CU96","v":0},{"$f":"'Bespoke Area Data'!CV96","v":0},{"$f":"'Bespoke Area Data'!CW96","v":0},{"$f":"'Bespoke Area Data'!CX96","v":0},{"$f":"'Bespoke Area Data'!CY96","v":0},{"$f":"'Bespoke Area Data'!CZ96","v":0},{"$f":"'Bespoke Area Data'!DA96","v":0},{"$f":"'Bespoke Area Data'!DB96","v":0},{"$f":"'Bespoke Area Data'!DC96","v":0},{"$f":"'Bespoke Area Data'!DD96","v":0},{"$f":"'Bespoke Area Data'!DE96","v":0},{"$f":"'Bespoke Area Data'!DF96","v":0},{"$f":"'Bespoke Area Data'!DG96","v":0},{"$f":"'Bespoke Area Data'!DH96","v":0},{"$f":"'Bespoke Area Data'!DI96","v":0},{"$f":"'Bespoke Area Data'!DJ96","v":0},{"$f":"'Bespoke Area Data'!DK96","v":0},{"$f":"'Bespoke Area Data'!DL96","v":0},{"$f":"'Bespoke Area Data'!DM96","v":0},{"$f":"'Bespoke Area Data'!DN96","v":0},{"$f":"'Bespoke Area Data'!DO96","v":0},{"$f":"'Bespoke Area Data'!DP96","v":0},{"$f":"'Bespoke Area Data'!DQ96","v":0},{"$f":"'Bespoke Area Data'!DR96","v":0},{"$f":"'Bespoke Area Data'!DS96","v":0},{"$f":"'Bespoke Area Data'!DT96","v":0},{"$f":"'Bespoke Area Data'!DU96","v":0},{"$f":"'Bespoke Area Data'!DV96","v":0},{"$f":"'Bespoke Area Data'!DW96","v":0},{"$f":"'Bespoke Area Data'!DX96","v":0},{"$f":"'Bespoke Area Data'!DY96","v":0},{"$f":"'Bespoke Area Data'!DZ96","v":0},{"$f":"'Bespoke Area Data'!EA96","v":0},{"$f":"'Bespoke Area Data'!EB96","v":0},{"$f":"'Bespoke Area Data'!EC96","v":0},{"$f":"'Bespoke Area Data'!ED96","v":0},{"$f":"'Bespoke Area Data'!EE96","v":0},{"$f":"'Bespoke Area Data'!EF96","v":0},{"$f":"'Bespoke Area Data'!EG96","v":0},{"$f":"'Bespoke Area Data'!EH96","v":0},{"$f":"'Bespoke Area Data'!EI96","v":0},{"$f":"'Bespoke Area Data'!EJ96","v":0},{"$f":"'Bespoke Area Data'!EK96","v":0},{"$f":"'Bespoke Area Data'!EL96","v":0},{"$f":"'Bespoke Area Data'!EM96","v":0},{"$f":"'Bespoke Area Data'!EN96","v":0},{"$f":"'Bespoke Area Data'!EO96","v":0},{"$f":"'Bespoke Area Data'!EP96","v":0},{"$f":"'Bespoke Area Data'!EQ96","v":0},{"$f":"'Bespoke Area Data'!ER96","v":0},{"$f":"'Bespoke Area Data'!ES96","v":0},{"$f":"'Bespoke Area Data'!ET96","v":0},{"$f":"'Bespoke Area Data'!EU96","v":0},{"$f":"'Bespoke Area Data'!EV96","v":0},{"$f":"'Bespoke Area Data'!EW96","v":0},{"$f":"'Bespoke Area Data'!EX96","v":0},{"$f":"'Bespoke Area Data'!EY96","v":0},{"$f":"'Bespoke Area Data'!EZ96","v":0},{"$f":"'Bespoke Area Data'!FA96","v":0},{"$f":"'Bespoke Area Data'!FB96","v":0},{"$f":"'Bespoke Area Data'!FC96","v":0},{"$f":"'Bespoke Area Data'!FD96","v":0},{"$f":"'Bespoke Area Data'!D97","v":0},{"$f":"'Bespoke Area Data'!E97","v":0},{"$f":"'Bespoke Area Data'!F97","v":0},{"$f":"'Bespoke Area Data'!G97","v":0},{"$f":"'Bespoke Area Data'!H97","v":0},{"$f":"'Bespoke Area Data'!I97","v":0},{"$f":"'Bespoke Area Data'!J97","v":0},{"$f":"'Bespoke Area Data'!K97","v":0},{"$f":"'Bespoke Area Data'!L97","v":0},{"$f":"'Bespoke Area Data'!M97","v":0},{"$f":"'Bespoke Area Data'!N97","v":0},{"$f":"'Bespoke Area Data'!O97","v":0},{"$f":"'Bespoke Area Data'!P97","v":0},{"$f":"'Bespoke Area Data'!Q97","v":0},{"$f":"'Bespoke Area Data'!R97","v":0},{"$f":"'Bespoke Area Data'!S97","v":0},{"$f":"'Bespoke Area Data'!T97","v":0},{"$f":"'Bespoke Area Data'!U97","v":0},{"$f":"'Bespoke Area Data'!V97","v":0},{"$f":"'Bespoke Area Data'!W97","v":0},{"$f":"'Bespoke Area Data'!X97","v":0},{"$f":"'Bespoke Area Data'!Y97","v":0},{"$f":"'Bespoke Area Data'!Z97","v":0},{"$f":"'Bespoke Area Data'!AA97","v":0},{"$f":"'Bespoke Area Data'!AB97","v":0},{"$f":"'Bespoke Area Data'!AC97","v":0},{"$f":"'Bespoke Area Data'!AD97","v":0},{"$f":"'Bespoke Area Data'!AE97","v":0},{"$f":"'Bespoke Area Data'!AF97","v":0},{"$f":"'Bespoke Area Data'!AG97","v":0},{"$f":"'Bespoke Area Data'!AH97","v":0},{"$f":"'Bespoke Area Data'!AI97","v":0},{"$f":"'Bespoke Area Data'!AJ97","v":0},{"$f":"'Bespoke Area Data'!AK97","v":0},{"$f":"'Bespoke Area Data'!AL97","v":0},{"$f":"'Bespoke Area Data'!AM97","v":0},{"$f":"'Bespoke Area Data'!AN97","v":0},{"$f":"'Bespoke Area Data'!AO97","v":0},{"$f":"'Bespoke Area Data'!AP97","v":0},{"$f":"'Bespoke Area Data'!AQ97","v":0},{"$f":"'Bespoke Area Data'!AR97","v":0},{"$f":"'Bespoke Area Data'!AS97","v":0},{"$f":"'Bespoke Area Data'!AT97","v":0},{"$f":"'Bespoke Area Data'!AU97","v":0},{"$f":"'Bespoke Area Data'!AV97","v":0},{"$f":"'Bespoke Area Data'!AW97","v":0},{"$f":"'Bespoke Area Data'!AX97","v":0},{"$f":"'Bespoke Area Data'!AY97","v":0},{"$f":"'Bespoke Area Data'!AZ97","v":0},{"$f":"'Bespoke Area Data'!BA97","v":0},{"$f":"'Bespoke Area Data'!BB97","v":0},{"$f":"'Bespoke Area Data'!BC97","v":0},{"$f":"'Bespoke Area Data'!BD97","v":0},{"$f":"'Bespoke Area Data'!BE97","v":0},{"$f":"'Bespoke Area Data'!BF97","v":0},{"$f":"'Bespoke Area Data'!BG97","v":0},{"$f":"'Bespoke Area Data'!BH97","v":0},{"$f":"'Bespoke Area Data'!BI97","v":0},{"$f":"'Bespoke Area Data'!BJ97","v":0},{"$f":"'Bespoke Area Data'!BK97","v":0},{"$f":"'Bespoke Area Data'!BL97","v":0},{"$f":"'Bespoke Area Data'!BM97","v":0},{"$f":"'Bespoke Area Data'!BN97","v":0},{"$f":"'Bespoke Area Data'!BO97","v":0},{"$f":"'Bespoke Area Data'!BP97","v":0}]
["Bespoke","N/A",{"$f":"IF('Bespoke Area Name'!C28=\"\",\"No bespoke area name entered; Go to sheet \"\"Bespoke Area Name\"\"\",'Bespoke Area Name'!C28)","v":"No bespoke area name entered; Go to sheet \"Bespoke Area Name\""},"AREA0025",{"$f":"'Bespoke Area Data'!D100","v":0},{"$f":"'Bespoke Area Data'!E100","v":0},{"$f":"'Bespoke Area Data'!F100","v":0},{"$f":"'Bespoke Area Data'!G100","v":0},{"$f":"'Bespoke Area Data'!H100","v":0},{"$f":"'Bespoke Area Data'!I100","v":0},{"$f":"'Bespoke Area Data'!J100","v":0},{"$f":"'Bespoke Area Data'!K100","v":0},{"$f":"'Bespoke Area Data'!L100","v":0},{"$f":"'Bespoke Area Data'!M100","v":0},{"$f":"'Bespoke Area Data'!N100","v":0},{"$f":"'Bespoke Area Data'!O100","v":0},{"$f":"'Bespoke Area Data'!P100","v":0},{"$f":"'Bespoke Area Data'!Q100","v":0},{"$f":"'Bespoke Area Data'!R100","v":0},{"$f":"'Bespoke Area Data'!S100","v":0},{"$f":"'Bespoke Area Data'!T100","v":0},{"$f":"'Bespoke Area Data'!U100","v":0},{"$f":"'Bespoke Area Data'!V100","v":0},{"$f":"'Bespoke Area Data'!W100","v":0},{"$f":"'Bespoke Area Data'!X100","v":0},{"$f":"'Bespoke Area Data'!Y100","v":0},{"$f":"'Bespoke Area Data'!Z100","v":0},{"$f":"'Bespoke Area Data'!AA100","v":0},{"$f":"'Bespoke Area Data'!AB100","v":0},{"$f":"'Bespoke Area Data'!AC100","v":0},{"$f":"'Bespoke Area Data'!AD100","v":0},{"$f":"'Bespoke Area Data'!AE100","v":0},{"$f":"'Bespoke Area Data'!AF100","v":0},{"$f":"'Bespoke Area Data'!AG100","v":0},{"$f":"'Bespoke Area Data'!AH100","v":0},{"$f":"'Bespoke Area Data'!AI100","v":0},{"$f":"'Bespoke Area Data'!AJ100","v":0},{"$f":"'Bespoke Area Data'!AK100","v":0},{"$f":"'Bespoke Area Data'!AL100","v":0},{"$f":"'Bespoke Area Data'!AM100","v":0},{"$f":"'Bespoke Area Data'!AN100","v":0},{"$f":"'Bespoke Area Data'!AO100","v":0},{"$f":"'Bespoke Area Data'!AP100","v":0},{"$f":"'Bespoke Area Data'!AQ100","v":0},{"$f":"'Bespoke Area Data'!AR100","v":0},{"$f":"'Bespoke Area Data'!AS100","v":0},{"$f":"'Bespoke Area Data'!AT100","v":0},{"$f":"'Bespoke Area Data'!AU100","v":0},{"$f":"'Bespoke Area Data'!AV100","v":0},{"$f":"'Bespoke Area Data'!AW100","v":0},{"$f":"'Bespoke Area Data'!AX100","v":0},{"$f":"'Bespoke Area Data'!AY100","v":0},{"$f":"'Bespoke Area Data'!AZ100","v":0},{"$f":"'Bespoke Area Data'!BA100","v":0},{"$f":"'Bespoke Area Data'!BB100","v":0},{"$f":"'Bespoke Area Data'!BC100","v":0},{"$f":"'Bespoke Area Data'!BD100","v":0},{"$f":"'Bespoke Area Data'!BE100","v":0},{"$f":"'Bespoke Area Data'!BF100","v":0},{"$f":"'Bespoke Area Data'!BG100","v":0},{"$f":"'Bespoke Area Data'!BH100","v":0},{"$f":"'Bespoke Area Data'!BI100","v":0},{"$f":"'Bespoke Area Data'!BJ100","v":0},{"$f":"'Bespoke Area Data'!BK100","v":0},{"$f":"'Bespoke Area Data'!BL100","v":0},{"$f":"'Bespoke Area Data'!BM100","v":0},{"$f":"'Bespoke Area Data'!BN100","v":0},{"$f":"'Bespoke Area Data'!BO100","v":0},{"$f":"'Bespoke Area Data'!BP100","v":0},{"$f":"'Bespoke Area Data'!BQ100","v":0},{"$f":"'Bespoke Area Data'!BR100","v":0},{"$f":"'Bespoke Area Data'!BS100","v":0},{"$f":"'Bespoke Area Data'!BT100","v":0},{"$f":"'Bespoke Area Data'!BU100","v":0},{"$f":"'Bespoke Area Data'!BV100","v":0},{"$f":"'Bespoke Area Data'!BW100","v":0},{"$f":"'Bespoke Area Data'!BX100","v":0},{"$f":"'Bespoke Area Data'!BY100","v":0},{"$f":"'Bespoke Area Data'!BZ100","v":0},{"$f":"'Bespoke Area Data'!CA100","v":0},{"$f":"'Bespoke Area Data'!CB100","v":0},{"$f":"'Bespoke Area Data'!CC100","v":0},{"$f":"'Bespoke Area Data'!CD100","v":0},{"$f":"'Bespoke Area Data'!CE100","v":0},{"$f":"'Bespoke Area Data'!CF100","v":0},{"$f":"'Bespoke Area Data'!CG100","v":0},{"$f":"'Bespoke Area Data'!CH100","v":0},{"$f":"'Bespoke Area Data'!CI100","v":0},{"$f":"'Bespoke Area Data'!CJ100","v":0},{"$f":"'Bespoke Area Data'!CK100","v":0},{"$f":"'Bespoke Area Data'!CL100","v":0},{"$f":"'Bespoke Area Data'!CM100","v":0},{"$f":"'Bespoke Area Data'!CN100","v":0},{"$f":"'Bespoke Area Data'!CO100","v":0},{"$f":"'Bespoke Area Data'!CP100","v":0},{"$f":"'Bespoke Area Data'!CQ100","v":0},{"$f":"'Bespoke Area Data'!CR100","v":0},{"$f":"'Bespoke Area Data'!CS100","v":0},{"$f":"'Bespoke Area Data'!CT100","v":0},{"$f":"'Bespoke Area Data'!CU100","v":0},{"$f":"'Bespoke Area Data'!CV100","v":0},{"$f":"'Bespoke Area Data'!CW100","v":0},{"$f":"'Bespoke Area Data'!CX100","v":0},{"$f":"'Bespoke Area Data'!CY100","v":0},{"$f":"'Bespoke Area Data'!CZ100","v":0},{"$f":"'Bespoke Area Data'!DA100","v":0},{"$f":"'Bespoke Area Data'!DB100","v":0},{"$f":"'Bespoke Area Data'!DC100","v":0},{"$f":"'Bespoke Area Data'!DD100","v":0},{"$f":"'Bespoke Area Data'!DE100","v":0},{"$f":"'Bespoke Area Data'!DF100","v":0},{"$f":"'Bespoke Area Data'!DG100","v":0},{"$f":"'Bespoke Area Data'!DH100","v":0},{"$f":"'Bespoke Area Data'!DI100","v":0},{"$f":"'Bespoke Area Data'!DJ100","v":0},{"$f":"'Bespoke Area Data'!DK100","v":0},{"$f":"'Bespoke Area Data'!DL100","v":0},{"$f":"'Bespoke Area Data'!DM100","v":0},{"$f":"'Bespoke Area Data'!DN100","v":0},{"$f":"'Bespoke Area Data'!DO100","v":0},{"$f":"'Bespoke Area Data'!DP100","v":0},{"$f":"'Bespoke Area Data'!DQ100","v":0},{"$f":"'Bespoke Area Data'!DR100","v":0},{"$f":"'Bespoke Area Data'!DS100","v":0},{"$f":"'Bespoke Area Data'!DT100","v":0},{"$f":"'Bespoke Area Data'!DU100","v":0},{"$f":"'Bespoke Area Data'!DV100","v":0},{"$f":"'Bespoke Area Data'!DW100","v":0},{"$f":"'Bespoke Area Data'!DX100","v":0},{"$f":"'Bespoke Area Data'!DY100","v":0},{"$f":"'Bespoke Area Data'!DZ100","v":0},{"$f":"'Bespoke Area Data'!EA100","v":0},{"$f":"'Bespoke Area Data'!EB100","v":0},{"$f":"'Bespoke Area Data'!EC100","v":0},{"$f":"'Bespoke Area Data'!ED100","v":0},{"$f":"'Bespoke Area Data'!EE100","v":0},{"$f":"'Bespoke Area Data'!EF100","v":0},{"$f":"'Bespoke Area Data'!EG100","v":0},{"$f":"'Bespoke Area Data'!EH100","v":0},{"$f":"'Bespoke Area Data'!EI100","v":0},{"$f":"'Bespoke Area Data'!EJ100","v":0},{"$f":"'Bespoke Area Data'!EK100","v":0},{"$f":"'Bespoke Area Data'!EL100","v":0},{"$f":"'Bespoke Area Data'!EM100","v":0},{"$f":"'Bespoke Area Data'!EN100","v":0},{"$f":"'Bespoke Area Data'!EO100","v":0},{"$f":"'Bespoke Area Data'!EP100","v":0},{"$f":"'Bespoke Area Data'!EQ100","v":0},{"$f":"'Bespoke Area Data'!ER100","v":0},{"$f":"'Bespoke Area Data'!ES100","v":0},{"$f":"'Bespoke Area Data'!ET100","v":0},{"$f":"'Bespoke Area Data'!EU100","v":0},{"$f":"'Bespoke Area Data'!EV100","v":0},{"$f":"'Bespoke Area Data'!EW100","v":0},{"$f":"'Bespoke Area Data'!EX100","v":0},{"$f":"'Bespoke Area Data'!EY100","v":0},{"$f":"'Bespoke Area Data'!EZ100","v":0},{"$f":"'Bespoke Area Data'!FA100","v":0},{"$f":"'Bespoke Area Data'!FB100","v":0},{"$f":"'Bespoke Area Data'!FC100","v":0},{"$f":"'Bespoke Area Data'!FD100","v":0},{"$f":"'Bespoke Area Data'!D101","v":0},{"$f":"'Bespoke Area Data'!E101","v":0},{"$f":"'Bespoke Area Data'!F101","v":0},{"$f":"'Bespoke Area Data'!G101","v":0},{"$f":"'Bespoke Area Data'!H101","v":0},{"$f":"'Bespoke Area Data'!I101","v":0},{"$f":"'Bespoke Area Data'!J101","v":0},{"$f":"'Bespoke Area Data'!K101","v":0},{"$f":"'Bespoke Area Data'!L101","v":0},{"$f":"'Bespoke Area Data'!M101","v":0},{"$f":"'Bespoke Area Data'!N101","v":0},{"$f":"'Bespoke Area Data'!O101","v":0},{"$f":"'Bespoke Area Data'!P101","v":0},{"$f":"'Bespoke Area Data'!Q101","v":0},{"$f":"'Bespoke Area Data'!R101","v":0},{"$f":"'Bespoke Area Data'!S101","v":0},{"$f":"'Bespoke Area Data'!T101","v":0},{"$f":"'Bespoke Area Data'!U101","v":0},{"$f":"'Bespoke Area Data'!V101","v":0},{"$f":"'Bespoke Area Data'!W101","v":0},{"$f":"'Bespoke Area Data'!X101","v":0},{"$f":"'Bespoke Area Data'!Y101","v":0},{"$f":"'Bespoke Area Data'!Z101","v":0},{"$f":"'Bespoke Area Data'!AA101","v":0},{"$f":"'Bespoke Area Data'!AB101","v":0},{"$f":"'Bespoke Area Data'!AC101","v":0},{"$f":"'Bespoke Area Data'!AD101","v":0},{"$f":"'Bespoke Area Data'!AE101","v":0},{"$f":"'Bespoke Area Data'!AF101","v":0},{"$f":"'Bespoke Area Data'!AG101","v":0},{"$f":"'Bespoke Area Data'!AH101","v":0},{"$f":"'Bespoke Area Data'!AI101","v":0},{"$f":"'Bespoke Area Data'!AJ101","v":0},{"$f":"'Bespoke Area Data'!AK101","v":0},{"$f":"'Bespoke Area Data'!AL101","v":0},{"$f":"'Bespoke Area Data'!AM101","v":0},{"$f":"'Bespoke Area Data'!AN101","v":0},{"$f":"'Bespoke Area Data'!AO101","v":0},{"$f":"'Bespoke Area Data'!AP101","v":0},{"$f":"'Bespoke Area Data'!AQ101","v":0},{"$f":"'Bespoke Area Data'!AR101","v":0},{"$f":"'Bespoke Area Data'!AS101","v":0},{"$f":"'Bespoke Area Data'!AT101","v":0},{"$f":"'Bespoke Area Data'!AU101","v":0},{"$f":"'Bespoke Area Data'!AV101","v":0},{"$f":"'Bespoke Area Data'!AW101","v":0},{"$f":"'Bespoke Area Data'!AX101","v":0},{"$f":"'Bespoke Area Data'!AY101","v":0},{"$f":"'Bespoke Area Data'!AZ101","v":0},{"$f":"'Bespoke Area Data'!BA101","v":0},{"$f":"'Bespoke Area Data'!BB101","v":0},{"$f":"'Bespoke Area Data'!BC101","v":0},{"$f":"'Bespoke Area Data'!BD101","v":0},{"$f":"'Bespoke Area Data'!BE101","v":0},{"$f":"'Bespoke Area Data'!BF101","v":0},{"$f":"'Bespoke Area Data'!BG101","v":0},{"$f":"'Bespoke Area Data'!BH101","v":0},{"$f":"'Bespoke Area Data'!BI101","v":0},{"$f":"'Bespoke Area Data'!BJ101","v":0},{"$f":"'Bespoke Area Data'!BK101","v":0},{"$f":"'Bespoke Area Data'!BL101","v":0},{"$f":"'Bespoke Area Data'!BM101","v":0},{"$f":"'Bespoke Area Data'!BN101","v":0},{"$f":"'Bespoke Area Data'!BO101","v":0},{"$f":"'Bespoke Area Data'!BP101","v":0}]
["Bespoke","N/A",{"$f":"IF('Bespoke Area Name'!C29=\"\",\"No bespoke area name entered; Go to sheet \"\"Bespoke Area Name\"\"\",'Bespoke Area Name'!C29)","v":"No bespoke area name entered; Go to sheet \"Bespoke Area Name\""},"AREA0026",{"$f":"'Bespoke Area Data'!D104","v":0},{"$f":"'Bespoke Area Data'!E104","v":0},{"$f":"'Bespoke Area Data'!F104","v":0},{"$f":"'Bespoke Area Data'!G104","v":0},{"$f":"'Bespoke Area Data'!H104","v":0},{"$f":"'Bespoke Area Data'!I104","v":0},{"$f":"'Bespoke Area Data'!J104","v":0},{"$f":"'Bespoke Area Data'!K104","v":0},{"$f":"'Bespoke Area Data'!L104","v":0},{"$f":"'Bespoke Area Data'!M104","v":0},{"$f":"'Bespoke Area Data'!N104","v":0},{"$f":"'Bespoke Area Data'!O104","v":0},{"$f":"'Bespoke Area Data'!P104","v":0},{"$f":"'Bespoke Area Data'!Q104","v":0},{"$f":"'Bespoke Area Data'!R104","v":0},{"$f":"'Bespoke Area Data'!S104","v":0},{"$f":"'Bespoke Area Data'!T104","v":0},{"$f":"'Bespoke Area Data'!U104","v":0},{"$f":"'Bespoke Area Data'!V104","v":0},{"$f":"'Bespoke Area Data'!W104","v":0},{"$f":"'Bespoke Area Data'!X104","v":0},{"$f":"'Bespoke Area Data'!Y104","v":0},{"$f":"'Bespoke Area Data'!Z104","v":0},{"$f":"'Bespoke Area Data'!AA104","v":0},{"$f":"'Bespoke Area Data'!AB104","v":0},{"$f":"'Bespoke Area Data'!AC104","v":0},{"$f":"'Bespoke Area Data'!AD104","v":0},{"$f":"'Bespoke Area Data'!AE104","v":0},{"$f":"'Bespoke Area Data'!AF104","v":0},{"$f":"'Bespoke Area Data'!AG104","v":0},{"$f":"'Bespoke Area Data'!AH104","v":0},{"$f":"'Bespoke Area Data'!AI104","v":0},{"$f":"'Bespoke Area Data'!AJ104","v":0},{"$f":"'Bespoke Area Data'!AK104","v":0},{"$f":"'Bespoke Area Data'!AL104","v":0},{"$f":"'Bespoke Area Data'!AM104","v":0},{"$f":"'Bespoke Area Data'!AN104","v":0},{"$f":"'Bespoke Area Data'!AO104","v":0},{"$f":"'Bespoke Area Data'!AP104","v":0},{"$f":"'Bespoke Area Data'!AQ104","v":0},{"$f":"'Bespoke Area Data'!AR104","v":0},{"$f":"'Bespoke Area Data'!AS104","v":0},{"$f":"'Bespoke Area Data'!AT104","v":0},{"$f":"'Bespoke Area Data'!AU104","v":0},{"$f":"'Bespoke Area Data'!AV104","v":0},{"$f":"'Bespoke Area Data'!AW104","v":0},{"$f":"'Bespoke Area Data'!AX104","v":0},{"$f":"'Bespoke Area Data'!AY104","v":0},{"$f":"'Bespoke Area Data'!AZ104","v":0},{"$f":"'Bespoke Area Data'!BA104","v":0},{"$f":"'Bespoke Area Data'!BB104","v":0},{"$f":"'Bespoke Area Data'!BC104","v":0},{"$f":"'Bespoke Area Data'!BD104","v":0},{"$f":"'Bespoke Area Data'!BE104","v":0},{"$f":"'Bespoke Area Data'!BF104","v":0},{"$f":"'Bespoke Area Data'!BG104","v":0},{"$f":"'Bespoke Area Data'!BH104","v":0},{"$f":"'Bespoke Area Data'!BI104","v":0},{"$f":"'Bespoke Area Data'!BJ104","v":0},{"$f":"'Bespoke Area Data'!BK104","v":0},{"$f":"'Bespoke Area Data'!BL104","v":0},{"$f":"'Bespoke Area Data'!BM104","v":0},{"$f":"'Bespoke Area Data'!BN104","v":0},{"$f":"'Bespoke Area Data'!BO104","v":0},{"$f":"'Bespoke Area Data'!BP104","v":0},{"$f":"'Bespoke Area Data'!BQ104","v":0},{"$f":"'Bespoke Area Data'!BR104","v":0},{"$f":"'Bespoke Area Data'!BS104","v":0},{"$f":"'Bespoke Area Data'!BT104","v":0},{"$f":"'Bespoke Area Data'!BU104","v":0},{"$f":"'Bespoke Area Data'!BV104","v":0},{"$f":"'Bespoke Area Data'!BW104","v":0},{"$f":"'Bespoke Area Data'!BX104","v":0},{"$f":"'Bespoke Area Data'!BY104","v":0},{"$f":"'Bespoke Area Data'!BZ104","v":0},{"$f":"'Bespoke Area Data'!CA104","v":0},{"$f":"'Bespoke Area Data'!CB104","v":0},{"$f":"'Bespoke Area Data'!CC104","v":0},{"$f":"'Bespoke Area Data'!CD104","v":0},{"$f":"'Bespoke Area Data'!CE104","v":0},{"$f":"'Bespoke Area Data'!CF104","v":0},{"$f":"'Bespoke Area Data'!CG104","v":0},{"$f":"'Bespoke Area Data'!CH104","v":0},{"$f":"'Bespoke Area Data'!CI104","v":0},{"$f":"'Bespoke Area Data'!CJ104","v":0},{"$f":"'Bespoke Area Data'!CK104","v":0},{"$f":"'Bespoke Area Data'!CL104","v":0},{"$f":"'Bespoke Area Data'!CM104","v":0},{"$f":"'Bespoke Area Data'!CN104","v":0},{"$f":"'Bespoke Area Data'!CO104","v":0},{"$f":"'Bespoke Area Data'!CP104","v":0},{"$f":"'Bespoke Area Data'!CQ104","v":0},{"$f":"'Bespoke Area Data'!CR104","v":0},{"$f":"'Bespoke Area Data'!CS104","v":0},{"$f":"'Bespoke Area Data'!CT104","v":0},{"$f":"'Bespoke Area Data'!CU104","v":0},{"$f":"'Bespoke Area Data'!CV104","v":0},{"$f":"'Bespoke Area Data'!CW104","v":0},{"$f":"'Bespoke Area Data'!CX104","v":0},{"$f":"'Bespoke Area Data'!CY104","v":0},{"$f":"'Bespoke Area Data'!CZ104","v":0},{"$f":"'Bespoke Area Data'!DA104","v":0},{"$f":"'Bespoke Area Data'!DB104","v":0},{"$f":"'Bespoke Area Data'!DC104","v":0},{"$f":"'Bespoke Area Data'!DD104","v":0},{"$f":"'Bespoke Area Data'!DE104","v":0},{"$f":"'Bespoke Area Data'!DF104","v":0},{"$f":"'Bespoke Area Data'!DG104","v":0},{"$f":"'Bespoke Area Data'!DH104","v":0},{"$f":"'Bespoke Area Data'!DI104","v":0},{"$f":"'Bespoke Area Data'!DJ104","v":0},{"$f":"'Bespoke Area Data'!DK104","v":0},{"$f":"'Bespoke Area Data'!DL104","v":0},{"$f":"'Bespoke Area Data'!DM104","v":0},{"$f":"'Bespoke Area Data'!DN104","v":0},{"$f":"'Bespoke Area Data'!DO104","v":0},{"$f":"'Bespoke Area Data'!DP104","v":0},{"$f":"'Bespoke Area Data'!DQ104","v":0},{"$f":"'Bespoke Area Data'!DR104","v":0},{"$f":"'Bespoke Area Data'!DS104","v":0},{"$f":"'Bespoke Area Data'!DT104","v":0},{"$f":"'Bespoke Area Data'!DU104","v":0},{"$f":"'Bespoke Area Data'!DV104","v":0},{"$f":"'Bespoke Area Data'!DW104","v":0},{"$f":"'Bespoke Area Data'!DX104","v":0},{"$f":"'Bespoke Area Data'!DY104","v":0},{"$f":"'Bespoke Area Data'!DZ104","v":0},{"$f":"'Bespoke Area Data'!EA104","v":0},{"$f":"'Bespoke Area Data'!EB104","v":0},{"$f":"'Bespoke Area Data'!EC104","v":0},{"$f":"'Bespoke Area Data'!ED104","v":0},{"$f":"'Bespoke Area Data'!EE104","v":0},{"$f":"'Bespoke Area Data'!EF104","v":0},{"$f":"'Bespoke Area Data'!EG104","v":0},{"$f":"'Bespoke Area Data'!EH104","v":0},{"$f":"'Bespoke Area Data'!EI104","v":0},{"$f":"'Bespoke Area Data'!EJ104","v":0},{"$f":"'Bespoke Area Data'!EK104","v":0},{"$f":"'Bespoke Area Data'!EL104","v":0},{"$f":"'Bespoke Area Data'!EM104","v":0},{"$f":"'Bespoke Area Data'!EN104","v":0},{"$f":"'Bespoke Area Data'!EO104","v":0},{"$f":"'Bespoke Area Data'!EP104","v":0},{"$f":"'Bespoke Area Data'!EQ104","v":0},{"$f":"'Bespoke Area Data'!ER104","v":0},{"$f":"'Bespoke Area Data'!ES104","v":0},{"$f":"'Bespoke Area Data'!ET104","v":0},{"$f":"'Bespoke Area Data'!EU104","v":0},{"$f":"'Bespoke Area Data'!EV104","v":0},{"$f":"'Bespoke Area Data'!EW104","v":0},{"$f":"'Bespoke Area Data'!EX104","v":0},{"$f":"'Bespoke Area Data'!EY104","v":0},{"$f":"'Bespoke Area Data'!EZ104","v":0},{"$f":"'Bespoke Area Data'!FA104","v":0},{"$f":"'Bespoke Area Data'!FB104","v":0},{"$f":"'Bespoke Area Data'!FC104","v":0},{"$f":"'Bespoke Area Data'!FD104","v":0},{"$f":"'Bespoke Area Data'!D105","v":0},{"$f":"'Bespoke Area Data'!E105","v":0},{"$f":"'Bespoke Area Data'!F105","v":0},{"$f":"'Bespoke Area Data'!G105","v":0},{"$f":"'Bespoke Area Data'!H105","v":0},{"$f":"'Bespoke Area Data'!I105","v":0},{"$f":"'Bespoke Area Data'!J105","v":0},{"$f":"'Bespoke Area Data'!K105","v":0},{"$f":"'Bespoke Area Data'!L105","v":0},{"$f":"'Bespoke Area Data'!M105","v":0},{"$f":"'Bespoke Area Data'!N105","v":0},{"$f":"'Bespoke Area Data'!O105","v":0},{"$f":"'Bespoke Area Data'!P105","v":0},{"$f":"'Bespoke Area Data'!Q105","v":0},{"$f":"'Bespoke Area Data'!R105","v":0},{"$f":"'Bespoke Area Data'!S105","v":0},{"$f":"'Bespoke Area Data'!T105","v":0},{"$f":"'Bespoke Area Data'!U105","v":0},{"$f":"'Bespoke Area Data'!V105","v":0},{"$f":"'Bespoke Area Data'!W105","v":0},{"$f":"'Bespoke Area Data'!X105","v":0},{"$f":"'Bespoke Area Data'!Y105","v":0},{"$f":"'Bespoke Area Data'!Z105","v":0},{"$f":"'Bespoke Area Data'!AA105","v":0},{"$f":"'Bespoke Area Data'!AB105","v":0},{"$f":"'Bespoke Area Data'!AC105","v":0},{"$f":"'Bespoke Area Data'!AD105","v":0},{"$f":"'Bespoke Area Data'!AE105","v":0},{"$f":"'Bespoke Area Data'!AF105","v":0},{"$f":"'Bespoke Area Data'!AG105","v":0},{"$f":"'Bespoke Area Data'!AH105","v":0},{"$f":"'Bespoke Area Data'!AI105","v":0},{"$f":"'Bespoke Area Data'!AJ105","v":0},{"$f":"'Bespoke Area Data'!AK105","v":0},{"$f":"'Bespoke Area Data'!AL105","v":0},{"$f":"'Bespoke Area Data'!AM105","v":0},{"$f":"'Bespoke Area Data'!AN105","v":0},{"$f":"'Bespoke Area Data'!AO105","v":0},{"$f":"'Bespoke Area Data'!AP105","v":0},{"$f":"'Bespoke Area Data'!AQ105","v":0},{"$f":"'Bespoke Area Data'!AR105","v":0},{"$f":"'Bespoke Area Data'!AS105","v":0},{"$f":"'Bespoke Area Data'!AT105","v":0},{"$f":"'Bespoke Area Data'!AU105","v":0},{"$f":"'Bespoke Area Data'!AV105","v":0},{"$f":"'Bespoke Area Data'!AW105","v":0},{"$f":"'Bespoke Area Data'!AX105","v":0},{"$f":"'Bespoke Area Data'!AY105","v":0},{"$f":"'Bespoke Area Data'!AZ105","v":0},{"$f":"'Bespoke Area Data'!BA105","v":0},{"$f":"'Bespoke Area Data'!BB105","v":0},{"$f":"'Bespoke Area Data'!BC105","v":0},{"$f":"'Bespoke Area Data'!BD105","v":0},{"$f":"'Bespoke Area Data'!BE105","v":0},{"$f":"'Bespoke Area Data'!BF105","v":0},{"$f":"'Bespoke Area Data'!BG105","v":0},{"$f":"'Bespoke Area Data'!BH105","v":0},{"$f":"'Bespoke Area Data'!BI105","v":0},{"$f":"'Bespoke Area Data'!BJ105","v":0},{"$f":"'Bespoke Area Data'!BK105","v":0},{"$f":"'Bespoke Area Data'!BL105","v":0},{"$f":"'Bespoke Area Data'!BM105","v":0},{"$f":"'Bespoke Area Data'!BN105","v":0},{"$f":"'Bespoke Area Data'!BO105","v":0},{"$f":"'Bespoke Area Data'!BP105","v":0}]
["Bespoke","N/A",{"$f":"IF('Bespoke Area Name'!C30=\"\",\"No bespoke area name entered; Go to sheet \"\"Bespoke Area Name\"\"\",'Bespoke Area Name'!C30)","v":"No bespoke area name entered; Go to sheet \"Bespoke Area Name\""},"AREA0027",{"$f":"'Bespoke Area Data'!D108","v":0},{"$f":"'Bespoke Area Data'!E108","v":0},{"$f":"'Bespoke Area Data'!F108","v":0},{"$f":"'Bespoke Area Data'!G108","v":0},{"$f":"'Bespoke Area Data'!H108","v":0},{"$f":"'Bespoke Area Data'!I108","v":0},{"$f":"'Bespoke Area Data'!J108","v":0},{"$f":"'Bespoke Area Data'!K108","v":0},{"$f":"'Bespoke Area Data'!L108","v":0},{"$f":"'Bespoke Area Data'!M108","v":0},{"$f":"'Bespoke Area Data'!N108","v":0},{"$f":"'Bespoke Area Data'!O108","v":0},{"$f":"'Bespoke Area Data'!P108","v":0},{"$f":"'Bespoke Area Data'!Q108","v":0},{"$f":"'Bespoke Area Data'!R108","v":0},{"$f":"'Bespoke Area Data'!S108","v":0},{"$f":"'Bespoke Area Data'!T108","v":0},{"$f":"'Bespoke Area Data'!U108","v":0},{"$f":"'Bespoke Area Data'!V108","v":0},{"$f":"'Bespoke Area Data'!W108","v":0},{"$f":"'Bespoke Area Data'!X108","v":0},{"$f":"'Bespoke Area Data'!Y108","v":0},{"$f":"'Bespoke Area Data'!Z108","v":0},{"$f":"'Bespoke Area Data'!AA108","v":0},{"$f":"'Bespoke Area Data'!AB108","v":0},{"$f":"'Bespoke Area Data'!AC108","v":0},{"$f":"'Bespoke Area Data'!AD108","v":0},{"$f":"'Bespoke Area Data'!AE108","v":0},{"$f":"'Bespoke Area Data'!AF108","v":0},{"$f":"'Bespoke Area Data'!AG108","v":0},{"$f":"'Bespoke Area Data'!AH108","v":0},{"$f":"'Bespoke Area Data'!AI108","v":0},{"$f":"'Bespoke Area Data'!AJ108","v":0},{"$f":"'Bespoke Area Data'!AK108","v":0},{"$f":"'Bespoke Area Data'!AL108","v":0},{"$f":"'Bespoke Area Data'!AM108","v":0},{"$f":"'Bespoke Area Data'!AN108","v":0},{"$f":"'Bespoke Area Data'!AO108","v":0},{"$f":"'Bespoke Area Data'!AP108","v":0},{"$f":"'Bespoke Area Data'!AQ108","v":0},{"$f":"'Bespoke Area Data'!AR108","v":0},{"$f":"'Bespoke Area Data'!AS108","v":0},{"$f":"'Bespoke Area Data'!AT108","v":0},{"$f":"'Bespoke Area Data'!AU108","v":0},{"$f":"'Bespoke Area Data'!AV108","v":0},{"$f":"'Bespoke Area Data'!AW108","v":0},{"$f":"'Bespoke Area Data'!AX108","v":0},{"$f":"'Bespoke Area Data'!AY108","v":0},{"$f":"'Bespoke Area Data'!AZ108","v":0},{"$f":"'Bespoke Area Data'!BA108","v":0},{"$f":"'Bespoke Area Data'!BB108","v":0},{"$f":"'Bespoke Area Data'!BC108","v":0},{"$f":"'Bespoke Area Data'!BD108","v":0},{"$f":"'Bespoke Area Data'!BE108","v":0},{"$f":"'Bespoke Area Data'!BF108","v":0},{"$f":"'Bespoke Area Data'!BG108","v":0},{"$f":"'Bespoke Area Data'!BH108","v":0},{"$f":"'Bespoke Area Data'!BI108","v":0},{"$f":"'Bespoke Area Data'!BJ108","v":0},{"$f":"'Bespoke Area Data'!BK108","v":0},{"$f":"'Bespoke Area Data'!BL108","v":0},{"$f":"'Bespoke Area Data'!BM108","v":0},{"$f":"'Bespoke Area Data'!BN108","v":0},{"$f":"'Bespoke Area Data'!BO108","v":0},{"$f":"'Bespoke Area Data'!BP108","v":0},{"$f":"'Bespoke Area Data'!BQ108","v":0},{"$f":"'Bespoke Area Data'!BR108","v":0},{"$f":"'Bespoke Area Data'!BS108","v":0},{"$f":"'Bespoke Area Data'!BT108","v":0},{"$f":"'Bespoke Area Data'!BU108","v":0},{"$f":"'Bespoke Area Data'!BV108","v":0},{"$f":"'Bespoke Area Data'!BW108","v":0},{"$f":"'Bespoke Area Data'!BX108","v":0},{"$f":"'Bespoke Area Data'!BY108","v":0},{"$f":"'Bespoke Area Data'!BZ108","v":0},{"$f":"'Bespoke Area Data'!CA108","v":0},{"$f":"'Bespoke Area Data'!CB108","v":0},{"$f":"'Bespoke Area Data'!CC108","v":0},{"$f":"'Bespoke Area Data'!CD108","v":0},{"$f":"'Bespoke Area Data'!CE108","v":0},{"$f":"'Bespoke Area Data'!CF108","v":0},{"$f":"'Bespoke Area Data'!CG108","v":0},{"$f":"'Bespoke Area Data'!CH108","v":0},{"$f":"'Bespoke Area Data'!CI108","v":0},{"$f":"'Bespoke Area Data'!CJ108","v":0},{"$f":"'Bespoke Area Data'!CK108","v":0},{"$f":"'Bespoke Area Data'!CL108","v":0},{"$f":"'Bespoke Area Data'!CM108","v":0},{"$f":"'Bespoke Area Data'!CN108","v":0},{"$f":"'Bespoke Area Data'!CO108","v":0},{"$f":"'Bespoke Area Data'!CP108","v":0},{"$f":"'Bespoke Area Data'!CQ108","v":0},{"$f":"'Bespoke Area Data'!CR108","v":0},{"$f":"'Bespoke Area Data'!CS108","v":0},{"$f":"'Bespoke Area Data'!CT108","v":0},{"$f":"'Bespoke Area Data'!CU108","v":0},{"$f":"'Bespoke Area Data'!CV108","v":0},{"$f":"'Bespoke Area Data'!CW108","v":0},{"$f":"'Bespoke Area Data'!CX108","v":0},{"$f":"'Bespoke Area Data'!CY108","v":0},{"$f":"'Bespoke Area Data'!CZ108","v":0},{"$f":"'Bespoke Area Data'!DA108","v":0},{"$f":"'Bespoke Area Data'!DB108","v":0},{"$f":"'Bespoke Area Data'!DC108","v":0},{"$f":"'Bespoke Area Data'!DD108","v":0},{"$f":"'Bespoke Area Data'!DE108","v":0},{"$f":"'Bespoke Area Data'!DF108","v":0},{"$f":"'Bespoke Area Data'!DG108","v":0},{"$f":"'Bespoke Area Data'!DH108","v":0},{"$f":"'Bespoke Area Data'!DI108","v":0},{"$f":"'Bespoke Area Data'!DJ108","v":0},{"$f":"'Bespoke Area Data'!DK108","v":0},{"$f":"'Bespoke Area Data'!DL108","v":0},{"$f":"'Bespoke Area Data'!DM108","v":0},{"$f":"'Bespoke Area Data'!DN108","v":0},{"$f":"'Bespoke Area Data'!DO108","v":0},{"$f":"'Bespoke Area Data'!DP108","v":0},{"$f":"'Bespoke Area Data'!DQ108","v":0},{"$f":"'Bespoke Area Data'!DR108","v":0},{"$f":"'Bespoke Area Data'!DS108","v":0},{"$f":"'Bespoke Area Data'!DT108","v":0},{"$f":"'Bespoke Area Data'!DU108","v":0},{"$f":"'Bespoke Area Data'!DV108","v":0},{"$f":"'Bespoke Area Data'!DW108","v":0},{"$f":"'Bespoke Area Data'!DX108","v":0},{"$f":"'Bespoke Area Data'!DY108","v":0},{"$f":"'Bespoke Area Data'!DZ108","v":0},{"$f":"'Bespoke Area Data'!EA108","v":0},{"$f":"'Bespoke Area Data'!EB108","v":0},{"$f":"'Bespoke Area Data'!EC108","v":0},{"$f":"'Bespoke Area Data'!ED108","v":0},{"$f":"'Bespoke Area Data'!EE108","v":0},{"$f":"'Bespoke Area Data'!EF108","v":0},{"$f":"'Bespoke Area Data'!EG108","v":0},{"$f":"'Bespoke Area Data'!EH108","v":0},{"$f":"'Bespoke Area Data'!EI108","v":0},{"$f":"'Bespoke Area Data'!EJ108","v":0},{"$f":"'Bespoke Area Data'!EK108","v":0},{"$f":"'Bespoke Area Data'!EL108","v":0},{"$f":"'Bespoke Area Data'!EM108","v":0},{"$f":"'Bespoke Area Data'!EN108","v":0},{"$f":"'Bespoke Area Data'!EO108","v":0},{"$f":"'Bespoke Area Data'!EP108","v":0},{"$f":"'Bespoke Area Data'!EQ108","v":0},{"$f":"'Bespoke Area Data'!ER108","v":0},{"$f":"'Bespoke Area Data'!ES108","v":0},{"$f":"'Bespoke Area Data'!ET108","v":0},{"$f":"'Bespoke Area Data'!EU108","v":0},{"$f":"'Bespoke Area Data'!EV108","v":0},{"$f":"'Bespoke Area Data'!EW108","v":0},{"$f":"'Bespoke Area Data'!EX108","v":0},{"$f":"'Bespoke Area Data'!EY108","v":0},{"$f":"'Bespoke Area Data'!EZ108","v":0},{"$f":"'Bespoke Area Data'!FA108","v":0},{"$f":"'Bespoke Area Data'!FB108","v":0},{"$f":"'Bespoke Area Data'!FC108","v":0},{"$f":"'Bespoke Area Data'!FD108","v":0},{"$f":"'Bespoke Area Data'!D109","v":0},{"$f":"'Bespoke Area Data'!E109","v":0},{"$f":"'Bespoke Area Data'!F109","v":0},{"$f":"'Bespoke Area Data'!G109","v":0},{"$f":"'Bespoke Area Data'!H109","v":0},{"$f":"'Bespoke Area Data'!I109","v":0},{"$f":"'Bespoke Area Data'!J109","v":0},{"$f":"'Bespoke Area Data'!K109","v":0},{"$f":"'Bespoke Area Data'!L109","v":0},{"$f":"'Bespoke Area Data'!M109","v":0},{"$f":"'Bespoke Area Data'!N109","v":0},{"$f":"'Bespoke Area Data'!O109","v":0},{"$f":"'Bespoke Area Data'!P109","v":0},{"$f":"'Bespoke Area Data'!Q109","v":0},{"$f":"'Bespoke Area Data'!R109","v":0},{"$f":"'Bespoke Area Data'!S109","v":0},{"$f":"'Bespoke Area Data'!T109","v":0},{"$f":"'Bespoke Area Data'!U109","v":0},{"$f":"'Bespoke Area Data'!V109","v":0},{"$f":"'Bespoke Area Data'!W109","v":0},{"$f":"'Bespoke Area Data'!X109","v":0},{"$f":"'Bespoke Area Data'!Y109","v":0},{"$f":"'Bespoke Area Data'!Z109","v":0},{"$f":"'Bespoke Area Data'!AA109","v":0},{"$f":"'Bespoke Area Data'!AB109","v":0},{"$f":"'Bespoke Area Data'!AC109","v":0},{"$f":"'Bespoke Area Data'!AD109","v":0},{"$f":"'Bespoke Area Data'!AE109","v":0},{"$f":"'Bespoke Area Data'!AF109","v":0},{"$f":"'Bespoke Area Data'!AG109","v":0},{"$f":"'Bespoke Area Data'!AH109","v":0},{"$f":"'Bespoke Area Data'!AI109","v":0},{"$f":"'Bespoke Area Data'!AJ109","v":0},{"$f":"'Bespoke Area Data'!AK109","v":0},{"$f":"'Bespoke Area Data'!AL109","v":0},{"$f":"'Bespoke Area Data'!AM109","v":0},{"$f":"'Bespoke Area Data'!AN109","v":0},{"$f":"'Bespoke Area Data'!AO109","v":0},{"$f":"'Bespoke Area Data'!AP109","v":0},{"$f":"'Bespoke Area Data'!AQ109","v":0},{"$f":"'Bespoke Area Data'!AR109","v":0},{"$f":"'Bespoke Area Data'!AS109","v":0},{"$f":"'Bespoke Area Data'!AT109","v":0},{"$f":"'Bespoke Area Data'!AU109","v":0},{"$f":"'Bespoke Area Data'!AV109","v":0},{"$f":"'Bespoke Area Data'!AW109","v":0},{"$f":"'Bespoke Area Data'!AX109","v":0},{"$f":"'Bespoke Area Data'!AY109","v":0},{"$f":"'Bespoke Area Data'!AZ109","v":0},{"$f":"'Bespoke Area Data'!BA109","v":0},{"$f":"'Bespoke Area Data'!BB109","v":0},{"$f":"'Bespoke Area Data'!BC109","v":0},{"$f":"'Bespoke Area Data'!BD109","v":0},{"$f":"'Bespoke Area Data'!BE109","v":0},{"$f":"'Bespoke Area Data'!BF109","v":0},{"$f":"'Bespoke Area Data'!BG109","v":0},{"$f":"'Bespoke Area Data'!BH109","v":0},{"$f":"'Bespoke Area Data'!BI109","v":0},{"$f":"'Bespoke Area Data'!BJ109","v":0},{"$f":"'Bespoke Area Data'!BK109","v":0},{"$f":"'Bespoke Area Data'!BL109","v":0},{"$f":"'Bespoke Area Data'!BM109","v":0},{"$f":"'Bespoke Area Data'!BN109","v":0},{"$f":"'Bespoke Area Data'!BO109","v":0},{"$f":"'Bespoke Area Data'!BP109","v":0}]
["Bespoke","N/A",{"$f":"IF('Bespoke Area Name'!C31=\"\",\"No bespoke area name entered; Go to sheet \"\"Bespoke Area Name\"\"\",'Bespoke Area Name'!C31)","v":"No bespoke area name entered; Go to sheet \"Bespoke Area Name\""},"AREA0028",{"$f":"'Bespoke Area Data'!D112","v":0},{"$f":"'Bespoke Area Data'!E112","v":0},{"$f":"'Bespoke Area Data'!F112","v":0},{"$f":"'Bespoke Area Data'!G112","v":0},{"$f":"'Bespoke Area Data'!H112","v":0},{"$f":"'Bespoke Area Data'!I112","v":0},{"$f":"'Bespoke Area Data'!J112","v":0},{"$f":"'Bespoke Area Data'!K112","v":0},{"$f":"'Bespoke Area Data'!L112","v":0},{"$f":"'Bespoke Area Data'!M112","v":0},{"$f":"'Bespoke Area Data'!N112","v":0},{"$f":"'Bespoke Area Data'!O112","v":0},{"$f":"'Bespoke Area Data'!P112","v":0},{"$f":"'Bespoke Area Data'!Q112","v":0},{"$f":"'Bespoke Area Data'!R112","v":0},{"$f":"'Bespoke Area Data'!S112","v":0},{"$f":"'Bespoke Area Data'!T112","v":0},{"$f":"'Bespoke Area Data'!U112","v":0},{"$f":"'Bespoke Area Data'!V112","v":0},{"$f":"'Bespoke Area Data'!W112","v":0},{"$f":"'Bespoke Area Data'!X112","v":0},{"$f":"'Bespoke Area Data'!Y112","v":0},{"$f":"'Bespoke Area Data'!Z112","v":0},{"$f":"'Bespoke Area Data'!AA112","v":0},{"$f":"'Bespoke Area Data'!AB112","v":0},{"$f":"'Bespoke Area Data'!AC112","v":0},{"$f":"'Bespoke Area Data'!AD112","v":0},{"$f":"'Bespoke Area Data'!AE112","v":0},{"$f":"'Bespoke Area Data'!AF112","v":0},{"$f":"'Bespoke Area Data'!AG112","v":0},{"$f":"'Bespoke Area Data'!AH112","v":0},{"$f":"'Bespoke Area Data'!AI112","v":0},{"$f":"'Bespoke Area Data'!AJ112","v":0},{"$f":"'Bespoke Area Data'!AK112","v":0},{"$f":"'Bespoke Area Data'!AL112","v":0},{"$f":"'Bespoke Area Data'!AM112","v":0},{"$f":"'Bespoke Area Data'!AN112","v":0},{"$f":"'Bespoke Area Data'!AO112","v":0},{"$f":"'Bespoke Area Data'!AP112","v":0},{"$f":"'Bespoke Area Data'!AQ112","v":0},{"$f":"'Bespoke Area Data'!AR112","v":0},{"$f":"'Bespoke Area Data'!AS112","v":0},{"$f":"'Bespoke Area Data'!AT112","v":0},{"$f":"'Bespoke Area Data'!AU112","v":0},{"$f":"'Bespoke Area Data'!AV112","v":0},{"$f":"'Bespoke Area Data'!AW112","v":0},{"$f":"'Bespoke Area Data'!AX112","v":0},{"$f":"'Bespoke Area Data'!AY112","v":0},{"$f":"'Bespoke Area Data'!AZ112","v":0},{"$f":"'Bespoke Area Data'!BA112","v":0},{"$f":"'Bespoke Area Data'!BB112","v":0},{"$f":"'Bespoke Area Data'!BC112","v":0},{"$f":"'Bespoke Area Data'!BD112","v":0},{"$f":"'Bespoke Area Data'!BE112","v":0},{"$f":"'Bespoke Area Data'!BF112","v":0},{"$f":"'Bespoke Area Data'!BG112","v":0},{"$f":"'Bespoke Area Data'!BH112","v":0},{"$f":"'Bespoke Area Data'!BI112","v":0},{"$f":"'Bespoke Area Data'!BJ112","v":0},{"$f":"'Bespoke Area Data'!BK112","v":0},{"$f":"'Bespoke Area Data'!BL112","v":0},{"$f":"'Bespoke Area Data'!BM112","v":0},{"$f":"'Bespoke Area Data'!BN112","v":0},{"$f":"'Bespoke Area Data'!BO112","v":0},{"$f":"'Bespoke Area Data'!BP112","v":0},{"$f":"'Bespoke Area Data'!BQ112","v":0},{"$f":"'Bespoke Area Data'!BR112","v":0},{"$f":"'Bespoke Area Data'!BS112","v":0},{"$f":"'Bespoke Area Data'!BT112","v":0},{"$f":"'Bespoke Area Data'!BU112","v":0},{"$f":"'Bespoke Area Data'!BV112","v":0},{"$f":"'Bespoke Area Data'!BW112","v":0},{"$f":"'Bespoke Area Data'!BX112","v":0},{"$f":"'Bespoke Area Data'!BY112","v":0},{"$f":"'Bespoke Area Data'!BZ112","v":0},{"$f":"'Bespoke Area Data'!CA112","v":0},{"$f":"'Bespoke Area Data'!CB112","v":0},{"$f":"'Bespoke Area Data'!CC112","v":0},{"$f":"'Bespoke Area Data'!CD112","v":0},{"$f":"'Bespoke Area Data'!CE112","v":0},{"$f":"'Bespoke Area Data'!CF112","v":0},{"$f":"'Bespoke Area Data'!CG112","v":0},{"$f":"'Bespoke Area Data'!CH112","v":0},{"$f":"'Bespoke Area Data'!CI112","v":0},{"$f":"'Bespoke Area Data'!CJ112","v":0},{"$f":"'Bespoke Area Data'!CK112","v":0},{"$f":"'Bespoke Area Data'!CL112","v":0},{"$f":"'Bespoke Area Data'!CM112","v":0},{"$f":"'Bespoke Area Data'!CN112","v":0},{"$f":"'Bespoke Area Data'!CO112","v":0},{"$f":"'Bespoke Area Data'!CP112","v":0},{"$f":"'Bespoke Area Data'!CQ112","v":0},{"$f":"'Bespoke Area Data'!CR112","v":0},{"$f":"'Bespoke Area Data'!CS112","v":0},{"$f":"'Bespoke Area Data'!CT112","v":0},{"$f":"'Bespoke Area Data'!CU112","v":0},{"$f":"'Bespoke Area Data'!CV112","v":0},{"$f":"'Bespoke Area Data'!CW112","v":0},{"$f":"'Bespoke Area Data'!CX112","v":0},{"$f":"'Bespoke Area Data'!CY112","v":0},{"$f":"'Bespoke Area Data'!CZ112","v":0},{"$f":"'Bespoke Area Data'!DA112","v":0},{"$f":"'Bespoke Area Data'!DB112","v":0},{"$f":"'Bespoke Area Data'!DC112","v":0},{"$f":"'Bespoke Area Data'!DD112","v":0},{"$f":"'Bespoke Area Data'!DE112","v":0},{"$f":"'Bespoke Area Data'!DF112","v":0},{"$f":"'Bespoke Area Data'!DG112","v":0},{"$f":"'Bespoke Area Data'!DH112","v":0},{"$f":"'Bespoke Area Data'!DI112","v":0},{"$f":"'Bespoke Area Data'!DJ112","v":0},{"$f":"'Bespoke Area Data'!DK112","v":0},{"$f":"'Bespoke Area Data'!DL112","v":0},{"$f":"'Bespoke Area Data'!DM112","v":0},{"$f":"'Bespoke Area Data'!DN112","v":0},{"$f":"'Bespoke Area Data'!DO112","v":0},{"$f":"'Bespoke Area Data'!DP112","v":0},{"$f":"'Bespoke Area Data'!DQ112","v":0},{"$f":"'Bespoke Area Data'!DR112","v":0},{"$f":"'Bespoke Area Data'!DS112","v":0},{"$f":"'Bespoke Area Data'!DT112","v":0},{"$f":"'Bespoke Area Data'!DU112","v":0},{"$f":"'Bespoke Area Data'!DV112","v":0},{"$f":"'Bespoke Area Data'!DW112","v":0},{"$f":"'Bespoke Area Data'!DX112","v":0},{"$f":"'Bespoke Area Data'!DY112","v":0},{"$f":"'Bespoke Area Data'!DZ112","v":0},{"$f":"'Bespoke Area Data'!EA112","v":0},{"$f":"'Bespoke Area Data'!EB112","v":0},{"$f":"'Bespoke Area Data'!EC112","v":0},{"$f":"'Bespoke Area Data'!ED112","v":0},{"$f":"'Bespoke Area Data'!EE112","v":0},{"$f":"'Bespoke Area Data'!EF112","v":0},{"$f":"'Bespoke Area Data'!EG112","v":0},{"$f":"'Bespoke Area Data'!EH112","v":0},{"$f":"'Bespoke Area Data'!EI112","v":0},{"$f":"'Bespoke Area Data'!EJ112","v":0},{"$f":"'Bespoke Area Data'!EK112","v":0},{"$f":"'Bespoke Area Data'!EL112","v":0},{"$f":"'Bespoke Area Data'!EM112","v":0},{"$f":"'Bespoke Area Data'!EN112","v":0},{"$f":"'Bespoke Area Data'!EO112","v":0},{"$f":"'Bespoke Area Data'!EP112","v":0},{"$f":"'Bespoke Area Data'!EQ112","v":0},{"$f":"'Bespoke Area Data'!ER112","v":0},{"$f":"'Bespoke Area Data'!ES112","v":0},{"$f":"'Bespoke Area Data'!ET112","v":0},{"$f":"'Bespoke Area Data'!EU112","v":0},{"$f":"'Bespoke Area Data'!EV112","v":0},{"$f":"'Bespoke Area Data'!EW112","v":0},{"$f":"'Bespoke Area Data'!EX112","v":0},{"$f":"'Bespoke Area Data'!EY112","v":0},{"$f":"'Bespoke Area Data'!EZ112","v":0},{"$f":"'Bespoke Area Data'!FA112","v":0},{"$f":"'Bespoke Area Data'!FB112","v":0},{"$f":"'Bespoke Area Data'!FC112","v":0},{"$f":"'Bespoke Area Data'!FD112","v":0},{"$f":"'Bespoke Area Data'!D113","v":0},{"$f":"'Bespoke Area Data'!E113","v":0},{"$f":"'Bespoke Area Data'!F113","v":0},{"$f":"'Bespoke Area Data'!G113","v":0},{"$f":"'Bespoke Area Data'!H113","v":0},{"$f":"'Bespoke Area Data'!I113","v":0},{"$f":"'Bespoke Area Data'!J113","v":0},{"$f":"'Bespoke Area Data'!K113","v":0},{"$f":"'Bespoke Area Data'!L113","v":0},{"$f":"'Bespoke Area Data'!M113","v":0},{"$f":"'Bespoke Area Data'!N113","v":0},{"$f":"'Bespoke Area Data'!O113","v":0},{"$f":"'Bespoke Area Data'!P113","v":0},{"$f":"'Bespoke Area Data'!Q113","v":0},{"$f":"'Bespoke Area Data'!R113","v":0},{"$f":"'Bespoke Area Data'!S113","v":0},{"$f":"'Bespoke Area Data'!T113","v":0},{"$f":"'Bespoke Area Data'!U113","v":0},{"$f":"'Bespoke Area Data'!V113","v":0},{"$f":"'Bespoke Area Data'!W113","v":0},{"$f":"'Bespoke Area Data'!X113","v":0},{"$f":"'Bespoke Area Data'!Y113","v":0},{"$f":"'Bespoke Area Data'!Z113","v":0},{"$f":"'Bespoke Area Data'!AA113","v":0},{"$f":"'Bespoke Area Data'!AB113","v":0},{"$f":"'Bespoke Area Data'!AC113","v":0},{"$f":"'Bespoke Area Data'!AD113","v":0},{"$f":"'Bespoke Area Data'!AE113","v":0},{"$f":"'Bespoke Area Data'!AF113","v":0},{"$f":"'Bespoke Area Data'!AG113","v":0},{"$f":"'Bespoke Area Data'!AH113","v":0},{"$f":"'Bespoke Area Data'!AI113","v":0},{"$f":"'Bespoke Area Data'!AJ113","v":0},{"$f":"'Bespoke Area Data'!AK113","v":0},{"$f":"'Bespoke Area Data'!AL113","v":0},{"$f":"'Bespoke Area Data'!AM113","v":0},{"$f":"'Bespoke Area Data'!AN113","v":0},{"$f":"'Bespoke Area Data'!AO113","v":0},{"$f":"'Bespoke Area Data'!AP113","v":0},{"$f":"'Bespoke Area Data'!AQ113","v":0},{"$f":"'Bespoke Area Data'!AR113","v":0},{"$f":"'Bespoke Area Data'!AS113","v":0},{"$f":"'Bespoke Area Data'!AT113","v":0},{"$f":"'Bespoke Area Data'!AU113","v":0},{"$f":"'Bespoke Area Data'!AV113","v":0},{"$f":"'Bespoke Area Data'!AW113","v":0},{"$f":"'Bespoke Area Data'!AX113","v":0},{"$f":"'Bespoke Area Data'!AY113","v":0},{"$f":"'Bespoke Area Data'!AZ113","v":0},{"$f":"'Bespoke Area Data'!BA113","v":0},{"$f":"'Bespoke Area Data'!BB113","v":0},{"$f":"'Bespoke Area Data'!BC113","v":0},{"$f":"'Bespoke Area Data'!BD113","v":0},{"$f":"'Bespoke Area Data'!BE113","v":0},{"$f":"'Bespoke Area Data'!BF113","v":0},{"$f":"'Bespoke Area Data'!BG113","v":0},{"$f":"'Bespoke Area Data'!BH113","v":0},{"$f":"'Bespoke Area Data'!BI113","v":0},{"$f":"'Bespoke Area Data'!BJ113","v":0},{"$f":"'Bespoke Area Data'!BK113","v":0},{"$f":"'Bespoke Area Data'!BL113","v":0},{"$f":"'Bespoke Area Data'!BM113","v":0},{"$f":"'Bespoke Area Data'!BN113","v":0},{"$f":"'Bespoke Area Data'!BO113","v":0},{"$f":"'Bespoke Area Data'!BP113","v":0}]
["Bespoke","N/A",{"$f":"IF('Bespoke Area Name'!C32=\"\",\"No bespoke area name entered; Go to sheet \"\"Bespoke Area Name\"\"\",'Bespoke Area Name'!C32)","v":"No bespoke area name entered; Go to sheet \"Bespoke Area Name\""},"AREA0029",{"$f":"'Bespoke Area Data'!D116","v":0},{"$f":"'Bespoke Area Data'!E116","v":0},{"$f":"'Bespoke Area Data'!F116","v":0},{"$f":"'Bespoke Area Data'!G116","v":0},{"$f":"'Bespoke Area Data'!H116","v":0},{"$f":"'Bespoke Area Data'!I116","v":0},{"$f":"'Bespoke Area Data'!J116","v":0},{"$f":"'Bespoke Area Data'!K116","v":0},{"$f":"'Bespoke Area Data'!L116","v":0},{"$f":"'Bespoke Area Data'!M116","v":0},{"$f":"'Bespoke Area Data'!N116","v":0},{"$f":"'Bespoke Area Data'!O116","v":0},{"$f":"'Bespoke Area Data'!P116","v":0},{"$f":"'Bespoke Area Data'!Q116","v":0},{"$f":"'Bespoke Area Data'!R116","v":0},{"$f":"'Bespoke Area Data'!S116","v":0},{"$f":"'Bespoke Area Data'!T116","v":0},{"$f":"'Bespoke Area Data'!U116","v":0},{"$f":"'Bespoke Area Data'!V116","v":0},{"$f":"'Bespoke Area Data'!W116","v":0},{"$f":"'Bespoke Area Data'!X116","v":0},{"$f":"'Bespoke Area Data'!Y116","v":0},{"$f":"'Bespoke Area Data'!Z116","v":0},{"$f":"'Bespoke Area Data'!AA116","v":0},{"$f":"'Bespoke Area Data'!AB116","v":0},{"$f":"'Bespoke Area Data'!AC116","v":0},{"$f":"'Bespoke Area Data'!AD116","v":0},{"$f":"'Bespoke Area Data'!AE116","v":0},{"$f":"'Bespoke Area Data'!AF116","v":0},{"$f":"'Bespoke Area Data'!AG116","v":0},{"$f":"'Bespoke Area Data'!AH116","v":0},{"$f":"'Bespoke Area Data'!AI116","v":0},{"$f":"'Bespoke Area Data'!AJ116","v":0},{"$f":"'Bespoke Area Data'!AK116","v":0},{"$f":"'Bespoke Area Data'!AL116","v":0},{"$f":"'Bespoke Area Data'!AM116","v":0},{"$f":"'Bespoke Area Data'!AN116","v":0},{"$f":"'Bespoke Area Data'!AO116","v":0},{"$f":"'Bespoke Area Data'!AP116","v":0},{"$f":"'Bespoke Area Data'!AQ116","v":0},{"$f":"'Bespoke Area Data'!AR116","v":0},{"$f":"'Bespoke Area Data'!AS116","v":0},{"$f":"'Bespoke Area Data'!AT116","v":0},{"$f":"'Bespoke Area Data'!AU116","v":0},{"$f":"'Bespoke Area Data'!AV116","v":0},{"$f":"'Bespoke Area Data'!AW116","v":0},{"$f":"'Bespoke Area Data'!AX116","v":0},{"$f":"'Bespoke Area Data'!AY116","v":0},{"$f":"'Bespoke Area Data'!AZ116","v":0},{"$f":"'Bespoke Area Data'!BA116","v":0},{"$f":"'Bespoke Area Data'!BB116","v":0},{"$f":"'Bespoke Area Data'!BC116","v":0},{"$f":"'Bespoke Area Data'!BD116","v":0},{"$f":"'Bespoke Area Data'!BE116","v":0},{"$f":"'Bespoke Area Data'!BF116","v":0},{"$f":"'Bespoke Area Data'!BG116","v":0},{"$f":"'Bespoke Area Data'!BH116","v":0},{"$f":"'Bespoke Area Data'!BI116","v":0},{"$f":"'Bespoke Area Data'!BJ116","v":0},{"$f":"'Bespoke Area Data'!BK116","v":0},{"$f":"'Bespoke Area Data'!BL116","v":0},{"$f":"'Bespoke Area Data'!BM116","v":0},{"$f":"'Bespoke Area Data'!BN116","v":0},{"$f":"'Bespoke Area Data'!BO116","v":0},{"$f":"'Bespoke Area Data'!BP116","v":0},{"$f":"'Bespoke Area Data'!BQ116","v":0},{"$f":"'Bespoke Area Data'!BR116","v":0},{"$f":"'Bespoke Area Data'!BS116","v":0},{"$f":"'Bespoke Area Data'!BT116","v":0},{"$f":"'Bespoke Area Data'!BU116","v":0},{"$f":"'Bespoke Area Data'!BV116","v":0},{"$f":"'Bespoke Area Data'!BW116","v":0},{"$f":"'Bespoke Area Data'!BX116","v":0},{"$f":"'Bespoke Area Data'!BY116","v":0},{"$f":"'Bespoke Area Data'!BZ116","v":0},{"$f":"'Bespoke Area Data'!CA116","v":0},{"$f":"'Bespoke Area Data'!CB116","v":0},{"$f":"'Bespoke Area Data'!CC116","v":0},{"$f":"'Bespoke Area Data'!CD116","v":0},{"$f":"'Bespoke Area Data'!CE116","v":0},{"$f":"'Bespoke Area Data'!CF116","v":0},{"$f":"'Bespoke Area Data'!CG116","v":0},{"$f":"'Bespoke Area Data'!CH116","v":0},{"$f":"'Bespoke Area Data'!CI116","v":0},{"$f":"'Bespoke Area Data'!CJ116","v":0},{"$f":"'Bespoke Area Data'!CK116","v":0},{"$f":"'Bespoke Area Data'!CL116","v":0},{"$f":"'Bespoke Area Data'!CM116","v":0},{"$f":"'Bespoke Area Data'!CN116","v":0},{"$f":"'Bespoke Area Data'!CO116","v":0},{"$f":"'Bespoke Area Data'!CP116","v":0},{"$f":"'Bespoke Area Data'!CQ116","v":0},{"$f":"'Bespoke Area Data'!CR116","v":0},{"$f":"'Bespoke Area Data'!CS116","v":0},{"$f":"'Bespoke Area Data'!CT116","v":0},{"$f":"'Bespoke Area Data'!CU116","v":0},{"$f":"'Bespoke Area Data'!CV116","v":0},{"$f":"'Bespoke Area Data'!CW116","v":0},{"$f":"'Bespoke Area Data'!CX116","v":0},{"$f":"'Bespoke Area Data'!CY116","v":0},{"$f":"'Bespoke Area Data'!CZ116","v":0},{"$f":"'Bespoke Area Data'!DA116","v":0},{"$f":"'Bespoke Area Data'!DB116","v":0},{"$f":"'Bespoke Area Data'!DC116","v":0},{"$f":"'Bespoke Area Data'!DD116","v":0},{"$f":"'Bespoke Area Data'!DE116","v":0},{"$f":"'Bespoke Area Data'!DF116","v":0},{"$f":"'Bespoke Area Data'!DG116","v":0},{"$f":"'Bespoke Area Data'!DH116","v":0},{"$f":"'Bespoke Area Data'!DI116","v":0},{"$f":"'Bespoke Area Data'!DJ116","v":0},{"$f":"'Bespoke Area Data'!DK116","v":0},{"$f":"'Bespoke Area Data'!DL116","v":0},{"$f":"'Bespoke Area Data'!DM116","v":0},{"$f":"'Bespoke Area Data'!DN116","v":0},{"$f":"'Bespoke Area Data'!DO116","v":0},{"$f":"'Bespoke Area Data'!DP116","v":0},{"$f":"'Bespoke Area Data'!DQ116","v":0},{"$f":"'Bespoke Area Data'!DR116","v":0},{"$f":"'Bespoke Area Data'!DS116","v":0},{"$f":"'Bespoke Area Data'!DT116","v":0},{"$f":"'Bespoke Area Data'!DU116","v":0},{"$f":"'Bespoke Area Data'!DV116","v":0},{"$f":"'Bespoke Area Data'!DW116","v":0},{"$f":"'Bespoke Area Data'!DX116","v":0},{"$f":"'Bespoke Area Data'!DY116","v":0},{"$f":"'Bespoke Area Data'!DZ116","v":0},{"$f":"'Bespoke Area Data'!EA116","v":0},{"$f":"'Bespoke Area Data'!EB116","v":0},{"$f":"'Bespoke Area Data'!EC116","v":0},{"$f":"'Bespoke Area Data'!ED116","v":0},{"$f":"'Bespoke Area Data'!EE116","v":0},{"$f":"'Bespoke Area Data'!EF116","v":0},{"$f":"'Bespoke Area Data'!EG116","v":0},{"$f":"'Bespoke Area Data'!EH116","v":0},{"$f":"'Bespoke Area Data'!EI116","v":0},{"$f":"'Bespoke Area Data'!EJ116","v":0},{"$f":"'Bespoke Area Data'!EK116","v":0},{"$f":"'Bespoke Area Data'!EL116","v":0},{"$f":"'Bespoke Area Data'!EM116","v":0},{"$f":"'Bespoke Area Data'!EN116","v":0},{"$f":"'Bespoke Area Data'!EO116","v":0},{"$f":"'Bespoke Area Data'!EP116","v":0},{"$f":"'Bespoke Area Data'!EQ116","v":0},{"$f":"'Bespoke Area Data'!ER116","v":0},{"$f":"'Bespoke Area Data'!ES116","v":0},{"$f":"'Bespoke Area Data'!ET116","v":0},{"$f":"'Bespoke Area Data'!EU116","v":0},{"$f":"'Bespoke Area Data'!EV116","v":0},{"$f":"'Bespoke Area Data'!EW116","v":0},{"$f":"'Bespoke Area Data'!EX116","v":0},{"$f":"'Bespoke Area Data'!EY116","v":0},{"$f":"'Bespoke Area Data'!EZ116","v":0},{"$f":"'Bespoke Area Data'!FA116","v":0},{"$f":"'Bespoke Area Data'!FB116","v":0},{"$f":"'Bespoke Area Data'!FC116","v":0},{"$f":"'Bespoke Area Data'!FD116","v":0},{"$f":"'Bespoke Area Data'!D117","v":0},{"$f":"'Bespoke Area Data'!E117","v":0},{"$f":"'Bespoke Area Data'!F117","v":0},{"$f":"'Bespoke Area Data'!G117","v":0},{"$f":"'Bespoke Area Data'!H117","v":0},{"$f":"'Bespoke Area Data'!I117","v":0},{"$f":"'Bespoke Area Data'!J117","v":0},{"$f":"'Bespoke Area Data'!K117","v":0},{"$f":"'Bespoke Area Data'!L117","v":0},{"$f":"'Bespoke Area Data'!M117","v":0},{"$f":"'Bespoke Area Data'!N117","v":0},{"$f":"'Bespoke Area Data'!O117","v":0},{"$f":"'Bespoke Area Data'!P117","v":0},{"$f":"'Bespoke Area Data'!Q117","v":0},{"$f":"'Bespoke Area Data'!R117","v":0},{"$f":"'Bespoke Area Data'!S117","v":0},{"$f":"'Bespoke Area Data'!T117","v":0},{"$f":"'Bespoke Area Data'!U117","v":0},{"$f":"'Bespoke Area Data'!V117","v":0},{"$f":"'Bespoke Area Data'!W117","v":0},{"$f":"'Bespoke Area Data'!X117","v":0},{"$f":"'Bespoke Area Data'!Y117","v":0},{"$f":"'Bespoke Area Data'!Z117","v":0},{"$f":"'Bespoke Area Data'!AA117","v":0},{"$f":"'Bespoke Area Data'!AB117","v":0},{"$f":"'Bespoke Area Data'!AC117","v":0},{"$f":"'Bespoke Area Data'!AD117","v":0},{"$f":"'Bespoke Area Data'!AE117","v":0},{"$f":"'Bespoke Area Data'!AF117","v":0},{"$f":"'Bespoke Area Data'!AG117","v":0},{"$f":"'Bespoke Area Data'!AH117","v":0},{"$f":"'Bespoke Area Data'!AI117","v":0},{"$f":"'Bespoke Area Data'!AJ117","v":0},{"$f":"'Bespoke Area Data'!AK117","v":0},{"$f":"'Bespoke Area Data'!AL117","v":0},{"$f":"'Bespoke Area Data'!AM117","v":0},{"$f":"'Bespoke Area Data'!AN117","v":0},{"$f":"'Bespoke Area Data'!AO117","v":0},{"$f":"'Bespoke Area Data'!AP117","v":0},{"$f":"'Bespoke Area Data'!AQ117","v":0},{"$f":"'Bespoke Area Data'!AR117","v":0},{"$f":"'Bespoke Area Data'!AS117","v":0},{"$f":"'Bespoke Area Data'!AT117","v":0},{"$f":"'Bespoke Area Data'!AU117","v":0},{"$f":"'Bespoke Area Data'!AV117","v":0},{"$f":"'Bespoke Area Data'!AW117","v":0},{"$f":"'Bespoke Area Data'!AX117","v":0},{"$f":"'Bespoke Area Data'!AY117","v":0},{"$f":"'Bespoke Area Data'!AZ117","v":0},{"$f":"'Bespoke Area Data'!BA117","v":0},{"$f":"'Bespoke Area Data'!BB117","v":0},{"$f":"'Bespoke Area Data'!BC117","v":0},{"$f":"'Bespoke Area Data'!BD117","v":0},{"$f":"'Bespoke Area Data'!BE117","v":0},{"$f":"'Bespoke Area Data'!BF117","v":0},{"$f":"'Bespoke Area Data'!BG117","v":0},{"$f":"'Bespoke Area Data'!BH117","v":0},{"$f":"'Bespoke Area Data'!BI117","v":0},{"$f":"'Bespoke Area Data'!BJ117","v":0},{"$f":"'Bespoke Area Data'!BK117","v":0},{"$f":"'Bespoke Area Data'!BL117","v":0},{"$f":"'Bespoke Area Data'!BM117","v":0},{"$f":"'Bespoke Area Data'!BN117","v":0},{"$f":"'Bespoke Area Data'!BO117","v":0},{"$f":"'Bespoke Area Data'!BP117","v":0}]
["Bespoke","N/A",{"$f":"IF('Bespoke Area Name'!C33=\"\",\"No bespoke area name entered; Go to sheet \"\"Bespoke Area Name\"\"\",'Bespoke Area Name'!C33)","v":"No bespoke area name entered; Go to sheet \"Bespoke Area Name\""},"AREA0030",{"$f":"'Bespoke Area Data'!D120","v":0},{"$f":"'Bespoke Area Data'!E120","v":0},{"$f":"'Bespoke Area Data'!F120","v":0},{"$f":"'Bespoke Area Data'!G120","v":0},{"$f":"'Bespoke Area Data'!H120","v":0},{"$f":"'Bespoke Area Data'!I120","v":0},{"$f":"'Bespoke Area Data'!J120","v":0},{"$f":"'Bespoke Area Data'!K120","v":0},{"$f":"'Bespoke Area Data'!L120","v":0},{"$f":"'Bespoke Area Data'!M120","v":0},{"$f":"'Bespoke Area Data'!N120","v":0},{"$f":"'Bespoke Area Data'!O120","v":0},{"$f":"'Bespoke Area Data'!P120","v":0},{"$f":"'Bespoke Area Data'!Q120","v":0},{"$f":"'Bespoke Area Data'!R120","v":0},{"$f":"'Bespoke Area Data'!S120","v":0},{"$f":"'Bespoke Area Data'!T120","v":0},{"$f":"'Bespoke Area Data'!U120","v":0},{"$f":"'Bespoke Area Data'!V120","v":0},{"$f":"'Bespoke Area Data'!W120","v":0},{"$f":"'Bespoke Area Data'!X120","v":0},{"$f":"'Bespoke Area Data'!Y120","v":0},{"$f":"'Bespoke Area Data'!Z120","v":0},{"$f":"'Bespoke Area Data'!AA120","v":0},{"$f":"'Bespoke Area Data'!AB120","v":0},{"$f":"'Bespoke Area Data'!AC120","v":0},{"$f":"'Bespoke Area Data'!AD120","v":0},{"$f":"'Bespoke Area Data'!AE120","v":0},{"$f":"'Bespoke Area Data'!AF120","v":0},{"$f":"'Bespoke Area Data'!AG120","v":0},{"$f":"'Bespoke Area Data'!AH120","v":0},{"$f":"'Bespoke Area Data'!AI120","v":0},{"$f":"'Bespoke Area Data'!AJ120","v":0},{"$f":"'Bespoke Area Data'!AK120","v":0},{"$f":"'Bespoke Area Data'!AL120","v":0},{"$f":"'Bespoke Area Data'!AM120","v":0},{"$f":"'Bespoke Area Data'!AN120","v":0},{"$f":"'Bespoke Area Data'!AO120","v":0},{"$f":"'Bespoke Area Data'!AP120","v":0},{"$f":"'Bespoke Area Data'!AQ120","v":0},{"$f":"'Bespoke Area Data'!AR120","v":0},{"$f":"'Bespoke Area Data'!AS120","v":0},{"$f":"'Bespoke Area Data'!AT120","v":0},{"$f":"'Bespoke Area Data'!AU120","v":0},{"$f":"'Bespoke Area Data'!AV120","v":0},{"$f":"'Bespoke Area Data'!AW120","v":0},{"$f":"'Bespoke Area Data'!AX120","v":0},{"$f":"'Bespoke Area Data'!AY120","v":0},{"$f":"'Bespoke Area Data'!AZ120","v":0},{"$f":"'Bespoke Area Data'!BA120","v":0},{"$f":"'Bespoke Area Data'!BB120","v":0},{"$f":"'Bespoke Area Data'!BC120","v":0},{"$f":"'Bespoke Area Data'!BD120","v":0},{"$f":"'Bespoke Area Data'!BE120","v":0},{"$f":"'Bespoke Area Data'!BF120","v":0},{"$f":"'Bespoke Area Data'!BG120","v":0},{"$f":"'Bespoke Area Data'!BH120","v":0},{"$f":"'Bespoke Area Data'!BI120","v":0},{"$f":"'Bespoke Area Data'!BJ120","v":0},{"$f":"'Bespoke Area Data'!BK120","v":0},{"$f":"'Bespoke Area Data'!BL120","v":0},{"$f":"'Bespoke Area Data'!BM120","v":0},{"$f":"'Bespoke Area Data'!BN120","v":0},{"$f":"'Bespoke Area Data'!BO120","v":0},{"$f":"'Bespoke Area Data'!BP120","v":0},{"$f":"'Bespoke Area Data'!BQ120","v":0},{"$f":"'Bespoke Area Data'!BR120","v":0},{"$f":"'Bespoke Area Data'!BS120","v":0},{"$f":"'Bespoke Area Data'!BT120","v":0},{"$f":"'Bespoke Area Data'!BU120","v":0},{"$f":"'Bespoke Area Data'!BV120","v":0},{"$f":"'Bespoke Area Data'!BW120","v":0},{"$f":"'Bespoke Area Data'!BX120","v":0},{"$f":"'Bespoke Area Data'!BY120","v":0},{"$f":"'Bespoke Area Data'!BZ120","v":0},{"$f":"'Bespoke Area Data'!CA120","v":0},{"$f":"'Bespoke Area Data'!CB120","v":0},{"$f":"'Bespoke Area Data'!CC120","v":0},{"$f":"'Bespoke Area Data'!CD120","v":0},{"$f":"'Bespoke Area Data'!CE120","v":0},{"$f":"'Bespoke Area Data'!CF120","v":0},{"$f":"'Bespoke Area Data'!CG120","v":0},{"$f":"'Bespoke Area Data'!CH120","v":0},{"$f":"'Bespoke Area Data'!CI120","v":0},{"$f":"'Bespoke Area Data'!CJ120","v":0},{"$f":"'Bespoke Area Data'!CK120","v":0},{"$f":"'Bespoke Area Data'!CL120","v":0},{"$f":"'Bespoke Area Data'!CM120","v":0},{"$f":"'Bespoke Area Data'!CN120","v":0},{"$f":"'Bespoke Area Data'!CO120","v":0},{"$f":"'Bespoke Area Data'!CP120","v":0},{"$f":"'Bespoke Area Data'!CQ120","v":0},{"$f":"'Bespoke Area Data'!CR120","v":0},{"$f":"'Bespoke Area Data'!CS120","v":0},{"$f":"'Bespoke Area Data'!CT120","v":0},{"$f":"'Bespoke Area Data'!CU120","v":0},{"$f":"'Bespoke Area Data'!CV120","v":0},{"$f":"'Bespoke Area Data'!CW120","v":0},{"$f":"'Bespoke Area Data'!CX120","v":0},{"$f":"'Bespoke Area Data'!CY120","v":0},{"$f":"'Bespoke Area Data'!CZ120","v":0},{"$f":"'Bespoke Area Data'!DA120","v":0},{"$f":"'Bespoke Area Data'!DB120","v":0},{"$f":"'Bespoke Area Data'!DC120","v":0},{"$f":"'Bespoke Area Data'!DD120","v":0},{"$f":"'Bespoke Area Data'!DE120","v":0},{"$f":"'Bespoke Area Data'!DF120","v":0},{"$f":"'Bespoke Area Data'!DG120","v":0},{"$f":"'Bespoke Area Data'!DH120","v":0},{"$f":"'Bespoke Area Data'!DI120","v":0},{"$f":"'Bespoke Area Data'!DJ120","v":0},{"$f":"'Bespoke Area Data'!DK120","v":0},{"$f":"'Bespoke Area Data'!DL120","v":0},{"$f":"'Bespoke Area Data'!DM120","v":0},{"$f":"'Bespoke Area Data'!DN120","v":0},{"$f":"'Bespoke Area Data'!DO120","v":0},{"$f":"'Bespoke Area Data'!DP120","v":0},{"$f":"'Bespoke Area Data'!DQ120","v":0},{"$f":"'Bespoke Area Data'!DR120","v":0},{"$f":"'Bespoke Area Data'!DS120","v":0},{"$f":"'Bespoke Area Data'!DT120","v":0},{"$f":"'Bespoke Area Data'!DU120","v":0},{"$f":"'Bespoke Area Data'!DV120","v":0},{"$f":"'Bespoke Area Data'!DW120","v":0},{"$f":"'Bespoke Area Data'!DX120","v":0},{"$f":"'Bespoke Area Data'!DY120","v":0},{"$f":"'Bespoke Area Data'!DZ120","v":0},{"$f":"'Bespoke Area Data'!EA120","v":0},{"$f":"'Bespoke Area Data'!EB120","v":0},{"$f":"'Bespoke Area Data'!EC120","v":0},{"$f":"'Bespoke Area Data'!ED120","v":0},{"$f":"'Bespoke Area Data'!EE120","v":0},{"$f":"'Bespoke Area Data'!EF120","v":0},{"$f":"'Bespoke Area Data'!EG120","v":0},{"$f":"'Bespoke Area Data'!EH120","v":0},{"$f":"'Bespoke Area Data'!EI120","v":0},{"$f":"'Bespoke Area Data'!EJ120","v":0},{"$f":"'Bespoke Area Data'!EK120","v":0},{"$f":"'Bespoke Area Data'!EL120","v":0},{"$f":"'Bespoke Area Data'!EM120","v":0},{"$f":"'Bespoke Area Data'!EN120","v":0},{"$f":"'Bespoke Area Data'!EO120","v":0},{"$f":"'Bespoke Area Data'!EP120","v":0},{"$f":"'Bespoke Area Data'!EQ120","v":0},{"$f":"'Bespoke Area Data'!ER120","v":0},{"$f":"'Bespoke Area Data'!ES120","v":0},{"$f":"'Bespoke Area Data'!ET120","v":0},{"$f":"'Bespoke Area Data'!EU120","v":0},{"$f":"'Bespoke Area Data'!EV120","v":0},{"$f":"'Bespoke Area Data'!EW120","v":0},{"$f":"'Bespoke Area Data'!EX120","v":0},{"$f":"'Bespoke Area Data'!EY120","v":0},{"$f":"'Bespoke Area Data'!EZ120","v":0},{"$f":"'Bespoke Area Data'!FA120","v":0},{"$f":"'Bespoke Area Data'!FB120","v":0},{"$f":"'Bespoke Area Data'!FC120","v":0},{"$f":"'Bespoke Area Data'!FD120","v":0},{"$f":"'Bespoke Area Data'!D121","v":0},{"$f":"'Bespoke Area Data'!E121","v":0},{"$f":"'Bespoke Area Data'!F121","v":0},{"$f":"'Bespoke Area Data'!G121","v":0},{"$f":"'Bespoke Area Data'!H121","v":0},{"$f":"'Bespoke Area Data'!I121","v":0},{"$f":"'Bespoke Area Data'!J121","v":0},{"$f":"'Bespoke Area Data'!K121","v":0},{"$f":"'Bespoke Area Data'!L121","v":0},{"$f":"'Bespoke Area Data'!M121","v":0},{"$f":"'Bespoke Area Data'!N121","v":0},{"$f":"'Bespoke Area Data'!O121","v":0},{"$f":"'Bespoke Area Data'!P121","v":0},{"$f":"'Bespoke Area Data'!Q121","v":0},{"$f":"'Bespoke Area Data'!R121","v":0},{"$f":"'Bespoke Area Data'!S121","v":0},{"$f":"'Bespoke Area Data'!T121","v":0},{"$f":"'Bespoke Area Data'!U121","v":0},{"$f":"'Bespoke Area Data'!V121","v":0},{"$f":"'Bespoke Area Data'!W121","v":0},{"$f":"'Bespoke Area Data'!X121","v":0},{"$f":"'Bespoke Area Data'!Y121","v":0},{"$f":"'Bespoke Area Data'!Z121","v":0},{"$f":"'Bespoke Area Data'!AA121","v":0},{"$f":"'Bespoke Area Data'!AB121","v":0},{"$f":"'Bespoke Area Data'!AC121","v":0},{"$f":"'Bespoke Area Data'!AD121","v":0},{"$f":"'Bespoke Area Data'!AE121","v":0},{"$f":"'Bespoke Area Data'!AF121","v":0},{"$f":"'Bespoke Area Data'!AG121","v":0},{"$f":"'Bespoke Area Data'!AH121","v":0},{"$f":"'Bespoke Area Data'!AI121","v":0},{"$f":"'Bespoke Area Data'!AJ121","v":0},{"$f":"'Bespoke Area Data'!AK121","v":0},{"$f":"'Bespoke Area Data'!AL121","v":0},{"$f":"'Bespoke Area Data'!AM121","v":0},{"$f":"'Bespoke Area Data'!AN121","v":0},{"$f":"'Bespoke Area Data'!AO121","v":0},{"$f":"'Bespoke Area Data'!AP121","v":0},{"$f":"'Bespoke Area Data'!AQ121","v":0},{"$f":"'Bespoke Area Data'!AR121","v":0},{"$f":"'Bespoke Area Data'!AS121","v":0},{"$f":"'Bespoke Area Data'!AT121","v":0},{"$f":"'Bespoke Area Data'!AU121","v":0},{"$f":"'Bespoke Area Data'!AV121","v":0},{"$f":"'Bespoke Area Data'!AW121","v":0},{"$f":"'Bespoke Area Data'!AX121","v":0},{"$f":"'Bespoke Area Data'!AY121","v":0},{"$f":"'Bespoke Area Data'!AZ121","v":0},{"$f":"'Bespoke Area Data'!BA121","v":0},{"$f":"'Bespoke Area Data'!BB121","v":0},{"$f":"'Bespoke Area Data'!BC121","v":0},{"$f":"'Bespoke Area Data'!BD121","v":0},{"$f":"'Bespoke Area Data'!BE121","v":0},{"$f":"'Bespoke Area Data'!BF121","v":0},{"$f":"'Bespoke Area Data'!BG121","v":0},{"$f":"'Bespoke Area Data'!BH121","v":0},{"$f":"'Bespoke Area Data'!BI121","v":0},{"$f":"'Bespoke Area Data'!BJ121","v":0},{"$f":"'Bespoke Area Data'!BK121","v":0},{"$f":"'Bespoke Area Data'!BL121","v":0},{"$f":"'Bespoke Area Data'!BM121","v":0},{"$f":"'Bespoke Area Data'!BN121","v":0},{"$f":"'Bespoke Area Data'!BO121","v":0},{"$f":"'Bespoke Area Data'!BP121","v":0}]
["Bespoke","N/A",{"$f":"IF('Bespoke Area Name'!C34=\"\",\"No bespoke area name entered; Go to sheet \"\"Bespoke Area Name\"\"\",'Bespoke Area Name'!C34)","v":"No bespoke area name entered; Go to sheet \"Bespoke Area Name\""},"AREA0031",{"$f":"'Bespoke Area Data'!D124","v":0},{"$f":"'Bespoke Area Data'!E124","v":0},{"$f":"'Bespoke Area Data'!F124","v":0},{"$f":"'Bespoke Area Data'!G124","v":0},{"$f":"'Bespoke Area Data'!H124","v":0},{"$f":"'Bespoke Area Data'!I124","v":0},{"$f":"'Bespoke Area Data'!J124","v":0},{"$f":"'Bespoke Area Data'!K124","v":0},{"$f":"'Bespoke Area Data'!L124","v":0},{"$f":"'Bespoke Area Data'!M124","v":0},{"$f":"'Bespoke Area Data'!N124","v":0},{"$f":"'Bespoke Area Data'!O124","v":0},{"$f":"'Bespoke Area Data'!P124","v":0},{"$f":"'Bespoke Area Data'!Q124","v":0},{"$f":"'Bespoke Area Data'!R124","v":0},{"$f":"'Bespoke Area Data'!S124","v":0},{"$f":"'Bespoke Area Data'!T124","v":0},{"$f":"'Bespoke Area Data'!U124","v":0},{"$f":"'Bespoke Area Data'!V124","v":0},{"$f":"'Bespoke Area Data'!W124","v":0},{"$f":"'Bespoke Area Data'!X124","v":0},{"$f":"'Bespoke Area Data'!Y124","v":0},{"$f":"'Bespoke Area Data'!Z124","v":0},{"$f":"'Bespoke Area Data'!AA124","v":0},{"$f":"'Bespoke Area Data'!AB124","v":0},{"$f":"'Bespoke Area Data'!AC124","v":0},{"$f":"'Bespoke Area Data'!AD124","v":0},{"$f":"'Bespoke Area Data'!AE124","v":0},{"$f":"'Bespoke Area Data'!AF124","v":0},{"$f":"'Bespoke Area Data'!AG124","v":0},{"$f":"'Bespoke Area Data'!AH124","v":0},{"$f":"'Bespoke Area Data'!AI124","v":0},{"$f":"'Bespoke Area Data'!AJ124","v":0},{"$f":"'Bespoke Area Data'!AK124","v":0},{"$f":"'Bespoke Area Data'!AL124","v":0},{"$f":"'Bespoke Area Data'!AM124","v":0},{"$f":"'Bespoke Area Data'!AN124","v":0},{"$f":"'Bespoke Area Data'!AO124","v":0},{"$f":"'Bespoke Area Data'!AP124","v":0},{"$f":"'Bespoke Area Data'!AQ124","v":0},{"$f":"'Bespoke Area Data'!AR124","v":0},{"$f":"'Bespoke Area Data'!AS124","v":0},{"$f":"'Bespoke Area Data'!AT124","v":0},{"$f":"'Bespoke Area Data'!AU124","v":0},{"$f":"'Bespoke Area Data'!AV124","v":0},{"$f":"'Bespoke Area Data'!AW124","v":0},{"$f":"'Bespoke Area Data'!AX124","v":0},{"$f":"'Bespoke Area Data'!AY124","v":0},{"$f":"'Bespoke Area Data'!AZ124","v":0},{"$f":"'Bespoke Area Data'!BA124","v":0},{"$f":"'Bespoke Area Data'!BB124","v":0},{"$f":"'Bespoke Area Data'!BC124","v":0},{"$f":"'Bespoke Area Data'!BD124","v":0},{"$f":"'Bespoke Area Data'!BE124","v":0},{"$f":"'Bespoke Area Data'!BF124","v":0},{"$f":"'Bespoke Area Data'!BG124","v":0},{"$f":"'Bespoke Area Data'!BH124","v":0},{"$f":"'Bespoke Area Data'!BI124","v":0},{"$f":"'Bespoke Area Data'!BJ124","v":0},{"$f":"'Bespoke Area Data'!BK124","v":0},{"$f":"'Bespoke Area Data'!BL124","v":0},{"$f":"'Bespoke Area Data'!BM124","v":0},{"$f":"'Bespoke Area Data'!BN124","v":0},{"$f":"'Bespoke Area Data'!BO124","v":0},{"$f":"'Bespoke Area Data'!BP124","v":0},{"$f":"'Bespoke Area Data'!BQ124","v":0},{"$f":"'Bespoke Area Data'!BR124","v":0},{"$f":"'Bespoke Area Data'!BS124","v":0},{"$f":"'Bespoke Area Data'!BT124","v":0},{"$f":"'Bespoke Area Data'!BU124","v":0},{"$f":"'Bespoke Area Data'!BV124","v":0},{"$f":"'Bespoke Area Data'!BW124","v":0},{"$f":"'Bespoke Area Data'!BX124","v":0},{"$f":"'Bespoke Area Data'!BY124","v":0},{"$f":"'Bespoke Area Data'!BZ124","v":0},{"$f":"'Bespoke Area Data'!CA124","v":0},{"$f":"'Bespoke Area Data'!CB124","v":0},{"$f":"'Bespoke Area Data'!CC124","v":0},{"$f":"'Bespoke Area Data'!CD124","v":0},{"$f":"'Bespoke Area Data'!CE124","v":0},{"$f":"'Bespoke Area Data'!CF124","v":0},{"$f":"'Bespoke Area Data'!CG124","v":0},{"$f":"'Bespoke Area Data'!CH124","v":0},{"$f":"'Bespoke Area Data'!CI124","v":0},{"$f":"'Bespoke Area Data'!CJ124","v":0},{"$f":"'Bespoke Area Data'!CK124","v":0},{"$f":"'Bespoke Area Data'!CL124","v":0},{"$f":"'Bespoke Area Data'!CM124","v":0},{"$f":"'Bespoke Area Data'!CN124","v":0},{"$f":"'Bespoke Area Data'!CO124","v":0},{"$f":"'Bespoke Area Data'!CP124","v":0},{"$f":"'Bespoke Area Data'!CQ124","v":0},{"$f":"'Bespoke Area Data'!CR124","v":0},{"$f":"'Bespoke Area Data'!CS124","v":0},{"$f":"'Bespoke Area Data'!CT124","v":0},{"$f":"'Bespoke Area Data'!CU124","v":0},{"$f":"'Bespoke Area Data'!CV124","v":0},{"$f":"'Bespoke Area Data'!CW124","v":0},{"$f":"'Bespoke Area Data'!CX124","v":0},{"$f":"'Bespoke Area Data'!CY124","v":0},{"$f":"'Bespoke Area Data'!CZ124","v":0},{"$f":"'Bespoke Area Data'!DA124","v":0},{"$f":"'Bespoke Area Data'!DB124","v":0},{"$f":"'Bespoke Area Data'!DC124","v":0},{"$f":"'Bespoke Area Data'!DD124","v":0},{"$f":"'Bespoke Area Data'!DE124","v":0},{"$f":"'Bespoke Area Data'!DF124","v":0},{"$f":"'Bespoke Area Data'!DG124","v":0},{"$f":"'Bespoke Area Data'!DH124","v":0},{"$f":"'Bespoke Area Data'!DI124","v":0},{"$f":"'Bespoke Area Data'!DJ124","v":0},{"$f":"'Bespoke Area Data'!DK124","v":0},{"$f":"'Bespoke Area Data'!DL124","v":0},{"$f":"'Bespoke Area Data'!DM124","v":0},{"$f":"'Bespoke Area Data'!DN124","v":0},{"$f":"'Bespoke Area Data'!DO124","v":0},{"$f":"'Bespoke Area Data'!DP124","v":0},{"$f":"'Bespoke Area Data'!DQ124","v":0},{"$f":"'Bespoke Area Data'!DR124","v":0},{"$f":"'Bespoke Area Data'!DS124","v":0},{"$f":"'Bespoke Area Data'!DT124","v":0},{"$f":"'Bespoke Area Data'!DU124","v":0},{"$f":"'Bespoke Area Data'!DV124","v":0},{"$f":"'Bespoke Area Data'!DW124","v":0},{"$f":"'Bespoke Area Data'!DX124","v":0},{"$f":"'Bespoke Area Data'!DY124","v":0},{"$f":"'Bespoke Area Data'!DZ124","v":0},{"$f":"'Bespoke Area Data'!EA124","v":0},{"$f":"'Bespoke Area Data'!EB124","v":0},{"$f":"'Bespoke Area Data'!EC124","v":0},{"$f":"'Bespoke Area Data'!ED124","v":0},{"$f":"'Bespoke Area Data'!EE124","v":0},{"$f":"'Bespoke Area Data'!EF124","v":0},{"$f":"'Bespoke Area Data'!EG124","v":0},{"$f":"'Bespoke Area Data'!EH124","v":0},{"$f":"'Bespoke Area Data'!EI124","v":0},{"$f":"'Bespoke Area Data'!EJ124","v":0},{"$f":"'Bespoke Area Data'!EK124","v":0},{"$f":"'Bespoke Area Data'!EL124","v":0},{"$f":"'Bespoke Area Data'!EM124","v":0},{"$f":"'Bespoke Area Data'!EN124","v":0},{"$f":"'Bespoke Area Data'!EO124","v":0},{"$f":"'Bespoke Area Data'!EP124","v":0},{"$f":"'Bespoke Area Data'!EQ124","v":0},{"$f":"'Bespoke Area Data'!ER124","v":0},{"$f":"'Bespoke Area Data'!ES124","v":0},{"$f":"'Bespoke Area Data'!ET124","v":0},{"$f":"'Bespoke Area Data'!EU124","v":0},{"$f":"'Bespoke Area Data'!EV124","v":0},{"$f":"'Bespoke Area Data'!EW124","v":0},{"$f":"'Bespoke Area Data'!EX124","v":0},{"$f":"'Bespoke Area Data'!EY124","v":0},{"$f":"'Bespoke Area Data'!EZ124","v":0},{"$f":"'Bespoke Area Data'!FA124","v":0},{"$f":"'Bespoke Area Data'!FB124","v":0},{"$f":"'Bespoke Area Data'!FC124","v":0},{"$f":"'Bespoke Area Data'!FD124","v":0},{"$f":"'Bespoke Area Data'!D125","v":0},{"$f":"'Bespoke Area Data'!E125","v":0},{"$f":"'Bespoke Area Data'!F125","v":0},{"$f":"'Bespoke Area Data'!G125","v":0},{"$f":"'Bespoke Area Data'!H125","v":0},{"$f":"'Bespoke Area Data'!I125","v":0},{"$f":"'Bespoke Area Data'!J125","v":0},{"$f":"'Bespoke Area Data'!K125","v":0},{"$f":"'Bespoke Area Data'!L125","v":0},{"$f":"'Bespoke Area Data'!M125","v":0},{"$f":"'Bespoke Area Data'!N125","v":0},{"$f":"'Bespoke Area Data'!O125","v":0},{"$f":"'Bespoke Area Data'!P125","v":0},{"$f":"'Bespoke Area Data'!Q125","v":0},{"$f":"'Bespoke Area Data'!R125","v":0},{"$f":"'Bespoke Area Data'!S125","v":0},{"$f":"'Bespoke Area Data'!T125","v":0},{"$f":"'Bespoke Area Data'!U125","v":0},{"$f":"'Bespoke Area Data'!V125","v":0},{"$f":"'Bespoke Area Data'!W125","v":0},{"$f":"'Bespoke Area Data'!X125","v":0},{"$f":"'Bespoke Area Data'!Y125","v":0},{"$f":"'Bespoke Area Data'!Z125","v":0},{"$f":"'Bespoke Area Data'!AA125","v":0},{"$f":"'Bespoke Area Data'!AB125","v":0},{"$f":"'Bespoke Area Data'!AC125","v":0},{"$f":"'Bespoke Area Data'!AD125","v":0},{"$f":"'Bespoke Area Data'!AE125","v":0},{"$f":"'Bespoke Area Data'!AF125","v":0},{"$f":"'Bespoke Area Data'!AG125","v":0},{"$f":"'Bespoke Area Data'!AH125","v":0},{"$f":"'Bespoke Area Data'!AI125","v":0},{"$f":"'Bespoke Area Data'!AJ125","v":0},{"$f":"'Bespoke Area Data'!AK125","v":0},{"$f":"'Bespoke Area Data'!AL125","v":0},{"$f":"'Bespoke Area Data'!AM125","v":0},{"$f":"'Bespoke Area Data'!AN125","v":0},{"$f":"'Bespoke Area Data'!AO125","v":0},{"$f":"'Bespoke Area Data'!AP125","v":0},{"$f":"'Bespoke Area Data'!AQ125","v":0},{"$f":"'Bespoke Area Data'!AR125","v":0},{"$f":"'Bespoke Area Data'!AS125","v":0},{"$f":"'Bespoke Area Data'!AT125","v":0},{"$f":"'Bespoke Area Data'!AU125","v":0},{"$f":"'Bespoke Area Data'!AV125","v":0},{"$f":"'Bespoke Area Data'!AW125","v":0},{"$f":"'Bespoke Area Data'!AX125","v":0},{"$f":"'Bespoke Area Data'!AY125","v":0},{"$f":"'Bespoke Area Data'!AZ125","v":0},{"$f":"'Bespoke Area Data'!BA125","v":0},{"$f":"'Bespoke Area Data'!BB125","v":0},{"$f":"'Bespoke Area Data'!BC125","v":0},{"$f":"'Bespoke Area Data'!BD125","v":0},{"$f":"'Bespoke Area Data'!BE125","v":0},{"$f":"'Bespoke Area Data'!BF125","v":0},{"$f":"'Bespoke Area Data'!BG125","v":0},{"$f":"'Bespoke Area Data'!BH125","v":0},{"$f":"'Bespoke Area Data'!BI125","v":0},{"$f":"'Bespoke Area Data'!BJ125","v":0},{"$f":"'Bespoke Area Data'!BK125","v":0},{"$f":"'Bespoke Area Data'!BL125","v":0},{"$f":"'Bespoke Area Data'!BM125","v":0},{"$f":"'Bespoke Area Data'!BN125","v":0},{"$f":"'Bespoke Area Data'!BO125","v":0},{"$f":"'Bespoke Area Data'!BP125","v":0}]
["Bespoke","N/A",{"$f":"IF('Bespoke Area Name'!C35=\"\",\"No bespoke area name entered; Go to sheet \"\"Bespoke Area Name\"\"\",'Bespoke Area Name'!C35)","v":"No bespoke area name entered; Go to sheet \"Bespoke Area Name\""},"AREA0032",{"$f":"'Bespoke Area Data'!D128","v":0},{"$f":"'Bespoke Area Data'!E128","v":0},{"$f":"'Bespoke Area Data'!F128","v":0},{"$f":"'Bespoke Area Data'!G128","v":0},{"$f":"'Bespoke Area Data'!H128","v":0},{"$f":"'Bespoke Area Data'!I128","v":0},{"$f":"'Bespoke Area Data'!J128","v":0},{"$f":"'Bespoke Area Data'!K128","v":0},{"$f":"'Bespoke Area Data'!L128","v":0},{"$f":"'Bespoke Area Data'!M128","v":0},{"$f":"'Bespoke Area Data'!N128","v":0},{"$f":"'Bespoke Area Data'!O128","v":0},{"$f":"'Bespoke Area Data'!P128","v":0},{"$f":"'Bespoke Area Data'!Q128","v":0},{"$f":"'Bespoke Area Data'!R128","v":0},{"$f":"'Bespoke Area Data'!S128","v":0},{"$f":"'Bespoke Area Data'!T128","v":0},{"$f":"'Bespoke Area Data'!U128","v":0},{"$f":"'Bespoke Area Data'!V128","v":0},{"$f":"'Bespoke Area Data'!W128","v":0},{"$f":"'Bespoke Area Data'!X128","v":0},{"$f":"'Bespoke Area Data'!Y128","v":0},{"$f":"'Bespoke Area Data'!Z128","v":0},{"$f":"'Bespoke Area Data'!AA128","v":0},{"$f":"'Bespoke Area Data'!AB128","v":0},{"$f":"'Bespoke Area Data'!AC128","v":0},{"$f":"'Bespoke Area Data'!AD128","v":0},{"$f":"'Bespoke Area Data'!AE128","v":0},{"$f":"'Bespoke Area Data'!AF128","v":0},{"$f":"'Bespoke Area Data'!AG128","v":0},{"$f":"'Bespoke Area Data'!AH128","v":0},{"$f":"'Bespoke Area Data'!AI128","v":0},{"$f":"'Bespoke Area Data'!AJ128","v":0},{"$f":"'Bespoke Area Data'!AK128","v":0},{"$f":"'Bespoke Area Data'!AL128","v":0},{"$f":"'Bespoke Area Data'!AM128","v":0},{"$f":"'Bespoke Area Data'!AN128","v":0},{"$f":"'Bespoke Area Data'!AO128","v":0},{"$f":"'Bespoke Area Data'!AP128","v":0},{"$f":"'Bespoke Area Data'!AQ128","v":0},{"$f":"'Bespoke Area Data'!AR128","v":0},{"$f":"'Bespoke Area Data'!AS128","v":0},{"$f":"'Bespoke Area Data'!AT128","v":0},{"$f":"'Bespoke Area Data'!AU128","v":0},{"$f":"'Bespoke Area Data'!AV128","v":0},{"$f":"'Bespoke Area Data'!AW128","v":0},{"$f":"'Bespoke Area Data'!AX128","v":0},{"$f":"'Bespoke Area Data'!AY128","v":0},{"$f":"'Bespoke Area Data'!AZ128","v":0},{"$f":"'Bespoke Area Data'!BA128","v":0},{"$f":"'Bespoke Area Data'!BB128","v":0},{"$f":"'Bespoke Area Data'!BC128","v":0},{"$f":"'Bespoke Area Data'!BD128","v":0},{"$f":"'Bespoke Area Data'!BE128","v":0},{"$f":"'Bespoke Area Data'!BF128","v":0},{"$f":"'Bespoke Area Data'!BG128","v":0},{"$f":"'Bespoke Area Data'!BH128","v":0},{"$f":"'Bespoke Area Data'!BI128","v":0},{"$f":"'Bespoke Area Data'!BJ128","v":0},{"$f":"'Bespoke Area Data'!BK128","v":0},{"$f":"'Bespoke Area Data'!BL128","v":0},{"$f":"'Bespoke Area Data'!BM128","v":0},{"$f":"'Bespoke Area Data'!BN128","v":0},{"$f":"'Bespoke Area Data'!BO128","v":0},{"$f":"'Bespoke Area Data'!BP128","v":0},{"$f":"'Bespoke Area Data'!BQ128","v":0},{"$f":"'Bespoke Area Data'!BR128","v":0},{"$f":"'Bespoke Area Data'!BS128","v":0},{"$f":"'Bespoke Area Data'!BT128","v":0},{"$f":"'Bespoke Area Data'!BU128","v":0},{"$f":"'Bespoke Area Data'!BV128","v":0},{"$f":"'Bespoke Area Data'!BW128","v":0},{"$f":"'Bespoke Area Data'!BX128","v":0},{"$f":"'Bespoke Area Data'!BY128","v":0},{"$f":"'Bespoke Area Data'!BZ128","v":0},{"$f":"'Bespoke Area Data'!CA128","v":0},{"$f":"'Bespoke Area Data'!CB128","v":0},{"$f":"'Bespoke Area Data'!CC128","v":0},{"$f":"'Bespoke Area Data'!CD128","v":0},{"$f":"'Bespoke Area Data'!CE128","v":0},{"$f":"'Bespoke Area Data'!CF128","v":0},{"$f":"'Bespoke Area Data'!CG128","v":0},{"$f":"'Bespoke Area Data'!CH128","v":0},{"$f":"'Bespoke Area Data'!CI128","v":0},{"$f":"'Bespoke Area Data'!CJ128","v":0},{"$f":"'Bespoke Area Data'!CK128","v":0},{"$f":"'Bespoke Area Data'!CL128","v":0},{"$f":"'Bespoke Area Data'!CM128","v":0},{"$f":"'Bespoke Area Data'!CN128","v":0},{"$f":"'Bespoke Area Data'!CO128","v":0},{"$f":"'Bespoke Area Data'!CP128","v":0},{"$f":"'Bespoke Area Data'!CQ128","v":0},{"$f":"'Bespoke Area Data'!CR128","v":0},{"$f":"'Bespoke Area Data'!CS128","v":0},{"$f":"'Bespoke Area Data'!CT128","v":0},{"$f":"'Bespoke Area Data'!CU128","v":0},{"$f":"'Bespoke Area Data'!CV128","v":0},{"$f":"'Bespoke Area Data'!CW128","v":0},{"$f":"'Bespoke Area Data'!CX128","v":0},{"$f":"'Bespoke Area Data'!CY128","v":0},{"$f":"'Bespoke Area Data'!CZ128","v":0},{"$f":"'Bespoke Area Data'!DA128","v":0},{"$f":"'Bespoke Area Data'!DB128","v":0},{"$f":"'Bespoke Area Data'!DC128","v":0},{"$f":"'Bespoke Area Data'!DD128","v":0},{"$f":"'Bespoke Area Data'!DE128","v":0},{"$f":"'Bespoke Area Data'!DF128","v":0},{"$f":"'Bespoke Area Data'!DG128","v":0},{"$f":"'Bespoke Area Data'!DH128","v":0},{"$f":"'Bespoke Area Data'!DI128","v":0},{"$f":"'Bespoke Area Data'!DJ128","v":0},{"$f":"'Bespoke Area Data'!DK128","v":0},{"$f":"'Bespoke Area Data'!DL128","v":0},{"$f":"'Bespoke Area Data'!DM128","v":0},{"$f":"'Bespoke Area Data'!DN128","v":0},{"$f":"'Bespoke Area Data'!DO128","v":0},{"$f":"'Bespoke Area Data'!DP128","v":0},{"$f":"'Bespoke Area Data'!DQ128","v":0},{"$f":"'Bespoke Area Data'!DR128","v":0},{"$f":"'Bespoke Area Data'!DS128","v":0},{"$f":"'Bespoke Area Data'!DT128","v":0},{"$f":"'Bespoke Area Data'!DU128","v":0},{"$f":"'Bespoke Area Data'!DV128","v":0},{"$f":"'Bespoke Area Data'!DW128","v":0},{"$f":"'Bespoke Area Data'!DX128","v":0},{"$f":"'Bespoke Area Data'!DY128","v":0},{"$f":"'Bespoke Area Data'!DZ128","v":0},{"$f":"'Bespoke Area Data'!EA128","v":0},{"$f":"'Bespoke Area Data'!EB128","v":0},{"$f":"'Bespoke Area Data'!EC128","v":0},{"$f":"'Bespoke Area Data'!ED128","v":0},{"$f":"'Bespoke Area Data'!EE128","v":0},{"$f":"'Bespoke Area Data'!EF128","v":0},{"$f":"'Bespoke Area Data'!EG128","v":0},{"$f":"'Bespoke Area Data'!EH128","v":0},{"$f":"'Bespoke Area Data'!EI128","v":0},{"$f":"'Bespoke Area Data'!EJ128","v":0},{"$f":"'Bespoke Area Data'!EK128","v":0},{"$f":"'Bespoke Area Data'!EL128","v":0},{"$f":"'Bespoke Area Data'!EM128","v":0},{"$f":"'Bespoke Area Data'!EN128","v":0},{"$f":"'Bespoke Area Data'!EO128","v":0},{"$f":"'Bespoke Area Data'!EP128","v":0},{"$f":"'Bespoke Area Data'!EQ128","v":0},{"$f":"'Bespoke Area Data'!ER128","v":0},{"$f":"'Bespoke Area Data'!ES128","v":0},{"$f":"'Bespoke Area Data'!ET128","v":0},{"$f":"'Bespoke Area Data'!EU128","v":0},{"$f":"'Bespoke Area Data'!EV128","v":0},{"$f":"'Bespoke Area Data'!EW128","v":0},{"$f":"'Bespoke Area Data'!EX128","v":0},{"$f":"'Bespoke Area Data'!EY128","v":0},{"$f":"'Bespoke Area Data'!EZ128","v":0},{"$f":"'Bespoke Area Data'!FA128","v":0},{"$f":"'Bespoke Area Data'!FB128","v":0},{"$f":"'Bespoke Area Data'!FC128","v":0},{"$f":"'Bespoke Area Data'!FD128","v":0},{"$f":"'Bespoke Area Data'!D129","v":0},{"$f":"'Bespoke Area Data'!E129","v":0},{"$f":"'Bespoke Area Data'!F129","v":0},{"$f":"'Bespoke Area Data'!G129","v":0},{"$f":"'Bespoke Area Data'!H129","v":0},{"$f":"'Bespoke Area Data'!I129","v":0},{"$f":"'Bespoke Area Data'!J129","v":0},{"$f":"'Bespoke Area Data'!K129","v":0},{"$f":"'Bespoke Area Data'!L129","v":0},{"$f":"'Bespoke Area Data'!M129","v":0},{"$f":"'Bespoke Area Data'!N129","v":0},{"$f":"'Bespoke Area Data'!O129","v":0},{"$f":"'Bespoke Area Data'!P129","v":0},{"$f":"'Bespoke Area Data'!Q129","v":0},{"$f":"'Bespoke Area Data'!R129","v":0},{"$f":"'Bespoke Area Data'!S129","v":0},{"$f":"'Bespoke Area Data'!T129","v":0},{"$f":"'Bespoke Area Data'!U129","v":0},{"$f":"'Bespoke Area Data'!V129","v":0},{"$f":"'Bespoke Area Data'!W129","v":0},{"$f":"'Bespoke Area Data'!X129","v":0},{"$f":"'Bespoke Area Data'!Y129","v":0},{"$f":"'Bespoke Area Data'!Z129","v":0},{"$f":"'Bespoke Area Data'!AA129","v":0},{"$f":"'Bespoke Area Data'!AB129","v":0},{"$f":"'Bespoke Area Data'!AC129","v":0},{"$f":"'Bespoke Area Data'!AD129","v":0},{"$f":"'Bespoke Area Data'!AE129","v":0},{"$f":"'Bespoke Area Data'!AF129","v":0},{"$f":"'Bespoke Area Data'!AG129","v":0},{"$f":"'Bespoke Area Data'!AH129","v":0},{"$f":"'Bespoke Area Data'!AI129","v":0},{"$f":"'Bespoke Area Data'!AJ129","v":0},{"$f":"'Bespoke Area Data'!AK129","v":0},{"$f":"'Bespoke Area Data'!AL129","v":0},{"$f":"'Bespoke Area Data'!AM129","v":0},{"$f":"'Bespoke Area Data'!AN129","v":0},{"$f":"'Bespoke Area Data'!AO129","v":0},{"$f":"'Bespoke Area Data'!AP129","v":0},{"$f":"'Bespoke Area Data'!AQ129","v":0},{"$f":"'Bespoke Area Data'!AR129","v":0},{"$f":"'Bespoke Area Data'!AS129","v":0},{"$f":"'Bespoke Area Data'!AT129","v":0},{"$f":"'Bespoke Area Data'!AU129","v":0},{"$f":"'Bespoke Area Data'!AV129","v":0},{"$f":"'Bespoke Area Data'!AW129","v":0},{"$f":"'Bespoke Area Data'!AX129","v":0},{"$f":"'Bespoke Area Data'!AY129","v":0},{"$f":"'Bespoke Area Data'!AZ129","v":0},{"$f":"'Bespoke Area Data'!BA129","v":0},{"$f":"'Bespoke Area Data'!BB129","v":0},{"$f":"'Bespoke Area Data'!BC129","v":0},{"$f":"'Bespoke Area Data'!BD129","v":0},{"$f":"'Bespoke Area Data'!BE129","v":0},{"$f":"'Bespoke Area Data'!BF129","v":0},{"$f":"'Bespoke Area Data'!BG129","v":0},{"$f":"'Bespoke Area Data'!BH129","v":0},{"$f":"'Bespoke Area Data'!BI129","v":0},{"$f":"'Bespoke Area Data'!BJ129","v":0},{"$f":"'Bespoke Area Data'!BK129","v":0},{"$f":"'Bespoke Area Data'!BL129","v":0},{"$f":"'Bespoke Area Data'!BM129","v":0},{"$f":"'Bespoke Area Data'!BN129","v":0},{"$f":"'Bespoke Area Data'!BO129","v":0},{"$f":"'Bespoke Area Data'!BP129","v":0}]
["Bespoke","N/A",{"$f":"IF('Bespoke Area Name'!C36=\"\",\"No bespoke area name entered; Go to sheet \"\"Bespoke Area Name\"\"\",'Bespoke Area Name'!C36)","v":"No bespoke area name entered; Go to sheet \"Bespoke Area Name\""},"AREA0033",{"$f":"'Bespoke Area Data'!D132","v":0},{"$f":"'Bespoke Area Data'!E132","v":0},{"$f":"'Bespoke Area Data'!F132","v":0},{"$f":"'Bespoke Area Data'!G132","v":0},{"$f":"'Bespoke Area Data'!H132","v":0},{"$f":"'Bespoke Area Data'!I132","v":0},{"$f":"'Bespoke Area Data'!J132","v":0},{"$f":"'Bespoke Area Data'!K132","v":0},{"$f":"'Bespoke Area Data'!L132","v":0},{"$f":"'Bespoke Area Data'!M132","v":0},{"$f":"'Bespoke Area Data'!N132","v":0},{"$f":"'Bespoke Area Data'!O132","v":0},{"$f":"'Bespoke Area Data'!P132","v":0},{"$f":"'Bespoke Area Data'!Q132","v":0},{"$f":"'Bespoke Area Data'!R132","v":0},{"$f":"'Bespoke Area Data'!S132","v":0},{"$f":"'Bespoke Area Data'!T132","v":0},{"$f":"'Bespoke Area Data'!U132","v":0},{"$f":"'Bespoke Area Data'!V132","v":0},{"$f":"'Bespoke Area Data'!W132","v":0},{"$f":"'Bespoke Area Data'!X132","v":0},{"$f":"'Bespoke Area Data'!Y132","v":0},{"$f":"'Bespoke Area Data'!Z132","v":0},{"$f":"'Bespoke Area Data'!AA132","v":0},{"$f":"'Bespoke Area Data'!AB132","v":0},{"$f":"'Bespoke Area Data'!AC132","v":0},{"$f":"'Bespoke Area Data'!AD132","v":0},{"$f":"'Bespoke Area Data'!AE132","v":0},{"$f":"'Bespoke Area Data'!AF132","v":0},{"$f":"'Bespoke Area Data'!AG132","v":0},{"$f":"'Bespoke Area Data'!AH132","v":0},{"$f":"'Bespoke Area Data'!AI132","v":0},{"$f":"'Bespoke Area Data'!AJ132","v":0},{"$f":"'Bespoke Area Data'!AK132","v":0},{"$f":"'Bespoke Area Data'!AL132","v":0},{"$f":"'Bespoke Area Data'!AM132","v":0},{"$f":"'Bespoke Area Data'!AN132","v":0},{"$f":"'Bespoke Area Data'!AO132","v":0},{"$f":"'Bespoke Area Data'!AP132","v":0},{"$f":"'Bespoke Area Data'!AQ132","v":0},{"$f":"'Bespoke Area Data'!AR132","v":0},{"$f":"'Bespoke Area Data'!AS132","v":0},{"$f":"'Bespoke Area Data'!AT132","v":0},{"$f":"'Bespoke Area Data'!AU132","v":0},{"$f":"'Bespoke Area Data'!AV132","v":0},{"$f":"'Bespoke Area Data'!AW132","v":0},{"$f":"'Bespoke Area Data'!AX132","v":0},{"$f":"'Bespoke Area Data'!AY132","v":0},{"$f":"'Bespoke Area Data'!AZ132","v":0},{"$f":"'Bespoke Area Data'!BA132","v":0},{"$f":"'Bespoke Area Data'!BB132","v":0},{"$f":"'Bespoke Area Data'!BC132","v":0},{"$f":"'Bespoke Area Data'!BD132","v":0},{"$f":"'Bespoke Area Data'!BE132","v":0},{"$f":"'Bespoke Area Data'!BF132","v":0},{"$f":"'Bespoke Area Data'!BG132","v":0},{"$f":"'Bespoke Area Data'!BH132","v":0},{"$f":"'Bespoke Area Data'!BI132","v":0},{"$f":"'Bespoke Area Data'!BJ132","v":0},{"$f":"'Bespoke Area Data'!BK132","v":0},{"$f":"'Bespoke Area Data'!BL132","v":0},{"$f":"'Bespoke Area Data'!BM132","v":0},{"$f":"'Bespoke Area Data'!BN132","v":0},{"$f":"'Bespoke Area Data'!BO132","v":0},{"$f":"'Bespoke Area Data'!BP132","v":0},{"$f":"'Bespoke Area Data'!BQ132","v":0},{"$f":"'Bespoke Area Data'!BR132","v":0},{"$f":"'Bespoke Area Data'!BS132","v":0},{"$f":"'Bespoke Area Data'!BT132","v":0},{"$f":"'Bespoke Area Data'!BU132","v":0},{"$f":"'Bespoke Area Data'!BV132","v":0},{"$f":"'Bespoke Area Data'!BW132","v":0},{"$f":"'Bespoke Area Data'!BX132","v":0},{"$f":"'Bespoke Area Data'!BY132","v":0},{"$f":"'Bespoke Area Data'!BZ132","v":0},{"$f":"'Bespoke Area Data'!CA132","v":0},{"$f":"'Bespoke Area Data'!CB132","v":0},{"$f":"'Bespoke Area Data'!CC132","v":0},{"$f":"'Bespoke Area Data'!CD132","v":0},{"$f":"'Bespoke Area Data'!CE132","v":0},{"$f":"'Bespoke Area Data'!CF132","v":0},{"$f":"'Bespoke Area Data'!CG132","v":0},{"$f":"'Bespoke Area Data'!CH132","v":0},{"$f":"'Bespoke Area Data'!CI132","v":0},{"$f":"'Bespoke Area Data'!CJ132","v":0},{"$f":"'Bespoke Area Data'!CK132","v":0},{"$f":"'Bespoke Area Data'!CL132","v":0},{"$f":"'Bespoke Area Data'!CM132","v":0},{"$f":"'Bespoke Area Data'!CN132","v":0},{"$f":"'Bespoke Area Data'!CO132","v":0},{"$f":"'Bespoke Area Data'!CP132","v":0},{"$f":"'Bespoke Area Data'!CQ132","v":0},{"$f":"'Bespoke Area Data'!CR132","v":0},{"$f":"'Bespoke Area Data'!CS132","v":0},{"$f":"'Bespoke Area Data'!CT132","v":0},{"$f":"'Bespoke Area Data'!CU132","v":0},{"$f":"'Bespoke Area Data'!CV132","v":0},{"$f":"'Bespoke Area Data'!CW132","v":0},{"$f":"'Bespoke Area Data'!CX132","v":0},{"$f":"'Bespoke Area Data'!CY132","v":0},{"$f":"'Bespoke Area Data'!CZ132","v":0},{"$f":"'Bespoke Area Data'!DA132","v":0},{"$f":"'Bespoke Area Data'!DB132","v":0},{"$f":"'Bespoke Area Data'!DC132","v":0},{"$f":"'Bespoke Area Data'!DD132","v":0},{"$f":"'Bespoke Area Data'!DE132","v":0},{"$f":"'Bespoke Area Data'!DF132","v":0},{"$f":"'Bespoke Area Data'!DG132","v":0},{"$f":"'Bespoke Area Data'!DH132","v":0},{"$f":"'Bespoke Area Data'!DI132","v":0},{"$f":"'Bespoke Area Data'!DJ132","v":0},{"$f":"'Bespoke Area Data'!DK132","v":0},{"$f":"'Bespoke Area Data'!DL132","v":0},{"$f":"'Bespoke Area Data'!DM132","v":0},{"$f":"'Bespoke Area Data'!DN132","v":0},{"$f":"'Bespoke Area Data'!DO132","v":0},{"$f":"'Bespoke Area Data'!DP132","v":0},{"$f":"'Bespoke Area Data'!DQ132","v":0},{"$f":"'Bespoke Area Data'!DR132","v":0},{"$f":"'Bespoke Area Data'!DS132","v":0},{"$f":"'Bespoke Area Data'!DT132","v":0},{"$f":"'Bespoke Area Data'!DU132","v":0},{"$f":"'Bespoke Area Data'!DV132","v":0},{"$f":"'Bespoke Area Data'!DW132","v":0},{"$f":"'Bespoke Area Data'!DX132","v":0},{"$f":"'Bespoke Area Data'!DY132","v":0},{"$f":"'Bespoke Area Data'!DZ132","v":0},{"$f":"'Bespoke Area Data'!EA132","v":0},{"$f":"'Bespoke Area Data'!EB132","v":0},{"$f":"'Bespoke Area Data'!EC132","v":0},{"$f":"'Bespoke Area Data'!ED132","v":0},{"$f":"'Bespoke Area Data'!EE132","v":0},{"$f":"'Bespoke Area Data'!EF132","v":0},{"$f":"'Bespoke Area Data'!EG132","v":0},{"$f":"'Bespoke Area Data'!EH132","v":0},{"$f":"'Bespoke Area Data'!EI132","v":0},{"$f":"'Bespoke Area Data'!EJ132","v":0},{"$f":"'Bespoke Area Data'!EK132","v":0},{"$f":"'Bespoke Area Data'!EL132","v":0},{"$f":"'Bespoke Area Data'!EM132","v":0},{"$f":"'Bespoke Area Data'!EN132","v":0},{"$f":"'Bespoke Area Data'!EO132","v":0},{"$f":"'Bespoke Area Data'!EP132","v":0},{"$f":"'Bespoke Area Data'!EQ132","v":0},{"$f":"'Bespoke Area Data'!ER132","v":0},{"$f":"'Bespoke Area Data'!ES132","v":0},{"$f":"'Bespoke Area Data'!ET132","v":0},{"$f":"'Bespoke Area Data'!EU132","v":0},{"$f":"'Bespoke Area Data'!EV132","v":0},{"$f":"'Bespoke Area Data'!EW132","v":0},{"$f":"'Bespoke Area Data'!EX132","v":0},{"$f":"'Bespoke Area Data'!EY132","v":0},{"$f":"'Bespoke Area Data'!EZ132","v":0},{"$f":"'Bespoke Area Data'!FA132","v":0},{"$f":"'Bespoke Area Data'!FB132","v":0},{"$f":"'Bespoke Area Data'!FC132","v":0},{"$f":"'Bespoke Area Data'!FD132","v":0},{"$f":"'Bespoke Area Data'!D133","v":0},{"$f":"'Bespoke Area Data'!E133","v":0},{"$f":"'Bespoke Area Data'!F133","v":0},{"$f":"'Bespoke Area Data'!G133","v":0},{"$f":"'Bespoke Area Data'!H133","v":0},{"$f":"'Bespoke Area Data'!I133","v":0},{"$f":"'Bespoke Area Data'!J133","v":0},{"$f":"'Bespoke Area Data'!K133","v":0},{"$f":"'Bespoke Area Data'!L133","v":0},{"$f":"'Bespoke Area Data'!M133","v":0},{"$f":"'Bespoke Area Data'!N133","v":0},{"$f":"'Bespoke Area Data'!O133","v":0},{"$f":"'Bespoke Area Data'!P133","v":0},{"$f":"'Bespoke Area Data'!Q133","v":0},{"$f":"'Bespoke Area Data'!R133","v":0},{"$f":"'Bespoke Area Data'!S133","v":0},{"$f":"'Bespoke Area Data'!T133","v":0},{"$f":"'Bespoke Area Data'!U133","v":0},{"$f":"'Bespoke Area Data'!V133","v":0},{"$f":"'Bespoke Area Data'!W133","v":0},{"$f":"'Bespoke Area Data'!X133","v":0},{"$f":"'Bespoke Area Data'!Y133","v":0},{"$f":"'Bespoke Area Data'!Z133","v":0},{"$f":"'Bespoke Area Data'!AA133","v":0},{"$f":"'Bespoke Area Data'!AB133","v":0},{"$f":"'Bespoke Area Data'!AC133","v":0},{"$f":"'Bespoke Area Data'!AD133","v":0},{"$f":"'Bespoke Area Data'!AE133","v":0},{"$f":"'Bespoke Area Data'!AF133","v":0},{"$f":"'Bespoke Area Data'!AG133","v":0},{"$f":"'Bespoke Area Data'!AH133","v":0},{"$f":"'Bespoke Area Data'!AI133","v":0},{"$f":"'Bespoke Area Data'!AJ133","v":0},{"$f":"'Bespoke Area Data'!AK133","v":0},{"$f":"'Bespoke Area Data'!AL133","v":0},{"$f":"'Bespoke Area Data'!AM133","v":0},{"$f":"'Bespoke Area Data'!AN133","v":0},{"$f":"'Bespoke Area Data'!AO133","v":0},{"$f":"'Bespoke Area Data'!AP133","v":0},{"$f":"'Bespoke Area Data'!AQ133","v":0},{"$f":"'Bespoke Area Data'!AR133","v":0},{"$f":"'Bespoke Area Data'!AS133","v":0},{"$f":"'Bespoke Area Data'!AT133","v":0},{"$f":"'Bespoke Area Data'!AU133","v":0},{"$f":"'Bespoke Area Data'!AV133","v":0},{"$f":"'Bespoke Area Data'!AW133","v":0},{"$f":"'Bespoke Area Data'!AX133","v":0},{"$f":"'Bespoke Area Data'!AY133","v":0},{"$f":"'Bespoke Area Data'!AZ133","v":0},{"$f":"'Bespoke Area Data'!BA133","v":0},{"$f":"'Bespoke Area Data'!BB133","v":0},{"$f":"'Bespoke Area Data'!BC133","v":0},{"$f":"'Bespoke Area Data'!BD133","v":0},{"$f":"'Bespoke Area Data'!BE133","v":0},{"$f":"'Bespoke Area Data'!BF133","v":0},{"$f":"'Bespoke Area Data'!BG133","v":0},{"$f":"'Bespoke Area Data'!BH133","v":0},{"$f":"'Bespoke Area Data'!BI133","v":0},{"$f":"'Bespoke Area Data'!BJ133","v":0},{"$f":"'Bespoke Area Data'!BK133","v":0},{"$f":"'Bespoke Area Data'!BL133","v":0},{"$f":"'Bespoke Area Data'!BM133","v":0},{"$f":"'Bespoke Area Data'!BN133","v":0},{"$f":"'Bespoke Area Data'!BO133","v":0},{"$f":"'Bespoke Area Data'!BP133","v":0}]
["Bespoke","N/A",{"$f":"IF('Bespoke Area Name'!C37=\"\",\"No bespoke area name entered; Go to sheet \"\"Bespoke Area Name\"\"\",'Bespoke Area Name'!C37)","v":"No bespoke area name entered; Go to sheet \"Bespoke Area Name\""},"AREA0034",{"$f":"'Bespoke Area Data'!D136","v":0},{"$f":"'Bespoke Area Data'!E136","v":0},{"$f":"'Bespoke Area Data'!F136","v":0},{"$f":"'Bespoke Area Data'!G136","v":0},{"$f":"'Bespoke Area Data'!H136","v":0},{"$f":"'Bespoke Area Data'!I136","v":0},{"$f":"'Bespoke Area Data'!J136","v":0},{"$f":"'Bespoke Area Data'!K136","v":0},{"$f":"'Bespoke Area Data'!L136","v":0},{"$f":"'Bespoke Area Data'!M136","v":0},{"$f":"'Bespoke Area Data'!N136","v":0},{"$f":"'Bespoke Area Data'!O136","v":0},{"$f":"'Bespoke Area Data'!P136","v":0},{"$f":"'Bespoke Area Data'!Q136","v":0},{"$f":"'Bespoke Area Data'!R136","v":0},{"$f":"'Bespoke Area Data'!S136","v":0},{"$f":"'Bespoke Area Data'!T136","v":0},{"$f":"'Bespoke Area Data'!U136","v":0},{"$f":"'Bespoke Area Data'!V136","v":0},{"$f":"'Bespoke Area Data'!W136","v":0},{"$f":"'Bespoke Area Data'!X136","v":0},{"$f":"'Bespoke Area Data'!Y136","v":0},{"$f":"'Bespoke Area Data'!Z136","v":0},{"$f":"'Bespoke Area Data'!AA136","v":0},{"$f":"'Bespoke Area Data'!AB136","v":0},{"$f":"'Bespoke Area Data'!AC136","v":0},{"$f":"'Bespoke Area Data'!AD136","v":0},{"$f":"'Bespoke Area Data'!AE136","v":0},{"$f":"'Bespoke Area Data'!AF136","v":0},{"$f":"'Bespoke Area Data'!AG136","v":0},{"$f":"'Bespoke Area Data'!AH136","v":0},{"$f":"'Bespoke Area Data'!AI136","v":0},{"$f":"'Bespoke Area Data'!AJ136","v":0},{"$f":"'Bespoke Area Data'!AK136","v":0},{"$f":"'Bespoke Area Data'!AL136","v":0},{"$f":"'Bespoke Area Data'!AM136","v":0},{"$f":"'Bespoke Area Data'!AN136","v":0},{"$f":"'Bespoke Area Data'!AO136","v":0},{"$f":"'Bespoke Area Data'!AP136","v":0},{"$f":"'Bespoke Area Data'!AQ136","v":0},{"$f":"'Bespoke Area Data'!AR136","v":0},{"$f":"'Bespoke Area Data'!AS136","v":0},{"$f":"'Bespoke Area Data'!AT136","v":0},{"$f":"'Bespoke Area Data'!AU136","v":0},{"$f":"'Bespoke Area Data'!AV136","v":0},{"$f":"'Bespoke Area Data'!AW136","v":0},{"$f":"'Bespoke Area Data'!AX136","v":0},{"$f":"'Bespoke Area Data'!AY136","v":0},{"$f":"'Bespoke Area Data'!AZ136","v":0},{"$f":"'Bespoke Area Data'!BA136","v":0},{"$f":"'Bespoke Area Data'!BB136","v":0},{"$f":"'Bespoke Area Data'!BC136","v":0},{"$f":"'Bespoke Area Data'!BD136","v":0},{"$f":"'Bespoke Area Data'!BE136","v":0},{"$f":"'Bespoke Area Data'!BF136","v":0},{"$f":"'Bespoke Area Data'!BG136","v":0},{"$f":"'Bespoke Area Data'!BH136","v":0},{"$f":"'Bespoke Area Data'!BI136","v":0},{"$f":"'Bespoke Area Data'!BJ136","v":0},{"$f":"'Bespoke Area Data'!BK136","v":0},{"$f":"'Bespoke Area Data'!BL136","v":0},{"$f":"'Bespoke Area Data'!BM136","v":0},{"$f":"'Bespoke Area Data'!BN136","v":0},{"$f":"'Bespoke Area Data'!BO136","v":0},{"$f":"'Bespoke Area Data'!BP136","v":0},{"$f":"'Bespoke Area Data'!BQ136","v":0},{"$f":"'Bespoke Area Data'!BR136","v":0},{"$f":"'Bespoke Area Data'!BS136","v":0},{"$f":"'Bespoke Area Data'!BT136","v":0},{"$f":"'Bespoke Area Data'!BU136","v":0},{"$f":"'Bespoke Area Data'!BV136","v":0},{"$f":"'Bespoke Area Data'!BW136","v":0},{"$f":"'Bespoke Area Data'!BX136","v":0},{"$f":"'Bespoke Area Data'!BY136","v":0},{"$f":"'Bespoke Area Data'!BZ136","v":0},{"$f":"'Bespoke Area Data'!CA136","v":0},{"$f":"'Bespoke Area Data'!CB136","v":0},{"$f":"'Bespoke Area Data'!CC136","v":0},{"$f":"'Bespoke Area Data'!CD136","v":0},{"$f":"'Bespoke Area Data'!CE136","v":0},{"$f":"'Bespoke Area Data'!CF136","v":0},{"$f":"'Bespoke Area Data'!CG136","v":0},{"$f":"'Bespoke Area Data'!CH136","v":0},{"$f":"'Bespoke Area Data'!CI136","v":0},{"$f":"'Bespoke Area Data'!CJ136","v":0},{"$f":"'Bespoke Area Data'!CK136","v":0},{"$f":"'Bespoke Area Data'!CL136","v":0},{"$f":"'Bespoke Area Data'!CM136","v":0},{"$f":"'Bespoke Area Data'!CN136","v":0},{"$f":"'Bespoke Area Data'!CO136","v":0},{"$f":"'Bespoke Area Data'!CP136","v":0},{"$f":"'Bespoke Area Data'!CQ136","v":0},{"$f":"'Bespoke Area Data'!CR136","v":0},{"$f":"'Bespoke Area Data'!CS136","v":0},{"$f":"'Bespoke Area Data'!CT136","v":0},{"$f":"'Bespoke Area Data'!CU136","v":0},{"$f":"'Bespoke Area Data'!CV136","v":0},{"$f":"'Bespoke Area Data'!CW136","v":0},{"$f":"'Bespoke Area Data'!CX136","v":0},{"$f":"'Bespoke Area Data'!CY136","v":0},{"$f":"'Bespoke Area Data'!CZ136","v":0},{"$f":"'Bespoke Area Data'!DA136","v":0},{"$f":"'Bespoke Area Data'!DB136","v":0},{"$f":"'Bespoke Area Data'!DC136","v":0},{"$f":"'Bespoke Area Data'!DD136","v":0},{"$f":"'Bespoke Area Data'!DE136","v":0},{"$f":"'Bespoke Area Data'!DF136","v":0},{"$f":"'Bespoke Area Data'!DG136","v":0},{"$f":"'Bespoke Area Data'!DH136","v":0},{"$f":"'Bespoke Area Data'!DI136","v":0},{"$f":"'Bespoke Area Data'!DJ136","v":0},{"$f":"'Bespoke Area Data'!DK136","v":0},{"$f":"'Bespoke Area Data'!DL136","v":0},{"$f":"'Bespoke Area Data'!DM136","v":0},{"$f":"'Bespoke Area Data'!DN136","v":0},{"$f":"'Bespoke Area Data'!DO136","v":0},{"$f":"'Bespoke Area Data'!DP136","v":0},{"$f":"'Bespoke Area Data'!DQ136","v":0},{"$f":"'Bespoke Area Data'!DR136","v":0},{"$f":"'Bespoke Area Data'!DS136","v":0},{"$f":"'Bespoke Area Data'!DT136","v":0},{"$f":"'Bespoke Area Data'!DU136","v":0},{"$f":"'Bespoke Area Data'!DV136","v":0},{"$f":"'Bespoke Area Data'!DW136","v":0},{"$f":"'Bespoke Area Data'!DX136","v":0},{"$f":"'Bespoke Area Data'!DY136","v":0},{"$f":"'Bespoke Area Data'!DZ136","v":0},{"$f":"'Bespoke Area Data'!EA136","v":0},{"$f":"'Bespoke Area Data'!EB136","v":0},{"$f":"'Bespoke Area Data'!EC136","v":0},{"$f":"'Bespoke Area Data'!ED136","v":0},{"$f":"'Bespoke Area Data'!EE136","v":0},{"$f":"'Bespoke Area Data'!EF136","v":0},{"$f":"'Bespoke Area Data'!EG136","v":0},{"$f":"'Bespoke Area Data'!EH136","v":0},{"$f":"'Bespoke Area Data'!EI136","v":0},{"$f":"'Bespoke Area Data'!EJ136","v":0},{"$f":"'Bespoke Area Data'!EK136","v":0},{"$f":"'Bespoke Area Data'!EL136","v":0},{"$f":"'Bespoke Area Data'!EM136","v":0},{"$f":"'Bespoke Area Data'!EN136","v":0},{"$f":"'Bespoke Area Data'!EO136","v":0},{"$f":"'Bespoke Area Data'!EP136","v":0},{"$f":"'Bespoke Area Data'!EQ136","v":0},{"$f":"'Bespoke Area Data'!ER136","v":0},{"$f":"'Bespoke Area Data'!ES136","v":0},{"$f":"'Bespoke Area Data'!ET136","v":0},{"$f":"'Bespoke Area Data'!EU136","v":0},{"$f":"'Bespoke Area Data'!EV136","v":0},{"$f":"'Bespoke Area Data'!EW136","v":0},{"$f":"'Bespoke Area Data'!EX136","v":0},{"$f":"'Bespoke Area Data'!EY136","v":0},{"$f":"'Bespoke Area Data'!EZ136","v":0},{"$f":"'Bespoke Area Data'!FA136","v":0},{"$f":"'Bespoke Area Data'!FB136","v":0},{"$f":"'Bespoke Area Data'!FC136","v":0},{"$f":"'Bespoke Area Data'!FD136","v":0},{"$f":"'Bespoke Area Data'!D137","v":0},{"$f":"'Bespoke Area Data'!E137","v":0},{"$f":"'Bespoke Area Data'!F137","v":0},{"$f":"'Bespoke Area Data'!G137","v":0},{"$f":"'Bespoke Area Data'!H137","v":0},{"$f":"'Bespoke Area Data'!I137","v":0},{"$f":"'Bespoke Area Data'!J137","v":0},{"$f":"'Bespoke Area Data'!K137","v":0},{"$f":"'Bespoke Area Data'!L137","v":0},{"$f":"'Bespoke Area Data'!M137","v":0},{"$f":"'Bespoke Area Data'!N137","v":0},{"$f":"'Bespoke Area Data'!O137","v":0},{"$f":"'Bespoke Area Data'!P137","v":0},{"$f":"'Bespoke Area Data'!Q137","v":0},{"$f":"'Bespoke Area Data'!R137","v":0},{"$f":"'Bespoke Area Data'!S137","v":0},{"$f":"'Bespoke Area Data'!T137","v":0},{"$f":"'Bespoke Area Data'!U137","v":0},{"$f":"'Bespoke Area Data'!V137","v":0},{"$f":"'Bespoke Area Data'!W137","v":0},{"$f":"'Bespoke Area Data'!X137","v":0},{"$f":"'Bespoke Area Data'!Y137","v":0},{"$f":"'Bespoke Area Data'!Z137","v":0},{"$f":"'Bespoke Area Data'!AA137","v":0},{"$f":"'Bespoke Area Data'!AB137","v":0},{"$f":"'Bespoke Area Data'!AC137","v":0},{"$f":"'Bespoke Area Data'!AD137","v":0},{"$f":"'Bespoke Area Data'!AE137","v":0},{"$f":"'Bespoke Area Data'!AF137","v":0},{"$f":"'Bespoke Area Data'!AG137","v":0},{"$f":"'Bespoke Area Data'!AH137","v":0},{"$f":"'Bespoke Area Data'!AI137","v":0},{"$f":"'Bespoke Area Data'!AJ137","v":0},{"$f":"'Bespoke Area Data'!AK137","v":0},{"$f":"'Bespoke Area Data'!AL137","v":0},{"$f":"'Bespoke Area Data'!AM137","v":0},{"$f":"'Bespoke Area Data'!AN137","v":0},{"$f":"'Bespoke Area Data'!AO137","v":0},{"$f":"'Bespoke Area Data'!AP137","v":0},{"$f":"'Bespoke Area Data'!AQ137","v":0},{"$f":"'Bespoke Area Data'!AR137","v":0},{"$f":"'Bespoke Area Data'!AS137","v":0},{"$f":"'Bespoke Area Data'!AT137","v":0},{"$f":"'Bespoke Area Data'!AU137","v":0},{"$f":"'Bespoke Area Data'!AV137","v":0},{"$f":"'Bespoke Area Data'!AW137","v":0},{"$f":"'Bespoke Area Data'!AX137","v":0},{"$f":"'Bespoke Area Data'!AY137","v":0},{"$f":"'Bespoke Area Data'!AZ137","v":0},{"$f":"'Bespoke Area Data'!BA137","v":0},{"$f":"'Bespoke Area Data'!BB137","v":0},{"$f":"'Bespoke Area Data'!BC137","v":0},{"$f":"'Bespoke Area Data'!BD137","v":0},{"$f":"'Bespoke Area Data'!BE137","v":0},{"$f":"'Bespoke Area Data'!BF137","v":0},{"$f":"'Bespoke Area Data'!BG137","v":0},{"$f":"'Bespoke Area Data'!BH137","v":0},{"$f":"'Bespoke Area Data'!BI137","v":0},{"$f":"'Bespoke Area Data'!BJ137","v":0},{"$f":"'Bespoke Area Data'!BK137","v":0},{"$f":"'Bespoke Area Data'!BL137","v":0},{"$f":"'Bespoke Area Data'!BM137","v":0},{"$f":"'Bespoke Area Data'!BN137","v":0},{"$f":"'Bespoke Area Data'!BO137","v":0},{"$f":"'Bespoke Area Data'!BP137","v":0}]
["Bespoke","N/A",{"$f":"IF('Bespoke Area Name'!C38=\"\",\"No bespoke area name entered; Go to sheet \"\"Bespoke Area Name\"\"\",'Bespoke Area Name'!C38)","v":"No bespoke area name entered; Go to sheet \"Bespoke Area Name\""},"AREA0035",{"$f":"'Bespoke Area Data'!D140","v":0},{"$f":"'Bespoke Area Data'!E140","v":0},{"$f":"'Bespoke Area Data'!F140","v":0},{"$f":"'Bespoke Area Data'!G140","v":0},{"$f":"'Bespoke Area Data'!H140","v":0},{"$f":"'Bespoke Area Data'!I140","v":0},{"$f":"'Bespoke Area Data'!J140","v":0},{"$f":"'Bespoke Area Data'!K140","v":0},{"$f":"'Bespoke Area Data'!L140","v":0},{"$f":"'Bespoke Area Data'!M140","v":0},{"$f":"'Bespoke Area Data'!N140","v":0},{"$f":"'Bespoke Area Data'!O140","v":0},{"$f":"'Bespoke Area Data'!P140","v":0},{"$f":"'Bespoke Area Data'!Q140","v":0},{"$f":"'Bespoke Area Data'!R140","v":0},{"$f":"'Bespoke Area Data'!S140","v":0},{"$f":"'Bespoke Area Data'!T140","v":0},{"$f":"'Bespoke Area Data'!U140","v":0},{"$f":"'Bespoke Area Data'!V140","v":0},{"$f":"'Bespoke Area Data'!W140","v":0},{"$f":"'Bespoke Area Data'!X140","v":0},{"$f":"'Bespoke Area Data'!Y140","v":0},{"$f":"'Bespoke Area Data'!Z140","v":0},{"$f":"'Bespoke Area Data'!AA140","v":0},{"$f":"'Bespoke Area Data'!AB140","v":0},{"$f":"'Bespoke Area Data'!AC140","v":0},{"$f":"'Bespoke Area Data'!AD140","v":0},{"$f":"'Bespoke Area Data'!AE140","v":0},{"$f":"'Bespoke Area Data'!AF140","v":0},{"$f":"'Bespoke Area Data'!AG140","v":0},{"$f":"'Bespoke Area Data'!AH140","v":0},{"$f":"'Bespoke Area Data'!AI140","v":0},{"$f":"'Bespoke Area Data'!AJ140","v":0},{"$f":"'Bespoke Area Data'!AK140","v":0},{"$f":"'Bespoke Area Data'!AL140","v":0},{"$f":"'Bespoke Area Data'!AM140","v":0},{"$f":"'Bespoke Area Data'!AN140","v":0},{"$f":"'Bespoke Area Data'!AO140","v":0},{"$f":"'Bespoke Area Data'!AP140","v":0},{"$f":"'Bespoke Area Data'!AQ140","v":0},{"$f":"'Bespoke Area Data'!AR140","v":0},{"$f":"'Bespoke Area Data'!AS140","v":0},{"$f":"'Bespoke Area Data'!AT140","v":0},{"$f":"'Bespoke Area Data'!AU140","v":0},{"$f":"'Bespoke Area Data'!AV140","v":0},{"$f":"'Bespoke Area Data'!AW140","v":0},{"$f":"'Bespoke Area Data'!AX140","v":0},{"$f":"'Bespoke Area Data'!AY140","v":0},{"$f":"'Bespoke Area Data'!AZ140","v":0},{"$f":"'Bespoke Area Data'!BA140","v":0},{"$f":"'Bespoke Area Data'!BB140","v":0},{"$f":"'Bespoke Area Data'!BC140","v":0},{"$f":"'Bespoke Area Data'!BD140","v":0},{"$f":"'Bespoke Area Data'!BE140","v":0},{"$f":"'Bespoke Area Data'!BF140","v":0},{"$f":"'Bespoke Area Data'!BG140","v":0},{"$f":"'Bespoke Area Data'!BH140","v":0},{"$f":"'Bespoke Area Data'!BI140","v":0},{"$f":"'Bespoke Area Data'!BJ140","v":0},{"$f":"'Bespoke Area Data'!BK140","v":0},{"$f":"'Bespoke Area Data'!BL140","v":0},{"$f":"'Bespoke Area Data'!BM140","v":0},{"$f":"'Bespoke Area Data'!BN140","v":0},{"$f":"'Bespoke Area Data'!BO140","v":0},{"$f":"'Bespoke Area Data'!BP140","v":0},{"$f":"'Bespoke Area Data'!BQ140","v":0},{"$f":"'Bespoke Area Data'!BR140","v":0},{"$f":"'Bespoke Area Data'!BS140","v":0},{"$f":"'Bespoke Area Data'!BT140","v":0},{"$f":"'Bespoke Area Data'!BU140","v":0},{"$f":"'Bespoke Area Data'!BV140","v":0},{"$f":"'Bespoke Area Data'!BW140","v":0},{"$f":"'Bespoke Area Data'!BX140","v":0},{"$f":"'Bespoke Area Data'!BY140","v":0},{"$f":"'Bespoke Area Data'!BZ140","v":0},{"$f":"'Bespoke Area Data'!CA140","v":0},{"$f":"'Bespoke Area Data'!CB140","v":0},{"$f":"'Bespoke Area Data'!CC140","v":0},{"$f":"'Bespoke Area Data'!CD140","v":0},{"$f":"'Bespoke Area Data'!CE140","v":0},{"$f":"'Bespoke Area Data'!CF140","v":0},{"$f":"'Bespoke Area Data'!CG140","v":0},{"$f":"'Bespoke Area Data'!CH140","v":0},{"$f":"'Bespoke Area Data'!CI140","v":0},{"$f":"'Bespoke Area Data'!CJ140","v":0},{"$f":"'Bespoke Area Data'!CK140","v":0},{"$f":"'Bespoke Area Data'!CL140","v":0},{"$f":"'Bespoke Area Data'!CM140","v":0},{"$f":"'Bespoke Area Data'!CN140","v":0},{"$f":"'Bespoke Area Data'!CO140","v":0},{"$f":"'Bespoke Area Data'!CP140","v":0},{"$f":"'Bespoke Area Data'!CQ140","v":0},{"$f":"'Bespoke Area Data'!CR140","v":0},{"$f":"'Bespoke Area Data'!CS140","v":0},{"$f":"'Bespoke Area Data'!CT140","v":0},{"$f":"'Bespoke Area Data'!CU140","v":0},{"$f":"'Bespoke Area Data'!CV140","v":0},{"$f":"'Bespoke Area Data'!CW140","v":0},{"$f":"'Bespoke Area Data'!CX140","v":0},{"$f":"'Bespoke Area Data'!CY140","v":0},{"$f":"'Bespoke Area Data'!CZ140","v":0},{"$f":"'Bespoke Area Data'!DA140","v":0},{"$f":"'Bespoke Area Data'!DB140","v":0},{"$f":"'Bespoke Area Data'!DC140","v":0},{"$f":"'Bespoke Area Data'!DD140","v":0},{"$f":"'Bespoke Area Data'!DE140","v":0},{"$f":"'Bespoke Area Data'!DF140","v":0},{"$f":"'Bespoke Area Data'!DG140","v":0},{"$f":"'Bespoke Area Data'!DH140","v":0},{"$f":"'Bespoke Area Data'!DI140","v":0},{"$f":"'Bespoke Area Data'!DJ140","v":0},{"$f":"'Bespoke Area Data'!DK140","v":0},{"$f":"'Bespoke Area Data'!DL140","v":0},{"$f":"'Bespoke Area Data'!DM140","v":0},{"$f":"'Bespoke Area Data'!DN140","v":0},{"$f":"'Bespoke Area Data'!DO140","v":0},{"$f":"'Bespoke Area Data'!DP140","v":0},{"$f":"'Bespoke Area Data'!DQ140","v":0},{"$f":"'Bespoke Area Data'!DR140","v":0},{"$f":"'Bespoke Area Data'!DS140","v":0},{"$f":"'Bespoke Area Data'!DT140","v":0},{"$f":"'Bespoke Area Data'!DU140","v":0},{"$f":"'Bespoke Area Data'!DV140","v":0},{"$f":"'Bespoke Area Data'!DW140","v":0},{"$f":"'Bespoke Area Data'!DX140","v":0},{"$f":"'Bespoke Area Data'!DY140","v":0},{"$f":"'Bespoke Area Data'!DZ140","v":0},{"$f":"'Bespoke Area Data'!EA140","v":0},{"$f":"'Bespoke Area Data'!EB140","v":0},{"$f":"'Bespoke Area Data'!EC140","v":0},{"$f":"'Bespoke Area Data'!ED140","v":0},{"$f":"'Bespoke Area Data'!EE140","v":0},{"$f":"'Bespoke Area Data'!EF140","v":0},{"$f":"'Bespoke Area Data'!EG140","v":0},{"$f":"'Bespoke Area Data'!EH140","v":0},{"$f":"'Bespoke Area Data'!EI140","v":0},{"$f":"'Bespoke Area Data'!EJ140","v":0},{"$f":"'Bespoke Area Data'!EK140","v":0},{"$f":"'Bespoke Area Data'!EL140","v":0},{"$f":"'Bespoke Area Data'!EM140","v":0},{"$f":"'Bespoke Area Data'!EN140","v":0},{"$f":"'Bespoke Area Data'!EO140","v":0},{"$f":"'Bespoke Area Data'!EP140","v":0},{"$f":"'Bespoke Area Data'!EQ140","v":0},{"$f":"'Bespoke Area Data'!ER140","v":0},{"$f":"'Bespoke Area Data'!ES140","v":0},{"$f":"'Bespoke Area Data'!ET140","v":0},{"$f":"'Bespoke Area Data'!EU140","v":0},{"$f":"'Bespoke Area Data'!EV140","v":0},{"$f":"'Bespoke Area Data'!EW140","v":0},{"$f":"'Bespoke Area Data'!EX140","v":0},{"$f":"'Bespoke Area Data'!EY140","v":0},{"$f":"'Bespoke Area Data'!EZ140","v":0},{"$f":"'Bespoke Area Data'!FA140","v":0},{"$f":"'Bespoke Area Data'!FB140","v":0},{"$f":"'Bespoke Area Data'!FC140","v":0},{"$f":"'Bespoke Area Data'!FD140","v":0},{"$f":"'Bespoke Area Data'!D141","v":0},{"$f":"'Bespoke Area Data'!E141","v":0},{"$f":"'Bespoke Area Data'!F141","v":0},{"$f":"'Bespoke Area Data'!G141","v":0},{"$f":"'Bespoke Area Data'!H141","v":0},{"$f":"'Bespoke Area Data'!I141","v":0},{"$f":"'Bespoke Area Data'!J141","v":0},{"$f":"'Bespoke Area Data'!K141","v":0},{"$f":"'Bespoke Area Data'!L141","v":0},{"$f":"'Bespoke Area Data'!M141","v":0},{"$f":"'Bespoke Area Data'!N141","v":0},{"$f":"'Bespoke Area Data'!O141","v":0},{"$f":"'Bespoke Area Data'!P141","v":0},{"$f":"'Bespoke Area Data'!Q141","v":0},{"$f":"'Bespoke Area Data'!R141","v":0},{"$f":"'Bespoke Area Data'!S141","v":0},{"$f":"'Bespoke Area Data'!T141","v":0},{"$f":"'Bespoke Area Data'!U141","v":0},{"$f":"'Bespoke Area Data'!V141","v":0},{"$f":"'Bespoke Area Data'!W141","v":0},{"$f":"'Bespoke Area Data'!X141","v":0},{"$f":"'Bespoke Area Data'!Y141","v":0},{"$f":"'Bespoke Area Data'!Z141","v":0},{"$f":"'Bespoke Area Data'!AA141","v":0},{"$f":"'Bespoke Area Data'!AB141","v":0},{"$f":"'Bespoke Area Data'!AC141","v":0},{"$f":"'Bespoke Area Data'!AD141","v":0},{"$f":"'Bespoke Area Data'!AE141","v":0},{"$f":"'Bespoke Area Data'!AF141","v":0},{"$f":"'Bespoke Area Data'!AG141","v":0},{"$f":"'Bespoke Area Data'!AH141","v":0},{"$f":"'Bespoke Area Data'!AI141","v":0},{"$f":"'Bespoke Area Data'!AJ141","v":0},{"$f":"'Bespoke Area Data'!AK141","v":0},{"$f":"'Bespoke Area Data'!AL141","v":0},{"$f":"'Bespoke Area Data'!AM141","v":0},{"$f":"'Bespoke Area Data'!AN141","v":0},{"$f":"'Bespoke Area Data'!AO141","v":0},{"$f":"'Bespoke Area Data'!AP141","v":0},{"$f":"'Bespoke Area Data'!AQ141","v":0},{"$f":"'Bespoke Area Data'!AR141","v":0},{"$f":"'Bespoke Area Data'!AS141","v":0},{"$f":"'Bespoke Area Data'!AT141","v":0},{"$f":"'Bespoke Area Data'!AU141","v":0},{"$f":"'Bespoke Area Data'!AV141","v":0},{"$f":"'Bespoke Area Data'!AW141","v":0},{"$f":"'Bespoke Area Data'!AX141","v":0},{"$f":"'Bespoke Area Data'!AY141","v":0},{"$f":"'Bespoke Area Data'!AZ141","v":0},{"$f":"'Bespoke Area Data'!BA141","v":0},{"$f":"'Bespoke Area Data'!BB141","v":0},{"$f":"'Bespoke Area Data'!BC141","v":0},{"$f":"'Bespoke Area Data'!BD141","v":0},{"$f":"'Bespoke Area Data'!BE141","v":0},{"$f":"'Bespoke Area Data'!BF141","v":0},{"$f":"'Bespoke Area Data'!BG141","v":0},{"$f":"'Bespoke Area Data'!BH141","v":0},{"$f":"'Bespoke Area Data'!BI141","v":0},{"$f":"'Bespoke Area Data'!BJ141","v":0},{"$f":"'Bespoke Area Data'!BK141","v":0},{"$f":"'Bespoke Area Data'!BL141","v":0},{"$f":"'Bespoke Area Data'!BM141","v":0},{"$f":"'Bespoke Area Data'!BN141","v":0},{"$f":"'Bespoke Area Data'!BO141","v":0},{"$f":"'Bespoke Area Data'!BP141","v":0}]
["Bespoke","N/A",{"$f":"IF('Bespoke Area Name'!C39=\"\",\"No bespoke area name entered; Go to sheet \"\"Bespoke Area Name\"\"\",'Bespoke Area Name'!C39)","v":"No bespoke area name entered; Go to sheet \"Bespoke Area Name\""},"AREA0036",{"$f":"'Bespoke Area Data'!D144","v":0},{"$f":"'Bespoke Area Data'!E144","v":0},{"$f":"'Bespoke Area Data'!F144","v":0},{"$f":"'Bespoke Area Data'!G144","v":0},{"$f":"'Bespoke Area Data'!H144","v":0},{"$f":"'Bespoke Area Data'!I144","v":0},{"$f":"'Bespoke Area Data'!J144","v":0},{"$f":"'Bespoke Area Data'!K144","v":0},{"$f":"'Bespoke Area Data'!L144","v":0},{"$f":"'Bespoke Area Data'!M144","v":0},{"$f":"'Bespoke Area Data'!N144","v":0},{"$f":"'Bespoke Area Data'!O144","v":0},{"$f":"'Bespoke Area Data'!P144","v":0},{"$f":"'Bespoke Area Data'!Q144","v":0},{"$f":"'Bespoke Area Data'!R144","v":0},{"$f":"'Bespoke Area Data'!S144","v":0},{"$f":"'Bespoke Area Data'!T144","v":0},{"$f":"'Bespoke Area Data'!U144","v":0},{"$f":"'Bespoke Area Data'!V144","v":0},{"$f":"'Bespoke Area Data'!W144","v":0},{"$f":"'Bespoke Area Data'!X144","v":0},{"$f":"'Bespoke Area Data'!Y144","v":0},{"$f":"'Bespoke Area Data'!Z144","v":0},{"$f":"'Bespoke Area Data'!AA144","v":0},{"$f":"'Bespoke Area Data'!AB144","v":0},{"$f":"'Bespoke Area Data'!AC144","v":0},{"$f":"'Bespoke Area Data'!AD144","v":0},{"$f":"'Bespoke Area Data'!AE144","v":0},{"$f":"'Bespoke Area Data'!AF144","v":0},{"$f":"'Bespoke Area Data'!AG144","v":0},{"$f":"'Bespoke Area Data'!AH144","v":0},{"$f":"'Bespoke Area Data'!AI144","v":0},{"$f":"'Bespoke Area Data'!AJ144","v":0},{"$f":"'Bespoke Area Data'!AK144","v":0},{"$f":"'Bespoke Area Data'!AL144","v":0},{"$f":"'Bespoke Area Data'!AM144","v":0},{"$f":"'Bespoke Area Data'!AN144","v":0},{"$f":"'Bespoke Area Data'!AO144","v":0},{"$f":"'Bespoke Area Data'!AP144","v":0},{"$f":"'Bespoke Area Data'!AQ144","v":0},{"$f":"'Bespoke Area Data'!AR144","v":0},{"$f":"'Bespoke Area Data'!AS144","v":0},{"$f":"'Bespoke Area Data'!AT144","v":0},{"$f":"'Bespoke Area Data'!AU144","v":0},{"$f":"'Bespoke Area Data'!AV144","v":0},{"$f":"'Bespoke Area Data'!AW144","v":0},{"$f":"'Bespoke Area Data'!AX144","v":0},{"$f":"'Bespoke Area Data'!AY144","v":0},{"$f":"'Bespoke Area Data'!AZ144","v":0},{"$f":"'Bespoke Area Data'!BA144","v":0},{"$f":"'Bespoke Area Data'!BB144","v":0},{"$f":"'Bespoke Area Data'!BC144","v":0},{"$f":"'Bespoke Area Data'!BD144","v":0},{"$f":"'Bespoke Area Data'!BE144","v":0},{"$f":"'Bespoke Area Data'!BF144","v":0},{"$f":"'Bespoke Area Data'!BG144","v":0},{"$f":"'Bespoke Area Data'!BH144","v":0},{"$f":"'Bespoke Area Data'!BI144","v":0},{"$f":"'Bespoke Area Data'!BJ144","v":0},{"$f":"'Bespoke Area Data'!BK144","v":0},{"$f":"'Bespoke Area Data'!BL144","v":0},{"$f":"'Bespoke Area Data'!BM144","v":0},{"$f":"'Bespoke Area Data'!BN144","v":0},{"$f":"'Bespoke Area Data'!BO144","v":0},{"$f":"'Bespoke Area Data'!BP144","v":0},{"$f":"'Bespoke Area Data'!BQ144","v":0},{"$f":"'Bespoke Area Data'!BR144","v":0},{"$f":"'Bespoke Area Data'!BS144","v":0},{"$f":"'Bespoke Area Data'!BT144","v":0},{"$f":"'Bespoke Area Data'!BU144","v":0},{"$f":"'Bespoke Area Data'!BV144","v":0},{"$f":"'Bespoke Area Data'!BW144","v":0},{"$f":"'Bespoke Area Data'!BX144","v":0},{"$f":"'Bespoke Area Data'!BY144","v":0},{"$f":"'Bespoke Area Data'!BZ144","v":0},{"$f":"'Bespoke Area Data'!CA144","v":0},{"$f":"'Bespoke Area Data'!CB144","v":0},{"$f":"'Bespoke Area Data'!CC144","v":0},{"$f":"'Bespoke Area Data'!CD144","v":0},{"$f":"'Bespoke Area Data'!CE144","v":0},{"$f":"'Bespoke Area Data'!CF144","v":0},{"$f":"'Bespoke Area Data'!CG144","v":0},{"$f":"'Bespoke Area Data'!CH144","v":0},{"$f":"'Bespoke Area Data'!CI144","v":0},{"$f":"'Bespoke Area Data'!CJ144","v":0},{"$f":"'Bespoke Area Data'!CK144","v":0},{"$f":"'Bespoke Area Data'!CL144","v":0},{"$f":"'Bespoke Area Data'!CM144","v":0},{"$f":"'Bespoke Area Data'!CN144","v":0},{"$f":"'Bespoke Area Data'!CO144","v":0},{"$f":"'Bespoke Area Data'!CP144","v":0},{"$f":"'Bespoke Area Data'!CQ144","v":0},{"$f":"'Bespoke Area Data'!CR144","v":0},{"$f":"'Bespoke Area Data'!CS144","v":0},{"$f":"'Bespoke Area Data'!CT144","v":0},{"$f":"'Bespoke Area Data'!CU144","v":0},{"$f":"'Bespoke Area Data'!CV144","v":0},{"$f":"'Bespoke Area Data'!CW144","v":0},{"$f":"'Bespoke Area Data'!CX144","v":0},{"$f":"'Bespoke Area Data'!CY144","v":0},{"$f":"'Bespoke Area Data'!CZ144","v":0},{"$f":"'Bespoke Area Data'!DA144","v":0},{"$f":"'Bespoke Area Data'!DB144","v":0},{"$f":"'Bespoke Area Data'!DC144","v":0},{"$f":"'Bespoke Area Data'!DD144","v":0},{"$f":"'Bespoke Area Data'!DE144","v":0},{"$f":"'Bespoke Area Data'!DF144","v":0},{"$f":"'Bespoke Area Data'!DG144","v":0},{"$f":"'Bespoke Area Data'!DH144","v":0},{"$f":"'Bespoke Area Data'!DI144","v":0},{"$f":"'Bespoke Area Data'!DJ144","v":0},{"$f":"'Bespoke Area Data'!DK144","v":0},{"$f":"'Bespoke Area Data'!DL144","v":0},{"$f":"'Bespoke Area Data'!DM144","v":0},{"$f":"'Bespoke Area Data'!DN144","v":0},{"$f":"'Bespoke Area Data'!DO144","v":0},{"$f":"'Bespoke Area Data'!DP144","v":0},{"$f":"'Bespoke Area Data'!DQ144","v":0},{"$f":"'Bespoke Area Data'!DR144","v":0},{"$f":"'Bespoke Area Data'!DS144","v":0},{"$f":"'Bespoke Area Data'!DT144","v":0},{"$f":"'Bespoke Area Data'!DU144","v":0},{"$f":"'Bespoke Area Data'!DV144","v":0},{"$f":"'Bespoke Area Data'!DW144","v":0},{"$f":"'Bespoke Area Data'!DX144","v":0},{"$f":"'Bespoke Area Data'!DY144","v":0},{"$f":"'Bespoke Area Data'!DZ144","v":0},{"$f":"'Bespoke Area Data'!EA144","v":0},{"$f":"'Bespoke Area Data'!EB144","v":0},{"$f":"'Bespoke Area Data'!EC144","v":0},{"$f":"'Bespoke Area Data'!ED144","v":0},{"$f":"'Bespoke Area Data'!EE144","v":0},{"$f":"'Bespoke Area Data'!EF144","v":0},{"$f":"'Bespoke Area Data'!EG144","v":0},{"$f":"'Bespoke Area Data'!EH144","v":0},{"$f":"'Bespoke Area Data'!EI144","v":0},{"$f":"'Bespoke Area Data'!EJ144","v":0},{"$f":"'Bespoke Area Data'!EK144","v":0},{"$f":"'Bespoke Area Data'!EL144","v":0},{"$f":"'Bespoke Area Data'!EM144","v":0},{"$f":"'Bespoke Area Data'!EN144","v":0},{"$f":"'Bespoke Area Data'!EO144","v":0},{"$f":"'Bespoke Area Data'!EP144","v":0},{"$f":"'Bespoke Area Data'!EQ144","v":0},{"$f":"'Bespoke Area Data'!ER144","v":0},{"$f":"'Bespoke Area Data'!ES144","v":0},{"$f":"'Bespoke Area Data'!ET144","v":0},{"$f":"'Bespoke Area Data'!EU144","v":0},{"$f":"'Bespoke Area Data'!EV144","v":0},{"$f":"'Bespoke Area Data'!EW144","v":0},{"$f":"'Bespoke Area Data'!EX144","v":0},{"$f":"'Bespoke Area Data'!EY144","v":0},{"$f":"'Bespoke Area Data'!EZ144","v":0},{"$f":"'Bespoke Area Data'!FA144","v":0},{"$f":"'Bespoke Area Data'!FB144","v":0},{"$f":"'Bespoke Area Data'!FC144","v":0},{"$f":"'Bespoke Area Data'!FD144","v":0},{"$f":"'Bespoke Area Data'!D145","v":0},{"$f":"'Bespoke Area Data'!E145","v":0},{"$f":"'Bespoke Area Data'!F145","v":0},{"$f":"'Bespoke Area Data'!G145","v":0},{"$f":"'Bespoke Area Data'!H145","v":0},{"$f":"'Bespoke Area Data'!I145","v":0},{"$f":"'Bespoke Area Data'!J145","v":0},{"$f":"'Bespoke Area Data'!K145","v":0},{"$f":"'Bespoke Area Data'!L145","v":0},{"$f":"'Bespoke Area Data'!M145","v":0},{"$f":"'Bespoke Area Data'!N145","v":0},{"$f":"'Bespoke Area Data'!O145","v":0},{"$f":"'Bespoke Area Data'!P145","v":0},{"$f":"'Bespoke Area Data'!Q145","v":0},{"$f":"'Bespoke Area Data'!R145","v":0},{"$f":"'Bespoke Area Data'!S145","v":0},{"$f":"'Bespoke Area Data'!T145","v":0},{"$f":"'Bespoke Area Data'!U145","v":0},{"$f":"'Bespoke Area Data'!V145","v":0},{"$f":"'Bespoke Area Data'!W145","v":0},{"$f":"'Bespoke Area Data'!X145","v":0},{"$f":"'Bespoke Area Data'!Y145","v":0},{"$f":"'Bespoke Area Data'!Z145","v":0},{"$f":"'Bespoke Area Data'!AA145","v":0},{"$f":"'Bespoke Area Data'!AB145","v":0},{"$f":"'Bespoke Area Data'!AC145","v":0},{"$f":"'Bespoke Area Data'!AD145","v":0},{"$f":"'Bespoke Area Data'!AE145","v":0},{"$f":"'Bespoke Area Data'!AF145","v":0},{"$f":"'Bespoke Area Data'!AG145","v":0},{"$f":"'Bespoke Area Data'!AH145","v":0},{"$f":"'Bespoke Area Data'!AI145","v":0},{"$f":"'Bespoke Area Data'!AJ145","v":0},{"$f":"'Bespoke Area Data'!AK145","v":0},{"$f":"'Bespoke Area Data'!AL145","v":0},{"$f":"'Bespoke Area Data'!AM145","v":0},{"$f":"'Bespoke Area Data'!AN145","v":0},{"$f":"'Bespoke Area Data'!AO145","v":0},{"$f":"'Bespoke Area Data'!AP145","v":0},{"$f":"'Bespoke Area Data'!AQ145","v":0},{"$f":"'Bespoke Area Data'!AR145","v":0},{"$f":"'Bespoke Area Data'!AS145","v":0},{"$f":"'Bespoke Area Data'!AT145","v":0},{"$f":"'Bespoke Area Data'!AU145","v":0},{"$f":"'Bespoke Area Data'!AV145","v":0},{"$f":"'Bespoke Area Data'!AW145","v":0},{"$f":"'Bespoke Area Data'!AX145","v":0},{"$f":"'Bespoke Area Data'!AY145","v":0},{"$f":"'Bespoke Area Data'!AZ145","v":0},{"$f":"'Bespoke Area Data'!BA145","v":0},{"$f":"'Bespoke Area Data'!BB145","v":0},{"$f":"'Bespoke Area Data'!BC145","v":0},{"$f":"'Bespoke Area Data'!BD145","v":0},{"$f":"'Bespoke Area Data'!BE145","v":0},{"$f":"'Bespoke Area Data'!BF145","v":0},{"$f":"'Bespoke Area Data'!BG145","v":0},{"$f":"'Bespoke Area Data'!BH145","v":0},{"$f":"'Bespoke Area Data'!BI145","v":0},{"$f":"'Bespoke Area Data'!BJ145","v":0},{"$f":"'Bespoke Area Data'!BK145","v":0},{"$f":"'Bespoke Area Data'!BL145","v":0},{"$f":"'Bespoke Area Data'!BM145","v":0},{"$f":"'Bespoke Area Data'!BN145","v":0},{"$f":"'Bespoke Area Data'!BO145","v":0},{"$f":"'Bespoke Area Data'!BP145","v":0}]
["Bespoke","N/A",{"$f":"IF('Bespoke Area Name'!C40=\"\",\"No bespoke area name entered; Go to sheet \"\"Bespoke Area Name\"\"\",'Bespoke Area Name'!C40)","v":"No bespoke area name entered; Go to sheet \"Bespoke Area Name\""},"AREA0037",{"$f":"'Bespoke Area Data'!D148","v":0},{"$f":"'Bespoke Area Data'!E148","v":0},{"$f":"'Bespoke Area Data'!F148","v":0},{"$f":"'Bespoke Area Data'!G148","v":0},{"$f":"'Bespoke Area Data'!H148","v":0},{"$f":"'Bespoke Area Data'!I148","v":0},{"$f":"'Bespoke Area Data'!J148","v":0},{"$f":"'Bespoke Area Data'!K148","v":0},{"$f":"'Bespoke Area Data'!L148","v":0},{"$f":"'Bespoke Area Data'!M148","v":0},{"$f":"'Bespoke Area Data'!N148","v":0},{"$f":"'Bespoke Area Data'!O148","v":0},{"$f":"'Bespoke Area Data'!P148","v":0},{"$f":"'Bespoke Area Data'!Q148","v":0},{"$f":"'Bespoke Area Data'!R148","v":0},{"$f":"'Bespoke Area Data'!S148","v":0},{"$f":"'Bespoke Area Data'!T148","v":0},{"$f":"'Bespoke Area Data'!U148","v":0},{"$f":"'Bespoke Area Data'!V148","v":0},{"$f":"'Bespoke Area Data'!W148","v":0},{"$f":"'Bespoke Area Data'!X148","v":0},{"$f":"'Bespoke Area Data'!Y148","v":0},{"$f":"'Bespoke Area Data'!Z148","v":0},{"$f":"'Bespoke Area Data'!AA148","v":0},{"$f":"'Bespoke Area Data'!AB148","v":0},{"$f":"'Bespoke Area Data'!AC148","v":0},{"$f":"'Bespoke Area Data'!AD148","v":0},{"$f":"'Bespoke Area Data'!AE148","v":0},{"$f":"'Bespoke Area Data'!AF148","v":0},{"$f":"'Bespoke Area Data'!AG148","v":0},{"$f":"'Bespoke Area Data'!AH148","v":0},{"$f":"'Bespoke Area Data'!AI148","v":0},{"$f":"'Bespoke Area Data'!AJ148","v":0},{"$f":"'Bespoke Area Data'!AK148","v":0},{"$f":"'Bespoke Area Data'!AL148","v":0},{"$f":"'Bespoke Area Data'!AM148","v":0},{"$f":"'Bespoke Area Data'!AN148","v":0},{"$f":"'Bespoke Area Data'!AO148","v":0},{"$f":"'Bespoke Area Data'!AP148","v":0},{"$f":"'Bespoke Area Data'!AQ148","v":0},{"$f":"'Bespoke Area Data'!AR148","v":0},{"$f":"'Bespoke Area Data'!AS148","v":0},{"$f":"'Bespoke Area Data'!AT148","v":0},{"$f":"'Bespoke Area Data'!AU148","v":0},{"$f":"'Bespoke Area Data'!AV148","v":0},{"$f":"'Bespoke Area Data'!AW148","v":0},{"$f":"'Bespoke Area Data'!AX148","v":0},{"$f":"'Bespoke Area Data'!AY148","v":0},{"$f":"'Bespoke Area Data'!AZ148","v":0},{"$f":"'Bespoke Area Data'!BA148","v":0},{"$f":"'Bespoke Area Data'!BB148","v":0},{"$f":"'Bespoke Area Data'!BC148","v":0},{"$f":"'Bespoke Area Data'!BD148","v":0},{"$f":"'Bespoke Area Data'!BE148","v":0},{"$f":"'Bespoke Area Data'!BF148","v":0},{"$f":"'Bespoke Area Data'!BG148","v":0},{"$f":"'Bespoke Area Data'!BH148","v":0},{"$f":"'Bespoke Area Data'!BI148","v":0},{"$f":"'Bespoke Area Data'!BJ148","v":0},{"$f":"'Bespoke Area Data'!BK148","v":0},{"$f":"'Bespoke Area Data'!BL148","v":0},{"$f":"'Bespoke Area Data'!BM148","v":0},{"$f":"'Bespoke Area Data'!BN148","v":0},{"$f":"'Bespoke Area Data'!BO148","v":0},{"$f":"'Bespoke Area Data'!BP148","v":0},{"$f":"'Bespoke Area Data'!BQ148","v":0},{"$f":"'Bespoke Area Data'!BR148","v":0},{"$f":"'Bespoke Area Data'!BS148","v":0},{"$f":"'Bespoke Area Data'!BT148","v":0},{"$f":"'Bespoke Area Data'!BU148","v":0},{"$f":"'Bespoke Area Data'!BV148","v":0},{"$f":"'Bespoke Area Data'!BW148","v":0},{"$f":"'Bespoke Area Data'!BX148","v":0},{"$f":"'Bespoke Area Data'!BY148","v":0},{"$f":"'Bespoke Area Data'!BZ148","v":0},{"$f":"'Bespoke Area Data'!CA148","v":0},{"$f":"'Bespoke Area Data'!CB148","v":0},{"$f":"'Bespoke Area Data'!CC148","v":0},{"$f":"'Bespoke Area Data'!CD148","v":0},{"$f":"'Bespoke Area Data'!CE148","v":0},{"$f":"'Bespoke Area Data'!CF148","v":0},{"$f":"'Bespoke Area Data'!CG148","v":0},{"$f":"'Bespoke Area Data'!CH148","v":0},{"$f":"'Bespoke Area Data'!CI148","v":0},{"$f":"'Bespoke Area Data'!CJ148","v":0},{"$f":"'Bespoke Area Data'!CK148","v":0},{"$f":"'Bespoke Area Data'!CL148","v":0},{"$f":"'Bespoke Area Data'!CM148","v":0},{"$f":"'Bespoke Area Data'!CN148","v":0},{"$f":"'Bespoke Area Data'!CO148","v":0},{"$f":"'Bespoke Area Data'!CP148","v":0},{"$f":"'Bespoke Area Data'!CQ148","v":0},{"$f":"'Bespoke Area Data'!CR148","v":0},{"$f":"'Bespoke Area Data'!CS148","v":0},{"$f":"'Bespoke Area Data'!CT148","v":0},{"$f":"'Bespoke Area Data'!CU148","v":0},{"$f":"'Bespoke Area Data'!CV148","v":0},{"$f":"'Bespoke Area Data'!CW148","v":0},{"$f":"'Bespoke Area Data'!CX148","v":0},{"$f":"'Bespoke Area Data'!CY148","v":0},{"$f":"'Bespoke Area Data'!CZ148","v":0},{"$f":"'Bespoke Area Data'!DA148","v":0},{"$f":"'Bespoke Area Data'!DB148","v":0},{"$f":"'Bespoke Area Data'!DC148","v":0},{"$f":"'Bespoke Area Data'!DD148","v":0},{"$f":"'Bespoke Area Data'!DE148","v":0},{"$f":"'Bespoke Area Data'!DF148","v":0},{"$f":"'Bespoke Area Data'!DG148","v":0},{"$f":"'Bespoke Area Data'!DH148","v":0},{"$f":"'Bespoke Area Data'!DI148","v":0},{"$f":"'Bespoke Area Data'!DJ148","v":0},{"$f":"'Bespoke Area Data'!DK148","v":0},{"$f":"'Bespoke Area Data'!DL148","v":0},{"$f":"'Bespoke Area Data'!DM148","v":0},{"$f":"'Bespoke Area Data'!DN148","v":0},{"$f":"'Bespoke Area Data'!DO148","v":0},{"$f":"'Bespoke Area Data'!DP148","v":0},{"$f":"'Bespoke Area Data'!DQ148","v":0},{"$f":"'Bespoke Area Data'!DR148","v":0},{"$f":"'Bespoke Area Data'!DS148","v":0},{"$f":"'Bespoke Area Data'!DT148","v":0},{"$f":"'Bespoke Area Data'!DU148","v":0},{"$f":"'Bespoke Area Data'!DV148","v":0},{"$f":"'Bespoke Area Data'!DW148","v":0},{"$f":"'Bespoke Area Data'!DX148","v":0},{"$f":"'Bespoke Area Data'!DY148","v":0},{"$f":"'Bespoke Area Data'!DZ148","v":0},{"$f":"'Bespoke Area Data'!EA148","v":0},{"$f":"'Bespoke Area Data'!EB148","v":0},{"$f":"'Bespoke Area Data'!EC148","v":0},{"$f":"'Bespoke Area Data'!ED148","v":0},{"$f":"'Bespoke Area Data'!EE148","v":0},{"$f":"'Bespoke Area Data'!EF148","v":0},{"$f":"'Bespoke Area Data'!EG148","v":0},{"$f":"'Bespoke Area Data'!EH148","v":0},{"$f":"'Bespoke Area Data'!EI148","v":0},{"$f":"'Bespoke Area Data'!EJ148","v":0},{"$f":"'Bespoke Area Data'!EK148","v":0},{"$f":"'Bespoke Area Data'!EL148","v":0},{"$f":"'Bespoke Area Data'!EM148","v":0},{"$f":"'Bespoke Area Data'!EN148","v":0},{"$f":"'Bespoke Area Data'!EO148","v":0},{"$f":"'Bespoke Area Data'!EP148","v":0},{"$f":"'Bespoke Area Data'!EQ148","v":0},{"$f":"'Bespoke Area Data'!ER148","v":0},{"$f":"'Bespoke Area Data'!ES148","v":0},{"$f":"'Bespoke Area Data'!ET148","v":0},{"$f":"'Bespoke Area Data'!EU148","v":0},{"$f":"'Bespoke Area Data'!EV148","v":0},{"$f":"'Bespoke Area Data'!EW148","v":0},{"$f":"'Bespoke Area Data'!EX148","v":0},{"$f":"'Bespoke Area Data'!EY148","v":0},{"$f":"'Bespoke Area Data'!EZ148","v":0},{"$f":"'Bespoke Area Data'!FA148","v":0},{"$f":"'Bespoke Area Data'!FB148","v":0},{"$f":"'Bespoke Area Data'!FC148","v":0},{"$f":"'Bespoke Area Data'!FD148","v":0},{"$f":"'Bespoke Area Data'!D149","v":0},{"$f":"'Bespoke Area Data'!E149","v":0},{"$f":"'Bespoke Area Data'!F149","v":0},{"$f":"'Bespoke Area Data'!G149","v":0},{"$f":"'Bespoke Area Data'!H149","v":0},{"$f":"'Bespoke Area Data'!I149","v":0},{"$f":"'Bespoke Area Data'!J149","v":0},{"$f":"'Bespoke Area Data'!K149","v":0},{"$f":"'Bespoke Area Data'!L149","v":0},{"$f":"'Bespoke Area Data'!M149","v":0},{"$f":"'Bespoke Area Data'!N149","v":0},{"$f":"'Bespoke Area Data'!O149","v":0},{"$f":"'Bespoke Area Data'!P149","v":0},{"$f":"'Bespoke Area Data'!Q149","v":0},{"$f":"'Bespoke Area Data'!R149","v":0},{"$f":"'Bespoke Area Data'!S149","v":0},{"$f":"'Bespoke Area Data'!T149","v":0},{"$f":"'Bespoke Area Data'!U149","v":0},{"$f":"'Bespoke Area Data'!V149","v":0},{"$f":"'Bespoke Area Data'!W149","v":0},{"$f":"'Bespoke Area Data'!X149","v":0},{"$f":"'Bespoke Area Data'!Y149","v":0},{"$f":"'Bespoke Area Data'!Z149","v":0},{"$f":"'Bespoke Area Data'!AA149","v":0},{"$f":"'Bespoke Area Data'!AB149","v":0},{"$f":"'Bespoke Area Data'!AC149","v":0},{"$f":"'Bespoke Area Data'!AD149","v":0},{"$f":"'Bespoke Area Data'!AE149","v":0},{"$f":"'Bespoke Area Data'!AF149","v":0},{"$f":"'Bespoke Area Data'!AG149","v":0},{"$f":"'Bespoke Area Data'!AH149","v":0},{"$f":"'Bespoke Area Data'!AI149","v":0},{"$f":"'Bespoke Area Data'!AJ149","v":0},{"$f":"'Bespoke Area Data'!AK149","v":0},{"$f":"'Bespoke Area Data'!AL149","v":0},{"$f":"'Bespoke Area Data'!AM149","v":0},{"$f":"'Bespoke Area Data'!AN149","v":0},{"$f":"'Bespoke Area Data'!AO149","v":0},{"$f":"'Bespoke Area Data'!AP149","v":0},{"$f":"'Bespoke Area Data'!AQ149","v":0},{"$f":"'Bespoke Area Data'!AR149","v":0},{"$f":"'Bespoke Area Data'!AS149","v":0},{"$f":"'Bespoke Area Data'!AT149","v":0},{"$f":"'Bespoke Area Data'!AU149","v":0},{"$f":"'Bespoke Area Data'!AV149","v":0},{"$f":"'Bespoke Area Data'!AW149","v":0},{"$f":"'Bespoke Area Data'!AX149","v":0},{"$f":"'Bespoke Area Data'!AY149","v":0},{"$f":"'Bespoke Area Data'!AZ149","v":0},{"$f":"'Bespoke Area Data'!BA149","v":0},{"$f":"'Bespoke Area Data'!BB149","v":0},{"$f":"'Bespoke Area Data'!BC149","v":0},{"$f":"'Bespoke Area Data'!BD149","v":0},{"$f":"'Bespoke Area Data'!BE149","v":0},{"$f":"'Bespoke Area Data'!BF149","v":0},{"$f":"'Bespoke Area Data'!BG149","v":0},{"$f":"'Bespoke Area Data'!BH149","v":0},{"$f":"'Bespoke Area Data'!BI149","v":0},{"$f":"'Bespoke Area Data'!BJ149","v":0},{"$f":"'Bespoke Area Data'!BK149","v":0},{"$f":"'Bespoke Area Data'!BL149","v":0},{"$f":"'Bespoke Area Data'!BM149","v":0},{"$f":"'Bespoke Area Data'!BN149","v":0},{"$f":"'Bespoke Area Data'!BO149","v":0},{"$f":"'Bespoke Area Data'!BP149","v":0}]
["Bespoke","N/A",{"$f":"IF('Bespoke Area Name'!C41=\"\",\"No bespoke area name entered; Go to sheet \"\"Bespoke Area Name\"\"\",'Bespoke Area Name'!C41)","v":"No bespoke area name entered; Go to sheet \"Bespoke Area Name\""},"AREA0038",{"$f":"'Bespoke Area Data'!D152","v":0},{"$f":"'Bespoke Area Data'!E152","v":0},{"$f":"'Bespoke Area Data'!F152","v":0},{"$f":"'Bespoke Area Data'!G152","v":0},{"$f":"'Bespoke Area Data'!H152","v":0},{"$f":"'Bespoke Area Data'!I152","v":0},{"$f":"'Bespoke Area Data'!J152","v":0},{"$f":"'Bespoke Area Data'!K152","v":0},{"$f":"'Bespoke Area Data'!L152","v":0},{"$f":"'Bespoke Area Data'!M152","v":0},{"$f":"'Bespoke Area Data'!N152","v":0},{"$f":"'Bespoke Area Data'!O152","v":0},{"$f":"'Bespoke Area Data'!P152","v":0},{"$f":"'Bespoke Area Data'!Q152","v":0},{"$f":"'Bespoke Area Data'!R152","v":0},{"$f":"'Bespoke Area Data'!S152","v":0},{"$f":"'Bespoke Area Data'!T152","v":0},{"$f":"'Bespoke Area Data'!U152","v":0},{"$f":"'Bespoke Area Data'!V152","v":0},{"$f":"'Bespoke Area Data'!W152","v":0},{"$f":"'Bespoke Area Data'!X152","v":0},{"$f":"'Bespoke Area Data'!Y152","v":0},{"$f":"'Bespoke Area Data'!Z152","v":0},{"$f":"'Bespoke Area Data'!AA152","v":0},{"$f":"'Bespoke Area Data'!AB152","v":0},{"$f":"'Bespoke Area Data'!AC152","v":0},{"$f":"'Bespoke Area Data'!AD152","v":0},{"$f":"'Bespoke Area Data'!AE152","v":0},{"$f":"'Bespoke Area Data'!AF152","v":0},{"$f":"'Bespoke Area Data'!AG152","v":0},{"$f":"'Bespoke Area Data'!AH152","v":0},{"$f":"'Bespoke Area Data'!AI152","v":0},{"$f":"'Bespoke Area Data'!AJ152","v":0},{"$f":"'Bespoke Area Data'!AK152","v":0},{"$f":"'Bespoke Area Data'!AL152","v":0},{"$f":"'Bespoke Area Data'!AM152","v":0},{"$f":"'Bespoke Area Data'!AN152","v":0},{"$f":"'Bespoke Area Data'!AO152","v":0},{"$f":"'Bespoke Area Data'!AP152","v":0},{"$f":"'Bespoke Area Data'!AQ152","v":0},{"$f":"'Bespoke Area Data'!AR152","v":0},{"$f":"'Bespoke Area Data'!AS152","v":0},{"$f":"'Bespoke Area Data'!AT152","v":0},{"$f":"'Bespoke Area Data'!AU152","v":0},{"$f":"'Bespoke Area Data'!AV152","v":0},{"$f":"'Bespoke Area Data'!AW152","v":0},{"$f":"'Bespoke Area Data'!AX152","v":0},{"$f":"'Bespoke Area Data'!AY152","v":0},{"$f":"'Bespoke Area Data'!AZ152","v":0},{"$f":"'Bespoke Area Data'!BA152","v":0},{"$f":"'Bespoke Area Data'!BB152","v":0},{"$f":"'Bespoke Area Data'!BC152","v":0},{"$f":"'Bespoke Area Data'!BD152","v":0},{"$f":"'Bespoke Area Data'!BE152","v":0},{"$f":"'Bespoke Area Data'!BF152","v":0},{"$f":"'Bespoke Area Data'!BG152","v":0},{"$f":"'Bespoke Area Data'!BH152","v":0},{"$f":"'Bespoke Area Data'!BI152","v":0},{"$f":"'Bespoke Area Data'!BJ152","v":0},{"$f":"'Bespoke Area Data'!BK152","v":0},{"$f":"'Bespoke Area Data'!BL152","v":0},{"$f":"'Bespoke Area Data'!BM152","v":0},{"$f":"'Bespoke Area Data'!BN152","v":0},{"$f":"'Bespoke Area Data'!BO152","v":0},{"$f":"'Bespoke Area Data'!BP152","v":0},{"$f":"'Bespoke Area Data'!BQ152","v":0},{"$f":"'Bespoke Area Data'!BR152","v":0},{"$f":"'Bespoke Area Data'!BS152","v":0},{"$f":"'Bespoke Area Data'!BT152","v":0},{"$f":"'Bespoke Area Data'!BU152","v":0},{"$f":"'Bespoke Area Data'!BV152","v":0},{"$f":"'Bespoke Area Data'!BW152","v":0},{"$f":"'Bespoke Area Data'!BX152","v":0},{"$f":"'Bespoke Area Data'!BY152","v":0},{"$f":"'Bespoke Area Data'!BZ152","v":0},{"$f":"'Bespoke Area Data'!CA152","v":0},{"$f":"'Bespoke Area Data'!CB152","v":0},{"$f":"'Bespoke Area Data'!CC152","v":0},{"$f":"'Bespoke Area Data'!CD152","v":0},{"$f":"'Bespoke Area Data'!CE152","v":0},{"$f":"'Bespoke Area Data'!CF152","v":0},{"$f":"'Bespoke Area Data'!CG152","v":0},{"$f":"'Bespoke Area Data'!CH152","v":0},{"$f":"'Bespoke Area Data'!CI152","v":0},{"$f":"'Bespoke Area Data'!CJ152","v":0},{"$f":"'Bespoke Area Data'!CK152","v":0},{"$f":"'Bespoke Area Data'!CL152","v":0},{"$f":"'Bespoke Area Data'!CM152","v":0},{"$f":"'Bespoke Area Data'!CN152","v":0},{"$f":"'Bespoke Area Data'!CO152","v":0},{"$f":"'Bespoke Area Data'!CP152","v":0},{"$f":"'Bespoke Area Data'!CQ152","v":0},{"$f":"'Bespoke Area Data'!CR152","v":0},{"$f":"'Bespoke Area Data'!CS152","v":0},{"$f":"'Bespoke Area Data'!CT152","v":0},{"$f":"'Bespoke Area Data'!CU152","v":0},{"$f":"'Bespoke Area Data'!CV152","v":0},{"$f":"'Bespoke Area Data'!CW152","v":0},{"$f":"'Bespoke Area Data'!CX152","v":0},{"$f":"'Bespoke Area Data'!CY152","v":0},{"$f":"'Bespoke Area Data'!CZ152","v":0},{"$f":"'Bespoke Area Data'!DA152","v":0},{"$f":"'Bespoke Area Data'!DB152","v":0},{"$f":"'Bespoke Area Data'!DC152","v":0},{"$f":"'Bespoke Area Data'!DD152","v":0},{"$f":"'Bespoke Area Data'!DE152","v":0},{"$f":"'Bespoke Area Data'!DF152","v":0},{"$f":"'Bespoke Area Data'!DG152","v":0},{"$f":"'Bespoke Area Data'!DH152","v":0},{"$f":"'Bespoke Area Data'!DI152","v":0},{"$f":"'Bespoke Area Data'!DJ152","v":0},{"$f":"'Bespoke Area Data'!DK152","v":0},{"$f":"'Bespoke Area Data'!DL152","v":0},{"$f":"'Bespoke Area Data'!DM152","v":0},{"$f":"'Bespoke Area Data'!DN152","v":0},{"$f":"'Bespoke Area Data'!DO152","v":0},{"$f":"'Bespoke Area Data'!DP152","v":0},{"$f":"'Bespoke Area Data'!DQ152","v":0},{"$f":"'Bespoke Area Data'!DR152","v":0},{"$f":"'Bespoke Area Data'!DS152","v":0},{"$f":"'Bespoke Area Data'!DT152","v":0},{"$f":"'Bespoke Area Data'!DU152","v":0},{"$f":"'Bespoke Area Data'!DV152","v":0},{"$f":"'Bespoke Area Data'!DW152","v":0},{"$f":"'Bespoke Area Data'!DX152","v":0},{"$f":"'Bespoke Area Data'!DY152","v":0},{"$f":"'Bespoke Area Data'!DZ152","v":0},{"$f":"'Bespoke Area Data'!EA152","v":0},{"$f":"'Bespoke Area Data'!EB152","v":0},{"$f":"'Bespoke Area Data'!EC152","v":0},{"$f":"'Bespoke Area Data'!ED152","v":0},{"$f":"'Bespoke Area Data'!EE152","v":0},{"$f":"'Bespoke Area Data'!EF152","v":0},{"$f":"'Bespoke Area Data'!EG152","v":0},{"$f":"'Bespoke Area Data'!EH152","v":0},{"$f":"'Bespoke Area Data'!EI152","v":0},{"$f":"'Bespoke Area Data'!EJ152","v":0},{"$f":"'Bespoke Area Data'!EK152","v":0},{"$f":"'Bespoke Area Data'!EL152","v":0},{"$f":"'Bespoke Area Data'!EM152","v":0},{"$f":"'Bespoke Area Data'!EN152","v":0},{"$f":"'Bespoke Area Data'!EO152","v":0},{"$f":"'Bespoke Area Data'!EP152","v":0},{"$f":"'Bespoke Area Data'!EQ152","v":0},{"$f":"'Bespoke Area Data'!ER152","v":0},{"$f":"'Bespoke Area Data'!ES152","v":0},{"$f":"'Bespoke Area Data'!ET152","v":0},{"$f":"'Bespoke Area Data'!EU152","v":0},{"$f":"'Bespoke Area Data'!EV152","v":0},{"$f":"'Bespoke Area Data'!EW152","v":0},{"$f":"'Bespoke Area Data'!EX152","v":0},{"$f":"'Bespoke Area Data'!EY152","v":0},{"$f":"'Bespoke Area Data'!EZ152","v":0},{"$f":"'Bespoke Area Data'!FA152","v":0},{"$f":"'Bespoke Area Data'!FB152","v":0},{"$f":"'Bespoke Area Data'!FC152","v":0},{"$f":"'Bespoke Area Data'!FD152","v":0},{"$f":"'Bespoke Area Data'!D153","v":0},{"$f":"'Bespoke Area Data'!E153","v":0},{"$f":"'Bespoke Area Data'!F153","v":0},{"$f":"'Bespoke Area Data'!G153","v":0},{"$f":"'Bespoke Area Data'!H153","v":0},{"$f":"'Bespoke Area Data'!I153","v":0},{"$f":"'Bespoke Area Data'!J153","v":0},{"$f":"'Bespoke Area Data'!K153","v":0},{"$f":"'Bespoke Area Data'!L153","v":0},{"$f":"'Bespoke Area Data'!M153","v":0},{"$f":"'Bespoke Area Data'!N153","v":0},{"$f":"'Bespoke Area Data'!O153","v":0},{"$f":"'Bespoke Area Data'!P153","v":0},{"$f":"'Bespoke Area Data'!Q153","v":0},{"$f":"'Bespoke Area Data'!R153","v":0},{"$f":"'Bespoke Area Data'!S153","v":0},{"$f":"'Bespoke Area Data'!T153","v":0},{"$f":"'Bespoke Area Data'!U153","v":0},{"$f":"'Bespoke Area Data'!V153","v":0},{"$f":"'Bespoke Area Data'!W153","v":0},{"$f":"'Bespoke Area Data'!X153","v":0},{"$f":"'Bespoke Area Data'!Y153","v":0},{"$f":"'Bespoke Area Data'!Z153","v":0},{"$f":"'Bespoke Area Data'!AA153","v":0},{"$f":"'Bespoke Area Data'!AB153","v":0},{"$f":"'Bespoke Area Data'!AC153","v":0},{"$f":"'Bespoke Area Data'!AD153","v":0},{"$f":"'Bespoke Area Data'!AE153","v":0},{"$f":"'Bespoke Area Data'!AF153","v":0},{"$f":"'Bespoke Area Data'!AG153","v":0},{"$f":"'Bespoke Area Data'!AH153","v":0},{"$f":"'Bespoke Area Data'!AI153","v":0},{"$f":"'Bespoke Area Data'!AJ153","v":0},{"$f":"'Bespoke Area Data'!AK153","v":0},{"$f":"'Bespoke Area Data'!AL153","v":0},{"$f":"'Bespoke Area Data'!AM153","v":0},{"$f":"'Bespoke Area Data'!AN153","v":0},{"$f":"'Bespoke Area Data'!AO153","v":0},{"$f":"'Bespoke Area Data'!AP153","v":0},{"$f":"'Bespoke Area Data'!AQ153","v":0},{"$f":"'Bespoke Area Data'!AR153","v":0},{"$f":"'Bespoke Area Data'!AS153","v":0},{"$f":"'Bespoke Area Data'!AT153","v":0},{"$f":"'Bespoke Area Data'!AU153","v":0},{"$f":"'Bespoke Area Data'!AV153","v":0},{"$f":"'Bespoke Area Data'!AW153","v":0},{"$f":"'Bespoke Area Data'!AX153","v":0},{"$f":"'Bespoke Area Data'!AY153","v":0},{"$f":"'Bespoke Area Data'!AZ153","v":0},{"$f":"'Bespoke Area Data'!BA153","v":0},{"$f":"'Bespoke Area Data'!BB153","v":0},{"$f":"'Bespoke Area Data'!BC153","v":0},{"$f":"'Bespoke Area Data'!BD153","v":0},{"$f":"'Bespoke Area Data'!BE153","v":0},{"$f":"'Bespoke Area Data'!BF153","v":0},{"$f":"'Bespoke Area Data'!BG153","v":0},{"$f":"'Bespoke Area Data'!BH153","v":0},{"$f":"'Bespoke Area Data'!BI153","v":0},{"$f":"'Bespoke Area Data'!BJ153","v":0},{"$f":"'Bespoke Area Data'!BK153","v":0},{"$f":"'Bespoke Area Data'!BL153","v":0},{"$f":"'Bespoke Area Data'!BM153","v":0},{"$f":"'Bespoke Area Data'!BN153","v":0},{"$f":"'Bespoke Area Data'!BO153","v":0},{"$f":"'Bespoke Area Data'!BP153","v":0}]
["Bespoke","N/A",{"$f":"IF('Bespoke Area Name'!C42=\"\",\"No bespoke area name entered; Go to sheet \"\"Bespoke Area Name\"\"\",'Bespoke Area Name'!C42)","v":"No bespoke area name entered; Go to sheet \"Bespoke Area Name\""},"AREA0039",{"$f":"'Bespoke Area Data'!D156","v":0},{"$f":"'Bespoke Area Data'!E156","v":0},{"$f":"'Bespoke Area Data'!F156","v":0},{"$f":"'Bespoke Area Data'!G156","v":0},{"$f":"'Bespoke Area Data'!H156","v":0},{"$f":"'Bespoke Area Data'!I156","v":0},{"$f":"'Bespoke Area Data'!J156","v":0},{"$f":"'Bespoke Area Data'!K156","v":0},{"$f":"'Bespoke Area Data'!L156","v":0},{"$f":"'Bespoke Area Data'!M156","v":0},{"$f":"'Bespoke Area Data'!N156","v":0},{"$f":"'Bespoke Area Data'!O156","v":0},{"$f":"'Bespoke Area Data'!P156","v":0},{"$f":"'Bespoke Area Data'!Q156","v":0},{"$f":"'Bespoke Area Data'!R156","v":0},{"$f":"'Bespoke Area Data'!S156","v":0},{"$f":"'Bespoke Area Data'!T156","v":0},{"$f":"'Bespoke Area Data'!U156","v":0},{"$f":"'Bespoke Area Data'!V156","v":0},{"$f":"'Bespoke Area Data'!W156","v":0},{"$f":"'Bespoke Area Data'!X156","v":0},{"$f":"'Bespoke Area Data'!Y156","v":0},{"$f":"'Bespoke Area Data'!Z156","v":0},{"$f":"'Bespoke Area Data'!AA156","v":0},{"$f":"'Bespoke Area Data'!AB156","v":0},{"$f":"'Bespoke Area Data'!AC156","v":0},{"$f":"'Bespoke Area Data'!AD156","v":0},{"$f":"'Bespoke Area Data'!AE156","v":0},{"$f":"'Bespoke Area Data'!AF156","v":0},{"$f":"'Bespoke Area Data'!AG156","v":0},{"$f":"'Bespoke Area Data'!AH156","v":0},{"$f":"'Bespoke Area Data'!AI156","v":0},{"$f":"'Bespoke Area Data'!AJ156","v":0},{"$f":"'Bespoke Area Data'!AK156","v":0},{"$f":"'Bespoke Area Data'!AL156","v":0},{"$f":"'Bespoke Area Data'!AM156","v":0},{"$f":"'Bespoke Area Data'!AN156","v":0},{"$f":"'Bespoke Area Data'!AO156","v":0},{"$f":"'Bespoke Area Data'!AP156","v":0},{"$f":"'Bespoke Area Data'!AQ156","v":0},{"$f":"'Bespoke Area Data'!AR156","v":0},{"$f":"'Bespoke Area Data'!AS156","v":0},{"$f":"'Bespoke Area Data'!AT156","v":0},{"$f":"'Bespoke Area Data'!AU156","v":0},{"$f":"'Bespoke Area Data'!AV156","v":0},{"$f":"'Bespoke Area Data'!AW156","v":0},{"$f":"'Bespoke Area Data'!AX156","v":0},{"$f":"'Bespoke Area Data'!AY156","v":0},{"$f":"'Bespoke Area Data'!AZ156","v":0},{"$f":"'Bespoke Area Data'!BA156","v":0},{"$f":"'Bespoke Area Data'!BB156","v":0},{"$f":"'Bespoke Area Data'!BC156","v":0},{"$f":"'Bespoke Area Data'!BD156","v":0},{"$f":"'Bespoke Area Data'!BE156","v":0},{"$f":"'Bespoke Area Data'!BF156","v":0},{"$f":"'Bespoke Area Data'!BG156","v":0},{"$f":"'Bespoke Area Data'!BH156","v":0},{"$f":"'Bespoke Area Data'!BI156","v":0},{"$f":"'Bespoke Area Data'!BJ156","v":0},{"$f":"'Bespoke Area Data'!BK156","v":0},{"$f":"'Bespoke Area Data'!BL156","v":0},{"$f":"'Bespoke Area Data'!BM156","v":0},{"$f":"'Bespoke Area Data'!BN156","v":0},{"$f":"'Bespoke Area Data'!BO156","v":0},{"$f":"'Bespoke Area Data'!BP156","v":0},{"$f":"'Bespoke Area Data'!BQ156","v":0},{"$f":"'Bespoke Area Data'!BR156","v":0},{"$f":"'Bespoke Area Data'!BS156","v":0},{"$f":"'Bespoke Area Data'!BT156","v":0},{"$f":"'Bespoke Area Data'!BU156","v":0},{"$f":"'Bespoke Area Data'!BV156","v":0},{"$f":"'Bespoke Area Data'!BW156","v":0},{"$f":"'Bespoke Area Data'!BX156","v":0},{"$f":"'Bespoke Area Data'!BY156","v":0},{"$f":"'Bespoke Area Data'!BZ156","v":0},{"$f":"'Bespoke Area Data'!CA156","v":0},{"$f":"'Bespoke Area Data'!CB156","v":0},{"$f":"'Bespoke Area Data'!CC156","v":0},{"$f":"'Bespoke Area Data'!CD156","v":0},{"$f":"'Bespoke Area Data'!CE156","v":0},{"$f":"'Bespoke Area Data'!CF156","v":0},{"$f":"'Bespoke Area Data'!CG156","v":0},{"$f":"'Bespoke Area Data'!CH156","v":0},{"$f":"'Bespoke Area Data'!CI156","v":0},{"$f":"'Bespoke Area Data'!CJ156","v":0},{"$f":"'Bespoke Area Data'!CK156","v":0},{"$f":"'Bespoke Area Data'!CL156","v":0},{"$f":"'Bespoke Area Data'!CM156","v":0},{"$f":"'Bespoke Area Data'!CN156","v":0},{"$f":"'Bespoke Area Data'!CO156","v":0},{"$f":"'Bespoke Area Data'!CP156","v":0},{"$f":"'Bespoke Area Data'!CQ156","v":0},{"$f":"'Bespoke Area Data'!CR156","v":0},{"$f":"'Bespoke Area Data'!CS156","v":0},{"$f":"'Bespoke Area Data'!CT156","v":0},{"$f":"'Bespoke Area Data'!CU156","v":0},{"$f":"'Bespoke Area Data'!CV156","v":0},{"$f":"'Bespoke Area Data'!CW156","v":0},{"$f":"'Bespoke Area Data'!CX156","v":0},{"$f":"'Bespoke Area Data'!CY156","v":0},{"$f":"'Bespoke Area Data'!CZ156","v":0},{"$f":"'Bespoke Area Data'!DA156","v":0},{"$f":"'Bespoke Area Data'!DB156","v":0},{"$f":"'Bespoke Area Data'!DC156","v":0},{"$f":"'Bespoke Area Data'!DD156","v":0},{"$f":"'Bespoke Area Data'!DE156","v":0},{"$f":"'Bespoke Area Data'!DF156","v":0},{"$f":"'Bespoke Area Data'!DG156","v":0},{"$f":"'Bespoke Area Data'!DH156","v":0},{"$f":"'Bespoke Area Data'!DI156","v":0},{"$f":"'Bespoke Area Data'!DJ156","v":0},{"$f":"'Bespoke Area Data'!DK156","v":0},{"$f":"'Bespoke Area Data'!DL156","v":0},{"$f":"'Bespoke Area Data'!DM156","v":0},{"$f":"'Bespoke Area Data'!DN156","v":0},{"$f":"'Bespoke Area Data'!DO156","v":0},{"$f":"'Bespoke Area Data'!DP156","v":0},{"$f":"'Bespoke Area Data'!DQ156","v":0},{"$f":"'Bespoke Area Data'!DR156","v":0},{"$f":"'Bespoke Area Data'!DS156","v":0},{"$f":"'Bespoke Area Data'!DT156","v":0},{"$f":"'Bespoke Area Data'!DU156","v":0},{"$f":"'Bespoke Area Data'!DV156","v":0},{"$f":"'Bespoke Area Data'!DW156","v":0},{"$f":"'Bespoke Area Data'!DX156","v":0},{"$f":"'Bespoke Area Data'!DY156","v":0},{"$f":"'Bespoke Area Data'!DZ156","v":0},{"$f":"'Bespoke Area Data'!EA156","v":0},{"$f":"'Bespoke Area Data'!EB156","v":0},{"$f":"'Bespoke Area Data'!EC156","v":0},{"$f":"'Bespoke Area Data'!ED156","v":0},{"$f":"'Bespoke Area Data'!EE156","v":0},{"$f":"'Bespoke Area Data'!EF156","v":0},{"$f":"'Bespoke Area Data'!EG156","v":0},{"$f":"'Bespoke Area Data'!EH156","v":0},{"$f":"'Bespoke Area Data'!EI156","v":0},{"$f":"'Bespoke Area Data'!EJ156","v":0},{"$f":"'Bespoke Area Data'!EK156","v":0},{"$f":"'Bespoke Area Data'!EL156","v":0},{"$f":"'Bespoke Area Data'!EM156","v":0},{"$f":"'Bespoke Area Data'!EN156","v":0},{"$f":"'Bespoke Area Data'!EO156","v":0},{"$f":"'Bespoke Area Data'!EP156","v":0},{"$f":"'Bespoke Area Data'!EQ156","v":0},{"$f":"'Bespoke Area Data'!ER156","v":0},{"$f":"'Bespoke Area Data'!ES156","v":0},{"$f":"'Bespoke Area Data'!ET156","v":0},{"$f":"'Bespoke Area Data'!EU156","v":0},{"$f":"'Bespoke Area Data'!EV156","v":0},{"$f":"'Bespoke Area Data'!EW156","v":0},{"$f":"'Bespoke Area Data'!EX156","v":0},{"$f":"'Bespoke Area Data'!EY156","v":0},{"$f":"'Bespoke Area Data'!EZ156","v":0},{"$f":"'Bespoke Area Data'!FA156","v":0},{"$f":"'Bespoke Area Data'!FB156","v":0},{"$f":"'Bespoke Area Data'!FC156","v":0},{"$f":"'Bespoke Area Data'!FD156","v":0},{"$f":"'Bespoke Area Data'!D157","v":0},{"$f":"'Bespoke Area Data'!E157","v":0},{"$f":"'Bespoke Area Data'!F157","v":0},{"$f":"'Bespoke Area Data'!G157","v":0},{"$f":"'Bespoke Area Data'!H157","v":0},{"$f":"'Bespoke Area Data'!I157","v":0},{"$f":"'Bespoke Area Data'!J157","v":0},{"$f":"'Bespoke Area Data'!K157","v":0},{"$f":"'Bespoke Area Data'!L157","v":0},{"$f":"'Bespoke Area Data'!M157","v":0},{"$f":"'Bespoke Area Data'!N157","v":0},{"$f":"'Bespoke Area Data'!O157","v":0},{"$f":"'Bespoke Area Data'!P157","v":0},{"$f":"'Bespoke Area Data'!Q157","v":0},{"$f":"'Bespoke Area Data'!R157","v":0},{"$f":"'Bespoke Area Data'!S157","v":0},{"$f":"'Bespoke Area Data'!T157","v":0},{"$f":"'Bespoke Area Data'!U157","v":0},{"$f":"'Bespoke Area Data'!V157","v":0},{"$f":"'Bespoke Area Data'!W157","v":0},{"$f":"'Bespoke Area Data'!X157","v":0},{"$f":"'Bespoke Area Data'!Y157","v":0},{"$f":"'Bespoke Area Data'!Z157","v":0},{"$f":"'Bespoke Area Data'!AA157","v":0},{"$f":"'Bespoke Area Data'!AB157","v":0},{"$f":"'Bespoke Area Data'!AC157","v":0},{"$f":"'Bespoke Area Data'!AD157","v":0},{"$f":"'Bespoke Area Data'!AE157","v":0},{"$f":"'Bespoke Area Data'!AF157","v":0},{"$f":"'Bespoke Area Data'!AG157","v":0},{"$f":"'Bespoke Area Data'!AH157","v":0},{"$f":"'Bespoke Area Data'!AI157","v":0},{"$f":"'Bespoke Area Data'!AJ157","v":0},{"$f":"'Bespoke Area Data'!AK157","v":0},{"$f":"'Bespoke Area Data'!AL157","v":0},{"$f":"'Bespoke Area Data'!AM157","v":0},{"$f":"'Bespoke Area Data'!AN157","v":0},{"$f":"'Bespoke Area Data'!AO157","v":0},{"$f":"'Bespoke Area Data'!AP157","v":0},{"$f":"'Bespoke Area Data'!AQ157","v":0},{"$f":"'Bespoke Area Data'!AR157","v":0},{"$f":"'Bespoke Area Data'!AS157","v":0},{"$f":"'Bespoke Area Data'!AT157","v":0},{"$f":"'Bespoke Area Data'!AU157","v":0},{"$f":"'Bespoke Area Data'!AV157","v":0},{"$f":"'Bespoke Area Data'!AW157","v":0},{"$f":"'Bespoke Area Data'!AX157","v":0},{"$f":"'Bespoke Area Data'!AY157","v":0},{"$f":"'Bespoke Area Data'!AZ157","v":0},{"$f":"'Bespoke Area Data'!BA157","v":0},{"$f":"'Bespoke Area Data'!BB157","v":0},{"$f":"'Bespoke Area Data'!BC157","v":0},{"$f":"'Bespoke Area Data'!BD157","v":0},{"$f":"'Bespoke Area Data'!BE157","v":0},{"$f":"'Bespoke Area Data'!BF157","v":0},{"$f":"'Bespoke Area Data'!BG157","v":0},{"$f":"'Bespoke Area Data'!BH157","v":0},{"$f":"'Bespoke Area Data'!BI157","v":0},{"$f":"'Bespoke Area Data'!BJ157","v":0},{"$f":"'Bespoke Area Data'!BK157","v":0},{"$f":"'Bespoke Area Data'!BL157","v":0},{"$f":"'Bespoke Area Data'!BM157","v":0},{"$f":"'Bespoke Area Data'!BN157","v":0},{"$f":"'Bespoke Area Data'!BO157","v":0},{"$f":"'Bespoke Area Data'!BP157","v":0}]
["Bespoke","N/A",{"$f":"IF('Bespoke Area Name'!C43=\"\",\"No bespoke area name entered; Go to sheet \"\"Bespoke Area Name\"\"\",'Bespoke Area Name'!C43)","v":"No bespoke area name entered; Go to sheet \"Bespoke Area Name\""},"AREA0040",{"$f":"'Bespoke Area Data'!D160","v":0},{"$f":"'Bespoke Area Data'!E160","v":0},{"$f":"'Bespoke Area Data'!F160","v":0},{"$f":"'Bespoke Area Data'!G160","v":0},{"$f":"'Bespoke Area Data'!H160","v":0},{"$f":"'Bespoke Area Data'!I160","v":0},{"$f":"'Bespoke Area Data'!J160","v":0},{"$f":"'Bespoke Area Data'!K160","v":0},{"$f":"'Bespoke Area Data'!L160","v":0},{"$f":"'Bespoke Area Data'!M160","v":0},{"$f":"'Bespoke Area Data'!N160","v":0},{"$f":"'Bespoke Area Data'!O160","v":0},{"$f":"'Bespoke Area Data'!P160","v":0},{"$f":"'Bespoke Area Data'!Q160","v":0},{"$f":"'Bespoke Area Data'!R160","v":0},{"$f":"'Bespoke Area Data'!S160","v":0},{"$f":"'Bespoke Area Data'!T160","v":0},{"$f":"'Bespoke Area Data'!U160","v":0},{"$f":"'Bespoke Area Data'!V160","v":0},{"$f":"'Bespoke Area Data'!W160","v":0},{"$f":"'Bespoke Area Data'!X160","v":0},{"$f":"'Bespoke Area Data'!Y160","v":0},{"$f":"'Bespoke Area Data'!Z160","v":0},{"$f":"'Bespoke Area Data'!AA160","v":0},{"$f":"'Bespoke Area Data'!AB160","v":0},{"$f":"'Bespoke Area Data'!AC160","v":0},{"$f":"'Bespoke Area Data'!AD160","v":0},{"$f":"'Bespoke Area Data'!AE160","v":0},{"$f":"'Bespoke Area Data'!AF160","v":0},{"$f":"'Bespoke Area Data'!AG160","v":0},{"$f":"'Bespoke Area Data'!AH160","v":0},{"$f":"'Bespoke Area Data'!AI160","v":0},{"$f":"'Bespoke Area Data'!AJ160","v":0},{"$f":"'Bespoke Area Data'!AK160","v":0},{"$f":"'Bespoke Area Data'!AL160","v":0},{"$f":"'Bespoke Area Data'!AM160","v":0},{"$f":"'Bespoke Area Data'!AN160","v":0},{"$f":"'Bespoke Area Data'!AO160","v":0},{"$f":"'Bespoke Area Data'!AP160","v":0},{"$f":"'Bespoke Area Data'!AQ160","v":0},{"$f":"'Bespoke Area Data'!AR160","v":0},{"$f":"'Bespoke Area Data'!AS160","v":0},{"$f":"'Bespoke Area Data'!AT160","v":0},{"$f":"'Bespoke Area Data'!AU160","v":0},{"$f":"'Bespoke Area Data'!AV160","v":0},{"$f":"'Bespoke Area Data'!AW160","v":0},{"$f":"'Bespoke Area Data'!AX160","v":0},{"$f":"'Bespoke Area Data'!AY160","v":0},{"$f":"'Bespoke Area Data'!AZ160","v":0},{"$f":"'Bespoke Area Data'!BA160","v":0},{"$f":"'Bespoke Area Data'!BB160","v":0},{"$f":"'Bespoke Area Data'!BC160","v":0},{"$f":"'Bespoke Area Data'!BD160","v":0},{"$f":"'Bespoke Area Data'!BE160","v":0},{"$f":"'Bespoke Area Data'!BF160","v":0},{"$f":"'Bespoke Area Data'!BG160","v":0},{"$f":"'Bespoke Area Data'!BH160","v":0},{"$f":"'Bespoke Area Data'!BI160","v":0},{"$f":"'Bespoke Area Data'!BJ160","v":0},{"$f":"'Bespoke Area Data'!BK160","v":0},{"$f":"'Bespoke Area Data'!BL160","v":0},{"$f":"'Bespoke Area Data'!BM160","v":0},{"$f":"'Bespoke Area Data'!BN160","v":0},{"$f":"'Bespoke Area Data'!BO160","v":0},{"$f":"'Bespoke Area Data'!BP160","v":0},{"$f":"'Bespoke Area Data'!BQ160","v":0},{"$f":"'Bespoke Area Data'!BR160","v":0},{"$f":"'Bespoke Area Data'!BS160","v":0},{"$f":"'Bespoke Area Data'!BT160","v":0},{"$f":"'Bespoke Area Data'!BU160","v":0},{"$f":"'Bespoke Area Data'!BV160","v":0},{"$f":"'Bespoke Area Data'!BW160","v":0},{"$f":"'Bespoke Area Data'!BX160","v":0},{"$f":"'Bespoke Area Data'!BY160","v":0},{"$f":"'Bespoke Area Data'!BZ160","v":0},{"$f":"'Bespoke Area Data'!CA160","v":0},{"$f":"'Bespoke Area Data'!CB160","v":0},{"$f":"'Bespoke Area Data'!CC160","v":0},{"$f":"'Bespoke Area Data'!CD160","v":0},{"$f":"'Bespoke Area Data'!CE160","v":0},{"$f":"'Bespoke Area Data'!CF160","v":0},{"$f":"'Bespoke Area Data'!CG160","v":0},{"$f":"'Bespoke Area Data'!CH160","v":0},{"$f":"'Bespoke Area Data'!CI160","v":0},{"$f":"'Bespoke Area Data'!CJ160","v":0},{"$f":"'Bespoke Area Data'!CK160","v":0},{"$f":"'Bespoke Area Data'!CL160","v":0},{"$f":"'Bespoke Area Data'!CM160","v":0},{"$f":"'Bespoke Area Data'!CN160","v":0},{"$f":"'Bespoke Area Data'!CO160","v":0},{"$f":"'Bespoke Area Data'!CP160","v":0},{"$f":"'Bespoke Area Data'!CQ160","v":0},{"$f":"'Bespoke Area Data'!CR160","v":0},{"$f":"'Bespoke Area Data'!CS160","v":0},{"$f":"'Bespoke Area Data'!CT160","v":0},{"$f":"'Bespoke Area Data'!CU160","v":0},{"$f":"'Bespoke Area Data'!CV160","v":0},{"$f":"'Bespoke Area Data'!CW160","v":0},{"$f":"'Bespoke Area Data'!CX160","v":0},{"$f":"'Bespoke Area Data'!CY160","v":0},{"$f":"'Bespoke Area Data'!CZ160","v":0},{"$f":"'Bespoke Area Data'!DA160","v":0},{"$f":"'Bespoke Area Data'!DB160","v":0},{"$f":"'Bespoke Area Data'!DC160","v":0},{"$f":"'Bespoke Area Data'!DD160","v":0},{"$f":"'Bespoke Area Data'!DE160","v":0},{"$f":"'Bespoke Area Data'!DF160","v":0},{"$f":"'Bespoke Area Data'!DG160","v":0},{"$f":"'Bespoke Area Data'!DH160","v":0},{"$f":"'Bespoke Area Data'!DI160","v":0},{"$f":"'Bespoke Area Data'!DJ160","v":0},{"$f":"'Bespoke Area Data'!DK160","v":0},{"$f":"'Bespoke Area Data'!DL160","v":0},{"$f":"'Bespoke Area Data'!DM160","v":0},{"$f":"'Bespoke Area Data'!DN160","v":0},{"$f":"'Bespoke Area Data'!DO160","v":0},{"$f":"'Bespoke Area Data'!DP160","v":0},{"$f":"'Bespoke Area Data'!DQ160","v":0},{"$f":"'Bespoke Area Data'!DR160","v":0},{"$f":"'Bespoke Area Data'!DS160","v":0},{"$f":"'Bespoke Area Data'!DT160","v":0},{"$f":"'Bespoke Area Data'!DU160","v":0},{"$f":"'Bespoke Area Data'!DV160","v":0},{"$f":"'Bespoke Area Data'!DW160","v":0},{"$f":"'Bespoke Area Data'!DX160","v":0},{"$f":"'Bespoke Area Data'!DY160","v":0},{"$f":"'Bespoke Area Data'!DZ160","v":0},{"$f":"'Bespoke Area Data'!EA160","v":0},{"$f":"'Bespoke Area Data'!EB160","v":0},{"$f":"'Bespoke Area Data'!EC160","v":0},{"$f":"'Bespoke Area Data'!ED160","v":0},{"$f":"'Bespoke Area Data'!EE160","v":0},{"$f":"'Bespoke Area Data'!EF160","v":0},{"$f":"'Bespoke Area Data'!EG160","v":0},{"$f":"'Bespoke Area Data'!EH160","v":0},{"$f":"'Bespoke Area Data'!EI160","v":0},{"$f":"'Bespoke Area Data'!EJ160","v":0},{"$f":"'Bespoke Area Data'!EK160","v":0},{"$f":"'Bespoke Area Data'!EL160","v":0},{"$f":"'Bespoke Area Data'!EM160","v":0},{"$f":"'Bespoke Area Data'!EN160","v":0},{"$f":"'Bespoke Area Data'!EO160","v":0},{"$f":"'Bespoke Area Data'!EP160","v":0},{"$f":"'Bespoke Area Data'!EQ160","v":0},{"$f":"'Bespoke Area Data'!ER160","v":0},{"$f":"'Bespoke Area Data'!ES160","v":0},{"$f":"'Bespoke Area Data'!ET160","v":0},{"$f":"'Bespoke Area Data'!EU160","v":0},{"$f":"'Bespoke Area Data'!EV160","v":0},{"$f":"'Bespoke Area Data'!EW160","v":0},{"$f":"'Bespoke Area Data'!EX160","v":0},{"$f":"'Bespoke Area Data'!EY160","v":0},{"$f":"'Bespoke Area Data'!EZ160","v":0},{"$f":"'Bespoke Area Data'!FA160","v":0},{"$f":"'Bespoke Area Data'!FB160","v":0},{"$f":"'Bespoke Area Data'!FC160","v":0},{"$f":"'Bespoke Area Data'!FD160","v":0},{"$f":"'Bespoke Area Data'!D161","v":0},{"$f":"'Bespoke Area Data'!E161","v":0},{"$f":"'Bespoke Area Data'!F161","v":0},{"$f":"'Bespoke Area Data'!G161","v":0},{"$f":"'Bespoke Area Data'!H161","v":0},{"$f":"'Bespoke Area Data'!I161","v":0},{"$f":"'Bespoke Area Data'!J161","v":0},{"$f":"'Bespoke Area Data'!K161","v":0},{"$f":"'Bespoke Area Data'!L161","v":0},{"$f":"'Bespoke Area Data'!M161","v":0},{"$f":"'Bespoke Area Data'!N161","v":0},{"$f":"'Bespoke Area Data'!O161","v":0},{"$f":"'Bespoke Area Data'!P161","v":0},{"$f":"'Bespoke Area Data'!Q161","v":0},{"$f":"'Bespoke Area Data'!R161","v":0},{"$f":"'Bespoke Area Data'!S161","v":0},{"$f":"'Bespoke Area Data'!T161","v":0},{"$f":"'Bespoke Area Data'!U161","v":0},{"$f":"'Bespoke Area Data'!V161","v":0},{"$f":"'Bespoke Area Data'!W161","v":0},{"$f":"'Bespoke Area Data'!X161","v":0},{"$f":"'Bespoke Area Data'!Y161","v":0},{"$f":"'Bespoke Area Data'!Z161","v":0},{"$f":"'Bespoke Area Data'!AA161","v":0},{"$f":"'Bespoke Area Data'!AB161","v":0},{"$f":"'Bespoke Area Data'!AC161","v":0},{"$f":"'Bespoke Area Data'!AD161","v":0},{"$f":"'Bespoke Area Data'!AE161","v":0},{"$f":"'Bespoke Area Data'!AF161","v":0},{"$f":"'Bespoke Area Data'!AG161","v":0},{"$f":"'Bespoke Area Data'!AH161","v":0},{"$f":"'Bespoke Area Data'!AI161","v":0},{"$f":"'Bespoke Area Data'!AJ161","v":0},{"$f":"'Bespoke Area Data'!AK161","v":0},{"$f":"'Bespoke Area Data'!AL161","v":0},{"$f":"'Bespoke Area Data'!AM161","v":0},{"$f":"'Bespoke Area Data'!AN161","v":0},{"$f":"'Bespoke Area Data'!AO161","v":0},{"$f":"'Bespoke Area Data'!AP161","v":0},{"$f":"'Bespoke Area Data'!AQ161","v":0},{"$f":"'Bespoke Area Data'!AR161","v":0},{"$f":"'Bespoke Area Data'!AS161","v":0},{"$f":"'Bespoke Area Data'!AT161","v":0},{"$f":"'Bespoke Area Data'!AU161","v":0},{"$f":"'Bespoke Area Data'!AV161","v":0},{"$f":"'Bespoke Area Data'!AW161","v":0},{"$f":"'Bespoke Area Data'!AX161","v":0},{"$f":"'Bespoke Area Data'!AY161","v":0},{"$f":"'Bespoke Area Data'!AZ161","v":0},{"$f":"'Bespoke Area Data'!BA161","v":0},{"$f":"'Bespoke Area Data'!BB161","v":0},{"$f":"'Bespoke Area Data'!BC161","v":0},{"$f":"'Bespoke Area Data'!BD161","v":0},{"$f":"'Bespoke Area Data'!BE161","v":0},{"$f":"'Bespoke Area Data'!BF161","v":0},{"$f":"'Bespoke Area Data'!BG161","v":0},{"$f":"'Bespoke Area Data'!BH161","v":0},{"$f":"'Bespoke Area Data'!BI161","v":0},{"$f":"'Bespoke Area Data'!BJ161","v":0},{"$f":"'Bespoke Area Data'!BK161","v":0},{"$f":"'Bespoke Area Data'!BL161","v":0},{"$f":"'Bespoke Area Data'!BM161","v":0},{"$f":"'Bespoke Area Data'!BN161","v":0},{"$f":"'Bespoke Area Data'!BO161","v":0},{"$f":"'Bespoke Area Data'!BP161","v":0}]

{"sheet":"Variables","index":9,"n_rows":468,"n_cols":13,"rows_kept":468,"cut":false,"hidden":true,"merged":[]}
["Equivalent Table Number 2001 ","Table Number 2011","Table Name 2011","ONS Table Topic","Census Profile Table Topic","Table Type","Table Population","MI Variable Name","ONS Variable Name","ONS Variable Code","Lookup Code","Variable Prerelease Check","Sheet Name"]
["KS001","KS101EW","Usual resident population","Demography","Population Structure","Key Statistics (KS)","All Usual Residents","KS101_All_People","All usual residents","KS101EW0001",3,"NONE","Key Stats Number"]
["KS001","KS101EW","Usual resident population","Demography","Population Structure","Key Statistics (KS)","All Usual Residents","KS101_Males","Males","KS101EW0002",4,"NONE","Key Stats Number"]
["KS001","KS101EW","Usual resident population","Demography","Population Structure","Key Statistics (KS)","All Usual Residents","KS101_Females","Females","KS101EW0003",5,"NONE","Key Stats Number"]
["KS001","KS101EW","Usual resident population","Demography","Population Structure","Key Statistics (KS)","All Usual Residents","KS101_People_in_HH","Lives in a household","KS101EW0004",6,"NONE","Key Stats Number"]
["KS001","KS101EW","Usual resident population","Demography","Population Structure","Key Statistics (KS)","All Usual Residents","KS101_People_in_Communal_Est","Lives in a communal establishment","KS101EW0005",7,"NONE","Key Stats Number"]
["KS001","KS101EW","Usual resident population","Demography","Population Structure","Key Statistics (KS)","All Usual Residents","KS101_Scchild_FTStu_4Ov_NonTer","Schoolchild or full-time student aged 4 and over at their non term-time address","KS101EW0006",8,"NONE","Key Stats Number"]
["KS001","KS101EW","Usual resident population","Demography","Population Structure","Key Statistics (KS)","All Usual Residents","KS101_Area_Hectares","Area (hectares)","KS101EW0007",9,"NONE","Key Stats Number"]
["KS001","KS101EW","Usual resident population","Demography","Population Structure","Key Statistics (KS)","All Usual Residents","KS101_Pop_Density_Per_Hectare","Density (number of persons per hectare)","KS101EW0008",10,"NONE","Key Stats Number"]
["KS002","KS102EW","Age structure","Demography","Population Structure","Key Statistics (KS)","All Usual Residents","KS102_All_People","All usual residents","KS102EW0001",11,"NONE","Key Stats Number"]
["KS002","KS102EW","Age structure","Demography","Population Structure","Key Statistics (KS)","All Usual Residents","KS102_0_4","Age 0 to 4","KS102EW0002",12,"NONE","Key Stats Number"]
["KS002","KS102EW","Age structure","Demography","Population Structure","Key Statistics (KS)","All Usual Residents","KS102_5_7","Age 5 to 7","KS102EW0003",13,"NONE","Key Stats Number"]
["KS002","KS102EW","Age structure","Demography","Population Structure","Key Statistics (KS)","All Usual Residents","KS102_8_9","Age 8 to 9","KS102EW0004",14,"NONE","Key Stats Number"]
["KS002","KS102EW","Age structure","Demography","Population Structure","Key Statistics (KS)","All Usual Residents","KS102_10_14","Age 10 to 14","KS102EW0005",15,"NONE","Key Stats Number"]
["KS002","KS102EW","Age structure","Demography","Population Structure","Key Statistics (KS)","All Usual Residents","KS102_15","Age 15","KS102EW0006",16,"NONE","Key Stats Number"]
["KS002","KS102EW","Age structure","Demography","Population Structure","Key Statistics (KS)","All Usual Residents","KS102_16_17","Age 16 to 17","KS102EW0007",17,"NONE","Key Stats Number"]
["KS002","KS102EW","Age structure","Demography","Population Structure","Key Statistics (KS)","All Usual Residents","KS102_18_19","Age 18 to 19","KS102EW0008",18,"NONE","Key Stats Number"]
["KS002","KS102EW","Age structure","Demography","Population Structure","Key Statistics (KS)","All Usual Residents","KS102_20_24","Age 20 to 24","KS102EW0009",19,"NONE","Key Stats Number"]
["KS002","KS102EW","Age structure","Demography","Population Structure","Key Statistics (KS)","All Usual Residents","KS102_25_29","Age 25 to 29","KS102EW0010",20,"NONE","Key Stats Number"]
["KS002","KS102EW","Age structure","Demography","Population Structure","Key Statistics (KS)","All Usual Residents","KS102_30_44","Age 30 to 44","KS102EW0011",21,"NONE","Key Stats Number"]
["KS002","KS102EW","Age structure","Demography","Population Structure","Key Statistics (KS)","All Usual Residents","KS102_45_59","Age 45 to 59","KS102EW0012",22,"NONE","Key Stats Number"]
["KS002","KS102EW","Age structure","Demography","Population Structure","Key Statistics (KS)","All Usual Residents","KS102_60_64","Age 60 to 64","KS102EW0013",23,"NONE","Key Stats Number"]
["KS002","KS102EW","Age structure","Demography","Population Structure","Key Statistics (KS)","All Usual Residents","KS102_65_74","Age 65 to 74","KS102EW0014",24,"NONE","Key Stats Number"]
["KS002","KS102EW","Age structure","Demography","Population Structure","Key Statistics (KS)","All Usual Residents","KS102_75_84","Age 75 to 84","KS102EW0015",25,"NONE","Key Stats Number"]
["KS002","KS102EW","Age structure","Demography","Population Structure","Key Statistics (KS)","All Usual Residents","KS102_85_89","Age 85 to 89","KS102EW0016",26,"NONE","Key Stats Number"]
["KS002","KS102EW","Age structure","Demography","Population Structure","Key Statistics (KS)","All Usual Residents","KS102_90Over","Age 90 and over","KS102EW0017",27,"NONE","Key Stats Number"]
["KS002","KS102EW","Age structure","Demography","Population Structure","Key Statistics (KS)","All Usual Residents","KS102_Mean_Age","Mean age","KS102EW0018",28,"NONE","Key Stats Number"]
["KS002","KS102EW","Age structure","Demography","Population Structure","Key Statistics (KS)","All Usual Residents","KS102_Median_Age","Median age","KS102EW0019",29,"NONE","Key Stats Number"]
["KS004","KS103EW","Marital and civil partnership status","Demography","Population Structure","Key Statistics (KS)","All Usual Residents Aged 16 And Over","KS103_All_People_16Over","All usual residents aged 16 and over","KS103EW0001",30,"NONE","Key Stats Number"]
["KS004","KS103EW","Marital and civil partnership status","Demography","Population Structure","Key Statistics (KS)","All Usual Residents Aged 16 And Over","KS103_Single_Nvr_Married","Single (never married or never registered a same-sex civil partnership)","KS103EW0002",31,"NONE","Key Stats Number"]
["KS004","KS103EW","Marital and civil partnership status","Demography","Population Structure","Key Statistics (KS)","All Usual Residents Aged 16 And Over","KS103_Married","Married","KS103EW0003",32,"CHANGE","Key Stats Number"]
["KS004","KS103EW","Marital and civil partnership status","Demography","Population Structure","Key Statistics (KS)","All Usual Residents Aged 16 And Over","KS103_Civil_Partnership","In a registered same-sex civil partnership","KS103EW0004",33,"NEW","Key Stats Number"]
["KS004","KS103EW","Marital and civil partnership status","Demography","Population Structure","Key Statistics (KS)","All Usual Residents Aged 16 And Over","KS103_Separated","Separated (but still legally married or still legally in a same-sex civil partnership)","KS103EW0005",34,"NONE","Key Stats Number"]
["KS004","KS103EW","Marital and civil partnership status","Demography","Population Structure","Key Statistics (KS)","All Usual Residents Aged 16 And Over","KS103_Divorced","Divorced or formerly in a same-sex civil partnership which is now legally dissolved","KS103EW0006",35,"NONE","Key Stats Number"]
["KS004","KS103EW","Marital and civil partnership status","Demography","Population Structure","Key Statistics (KS)","All Usual Residents Aged 16 And Over","KS103_Widowed","Widowed or surviving partner from a same-sex civil partnership","KS103EW0007",36,"NONE","Key Stats Number"]
["KS020","KS105EW","Household composition","Demography","Population Structure","Key Statistics (KS)","All Households","KS105_All_HH","All households","KS105EW0001",37,"NONE","Key Stats Number"]
["KS020","KS105EW","Household composition","Demography","Population Structure","Key Statistics (KS)","All Households","KS105_Person_65Over","One person household: Aged 65 and over","KS105EW0002",38,"NONE","Key Stats Number"]
["KS020","KS105EW","Household composition","Demography","Population Structure","Key Statistics (KS)","All Households","KS105_Person_Other","One person household: Other","KS105EW0003",39,"NONE","Key Stats Number"]
["KS020","KS105EW","Household composition","Demography","Population Structure","Key Statistics (KS)","All Households","KS105_Family_All_65Over","One family only: All aged 65 and over","KS105EW0004",40,"NONE","Key Stats Number"]
["KS020","KS105EW","Household composition","Demography","Population Structure","Key Statistics (KS)","All Households","KS105_Family_Married_No_Child","One family only: Married or same-sex civil partnership couple: No children","KS105EW0005",41,"NONE","Key Stats Number"]
["KS020","KS105EW","Household composition","Demography","Population Structure","Key Statistics (KS)","All Households","KS105_Family_Married_Dep_Child","One family only: Married or same-sex civil partnership couple: Dependent children","KS105EW0006",42,"NONE","Key Stats Number"]
["KS020","KS105EW","Household composition","Demography","Population Structure","Key Statistics (KS)","All Households","KS105_Family_Marr_NonDep_Child","One family only: Married or same-sex civil partnership couple: All children non-dependent","KS105EW0007",43,"NONE","Key Stats Number"]
["KS020","KS105EW","Household composition","Demography","Population Structure","Key Statistics (KS)","All Households","KS105_Family_Cohabit_No_Child","One family only: Cohabiting couple: No children","KS105EW0008",44,"NONE","Key Stats Number"]
["KS020","KS105EW","Household composition","Demography","Population Structure","Key Statistics (KS)","All Households","KS105_Family_Cohabit_Dep_Child","One family only: Cohabiting couple: Dependent children","KS105EW0009",45,"NONE","Key Stats Number"]
["KS020","KS105EW","Household composition","Demography","Population Structure","Key Statistics (KS)","All Households","KS105_Family_Cohab_NonDep_Chil","One family only: Cohabiting couple: All children non-dependent","KS105EW0010",46,"NONE","Key Stats Number"]
["KS020","KS105EW","Household composition","Demography","Population Structure","Key Statistics (KS)","All Households","KS105_Family_Lone_Dep_Child","One family only: Lone parent: Dependent children","KS105EW0011",47,"NONE","Key Stats Number"]
["KS020","KS105EW","Household composition","Demography","Population Structure","Key Statistics (KS)","All Households","KS105_Family_Lone_NonDep_Child","One family only: Lone parent: All children non-dependent","KS105EW0012",48,"CHANGE","Key Stats Number"]
["KS020","KS105EW","Household composition","Demography","Population Structure","Key Statistics (KS)","All Households","KS105_Other_HH_Dep_Child","Other household types: With dependent children","KS105EW0013",49,"NONE","Key Stats Number"]
["KS020","KS105EW","Household composition","Demography","Population Structure","Key Statistics (KS)","All Households","KS105_Other_HH_All_FT_Student","Other household types: All full-time students","KS105EW0014",50,"NONE","Key Stats Number"]
["KS020","KS105EW","Household composition","Demography","Population Structure","Key Statistics (KS)","All Households","KS105_Other_HH_All_65Over","Other household types: All aged 65 and over","KS105EW0015",51,"NONE","Key Stats Number"]
["KS020","KS105EW","Household composition","Demography","Population Structure","Key Statistics (KS)","All Households","KS105_Other_HH_Other","Other household types: Other","KS105EW0016",52,"NONE","Key Stats Number"]
["KS022","KS107EW","Lone Parent Households With Dependent Children","Demography","Population Structure","Key Statistics (KS)","All Lone Parent Households With Dependent Children Where The Lone Parent Is Aged 16 To 74","KS107_Lone_Par_Dep_Child","All categories: Family status (lone parent) by sex and economic activity","KS107EW0001",53,"NONE","Key Stats Number"]
["KS022","KS107EW","Lone Parent Households With Dependent Children","Demography","Population Structure","Key Statistics (KS)","All Lone Parent Households With Dependent Children Where The Lone Parent Is Aged 16 To 74","KS107_Lone_Par_PT_Emp","Lone parent in part-time employment: Total","KS107EW0002",54,"NONE","Key Stats Number"]
["KS022","KS107EW","Lone Parent Households With Dependent Children","Demography","Population Structure","Key Statistics (KS)","All Lone Parent Households With Dependent Children Where The Lone Parent Is Aged 16 To 74","KS107_Lone_Par_FT_Emp","Lone parent in full-time employment: Total","KS107EW0003",55,"NONE","Key Stats Number"]
["KS022","KS107EW","Lone Parent Households With Dependent Children","Demography","Population Structure","Key Statistics (KS)","All Lone Parent Households With Dependent Children Where The Lone Parent Is Aged 16 To 74","KS107_Lone_Par_No_Emp","Lone parent not in employment: Total","KS107EW0004",56,"NONE","Key Stats Number"]
["KS022","KS107EW","Lone Parent Households With Dependent Children","Demography","Population Structure","Key Statistics (KS)","All Lone Parent Households With Dependent Children Where The Lone Parent Is Aged 16 To 74","KS107_Male_Lone_Par_Dep_Child","Male lone parent: Total","KS107EW0005",57,"NONE","Key Stats Number"]
["KS022","KS107EW","Lone Parent Households With Dependent Children","Demography","Population Structure","Key Statistics (KS)","All Lone Parent Households With Dependent Children Where The Lone Parent Is Aged 16 To 74","KS107_Male_Lone_Par_PT_Emp","Male lone parent: In part-time employment","KS107EW0006",58,"NONE","Key Stats Number"]
["KS022","KS107EW","Lone Parent Households With Dependent Children","Demography","Population Structure","Key Statistics (KS)","All Lone Parent Households With Dependent Children Where The Lone Parent Is Aged 16 To 74","KS107_Male_Lone_Par_FT_Emp","Male lone parent: In full-time employment","KS107EW0007",59,"NONE","Key Stats Number"]
["KS022","KS107EW","Lone Parent Households With Dependent Children","Demography","Population Structure","Key Statistics (KS)","All Lone Parent Households With Dependent Children Where The Lone Parent Is Aged 16 To 74","KS107_Male_Lone_Par_No_Emp","Male lone parent: Not in employment","KS107EW0008",60,"NONE","Key Stats Number"]
["KS022","KS107EW","Lone Parent Households With Dependent Children","Demography","Population Structure","Key Statistics (KS)","All Lone Parent Households With Dependent Children Where The Lone Parent Is Aged 16 To 74","KS107_Female_Lone_Par_Dep_Chil","Female lone parent: Total","KS107EW0009",61,"NONE","Key Stats Number"]
["KS022","KS107EW","Lone Parent Households With Dependent Children","Demography","Population Structure","Key Statistics (KS)","All Lone Parent Households With Dependent Children Where The Lone Parent Is Aged 16 To 74","KS107_Female_Lone_Par_PT_Emp","Female lone parent: In part-time employment","KS107EW0010",62,"NONE","Key Stats Number"]
["KS022","KS107EW","Lone Parent Households With Dependent Children","Demography","Population Structure","Key Statistics (KS)","All Lone Parent Households With Dependent Children Where The Lone Parent Is Aged 16 To 74","KS107_Female_Lone_Par_FT_Emp","Female lone parent: In full-time employment","KS107EW0011",63,"NONE","Key Stats Number"]
["KS022","KS107EW","Lone Parent Households With Dependent Children","Demography","Population Structure","Key Statistics (KS)","All Lone Parent Households With Dependent Children Where The Lone Parent Is Aged 16 To 74","KS107_Female_Lone_Par_No_Emp","Female lone parent: Not in employment","KS107EW0012",64,"NONE","Key Stats Number"]
["KS006","KS201EW","Ethnic group","Ethnicity, Identity, Language And Religion","Ethnicity, Religion, Nationality","Key Statistics (KS)","All Usual Residents","KS201_All_People","All usual residents","KS201EW0001",65,"NONE","Key Stats Number"]
["KS006","KS201EW","Ethnic group","Ethnicity, Identity, Language And Religion","Ethnicity, Religion, Nationality","Key Statistics (KS)","All Usual Residents","KS201_White_British","White: English/Welsh/Scottish/Northern Irish/British","KS201EW0002",66,"NONE","Key Stats Number"]
["KS006","KS201EW","Ethnic group","Ethnicity, Identity, Language And Religion","Ethnicity, Religion, Nationality","Key Statistics (KS)","All Usual Residents","KS201_White_Irish","White: Irish","KS201EW0003",67,"NONE","Key Stats Number"]
["KS006","KS201EW","Ethnic group","Ethnicity, Identity, Language And Religion","Ethnicity, Religion, Nationality","Key Statistics (KS)","All Usual Residents","KS201_White_Gypsy_Irish_Trav","White: Gypsy or Irish Traveller","KS201EW0004",68,"NONE","Key Stats Number"]
["KS006","KS201EW","Ethnic group","Ethnicity, Identity, Language And Religion","Ethnicity, Religion, Nationality","Key Statistics (KS)","All Usual Residents","KS201_White_Other","White: Other White","KS201EW0005",69,"NONE","Key Stats Number"]
["KS006","KS201EW","Ethnic group","Ethnicity, Identity, Language And Religion","Ethnicity, Religion, Nationality","Key Statistics (KS)","All Usual Residents","KS201_Mix_White_Black_Caribb","Mixed/multiple ethnic groups: White and Black Caribbean","KS201EW0006",70,"NONE","Key Stats Number"]
["KS006","KS201EW","Ethnic group","Ethnicity, Identity, Language And Religion","Ethnicity, Religion, Nationality","Key Statistics (KS)","All Usual Residents","KS201_Mix_White_Black_African","Mixed/multiple ethnic groups: White and Black African","KS201EW0007",71,"NONE","Key Stats Number"]
["KS006","KS201EW","Ethnic group","Ethnicity, Identity, Language And Religion","Ethnicity, Religion, Nationality","Key Statistics (KS)","All Usual Residents","KS201_Mix_White_Asian","Mixed/multiple ethnic groups: White and Asian","KS201EW0008",72,"NONE","Key Stats Number"]
["KS006","KS201EW","Ethnic group","Ethnicity, Identity, Language And Religion","Ethnicity, Religion, Nationality","Key Statistics (KS)","All Usual Residents","KS201_Mix_Other","Mixed/multiple ethnic groups: Other Mixed","KS201EW0009",73,"NONE","Key Stats Number"]
["KS006","KS201EW","Ethnic group","Ethnicity, Identity, Language And Religion","Ethnicity, Religion, Nationality","Key Statistics (KS)","All Usual Residents","KS201_Asian_Indian","Asian/Asian British: Indian","KS201EW0010",74,"NONE","Key Stats Number"]
["KS006","KS201EW","Ethnic group","Ethnicity, Identity, Language And Religion","Ethnicity, Religion, Nationality","Key Statistics (KS)","All Usual Residents","KS201_Asian_Pakistani","Asian/Asian British: Pakistani","KS201EW0011",75,"NONE","Key Stats Number"]
["KS006","KS201EW","Ethnic group","Ethnicity, Identity, Language And Religion","Ethnicity, Religion, Nationality","Key Statistics (KS)","All Usual Residents","KS201_Asian_Bangladeshi","Asian/Asian British: Bangladeshi","KS201EW0012",76,"NONE","Key Stats Number"]
["KS006","KS201EW","Ethnic group","Ethnicity, Identity, Language And Religion","Ethnicity, Religion, Nationality","Key Statistics (KS)","All Usual Residents","KS201_Asian_Chinese","Asian/Asian British: Chinese","KS201EW0013",77,"NONE","Key Stats Number"]
["KS006","KS201EW","Ethnic group","Ethnicity, Identity, Language And Religion","Ethnicity, Religion, Nationality","Key Statistics (KS)","All Usual Residents","KS201_Asian_Other","Asian/Asian British: Other Asian","KS201EW0014",78,"NONE","Key Stats Number"]
["KS006","KS201EW","Ethnic group","Ethnicity, Identity, Language And Religion","Ethnicity, Religion, Nationality","Key Statistics (KS)","All Usual Residents","KS201_Black_African","Black/African/Caribbean/Black British: African","KS201EW0015",79,"NONE","Key Stats Number"]
["KS006","KS201EW","Ethnic group","Ethnicity, Identity, Language And Religion","Ethnicity, Religion, Nationality","Key Statistics (KS)","All Usual Residents","KS201_Black_Caribbean","Black/African/Caribbean/Black British: Caribbean","KS201EW0016",80,"NONE","Key Stats Number"]
["KS006","KS201EW","Ethnic group","Ethnicity, Identity, Language And Religion","Ethnicity, Religion, Nationality","Key Statistics (KS)","All Usual Residents","KS201_Black_Other","Black/African/Caribbean/Black British: Other Black","KS201EW0017",81,"NONE","Key Stats Number"]
["KS006","KS201EW","Ethnic group","Ethnicity, Identity, Language And Religion","Ethnicity, Religion, Nationality","Key Statistics (KS)","All Usual Residents","KS201_Other_Arab","Other ethnic group: Arab","KS201EW0018",82,"NONE","Key Stats Number"]
["KS006","KS201EW","Ethnic group","Ethnicity, Identity, Language And Religion","Ethnicity, Religion, Nationality","Key Statistics (KS)","All Usual Residents","KS201_Other_Ethnic_Group","Other ethnic group: Any other ethnic group","KS201EW0019",83,"NONE","Key Stats Number"]
["KS005","KS204EW","Country of birth","Ethnicity, Identity, Language And Religion","Ethnicity, Religion, Nationality","Key Statistics (KS)","All Usual Residents","KS204_All_People","All usual residents","KS204EW0001",84,"NONE","Key Stats Number"]
["KS005","KS204EW","Country of birth","Ethnicity, Identity, Language And Religion","Ethnicity, Religion, Nationality","Key Statistics (KS)","All Usual Residents","KS204_Born_England","England","KS204EW0002",85,"NONE","Key Stats Number"]
["KS005","KS204EW","Country of birth","Ethnicity, Identity, Language And Religion","Ethnicity, Religion, Nationality","Key Statistics (KS)","All Usual Residents","KS204_Born_Northern_Ireland","Northern Ireland","KS204EW0003",86,"NONE","Key Stats Number"]
["KS005","KS204EW","Country of birth","Ethnicity, Identity, Language And Religion","Ethnicity, Religion, Nationality","Key Statistics (KS)","All Usual Residents","KS204_Born_Scotland","Scotland","KS204EW0004",87,"NONE","Key Stats Number"]
["KS005","KS204EW","Country of birth","Ethnicity, Identity, Language And Religion","Ethnicity, Religion, Nationality","Key Statistics (KS)","All Usual Residents","KS204_Born_Wales","Wales","KS204EW0005",88,"NONE","Key Stats Number"]
["KS005","KS204EW","Country of birth","Ethnicity, Identity, Language And Religion","Ethnicity, Religion, Nationality","Key Statistics (KS)","All Usual Residents","KS204_Born_UK_Not_Specified","United Kingdom not otherwise specified","KS204EW0006",89,"NEW","Key Stats Number"]
["KS005","KS204EW","Country of birth","Ethnicity, Identity, Language And Religion","Ethnicity, Religion, Nationality","Key Statistics (KS)","All Usual Residents","KS204_Born_Ireland","Ireland","KS204EW0007",90,"CHANGE","Key Stats Number"]
["KS005","KS204EW","Country of birth","Ethnicity, Identity, Language And Religion","Ethnicity, Religion, Nationality","Key Statistics (KS)","All Usual Residents","KS204_Born_Other_EU_Mar01","Other EU: Member countries in March 2001","KS204EW0008",91,"NONE","Key Stats Number"]
["KS005","KS204EW","Country of birth","Ethnicity, Identity, Language And Religion","Ethnicity, Religion, Nationality","Key Statistics (KS)","All Usual Residents","KS204_Born_Other_EU_Apr01Mar11","Other EU: Accession countries April 2001 to March 2011","KS204EW0009",92,"NONE","Key Stats Number"]
["KS005","KS204EW","Country of birth","Ethnicity, Identity, Language And Religion","Ethnicity, Religion, Nationality","Key Statistics (KS)","All Usual Residents","KS204_Born_Other_Countries","Other countries","KS204EW0010",93,"NONE","Key Stats Number"]
["N202 (New)","KS205EW","Passports Held","Ethnicity, Identity, Language And Religion","Ethnicity, Religion, Nationality","Key Statistics (KS)","All Usual Residents","KS205_All_People","All usual residents","KS205EW0001",94,"NONE","Key Stats Number"]
["N202 (New)","KS205EW","Passports Held","Ethnicity, Identity, Language And Religion","Ethnicity, Religion, Nationality","Key Statistics (KS)","All Usual Residents","KS205_No_Passport","No passport","KS205EW0002",95,"NONE","Key Stats Number"]
["N202 (New)","KS205EW","Passports Held","Ethnicity, Identity, Language And Religion","Ethnicity, Religion, Nationality","Key Statistics (KS)","All Usual Residents","KS205_United_Kingdom","United Kingdom","KS205EW0003",96,"NONE","Key Stats Number"]
["N202 (New)","KS205EW","Passports Held","Ethnicity, Identity, Language And Religion","Ethnicity, Religion, Nationality","Key Statistics (KS)","All Usual Residents","KS205_Republic_Ireland","Republic of Ireland","KS205EW0004",97,"NONE","Key Stats Number"]
["N202 (New)","KS205EW","Passports Held","Ethnicity, Identity, Language And Religion","Ethnicity, Religion, Nationality","Key Statistics (KS)","All Usual Residents","KS205_Other_Europe_EU","Other Europe: EU countries","KS205EW0005",98,"NONE","Key Stats Number"]
["N202 (New)","KS205EW","Passports Held","Ethnicity, Identity, Language And Religion","Ethnicity, Religion, Nationality","Key Statistics (KS)","All Usual Residents","KS205_Other_Europe_NonEU","Other Europe: Non EU countries","KS205EW0006",99,"NONE","Key Stats Number"]
["N202 (New)","KS205EW","Passports Held","Ethnicity, Identity, Language And Religion","Ethnicity, Religion, Nationality","Key Statistics (KS)","All Usual Residents","KS205_Africa","Africa","KS205EW0007",100,"NONE","Key Stats Number"]
["N202 (New)","KS205EW","Passports Held","Ethnicity, Identity, Language And Religion","Ethnicity, Religion, Nationality","Key Statistics (KS)","All Usual Residents","KS205_Middle_East_Asia","Middle East and Asia","KS205EW0008",101,"NONE","Key Stats Number"]
["N202 (New)","KS205EW","Passports Held","Ethnicity, Identity, Language And Religion","Ethnicity, Religion, Nationality","Key Statistics (KS)","All Usual Residents","KS205_North_America_Caribb","North America and the Caribbean","KS205EW0009",102,"NONE","Key Stats Number"]
["N202 (New)","KS205EW","Passports Held","Ethnicity, Identity, Language And Religion","Ethnicity, Religion, Nationality","Key Statistics (KS)","All Usual Residents","KS205_Central_America","Central America","KS205EW0010",103,"NONE","Key Stats Number"]
["N202 (New)","KS205EW","Passports Held","Ethnicity, Identity, Language And Religion","Ethnicity, Religion, Nationality","Key Statistics (KS)","All Usual Residents","KS205_South_America","South America","KS205EW0011",104,"NONE","Key Stats Number"]
["N202 (New)","KS205EW","Passports Held","Ethnicity, Identity, Language And Religion","Ethnicity, Religion, Nationality","Key Statistics (KS)","All Usual Residents","KS205_Antarctica_Oceania","Antarctica and Oceania","KS205EW0012",105,"NONE","Key Stats Number"]
["N202 (New)","KS205EW","Passports Held","Ethnicity, Identity, Language And Religion","Ethnicity, Religion, Nationality","Key Statistics (KS)","All Usual Residents","KS205_British_Overseas_Terr","British Overseas Territories","KS205EW0013",106,"NONE","Key Stats Number"]
["N204","KS206EW","Household language","Ethnicity, Identity, Language And Religion","Qualifications & Languages","Key Statistics (KS)","All Households","KS206_All_HH","All Households","KS206EW0001",107,"NONE","Key Stats Number"]
["N204","KS206EW","Household language","Ethnicity, Identity, Language And Religion","Qualifications & Languages","Key Statistics (KS)","All Households","KS206_All_16Over_Eng_Main","All people aged 16 and over in household have English as a main language (English or Welsh in Wales)","KS206EW0002",108,"NONE","Key Stats Number"]
["N204","KS206EW","Household language","Ethnicity, Identity, Language And Religion","Qualifications & Languages","Key Statistics (KS)","All Households","KS206_One_NotAll_16Ov_Eng_Main","At least one but not all people aged 16 and over in household have English as a main language (English or Welsh in Wales)","KS206EW0003",109,"NONE","Key Stats Number"]
["N204","KS206EW","Household language","Ethnicity, Identity, Language And Religion","Qualifications & Languages","Key Statistics (KS)","All Households","KS206_No_16Ov_One_3_15_Eng_Mai","No people aged 16 and over in household but at least one person aged 3 to 15 has English as a main language (English or Welsh in Wales)","KS206EW0004",110,"CHANGE","Key Stats Number"]
["N204","KS206EW","Household language","Ethnicity, Identity, Language And Religion","Qualifications & Languages","Key Statistics (KS)","All Households","KS206_Nobody_HH_Enng_Main","No people in household have English as a main language (English or Welsh in Wales)","KS206EW0005",111,"CHANGE","Key Stats Number"]
["KS007","KS209EW","Religion","Ethnicity, Identity, Language And Religion","Ethnicity, Religion, Nationality","Key Statistics (KS)","All Usual Residents","KS209_All_People","All usual residents","KS209EW0001",112,"NONE","Key Stats Number"]
["KS007","KS209EW","Religion","Ethnicity, Identity, Language And Religion","Ethnicity, Religion, Nationality","Key Statistics (KS)","All Usual Residents","KS209_Christian","Christian","KS209EW0002",113,"NONE","Key Stats Number"]
["KS007","KS209EW","Religion","Ethnicity, Identity, Language And Religion","Ethnicity, Religion, Nationality","Key Statistics (KS)","All Usual Residents","KS209_Buddhist","Buddhist","KS209EW0003",114,"NONE","Key Stats Number"]
["KS007","KS209EW","Religion","Ethnicity, Identity, Language And Religion","Ethnicity, Religion, Nationality","Key Statistics (KS)","All Usual Residents","KS209_Hindu","Hindu","KS209EW0004",115,"NONE","Key Stats Number"]
["KS007","KS209EW","Religion","Ethnicity, Identity, Language And Religion","Ethnicity, Religion, Nationality","Key Statistics (KS)","All Usual Residents","KS209_Jewish","Jewish","KS209EW0005",116,"NONE","Key Stats Number"]
["KS007","KS209EW","Religion","Ethnicity, Identity, Language And Religion","Ethnicity, Religion, Nationality","Key Statistics (KS)","All Usual Residents","KS209_Muslim","Muslim","KS209EW0006",117,"NONE","Key Stats Number"]
["KS007","KS209EW","Religion","Ethnicity, Identity, Language And Religion","Ethnicity, Religion, Nationality","Key Statistics (KS)","All Usual Residents","KS209_Sikh","Sikh","KS209EW0007",118,"NONE","Key Stats Number"]
["KS007","KS209EW","Religion","Ethnicity, Identity, Language And Religion","Ethnicity, Religion, Nationality","Key Statistics (KS)","All Usual Residents","KS209_Other_Religion","Other religion","KS209EW0008",119,"NONE","Key Stats Number"]
["KS007","KS209EW","Religion","Ethnicity, Identity, Language And Religion","Ethnicity, Religion, Nationality","Key Statistics (KS)","All Usual Residents","KS209_No_Religion","No religion","KS209EW0009",120,"NONE","Key Stats Number"]
["KS007","KS209EW","Religion","Ethnicity, Identity, Language And Religion","Ethnicity, Religion, Nationality","Key Statistics (KS)","All Usual Residents","KS209_Not_Stated","Religion not stated","KS209EW0010",121,"NONE","Key Stats Number"]
["KS008","KS301EW","Health and provision of unpaid care","Health","Health","Key Statistics (KS)","All Usual Residents","KS301_All_People","All usual residents","KS301EW0001",122,"NONE","Key Stats Number"]
["KS008","KS301EW","Health and provision of unpaid care","Health","Health","Key Statistics (KS)","All Usual Residents","KS301_Activ_Limit_A_Lot","Day-to-day activities limited a lot","KS301EW0002",123,"NONE","Key Stats Number"]
["KS008","KS301EW","Health and provision of unpaid care","Health","Health","Key Statistics (KS)","All Usual Residents","KS301_Activ_Limit_A_Littl","Day-to-day activities limited a little","KS301EW0003",124,"NONE","Key Stats Number"]
["KS008","KS301EW","Health and provision of unpaid care","Health","Health","Key Statistics (KS)","All Usual Residents","KS301_Activ_Not_Limit","Day-to-day activities not limited","KS301EW0004",125,"NONE","Key Stats Number"]
["KS008","KS301EW","Health and provision of unpaid care","Health","Health","Key Statistics (KS)","All Usual Residents","KS301_Activ_Limit_A_Lot_16_64","Day-to-day activities limited a lot: Age 16 to 64","KS301EW0005",126,"NONE","Key Stats Number"]
["KS008","KS301EW","Health and provision of unpaid care","Health","Health","Key Statistics (KS)","All Usual Residents","KS301_Activ_Limit_A_Litt_16_64","Day-to-day activities limited a little: Age 16 to 64","KS301EW0006",127,"NONE","Key Stats Number"]
["KS008","KS301EW","Health and provision of unpaid care","Health","Health","Key Statistics (KS)","All Usual Residents","KS301_Activ_Not_Limit_16_64","Day-to-day activities not limited: Age 16 to 64","KS301EW0007",128,"NONE","Key Stats Number"]
["KS008","KS301EW","Health and provision of unpaid care","Health","Health","Key Statistics (KS)","All Usual Residents","KS301_Health_Very_Good","Very good health","KS301EW0008",129,"NONE","Key Stats Number"]
["KS008","KS301EW","Health and provision of unpaid care","Health","Health","Key Statistics (KS)","All Usual Residents","KS301_Health_Good","Good health","KS301EW0009",130,"NONE","Key Stats Number"]
["KS008","KS301EW","Health and provision of unpaid care","Health","Health","Key Statistics (KS)","All Usual Residents","KS301_Health_Fair","Fair health","KS301EW0010",131,"NONE","Key Stats Number"]
["KS008","KS301EW","Health and provision of unpaid care","Health","Health","Key Statistics (KS)","All Usual Residents","KS301_Health_Bad","Bad health","KS301EW0011",132,"NONE","Key Stats Number"]
["KS008","KS301EW","Health and provision of unpaid care","Health","Health","Key Statistics (KS)","All Usual Residents","KS301_Health_Very_Bad","Very bad health","KS301EW0012",133,"NONE","Key Stats Number"]
["KS008","KS301EW","Health and provision of unpaid care","Health","Health","Key Statistics (KS)","All Usual Residents","KS301_Provide_No_Unpaid_Care","Provides no unpaid care","KS301EW0013",134,"NONE","Key Stats Number"]
["KS008","KS301EW","Health and provision of unpaid care","Health","Health","Key Statistics (KS)","All Usual Residents","KS301_Prov_Unpaid_Care_1_19","Provides 1 to 19 hours unpaid care a week","KS301EW0014",135,"NONE","Key Stats Number"]
["KS008","KS301EW","Health and provision of unpaid care","Health","Health","Key Statistics (KS)","All Usual Residents","KS301_Prov_Unpaid_Care_20_49","Provides 20 to 49 hours unpaid care a week","KS301EW0015",136,"NONE","Key Stats Number"]
["KS008","KS301EW","Health and provision of unpaid care","Health","Health","Key Statistics (KS)","All Usual Residents","KS301_Prov_Unpaid_Care_50More","Provides 50 or more hours unpaid care a week","KS301EW0016",137,"NONE","Key Stats Number"]
["KS016","KS401EW","Dwellings, household spaces and accommodation type","Housing And Accommodation","Accommodation & Households","Key Statistics (KS)","All Dwellings; All Household Spaces","KS401_All_Dwellings","All dwellings","KS401EW0001",138,"NONE","Key Stats Number"]
["KS016","KS401EW","Dwellings, household spaces and accommodation type","Housing And Accommodation","Accommodation & Households","Key Statistics (KS)","All Dwellings; All Household Spaces","KS401_Dwelling_Unshared","Unshared dwelling","KS401EW0002",139,"NONE","Key Stats Number"]
["KS016","KS401EW","Dwellings, household spaces and accommodation type","Housing And Accommodation","Accommodation & Households","Key Statistics (KS)","All Dwellings; All Household Spaces","KS401_Dwelling_Share_2_HH_Spac","Shared dwelling: Two household spaces","KS401EW0003",140,"NONE","Key Stats Number"]
["KS016","KS401EW","Dwellings, household spaces and accommodation type","Housing And Accommodation","Accommodation & Households","Key Statistics (KS)","All Dwellings; All Household Spaces","KS401_Dwelling_Share_3Ov_HH_Sp","Shared dwelling: Three or more household spaces","KS401EW0004",141,"NONE","Key Stats Number"]
["KS016","KS401EW","Dwellings, household spaces and accommodation type","Housing And Accommodation","Accommodation & Households","Key Statistics (KS)","All Dwellings; All Household Spaces","KS401_All_HH_Spaces","All household spaces","KS401EW0005",142,"NONE","Key Stats Number"]
["KS016","KS401EW","Dwellings, household spaces and accommodation type","Housing And Accommodation","Accommodation & Households","Key Statistics (KS)","All Dwellings; All Household Spaces","KS401_HH_Spaces_Occupied","Household spaces with at least one usual resident","KS401EW0006",143,"CHANGE","Key Stats Number"]
["KS016","KS401EW","Dwellings, household spaces and accommodation type","Housing And Accommodation","Accommodation & Households","Key Statistics (KS)","All Dwellings; All Household Spaces","KS401_HH_Spaces_Unoccupied","Household spaces with no usual residents","KS401EW0007",144,"CHANGE","Key Stats Number"]
["KS016","KS401EW","Dwellings, household spaces and accommodation type","Housing And Accommodation","Accommodation & Households","Key Statistics (KS)","All Dwellings; All Household Spaces","KS401_Detached","Whole house or bungalow: Detached","KS401EW0008",145,"CHANGE","Key Stats Number"]
["KS016","KS401EW","Dwellings, household spaces and accommodation type","Housing And Accommodation","Accommodation & Households","Key Statistics (KS)","All Dwellings; All Household Spaces","KS401_SemiDetached","Whole house or bungalow: Semi-detached","KS401EW0009",146,"NONE","Key Stats Number"]
["KS016","KS401EW","Dwellings, household spaces and accommodation type","Housing And Accommodation","Accommodation & Households","Key Statistics (KS)","All Dwellings; All Household Spaces","KS401_Terraced","Whole house or bungalow: Terraced (including end-terrace)","KS401EW0010",147,"NONE","Key Stats Number"]
["KS016","KS401EW","Dwellings, household spaces and accommodation type","Housing And Accommodation","Accommodation & Households","Key Statistics (KS)","All Dwellings; All Household Spaces","KS401_Flat_Purpose_Built","Flat, maisonette or apartment: Purpose-built block of flats or tenement","KS401EW0011",148,"NONE","Key Stats Number"]
["KS016","KS401EW","Dwellings, household spaces and accommodation type","Housing And Accommodation","Accommodation & Households","Key Statistics (KS)","All Dwellings; All Household Spaces","KS401_Flat_Shared_House","Flat, maisonette or apartment: Part of a converted or shared house (including bed-sits)","KS401EW0012",149,"NONE","Key Stats Number"]
["KS016","KS401EW","Dwellings, household spaces and accommodation type","Housing And Accommodation","Accommodation & Households","Key Statistics (KS)","All Dwellings; All Household Spaces","KS401_Flat_Commercial_Building","Flat, maisonette or apartment: In a commercial building","KS401EW0013",150,"CHANGE","Key Stats Number"]
["KS016","KS401EW","Dwellings, household spaces and accommodation type","Housing And Accommodation","Accommodation & Households","Key Statistics (KS)","All Dwellings; All Household Spaces","KS401_Caravan_Mobile","Caravan or other mobile or temporary structure","KS401EW0014",151,"CHANGE","Key Stats Number"]
["KS018","KS402EW","Tenure","Housing And Accommodation","Accommodation & Households","Key Statistics (KS)","All Households","KS402_All_HH","All households","KS402EW0001",152,"NONE","Key Stats Number"]
["KS018","KS402EW","Tenure","Housing And Accommodation","Accommodation & Households","Key Statistics (KS)","All Households","KS402_Owned_Outright","Owned: Owned outright","KS402EW0002",153,"NONE","Key Stats Number"]
["KS018","KS402EW","Tenure","Housing And Accommodation","Accommodation & Households","Key Statistics (KS)","All Households","KS402_Owned_Mortgage_Loan","Owned: Owned with a mortgage or loan","KS402EW0003",154,"NONE","Key Stats Number"]
["KS018","KS402EW","Tenure","Housing And Accommodation","Accommodation & Households","Key Statistics (KS)","All Households","KS402_Shared_PartOwn_PartRent","Shared ownership (part owned and part rented)","KS402EW0004",155,"NONE","Key Stats Number"]
["KS018","KS402EW","Tenure","Housing And Accommodation","Accommodation & Households","Key Statistics (KS)","All Households","KS402_Social_Rent_LA","Social rented: Rented from council (Local Authority)","KS402EW0005",156,"NONE","Key Stats Number"]
["KS018","KS402EW","Tenure","Housing And Accommodation","Accommodation & Households","Key Statistics (KS)","All Households","KS402_Social_Rent_Other","Social rented: Other","KS402EW0006",157,"NONE","Key Stats Number"]
["KS018","KS402EW","Tenure","Housing And Accommodation","Accommodation & Households","Key Statistics (KS)","All Households","KS402_Private_Rent_Landlrd_Let","Private rented: Private landlord or letting agency","KS402EW0007",158,"NONE","Key Stats Number"]
["KS018","KS402EW","Tenure","Housing And Accommodation","Accommodation & Households","Key Statistics (KS)","All Households","KS402_Private_Rent_Other","Private rented: Other","KS402EW0008",159,"NONE","Key Stats Number"]
["KS018","KS402EW","Tenure","Housing And Accommodation","Accommodation & Households","Key Statistics (KS)","All Households","KS402_Living_Rent_Free","Living rent free","KS402EW0009",160,"NONE","Key Stats Number"]
["KS019","KS403EW","Rooms, Bedrooms And Central Heating",null,"Accommodation & Households","Key Statistics (KS)","All Households","KS403_All_HH_Spaces_With_Res","All categories: Type of central heating in household","KS403EW0001",161,"NONE","Key Stats Number"]
["KS019","KS403EW","Rooms, Bedrooms And Central Heating",null,"Accommodation & Households","Key Statistics (KS)","All Households","KS403_No_Central_Heating","Does not have central heating","KS403EW0002",162,"NONE","Key Stats Number"]
["KS019","KS403EW","Rooms, Bedrooms And Central Heating",null,"Accommodation & Households","Key Statistics (KS)","All Households","KS403_Central_Heating","Does have central heating","KS403EW0003",163,"NONE","Key Stats Number"]
["KS019","KS403EW","Rooms, Bedrooms And Central Heating",null,"Accommodation & Households","Key Statistics (KS)","All Households","KS403_OccRat_Room_Min1_Less","Occupancy rating (rooms) of -1 or less","KS403EW0004",164,"NONE","Key Stats Number"]
["KS019","KS403EW","Rooms, Bedrooms And Central Heating",null,"Accommodation & Households","Key Statistics (KS)","All Households","KS403_OccRat_Bedroom_Min1_Less","Occupancy rating (bedrooms) of -1 or less","KS403EW0005",165,"NONE","Key Stats Number"]
["KS019","KS403EW","Rooms, Bedrooms And Central Heating",null,"Accommodation & Households","Key Statistics (KS)","All Households","KS403_Average_HH_Size","Average household size","KS403EW0006",166,"NONE","Key Stats Number"]
["KS019","KS403EW","Rooms, Bedrooms And Central Heating",null,"Accommodation & Households","Key Statistics (KS)","All Households","KS403_Average_Rooms_Per_HH","Average number of rooms per household","KS403EW0007",167,"NONE","Key Stats Number"]
["KS019","KS403EW","Rooms, Bedrooms And Central Heating",null,"Accommodation & Households","Key Statistics (KS)","All Households","KS403_Average_Bedrooms_Per_HH","Average number of bedrooms per household","KS403EW0008",168,"NONE","Key Stats Number"]
["KS017","KS404EW","Car or van availability","Housing And Accommodation","Transport","Key Statistics (KS)","All Households","KS404_All_HH","All households","KS404EW0001",169,"NONE","Key Stats Number"]
["KS017","KS404EW","Car or van availability","Housing And Accommodation","Transport","Key Statistics (KS)","All Households","KS404_Cars_Vans_None","No cars or vans in household","KS404EW0002",170,"NONE","Key Stats Number"]
["KS017","KS404EW","Car or van availability","Housing And Accommodation","Transport","Key Statistics (KS)","All Households","KS404_Cars_Vans_One","1 car or van in household","KS404EW0003",171,"NONE","Key Stats Number"]
["KS017","KS404EW","Car or van availability","Housing And Accommodation","Transport","Key Statistics (KS)","All Households","KS404_Cars_Vans_Two","2 cars or vans in household","KS404EW0004",172,"NONE","Key Stats Number"]
["KS017","KS404EW","Car or van availability","Housing And Accommodation","Transport","Key Statistics (KS)","All Households","KS404_Cars_Vans_Three","3 cars or vans in household","KS404EW0005",173,"NONE","Key Stats Number"]
["KS017","KS404EW","Car or van availability","Housing And Accommodation","Transport","Key Statistics (KS)","All Households","KS404_Cars_Vans_Four_More","4 or more cars or vans in household","KS404EW0006",174,"NONE","Key Stats Number"]
["KS017","KS404EW","Car or van availability","Housing And Accommodation","Transport","Key Statistics (KS)","All Households","KS404_Cars_Vans_in_Area","All cars or vans in the area","KS404EW0007",175,"NONE","Key Stats Number"]
["KS013","KS501EW","Qualifications and students","Qualifications","Qualifications & Languages","Key Statistics (KS)","All Usual Residents Aged 16 And Over","KS501_All_People_16Over","All usual residents aged 16 and over","KS501EW0001",176,"NONE","Key Stats Number"]
["KS013","KS501EW","Qualifications and students","Qualifications","Qualifications & Languages","Key Statistics (KS)","All Usual Residents Aged 16 And Over","KS501_No_Quals","Highest level of qualification: No qualifications","KS501EW0002",177,"CHANGE","Key Stats Number"]
["KS013","KS501EW","Qualifications and students","Qualifications","Qualifications & Languages","Key Statistics (KS)","All Usual Residents Aged 16 And Over","KS501_Qual_Level_1","Highest level of qualification: Level 1 qualifications","KS501EW0003",178,"NONE","Key Stats Number"]
["KS013","KS501EW","Qualifications and students","Qualifications","Qualifications & Languages","Key Statistics (KS)","All Usual Residents Aged 16 And Over","KS501_Qual_Level_2","Highest level of qualification: Level 2 qualifications","KS501EW0004",179,"NONE","Key Stats Number"]
["KS013","KS501EW","Qualifications and students","Qualifications","Qualifications & Languages","Key Statistics (KS)","All Usual Residents Aged 16 And Over","KS501_Qual_Apprenticeship","Highest level of qualification: Apprenticeship","KS501EW0005",180,"NEW","Key Stats Number"]
["KS013","KS501EW","Qualifications and students","Qualifications","Qualifications & Languages","Key Statistics (KS)","All Usual Residents Aged 16 And Over","KS501_Qual_Level_3","Highest level of qualification: Level 3 qualifications","KS501EW0006",181,"NONE","Key Stats Number"]
["KS013","KS501EW","Qualifications and students","Qualifications","Qualifications & Languages","Key Statistics (KS)","All Usual Residents Aged 16 And Over","KS501_Qual_Level_4Over","Highest level of qualification: Level 4 qualifications and above","KS501EW0007",182,"NONE","Key Stats Number"]
["KS013","KS501EW","Qualifications and students","Qualifications","Qualifications & Languages","Key Statistics (KS)","All Usual Residents Aged 16 And Over","KS501_Qual_Other","Highest level of qualification: Other qualifications","KS501EW0008",183,"NONE","Key Stats Number"]
["KS013","KS501EW","Qualifications and students","Qualifications","Qualifications & Languages","Key Statistics (KS)","All Usual Residents Aged 16 And Over","KS501_FTStu_Schoolchild_16_17","Schoolchildren and full-time students: Age 16 to 17","KS501EW0009",184,"NONE","Key Stats Number"]
["KS013","KS501EW","Qualifications and students","Qualifications","Qualifications & Languages","Key Statistics (KS)","All Usual Residents Aged 16 And Over","KS501_FTStu_Schoolchild_18Over","Schoolchildren and full-time students: Age 18 and over","KS501EW0010",185,"NONE","Key Stats Number"]
["KS013","KS501EW","Qualifications and students","Qualifications","Qualifications & Languages","Key Statistics (KS)","All Usual Residents Aged 16 And Over","KS501_FTStu_18Over_EA_Employed","Full-time students: Age 18 and over: Economically active: In employment","KS501EW0011",186,"CHANGE","Key Stats Number"]
["KS013","KS501EW","Qualifications and students","Qualifications","Qualifications & Languages","Key Statistics (KS)","All Usual Residents Aged 16 And Over","KS501_FTStu_18Over_EA_Unemploy","Full-time students: Age 18 and over: Economically active: Unemployed","KS501EW0012",187,"CHANGE","Key Stats Number"]
["KS013","KS501EW","Qualifications and students","Qualifications","Qualifications & Languages","Key Statistics (KS)","All Usual Residents Aged 16 And Over","KS501_FTStudent_18Over_EI","Full-time students: Age 18 and over: Economically inactive","KS501EW0013",188,"CHANGE","Key Stats Number"]
["KS009a","KS601EW","Economic activity","Labour Market","Employment & Labour Market","Key Statistics (KS)","All Usual Residents Aged 16 To 74","KS601_All_People_16_74","All usual residents aged 16 to 74","KS601EW0001",189,"CHANGE","Key Stats Number"]
["KS009a","KS601EW","Economic activity","Labour Market","Employment & Labour Market","Key Statistics (KS)","All Usual Residents Aged 16 To 74","KS601_EA_Parttime","Economically active: Employee: Part-time","KS601EW0002",190,"NONE","Key Stats Number"]
["KS009a","KS601EW","Economic activity","Labour Market","Employment & Labour Market","Key Statistics (KS)","All Usual Residents Aged 16 To 74","KS601_EA_Fulltime","Economically active: Employee: Full-time","KS601EW0003",191,"NONE","Key Stats Number"]
["KS009a","KS601EW","Economic activity","Labour Market","Employment & Labour Market","Key Statistics (KS)","All Usual Residents Aged 16 To 74","KS601_EA_SelfEmployed","Economically active: Self-employed","KS601EW0004",192,"NONE","Key Stats Number"]
["KS009a","KS601EW","Economic activity","Labour Market","Employment & Labour Market","Key Statistics (KS)","All Usual Residents Aged 16 To 74","KS601_EA_Unemployed","Economically active: Unemployed","KS601EW0005",193,"NONE","Key Stats Number"]
["KS009a","KS601EW","Economic activity","Labour Market","Employment & Labour Market","Key Statistics (KS)","All Usual Residents Aged 16 To 74","KS601_EA_FT_Student","Economically active: Full-time student","KS601EW0006",194,"NONE","Key Stats Number"]
["KS009a","KS601EW","Economic activity","Labour Market","Employment & Labour Market","Key Statistics (KS)","All Usual Residents Aged 16 To 74","KS601_EI_Retired","Economically inactive: Retired","KS601EW0007",195,"NONE","Key Stats Number"]
["KS009a","KS601EW","Economic activity","Labour Market","Employment & Labour Market","Key Statistics (KS)","All Usual Residents Aged 16 To 74","KS601_EI_Student_Inc_FT","Economically inactive: Student (including full-time students)","KS601EW0008",196,"NONE","Key Stats Number"]
["KS009a","KS601EW","Economic activity","Labour Market","Employment & Labour Market","Key Statistics (KS)","All Usual Residents Aged 16 To 74","KS601_EI_Look_After_Home","Economically inactive: Looking after home or family","KS601EW0009",197,"NONE","Key Stats Number"]
["KS009a","KS601EW","Economic activity","Labour Market","Employment & Labour Market","Key Statistics (KS)","All Usual Residents Aged 16 To 74","KS601_EI_Sick_Disabled","Economically inactive: Long-term sick or disabled","KS601EW0010",198,"NONE","Key Stats Number"]
["KS009a","KS601EW","Economic activity","Labour Market","Employment & Labour Market","Key Statistics (KS)","All Usual Residents Aged 16 To 74","KS601_EI_Other","Economically inactive: Other","KS601EW0011",199,"NONE","Key Stats Number"]
["KS009a","KS601EW","Economic activity","Labour Market","Employment & Labour Market","Key Statistics (KS)","All Usual Residents Aged 16 To 74","KS601_Unemp_16_24","Unemployed: Age 16 to 24 ","KS601EW0012",200,"NONE","Key Stats Number"]
["KS009a","KS601EW","Economic activity","Labour Market","Employment & Labour Market","Key Statistics (KS)","All Usual Residents Aged 16 To 74","KS601_Unemp_50_74","Unemployed: Age 50 to 74","KS601EW0013",201,"CHANGE","Key Stats Number"]
["KS009a","KS601EW","Economic activity","Labour Market","Employment & Labour Market","Key Statistics (KS)","All Usual Residents Aged 16 To 74","KS601_Unemp_Never_Worked","Unemployed: Never worked","KS601EW0014",202,"NONE","Key Stats Number"]
["KS009a","KS601EW","Economic activity","Labour Market","Employment & Labour Market","Key Statistics (KS)","All Usual Residents Aged 16 To 74","KS601_Unemp_Longterm","Long-term unemployed","KS601EW0015",203,"NONE","Key Stats Number"]
["KS010","KS604EW","Hours worked","Labour Market","Employment & Labour Market","Key Statistics (KS)","All Usual Residents Aged 16 To 74 In Employment The Week Before The Census","KS604_All_People_16_74_Employ","All usual residents aged 16 to 74 in employment the week before the census","KS604EW0001",204,"CHANGE","Key Stats Number"]
["KS010","KS604EW","Hours worked","Labour Market","Employment & Labour Market","Key Statistics (KS)","All Usual Residents Aged 16 To 74 In Employment The Week Before The Census","KS604_Parttime_1_15","Part-time: 15 hours or less worked","KS604EW0002",205,"NONE","Key Stats Number"]
["KS010","KS604EW","Hours worked","Labour Market","Employment & Labour Market","Key Statistics (KS)","All Usual Residents Aged 16 To 74 In Employment The Week Before The Census","KS604_Parttime_16_30","Part-time: 16 to 30 hours worked","KS604EW0003",206,"NONE","Key Stats Number"]
["KS010","KS604EW","Hours worked","Labour Market","Employment & Labour Market","Key Statistics (KS)","All Usual Residents Aged 16 To 74 In Employment The Week Before The Census","KS604_Fulltime_31_48","Full-time: 31 to 48 hours worked","KS604EW0004",207,"NONE","Key Stats Number"]
["KS010","KS604EW","Hours worked","Labour Market","Employment & Labour Market","Key Statistics (KS)","All Usual Residents Aged 16 To 74 In Employment The Week Before The Census","KS604_Fulltime_49More","Full-time: 49 or more hours worked","KS604EW0005",208,"NONE","Key Stats Number"]
["KS010","KS604EW","Hours worked","Labour Market","Employment & Labour Market","Key Statistics (KS)","All Usual Residents Aged 16 To 74 In Employment The Week Before The Census","KS604_Male_16Over_Employment","Males: Total","KS604EW0006",209,"NONE","Key Stats Number"]
["KS010","KS604EW","Hours worked","Labour Market","Employment & Labour Market","Key Statistics (KS)","All Usual Residents Aged 16 To 74 In Employment The Week Before The Census","KS604_Male_Parttime_1_15","Males: Part-time: 15 hours or less worked","KS604EW0007",210,"NONE","Key Stats Number"]
["KS010","KS604EW","Hours worked","Labour Market","Employment & Labour Market","Key Statistics (KS)","All Usual Residents Aged 16 To 74 In Employment The Week Before The Census","KS604_Male_Parttime_16_30","Males: Part-time: 16 to 30 hours worked","KS604EW0008",211,"NONE","Key Stats Number"]
["KS010","KS604EW","Hours worked","Labour Market","Employment & Labour Market","Key Statistics (KS)","All Usual Residents Aged 16 To 74 In Employment The Week Before The Census","KS604_Male_Fulltime_31_48","Males: Full-time: 31 to 48 hours worked","KS604EW0009",212,"NONE","Key Stats Number"]
["KS010","KS604EW","Hours worked","Labour Market","Employment & Labour Market","Key Statistics (KS)","All Usual Residents Aged 16 To 74 In Employment The Week Before The Census","KS604_Male_Fulltime_49More","Males: Full-time: 49 or more hours worked","KS604EW0010",213,"NONE","Key Stats Number"]
["KS010","KS604EW","Hours worked","Labour Market","Employment & Labour Market","Key Statistics (KS)","All Usual Residents Aged 16 To 74 In Employment The Week Before The Census","KS604_Female_16Over_Employment","Females: Total","KS604EW0011",214,"NONE","Key Stats Number"]
["KS010","KS604EW","Hours worked","Labour Market","Employment & Labour Market","Key Statistics (KS)","All Usual Residents Aged 16 To 74 In Employment The Week Before The Census","KS604_Female_Parttime_1_15","Females: Part-time: 15 hours or less worked","KS604EW0012",215,"NONE","Key Stats Number"]
["KS010","KS604EW","Hours worked","Labour Market","Employment & Labour Market","Key Statistics (KS)","All Usual Residents Aged 16 To 74 In Employment The Week Before The Census","KS604_Female_Parttime_16_30","Females: Part-time: 16 to 30 hours worked","KS604EW0013",216,"NONE","Key Stats Number"]
["KS010","KS604EW","Hours worked","Labour Market","Employment & Labour Market","Key Statistics (KS)","All Usual Residents Aged 16 To 74 In Employment The Week Before The Census","KS604_Female_Fulltime_31_48","Females: Full-time: 31 to 48 hours worked","KS604EW0014",217,"NONE","Key Stats Number"]
["KS010","KS604EW","Hours worked","Labour Market","Employment & Labour Market","Key Statistics (KS)","All Usual Residents Aged 16 To 74 In Employment The Week Before The Census","KS604_Female_Fulltime_49More","Females: Full-time: 49 or more hours worked","KS604EW0015",218,"NONE","Key Stats Number"]
["KS011a","KS605EW","Industry","Labour Market","Employment & Labour Market","Key Statistics (KS)","All Usual Residents Aged 16 To 74 In Employment The Week Before The Census","KS605_All_People_16_74_Employ","All usual residents aged 16 to 74 in employment the week before the census","KS605EW0001",219,"CHANGE","Key Stats Number"]
["KS011a","KS605EW","Industry","Labour Market","Employment & Labour Market","Key Statistics (KS)","All Usual Residents Aged 16 To 74 In Employment The Week Before The Census","KS605_Agric_Forest_Fish","A Agriculture, forestry and fishing","KS605EW0002",220,"CHANGE","Key Stats Number"]
["KS011a","KS605EW","Industry","Labour Market","Employment & Labour Market","Key Statistics (KS)","All Usual Residents Aged 16 To 74 In Employment The Week Before The Census","KS605_Mining_Quarrying","B Mining and quarrying","KS605EW0003",221,"NONE","Key Stats Number"]
["KS011a","KS605EW","Industry","Labour Market","Employment & Labour Market","Key Statistics (KS)","All Usual Residents Aged 16 To 74 In Employment The Week Before The Census","KS605_Manufacturing","C Manufacturing","KS605EW0004",222,"NONE","Key Stats Number"]
["KS011a","KS605EW","Industry","Labour Market","Employment & Labour Market","Key Statistics (KS)","All Usual Residents Aged 16 To 74 In Employment The Week Before The Census","KS605_Elec_Gas_Steam","D Electricity, gas, steam and air conditioning supply ","KS605EW0005",223,"NONE","Key Stats Number"]
["KS011a","KS605EW","Industry","Labour Market","Employment & Labour Market","Key Statistics (KS)","All Usual Residents Aged 16 To 74 In Employment The Week Before The Census","KS605_Water_Sewer_Waste","E Water supply; sewerage, waste management and remediation activities","KS605EW0006",224,"NONE","Key Stats Number"]
["KS011a","KS605EW","Industry","Labour Market","Employment & Labour Market","Key Statistics (KS)","All Usual Residents Aged 16 To 74 In Employment The Week Before The Census","KS605_Construction","F Construction","KS605EW0007",225,"NONE","Key Stats Number"]
["KS011a","KS605EW","Industry","Labour Market","Employment & Labour Market","Key Statistics (KS)","All Usual Residents Aged 16 To 74 In Employment The Week Before The Census","KS605_Wholesale_Retail","G Wholesale and retail trade; repair of motor vehicles and motor cycles","KS605EW0008",226,"NONE","Key Stats Number"]
["KS011a","KS605EW","Industry","Labour Market","Employment & Labour Market","Key Statistics (KS)","All Usual Residents Aged 16 To 74 In Employment The Week Before The Census","KS605_Transport_Storage","H Transport and storage","KS605EW0009",227,"NONE","Key Stats Number"]
["KS011a","KS605EW","Industry","Labour Market","Employment & Labour Market","Key Statistics (KS)","All Usual Residents Aged 16 To 74 In Employment The Week Before The Census","KS605_Accommod_Food","I Accommodation and food service activities","KS605EW0010",228,"NONE","Key Stats Number"]
["KS011a","KS605EW","Industry","Labour Market","Employment & Labour Market","Key Statistics (KS)","All Usual Residents Aged 16 To 74 In Employment The Week Before The Census","KS605_Information_Comms","J Information and communication","KS605EW0011",229,"NONE","Key Stats Number"]
["KS011a","KS605EW","Industry","Labour Market","Employment & Labour Market","Key Statistics (KS)","All Usual Residents Aged 16 To 74 In Employment The Week Before The Census","KS605_Finance_Insurance","K Financial and insurance activities","KS605EW0012",230,"NONE","Key Stats Number"]
["KS011a","KS605EW","Industry","Labour Market","Employment & Labour Market","Key Statistics (KS)","All Usual Residents Aged 16 To 74 In Employment The Week Before The Census","KS605_Real_Estate","L Real estate activities","KS605EW0013",231,"NONE","Key Stats Number"]
["KS011a","KS605EW","Industry","Labour Market","Employment & Labour Market","Key Statistics (KS)","All Usual Residents Aged 16 To 74 In Employment The Week Before The Census","KS605_Prof_Science_Tech","M Professional, scientific and technical activities","KS605EW0014",232,"NONE","Key Stats Number"]
["KS011a","KS605EW","Industry","Labour Market","Employment & Labour Market","Key Statistics (KS)","All Usual Residents Aged 16 To 74 In Employment The Week Before The Census","KS605_Admin_SupService","N Administrative and support service activities","KS605EW0015",233,"NONE","Key Stats Number"]
["KS011a","KS605EW","Industry","Labour Market","Employment & Labour Market","Key Statistics (KS)","All Usual Residents Aged 16 To 74 In Employment The Week Before The Census","KS605_Public_Admin_Defe","O Public administration and defence; compulsory social security","KS605EW0016",234,"NONE","Key Stats Number"]
["KS011a","KS605EW","Industry","Labour Market","Employment & Labour Market","Key Statistics (KS)","All Usual Residents Aged 16 To 74 In Employment The Week Before The Census","KS605_Education","P Education","KS605EW0017",235,"NONE","Key Stats Number"]
["KS011a","KS605EW","Industry","Labour Market","Employment & Labour Market","Key Statistics (KS)","All Usual Residents Aged 16 To 74 In Employment The Week Before The Census","KS605_Health_Social_Wor","Q Human health and social work activities","KS605EW0018",236,"NONE","Key Stats Number"]
["KS011a","KS605EW","Industry","Labour Market","Employment & Labour Market","Key Statistics (KS)","All Usual Residents Aged 16 To 74 In Employment The Week Before The Census","KS605_Other","R, S, T, U Other","KS605EW0019",237,"NONE","Key Stats Number"]
["KS012a","KS608EW","Occupation","Labour Market","Employment & Labour Market","Key Statistics (KS)","All Usual Residents Aged 16 To 74 In Employment The Week Before The Census","KS608_All_People_16_74_Employ","All usual residents aged 16 to 74 in employment the week before the census","KS608EW0001",238,"CHANGE","Key Stats Number"]
["KS012a","KS608EW","Occupation","Labour Market","Employment & Labour Market","Key Statistics (KS)","All Usual Residents Aged 16 To 74 In Employment The Week Before The Census","KS608_Manager_Dir_Senior","1. Managers, directors and senior officials","KS608EW0002",239,"NONE","Key Stats Number"]
["KS012a","KS608EW","Occupation","Labour Market","Employment & Labour Market","Key Statistics (KS)","All Usual Residents Aged 16 To 74 In Employment The Week Before The Census","KS608_Professional","2. Professional occupations","KS608EW0003",240,"NONE","Key Stats Number"]
["KS012a","KS608EW","Occupation","Labour Market","Employment & Labour Market","Key Statistics (KS)","All Usual Residents Aged 16 To 74 In Employment The Week Before The Census","KS608_Assoc_Prof_Tech","3. Associate professional and technical occupations","KS608EW0004",241,"NONE","Key Stats Number"]
["KS012a","KS608EW","Occupation","Labour Market","Employment & Labour Market","Key Statistics (KS)","All Usual Residents Aged 16 To 74 In Employment The Week Before The Census","KS608_Admin_Secretarial","4. Administrative and secretarial occupations","KS608EW0005",242,"NONE","Key Stats Number"]
["KS012a","KS608EW","Occupation","Labour Market","Employment & Labour Market","Key Statistics (KS)","All Usual Residents Aged 16 To 74 In Employment The Week Before The Census","KS608_Skilled_Trades","5. Skilled trades occupations","KS608EW0006",243,"NONE","Key Stats Number"]
["KS012a","KS608EW","Occupation","Labour Market","Employment & Labour Market","Key Statistics (KS)","All Usual Residents Aged 16 To 74 In Employment The Week Before The Census","KS608_Care_Leisure_Serv","6. Caring, leisure and other service occupations","KS608EW0007",244,"NONE","Key Stats Number"]
["KS012a","KS608EW","Occupation","Labour Market","Employment & Labour Market","Key Statistics (KS)","All Usual Residents Aged 16 To 74 In Employment The Week Before The Census","KS608_Sales_Custom_Serv","7. Sales and customer service occupations","KS608EW0008",245,"NONE","Key Stats Number"]
["KS012a","KS608EW","Occupation","Labour Market","Employment & Labour Market","Key Statistics (KS)","All Usual Residents Aged 16 To 74 In Employment The Week Before The Census","KS608_Proces_Plant_Mach","8. Process, plant and machine operatives","KS608EW0009",246,"NONE","Key Stats Number"]
["KS012a","KS608EW","Occupation","Labour Market","Employment & Labour Market","Key Statistics (KS)","All Usual Residents Aged 16 To 74 In Employment The Week Before The Census","KS608_Elementary","9. Elementary occupations","KS608EW0010",247,"NONE","Key Stats Number"]
[null,"PP04","Usual Resident Population By Five Year Age Group","Demography","Population Structure","Population & Household Estimates (PHE)","All Usual Residents","PP04_Persons_All_Ages","Persons All Ages ",null,3,"NONE","Quick Stats Number"]
[null,"PP04","Usual Resident Population By Five Year Age Group","Demography","Population Structure","Population & Household Estimates (PHE)","All Usual Residents","PP04_Persons_0_4","Persons 0 ‒ 4",null,4,"NONE","Quick Stats Number"]
[null,"PP04","Usual Resident Population By Five Year Age Group","Demography","Population Structure","Population & Household Estimates (PHE)","All Usual Residents","PP04_Persons_5_9","Persons 5 ‒ 9",null,5,"NONE","Quick Stats Number"]
[null,"PP04","Usual Resident Population By Five Year Age Group","Demography","Population Structure","Population & Household Estimates (PHE)","All Usual Residents","PP04_Persons_10_14","Persons 10 ‒ 14",null,6,"NONE","Quick Stats Number"]
[null,"PP04","Usual Resident Population By Five Year Age Group","Demography","Population Structure","Population & Household Estimates (PHE)","All Usual Residents","PP04_Persons_15_19","Persons 15 ‒ 19",null,7,"NONE","Quick Stats Number"]
[null,"PP04","Usual Resident Population By Five Year Age Group","Demography","Population Structure","Population & Household Estimates (PHE)","All Usual Residents","PP04_Persons_20_24","Persons 20 ‒ 24",null,8,"NONE","Quick Stats Number"]
[null,"PP04","Usual Resident Population By Five Year Age Group","Demography","Population Structure","Population & Household Estimates (PHE)","All Usual Residents","PP04_Persons_25_29","Persons 25 ‒ 29",null,9,"NONE","Quick Stats Number"]
[null,"PP04","Usual Resident Population By Five Year Age Group","Demography","Population Structure","Population & Household Estimates (PHE)","All Usual Residents","PP04_Persons_30_34","Persons 30 ‒ 34",null,10,"NONE","Quick Stats Number"]
[null,"PP04","Usual Resident Population By Five Year Age Group","Demography","Population Structure","Population & Household Estimates (PHE)","All Usual Residents","PP04_Persons_35_39","Persons 35 ‒ 39",null,11,"NONE","Quick Stats Number"]
[null,"PP04","Usual Resident Population By Five Year Age Group","Demography","Population Structure","Population & Household Estimates (PHE)","All Usual Residents","PP04_Persons_40_44","Persons 40 ‒ 44",null,12,"NONE","Quick Stats Number"]
[null,"PP04","Usual Resident Population By Five Year Age Group","Demography","Population Structure","Population & Household Estimates (PHE)","All Usual Residents","PP04_Persons_45_49","Persons 45 ‒ 49",null,13,"NONE","Quick Stats Number"]
[null,"PP04","Usual Resident Population By Five Year Age Group","Demography","Population Structure","Population & Household Estimates (PHE)","All Usual Residents","PP04_Persons_50_54","Persons 50 ‒ 54",null,14,"NONE","Quick Stats Number"]
[null,"PP04","Usual Resident Population By Five Year Age Group","Demography","Population Structure","Population & Household Estimates (PHE)","All Usual Residents","PP04_Persons_55_59","Persons 55 ‒ 59",null,15,"NONE","Quick Stats Number"]
[null,"PP04","Usual Resident Population By Five Year Age Group","Demography","Population Structure","Population & Household Estimates (PHE)","All Usual Residents","PP04_Persons_60_64","Persons 60 ‒ 64",null,16,"NONE","Quick Stats Number"]
[null,"PP04","Usual Resident Population By Five Year Age Group","Demography","Population Structure","Population & Household Estimates (PHE)","All Usual Residents","PP04_Persons_65_69","Persons 65 ‒ 69",null,17,"NONE","Quick Stats Number"]
[null,"PP04","Usual Resident Population By Five Year Age Group","Demography","Population Structure","Population & Household Estimates (PHE)","All Usual Residents","PP04_Persons_70_74","Persons 70 ‒ 74",null,18,"NONE","Quick Stats Number"]
[null,"PP04","Usual Resident Population By Five Year Age Group","Demography","Population Structure","Population & Household Estimates (PHE)","All Usual Residents","PP04_Persons_75_79","Persons 75 ‒ 79",null,19,"NONE","Quick Stats Number"]
[null,"PP04","Usual Resident Population By Five Year Age Group","Demography","Population Structure","Population & Household Estimates (PHE)","All Usual Residents","PP04_Persons_80_84","Persons 80 ‒ 84",null,20,"NONE","Quick Stats Number"]
[null,"PP04","Usual Resident Population By Five Year Age Group","Demography","Population Structure","Population & Household Estimates (PHE)","All Usual Residents","PP04_Persons_85_89","Persons 85 ‒ 89",null,21,"NONE","Quick Stats Number"]
[null,"PP04","Usual Resident Population By Five Year Age Group","Demography","Population Structure","Population & Household Estimates (PHE)","All Usual Residents","PP04_Persons_90Over","Persons 90 and over",null,22,"NONE","Quick Stats Number"]
["UV004","QS103EW","Age By Single Year","Demography","Population Structure","Quick Statistics (QS)","All Usual Residents","QS103_Persons_10","Persons 10",null,23,"NONE","Quick Stats Number"]
["UV004","QS103EW","Age By Single Year","Demography","Population Structure","Quick Statistics (QS)","All Usual Residents","QS103_Persons_11","Persons 11",null,24,"NONE","Quick Stats Number"]
["UV004","QS103EW","Age By Single Year","Demography","Population Structure","Quick Statistics (QS)","All Usual Residents","QS103_Persons_12","Persons 12",null,25,"NONE","Quick Stats Number"]
["UV004","QS103EW","Age By Single Year","Demography","Population Structure","Quick Statistics (QS)","All Usual Residents","QS103_Persons_13_14","Persons 13 ‒ 14",null,26,"NONE","Quick Stats Number"]
[null,"PP05","Usual Resident Population By Five Year Age Group","Demography","Population Structure","Population & Household Estimates (PHE)","All Usual Residents","PP05_Males_All_Ages","Males All Ages ",null,27,"NONE","Quick Stats Number"]
[null,"PP05","Usual Resident Population By Five Year Age Group","Demography","Population Structure","Population & Household Estimates (PHE)","All Usual Residents","PP05_Males_0_4","Males 0 ‒ 4",null,28,"NONE","Quick Stats Number"]
[null,"PP05","Usual Resident Population By Five Year Age Group","Demography","Population Structure","Population & Household Estimates (PHE)","All Usual Residents","PP05_Males_5_9","Males 5 ‒ 9",null,29,"NONE","Quick Stats Number"]
[null,"PP05","Usual Resident Population By Five Year Age Group","Demography","Population Structure","Population & Household Estimates (PHE)","All Usual Residents","PP05_Males_10_14","Males 10 ‒ 14",null,30,"NONE","Quick Stats Number"]
[null,"PP05","Usual Resident Population By Five Year Age Group","Demography","Population Structure","Population & Household Estimates (PHE)","All Usual Residents","PP05_Males_15_19","Males 15 ‒ 19",null,31,"NONE","Quick Stats Number"]
[null,"PP05","Usual Resident Population By Five Year Age Group","Demography","Population Structure","Population & Household Estimates (PHE)","All Usual Residents","PP05_Males_20_24","Males 20 ‒ 24",null,32,"NONE","Quick Stats Number"]
[null,"PP05","Usual Resident Population By Five Year Age Group","Demography","Population Structure","Population & Household Estimates (PHE)","All Usual Residents","PP05_Males_25_29","Males 25 ‒ 29",null,33,"NONE","Quick Stats Number"]
[null,"PP05","Usual Resident Population By Five Year Age Group","Demography","Population Structure","Population & Household Estimates (PHE)","All Usual Residents","PP05_Males_30_34","Males 30 ‒ 34",null,34,"NONE","Quick Stats Number"]
[null,"PP05","Usual Resident Population By Five Year Age Group","Demography","Population Structure","Population & Household Estimates (PHE)","All Usual Residents","PP05_Males_35_39","Males 35 ‒ 39",null,35,"NONE","Quick Stats Number"]
[null,"PP05","Usual Resident Population By Five Year Age Group","Demography","Population Structure","Population & Household Estimates (PHE)","All Usual Residents","PP05_Males_40_44","Males 40 ‒ 44",null,36,"NONE","Quick Stats Number"]
[null,"PP05","Usual Resident Population By Five Year Age Group","Demography","Population Structure","Population & Household Estimates (PHE)","All Usual Residents","PP05_Males_45_49","Males 45 ‒ 49",null,37,"NONE","Quick Stats Number"]
[null,"PP05","Usual Resident Population By Five Year Age Group","Demography","Population Structure","Population & Household Estimates (PHE)","All Usual Residents","PP05_Males_50_54","Males 50 ‒ 54",null,38,"NONE","Quick Stats Number"]
[null,"PP05","Usual Resident Population By Five Year Age Group","Demography","Population Structure","Population & Household Estimates (PHE)","All Usual Residents","PP05_Males_55_59","Males 55 ‒ 59",null,39,"NONE","Quick Stats Number"]
[null,"PP05","Usual Resident Population By Five Year Age Group","Demography","Population Structure","Population & Household Estimates (PHE)","All Usual Residents","PP05_Males_60_64","Males 60 ‒ 64",null,40,"NONE","Quick Stats Number"]
[null,"PP05","Usual Resident Population By Five Year Age Group","Demography","Population Structure","Population & Household Estimates (PHE)","All Usual Residents","PP05_Males_65_69","Males 65 ‒ 69",null,41,"NONE","Quick Stats Number"]
[null,"PP05","Usual Resident Population By Five Year Age Group","Demography","Population Structure","Population & Household Estimates (PHE)","All Usual Residents","PP05_Males_70_74","Males 70 ‒ 74",null,42,"NONE","Quick Stats Number"]
[null,"PP05","Usual Resident Population By Five Year Age Group","Demography","Population Structure","Population & Household Estimates (PHE)","All Usual Residents","PP05_Males_75_79","Males 75 ‒ 79",null,43,"NONE","Quick Stats Number"]
[null,"PP05","Usual Resident Population By Five Year Age Group","Demography","Population Structure","Population & Household Estimates (PHE)","All Usual Residents","PP05_Males_80_84","Males 80 ‒ 84",null,44,"NONE","Quick Stats Number"]
[null,"PP05","Usual Resident Population By Five Year Age Group","Demography","Population Structure","Population & Household Estimates (PHE)","All Usual Residents","PP05_Males_85_89","Males 85 ‒ 89",null,45,"NONE","Quick Stats Number"]
[null,"PP05","Usual Resident Population By Five Year Age Group","Demography","Population Structure","Population & Household Estimates (PHE)","All Usual Residents","PP05_Males_90Over","Males 90 and over",null,46,"NONE","Quick Stats Number"]
[null,"LC101","Age By Sex And Resident Type","Demography","Population Structure","Local Characteristics (LC)","All Usual Residents","LC101_Males_10","Males 10",null,47,"UNKNOWN","Quick Stats Number"]
[null,"LC101","Age By Sex And Resident Type","Demography","Population Structure","Local Characteristics (LC)","All Usual Residents","LC101_Males_11","Males 11",null,48,"UNKNOWN","Quick Stats Number"]
[null,"LC101","Age By Sex And Resident Type","Demography","Population Structure","Local Characteristics (LC)","All Usual Residents","LC101_Males_12","Males 12",null,49,"UNKNOWN","Quick Stats Number"]
[null,"LC101","Age By Sex And Resident Type","Demography","Population Structure","Local Characteristics (LC)","All Usual Residents","LC101_Males_13_14","Males 13 ‒ 14",null,50,"UNKNOWN","Quick Stats Number"]
[null,"PP06","Usual Resident Population By Five Year Age Group","Demography","Population Structure","Population & Household Estimates (PHE)","All Usual Residents","PP06_Females_All_Ages","Females All Ages ",null,51,"NONE","Quick Stats Number"]
[null,"PP06","Usual Resident Population By Five Year Age Group","Demography","Population Structure","Population & Household Estimates (PHE)","All Usual Residents","PP06_Females_0_4","Females 0 ‒ 4",null,52,"NONE","Quick Stats Number"]
[null,"PP06","Usual Resident Population By Five Year Age Group","Demography","Population Structure","Population & Household Estimates (PHE)","All Usual Residents","PP06_Females_5_9","Females 5 ‒ 9",null,53,"NONE","Quick Stats Number"]
[null,"PP06","Usual Resident Population By Five Year Age Group","Demography","Population Structure","Population & Household Estimates (PHE)","All Usual Residents","PP06_Females_10_14","Females 10 ‒ 14",null,54,"NONE","Quick Stats Number"]
[null,"PP06","Usual Resident Population By Five Year Age Group","Demography","Population Structure","Population & Household Estimates (PHE)","All Usual Residents","PP06_Females_15_19","Females 15 ‒ 19",null,55,"NONE","Quick Stats Number"]
[null,"PP06","Usual Resident Population By Five Year Age Group","Demography","Population Structure","Population & Household Estimates (PHE)","All Usual Residents","PP06_Females_20_24","Females 20 ‒ 24",null,56,"NONE","Quick Stats Number"]
[null,"PP06","Usual Resident Population By Five Year Age Group","Demography","Population Structure","Population & Household Estimates (PHE)","All Usual Residents","PP06_Females_25_29","Females 25 ‒ 29",null,57,"NONE","Quick Stats Number"]
[null,"PP06","Usual Resident Population By Five Year Age Group","Demography","Population Structure","Population & Household Estimates (PHE)","All Usual Residents","PP06_Females_30_34","Females 30 ‒ 34",null,58,"NONE","Quick Stats Number"]
[null,"PP06","Usual Resident Population By Five Year Age Group","Demography","Population Structure","Population & Household Estimates (PHE)","All Usual Residents","PP06_Females_35_39","Females 35 ‒ 39",null,59,"NONE","Quick Stats Number"]
[null,"PP06","Usual Resident Population By Five Year Age Group","Demography","Population Structure","Population & Household Estimates (PHE)","All Usual Residents","PP06_Females_40_44","Females 40 ‒ 44",null,60,"NONE","Quick Stats Number"]
[null,"PP06","Usual Resident Population By Five Year Age Group","Demography","Population Structure","Population & Household Estimates (PHE)","All Usual Residents","PP06_Females_45_49","Females 45 ‒ 49",null,61,"NONE","Quick Stats Number"]
[null,"PP06","Usual Resident Population By Five Year Age Group","Demography","Population Structure","Population & Household Estimates (PHE)","All Usual Residents","PP06_Females_50_54","Females 50 ‒ 54",null,62,"NONE","Quick Stats Number"]
[null,"PP06","Usual Resident Population By Five Year Age Group","Demography","Population Structure","Population & Household Estimates (PHE)","All Usual Residents","PP06_Females_55_59","Females 55 ‒ 59",null,63,"NONE","Quick Stats Number"]
[null,"PP06","Usual Resident Population By Five Year Age Group","Demography","Population Structure","Population & Household Estimates (PHE)","All Usual Residents","PP06_Females_60_64","Females 60 ‒ 64",null,64,"NONE","Quick Stats Number"]
[null,"PP06","Usual Resident Population By Five Year Age Group","Demography","Population Structure","Population & Household Estimates (PHE)","All Usual Residents","PP06_Females_65_69","Females 65 ‒ 69",null,65,"NONE","Quick Stats Number"]
[null,"PP06","Usual Resident Population By Five Year Age Group","Demography","Population Structure","Population & Household Estimates (PHE)","All Usual Residents","PP06_Females_70_74","Females 70 ‒ 74",null,66,"NONE","Quick Stats Number"]
[null,"PP06","Usual Resident Population By Five Year Age Group","Demography","Population Structure","Population & Household Estimates (PHE)","All Usual Residents","PP06_Females_75_79","Females 75 ‒ 79",null,67,"NONE","Quick Stats Number"]
[null,"PP06","Usual Resident Population By Five Year Age Group","Demography","Population Structure","Population & Household Estimates (PHE)","All Usual Residents","PP06_Females_80_84","Females 80 ‒ 84",null,68,"NONE","Quick Stats Number"]
[null,"PP06","Usual Resident Population By Five Year Age Group","Demography","Population Structure","Population & Household Estimates (PHE)","All Usual Residents","PP06_Females_85_89","Females 85 ‒ 89",null,69,"NONE","Quick Stats Number"]
[null,"PP06","Usual Resident Population By Five Year Age Group","Demography","Population Structure","Population & Household Estimates (PHE)","All Usual Residents","PP06_Females_90Over","Females 90 and over",null,70,"NONE","Quick Stats Number"]
[null,"LC101","Age By Sex And Resident Type","Demography","Population Structure","Local Characteristics (LC)","All Usual Residents","LC101_Females_10","Females 10",null,71,"UNKNOWN","Quick Stats Number"]
[null,"LC101","Age By Sex And Resident Type","Demography","Population Structure","Local Characteristics (LC)","All Usual Residents","LC101_Females_11","Females 11",null,72,"UNKNOWN","Quick Stats Number"]
[null,"LC101","Age By Sex And Resident Type","Demography","Population Structure","Local Characteristics (LC)","All Usual Residents","LC101_Females_12","Females 12",null,73,"UNKNOWN","Quick Stats Number"]
[null,"LC101","Age By Sex And Resident Type","Demography","Population Structure","Local Characteristics (LC)","All Usual Residents","LC101_Females_13_14","Females 13 ‒ 14",null,74,"UNKNOWN","Quick Stats Number"]
["N337 (New)","QS106EW","Second Address","Demography","Unassigned","Quick Statistics (QS)","All Usual Residents","QS106_All_People","All categories: Second address","QS106EW0001",75,"UNKNOWN","Quick Stats Number"]
["N337 (New)","QS106EW","Second Address","Demography","Unassigned","Quick Statistics (QS)","All Usual Residents","QS106_No_Second_Address","No second address","QS106EW0002",76,"UNKNOWN","Quick Stats Number"]
["N337 (New)","QS106EW","Second Address","Demography","Unassigned","Quick Statistics (QS)","All Usual Residents","QS106_Second_Address_In_UK","Second address within the UK","QS106EW0003",77,"UNKNOWN","Quick Stats Number"]
["N337 (New)","QS106EW","Second Address","Demography","Unassigned","Quick Statistics (QS)","All Usual Residents","QS106_Second_Address_Out_UK","Second address outside the UK","QS106EW0004",78,"UNKNOWN","Quick Stats Number"]
["UV068","QS116EW","Household Type","Demography","Unassigned","Quick Statistics (QS)","All Households","QS116_All_HH","All categories: Household type","QS116EW0001",79,"UNKNOWN","Quick Stats Number"]
["UV068","QS116EW","Household Type","Demography","Unassigned","Quick Statistics (QS)","All Households","QS116_One_Person_HH","One person household","QS116EW0002",80,"UNKNOWN","Quick Stats Number"]
["UV068","QS116EW","Household Type","Demography","Unassigned","Quick Statistics (QS)","All Households","QS116_Married_HH_Dep_Child","Married couple household: With dependent children","QS116EW0003",81,"UNKNOWN","Quick Stats Number"]
["UV068","QS116EW","Household Type","Demography","Unassigned","Quick Statistics (QS)","All Households","QS116_Married_HH_No_Dep_Child","Married couple household: No dependent children","QS116EW0004",82,"UNKNOWN","Quick Stats Number"]
["UV068","QS116EW","Household Type","Demography","Unassigned","Quick Statistics (QS)","All Households","QS116_CivilPar_HH_Dep_Child","Same-sex civil partnership couple household: With dependent children","QS116EW0005",83,"UNKNOWN","Quick Stats Number"]
["UV068","QS116EW","Household Type","Demography","Unassigned","Quick Statistics (QS)","All Households","QS116_CivilPar_HH_No_Dep_Child","Same-sex civil partnership couple household: No dependent children","QS116EW0006",84,"UNKNOWN","Quick Stats Number"]
["UV068","QS116EW","Household Type","Demography","Unassigned","Quick Statistics (QS)","All Households","QS116_Cohabit_HH_Dep_Child","Cohabiting couple household: With dependent children","QS116EW0007",85,"UNKNOWN","Quick Stats Number"]
["UV068","QS116EW","Household Type","Demography","Unassigned","Quick Statistics (QS)","All Households","QS116_Cohabit_HH_No_Dep_Child","Cohabiting couple household: No dependent children","QS116EW0008",86,"UNKNOWN","Quick Stats Number"]
["UV068","QS116EW","Household Type","Demography","Unassigned","Quick Statistics (QS)","All Households","QS116_LonePar_HH_Dep_Child","Lone parent household: With dependent children","QS116EW0009",87,"UNKNOWN","Quick Stats Number"]
["UV068","QS116EW","Household Type","Demography","Unassigned","Quick Statistics (QS)","All Households","QS116_LonePar_HH_No_Dep_Child","Lone parent household: No dependent children","QS116EW0010",88,"UNKNOWN","Quick Stats Number"]
["UV068","QS116EW","Household Type","Demography","Unassigned","Quick Statistics (QS)","All Households","QS116_MultiPer_HH_AllFTStudent","Multi-person household: All full-time students","QS116EW0011",89,"UNKNOWN","Quick Stats Number"]
["UV068","QS116EW","Household Type","Demography","Unassigned","Quick Statistics (QS)","All Households","QS116_MultiPer_HH_Other","Multi-person household: Other","QS116EW0012",90,"UNKNOWN","Quick Stats Number"]
["UV006","QS118EW","Families With Dependent Children","Demography","Unassigned","Quick Statistics (QS)","All Families In Households; All Dependent Children In Households","QS118_Family_In_HH_Dep_Child","All categories: Dependent children in family","QS118EW0001",91,"UNKNOWN","Quick Stats Number"]
["UV006","QS118EW","Families With Dependent Children","Demography","Unassigned","Quick Statistics (QS)","All Families In Households; All Dependent Children In Households","QS118_No_Dep_Child","No dependent children in family","QS118EW0002",92,"UNKNOWN","Quick Stats Number"]
["UV006","QS118EW","Families With Dependent Children","Demography","Unassigned","Quick Statistics (QS)","All Families In Households; All Dependent Children In Households","QS118_1_Dep_Child_0to4","One dependent child in family aged 0 to 4","QS118EW0003",93,"UNKNOWN","Quick Stats Number"]
["UV006","QS118EW","Families With Dependent Children","Demography","Unassigned","Quick Statistics (QS)","All Families In Households; All Dependent Children In Households","QS118_1_Dep_Child_5to11","One dependent child in family aged 5 to 11","QS118EW0004",94,"UNKNOWN","Quick Stats Number"]
["UV006","QS118EW","Families With Dependent Children","Demography","Unassigned","Quick Statistics (QS)","All Families In Households; All Dependent Children In Households","QS118_1_Dep_Child_12to18","One dependent child in family aged 12 to 18","QS118EW0005",95,"UNKNOWN","Quick Stats Number"]
["UV006","QS118EW","Families With Dependent Children","Demography","Unassigned","Quick Statistics (QS)","All Families In Households; All Dependent Children In Households","QS118_2_Dep_Child_Young0to4","Two dependent children in family; youngest aged 0 to 4","QS118EW0006",96,"UNKNOWN","Quick Stats Number"]
["UV006","QS118EW","Families With Dependent Children","Demography","Unassigned","Quick Statistics (QS)","All Families In Households; All Dependent Children In Households","QS118_2_Dep_Child_Young5to11","Two dependent children in family; youngest aged 5 to 11","QS118EW0007",97,"UNKNOWN","Quick Stats Number"]
["UV006","QS118EW","Families With Dependent Children","Demography","Unassigned","Quick Statistics (QS)","All Families In Households; All Dependent Children In Households","QS118_2_Dep_Child_Young12to18","Two dependent children in family; youngest aged 12 to 18","QS118EW0008",98,"UNKNOWN","Quick Stats Number"]
["UV006","QS118EW","Families With Dependent Children","Demography","Unassigned","Quick Statistics (QS)","All Families In Households; All Dependent Children In Households","QS118_3More_Dep_Chi_Youn0to4","Three or more dependent children in family; youngest aged 0 to 4","QS118EW0009",99,"UNKNOWN","Quick Stats Number"]
["UV006","QS118EW","Families With Dependent Children","Demography","Unassigned","Quick Statistics (QS)","All Families In Households; All Dependent Children In Households","QS118_3More_Dep_Chi_Youn5to11","Three or more dependent children in family; youngest aged 5 to 11","QS118EW0010",100,"UNKNOWN","Quick Stats Number"]
["UV006","QS118EW","Families With Dependent Children","Demography","Unassigned","Quick Statistics (QS)","All Families In Households; All Dependent Children In Households","QS118_3More_Dep_Chi_Youn12to18","Three or more dependent children in family; youngest aged 12 to 18","QS118EW0011",101,"UNKNOWN","Quick Stats Number"]
["UV006","QS118EW","Families With Dependent Children","Demography","Unassigned","Quick Statistics (QS)","All Families In Households; All Dependent Children In Households","QS118_Total_Dep_Children","Total dependent children","QS118EW0012",102,"UNKNOWN","Quick Stats Number"]
["TLANG001 (New)","QS205EW","Proficiency In English","Ethnicity, Identity, Language And Religion","Qualifications & Languages","Quick Statistics (QS)","All Usual Residents Aged 3 And Over","QS205_All_People_3Over","All categories: Proficiency in English","QS205EW0001",103,"UNKNOWN","Quick Stats Number"]
["TLANG001 (New)","QS205EW","Proficiency In English","Ethnicity, Identity, Language And Religion","Qualifications & Languages","Quick Statistics (QS)","All Usual Residents Aged 3 And Over","QS205_Main_Language_English","Main language is English (English or Welsh in Wales)","QS205EW0002",104,"UNKNOWN","Quick Stats Number"]
["TLANG001 (New)","QS205EW","Proficiency In English","Ethnicity, Identity, Language And Religion","Qualifications & Languages","Quick Statistics (QS)","All Usual Residents Aged 3 And Over","QS205_Can_Speak_Eng_Vwell","Main language is not English (English or Welsh in Wales): Can speak English very well","QS205EW0003",105,"UNKNOWN","Quick Stats Number"]
["TLANG001 (New)","QS205EW","Proficiency In English","Ethnicity, Identity, Language And Religion","Qualifications & Languages","Quick Statistics (QS)","All Usual Residents Aged 3 And Over","QS205_Can_Speak_Eng_Well","Main language is not English (English or Welsh in Wales): Can speak English well","QS205EW0004",106,"UNKNOWN","Quick Stats Number"]
["TLANG001 (New)","QS205EW","Proficiency In English","Ethnicity, Identity, Language And Religion","Qualifications & Languages","Quick Statistics (QS)","All Usual Residents Aged 3 And Over","QS205_Cannot_Speak_Eng_Well","Main language is not English (English or Welsh in Wales): Cannot speak English well","QS205EW0005",107,"UNKNOWN","Quick Stats Number"]
["TLANG001 (New)","QS205EW","Proficiency In English","Ethnicity, Identity, Language And Religion","Qualifications & Languages","Quick Statistics (QS)","All Usual Residents Aged 3 And Over","QS205_Cannot_Speak_Eng","Main language is not English (English or Welsh in Wales): Cannot speak English","QS205EW0006",108,"UNKNOWN","Quick Stats Number"]
["UV042","QS401EW","Accommodation Type, People","Housing And Accommodation","Unassigned","Quick Statistics (QS)","All Usual Residents In Households","QS401_All_People_In_HH","All categories: Accommodation type","QS401EW0001",109,"UNKNOWN","Quick Stats Number"]
["UV042","QS401EW","Accommodation Type, People","Housing And Accommodation","Unassigned","Quick Statistics (QS)","All Usual Residents In Households","QS401_All_In_Unshared_Dwelling","Unshared dwelling: Total","QS401EW0002",110,"UNKNOWN","Quick Stats Number"]
["UV042","QS401EW","Accommodation Type, People","Housing And Accommodation","Unassigned","Quick Statistics (QS)","All Usual Residents In Households","QS401_House_Total","Unshared dwelling: Whole house or bungalow: Total","QS401EW0003",111,"UNKNOWN","Quick Stats Number"]
["UV042","QS401EW","Accommodation Type, People","Housing And Accommodation","Unassigned","Quick Statistics (QS)","All Usual Residents In Households","QS401_Detached","Unshared dwelling: Whole house or bungalow: Detached","QS401EW0004",112,"UNKNOWN","Quick Stats Number"]
["UV042","QS401EW","Accommodation Type, People","Housing And Accommodation","Unassigned","Quick Statistics (QS)","All Usual Residents In Households","QS401_SemiDetached","Unshared dwelling: Whole house or bungalow: Semi-detached","QS401EW0005",113,"UNKNOWN","Quick Stats Number"]
["UV042","QS401EW","Accommodation Type, People","Housing And Accommodation","Unassigned","Quick Statistics (QS)","All Usual Residents In Households","QS401_Terraced","Unshared dwelling: Whole house or bungalow: Terraced (including end-terrace)","QS401EW0006",114,"UNKNOWN","Quick Stats Number"]
["UV042","QS401EW","Accommodation Type, People","Housing And Accommodation","Unassigned","Quick Statistics (QS)","All Usual Residents In Households","QS401_Flat_Total","Unshared dwelling: Flat, maisonette or apartment: Total","QS401EW0007",115,"UNKNOWN","Quick Stats Number"]
["UV042","QS401EW","Accommodation Type, People","Housing And Accommodation","Unassigned","Quick Statistics (QS)","All Usual Residents In Households","QS401_Flat_Purpose_Built","Unshared dwelling: Flat, maisonette or apartment: Purpose-built block of flats or tenement","QS401EW0008",116,"UNKNOWN","Quick Stats Number"]
["UV042","QS401EW","Accommodation Type, People","Housing And Accommodation","Unassigned","Quick Statistics (QS)","All Usual Residents In Households","QS401_Flat_Shared_House","Unshared dwelling: Flat, maisonette or apartment: Part of a converted or shared house (including bed-sits)","QS401EW0009",117,"UNKNOWN","Quick Stats Number"]
["UV042","QS401EW","Accommodation Type, People","Housing And Accommodation","Unassigned","Quick Statistics (QS)","All Usual Residents In Households","QS401_Flat_Commercial_Building","Unshared dwelling: Flat, maisonette or apartment: In commercial building","QS401EW0010",118,"UNKNOWN","Quick Stats Number"]
["UV042","QS401EW","Accommodation Type, People","Housing And Accommodation","Unassigned","Quick Statistics (QS)","All Usual Residents In Households","QS401_Caravan_Mobile","Unshared dwelling: Caravan or other mobile or temporary structure","QS401EW0011",119,"UNKNOWN","Quick Stats Number"]
["UV042","QS401EW","Accommodation Type, People","Housing And Accommodation","Unassigned","Quick Statistics (QS)","All Usual Residents In Households","QS401_All_In_Shared_Dwelling","Shared dwelling","QS401EW0012",120,"UNKNOWN","Quick Stats Number"]
["UV043","QS403EW","Tenure, People","Housing And Accommodation","Unassigned","Quick Statistics (QS)","All Usual Residents In Households","QS403_All_People_In_HH","All categories: Tenure","QS403EW0001",121,"UNKNOWN","Quick Stats Number"]
["UV043","QS403EW","Tenure, People","Housing And Accommodation","Unassigned","Quick Statistics (QS)","All Usual Residents In Households","QS403_Owned_Total","Owned: Total","QS403EW0002",122,"UNKNOWN","Quick Stats Number"]
["UV043","QS403EW","Tenure, People","Housing And Accommodation","Unassigned","Quick Statistics (QS)","All Usual Residents In Households","QS403_Owned_Outright","Owned: Owned outright","QS403EW0003",123,"UNKNOWN","Quick Stats Number"]
["UV043","QS403EW","Tenure, People","Housing And Accommodation","Unassigned","Quick Statistics (QS)","All Usual Residents In Households","QS403_Owned_Mortgage_Loan","Owned: Owned with a mortgage or loan","QS403EW0004",124,"UNKNOWN","Quick Stats Number"]
["UV043","QS403EW","Tenure, People","Housing And Accommodation","Unassigned","Quick Statistics (QS)","All Usual Residents In Households","QS403_Shared_PartOwn_PartRent","Shared ownership (part owned and part rented)","QS403EW0005",125,"UNKNOWN","Quick Stats Number"]
["UV043","QS403EW","Tenure, People","Housing And Accommodation","Unassigned","Quick Statistics (QS)","All Usual Residents In Households","QS403_Social_Rent_Total","Social rented: Total","QS403EW0006",126,"UNKNOWN","Quick Stats Number"]
["UV043","QS403EW","Tenure, People","Housing And Accommodation","Unassigned","Quick Statistics (QS)","All Usual Residents In Households","QS403_Social_Rent_LA","Social rented: Rented from council (Local Authority)","QS403EW0007",127,"UNKNOWN","Quick Stats Number"]
["UV043","QS403EW","Tenure, People","Housing And Accommodation","Unassigned","Quick Statistics (QS)","All Usual Residents In Households","QS403_Social_Rent_Other","Social rented: Other social rented","QS403EW0008",128,"UNKNOWN","Quick Stats Number"]
["UV043","QS403EW","Tenure, People","Housing And Accommodation","Unassigned","Quick Statistics (QS)","All Usual Residents In Households","QS403_Private_Rent_Total","Private rented: Total","QS403EW0009",129,"UNKNOWN","Quick Stats Number"]
["UV043","QS403EW","Tenure, People","Housing And Accommodation","Unassigned","Quick Statistics (QS)","All Usual Residents In Households","QS403_Private_Rent_Landlrd_Let","Private rented: Private landlord or letting agency","QS403EW0010",130,"UNKNOWN","Quick Stats Number"]
["UV043","QS403EW","Tenure, People","Housing And Accommodation","Unassigned","Quick Statistics (QS)","All Usual Residents In Households","QS403_Private_Rent_Employer","Private rented: Employer of a household member","QS403EW0011",131,"UNKNOWN","Quick Stats Number"]
["UV043","QS403EW","Tenure, People","Housing And Accommodation","Unassigned","Quick Statistics (QS)","All Usual Residents In Households","QS403_Private_Rent_Rela_Friend","Private rented: Relative or friend of household member","QS403EW0012",132,"UNKNOWN","Quick Stats Number"]
["UV043","QS403EW","Tenure, People","Housing And Accommodation","Unassigned","Quick Statistics (QS)","All Usual Residents In Households","QS403_Private_Rent_Other","Private rented: Other","QS403EW0013",133,"UNKNOWN","Quick Stats Number"]
["UV043","QS403EW","Tenure, People","Housing And Accommodation","Unassigned","Quick Statistics (QS)","All Usual Residents In Households","QS403_Living_Rent_Free","Living rent free","QS403EW0014",134,"UNKNOWN","Quick Stats Number"]
["UV051","QS406EW","Household Size","Housing And Accommodation","Accommodation & Households","Quick Statistics (QS)","All Household Spaces With At Least One Usual Resident","QS406_All_HH_Space_With_Res","All categories: Household size","QS406EW0001",135,"UNKNOWN","Quick Stats Number"]
["UV051","QS406EW","Household Size","Housing And Accommodation","Accommodation & Households","Quick Statistics (QS)","All Household Spaces With At Least One Usual Resident","QS406_1_Person_In_HH","1 person in household","QS406EW0002",136,"UNKNOWN","Quick Stats Number"]
["UV051","QS406EW","Household Size","Housing And Accommodation","Accommodation & Households","Quick Statistics (QS)","All Household Spaces With At Least One Usual Resident","QS406_2_People_In_HH","2 people in household","QS406EW0003",137,"UNKNOWN","Quick Stats Number"]
["UV051","QS406EW","Household Size","Housing And Accommodation","Accommodation & Households","Quick Statistics (QS)","All Household Spaces With At Least One Usual Resident","QS406_3_People_In_HH","3 people in household","QS406EW0004",138,"UNKNOWN","Quick Stats Number"]
["UV051","QS406EW","Household Size","Housing And Accommodation","Accommodation & Households","Quick Statistics (QS)","All Household Spaces With At Least One Usual Resident","QS406_4_People_In_HH","4 people in household","QS406EW0005",139,"UNKNOWN","Quick Stats Number"]
["UV051","QS406EW","Household Size","Housing And Accommodation","Accommodation & Households","Quick Statistics (QS)","All Household Spaces With At Least One Usual Resident","QS406_5_People_In_HH","5 people in household","QS406EW0006",140,"UNKNOWN","Quick Stats Number"]
["UV051","QS406EW","Household Size","Housing And Accommodation","Accommodation & Households","Quick Statistics (QS)","All Household Spaces With At Least One Usual Resident","QS406_6_People_In_HH","6 people in household","QS406EW0007",141,"UNKNOWN","Quick Stats Number"]
["UV051","QS406EW","Household Size","Housing And Accommodation","Accommodation & Households","Quick Statistics (QS)","All Household Spaces With At Least One Usual Resident","QS406_7_People_In_HH","7 people in household","QS406EW0008",142,"UNKNOWN","Quick Stats Number"]
["UV051","QS406EW","Household Size","Housing And Accommodation","Accommodation & Households","Quick Statistics (QS)","All Household Spaces With At Least One Usual Resident","QS406_8Over_People_In_HH","8 or more people in household","QS406EW0009",143,"UNKNOWN","Quick Stats Number"]
["UV057","QS407EW","Number Of Rooms","Housing And Accommodation","Accommodation & Households","Quick Statistics (QS)","All Household Spaces With At Least One Usual Resident","QS407_All_HH_Space_With_Res","All categories: Number of rooms","QS407EW0001",144,"UNKNOWN","Quick Stats Number"]
["UV057","QS407EW","Number Of Rooms","Housing And Accommodation","Accommodation & Households","Quick Statistics (QS)","All Household Spaces With At Least One Usual Resident","QS407_1_Room","1 room","QS407EW0002",145,"UNKNOWN","Quick Stats Number"]
["UV057","QS407EW","Number Of Rooms","Housing And Accommodation","Accommodation & Households","Quick Statistics (QS)","All Household Spaces With At Least One Usual Resident","QS407_2_Rooms","2 rooms","QS407EW0003",146,"UNKNOWN","Quick Stats Number"]
["UV057","QS407EW","Number Of Rooms","Housing And Accommodation","Accommodation & Households","Quick Statistics (QS)","All Household Spaces With At Least One Usual Resident","QS407_3_Rooms","3 rooms","QS407EW0004",147,"UNKNOWN","Quick Stats Number"]
["UV057","QS407EW","Number Of Rooms","Housing And Accommodation","Accommodation & Households","Quick Statistics (QS)","All Household Spaces With At Least One Usual Resident","QS407_4_Rooms","4 rooms","QS407EW0005",148,"UNKNOWN","Quick Stats Number"]
["UV057","QS407EW","Number Of Rooms","Housing And Accommodation","Accommodation & Households","Quick Statistics (QS)","All Household Spaces With At Least One Usual Resident","QS407_5_Rooms","5 rooms","QS407EW0006",149,"UNKNOWN","Quick Stats Number"]
["UV057","QS407EW","Number Of Rooms","Housing And Accommodation","Accommodation & Households","Quick Statistics (QS)","All Household Spaces With At Least One Usual Resident","QS407_6_Rooms","6 rooms","QS407EW0007",150,"UNKNOWN","Quick Stats Number"]
["UV057","QS407EW","Number Of Rooms","Housing And Accommodation","Accommodation & Households","Quick Statistics (QS)","All Household Spaces With At Least One Usual Resident","QS407_7_Rooms","7 rooms","QS407EW0008",151,"UNKNOWN","Quick Stats Number"]
["UV057","QS407EW","Number Of Rooms","Housing And Accommodation","Accommodation & Households","Quick Statistics (QS)","All Household Spaces With At Least One Usual Resident","QS407_8_Rooms","8 rooms","QS407EW0009",152,"UNKNOWN","Quick Stats Number"]
["UV057","QS407EW","Number Of Rooms","Housing And Accommodation","Accommodation & Households","Quick Statistics (QS)","All Household Spaces With At Least One Usual Resident","QS407_9_Or_More_Rooms","9 or more rooms","QS407EW0010",153,"UNKNOWN","Quick Stats Number"]
["UV059","QS408EW","Occupancy Ratig (Rooms)","Housing And Accommodation","Unassigned","Quick Statistics (QS)","All Households","QS408_All_HH","All categories: Occupancy rating (rooms) ","QS408EW0001",154,"UNKNOWN","Quick Stats Number"]
["UV059","QS408EW","Occupancy Ratig (Rooms)","Housing And Accommodation","Unassigned","Quick Statistics (QS)","All Households","QS408_OccRat_Room_Plus2_More","Occupancy rating (rooms) of +2 or more","QS408EW0002",155,"UNKNOWN","Quick Stats Number"]
["UV059","QS408EW","Occupancy Ratig (Rooms)","Housing And Accommodation","Unassigned","Quick Statistics (QS)","All Households","QS408_OccRat_Room_Plus1","Occupancy rating (rooms) of +1","QS408EW0003",156,"UNKNOWN","Quick Stats Number"]
["UV059","QS408EW","Occupancy Ratig (Rooms)","Housing And Accommodation","Unassigned","Quick Statistics (QS)","All Households","QS408_OccRat_Room_0","Occupancy rating (rooms) of 0","QS408EW0004",157,"UNKNOWN","Quick Stats Number"]
["UV059","QS408EW","Occupancy Ratig (Rooms)","Housing And Accommodation","Unassigned","Quick Statistics (QS)","All Households","QS408_OccRat_Room_Minus1","Occupancy rating (rooms) of -1","QS408EW0005",158,"UNKNOWN","Quick Stats Number"]
["UV059","QS408EW","Occupancy Ratig (Rooms)","Housing And Accommodation","Unassigned","Quick Statistics (QS)","All Households","QS408_OccRat_Room_Minus2_Less","Occupancy rating (rooms) of -2 or less","QS408EW0006",159,"UNKNOWN","Quick Stats Number"]
["N195 (New)","QS411EW","Number Of Bedrooms","Housing And Accommodation","Unassigned","Quick Statistics (QS)","All Household Spaces With At Least One Usual Resident","QS411_All_HH_Space_With_Res","All categories: Number of bedrooms","QS411EW0001",160,"UNKNOWN","Quick Stats Number"]
["N195 (New)","QS411EW","Number Of Bedrooms","Housing And Accommodation","Unassigned","Quick Statistics (QS)","All Household Spaces With At Least One Usual Resident","QS411_0_Bedroom","No bedrooms","QS411EW0002",161,"UNKNOWN","Quick Stats Number"]
["N195 (New)","QS411EW","Number Of Bedrooms","Housing And Accommodation","Unassigned","Quick Statistics (QS)","All Household Spaces With At Least One Usual Resident","QS411_1_Bedroom","1 bedroom","QS411EW0003",162,"UNKNOWN","Quick Stats Number"]
["N195 (New)","QS411EW","Number Of Bedrooms","Housing And Accommodation","Unassigned","Quick Statistics (QS)","All Household Spaces With At Least One Usual Resident","QS411_2_Bedrooms","2 bedrooms","QS411EW0004",163,"UNKNOWN","Quick Stats Number"]
["N195 (New)","QS411EW","Number Of Bedrooms","Housing And Accommodation","Unassigned","Quick Statistics (QS)","All Household Spaces With At Least One Usual Resident","QS411_3_Bedrooms","3 bedrooms","QS411EW0005",164,"UNKNOWN","Quick Stats Number"]
["N195 (New)","QS411EW","Number Of Bedrooms","Housing And Accommodation","Unassigned","Quick Statistics (QS)","All Household Spaces With At Least One Usual Resident","QS411_4_Bedrooms","4 bedrooms","QS411EW0006",165,"UNKNOWN","Quick Stats Number"]
["N195 (New)","QS411EW","Number Of Bedrooms","Housing And Accommodation","Unassigned","Quick Statistics (QS)","All Household Spaces With At Least One Usual Resident","QS411_5_Bedrooms","5 or more bedrooms","QS411EW0007",166,"UNKNOWN","Quick Stats Number"]
["N304 (New)","QS412EW","Occupancy Ratig (Bedrooms)","Housing And Accommodation","Unassigned","Quick Statistics (QS)","All Households","QS412_All_HH","All categories: Occupancy rating bedrooms","QS412EW0001",167,"UNKNOWN","Quick Stats Number"]
["N304 (New)","QS412EW","Occupancy Ratig (Bedrooms)","Housing And Accommodation","Unassigned","Quick Statistics (QS)","All Households","QS412_OccRat_Bedroom_Plus2_Mor","Occupancy rating (bedrooms) of +2 or more","QS412EW0002",168,"UNKNOWN","Quick Stats Number"]
["N304 (New)","QS412EW","Occupancy Ratig (Bedrooms)","Housing And Accommodation","Unassigned","Quick Statistics (QS)","All Households","QS412_OccRat_Bedroom_Plus1","Occupancy rating (bedrooms) of +1","QS412EW0003",169,"UNKNOWN","Quick Stats Number"]
["N304 (New)","QS412EW","Occupancy Ratig (Bedrooms)","Housing And Accommodation","Unassigned","Quick Statistics (QS)","All Households","QS412_OccRat_Bedroom_0","Occupancy rating (bedrooms) of 0","QS412EW0004",170,"UNKNOWN","Quick Stats Number"]
["N304 (New)","QS412EW","Occupancy Ratig (Bedrooms)","Housing And Accommodation","Unassigned","Quick Statistics (QS)","All Households","QS412_OccRat_Bedroom_Minus1","Occupancy rating (bedrooms) of -1","QS412EW0005",171,"UNKNOWN","Quick Stats Number"]
["N304 (New)","QS412EW","Occupancy Ratig (Bedrooms)","Housing And Accommodation","Unassigned","Quick Statistics (QS)","All Households","QS412_OccRat_Bedroom_Minus2_Le","Occupancy rating (bedrooms) of -2 or less","QS412EW0006",172,"UNKNOWN","Quick Stats Number"]
["UV060","QS415EW","Central Heating","Housing And Accommodation","Accommodation & Households","Quick Statistics (QS)","All Household Spaces With At Least One Usual Resident","QS415_All_HH_Space_With_Res","All categories: Type of central heating in household","QS415EW0001",173,"UNKNOWN","Quick Stats Number"]
["UV060","QS415EW","Central Heating","Housing And Accommodation","Accommodation & Households","Quick Statistics (QS)","All Household Spaces With At Least One Usual Resident","QS415_No_Central_Heating","No central heating ","QS415EW0002",174,"UNKNOWN","Quick Stats Number"]
["UV060","QS415EW","Central Heating","Housing And Accommodation","Accommodation & Households","Quick Statistics (QS)","All Household Spaces With At Least One Usual Resident","QS415_Gas_Central_Heating","Gas central heating","QS415EW0003",175,"UNKNOWN","Quick Stats Number"]
["UV060","QS415EW","Central Heating","Housing And Accommodation","Accommodation & Households","Quick Statistics (QS)","All Household Spaces With At Least One Usual Resident","QS415_Electric_Central_Heating","Electric (including storage heaters) central heating","QS415EW0004",176,"UNKNOWN","Quick Stats Number"]
["UV060","QS415EW","Central Heating","Housing And Accommodation","Accommodation & Households","Quick Statistics (QS)","All Household Spaces With At Least One Usual Resident","QS415_Oil_Central_Heating","Oil central heating","QS415EW0005",177,"UNKNOWN","Quick Stats Number"]
["UV060","QS415EW","Central Heating","Housing And Accommodation","Accommodation & Households","Quick Statistics (QS)","All Household Spaces With At Least One Usual Resident","QS415_Solid_Fuel_Central_Heat","Solid fuel (for example wood, coal) central heating","QS415EW0006",178,"UNKNOWN","Quick Stats Number"]
["UV060","QS415EW","Central Heating","Housing And Accommodation","Accommodation & Households","Quick Statistics (QS)","All Household Spaces With At Least One Usual Resident","QS415_Other_Central_Heating","Other central heating","QS415EW0007",179,"UNKNOWN","Quick Stats Number"]
["UV060","QS415EW","Central Heating","Housing And Accommodation","Accommodation & Households","Quick Statistics (QS)","All Household Spaces With At Least One Usual Resident","QS415_TwoPlus_Central_Heating","Two or more types of central heating","QS415EW0008",180,"UNKNOWN","Quick Stats Number"]
["N3045 (New)","QS502EW","Qualifications Gained","Qualifications","Unassigned","Quick Statistics (QS)","All Usual Residents Aged 16 And Over","QS502_All_People_16Over","All usual residents aged 16 and over","QS502EW0001",181,"UNKNOWN","Quick Stats Number"]
["N3045 (New)","QS502EW","Qualifications Gained","Qualifications","Unassigned","Quick Statistics (QS)","All Usual Residents Aged 16 And Over","QS502_No_Quals","No qualifications","QS502EW0002",182,"UNKNOWN","Quick Stats Number"]
["N3045 (New)","QS502EW","Qualifications Gained","Qualifications","Unassigned","Quick Statistics (QS)","All Usual Residents Aged 16 And Over","QS502_1to4_Olevel_CSE_GCSEs","1-4 O levels/CSE/GCSEs (any grades), Entry Level, Foundation Diploma","QS502EW0003",183,"UNKNOWN","Quick Stats Number"]
["N3045 (New)","QS502EW","Qualifications Gained","Qualifications","Unassigned","Quick Statistics (QS)","All Usual Residents Aged 16 And Over","QS502_NVQ_Level1_Found_GNVQ","NVQ Level 1, Foundation GNVQ, Basic Skills","QS502EW0004",184,"UNKNOWN","Quick Stats Number"]
["N3045 (New)","QS502EW","Qualifications Gained","Qualifications","Unassigned","Quick Statistics (QS)","All Usual Residents Aged 16 And Over","QS502_5More_Olevel_CSEs_GCSEs","5+ O level (Passes)/CSEs (Grade 1)/GCSEs (Grades A*-C), School Certificate, 1 A level/2-3 AS levels/VCEs, Higher Diploma, Welsh Baccalaureate Intermediate Diploma","QS502EW0005",185,"UNKNOWN","Quick Stats Number"]
["N3045 (New)","QS502EW","Qualifications Gained","Qualifications","Unassigned","Quick Statistics (QS)","All Usual Residents Aged 16 And Over","QS502_NVQ_Level2_Intermed_GNVQ","NVQ Level 2, Intermediate GNVQ, City and Guilds Craft, BTEC First/General Diploma, RSA Diploma","QS502EW0006",186,"UNKNOWN","Quick Stats Number"]
["N3045 (New)","QS502EW","Qualifications Gained","Qualifications","Unassigned","Quick Statistics (QS)","All Usual Residents Aged 16 And Over","QS502_Apprenticeship","Apprenticeship","QS502EW0007",187,"UNKNOWN","Quick Stats Number"]
["N3045 (New)","QS502EW","Qualifications Gained","Qualifications","Unassigned","Quick Statistics (QS)","All Usual Residents Aged 16 And Over","QS502_2More_ALev_4More_ASLev","2+ A levels/VCEs, 4+ AS levels, Higher School Certificate, Progression/Advanced Diploma, Welsh Baccalaureate Advanced Diploma","QS502EW0008",188,"UNKNOWN","Quick Stats Number"]
["N3045 (New)","QS502EW","Qualifications Gained","Qualifications","Unassigned","Quick Statistics (QS)","All Usual Residents Aged 16 And Over","QS502_NVQ_Level3_Advanced_GNVQ","NVQ Level 3, Advanced GNVQ, City and Guilds Advanced Craft, ONC, OND, BTEC National, RSA Advanced Diploma","QS502EW0009",189,"UNKNOWN","Quick Stats Number"]
["N3045 (New)","QS502EW","Qualifications Gained","Qualifications","Unassigned","Quick Statistics (QS)","All Usual Residents Aged 16 And Over","QS502_Degree_Higher_degree","Degree (for example BA, BSc), Higher degree (for example MA, PhD, PGCE)","QS502EW0010",190,"UNKNOWN","Quick Stats Number"]
["N3045 (New)","QS502EW","Qualifications Gained","Qualifications","Unassigned","Quick Statistics (QS)","All Usual Residents Aged 16 And Over","QS502_NVQ_Level4to5_HNC_HND","NVQ Level 4-5, HNC, HND, RSA Higher Diploma, BTEC Higher Level","QS502EW0011",191,"UNKNOWN","Quick Stats Number"]
["N3045 (New)","QS502EW","Qualifications Gained","Qualifications","Unassigned","Quick Statistics (QS)","All Usual Residents Aged 16 And Over","QS502_Professional_Quals","Professional qualifications (for example teaching, nursing, accountancy)","QS502EW0012",192,"UNKNOWN","Quick Stats Number"]
["N3045 (New)","QS502EW","Qualifications Gained","Qualifications","Unassigned","Quick Statistics (QS)","All Usual Residents Aged 16 And Over","QS502_Other_Vocational_Quals","Other vocational/work-related qualifications","QS502EW0013",193,"UNKNOWN","Quick Stats Number"]
["N3045 (New)","QS502EW","Qualifications Gained","Qualifications","Unassigned","Quick Statistics (QS)","All Usual Residents Aged 16 And Over","QS502_Foreign_Quals","Foreign qualifications","QS502EW0014",194,"UNKNOWN","Quick Stats Number"]
["UV039","QS701EW","Method of travel to work","Travel To Work","Transport","Quick Statistics (QS)","All Usual Residents Aged 16 To 74","QS701_All_People_16-74","All Usual Residents Aged 16-74","QS701EW0001",195,"UNKNOWN","Quick Stats Number"]
["UV039","QS701EW","Method of travel to work","Travel To Work","Transport","Quick Statistics (QS)","All Usual Residents Aged 16 To 74","QS701_Home","Work mainly at or from home","QS701EW0002",196,"UNKNOWN","Quick Stats Number"]
["UV039","QS701EW","Method of travel to work","Travel To Work","Transport","Quick Statistics (QS)","All Usual Residents Aged 16 To 74","QS701_Uground_Metro_LRail_Tram","Underground, metro, light rail, tram","QS701EW0003",197,"UNKNOWN","Quick Stats Number"]
["UV039","QS701EW","Method of travel to work","Travel To Work","Transport","Quick Statistics (QS)","All Usual Residents Aged 16 To 74","QS701_Train","Train","QS701EW0004",198,"UNKNOWN","Quick Stats Number"]
["UV039","QS701EW","Method of travel to work","Travel To Work","Transport","Quick Statistics (QS)","All Usual Residents Aged 16 To 74","QS701_Bus_MiniBus_Coach","Bus, minibus or coach","QS701EW0005",199,"UNKNOWN","Quick Stats Number"]
["UV039","QS701EW","Method of travel to work","Travel To Work","Transport","Quick Statistics (QS)","All Usual Residents Aged 16 To 74","QS701_Taxi_Minicab","Taxi","QS701EW0006",200,"UNKNOWN","Quick Stats Number"]
["UV039","QS701EW","Method of travel to work","Travel To Work","Transport","Quick Statistics (QS)","All Usual Residents Aged 16 To 74","QS701_Motorcycle_Scooter_Moped","Motorcycle, scooter or moped","QS701EW0007",201,"UNKNOWN","Quick Stats Number"]
["UV039","QS701EW","Method of travel to work","Travel To Work","Transport","Quick Statistics (QS)","All Usual Residents Aged 16 To 74","QS701_Car_Van_Driving","Driving a car or van","QS701EW0008",202,"UNKNOWN","Quick Stats Number"]
["UV039","QS701EW","Method of travel to work","Travel To Work","Transport","Quick Statistics (QS)","All Usual Residents Aged 16 To 74","QS701_Car_Van_Passenger","Passenger in a car or van","QS701EW0009",203,"UNKNOWN","Quick Stats Number"]
["UV039","QS701EW","Method of travel to work","Travel To Work","Transport","Quick Statistics (QS)","All Usual Residents Aged 16 To 74","QS701_Bicycle","Bicycle","QS701EW0010",204,"UNKNOWN","Quick Stats Number"]
["UV039","QS701EW","Method of travel to work","Travel To Work","Transport","Quick Statistics (QS)","All Usual Residents Aged 16 To 74","QS701_On_Foot","On foot","QS701EW0011",205,"UNKNOWN","Quick Stats Number"]
["UV039","QS701EW","Method of travel to work","Travel To Work","Transport","Quick Statistics (QS)","All Usual Residents Aged 16 To 74","QS701_Other","Other method of travel to work","QS701EW0012",206,"UNKNOWN","Quick Stats Number"]
["UV039","QS701EW","Method of travel to work","Travel To Work","Transport","Quick Statistics (QS)","All Usual Residents Aged 16 To 74","QS701_Not_In_Employment","Not in employment","QS701EW0013",207,"UNKNOWN","Quick Stats Number"]
["N072 (New)","QS803EW","Length Of Residence in UK","Ethnicity, Identity, Language And Religion","Ethnicity, Religion, Nationality","Quick Statistics (QS)","All Usual Residents","QS803_All_People","All categories: Length of residence in the UK","QS803EW0001",208,"UNKNOWN","Quick Stats Number"]
["N072 (New)","QS803EW","Length Of Residence in UK","Ethnicity, Identity, Language And Religion","Ethnicity, Religion, Nationality","Quick Statistics (QS)","All Usual Residents","QS803_Born_In_UK","Born in the UK","QS803EW0002",209,"UNKNOWN","Quick Stats Number"]
["N072 (New)","QS803EW","Length Of Residence in UK","Ethnicity, Identity, Language And Religion","Ethnicity, Religion, Nationality","Quick Statistics (QS)","All Usual Residents","QS803_UK_Less_2_Years","Resident in UK: Less than 2 years","QS803EW0003",210,"UNKNOWN","Quick Stats Number"]
["N072 (New)","QS803EW","Length Of Residence in UK","Ethnicity, Identity, Language And Religion","Ethnicity, Religion, Nationality","Quick Statistics (QS)","All Usual Residents","QS803_UK_2_Years_Over_Less_5","Resident in UK: 2 years or more but less than 5 years","QS803EW0004",211,"UNKNOWN","Quick Stats Number"]
["N072 (New)","QS803EW","Length Of Residence in UK","Ethnicity, Identity, Language And Religion","Ethnicity, Religion, Nationality","Quick Statistics (QS)","All Usual Residents","QS803_UK_5_Years_Over_Less_10","Resident in UK: 5 years or more but less than 10 years","QS803EW0005",212,"UNKNOWN","Quick Stats Number"]
["N072 (New)","QS803EW","Length Of Residence in UK","Ethnicity, Identity, Language And Religion","Ethnicity, Religion, Nationality","Quick Statistics (QS)","All Usual Residents","QS803_UK_10_Years_More","Resident in UK: 10 years or more","QS803EW0006",213,"UNKNOWN","Quick Stats Number"]
["UV35","QS702EW","Distance Travelled To Work","Travel To Work","Transport","Quick Statistics (QS)","All Usual Residents Aged 16 To 74","QS702_All_People_16_74_Employ","All categories: Distance travelled to work","QS702EW0001",214,"UNKNOWN","Quick Stats Number"]
["UV35","QS702EW","Distance Travelled To Work","Travel To Work","Transport","Quick Statistics (QS)","All Usual Residents Aged 16 To 74","QS702EW_Less_2km","Less than 2km","QS702EW0002",215,"UNKNOWN","Quick Stats Number"]
["UV35","QS702EW","Distance Travelled To Work","Travel To Work","Transport","Quick Statistics (QS)","All Usual Residents Aged 16 To 74","QS702EW_2km_Less_5km","2km to less than 5km","QS702EW0003",216,"UNKNOWN","Quick Stats Number"]
["UV35","QS702EW","Distance Travelled To Work","Travel To Work","Transport","Quick Statistics (QS)","All Usual Residents Aged 16 To 74","QS702EW_5km_Less_10km","5km to less than 10km","QS702EW0004",217,"UNKNOWN","Quick Stats Number"]
["UV35","QS702EW","Distance Travelled To Work","Travel To Work","Transport","Quick Statistics (QS)","All Usual Residents Aged 16 To 74","QS702EW_10km_Less_20km","10km to less than 20km","QS702EW0005",218,"UNKNOWN","Quick Stats Number"]
["UV35","QS702EW","Distance Travelled To Work","Travel To Work","Transport","Quick Statistics (QS)","All Usual Residents Aged 16 To 74","QS702EW_20km_Less_30km","20km to less than 30km","QS702EW0006",219,"UNKNOWN","Quick Stats Number"]
["UV35","QS702EW","Distance Travelled To Work","Travel To Work","Transport","Quick Statistics (QS)","All Usual Residents Aged 16 To 74","QS702EW_30km_Less_40km","30km to less than 40km","QS702EW0007",220,"UNKNOWN","Quick Stats Number"]
["UV35","QS702EW","Distance Travelled To Work","Travel To Work","Transport","Quick Statistics (QS)","All Usual Residents Aged 16 To 74","QS702EW_40km_Less_60km","40km to less than 60km","QS702EW0008",221,"UNKNOWN","Quick Stats Number"]
["UV35","QS702EW","Distance Travelled To Work","Travel To Work","Transport","Quick Statistics (QS)","All Usual Residents Aged 16 To 74","QS702EW_60km_Over","60km and over","QS702EW0009",222,"UNKNOWN","Quick Stats Number"]
["UV35","QS702EW","Distance Travelled To Work","Travel To Work","Transport","Quick Statistics (QS)","All Usual Residents Aged 16 To 74","QS702EW_Home","Work mainly at or from home","QS702EW0010",223,"UNKNOWN","Quick Stats Number"]
["UV35","QS702EW","Distance Travelled To Work","Travel To Work","Transport","Quick Statistics (QS)","All Usual Residents Aged 16 To 74","QS702EW_Other","Other","QS702EW0011",224,"UNKNOWN","Quick Stats Number"]

{"sheet":"Area Labels","index":10,"n_rows":829,"n_cols":5,"rows_kept":829,"cut":false,"hidden":true,"merged":[]}
["Area Name","Area Code","Geography","Area Name By Geography","Label Length"]
["CLICK HERE, THEN ON THE DOWN ARROW TO SELECT AREA","TEXT001","N/A","N/A",3]
["CLICK HERE, THEN ON THE DOWN ARROW TO SELECT COMPARISON AREA","TEXT002","N/A","N/A",3]
["To request a bespoke area please contact Policy & Research at Dudley Council","TEXTBESP","N/A","USE AREA TYPE AND AREA NAME SELECTION BOXES ABOVE TO CHOOSE AREA"]
["England & Wales","K04000001","Country","England & Wales",15]
["England","E92000001","Country","England",7]
["North East","E12000001","Region","North East Region",17]
["North West","E12000002","Region","North West Region",17]
["Yorkshire and The Humber","E12000003","Region","Yorkshire and The Humber Region",31]
["East Midlands","E12000004","Region","East Midlands Region",20]
["West Midlands","E12000005","Region","West Midlands Region",20]
["East of England","E12000006","Region","East of England Region",22]
["London (Greater London)","E12000007","Region","London (Greater London) Region",30]
["South East","E12000008","Region","South East Region",17]
["South West","E12000009","Region","South West Region",17]
["West Midlands Metropolitan Area","E11000005","Sub-Region","West Midlands Metropolitan Area",31]
["Black Country","BC01","Sub-Region","Black Country",13]
["Hartlepool","E06000001","LAD","Hartlepool",10]
["Middlesbrough","E06000002","LAD","Middlesbrough",13]
["Redcar and Cleveland","E06000003","LAD","Redcar and Cleveland",20]
["Stockton-on-Tees","E06000004","LAD","Stockton-on-Tees",16]
["Darlington","E06000005","LAD","Darlington",10]
["Halton","E06000006","LAD","Halton",6]
["Warrington","E06000007","LAD","Warrington",10]
["Blackburn with Darwen","E06000008","LAD","Blackburn with Darwen",21]
["Blackpool","E06000009","LAD","Blackpool",9]
["Kingston upon Hull, City of","E06000010","LAD","Kingston upon Hull, City of",27]
["East Riding of Yorkshire","E06000011","LAD","East Riding of Yorkshire",24]
["North East Lincolnshire","E06000012","LAD","North East Lincolnshire",23]
["North Lincolnshire","E06000013","LAD","North Lincolnshire",18]
["York","E06000014","LAD","York",4]
["Derby","E06000015","LAD","Derby",5]
["Leicester","E06000016","LAD","Leicester",9]
["Rutland","E06000017","LAD","Rutland",7]
["Nottingham","E06000018","LAD","Nottingham",10]
["Herefordshire, County of","E06000019","LAD","Herefordshire, County of",24]
["Telford and Wrekin","E06000020","LAD","Telford and Wrekin",18]
["Stoke-on-Trent","E06000021","LAD","Stoke-on-Trent",14]
["Bath and North East Somerset","E06000022","LAD","Bath and North East Somerset",28]
["Bristol, City of","E06000023","LAD","Bristol, City of",16]
["North Somerset","E06000024","LAD","North Somerset",14]
["South Gloucestershire","E06000025","LAD","South Gloucestershire",21]
["Plymouth","E06000026","LAD","Plymouth",8]
["Torbay","E06000027","LAD","Torbay",6]
["Bournemouth","E06000028","LAD","Bournemouth",11]
["Poole","E06000029","LAD","Poole",5]
["Swindon","E06000030","LAD","Swindon",7]
["Peterborough","E06000031","LAD","Peterborough",12]
["Luton","E06000032","LAD","Luton",5]
["Southend-on-Sea","E06000033","LAD","Southend-on-Sea",15]
["Thurrock","E06000034","LAD","Thurrock",8]
["Medway","E06000035","LAD","Medway",6]
["Bracknell Forest","E06000036","LAD","Bracknell Forest",16]
["West Berkshire","E06000037","LAD","West Berkshire",14]
["Reading","E06000038","LAD","Reading",7]
["Slough","E06000039","LAD","Slough",6]
["Windsor and Maidenhead","E06000040","LAD","Windsor and Maidenhead",22]
["Wokingham","E06000041","LAD","Wokingham",9]
["Milton Keynes","E06000042","LAD","Milton Keynes",13]
["Brighton and Hove","E06000043","LAD","Brighton and Hove",17]
["Portsmouth","E06000044","LAD","Portsmouth",10]
["Southampton","E06000045","LAD","Southampton",11]
["Isle of Wight","E06000046","LAD","Isle of Wight",13]
["County Durham","E06000047","LAD","County Durham",13]
["Northumberland","E06000048","LAD","Northumberland",14]
["Cheshire East","E06000049","LAD","Cheshire East",13]
["Cheshire West and Chester","E06000050","LAD","Cheshire West and Chester",25]
["Shropshire","E06000051","LAD","Shropshire",10]
["Cornwall","E06000052","LAD","Cornwall",8]
["Isles of Scilly","E06000053","LAD","Isles of Scilly",15]
["Wiltshire","E06000054","LAD","Wiltshire",9]
["Bedford","E06000055","LAD","Bedford",7]
["Central Bedfordshire","E06000056","LAD","Central Bedfordshire",20]
["Aylesbury Vale","E07000004","LAD","Aylesbury Vale",14]
["Chiltern","E07000005","LAD","Chiltern",8]
["South Bucks","E07000006","LAD","South Bucks",11]
["Wycombe","E07000007","LAD","Wycombe",7]
["Cambridge","E07000008","LAD","Cambridge",9]
["East Cambridgeshire","E07000009","LAD","East Cambridgeshire",19]
["Fenland","E07000010","LAD","Fenland",7]
["Huntingdonshire","E07000011","LAD","Huntingdonshire",15]
["South Cambridgeshire","E07000012","LAD","South Cambridgeshire",20]
["Allerdale","E07000026","LAD","Allerdale",9]
["Barrow-in-Furness","E07000027","LAD","Barrow-in-Furness",17]
["Carlisle","E07000028","LAD","Carlisle",8]
["Copeland","E07000029","LAD","Copeland",8]
["Eden","E07000030","LAD","Eden",4]
["South Lakeland","E07000031","LAD","South Lakeland",14]
["Amber Valley","E07000032","LAD","Amber Valley",12]
["Bolsover","E07000033","LAD","Bolsover",8]
["Chesterfield","E07000034","LAD","Chesterfield",12]
["Derbyshire Dales","E07000035","LAD","Derbyshire Dales",16]
["Erewash","E07000036","LAD","Erewash",7]
["High Peak","E07000037","LAD","High Peak",9]
["North East Derbyshire","E07000038","LAD","North East Derbyshire",21]
["South Derbyshire","E07000039","LAD","South Derbyshire",16]
["East Devon","E07000040","LAD","East Devon",10]
["Exeter","E07000041","LAD","Exeter",6]
["Mid Devon","E07000042","LAD","Mid Devon",9]
["North Devon","E07000043","LAD","North Devon",11]
["South Hams","E07000044","LAD","South Hams",10]
["Teignbridge","E07000045","LAD","Teignbridge",11]
["Torridge","E07000046","LAD","Torridge",8]
["West Devon","E07000047","LAD","West Devon",10]
["Christchurch","E07000048","LAD","Christchurch",12]
["East Dorset","E07000049","LAD","East Dorset",11]
["North Dorset","E07000050","LAD","North Dorset",12]
["Purbeck","E07000051","LAD","Purbeck",7]
["West Dorset","E07000052","LAD","West Dorset",11]
["Weymouth and Portland","E07000053","LAD","Weymouth and Portland",21]
["Eastbourne","E07000061","LAD","Eastbourne",10]
["Hastings","E07000062","LAD","Hastings",8]
["Lewes","E07000063","LAD","Lewes",5]
["Rother","E07000064","LAD","Rother",6]
["Wealden","E07000065","LAD","Wealden",7]
["Basildon","E07000066","LAD","Basildon",8]
["Braintree","E07000067","LAD","Braintree",9]
["Brentwood","E07000068","LAD","Brentwood",9]
["Castle Point","E07000069","LAD","Castle Point",12]
["Chelmsford","E07000070","LAD","Chelmsford",10]
["Colchester","E07000071","LAD","Colchester",10]
["Epping Forest","E07000072","LAD","Epping Forest",13]
["Harlow","E07000073","LAD","Harlow",6]
["Maldon","E07000074","LAD","Maldon",6]
["Rochford","E07000075","LAD","Rochford",8]
["Tendring","E07000076","LAD","Tendring",8]
["Uttlesford","E07000077","LAD","Uttlesford",10]
["Cheltenham","E07000078","LAD","Cheltenham",10]
["Cotswold","E07000079","LAD","Cotswold",8]
["Forest of Dean","E07000080","LAD","Forest of Dean",14]
["Gloucester","E07000081","LAD","Gloucester",10]
["Stroud","E07000082","LAD","Stroud",6]
["Tewkesbury","E07000083","LAD","Tewkesbury",10]
["Basingstoke and Deane","E07000084","LAD","Basingstoke and Deane",21]
["East Hampshire","E07000085","LAD","East Hampshire",14]
["Eastleigh","E07000086","LAD","Eastleigh",9]
["Fareham","E07000087","LAD","Fareham",7]
["Gosport","E07000088","LAD","Gosport",7]
["Hart","E07000089","LAD","Hart",4]
["Havant","E07000090","LAD","Havant",6]
["New Forest","E07000091","LAD","New Forest",10]
["Rushmoor","E07000092","LAD","Rushmoor",8]
["Test Valley","E07000093","LAD","Test Valley",11]
["Winchester","E07000094","LAD","Winchester",10]
["Broxbourne","E07000095","LAD","Broxbourne",10]
["Dacorum","E07000096","LAD","Dacorum",7]
["East Hertfordshire","E07000097","LAD","East Hertfordshire",18]
["Hertsmere","E07000098","LAD","Hertsmere",9]
["North Hertfordshire","E07000099","LAD","North Hertfordshire",19]
["St Albans","E07000100","LAD","St Albans",9]
["Stevenage","E07000101","LAD","Stevenage",9]
["Three Rivers","E07000102","LAD","Three Rivers",12]
["Watford","E07000103","LAD","Watford",7]
["Welwyn Hatfield","E07000104","LAD","Welwyn Hatfield",15]
["Ashford","E07000105","LAD","Ashford",7]
["Canterbury","E07000106","LAD","Canterbury",10]
["Dartford","E07000107","LAD","Dartford",8]
["Dover","E07000108","LAD","Dover",5]
["Gravesham","E07000109","LAD","Gravesham",9]
["Maidstone","E07000110","LAD","Maidstone",9]
["Sevenoaks","E07000111","LAD","Sevenoaks",9]
["Shepway","E07000112","LAD","Shepway",7]
["Swale","E07000113","LAD","Swale",5]
["Thanet","E07000114","LAD","Thanet",6]
["Tonbridge and Malling","E07000115","LAD","Tonbridge and Malling",21]
["Tunbridge Wells","E07000116","LAD","Tunbridge Wells",15]
["Burnley","E07000117","LAD","Burnley",7]
["Chorley","E07000118","LAD","Chorley",7]
["Fylde","E07000119","LAD","Fylde",5]
["Hyndburn","E07000120","LAD","Hyndburn",8]
["Lancaster","E07000121","LAD","Lancaster",9]
["Pendle","E07000122","LAD","Pendle",6]
["Preston","E07000123","LAD","Preston",7]
["Ribble Valley","E07000124","LAD","Ribble Valley",13]
["Rossendale","E07000125","LAD","Rossendale",10]
["South Ribble","E07000126","LAD","South Ribble",12]
["West Lancashire","E07000127","LAD","West Lancashire",15]
["Wyre","E07000128","LAD","Wyre",4]
["Blaby","E07000129","LAD","Blaby",5]
["Charnwood","E07000130","LAD","Charnwood",9]
["Harborough","E07000131","LAD","Harborough",10]
["Hinckley and Bosworth","E07000132","LAD","Hinckley and Bosworth",21]
["Melton","E07000133","LAD","Melton",6]
["North West Leicestershire","E07000134","LAD","North West Leicestershire",25]
["Oadby and Wigston","E07000135","LAD","Oadby and Wigston",17]
["Boston","E07000136","LAD","Boston",6]
["East Lindsey","E07000137","LAD","East Lindsey",12]
["Lincoln","E07000138","LAD","Lincoln",7]
["North Kesteven","E07000139","LAD","North Kesteven",14]
["South Holland","E07000140","LAD","South Holland",13]
["South Kesteven","E07000141","LAD","South Kesteven",14]
["West Lindsey","E07000142","LAD","West Lindsey",12]
["Breckland","E07000143","LAD","Breckland",9]
["Broadland","E07000144","LAD","Broadland",9]
["Great Yarmouth","E07000145","LAD","Great Yarmouth",14]
["King's Lynn and West Norfolk","E07000146","LAD","King's Lynn and West Norfolk",28]
["North Norfolk","E07000147","LAD","North Norfolk",13]
["Norwich","E07000148","LAD","Norwich",7]
["South Norfolk","E07000149","LAD","South Norfolk",13]
["Corby","E07000150","LAD","Corby",5]
["Daventry","E07000151","LAD","Daventry",8]
["East Northamptonshire","E07000152","LAD","East Northamptonshire",21]
["Kettering","E07000153","LAD","Kettering",9]
["Northampton","E07000154","LAD","Northampton",11]
["South Northamptonshire","E07000155","LAD","South Northamptonshire",22]
["Wellingborough","E07000156","LAD","Wellingborough",14]
["Craven","E07000163","LAD","Craven",6]
["Hambleton","E07000164","LAD","Hambleton",9]
["Harrogate","E07000165","LAD","Harrogate",9]
["Richmondshire","E07000166","LAD","Richmondshire",13]
["Ryedale","E07000167","LAD","Ryedale",7]
["Scarborough","E07000168","LAD","Scarborough",11]
["Selby","E07000169","LAD","Selby",5]
["Ashfield","E07000170","LAD","Ashfield",8]
["Bassetlaw","E07000171","LAD","Bassetlaw",9]
["Broxtowe","E07000172","LAD","Broxtowe",8]
["Gedling","E07000173","LAD","Gedling",7]
["Mansfield","E07000174","LAD","Mansfield",9]
["Newark and Sherwood","E07000175","LAD","Newark and Sherwood",19]
["Rushcliffe","E07000176","LAD","Rushcliffe",10]
["Cherwell","E07000177","LAD","Cherwell",8]
["Oxford","E07000178","LAD","Oxford",6]
["South Oxfordshire","E07000179","LAD","South Oxfordshire",17]
["Vale of White Horse","E07000180","LAD","Vale of White Horse",19]
["West Oxfordshire","E07000181","LAD","West Oxfordshire",16]
["Mendip","E07000187","LAD","Mendip",6]
["Sedgemoor","E07000188","LAD","Sedgemoor",9]
["South Somerset","E07000189","LAD","South Somerset",14]
["Taunton Deane","E07000190","LAD","Taunton Deane",13]
["West Somerset","E07000191","LAD","West Somerset",13]
["Cannock Chase","E07000192","LAD","Cannock Chase",13]
["East Staffordshire","E07000193","LAD","East Staffordshire",18]
["Lichfield","E07000194","LAD","Lichfield",9]
["Newcastle-under-Lyme","E07000195","LAD","Newcastle-under-Lyme",20]
["South Staffordshire","E07000196","LAD","South Staffordshire",19]
["Stafford","E07000197","LAD","Stafford",8]
["Staffordshire Moorlands","E07000198","LAD","Staffordshire Moorlands",23]
["Tamworth","E07000199","LAD","Tamworth",8]
["Babergh","E07000200","LAD","Babergh",7]
["Forest Heath","E07000201","LAD","Forest Heath",12]
["Ipswich","E07000202","LAD","Ipswich",7]
["Mid Suffolk","E07000203","LAD","Mid Suffolk",11]
["St Edmundsbury","E07000204","LAD","St Edmundsbury",14]
["Suffolk Coastal","E07000205","LAD","Suffolk Coastal",15]
["Waveney","E07000206","LAD","Waveney",7]
["Elmbridge","E07000207","LAD","Elmbridge",9]
["Epsom and Ewell","E07000208","LAD","Epsom and Ewell",15]
["Guildford","E07000209","LAD","Guildford",9]
["Mole Valley","E07000210","LAD","Mole Valley",11]
["Reigate and Banstead","E07000211","LAD","Reigate and Banstead",20]
["Runnymede","E07000212","LAD","Runnymede",9]
["Spelthorne","E07000213","LAD","Spelthorne",10]
["Surrey Heath","E07000214","LAD","Surrey Heath",12]
["Tandridge","E07000215","LAD","Tandridge",9]
["Waverley","E07000216","LAD","Waverley",8]
["Woking","E07000217","LAD","Woking",6]
["North Warwickshire","E07000218","LAD","North Warwickshire",18]
["Nuneaton and Bedworth","E07000219","LAD","Nuneaton and Bedworth",21]
["Rugby","E07000220","LAD","Rugby",5]
["Stratford-on-Avon","E07000221","LAD","Stratford-on-Avon",17]
["Warwick","E07000222","LAD","Warwick",7]
["Adur","E07000223","LAD","Adur",4]
["Arun","E07000224","LAD","Arun",4]
["Chichester","E07000225","LAD","Chichester",10]
["Crawley","E07000226","LAD","Crawley",7]
["Horsham","E07000227","LAD","Horsham",7]
["Mid Sussex","E07000228","LAD","Mid Sussex",10]
["Worthing","E07000229","LAD","Worthing",8]
["Bromsgrove","E07000234","LAD","Bromsgrove",10]
["Malvern Hills","E07000235","LAD","Malvern Hills",13]
["Redditch","E07000236","LAD","Redditch",8]
["Worcester","E07000237","LAD","Worcester",9]
["Wychavon","E07000238","LAD","Wychavon",8]
["Wyre Forest","E07000239","LAD","Wyre Forest",11]
["Bolton","E08000001","LAD","Bolton",6]
["Bury","E08000002","LAD","Bury",4]
["Manchester","E08000003","LAD","Manchester",10]
["Oldham","E08000004","LAD","Oldham",6]
["Rochdale","E08000005","LAD","Rochdale",8]
["Salford","E08000006","LAD","Salford",7]
["Stockport","E08000007","LAD","Stockport",9]
["Tameside","E08000008","LAD","Tameside",8]
["Trafford","E08000009","LAD","Trafford",8]
["Wigan","E08000010","LAD","Wigan",5]
["Knowsley","E08000011","LAD","Knowsley",8]
["Liverpool","E08000012","LAD","Liverpool",9]
["St. Helens","E08000013","LAD","St. Helens",10]
["Sefton","E08000014","LAD","Sefton",6]
["Wirral","E08000015","LAD","Wirral",6]
["Barnsley","E08000016","LAD","Barnsley",8]
["Doncaster","E08000017","LAD","Doncaster",9]
["Rotherham","E08000018","LAD","Rotherham",9]
["Sheffield","E08000019","LAD","Sheffield",9]
["Gateshead","E08000020","LAD","Gateshead",9]
["Newcastle upon Tyne","E08000021","LAD","Newcastle upon Tyne",19]
["North Tyneside","E08000022","LAD","North Tyneside",14]
["South Tyneside","E08000023","LAD","South Tyneside",14]
["Sunderland","E08000024","LAD","Sunderland",10]
["Birmingham","E08000025","LAD","Birmingham",10]
["Coventry","E08000026","LAD","Coventry",8]
["Dudley","E08000027","LAD","Dudley",6]
["Sandwell","E08000028","LAD","Sandwell",8]
["Solihull","E08000029","LAD","Solihull",8]
["Walsall","E08000030","LAD","Walsall",7]
["Wolverhampton","E08000031","LAD","Wolverhampton",13]
["Bradford","E08000032","LAD","Bradford",8]
["Calderdale","E08000033","LAD","Calderdale",10]
["Kirklees","E08000034","LAD","Kirklees",8]
["Leeds","E08000035","LAD","Leeds",5]
["Wakefield","E08000036","LAD","Wakefield",9]
["City of London","E09000001","LAD","City of London",14]
["Barking and Dagenham","E09000002","LAD","Barking and Dagenham",20]
["Barnet","E09000003","LAD","Barnet",6]
["Bexley","E09000004","LAD","Bexley",6]
["Brent","E09000005","LAD","Brent",5]
["Bromley","E09000006","LAD","Bromley",7]
["Camden","E09000007","LAD","Camden",6]
["Croydon","E09000008","LAD","Croydon",7]
["Ealing","E09000009","LAD","Ealing",6]
["Enfield","E09000010","LAD","Enfield",7]
["Greenwich","E09000011","LAD","Greenwich",9]
["Hackney","E09000012","LAD","Hackney",7]
["Hammersmith and Fulham","E09000013","LAD","Hammersmith and Fulham",22]
["Haringey","E09000014","LAD","Haringey",8]
["Harrow","E09000015","LAD","Harrow",6]
["Havering","E09000016","LAD","Havering",8]
["Hillingdon","E09000017","LAD","Hillingdon",10]
["Hounslow","E09000018","LAD","Hounslow",8]
["Islington","E09000019","LAD","Islington",9]
["Kensington and Chelsea","E09000020","LAD","Kensington and Chelsea",22]
["Kingston upon Thames","E09000021","LAD","Kingston upon Thames",20]
["Lambeth","E09000022","LAD","Lambeth",7]
["Lewisham","E09000023","LAD","Lewisham",8]
["Merton","E09000024","LAD","Merton",6]
["Newham","E09000025","LAD","Newham",6]
["Redbridge","E09000026","LAD","Redbridge",9]
["Richmond upon Thames","E09000027","LAD","Richmond upon Thames",20]
["Southwark","E09000028","LAD","Southwark",9]
["Sutton","E09000029","LAD","Sutton",6]
["Tower Hamlets","E09000030","LAD","Tower Hamlets",13]
["Waltham Forest","E09000031","LAD","Waltham Forest",14]
["Wandsworth","E09000032","LAD","Wandsworth",10]
["Westminster","E09000033","LAD","Westminster",11]
["Coseley East and Sedgley","CF01","Community Forum","Coseley East and Sedgley Community Forum",40]
["Gornal, Upper Gornal and Woodsetton","CF02","Community Forum","Gornal, Upper Gornal and Woodsetton Community Forum",51]
["Castle and Priory, St James's and St Thomas's","CF03","Community Forum","Castle and Priory, St James's and St Thomas's Community Forum",61]
["Brierley Hill, Brockmoor and Pensnett","CF04","Community Forum","Brierley Hill, Brockmoor and Pensnett Community Forum",53]
["Netherton, Woodside and St Andrews, Quarry Bank and Dudley Wood","CF05","Community Forum","Netherton, Woodside and St Andrews, Quarry Bank and Dudley Wood Community Forum",79]
["Kingswinford North and Wall Heath, Kingswinford South and Wordsley","CF06","Community Forum","Kingswinford North and Wall Heath, Kingswinford South and Wordsley Community Forum",82]
["Amblecote, Cradley and Wollescote, Lye and Stourbridge North","CF07","Community Forum","Amblecote, Cradley and Wollescote, Lye and Stourbridge North Community Forum",76]
["Norton, Pedmore and Stourbridge East, Wollaston and Stourbridge Town","CF08","Community Forum","Norton, Pedmore and Stourbridge East, Wollaston and Stourbridge Town Community Forum",84]
["Belle Vale, Hayley Green and Cradley South","CF09","Community Forum","Belle Vale, Hayley Green and Cradley South Community Forum",58]
["Halesowen North and Halesowen South","CF10","Community Forum","Halesowen North and Halesowen South Community Forum",49]
["Brierley Hill","T1","Township","Brierley Hill Township",23]
["Dudley Central","T2","Township","Dudley Central Township",23]
["Dudley North","T3","Township","Dudley North Township",21]
["Halesowen","T4","Township","Halesowen Township",18]
["Stourbridge","T5","Township","Stourbridge Township",20]
["Brierley Hill","EHC1","Early Help Cluster","Brierley Hill Early Help Cluster",33]
["Dudley Central","EHC2","Early Help Cluster","Dudley Central Early Help Cluster",33]
["Dudley North","EHC3","Early Help Cluster","Dudley North Early Help Cluster",31]
["Halesowen","EHC4","Early Help Cluster","Halesowen Early Help Cluster",28]
["Stourbridge","EHC5","Early Help Cluster","Stourbridge Early Help Cluster",30]
["Amblecote","E05001236","Ward","Amblecote Ward",14]
["Belle Vale","E05001237","Ward","Belle Vale Ward",15]
["Brierley Hill","E05001238","Ward","Brierley Hill Ward",18]
["Brockmoor and Pensnett","E05001239","Ward","Brockmoor and Pensnett Ward",27]
["Castle and Priory","E05001240","Ward","Castle and Priory Ward",22]
["Coseley East","E05001241","Ward","Coseley East Ward",17]
["Cradley and Wollescote","E05001242","Ward","Cradley and Wollescote Ward",27]
["Gornal","E05001243","Ward","Gornal Ward",11]
["Halesowen North","E05001244","Ward","Halesowen North Ward",20]
["Halesowen South","E05001245","Ward","Halesowen South Ward",20]
["Hayley Green and Cradley South","E05001246","Ward","Hayley Green and Cradley South Ward",35]
["Kingswinford North and Wall Heath","E05001247","Ward","Kingswinford North and Wall Heath Ward",38]
["Kingswinford South","E05001248","Ward","Kingswinford South Ward",23]
["Lye and Stourbridge North","E05001249","Ward","Lye and Stourbridge North Ward",30]
["Netherton, Woodside and St Andrews","E05001250","Ward","Netherton, Woodside and St Andrews Ward",39]
["Norton","E05001251","Ward","Norton Ward",11]
["Pedmore and Stourbridge East","E05001252","Ward","Pedmore and Stourbridge East Ward",33]
["Quarry Bank and Dudley Wood","E05001253","Ward","Quarry Bank and Dudley Wood Ward",32]
["St James's","E05001254","Ward","St James's Ward",15]
["St Thomas's","E05001255","Ward","St Thomas's Ward",16]
["Sedgley","E05001256","Ward","Sedgley Ward",12]
["Upper Gornal and Woodsetton","E05001257","Ward","Upper Gornal and Woodsetton Ward",32]
["Wollaston and Stourbridge Town","E05001258","Ward","Wollaston and Stourbridge Town Ward",35]
["Wordsley","E05001259","Ward","Wordsley Ward",13]
["E01009719","E01009719","LSOA","LSOA Code E01009719 / Name Dudley 027A",38]
["E01009720","E01009720","LSOA","LSOA Code E01009720 / Name Dudley 028A",38]
["E01009721","E01009721","LSOA","LSOA Code E01009721 / Name Dudley 031A",38]
["E01009722","E01009722","LSOA","LSOA Code E01009722 / Name Dudley 027B",38]
["E01009723","E01009723","LSOA","LSOA Code E01009723 / Name Dudley 028B",38]
["E01009724","E01009724","LSOA","LSOA Code E01009724 / Name Dudley 028C",38]
["E01009725","E01009725","LSOA","LSOA Code E01009725 / Name Dudley 031B",38]
["E01009726","E01009726","LSOA","LSOA Code E01009726 / Name Dudley 031C",38]
["E01009727","E01009727","LSOA","LSOA Code E01009727 / Name Dudley 027C",38]
["E01009728","E01009728","LSOA","LSOA Code E01009728 / Name Dudley 027D",38]
["E01009729","E01009729","LSOA","LSOA Code E01009729 / Name Dudley 027E",38]
["E01009730","E01009730","LSOA","LSOA Code E01009730 / Name Dudley 028D",38]
["E01009731","E01009731","LSOA","LSOA Code E01009731 / Name Dudley 023A",38]
["E01009732","E01009732","LSOA","LSOA Code E01009732 / Name Dudley 039A",38]
["E01009733","E01009733","LSOA","LSOA Code E01009733 / Name Dudley 039B",38]
["E01009734","E01009734","LSOA","LSOA Code E01009734 / Name Dudley 034A",38]
["E01009735","E01009735","LSOA","LSOA Code E01009735 / Name Dudley 034B",38]
["E01009736","E01009736","LSOA","LSOA Code E01009736 / Name Dudley 034C",38]
["E01009737","E01009737","LSOA","LSOA Code E01009737 / Name Dudley 034D",38]
["E01009738","E01009738","LSOA","LSOA Code E01009738 / Name Dudley 034E",38]
["E01009739","E01009739","LSOA","LSOA Code E01009739 / Name Dudley 039C",38]
["E01009740","E01009740","LSOA","LSOA Code E01009740 / Name Dudley 023B",38]
["E01009741","E01009741","LSOA","LSOA Code E01009741 / Name Dudley 022A",38]
["E01009742","E01009742","LSOA","LSOA Code E01009742 / Name Dudley 023C",38]
["E01009743","E01009743","LSOA","LSOA Code E01009743 / Name Dudley 023D",38]
["E01009744","E01009744","LSOA","LSOA Code E01009744 / Name Dudley 022B",38]
["E01009745","E01009745","LSOA","LSOA Code E01009745 / Name Dudley 023E",38]
["E01009746","E01009746","LSOA","LSOA Code E01009746 / Name Dudley 022C",38]
["E01009747","E01009747","LSOA","LSOA Code E01009747 / Name Dudley 022D",38]
["E01009748","E01009748","LSOA","LSOA Code E01009748 / Name Dudley 013A",38]
["E01009749","E01009749","LSOA","LSOA Code E01009749 / Name Dudley 016A",38]
["E01009750","E01009750","LSOA","LSOA Code E01009750 / Name Dudley 016B",38]
["E01009751","E01009751","LSOA","LSOA Code E01009751 / Name Dudley 017A",38]
["E01009752","E01009752","LSOA","LSOA Code E01009752 / Name Dudley 017B",38]
["E01009753","E01009753","LSOA","LSOA Code E01009753 / Name Dudley 017C",38]
["E01009754","E01009754","LSOA","LSOA Code E01009754 / Name Dudley 017D",38]
["E01009756","E01009756","LSOA","LSOA Code E01009756 / Name Dudley 006B",38]
["E01009757","E01009757","LSOA","LSOA Code E01009757 / Name Dudley 006C",38]
["E01009758","E01009758","LSOA","LSOA Code E01009758 / Name Dudley 005A",38]
["E01009759","E01009759","LSOA","LSOA Code E01009759 / Name Dudley 006D",38]
["E01009760","E01009760","LSOA","LSOA Code E01009760 / Name Dudley 005B",38]
["E01009762","E01009762","LSOA","LSOA Code E01009762 / Name Dudley 006F",38]
["E01009763","E01009763","LSOA","LSOA Code E01009763 / Name Dudley 001A",38]
["E01009764","E01009764","LSOA","LSOA Code E01009764 / Name Dudley 001B",38]
["E01009765","E01009765","LSOA","LSOA Code E01009765 / Name Dudley 004A",38]
["E01009766","E01009766","LSOA","LSOA Code E01009766 / Name Dudley 004B",38]
["E01009767","E01009767","LSOA","LSOA Code E01009767 / Name Dudley 001C",38]
["E01009768","E01009768","LSOA","LSOA Code E01009768 / Name Dudley 004C",38]
["E01009769","E01009769","LSOA","LSOA Code E01009769 / Name Dudley 001D",38]
["E01009770","E01009770","LSOA","LSOA Code E01009770 / Name Dudley 001E",38]
["E01009771","E01009771","LSOA","LSOA Code E01009771 / Name Dudley 004D",38]
["E01009772","E01009772","LSOA","LSOA Code E01009772 / Name Dudley 005C",38]
["E01009773","E01009773","LSOA","LSOA Code E01009773 / Name Dudley 002A",38]
["E01009774","E01009774","LSOA","LSOA Code E01009774 / Name Dudley 005D",38]
["E01009775","E01009775","LSOA","LSOA Code E01009775 / Name Dudley 004E",38]
["E01009776","E01009776","LSOA","LSOA Code E01009776 / Name Dudley 004F",38]
["E01009777","E01009777","LSOA","LSOA Code E01009777 / Name Dudley 002B",38]
["E01009778","E01009778","LSOA","LSOA Code E01009778 / Name Dudley 002C",38]
["E01009779","E01009779","LSOA","LSOA Code E01009779 / Name Dudley 008A",38]
["E01009780","E01009780","LSOA","LSOA Code E01009780 / Name Dudley 009A",38]
["E01009781","E01009781","LSOA","LSOA Code E01009781 / Name Dudley 007A",38]
["E01009782","E01009782","LSOA","LSOA Code E01009782 / Name Dudley 008B",38]
["E01009783","E01009783","LSOA","LSOA Code E01009783 / Name Dudley 008C",38]
["E01009784","E01009784","LSOA","LSOA Code E01009784 / Name Dudley 009B",38]
["E01009785","E01009785","LSOA","LSOA Code E01009785 / Name Dudley 008D",38]
["E01009786","E01009786","LSOA","LSOA Code E01009786 / Name Dudley 007B",38]
["E01009787","E01009787","LSOA","LSOA Code E01009787 / Name Dudley 009C",38]
["E01009788","E01009788","LSOA","LSOA Code E01009788 / Name Dudley 005E",38]
["E01009789","E01009789","LSOA","LSOA Code E01009789 / Name Dudley 007C",38]
["E01009790","E01009790","LSOA","LSOA Code E01009790 / Name Dudley 007D",38]
["E01009791","E01009791","LSOA","LSOA Code E01009791 / Name Dudley 026A",38]
["E01009792","E01009792","LSOA","LSOA Code E01009792 / Name Dudley 026B",38]
["E01009793","E01009793","LSOA","LSOA Code E01009793 / Name Dudley 030A",38]
["E01009794","E01009794","LSOA","LSOA Code E01009794 / Name Dudley 030B",38]
["E01009795","E01009795","LSOA","LSOA Code E01009795 / Name Dudley 026C",38]
["E01009796","E01009796","LSOA","LSOA Code E01009796 / Name Dudley 026D",38]
["E01009797","E01009797","LSOA","LSOA Code E01009797 / Name Dudley 030C",38]
["E01009798","E01009798","LSOA","LSOA Code E01009798 / Name Dudley 026E",38]
["E01009799","E01009799","LSOA","LSOA Code E01009799 / Name Dudley 039D",38]
["E01009800","E01009800","LSOA","LSOA Code E01009800 / Name Dudley 036A",38]
["E01009801","E01009801","LSOA","LSOA Code E01009801 / Name Dudley 030D",38]
["E01009802","E01009802","LSOA","LSOA Code E01009802 / Name Dudley 036B",38]
["E01009803","E01009803","LSOA","LSOA Code E01009803 / Name Dudley 036C",38]
["E01009804","E01009804","LSOA","LSOA Code E01009804 / Name Dudley 036D",38]
["E01009805","E01009805","LSOA","LSOA Code E01009805 / Name Dudley 039E",38]
["E01009806","E01009806","LSOA","LSOA Code E01009806 / Name Dudley 039F",38]
["E01009807","E01009807","LSOA","LSOA Code E01009807 / Name Dudley 043A",38]
["E01009808","E01009808","LSOA","LSOA Code E01009808 / Name Dudley 043B",38]
["E01009809","E01009809","LSOA","LSOA Code E01009809 / Name Dudley 033A",38]
["E01009810","E01009810","LSOA","LSOA Code E01009810 / Name Dudley 043C",38]
["E01009811","E01009811","LSOA","LSOA Code E01009811 / Name Dudley 043D",38]
["E01009812","E01009812","LSOA","LSOA Code E01009812 / Name Dudley 043E",38]
["E01009813","E01009813","LSOA","LSOA Code E01009813 / Name Dudley 033B",38]
["E01009814","E01009814","LSOA","LSOA Code E01009814 / Name Dudley 014A",38]
["E01009815","E01009815","LSOA","LSOA Code E01009815 / Name Dudley 014B",38]
["E01009816","E01009816","LSOA","LSOA Code E01009816 / Name Dudley 012A",38]
["E01009817","E01009817","LSOA","LSOA Code E01009817 / Name Dudley 012B",38]
["E01009818","E01009818","LSOA","LSOA Code E01009818 / Name Dudley 014C",38]
["E01009819","E01009819","LSOA","LSOA Code E01009819 / Name Dudley 012C",38]
["E01009820","E01009820","LSOA","LSOA Code E01009820 / Name Dudley 012D",38]
["E01009821","E01009821","LSOA","LSOA Code E01009821 / Name Dudley 014D",38]
["E01009822","E01009822","LSOA","LSOA Code E01009822 / Name Dudley 014E",38]
["E01009823","E01009823","LSOA","LSOA Code E01009823 / Name Dudley 016C",38]
["E01009824","E01009824","LSOA","LSOA Code E01009824 / Name Dudley 016D",38]
["E01009825","E01009825","LSOA","LSOA Code E01009825 / Name Dudley 019A",38]
["E01009826","E01009826","LSOA","LSOA Code E01009826 / Name Dudley 019B",38]
["E01009827","E01009827","LSOA","LSOA Code E01009827 / Name Dudley 019C",38]
["E01009828","E01009828","LSOA","LSOA Code E01009828 / Name Dudley 019D",38]
["E01009829","E01009829","LSOA","LSOA Code E01009829 / Name Dudley 019E",38]
["E01009830","E01009830","LSOA","LSOA Code E01009830 / Name Dudley 019F",38]
["E01009831","E01009831","LSOA","LSOA Code E01009831 / Name Dudley 037A",38]
["E01009832","E01009832","LSOA","LSOA Code E01009832 / Name Dudley 042A",38]
["E01009833","E01009833","LSOA","LSOA Code E01009833 / Name Dudley 032A",38]
["E01009834","E01009834","LSOA","LSOA Code E01009834 / Name Dudley 031D",38]
["E01009835","E01009835","LSOA","LSOA Code E01009835 / Name Dudley 032B",38]
["E01009836","E01009836","LSOA","LSOA Code E01009836 / Name Dudley 037B",38]
["E01009837","E01009837","LSOA","LSOA Code E01009837 / Name Dudley 037C",38]
["E01009838","E01009838","LSOA","LSOA Code E01009838 / Name Dudley 037D",38]
["E01009839","E01009839","LSOA","LSOA Code E01009839 / Name Dudley 013B",38]
["E01009840","E01009840","LSOA","LSOA Code E01009840 / Name Dudley 018A",38]
["E01009841","E01009841","LSOA","LSOA Code E01009841 / Name Dudley 017E",38]
["E01009842","E01009842","LSOA","LSOA Code E01009842 / Name Dudley 018B",38]
["E01009843","E01009843","LSOA","LSOA Code E01009843 / Name Dudley 018C",38]
["E01009844","E01009844","LSOA","LSOA Code E01009844 / Name Dudley 011A",38]
["E01009845","E01009845","LSOA","LSOA Code E01009845 / Name Dudley 041A",38]
["E01009846","E01009846","LSOA","LSOA Code E01009846 / Name Dudley 041B",38]
["E01009847","E01009847","LSOA","LSOA Code E01009847 / Name Dudley 038A",38]
["E01009848","E01009848","LSOA","LSOA Code E01009848 / Name Dudley 038B",38]
["E01009849","E01009849","LSOA","LSOA Code E01009849 / Name Dudley 038C",38]
["E01009850","E01009850","LSOA","LSOA Code E01009850 / Name Dudley 041C",38]
["E01009851","E01009851","LSOA","LSOA Code E01009851 / Name Dudley 038D",38]
["E01009852","E01009852","LSOA","LSOA Code E01009852 / Name Dudley 041D",38]
["E01009853","E01009853","LSOA","LSOA Code E01009853 / Name Dudley 042B",38]
["E01009854","E01009854","LSOA","LSOA Code E01009854 / Name Dudley 040A",38]
["E01009855","E01009855","LSOA","LSOA Code E01009855 / Name Dudley 042C",38]
["E01009856","E01009856","LSOA","LSOA Code E01009856 / Name Dudley 035A",38]
["E01009857","E01009857","LSOA","LSOA Code E01009857 / Name Dudley 040B",38]
["E01009858","E01009858","LSOA","LSOA Code E01009858 / Name Dudley 040C",38]
["E01009859","E01009859","LSOA","LSOA Code E01009859 / Name Dudley 040D",38]
["E01009860","E01009860","LSOA","LSOA Code E01009860 / Name Dudley 042D",38]
["E01009861","E01009861","LSOA","LSOA Code E01009861 / Name Dudley 033C",38]
["E01009862","E01009862","LSOA","LSOA Code E01009862 / Name Dudley 033D",38]
["E01009863","E01009863","LSOA","LSOA Code E01009863 / Name Dudley 033E",38]
["E01009864","E01009864","LSOA","LSOA Code E01009864 / Name Dudley 025A",38]
["E01009865","E01009865","LSOA","LSOA Code E01009865 / Name Dudley 025B",38]
["E01009866","E01009866","LSOA","LSOA Code E01009866 / Name Dudley 025C",38]
["E01009867","E01009867","LSOA","LSOA Code E01009867 / Name Dudley 025D",38]
["E01009868","E01009868","LSOA","LSOA Code E01009868 / Name Dudley 033F",38]
["E01009869","E01009869","LSOA","LSOA Code E01009869 / Name Dudley 032C",38]
["E01009870","E01009870","LSOA","LSOA Code E01009870 / Name Dudley 032D",38]
["E01009871","E01009871","LSOA","LSOA Code E01009871 / Name Dudley 018D",38]
["E01009872","E01009872","LSOA","LSOA Code E01009872 / Name Dudley 020A",38]
["E01009873","E01009873","LSOA","LSOA Code E01009873 / Name Dudley 020B",38]
["E01009874","E01009874","LSOA","LSOA Code E01009874 / Name Dudley 020C",38]
["E01009875","E01009875","LSOA","LSOA Code E01009875 / Name Dudley 018E",38]
["E01009876","E01009876","LSOA","LSOA Code E01009876 / Name Dudley 020D",38]
["E01009877","E01009877","LSOA","LSOA Code E01009877 / Name Dudley 020E",38]
["E01009878","E01009878","LSOA","LSOA Code E01009878 / Name Dudley 025E",38]
["E01009879","E01009879","LSOA","LSOA Code E01009879 / Name Dudley 011B",38]
["E01009880","E01009880","LSOA","LSOA Code E01009880 / Name Dudley 009D",38]
["E01009881","E01009881","LSOA","LSOA Code E01009881 / Name Dudley 011C",38]
["E01009882","E01009882","LSOA","LSOA Code E01009882 / Name Dudley 009E",38]
["E01009883","E01009883","LSOA","LSOA Code E01009883 / Name Dudley 013C",38]
["E01009884","E01009884","LSOA","LSOA Code E01009884 / Name Dudley 013D",38]
["E01009885","E01009885","LSOA","LSOA Code E01009885 / Name Dudley 011D",38]
["E01009886","E01009886","LSOA","LSOA Code E01009886 / Name Dudley 013E",38]
["E01009887","E01009887","LSOA","LSOA Code E01009887 / Name Dudley 015A",38]
["E01009888","E01009888","LSOA","LSOA Code E01009888 / Name Dudley 015B",38]
["E01009889","E01009889","LSOA","LSOA Code E01009889 / Name Dudley 015C",38]
["E01009890","E01009890","LSOA","LSOA Code E01009890 / Name Dudley 015D",38]
["E01009891","E01009891","LSOA","LSOA Code E01009891 / Name Dudley 010A",38]
["E01009892","E01009892","LSOA","LSOA Code E01009892 / Name Dudley 010B",38]
["E01009893","E01009893","LSOA","LSOA Code E01009893 / Name Dudley 010C",38]
["E01009894","E01009894","LSOA","LSOA Code E01009894 / Name Dudley 010D",38]
["E01009895","E01009895","LSOA","LSOA Code E01009895 / Name Dudley 002D",38]
["E01009896","E01009896","LSOA","LSOA Code E01009896 / Name Dudley 003A",38]
["E01009897","E01009897","LSOA","LSOA Code E01009897 / Name Dudley 003B",38]
["E01009898","E01009898","LSOA","LSOA Code E01009898 / Name Dudley 003C",38]
["E01009899","E01009899","LSOA","LSOA Code E01009899 / Name Dudley 008E",38]
["E01009900","E01009900","LSOA","LSOA Code E01009900 / Name Dudley 008F",38]
["E01009901","E01009901","LSOA","LSOA Code E01009901 / Name Dudley 003D",38]
["E01009902","E01009902","LSOA","LSOA Code E01009902 / Name Dudley 003E",38]
["E01009903","E01009903","LSOA","LSOA Code E01009903 / Name Dudley 029A",38]
["E01009904","E01009904","LSOA","LSOA Code E01009904 / Name Dudley 029B",38]
["E01009905","E01009905","LSOA","LSOA Code E01009905 / Name Dudley 035B",38]
["E01009906","E01009906","LSOA","LSOA Code E01009906 / Name Dudley 035C",38]
["E01009907","E01009907","LSOA","LSOA Code E01009907 / Name Dudley 035D",38]
["E01009908","E01009908","LSOA","LSOA Code E01009908 / Name Dudley 035E",38]
["E01009909","E01009909","LSOA","LSOA Code E01009909 / Name Dudley 029C",38]
["E01009910","E01009910","LSOA","LSOA Code E01009910 / Name Dudley 029D",38]
["E01009911","E01009911","LSOA","LSOA Code E01009911 / Name Dudley 021A",38]
["E01009912","E01009912","LSOA","LSOA Code E01009912 / Name Dudley 021B",38]
["E01009913","E01009913","LSOA","LSOA Code E01009913 / Name Dudley 021C",38]
["E01009914","E01009914","LSOA","LSOA Code E01009914 / Name Dudley 021D",38]
["E01009915","E01009915","LSOA","LSOA Code E01009915 / Name Dudley 021E",38]
["E01009916","E01009916","LSOA","LSOA Code E01009916 / Name Dudley 021F",38]
["E01009917","E01009917","LSOA","LSOA Code E01009917 / Name Dudley 024A",38]
["E01009918","E01009918","LSOA","LSOA Code E01009918 / Name Dudley 024B",38]
["E01009919","E01009919","LSOA","LSOA Code E01009919 / Name Dudley 024C",38]
["E01009920","E01009920","LSOA","LSOA Code E01009920 / Name Dudley 024D",38]
["E01033187","E01033187","LSOA","LSOA Code E01033187 / Name Dudley 006G",38]
["Dudley 027A","E01009719","LSOA","LSOA Code E01009719 / Name Dudley 027A",38]
["Dudley 028A","E01009720","LSOA","LSOA Code E01009720 / Name Dudley 028A",38]
["Dudley 031A","E01009721","LSOA","LSOA Code E01009721 / Name Dudley 031A",38]
["Dudley 027B","E01009722","LSOA","LSOA Code E01009722 / Name Dudley 027B",38]
["Dudley 028B","E01009723","LSOA","LSOA Code E01009723 / Name Dudley 028B",38]
["Dudley 028C","E01009724","LSOA","LSOA Code E01009724 / Name Dudley 028C",38]
["Dudley 031B","E01009725","LSOA","LSOA Code E01009725 / Name Dudley 031B",38]
["Dudley 031C","E01009726","LSOA","LSOA Code E01009726 / Name Dudley 031C",38]
["Dudley 027C","E01009727","LSOA","LSOA Code E01009727 / Name Dudley 027C",38]
["Dudley 027D","E01009728","LSOA","LSOA Code E01009728 / Name Dudley 027D",38]
["Dudley 027E","E01009729","LSOA","LSOA Code E01009729 / Name Dudley 027E",38]
["Dudley 028D","E01009730","LSOA","LSOA Code E01009730 / Name Dudley 028D",38]
["Dudley 023A","E01009731","LSOA","LSOA Code E01009731 / Name Dudley 023A",38]
["Dudley 039A","E01009732","LSOA","LSOA Code E01009732 / Name Dudley 039A",38]
["Dudley 039B","E01009733","LSOA","LSOA Code E01009733 / Name Dudley 039B",38]
["Dudley 034A","E01009734","LSOA","LSOA Code E01009734 / Name Dudley 034A",38]
["Dudley 034B","E01009735","LSOA","LSOA Code E01009735 / Name Dudley 034B",38]
["Dudley 034C","E01009736","LSOA","LSOA Code E01009736 / Name Dudley 034C",38]
["Dudley 034D","E01009737","LSOA","LSOA Code E01009737 / Name Dudley 034D",38]
["Dudley 034E","E01009738","LSOA","LSOA Code E01009738 / Name Dudley 034E",38]
["Dudley 039C","E01009739","LSOA","LSOA Code E01009739 / Name Dudley 039C",38]
["Dudley 023B","E01009740","LSOA","LSOA Code E01009740 / Name Dudley 023B",38]
["Dudley 022A","E01009741","LSOA","LSOA Code E01009741 / Name Dudley 022A",38]
["Dudley 023C","E01009742","LSOA","LSOA Code E01009742 / Name Dudley 023C",38]
["Dudley 023D","E01009743","LSOA","LSOA Code E01009743 / Name Dudley 023D",38]
["Dudley 022B","E01009744","LSOA","LSOA Code E01009744 / Name Dudley 022B",38]
["Dudley 023E","E01009745","LSOA","LSOA Code E01009745 / Name Dudley 023E",38]
["Dudley 022C","E01009746","LSOA","LSOA Code E01009746 / Name Dudley 022C",38]
["Dudley 022D","E01009747","LSOA","LSOA Code E01009747 / Name Dudley 022D",38]
["Dudley 013A","E01009748","LSOA","LSOA Code E01009748 / Name Dudley 013A",38]
["Dudley 016A","E01009749","LSOA","LSOA Code E01009749 / Name Dudley 016A",38]
["Dudley 016B","E01009750","LSOA","LSOA Code E01009750 / Name Dudley 016B",38]
["Dudley 017A","E01009751","LSOA","LSOA Code E01009751 / Name Dudley 017A",38]
["Dudley 017B","E01009752","LSOA","LSOA Code E01009752 / Name Dudley 017B",38]
["Dudley 017C","E01009753","LSOA","LSOA Code E01009753 / Name Dudley 017C",38]
["Dudley 017D","E01009754","LSOA","LSOA Code E01009754 / Name Dudley 017D",38]
["Dudley 006B","E01009756","LSOA","LSOA Code E01009756 / Name Dudley 006B",38]
["Dudley 006C","E01009757","LSOA","LSOA Code E01009757 / Name Dudley 006C",38]
["Dudley 005A","E01009758","LSOA","LSOA Code E01009758 / Name Dudley 005A",38]
["Dudley 006D","E01009759","LSOA","LSOA Code E01009759 / Name Dudley 006D",38]
["Dudley 005B","E01009760","LSOA","LSOA Code E01009760 / Name Dudley 005B",38]
["Dudley 006F","E01009762","LSOA","LSOA Code E01009762 / Name Dudley 006F",38]
["Dudley 001A","E01009763","LSOA","LSOA Code E01009763 / Name Dudley 001A",38]
["Dudley 001B","E01009764","LSOA","LSOA Code E01009764 / Name Dudley 001B",38]
["Dudley 004A","E01009765","LSOA","LSOA Code E01009765 / Name Dudley 004A",38]
["Dudley 004B","E01009766","LSOA","LSOA Code E01009766 / Name Dudley 004B",38]
["Dudley 001C","E01009767","LSOA","LSOA Code E01009767 / Name Dudley 001C",38]
["Dudley 004C","E01009768","LSOA","LSOA Code E01009768 / Name Dudley 004C",38]
["Dudley 001D","E01009769","LSOA","LSOA Code E01009769 / Name Dudley 001D",38]
["Dudley 001E","E01009770","LSOA","LSOA Code E01009770 / Name Dudley 001E",38]
["Dudley 004D","E01009771","LSOA","LSOA Code E01009771 / Name Dudley 004D",38]
["Dudley 005C","E01009772","LSOA","LSOA Code E01009772 / Name Dudley 005C",38]
["Dudley 002A","E01009773","LSOA","LSOA Code E01009773 / Name Dudley 002A",38]
["Dudley 005D","E01009774","LSOA","LSOA Code E01009774 / Name Dudley 005D",38]
["Dudley 004E","E01009775","LSOA","LSOA Code E01009775 / Name Dudley 004E",38]
["Dudley 004F","E01009776","LSOA","LSOA Code E01009776 / Name Dudley 004F",38]
["Dudley 002B","E01009777","LSOA","LSOA Code E01009777 / Name Dudley 002B",38]
["Dudley 002C","E01009778","LSOA","LSOA Code E01009778 / Name Dudley 002C",38]
["Dudley 008A","E01009779","LSOA","LSOA Code E01009779 / Name Dudley 008A",38]
["Dudley 009A","E01009780","LSOA","LSOA Code E01009780 / Name Dudley 009A",38]
["Dudley 007A","E01009781","LSOA","LSOA Code E01009781 / Name Dudley 007A",38]
["Dudley 008B","E01009782","LSOA","LSOA Code E01009782 / Name Dudley 008B",38]
["Dudley 008C","E01009783","LSOA","LSOA Code E01009783 / Name Dudley 008C",38]
["Dudley 009B","E01009784","LSOA","LSOA Code E01009784 / Name Dudley 009B",38]
["Dudley 008D","E01009785","LSOA","LSOA Code E01009785 / Name Dudley 008D",38]
["Dudley 007B","E01009786","LSOA","LSOA Code E01009786 / Name Dudley 007B",38]
["Dudley 009C","E01009787","LSOA","LSOA Code E01009787 / Name Dudley 009C",38]
["Dudley 005E","E01009788","LSOA","LSOA Code E01009788 / Name Dudley 005E",38]
["Dudley 007C","E01009789","LSOA","LSOA Code E01009789 / Name Dudley 007C",38]
["Dudley 007D","E01009790","LSOA","LSOA Code E01009790 / Name Dudley 007D",38]
["Dudley 026A","E01009791","LSOA","LSOA Code E01009791 / Name Dudley 026A",38]
["Dudley 026B","E01009792","LSOA","LSOA Code E01009792 / Name Dudley 026B",38]
["Dudley 030A","E01009793","LSOA","LSOA Code E01009793 / Name Dudley 030A",38]
["Dudley 030B","E01009794","LSOA","LSOA Code E01009794 / Name Dudley 030B",38]
["Dudley 026C","E01009795","LSOA","LSOA Code E01009795 / Name Dudley 026C",38]
["Dudley 026D","E01009796","LSOA","LSOA Code E01009796 / Name Dudley 026D",38]
["Dudley 030C","E01009797","LSOA","LSOA Code E01009797 / Name Dudley 030C",38]
["Dudley 026E","E01009798","LSOA","LSOA Code E01009798 / Name Dudley 026E",38]
["Dudley 039D","E01009799","LSOA","LSOA Code E01009799 / Name Dudley 039D",38]
["Dudley 036A","E01009800","LSOA","LSOA Code E01009800 / Name Dudley 036A",38]
["Dudley 030D","E01009801","LSOA","LSOA Code E01009801 / Name Dudley 030D",38]
["Dudley 036B","E01009802","LSOA","LSOA Code E01009802 / Name Dudley 036B",38]
["Dudley 036C","E01009803","LSOA","LSOA Code E01009803 / Name Dudley 036C",38]
["Dudley 036D","E01009804","LSOA","LSOA Code E01009804 / Name Dudley 036D",38]
["Dudley 039E","E01009805","LSOA","LSOA Code E01009805 / Name Dudley 039E",38]
["Dudley 039F","E01009806","LSOA","LSOA Code E01009806 / Name Dudley 039F",38]
["Dudley 043A","E01009807","LSOA","LSOA Code E01009807 / Name Dudley 043A",38]
["Dudley 043B","E01009808","LSOA","LSOA Code E01009808 / Name Dudley 043B",38]
["Dudley 033A","E01009809","LSOA","LSOA Code E01009809 / Name Dudley 033A",38]
["Dudley 043C","E01009810","LSOA","LSOA Code E01009810 / Name Dudley 043C",38]
["Dudley 043D","E01009811","LSOA","LSOA Code E01009811 / Name Dudley 043D",38]
["Dudley 043E","E01009812","LSOA","LSOA Code E01009812 / Name Dudley 043E",38]
["Dudley 033B","E01009813","LSOA","LSOA Code E01009813 / Name Dudley 033B",38]
["Dudley 014A","E01009814","LSOA","LSOA Code E01009814 / Name Dudley 014A",38]
["Dudley 014B","E01009815","LSOA","LSOA Code E01009815 / Name Dudley 014B",38]
["Dudley 012A","E01009816","LSOA","LSOA Code E01009816 / Name Dudley 012A",38]
["Dudley 012B","E01009817","LSOA","LSOA Code E01009817 / Name Dudley 012B",38]
["Dudley 014C","E01009818","LSOA","LSOA Code E01009818 / Name Dudley 014C",38]
["Dudley 012C","E01009819","LSOA","LSOA Code E01009819 / Name Dudley 012C",38]
["Dudley 012D","E01009820","LSOA","LSOA Code E01009820 / Name Dudley 012D",38]
["Dudley 014D","E01009821","LSOA","LSOA Code E01009821 / Name Dudley 014D",38]
["Dudley 014E","E01009822","LSOA","LSOA Code E01009822 / Name Dudley 014E",38]
["Dudley 016C","E01009823","LSOA","LSOA Code E01009823 / Name Dudley 016C",38]
["Dudley 016D","E01009824","LSOA","LSOA Code E01009824 / Name Dudley 016D",38]
["Dudley 019A","E01009825","LSOA","LSOA Code E01009825 / Name Dudley 019A",38]
["Dudley 019B","E01009826","LSOA","LSOA Code E01009826 / Name Dudley 019B",38]
["Dudley 019C","E01009827","LSOA","LSOA Code E01009827 / Name Dudley 019C",38]
["Dudley 019D","E01009828","LSOA","LSOA Code E01009828 / Name Dudley 019D",38]
["Dudley 019E","E01009829","LSOA","LSOA Code E01009829 / Name Dudley 019E",38]
["Dudley 019F","E01009830","LSOA","LSOA Code E01009830 / Name Dudley 019F",38]
["Dudley 037A","E01009831","LSOA","LSOA Code E01009831 / Name Dudley 037A",38]
["Dudley 042A","E01009832","LSOA","LSOA Code E01009832 / Name Dudley 042A",38]
["Dudley 032A","E01009833","LSOA","LSOA Code E01009833 / Name Dudley 032A",38]
["Dudley 031D","E01009834","LSOA","LSOA Code E01009834 / Name Dudley 031D",38]
["Dudley 032B","E01009835","LSOA","LSOA Code E01009835 / Name Dudley 032B",38]
["Dudley 037B","E01009836","LSOA","LSOA Code E01009836 / Name Dudley 037B",38]
["Dudley 037C","E01009837","LSOA","LSOA Code E01009837 / Name Dudley 037C",38]
["Dudley 037D","E01009838","LSOA","LSOA Code E01009838 / Name Dudley 037D",38]
["Dudley 013B","E01009839","LSOA","LSOA Code E01009839 / Name Dudley 013B",38]
["Dudley 018A","E01009840","LSOA","LSOA Code E01009840 / Name Dudley 018A",38]
["Dudley 017E","E01009841","LSOA","LSOA Code E01009841 / Name Dudley 017E",38]
["Dudley 018B","E01009842","LSOA","LSOA Code E01009842 / Name Dudley 018B",38]
["Dudley 018C","E01009843","LSOA","LSOA Code E01009843 / Name Dudley 018C",38]
["Dudley 011A","E01009844","LSOA","LSOA Code E01009844 / Name Dudley 011A",38]
["Dudley 041A","E01009845","LSOA","LSOA Code E01009845 / Name Dudley 041A",38]
["Dudley 041B","E01009846","LSOA","LSOA Code E01009846 / Name Dudley 041B",38]
["Dudley 038A","E01009847","LSOA","LSOA Code E01009847 / Name Dudley 038A",38]
["Dudley 038B","E01009848","LSOA","LSOA Code E01009848 / Name Dudley 038B",38]
["Dudley 038C","E01009849","LSOA","LSOA Code E01009849 / Name Dudley 038C",38]
["Dudley 041C","E01009850","LSOA","LSOA Code E01009850 / Name Dudley 041C",38]
["Dudley 038D","E01009851","LSOA","LSOA Code E01009851 / Name Dudley 038D",38]
["Dudley 041D","E01009852","LSOA","LSOA Code E01009852 / Name Dudley 041D",38]
["Dudley 042B","E01009853","LSOA","LSOA Code E01009853 / Name Dudley 042B",38]
["Dudley 040A","E01009854","LSOA","LSOA Code E01009854 / Name Dudley 040A",38]
["Dudley 042C","E01009855","LSOA","LSOA Code E01009855 / Name Dudley 042C",38]
["Dudley 035A","E01009856","LSOA","LSOA Code E01009856 / Name Dudley 035A",38]
["Dudley 040B","E01009857","LSOA","LSOA Code E01009857 / Name Dudley 040B",38]
["Dudley 040C","E01009858","LSOA","LSOA Code E01009858 / Name Dudley 040C",38]
["Dudley 040D","E01009859","LSOA","LSOA Code E01009859 / Name Dudley 040D",38]
["Dudley 042D","E01009860","LSOA","LSOA Code E01009860 / Name Dudley 042D",38]
["Dudley 033C","E01009861","LSOA","LSOA Code E01009861 / Name Dudley 033C",38]
["Dudley 033D","E01009862","LSOA","LSOA Code E01009862 / Name Dudley 033D",38]
["Dudley 033E","E01009863","LSOA","LSOA Code E01009863 / Name Dudley 033E",38]
["Dudley 025A","E01009864","LSOA","LSOA Code E01009864 / Name Dudley 025A",38]
["Dudley 025B","E01009865","LSOA","LSOA Code E01009865 / Name Dudley 025B",38]
["Dudley 025C","E01009866","LSOA","LSOA Code E01009866 / Name Dudley 025C",38]
["Dudley 025D","E01009867","LSOA","LSOA Code E01009867 / Name Dudley 025D",38]
["Dudley 033F","E01009868","LSOA","LSOA Code E01009868 / Name Dudley 033F",38]
["Dudley 032C","E01009869","LSOA","LSOA Code E01009869 / Name Dudley 032C",38]
["Dudley 032D","E01009870","LSOA","LSOA Code E01009870 / Name Dudley 032D",38]
["Dudley 018D","E01009871","LSOA","LSOA Code E01009871 / Name Dudley 018D",38]
["Dudley 020A","E01009872","LSOA","LSOA Code E01009872 / Name Dudley 020A",38]
["Dudley 020B","E01009873","LSOA","LSOA Code E01009873 / Name Dudley 020B",38]
["Dudley 020C","E01009874","LSOA","LSOA Code E01009874 / Name Dudley 020C",38]
["Dudley 018E","E01009875","LSOA","LSOA Code E01009875 / Name Dudley 018E",38]
["Dudley 020D","E01009876","LSOA","LSOA Code E01009876 / Name Dudley 020D",38]
["Dudley 020E","E01009877","LSOA","LSOA Code E01009877 / Name Dudley 020E",38]
["Dudley 025E","E01009878","LSOA","LSOA Code E01009878 / Name Dudley 025E",38]
["Dudley 011B","E01009879","LSOA","LSOA Code E01009879 / Name Dudley 011B",38]
["Dudley 009D","E01009880","LSOA","LSOA Code E01009880 / Name Dudley 009D",38]
["Dudley 011C","E01009881","LSOA","LSOA Code E01009881 / Name Dudley 011C",38]
["Dudley 009E","E01009882","LSOA","LSOA Code E01009882 / Name Dudley 009E",38]
["Dudley 013C","E01009883","LSOA","LSOA Code E01009883 / Name Dudley 013C",38]
["Dudley 013D","E01009884","LSOA","LSOA Code E01009884 / Name Dudley 013D",38]
["Dudley 011D","E01009885","LSOA","LSOA Code E01009885 / Name Dudley 011D",38]
["Dudley 013E","E01009886","LSOA","LSOA Code E01009886 / Name Dudley 013E",38]
["Dudley 015A","E01009887","LSOA","LSOA Code E01009887 / Name Dudley 015A",38]
["Dudley 015B","E01009888","LSOA","LSOA Code E01009888 / Name Dudley 015B",38]
["Dudley 015C","E01009889","LSOA","LSOA Code E01009889 / Name Dudley 015C",38]
["Dudley 015D","E01009890","LSOA","LSOA Code E01009890 / Name Dudley 015D",38]
["Dudley 010A","E01009891","LSOA","LSOA Code E01009891 / Name Dudley 010A",38]
["Dudley 010B","E01009892","LSOA","LSOA Code E01009892 / Name Dudley 010B",38]
["Dudley 010C","E01009893","LSOA","LSOA Code E01009893 / Name Dudley 010C",38]
["Dudley 010D","E01009894","LSOA","LSOA Code E01009894 / Name Dudley 010D",38]
["Dudley 002D","E01009895","LSOA","LSOA Code E01009895 / Name Dudley 002D",38]
["Dudley 003A","E01009896","LSOA","LSOA Code E01009896 / Name Dudley 003A",38]
["Dudley 003B","E01009897","LSOA","LSOA Code E01009897 / Name Dudley 003B",38]
["Dudley 003C","E01009898","LSOA","LSOA Code E01009898 / Name Dudley 003C",38]
["Dudley 008E","E01009899","LSOA","LSOA Code E01009899 / Name Dudley 008E",38]
["Dudley 008F","E01009900","LSOA","LSOA Code E01009900 / Name Dudley 008F",38]
["Dudley 003D","E01009901","LSOA","LSOA Code E01009901 / Name Dudley 003D",38]
["Dudley 003E","E01009902","LSOA","LSOA Code E01009902 / Name Dudley 003E",38]
["Dudley 029A","E01009903","LSOA","LSOA Code E01009903 / Name Dudley 029A",38]
["Dudley 029B","E01009904","LSOA","LSOA Code E01009904 / Name Dudley 029B",38]
["Dudley 035B","E01009905","LSOA","LSOA Code E01009905 / Name Dudley 035B",38]
["Dudley 035C","E01009906","LSOA","LSOA Code E01009906 / Name Dudley 035C",38]
["Dudley 035D","E01009907","LSOA","LSOA Code E01009907 / Name Dudley 035D",38]
["Dudley 035E","E01009908","LSOA","LSOA Code E01009908 / Name Dudley 035E",38]
["Dudley 029C","E01009909","LSOA","LSOA Code E01009909 / Name Dudley 029C",38]
["Dudley 029D","E01009910","LSOA","LSOA Code E01009910 / Name Dudley 029D",38]
["Dudley 021A","E01009911","LSOA","LSOA Code E01009911 / Name Dudley 021A",38]
["Dudley 021B","E01009912","LSOA","LSOA Code E01009912 / Name Dudley 021B",38]
["Dudley 021C","E01009913","LSOA","LSOA Code E01009913 / Name Dudley 021C",38]
["Dudley 021D","E01009914","LSOA","LSOA Code E01009914 / Name Dudley 021D",38]
["Dudley 021E","E01009915","LSOA","LSOA Code E01009915 / Name Dudley 021E",38]
["Dudley 021F","E01009916","LSOA","LSOA Code E01009916 / Name Dudley 021F",38]
["Dudley 024A","E01009917","LSOA","LSOA Code E01009917 / Name Dudley 024A",38]
["Dudley 024B","E01009918","LSOA","LSOA Code E01009918 / Name Dudley 024B",38]
["Dudley 024C","E01009919","LSOA","LSOA Code E01009919 / Name Dudley 024C",38]
["Dudley 024D","E01009920","LSOA","LSOA Code E01009920 / Name Dudley 024D",38]
["Dudley 006G","E01033187","LSOA","LSOA Code E01033187 / Name Dudley 006G",38]
[{"$f":"IF('Bespoke Area Name'!C4=\"\",\"None\",'Bespoke Area Name'!C4)","v":"None"},"AREA0001","Bespoke",{"$f":"IF('Bespoke Area Name'!C4=\"\",\"No bespoke area name entered; Go to sheet \"\"Bespoke Area Name\"\"\",'Bespoke Area Name'!C4)","v":"No bespoke area name entered; Go to sheet \"Bespoke Area Name\""},{"$f":"LEN(D790)","v":61}]
[{"$f":"IF('Bespoke Area Name'!C5=\"\",\"None\",'Bespoke Area Name'!C5)","v":"None"},"AREA0002","Bespoke",{"$f":"IF('Bespoke Area Name'!C5=\"\",\"No bespoke area name entered; Go to sheet \"\"Bespoke Area Name\"\"\",'Bespoke Area Name'!C5)","v":"No bespoke area name entered; Go to sheet \"Bespoke Area Name\""},61]
[{"$f":"IF('Bespoke Area Name'!C6=\"\",\"None\",'Bespoke Area Name'!C6)","v":"None"},"AREA0003","Bespoke",{"$f":"IF('Bespoke Area Name'!C6=\"\",\"No bespoke area name entered; Go to sheet \"\"Bespoke Area Name\"\"\",'Bespoke Area Name'!C6)","v":"No bespoke area name entered; Go to sheet \"Bespoke Area Name\""},61]
[{"$f":"IF('Bespoke Area Name'!C7=\"\",\"None\",'Bespoke Area Name'!C7)","v":"None"},"AREA0004","Bespoke",{"$f":"IF('Bespoke Area Name'!C7=\"\",\"No bespoke area name entered; Go to sheet \"\"Bespoke Area Name\"\"\",'Bespoke Area Name'!C7)","v":"No bespoke area name entered; Go to sheet \"Bespoke Area Name\""},61]
[{"$f":"IF('Bespoke Area Name'!C8=\"\",\"None\",'Bespoke Area Name'!C8)","v":"None"},"AREA0005","Bespoke",{"$f":"IF('Bespoke Area Name'!C8=\"\",\"No bespoke area name entered; Go to sheet \"\"Bespoke Area Name\"\"\",'Bespoke Area Name'!C8)","v":"No bespoke area name entered; Go to sheet \"Bespoke Area Name\""},61]
[{"$f":"IF('Bespoke Area Name'!C9=\"\",\"None\",'Bespoke Area Name'!C9)","v":"None"},"AREA0006","Bespoke",{"$f":"IF('Bespoke Area Name'!C9=\"\",\"No bespoke area name entered; Go to sheet \"\"Bespoke Area Name\"\"\",'Bespoke Area Name'!C9)","v":"No bespoke area name entered; Go to sheet \"Bespoke Area Name\""},61]
[{"$f":"IF('Bespoke Area Name'!C10=\"\",\"None\",'Bespoke Area Name'!C10)","v":"None"},"AREA0007","Bespoke",{"$f":"IF('Bespoke Area Name'!C10=\"\",\"No bespoke area name entered; Go to sheet \"\"Bespoke Area Name\"\"\",'Bespoke Area Name'!C10)","v":"No bespoke area name entered; Go to sheet \"Bespoke Area Name\""},61]
[{"$f":"IF('Bespoke Area Name'!C11=\"\",\"None\",'Bespoke Area Name'!C11)","v":"None"},"AREA0008","Bespoke",{"$f":"IF('Bespoke Area Name'!C11=\"\",\"No bespoke area name entered; Go to sheet \"\"Bespoke Area Name\"\"\",'Bespoke Area Name'!C11)","v":"No bespoke area name entered; Go to sheet \"Bespoke Area Name\""},61]
[{"$f":"IF('Bespoke Area Name'!C12=\"\",\"None\",'Bespoke Area Name'!C12)","v":"None"},"AREA0009","Bespoke",{"$f":"IF('Bespoke Area Name'!C12=\"\",\"No bespoke area name entered; Go to sheet \"\"Bespoke Area Name\"\"\",'Bespoke Area Name'!C12)","v":"No bespoke area name entered; Go to sheet \"Bespoke Area Name\""},61]
[{"$f":"IF('Bespoke Area Name'!C13=\"\",\"None\",'Bespoke Area Name'!C13)","v":"None"},"AREA0010","Bespoke",{"$f":"IF('Bespoke Area Name'!C13=\"\",\"No bespoke area name entered; Go to sheet \"\"Bespoke Area Name\"\"\",'Bespoke Area Name'!C13)","v":"No bespoke area name entered; Go to sheet \"Bespoke Area Name\""},61]
[{"$f":"IF('Bespoke Area Name'!C14=\"\",\"None\",'Bespoke Area Name'!C14)","v":"None"},"AREA0011","Bespoke",{"$f":"IF('Bespoke Area Name'!C14=\"\",\"No bespoke area name entered; Go to sheet \"\"Bespoke Area Name\"\"\",'Bespoke Area Name'!C14)","v":"No bespoke area name entered; Go to sheet \"Bespoke Area Name\""},61]
[{"$f":"IF('Bespoke Area Name'!C15=\"\",\"None\",'Bespoke Area Name'!C15)","v":"None"},"AREA0012","Bespoke",{"$f":"IF('Bespoke Area Name'!C15=\"\",\"No bespoke area name entered; Go to sheet \"\"Bespoke Area Name\"\"\",'Bespoke Area Name'!C15)","v":"No bespoke area name entered; Go to sheet \"Bespoke Area Name\""},61]
[{"$f":"IF('Bespoke Area Name'!C16=\"\",\"None\",'Bespoke Area Name'!C16)","v":"None"},"AREA0013","Bespoke",{"$f":"IF('Bespoke Area Name'!C16=\"\",\"No bespoke area name entered; Go to sheet \"\"Bespoke Area Name\"\"\",'Bespoke Area Name'!C16)","v":"No bespoke area name entered; Go to sheet \"Bespoke Area Name\""},61]
[{"$f":"IF('Bespoke Area Name'!C17=\"\",\"None\",'Bespoke Area Name'!C17)","v":"None"},"AREA0014","Bespoke",{"$f":"IF('Bespoke Area Name'!C17=\"\",\"No bespoke area name entered; Go to sheet \"\"Bespoke Area Name\"\"\",'Bespoke Area Name'!C17)","v":"No bespoke area name entered; Go to sheet \"Bespoke Area Name\""},61]
[{"$f":"IF('Bespoke Area Name'!C18=\"\",\"None\",'Bespoke Area Name'!C18)","v":"None"},"AREA0015","Bespoke",{"$f":"IF('Bespoke Area Name'!C18=\"\",\"No bespoke area name entered; Go to sheet \"\"Bespoke Area Name\"\"\",'Bespoke Area Name'!C18)","v":"No bespoke area name entered; Go to sheet \"Bespoke Area Name\""},61]
[{"$f":"IF('Bespoke Area Name'!C19=\"\",\"None\",'Bespoke Area Name'!C19)","v":"None"},"AREA0016","Bespoke",{"$f":"IF('Bespoke Area Name'!C19=\"\",\"No bespoke area name entered; Go to sheet \"\"Bespoke Area Name\"\"\",'Bespoke Area Name'!C19)","v":"No bespoke area name entered; Go to sheet \"Bespoke Area Name\""},61]
[{"$f":"IF('Bespoke Area Name'!C20=\"\",\"None\",'Bespoke Area Name'!C20)","v":"None"},"AREA0017","Bespoke",{"$f":"IF('Bespoke Area Name'!C20=\"\",\"No bespoke area name entered; Go to sheet \"\"Bespoke Area Name\"\"\",'Bespoke Area Name'!C20)","v":"No bespoke area name entered; Go to sheet \"Bespoke Area Name\""},61]
[{"$f":"IF('Bespoke Area Name'!C21=\"\",\"None\",'Bespoke Area Name'!C21)","v":"None"},"AREA0018","Bespoke",{"$f":"IF('Bespoke Area Name'!C21=\"\",\"No bespoke area name entered; Go to sheet \"\"Bespoke Area Name\"\"\",'Bespoke Area Name'!C21)","v":"No bespoke area name entered; Go to sheet \"Bespoke Area Name\""},61]
[{"$f":"IF('Bespoke Area Name'!C22=\"\",\"None\",'Bespoke Area Name'!C22)","v":"None"},"AREA0019","Bespoke",{"$f":"IF('Bespoke Area Name'!C22=\"\",\"No bespoke area name entered; Go to sheet \"\"Bespoke Area Name\"\"\",'Bespoke Area Name'!C22)","v":"No bespoke area name entered; Go to sheet \"Bespoke Area Name\""},61]
[{"$f":"IF('Bespoke Area Name'!C23=\"\",\"None\",'Bespoke Area Name'!C23)","v":"None"},"AREA0020","Bespoke",{"$f":"IF('Bespoke Area Name'!C23=\"\",\"No bespoke area name entered; Go to sheet \"\"Bespoke Area Name\"\"\",'Bespoke Area Name'!C23)","v":"No bespoke area name entered; Go to sheet \"Bespoke Area Name\""},61]
[{"$f":"IF('Bespoke Area Name'!C24=\"\",\"None\",'Bespoke Area Name'!C24)","v":"None"},"AREA0021","Bespoke",{"$f":"IF('Bespoke Area Name'!C24=\"\",\"No bespoke area name entered; Go to sheet \"\"Bespoke Area Name\"\"\",'Bespoke Area Name'!C24)","v":"No bespoke area name entered; Go to sheet \"Bespoke Area Name\""},61]
[{"$f":"IF('Bespoke Area Name'!C25=\"\",\"None\",'Bespoke Area Name'!C25)","v":"None"},"AREA0022","Bespoke",{"$f":"IF('Bespoke Area Name'!C25=\"\",\"No bespoke area name entered; Go to sheet \"\"Bespoke Area Name\"\"\",'Bespoke Area Name'!C25)","v":"No bespoke area name entered; Go to sheet \"Bespoke Area Name\""},61]
[{"$f":"IF('Bespoke Area Name'!C26=\"\",\"None\",'Bespoke Area Name'!C26)","v":"None"},"AREA0023","Bespoke",{"$f":"IF('Bespoke Area Name'!C26=\"\",\"No bespoke area name entered; Go to sheet \"\"Bespoke Area Name\"\"\",'Bespoke Area Name'!C26)","v":"No bespoke area name entered; Go to sheet \"Bespoke Area Name\""},61]
[{"$f":"IF('Bespoke Area Name'!C27=\"\",\"None\",'Bespoke Area Name'!C27)","v":"None"},"AREA0024","Bespoke",{"$f":"IF('Bespoke Area Name'!C27=\"\",\"No bespoke area name entered; Go to sheet \"\"Bespoke Area Name\"\"\",'Bespoke Area Name'!C27)","v":"No bespoke area name entered; Go to sheet \"Bespoke Area Name\""},61]
[{"$f":"IF('Bespoke Area Name'!C28=\"\",\"None\",'Bespoke Area Name'!C28)","v":"None"},"AREA0025","Bespoke",{"$f":"IF('Bespoke Area Name'!C28=\"\",\"No bespoke area name entered; Go to sheet \"\"Bespoke Area Name\"\"\",'Bespoke Area Name'!C28)","v":"No bespoke area name entered; Go to sheet \"Bespoke Area Name\""},61]
[{"$f":"IF('Bespoke Area Name'!C29=\"\",\"None\",'Bespoke Area Name'!C29)","v":"None"},"AREA0026","Bespoke",{"$f":"IF('Bespoke Area Name'!C29=\"\",\"No bespoke area name entered; Go to sheet \"\"Bespoke Area Name\"\"\",'Bespoke Area Name'!C29)","v":"No bespoke area name entered; Go to sheet \"Bespoke Area Name\""},61]
[{"$f":"IF('Bespoke Area Name'!C30=\"\",\"None\",'Bespoke Area Name'!C30)","v":"None"},"AREA0027","Bespoke",{"$f":"IF('Bespoke Area Name'!C30=\"\",\"No bespoke area name entered; Go to sheet \"\"Bespoke Area Name\"\"\",'Bespoke Area Name'!C30)","v":"No bespoke area name entered; Go to sheet \"Bespoke Area Name\""},61]
[{"$f":"IF('Bespoke Area Name'!C31=\"\",\"None\",'Bespoke Area Name'!C31)","v":"None"},"AREA0028","Bespoke",{"$f":"IF('Bespoke Area Name'!C31=\"\",\"No bespoke area name entered; Go to sheet \"\"Bespoke Area Name\"\"\",'Bespoke Area Name'!C31)","v":"No bespoke area name entered; Go to sheet \"Bespoke Area Name\""},61]
[{"$f":"IF('Bespoke Area Name'!C32=\"\",\"None\",'Bespoke Area Name'!C32)","v":"None"},"AREA0029","Bespoke",{"$f":"IF('Bespoke Area Name'!C32=\"\",\"No bespoke area name entered; Go to sheet \"\"Bespoke Area Name\"\"\",'Bespoke Area Name'!C32)","v":"No bespoke area name entered; Go to sheet \"Bespoke Area Name\""},61]
[{"$f":"IF('Bespoke Area Name'!C33=\"\",\"None\",'Bespoke Area Name'!C33)","v":"None"},"AREA0030","Bespoke",{"$f":"IF('Bespoke Area Name'!C33=\"\",\"No bespoke area name entered; Go to sheet \"\"Bespoke Area Name\"\"\",'Bespoke Area Name'!C33)","v":"No bespoke area name entered; Go to sheet \"Bespoke Area Name\""},61]
[{"$f":"IF('Bespoke Area Name'!C34=\"\",\"None\",'Bespoke Area Name'!C34)","v":"None"},"AREA0031","Bespoke",{"$f":"IF('Bespoke Area Name'!C34=\"\",\"No bespoke area name entered; Go to sheet \"\"Bespoke Area Name\"\"\",'Bespoke Area Name'!C34)","v":"No bespoke area name entered; Go to sheet \"Bespoke Area Name\""},61]
[{"$f":"IF('Bespoke Area Name'!C35=\"\",\"None\",'Bespoke Area Name'!C35)","v":"None"},"AREA0032","Bespoke",{"$f":"IF('Bespoke Area Name'!C35=\"\",\"No bespoke area name entered; Go to sheet \"\"Bespoke Area Name\"\"\",'Bespoke Area Name'!C35)","v":"No bespoke area name entered; Go to sheet \"Bespoke Area Name\""},61]
[{"$f":"IF('Bespoke Area Name'!C36=\"\",\"None\",'Bespoke Area Name'!C36)","v":"None"},"AREA0033","Bespoke",{"$f":"IF('Bespoke Area Name'!C36=\"\",\"No bespoke area name entered; Go to sheet \"\"Bespoke Area Name\"\"\",'Bespoke Area Name'!C36)","v":"No bespoke area name entered; Go to sheet \"Bespoke Area Name\""},61]
[{"$f":"IF('Bespoke Area Name'!C37=\"\",\"None\",'Bespoke Area Name'!C37)","v":"None"},"AREA0034","Bespoke",{"$f":"IF('Bespoke Area Name'!C37=\"\",\"No bespoke area name entered; Go to sheet \"\"Bespoke Area Name\"\"\",'Bespoke Area Name'!C37)","v":"No bespoke area name entered; Go to sheet \"Bespoke Area Name\""},61]
[{"$f":"IF('Bespoke Area Name'!C38=\"\",\"None\",'Bespoke Area Name'!C38)","v":"None"},"AREA0035","Bespoke",{"$f":"IF('Bespoke Area Name'!C38=\"\",\"No bespoke area name entered; Go to sheet \"\"Bespoke Area Name\"\"\",'Bespoke Area Name'!C38)","v":"No bespoke area name entered; Go to sheet \"Bespoke Area Name\""},61]
[{"$f":"IF('Bespoke Area Name'!C39=\"\",\"None\",'Bespoke Area Name'!C39)","v":"None"},"AREA0036","Bespoke",{"$f":"IF('Bespoke Area Name'!C39=\"\",\"No bespoke area name entered; Go to sheet \"\"Bespoke Area Name\"\"\",'Bespoke Area Name'!C39)","v":"No bespoke area name entered; Go to sheet \"Bespoke Area Name\""},61]
[{"$f":"IF('Bespoke Area Name'!C40=\"\",\"None\",'Bespoke Area Name'!C40)","v":"None"},"AREA0037","Bespoke",{"$f":"IF('Bespoke Area Name'!C40=\"\",\"No bespoke area name entered; Go to sheet \"\"Bespoke Area Name\"\"\",'Bespoke Area Name'!C40)","v":"No bespoke area name entered; Go to sheet \"Bespoke Area Name\""},61]
[{"$f":"IF('Bespoke Area Name'!C41=\"\",\"None\",'Bespoke Area Name'!C41)","v":"None"},"AREA0038","Bespoke",{"$f":"IF('Bespoke Area Name'!C41=\"\",\"No bespoke area name entered; Go to sheet \"\"Bespoke Area Name\"\"\",'Bespoke Area Name'!C41)","v":"No bespoke area name entered; Go to sheet \"Bespoke Area Name\""},61]
[{"$f":"IF('Bespoke Area Name'!C42=\"\",\"None\",'Bespoke Area Name'!C42)","v":"None"},"AREA0039","Bespoke",{"$f":"IF('Bespoke Area Name'!C42=\"\",\"No bespoke area name entered; Go to sheet \"\"Bespoke Area Name\"\"\",'Bespoke Area Name'!C42)","v":"No bespoke area name entered; Go to sheet \"Bespoke Area Name\""},61]
[{"$f":"IF('Bespoke Area Name'!C43=\"\",\"None\",'Bespoke Area Name'!C43)","v":"None"},"AREA0040","Bespoke",{"$f":"IF('Bespoke Area Name'!C43=\"\",\"No bespoke area name entered; Go to sheet \"\"Bespoke Area Name\"\"\",'Bespoke Area Name'!C43)","v":"No bespoke area name entered; Go to sheet \"Bespoke Area Name\""},61]

{"sheet":"Area Types","index":11,"n_rows":36,"n_cols":2,"rows_kept":36,"cut":false,"hidden":true,"merged":[]}
["Geography Type","Area Defined Name"]
["CLICK HERE, THEN ON THE DOWN ARROW TO SELECT AREA TYPE","AREATEXT"]
["Local Authority","AREALAD"]
["Local Authority; West Midlands Region Local Authorities","AREALADWM"]
["Local Authority; Metropolitan Local Authorities","AREALADMD"]
["Community Forum","AREAFORUM"]
["Ward","AREAWARD"]
["Lower Layer Super Output Area (LSOA); by LSOA Code","AREALSOAC"]
["Lower Layer Super Output Area (LSOA); by LSOA Name","AREALSOAN"]
["Township","AREATOWN"]
["Early Help Cluster","AREACLUST"]
["Sub-Region","AREASUBR"]
["Region","AREAREG"]
["Country","AREACOUN"]
["Bespoke Area","AREABESP (Dynamic Named Range)"]
[]
["Middle Layer Super Output Area (MSOA); by MSOA Code","AREAMSOAC"]
["Middle Layer Super Output Area (MSOA); by MSOA Name","AREAMSOAN"]
["Former Area Committee","AREACOMM"]
["Parliamentary Constituency","AREAWPC"]
[]
["AREA SELECTOR TEST"]
["Area Type","Sub-Region"]
["Area Name","Dudley 001D"]
["Comparison Area Type","CLICK HERE, THEN ON THE DOWN ARROW TO SELECT COMPARISON AREA TYPE"]
["Comparison Area Name","CLICK HERE, THEN ON THE DOWN ARROW TO SELECT COMPARISON AREA"]
[]
["AREA SELECTOR VBA CODE"]
["Private Sub Worksheet_Change(ByVal Target As Range)"]
["    If Not Intersect(Target, Range(\"B20\")) Is Nothing Then"]
["        Range(\"B21\").Value = \"CLICK HERE, THEN ON THE DOWN ARROW TO SELECT AREA TYPE\""]
["    End If"]
["    If Not Intersect(Target, Range(\"B22\")) Is Nothing Then"]
["        Range(\"B23\").Value = \"CLICK HERE, THEN ON THE DOWN ARROW TO SELECT COMPARISON AREA TYPE\""]
["    End If"]
["End Sub"]

{"sheet":"Comparator Types","index":12,"n_rows":53,"n_cols":2,"rows_kept":53,"cut":false,"hidden":true,"merged":[]}
["Geography Type","Comparator Area Defined Name"]
["CLICK HERE, THEN ON THE DOWN ARROW TO SELECT COMPARISON AREA TYPE","COMPTEXT"]
["Local Authority","COMPLAD"]
["Local Authority; West Midlands Region Local Authorities","COMPLADWM"]
["Local Authority; Metropolitan Local Authorities","COMPLADMD"]
["Community Forum","COMPFORUM"]
["Ward","COMPWARD"]
["Lower Layer Super Output Area (LSOA); by LSOA Code","COMPLSOAC"]
["Lower Layer Super Output Area (LSOA); by LSOA Name","COMPLSOAN"]
["Township","COMPTOWN"]
["Early Help Cluster","COMPCLUST"]
["Sub-Region","COMPSUBR"]
["Region","COMPREG"]
["Country","COMPCOUN"]
["Bespoke Area","AREABESP (Dynamic Named Range)"]
[]
["Middle Layer Super Output Area (MSOA); by MSOA Code","COMPMSOAC"]
["Middle Layer Super Output Area (MSOA); by MSOA Name","COMPMSOAN"]
["Former Area Committees","COMPCOMM"]
["Parliamentary Constituencies","COMPWPC"]
[]
[]
[]
["If Workbooks (\"Book1\").Sheets (\"Sheet2\").Range (\"C9\") = \"XYZ\" Then"]
[]
["Sheets(\"Sheet3\").Visible = True"]
[]
["Else"]
[]
["Sheets(\"Sheet3\").Visible = False"]
[]
["End If"]
[]
[]
["Private Sub Worksheet_Hide(ByVal Target As Range)"]
[]
["    If Range(\"C18\").Value = \"USE AREA TYPE AND AREA NAME SELECTION BOXES ABOVE TO CHOOSE AREA\" Then"]
["        Sheets(\"Help\").Visible = False"]
["    Else"]
["        Sheets(\"Help\").Visible = True"]
["    End If"]
[]
["End Sub"]
[]
[]
["Private Sub Worksheet_Hide(ByVal Target As Range)"]
["        If Range(\"B7\").Value = \"CLICK HERE, THEN ON THE DOWN ARROW TO SELECT AREA\" Then"]
["            Sheets(\"Help\").Visible = True"]
["        ElseIf Range(\"B7\").Value <> \"CLICK HERE, THEN ON THE DOWN ARROW TO SELECT AREA\" Then"]
["            Sheets(\"Help\").Visible = False"]
["        End If"]
["    End If"]
["End Sub"]

{"sheet":"Selection Text","index":13,"n_rows":2,"n_cols":4,"rows_kept":2,"cut":false,"hidden":true,"merged":[]}
["Text Code","Text","Text Code","Text"]
["TEXT001","CLICK HERE, THEN ON THE DOWN ARROW TO SELECT AREA","TEXT002","CLICK HERE, THEN ON THE DOWN ARROW TO SELECT COMPARISON AREA"]

{"sheet":"Version","index":14,"n_rows":2,"n_cols":1,"rows_kept":2,"cut":false,"hidden":true,"merged":[]}
["Interactive"]
["Print"]

{"sheet":"Country","index":15,"n_rows":4,"n_cols":4,"rows_kept":4,"cut":false,"hidden":true,"merged":[]}
["Area Code","Area Name","Area Code","Area Name"]
["TEXT003","CLICK HERE, THEN ON THE DOWN ARROW TO SELECT AREA","TEXT004","CLICK HERE, THEN ON THE DOWN ARROW TO SELECT COMPARISON AREA"]
["E92000001","England","E92000001","England"]
["K04000001","England & Wales","K04000001","England & Wales"]

{"sheet":"Region","index":16,"n_rows":11,"n_cols":4,"rows_kept":11,"cut":false,"hidden":true,"merged":[]}
["Area Code","Area Name","Area Code","Area Name"]
["TEXT003","CLICK HERE, THEN ON THE DOWN ARROW TO SELECT AREA","TEXT004","CLICK HERE, THEN ON THE DOWN ARROW TO SELECT COMPARISON AREA"]
["E12000001","North East","E12000001","North East"]
["E12000002","North West","E12000002","North West"]
["E12000003","Yorkshire and The Humber","E12000003","Yorkshire and The Humber"]
["E12000005","West Midlands","E12000005","West Midlands"]
["E12000004","East Midlands","E12000004","East Midlands"]
["E12000006","East of England","E12000006","East of England"]
["E12000009","South West","E12000009","South West"]
["E12000008","South East","E12000008","South East"]
["E12000007","London (Greater London)","E12000007","London (Greater London)"]

{"sheet":"Sub-Region","index":17,"n_rows":4,"n_cols":4,"rows_kept":4,"cut":false,"hidden":true,"merged":[]}
["Area Code","Area Name","Area Code","Area Name"]
["TEXT003","CLICK HERE, THEN ON THE DOWN ARROW TO SELECT AREA","TEXT004","CLICK HERE, THEN ON THE DOWN ARROW TO SELECT COMPARISON AREA"]
["BC01","Black Country","BC01","Black Country"]
["E11000005","West Midlands Metropolitan Area","E11000005","West Midlands Metropolitan Area"]

{"sheet":"LAD","index":18,"n_rows":328,"n_cols":4,"rows_kept":328,"cut":false,"hidden":true,"merged":[]}
["Area Code","Area Name","Area Code","Area Name"]
["TEXT003","CLICK HERE, THEN ON THE DOWN ARROW TO SELECT AREA","TEXT004","CLICK HERE, THEN ON THE DOWN ARROW TO SELECT COMPARISON AREA"]
["E08000027","Dudley","E08000027","Dudley"]
["E07000223","Adur","E07000223","Adur"]
["E07000026","Allerdale","E07000026","Allerdale"]
["E07000032","Amber Valley","E07000032","Amber Valley"]
["E07000224","Arun","E07000224","Arun"]
["E07000170","Ashfield","E07000170","Ashfield"]
["E07000105","Ashford","E07000105","Ashford"]
["E07000004","Aylesbury Vale","E07000004","Aylesbury Vale"]
["E07000200","Babergh","E07000200","Babergh"]
["E09000002","Barking and Dagenham","E09000002","Barking and Dagenham"]
["E09000003","Barnet","E09000003","Barnet"]
["E08000016","Barnsley","E08000016","Barnsley"]
["E07000027","Barrow-in-Furness","E07000027","Barrow-in-Furness"]
["E07000066","Basildon","E07000066","Basildon"]
["E07000084","Basingstoke and Deane","E07000084","Basingstoke and Deane"]
["E07000171","Bassetlaw","E07000171","Bassetlaw"]
["E06000022","Bath and North East Somerset","E06000022","Bath and North East Somerset"]
["E06000055","Bedford","E06000055","Bedford"]
["E09000004","Bexley","E09000004","Bexley"]
["E08000025","Birmingham","E08000025","Birmingham"]
["E07000129","Blaby","E07000129","Blaby"]
["E06000008","Blackburn with Darwen","E06000008","Blackburn with Darwen"]
["E06000009","Blackpool","E06000009","Blackpool"]
["E07000033","Bolsover","E07000033","Bolsover"]
["E08000001","Bolton","E08000001","Bolton"]
["E07000136","Boston","E07000136","Boston"]
["E06000028","Bournemouth","E06000028","Bournemouth"]
["E06000036","Bracknell Forest","E06000036","Bracknell Forest"]
["E08000032","Bradford","E08000032","Bradford"]
["E07000067","Braintree","E07000067","Braintree"]
["E07000143","Breckland","E07000143","Breckland"]
["E09000005","Brent","E09000005","Brent"]
["E07000068","Brentwood","E07000068","Brentwood"]
["E06000043","Brighton and Hove","E06000043","Brighton and Hove"]
["E06000023","Bristol, City of","E06000023","Bristol, City of"]
["E07000144","Broadland","E07000144","Broadland"]
["E09000006","Bromley","E09000006","Bromley"]
["E07000234","Bromsgrove","E07000234","Bromsgrove"]
["E07000095","Broxbourne","E07000095","Broxbourne"]
["E07000172","Broxtowe","E07000172","Broxtowe"]
["E07000117","Burnley","E07000117","Burnley"]
["E08000002","Bury","E08000002","Bury"]
["E08000033","Calderdale","E08000033","Calderdale"]
["E07000008","Cambridge","E07000008","Cambridge"]
["E09000007","Camden","E09000007","Camden"]
["E07000192","Cannock Chase","E07000192","Cannock Chase"]
["E07000106","Canterbury","E07000106","Canterbury"]
["E07000028","Carlisle","E07000028","Carlisle"]
["E07000069","Castle Point","E07000069","Castle Point"]
["E06000056","Central Bedfordshire","E06000056","Central Bedfordshire"]
["E07000130","Charnwood","E07000130","Charnwood"]
["E07000070","Chelmsford","E07000070","Chelmsford"]
["E07000078","Cheltenham","E07000078","Cheltenham"]
["E07000177","Cherwell","E07000177","Cherwell"]
["E06000049","Cheshire East","E06000049","Cheshire East"]
["E06000050","Cheshire West and Chester","E06000050","Cheshire West and Chester"]
["E07000034","Chesterfield","E07000034","Chesterfield"]
["E07000225","Chichester","E07000225","Chichester"]
["E07000005","Chiltern","E07000005","Chiltern"]
["E07000118","Chorley","E07000118","Chorley"]
["E07000048","Christchurch","E07000048","Christchurch"]
["E09000001","City of London","E09000001","City of London"]
["E07000071","Colchester","E07000071","Colchester"]
["E07000029","Copeland","E07000029","Copeland"]
["E07000150","Corby","E07000150","Corby"]
["E06000052","Cornwall","E06000052","Cornwall"]
["E07000079","Cotswold","E07000079","Cotswold"]
["E06000047","County Durham","E06000047","County Durham"]
["E08000026","Coventry","E08000026","Coventry"]
["E07000163","Craven","E07000163","Craven"]
["E07000226","Crawley","E07000226","Crawley"]
["E09000008","Croydon","E09000008","Croydon"]
["E07000096","Dacorum","E07000096","Dacorum"]
["E06000005","Darlington","E06000005","Darlington"]
["E07000107","Dartford","E07000107","Dartford"]
["E07000151","Daventry","E07000151","Daventry"]
["E06000015","Derby","E06000015","Derby"]
["E07000035","Derbyshire Dales","E07000035","Derbyshire Dales"]
["E08000017","Doncaster","E08000017","Doncaster"]
["E07000108","Dover","E07000108","Dover"]
["E09000009","Ealing","E09000009","Ealing"]
["E07000009","East Cambridgeshire","E07000009","East Cambridgeshire"]
["E07000040","East Devon","E07000040","East Devon"]
["E07000049","East Dorset","E07000049","East Dorset"]
["E07000085","East Hampshire","E07000085","East Hampshire"]
["E07000097","East Hertfordshire","E07000097","East Hertfordshire"]
["E07000137","East Lindsey","E07000137","East Lindsey"]
["E07000152","East Northamptonshire","E07000152","East Northamptonshire"]
["E06000011","East Riding of Yorkshire","E06000011","East Riding of Yorkshire"]
["E07000193","East Staffordshire","E07000193","East Staffordshire"]
["E07000061","Eastbourne","E07000061","Eastbourne"]
["E07000086","Eastleigh","E07000086","Eastleigh"]
["E07000030","Eden","E07000030","Eden"]
["E07000207","Elmbridge","E07000207","Elmbridge"]
["E09000010","Enfield","E09000010","Enfield"]
["E07000072","Epping Forest","E07000072","Epping Forest"]
["E07000208","Epsom and Ewell","E07000208","Epsom and Ewell"]
["E07000036","Erewash","E07000036","Erewash"]
["E07000041","Exeter","E07000041","Exeter"]
["E07000087","Fareham","E07000087","Fareham"]
["E07000010","Fenland","E07000010","Fenland"]
["E07000201","Forest Heath","E07000201","Forest Heath"]
["E07000080","Forest of Dean","E07000080","Forest of Dean"]
["E07000119","Fylde","E07000119","Fylde"]
["E08000020","Gateshead","E08000020","Gateshead"]
["E07000173","Gedling","E07000173","Gedling"]
["E07000081","Gloucester","E07000081","Gloucester"]
["E07000088","Gosport","E07000088","Gosport"]
["E07000109","Gravesham","E07000109","Gravesham"]
["E07000145","Great Yarmouth","E07000145","Great Yarmouth"]
["E09000011","Greenwich","E09000011","Greenwich"]
["E07000209","Guildford","E07000209","Guildford"]
["E09000012","Hackney","E09000012","Hackney"]
["E06000006","Halton","E06000006","Halton"]
["E07000164","Hambleton","E07000164","Hambleton"]
["E09000013","Hammersmith and Fulham","E09000013","Hammersmith and Fulham"]
["E07000131","Harborough","E07000131","Harborough"]
["E09000014","Haringey","E09000014","Haringey"]
["E07000073","Harlow","E07000073","Harlow"]
["E07000165","Harrogate","E07000165","Harrogate"]
["E09000015","Harrow","E09000015","Harrow"]
["E07000089","Hart","E07000089","Hart"]
["E06000001","Hartlepool","E06000001","Hartlepool"]
["E07000062","Hastings","E07000062","Hastings"]
["E07000090","Havant","E07000090","Havant"]
["E09000016","Havering","E09000016","Havering"]
["E06000019","Herefordshire, County of","E06000019","Herefordshire, County of"]
["E07000098","Hertsmere","E07000098","Hertsmere"]
["E07000037","High Peak","E07000037","High Peak"]
["E09000017","Hillingdon","E09000017","Hillingdon"]
["E07000132","Hinckley and Bosworth","E07000132","Hinckley and Bosworth"]
["E07000227","Horsham","E07000227","Horsham"]
["E09000018","Hounslow","E09000018","Hounslow"]
["E07000011","Huntingdonshire","E07000011","Huntingdonshire"]
["E07000120","Hyndburn","E07000120","Hyndburn"]
["E07000202","Ipswich","E07000202","Ipswich"]
["E06000046","Isle of Wight","E06000046","Isle of Wight"]
["E06000053","Isles of Scilly","E06000053","Isles of Scilly"]
["E09000019","Islington","E09000019","Islington"]
["E09000020","Kensington and Chelsea","E09000020","Kensington and Chelsea"]
["E07000153","Kettering","E07000153","Kettering"]
["E07000146","King's Lynn and West Norfolk","E07000146","King's Lynn and West Norfolk"]
["E06000010","Kingston upon Hull, City of","E06000010","Kingston upon Hull, City of"]
["E09000021","Kingston upon Thames","E09000021","Kingston upon Thames"]
["E08000034","Kirklees","E08000034","Kirklees"]
["E08000011","Knowsley","E08000011","Knowsley"]
["E09000022","Lambeth","E09000022","Lambeth"]
["E07000121","Lancaster","E07000121","Lancaster"]
["E08000035","Leeds","E08000035","Leeds"]
["E06000016","Leicester","E06000016","Leicester"]
["E07000063","Lewes","E07000063","Lewes"]
["E09000023","Lewisham","E09000023","Lewisham"]
["E07000194","Lichfield","E07000194","Lichfield"]
["E07000138","Lincoln","E07000138","Lincoln"]
["E08000012","Liverpool","E08000012","Liverpool"]
["E06000032","Luton","E06000032","Luton"]
["E07000110","Maidstone","E07000110","Maidstone"]
["E07000074","Maldon","E07000074","Maldon"]
["E07000235","Malvern Hills","E07000235","Malvern Hills"]
["E08000003","Manchester","E08000003","Manchester"]
["E07000174","Mansfield","E07000174","Mansfield"]
["E06000035","Medway","E06000035","Medway"]
["E07000133","Melton","E07000133","Melton"]
["E07000187","Mendip","E07000187","Mendip"]
["E09000024","Merton","E09000024","Merton"]
["E07000042","Mid Devon","E07000042","Mid Devon"]
["E07000203","Mid Suffolk","E07000203","Mid Suffolk"]
["E07000228","Mid Sussex","E07000228","Mid Sussex"]
["E06000002","Middlesbrough","E06000002","Middlesbrough"]
["E06000042","Milton Keynes","E06000042","Milton Keynes"]
["E07000210","Mole Valley","E07000210","Mole Valley"]
["E07000091","New Forest","E07000091","New Forest"]
["E07000175","Newark and Sherwood","E07000175","Newark and Sherwood"]
["E08000021","Newcastle upon Tyne","E08000021","Newcastle upon Tyne"]
["E07000195","Newcastle-under-Lyme","E07000195","Newcastle-under-Lyme"]
["E09000025","Newham","E09000025","Newham"]
["E07000043","North Devon","E07000043","North Devon"]
["E07000050","North Dorset","E07000050","North Dorset"]
["E07000038","North East Derbyshire","E07000038","North East Derbyshire"]
["E06000012","North East Lincolnshire","E06000012","North East Lincolnshire"]
["E07000099","North Hertfordshire","E07000099","North Hertfordshire"]
["E07000139","North Kesteven","E07000139","North Kesteven"]
["E06000013","North Lincolnshire","E06000013","North Lincolnshire"]
["E07000147","North Norfolk","E07000147","North Norfolk"]
["E06000024","North Somerset","E06000024","North Somerset"]
["E08000022","North Tyneside","E08000022","North Tyneside"]
["E07000218","North Warwickshire","E07000218","North Warwickshire"]
["E07000134","North West Leicestershire","E07000134","North West Leicestershire"]
["E07000154","Northampton","E07000154","Northampton"]
["E06000048","Northumberland","E06000048","Northumberland"]
["E07000148","Norwich","E07000148","Norwich"]
["E06000018","Nottingham","E06000018","Nottingham"]
["E07000219","Nuneaton and Bedworth","E07000219","Nuneaton and Bedworth"]
["E07000135","Oadby and Wigston","E07000135","Oadby and Wigston"]
["E08000004","Oldham","E08000004","Oldham"]
["E07000178","Oxford","E07000178","Oxford"]
["E07000122","Pendle","E07000122","Pendle"]
["E06000031","Peterborough","E06000031","Peterborough"]
["E06000026","Plymouth","E06000026","Plymouth"]
["E06000029","Poole","E06000029","Poole"]
["E06000044","Portsmouth","E06000044","Portsmouth"]
["E07000123","Preston","E07000123","Preston"]
["E07000051","Purbeck","E07000051","Purbeck"]
["E06000038","Reading","E06000038","Reading"]
["E09000026","Redbridge","E09000026","Redbridge"]
["E06000003","Redcar and Cleveland","E06000003","Redcar and Cleveland"]
["E07000236","Redditch","E07000236","Redditch"]
["E07000211","Reigate and Banstead","E07000211","Reigate and Banstead"]
["E07000124","Ribble Valley","E07000124","Ribble Valley"]
["E09000027","Richmond upon Thames","E09000027","Richmond upon Thames"]
["E07000166","Richmondshire","E07000166","Richmondshire"]
["E08000005","Rochdale","E08000005","Rochdale"]
["E07000075","Rochford","E07000075","Rochford"]
["E07000125","Rossendale","E07000125","Rossendale"]
["E07000064","Rother","E07000064","Rother"]
["E08000018","Rotherham","E08000018","Rotherham"]
["E07000220","Rugby","E07000220","Rugby"]
["E07000212","Runnymede","E07000212","Runnymede"]
["E07000176","Rushcliffe","E07000176","Rushcliffe"]
["E07000092","Rushmoor","E07000092","Rushmoor"]
["E06000017","Rutland","E06000017","Rutland"]
["E07000167","Ryedale","E07000167","Ryedale"]
["E08000006","Salford","E08000006","Salford"]
["E08000028","Sandwell","E08000028","Sandwell"]
["E07000168","Scarborough","E07000168","Scarborough"]
["E07000188","Sedgemoor","E07000188","Sedgemoor"]
["E08000014","Sefton","E08000014","Sefton"]
["E07000169","Selby","E07000169","Selby"]
["E07000111","Sevenoaks","E07000111","Sevenoaks"]
["E08000019","Sheffield","E08000019","Sheffield"]
["E07000112","Shepway","E07000112","Shepway"]
["E06000051","Shropshire","E06000051","Shropshire"]
["E06000039","Slough","E06000039","Slough"]
["E08000029","Solihull","E08000029","Solihull"]
["E07000006","South Bucks","E07000006","South Bucks"]
["E07000012","South Cambridgeshire","E07000012","South Cambridgeshire"]
["E07000039","South Derbyshire","E07000039","South Derbyshire"]
["E06000025","South Gloucestershire","E06000025","South Gloucestershire"]
["E07000044","South Hams","E07000044","South Hams"]
["E07000140","South Holland","E07000140","South Holland"]
["E07000141","South Kesteven","E07000141","South Kesteven"]
["E07000031","South Lakeland","E07000031","South Lakeland"]
["E07000149","South Norfolk","E07000149","South Norfolk"]
["E07000155","South Northamptonshire","E07000155","South Northamptonshire"]
["E07000179","South Oxfordshire","E07000179","South Oxfordshire"]
["E07000126","South Ribble","E07000126","South Ribble"]
["E07000189","South Somerset","E07000189","South Somerset"]
["E07000196","South Staffordshire","E07000196","South Staffordshire"]
["E08000023","South Tyneside","E08000023","South Tyneside"]
["E06000045","Southampton","E06000045","Southampton"]
["E06000033","Southend-on-Sea","E06000033","Southend-on-Sea"]
["E09000028","Southwark","E09000028","Southwark"]
["E07000213","Spelthorne","E07000213","Spelthorne"]
["E07000100","St Albans","E07000100","St Albans"]
["E07000204","St Edmundsbury","E07000204","St Edmundsbury"]
["E08000013","St. Helens","E08000013","St. Helens"]
["E07000197","Stafford","E07000197","Stafford"]
["E07000198","Staffordshire Moorlands","E07000198","Staffordshire Moorlands"]
["E07000101","Stevenage","E07000101","Stevenage"]
["E08000007","Stockport","E08000007","Stockport"]
["E06000004","Stockton-on-Tees","E06000004","Stockton-on-Tees"]
["E06000021","Stoke-on-Trent","E06000021","Stoke-on-Trent"]
["E07000221","Stratford-on-Avon","E07000221","Stratford-on-Avon"]
["E07000082","Stroud","E07000082","Stroud"]
["E07000205","Suffolk Coastal","E07000205","Suffolk Coastal"]
["E08000024","Sunderland","E08000024","Sunderland"]
["E07000214","Surrey Heath","E07000214","Surrey Heath"]
["E09000029","Sutton","E09000029","Sutton"]
["E07000113","Swale","E07000113","Swale"]
["E06000030","Swindon","E06000030","Swindon"]
["E08000008","Tameside","E08000008","Tameside"]
["E07000199","Tamworth","E07000199","Tamworth"]
["E07000215","Tandridge","E07000215","Tandridge"]
["E07000190","Taunton Deane","E07000190","Taunton Deane"]
["E07000045","Teignbridge","E07000045","Teignbridge"]
["E06000020","Telford and Wrekin","E06000020","Telford and Wrekin"]
["E07000076","Tendring","E07000076","Tendring"]
["E07000093","Test Valley","E07000093","Test Valley"]
["E07000083","Tewkesbury","E07000083","Tewkesbury"]
["E07000114","Thanet","E07000114","Thanet"]
["E07000102","Three Rivers","E07000102","Three Rivers"]
["E06000034","Thurrock","E06000034","Thurrock"]
["E07000115","Tonbridge and Malling","E07000115","Tonbridge and Malling"]
["E06000027","Torbay","E06000027","Torbay"]
["E07000046","Torridge","E07000046","Torridge"]
["E09000030","Tower Hamlets","E09000030","Tower Hamlets"]
["E08000009","Trafford","E08000009","Trafford"]
["E07000116","Tunbridge Wells","E07000116","Tunbridge Wells"]
["E07000077","Uttlesford","E07000077","Uttlesford"]
["E07000180","Vale of White Horse","E07000180","Vale of White Horse"]
["E08000036","Wakefield","E08000036","Wakefield"]
["E08000030","Walsall","E08000030","Walsall"]
["E09000031","Waltham Forest","E09000031","Waltham Forest"]
["E09000032","Wandsworth","E09000032","Wandsworth"]
["E06000007","Warrington","E06000007","Warrington"]
["E07000222","Warwick","E07000222","Warwick"]
["E07000103","Watford","E07000103","Watford"]
["E07000206","Waveney","E07000206","Waveney"]
["E07000216","Waverley","E07000216","Waverley"]
["E07000065","Wealden","E07000065","Wealden"]
["E07000156","Wellingborough","E07000156","Wellingborough"]
["E07000104","Welwyn Hatfield","E07000104","Welwyn Hatfield"]
["E06000037","West Berkshire","E06000037","West Berkshire"]
["E07000047","West Devon","E07000047","West Devon"]
["E07000052","West Dorset","E07000052","West Dorset"]
["E07000127","West Lancashire","E07000127","West Lancashire"]
["E07000142","West Lindsey","E07000142","West Lindsey"]
["E07000181","West Oxfordshire","E07000181","West Oxfordshire"]
["E07000191","West Somerset","E07000191","West Somerset"]
["E09000033","Westminster","E09000033","Westminster"]
["E07000053","Weymouth and Portland","E07000053","Weymouth and Portland"]
["E08000010","Wigan","E08000010","Wigan"]
["E06000054","Wiltshire","E06000054","Wiltshire"]
["E07000094","Winchester","E07000094","Winchester"]
["E06000040","Windsor and Maidenhead","E06000040","Windsor and Maidenhead"]
["E08000015","Wirral","E08000015","Wirral"]
["E07000217","Woking","E07000217","Woking"]
["E06000041","Wokingham","E06000041","Wokingham"]
["E08000031","Wolverhampton","E08000031","Wolverhampton"]
["E07000237","Worcester","E07000237","Worcester"]
["E07000229","Worthing","E07000229","Worthing"]
["E07000238","Wychavon","E07000238","Wychavon"]
["E07000007","Wycombe","E07000007","Wycombe"]
["E07000128","Wyre","E07000128","Wyre"]
["E07000239","Wyre Forest","E07000239","Wyre Forest"]
["E06000014","York","E06000014","York"]

{"sheet":"WMR LADs","index":19,"n_rows":32,"n_cols":4,"rows_kept":32,"cut":false,"hidden":true,"merged":[]}
["Area Code","Area Name","Area Code","Area Name"]
["TEXT003","CLICK HERE, THEN ON THE DOWN ARROW TO SELECT AREA","TEXT004","CLICK HERE, THEN ON THE DOWN ARROW TO SELECT COMPARISON AREA"]
["E08000025","Birmingham","E08000025","Birmingham"]
["E07000234","Bromsgrove","E07000234","Bromsgrove"]
["E07000192","Cannock Chase","E07000192","Cannock Chase"]
["E08000026","Coventry","E08000026","Coventry"]
["E08000027","Dudley","E08000027","Dudley"]
["E07000193","East Staffordshire","E07000193","East Staffordshire"]
["E06000019","Herefordshire, County of","E06000019","Herefordshire, County of"]
["E07000194","Lichfield","E07000194","Lichfield"]
["E07000235","Malvern Hills","E07000235","Malvern Hills"]
["E07000195","Newcastle-under-Lyme","E07000195","Newcastle-under-Lyme"]
["E07000218","North Warwickshire","E07000218","North Warwickshire"]
["E07000219","Nuneaton and Bedworth","E07000219","Nuneaton and Bedworth"]
["E07000236","Redditch","E07000236","Redditch"]
["E07000220","Rugby","E07000220","Rugby"]
["E08000028","Sandwell","E08000028","Sandwell"]
["E06000051","Shropshire","E06000051","Shropshire"]
["E08000029","Solihull","E08000029","Solihull"]
["E07000196","South Staffordshire","E07000196","South Staffordshire"]
["E07000197","Stafford","E07000197","Stafford"]
["E07000198","Staffordshire Moorlands","E07000198","Staffordshire Moorlands"]
["E06000021","Stoke-on-Trent","E06000021","Stoke-on-Trent"]
["E07000221","Stratford-on-Avon","E07000221","Stratford-on-Avon"]
["E07000199","Tamworth","E07000199","Tamworth"]
["E06000020","Telford and Wrekin","E06000020","Telford and Wrekin"]
["E08000030","Walsall","E08000030","Walsall"]
["E07000222","Warwick","E07000222","Warwick"]
["E08000031","Wolverhampton","E08000031","Wolverhampton"]
["E07000237","Worcester","E07000237","Worcester"]
["E07000238","Wychavon","E07000238","Wychavon"]
["E07000239","Wyre Forest","E07000239","Wyre Forest"]

{"sheet":"Met LADs","index":20,"n_rows":38,"n_cols":4,"rows_kept":38,"cut":false,"hidden":true,"merged":[]}
["Area Code","Area Name","Area Code","Area Name"]
["TEXT003","CLICK HERE, THEN ON THE DOWN ARROW TO SELECT AREA","TEXT004","CLICK HERE, THEN ON THE DOWN ARROW TO SELECT COMPARISON AREA"]
["E08000016","Barnsley","E08000016","Barnsley"]
["E08000025","Birmingham","E08000025","Birmingham"]
["E08000001","Bolton","E08000001","Bolton"]
["E08000032","Bradford","E08000032","Bradford"]
["E08000002","Bury","E08000002","Bury"]
["E08000033","Calderdale","E08000033","Calderdale"]
["E08000026","Coventry","E08000026","Coventry"]
["E08000017","Doncaster","E08000017","Doncaster"]
["E08000027","Dudley","E08000027","Dudley"]
["E08000020","Gateshead","E08000020","Gateshead"]
["E08000034","Kirklees","E08000034","Kirklees"]
["E08000011","Knowsley","E08000011","Knowsley"]
["E08000035","Leeds","E08000035","Leeds"]
["E08000012","Liverpool","E08000012","Liverpool"]
["E08000003","Manchester","E08000003","Manchester"]
["E08000021","Newcastle upon Tyne","E08000021","Newcastle upon Tyne"]
["E08000022","North Tyneside","E08000022","North Tyneside"]
["E08000004","Oldham","E08000004","Oldham"]
["E08000005","Rochdale","E08000005","Rochdale"]
["E08000018","Rotherham","E08000018","Rotherham"]
["E08000006","Salford","E08000006","Salford"]
["E08000028","Sandwell","E08000028","Sandwell"]
["E08000014","Sefton","E08000014","Sefton"]
["E08000019","Sheffield","E08000019","Sheffield"]
["E08000029","Solihull","E08000029","Solihull"]
["E08000023","South Tyneside","E08000023","South Tyneside"]
["E08000013","St. Helens","E08000013","St. Helens"]
["E08000007","Stockport","E08000007","Stockport"]
["E08000024","Sunderland","E08000024","Sunderland"]
["E08000008","Tameside","E08000008","Tameside"]
["E08000009","Trafford","E08000009","Trafford"]
["E08000036","Wakefield","E08000036","Wakefield"]
["E08000030","Walsall","E08000030","Walsall"]
["E08000010","Wigan","E08000010","Wigan"]
["E08000015","Wirral","E08000015","Wirral"]
["E08000031","Wolverhampton","E08000031","Wolverhampton"]

{"sheet":"Community Forum","index":21,"n_rows":12,"n_cols":4,"rows_kept":12,"cut":false,"hidden":true,"merged":[]}
["Area Code","Area Name","Area Code","Area Name"]
["TEXT003","CLICK HERE, THEN ON THE DOWN ARROW TO SELECT AREA","TEXT004","CLICK HERE, THEN ON THE DOWN ARROW TO SELECT COMPARISON AREA"]
["CF07","Amblecote, Cradley and Wollescote, Lye and Stourbridge North","CF07","Amblecote, Cradley and Wollescote, Lye and Stourbridge North"]
["CF09","Belle Vale, Hayley Green and Cradley South","CF09","Belle Vale, Hayley Green and Cradley South"]
["CF04","Brierley Hill, Brockmoor and Pensnett","CF04","Brierley Hill, Brockmoor and Pensnett"]
["CF03","Castle and Priory, St James's and St Thomas's","CF03","Castle and Priory, St James's and St Thomas's"]
["CF01","Coseley East and Sedgley","CF01","Coseley East and Sedgley"]
["CF02","Gornal, Upper Gornal and Woodsetton","CF02","Gornal, Upper Gornal and Woodsetton"]
["CF10","Halesowen North and Halesowen South","CF10","Halesowen North and Halesowen South"]
["CF06","Kingswinford North and Wall Heath, Kingswinford South and Wordsley","CF06","Kingswinford North and Wall Heath, Kingswinford South and Wordsley"]
["CF05","Netherton, Woodside and St Andrews, Quarry Bank and Dudley Wood","CF05","Netherton, Woodside and St Andrews, Quarry Bank and Dudley Wood"]
["CF08","Norton, Pedmore and Stourbridge East, Wollaston and Stourbridge Town","CF08","Norton, Pedmore and Stourbridge East, Wollaston and Stourbridge Town"]

{"sheet":"Ward","index":22,"n_rows":26,"n_cols":4,"rows_kept":26,"cut":false,"hidden":true,"merged":[]}
["Area Code","Area Name","Area Code","Area Name"]
["TEXT003","CLICK HERE, THEN ON THE DOWN ARROW TO SELECT AREA","TEXT004","CLICK HERE, THEN ON THE DOWN ARROW TO SELECT COMPARISON AREA"]
["E05001236","Amblecote","E05001236","Amblecote"]
["E05001237","Belle Vale","E05001237","Belle Vale"]
["E05001238","Brierley Hill","E05001238","Brierley Hill"]
["E05001239","Brockmoor and Pensnett","E05001239","Brockmoor and Pensnett"]
["E05001240","Castle and Priory","E05001240","Castle and Priory"]
["E05001241","Coseley East","E05001241","Coseley East"]
["E05001242","Cradley and Wollescote","E05001242","Cradley and Wollescote"]
["E05001243","Gornal","E05001243","Gornal"]
["E05001244","Halesowen North","E05001244","Halesowen North"]
["E05001245","Halesowen South","E05001245","Halesowen South"]
["E05001246","Hayley Green and Cradley South","E05001246","Hayley Green and Cradley South"]
["E05001247","Kingswinford North and Wall Heath","E05001247","Kingswinford North and Wall Heath"]
["E05001248","Kingswinford South","E05001248","Kingswinford South"]
["E05001249","Lye and Stourbridge North","E05001249","Lye and Stourbridge North"]
["E05001250","Netherton, Woodside and St Andrews","E05001250","Netherton, Woodside and St Andrews"]
["E05001251","Norton","E05001251","Norton"]
["E05001252","Pedmore and Stourbridge East","E05001252","Pedmore and Stourbridge East"]
["E05001253","Quarry Bank and Dudley Wood","E05001253","Quarry Bank and Dudley Wood"]
["E05001254","St James's","E05001254","St James's"]
["E05001255","St Thomas's","E05001255","St Thomas's"]
["E05001256","Sedgley","E05001256","Sedgley"]
["E05001257","Upper Gornal and Woodsetton","E05001257","Upper Gornal and Woodsetton"]
["E05001258","Wollaston and Stourbridge Town","E05001258","Wollaston and Stourbridge Town"]
["E05001259","Wordsley","E05001259","Wordsley"]

{"sheet":"LSOA Code","index":23,"n_rows":203,"n_cols":4,"rows_kept":203,"cut":false,"hidden":true,"merged":[]}
["Area Code","Area Name","Area Code","Area Name"]
["TEXT003","CLICK HERE, THEN ON THE DOWN ARROW TO SELECT AREA","TEXT004","CLICK HERE, THEN ON THE DOWN ARROW TO SELECT COMPARISON AREA"]
["Dudley 027A","E01009719","Dudley 027A","E01009719"]
["Dudley 028A","E01009720","Dudley 028A","E01009720"]
["Dudley 031A","E01009721","Dudley 031A","E01009721"]
["Dudley 027B","E01009722","Dudley 027B","E01009722"]
["Dudley 028B","E01009723","Dudley 028B","E01009723"]
["Dudley 028C","E01009724","Dudley 028C","E01009724"]
["Dudley 031B","E01009725","Dudley 031B","E01009725"]
["Dudley 031C","E01009726","Dudley 031C","E01009726"]
["Dudley 027C","E01009727","Dudley 027C","E01009727"]
["Dudley 027D","E01009728","Dudley 027D","E01009728"]
["Dudley 027E","E01009729","Dudley 027E","E01009729"]
["Dudley 028D","E01009730","Dudley 028D","E01009730"]
["Dudley 023A","E01009731","Dudley 023A","E01009731"]
["Dudley 039A","E01009732","Dudley 039A","E01009732"]
["Dudley 039B","E01009733","Dudley 039B","E01009733"]
["Dudley 034A","E01009734","Dudley 034A","E01009734"]
["Dudley 034B","E01009735","Dudley 034B","E01009735"]
["Dudley 034C","E01009736","Dudley 034C","E01009736"]
["Dudley 034D","E01009737","Dudley 034D","E01009737"]
["Dudley 034E","E01009738","Dudley 034E","E01009738"]
["Dudley 039C","E01009739","Dudley 039C","E01009739"]
["Dudley 023B","E01009740","Dudley 023B","E01009740"]
["Dudley 022A","E01009741","Dudley 022A","E01009741"]
["Dudley 023C","E01009742","Dudley 023C","E01009742"]
["Dudley 023D","E01009743","Dudley 023D","E01009743"]
["Dudley 022B","E01009744","Dudley 022B","E01009744"]
["Dudley 023E","E01009745","Dudley 023E","E01009745"]
["Dudley 022C","E01009746","Dudley 022C","E01009746"]
["Dudley 022D","E01009747","Dudley 022D","E01009747"]
["Dudley 013A","E01009748","Dudley 013A","E01009748"]
["Dudley 016A","E01009749","Dudley 016A","E01009749"]
["Dudley 016B","E01009750","Dudley 016B","E01009750"]
["Dudley 017A","E01009751","Dudley 017A","E01009751"]
["Dudley 017B","E01009752","Dudley 017B","E01009752"]
["Dudley 017C","E01009753","Dudley 017C","E01009753"]
["Dudley 017D","E01009754","Dudley 017D","E01009754"]
["Dudley 006B","E01009756","Dudley 006B","E01009756"]
["Dudley 006C","E01009757","Dudley 006C","E01009757"]
["Dudley 005A","E01009758","Dudley 005A","E01009758"]
["Dudley 006D","E01009759","Dudley 006D","E01009759"]
["Dudley 005B","E01009760","Dudley 005B","E01009760"]
["Dudley 006F","E01009762","Dudley 006F","E01009762"]
["Dudley 001A","E01009763","Dudley 001A","E01009763"]
["Dudley 001B","E01009764","Dudley 001B","E01009764"]
["Dudley 004A","E01009765","Dudley 004A","E01009765"]
["Dudley 004B","E01009766","Dudley 004B","E01009766"]
["Dudley 001C","E01009767","Dudley 001C","E01009767"]
["Dudley 004C","E01009768","Dudley 004C","E01009768"]
["Dudley 001D","E01009769","Dudley 001D","E01009769"]
["Dudley 001E","E01009770","Dudley 001E","E01009770"]
["Dudley 004D","E01009771","Dudley 004D","E01009771"]
["Dudley 005C","E01009772","Dudley 005C","E01009772"]
["Dudley 002A","E01009773","Dudley 002A","E01009773"]
["Dudley 005D","E01009774","Dudley 005D","E01009774"]
["Dudley 004E","E01009775","Dudley 004E","E01009775"]
["Dudley 004F","E01009776","Dudley 004F","E01009776"]
["Dudley 002B","E01009777","Dudley 002B","E01009777"]
["Dudley 002C","E01009778","Dudley 002C","E01009778"]
["Dudley 008A","E01009779","Dudley 008A","E01009779"]
["Dudley 009A","E01009780","Dudley 009A","E01009780"]
["Dudley 007A","E01009781","Dudley 007A","E01009781"]
["Dudley 008B","E01009782","Dudley 008B","E01009782"]
["Dudley 008C","E01009783","Dudley 008C","E01009783"]
["Dudley 009B","E01009784","Dudley 009B","E01009784"]
["Dudley 008D","E01009785","Dudley 008D","E01009785"]
["Dudley 007B","E01009786","Dudley 007B","E01009786"]
["Dudley 009C","E01009787","Dudley 009C","E01009787"]
["Dudley 005E","E01009788","Dudley 005E","E01009788"]
["Dudley 007C","E01009789","Dudley 007C","E01009789"]
["Dudley 007D","E01009790","Dudley 007D","E01009790"]
["Dudley 026A","E01009791","Dudley 026A","E01009791"]
["Dudley 026B","E01009792","Dudley 026B","E01009792"]
["Dudley 030A","E01009793","Dudley 030A","E01009793"]
["Dudley 030B","E01009794","Dudley 030B","E01009794"]
["Dudley 026C","E01009795","Dudley 026C","E01009795"]
["Dudley 026D","E01009796","Dudley 026D","E01009796"]
["Dudley 030C","E01009797","Dudley 030C","E01009797"]
["Dudley 026E","E01009798","Dudley 026E","E01009798"]
["Dudley 039D","E01009799","Dudley 039D","E01009799"]
["Dudley 036A","E01009800","Dudley 036A","E01009800"]
["Dudley 030D","E01009801","Dudley 030D","E01009801"]
["Dudley 036B","E01009802","Dudley 036B","E01009802"]
["Dudley 036C","E01009803","Dudley 036C","E01009803"]
["Dudley 036D","E01009804","Dudley 036D","E01009804"]
["Dudley 039E","E01009805","Dudley 039E","E01009805"]
["Dudley 039F","E01009806","Dudley 039F","E01009806"]
["Dudley 043A","E01009807","Dudley 043A","E01009807"]
["Dudley 043B","E01009808","Dudley 043B","E01009808"]
["Dudley 033A","E01009809","Dudley 033A","E01009809"]
["Dudley 043C","E01009810","Dudley 043C","E01009810"]
["Dudley 043D","E01009811","Dudley 043D","E01009811"]
["Dudley 043E","E01009812","Dudley 043E","E01009812"]
["Dudley 033B","E01009813","Dudley 033B","E01009813"]
["Dudley 014A","E01009814","Dudley 014A","E01009814"]
["Dudley 014B","E01009815","Dudley 014B","E01009815"]
["Dudley 012A","E01009816","Dudley 012A","E01009816"]
["Dudley 012B","E01009817","Dudley 012B","E01009817"]
["Dudley 014C","E01009818","Dudley 014C","E01009818"]
["Dudley 012C","E01009819","Dudley 012C","E01009819"]
["Dudley 012D","E01009820","Dudley 012D","E01009820"]
["Dudley 014D","E01009821","Dudley 014D","E01009821"]
["Dudley 014E","E01009822","Dudley 014E","E01009822"]
["Dudley 016C","E01009823","Dudley 016C","E01009823"]
["Dudley 016D","E01009824","Dudley 016D","E01009824"]
["Dudley 019A","E01009825","Dudley 019A","E01009825"]
["Dudley 019B","E01009826","Dudley 019B","E01009826"]
["Dudley 019C","E01009827","Dudley 019C","E01009827"]
["Dudley 019D","E01009828","Dudley 019D","E01009828"]
["Dudley 019E","E01009829","Dudley 019E","E01009829"]
["Dudley 019F","E01009830","Dudley 019F","E01009830"]
["Dudley 037A","E01009831","Dudley 037A","E01009831"]
["Dudley 042A","E01009832","Dudley 042A","E01009832"]
["Dudley 032A","E01009833","Dudley 032A","E01009833"]
["Dudley 031D","E01009834","Dudley 031D","E01009834"]
["Dudley 032B","E01009835","Dudley 032B","E01009835"]
["Dudley 037B","E01009836","Dudley 037B","E01009836"]
["Dudley 037C","E01009837","Dudley 037C","E01009837"]
["Dudley 037D","E01009838","Dudley 037D","E01009838"]
["Dudley 013B","E01009839","Dudley 013B","E01009839"]
["Dudley 018A","E01009840","Dudley 018A","E01009840"]
["Dudley 017E","E01009841","Dudley 017E","E01009841"]
["Dudley 018B","E01009842","Dudley 018B","E01009842"]
["Dudley 018C","E01009843","Dudley 018C","E01009843"]
["Dudley 011A","E01009844","Dudley 011A","E01009844"]
["Dudley 041A","E01009845","Dudley 041A","E01009845"]
["Dudley 041B","E01009846","Dudley 041B","E01009846"]
["Dudley 038A","E01009847","Dudley 038A","E01009847"]
["Dudley 038B","E01009848","Dudley 038B","E01009848"]
["Dudley 038C","E01009849","Dudley 038C","E01009849"]
["Dudley 041C","E01009850","Dudley 041C","E01009850"]
["Dudley 038D","E01009851","Dudley 038D","E01009851"]
["Dudley 041D","E01009852","Dudley 041D","E01009852"]
["Dudley 042B","E01009853","Dudley 042B","E01009853"]
["Dudley 040A","E01009854","Dudley 040A","E01009854"]
["Dudley 042C","E01009855","Dudley 042C","E01009855"]
["Dudley 035A","E01009856","Dudley 035A","E01009856"]
["Dudley 040B","E01009857","Dudley 040B","E01009857"]
["Dudley 040C","E01009858","Dudley 040C","E01009858"]
["Dudley 040D","E01009859","Dudley 040D","E01009859"]
["Dudley 042D","E01009860","Dudley 042D","E01009860"]
["Dudley 033C","E01009861","Dudley 033C","E01009861"]
["Dudley 033D","E01009862","Dudley 033D","E01009862"]
["Dudley 033E","E01009863","Dudley 033E","E01009863"]
["Dudley 025A","E01009864","Dudley 025A","E01009864"]
["Dudley 025B","E01009865","Dudley 025B","E01009865"]
["Dudley 025C","E01009866","Dudley 025C","E01009866"]
["Dudley 025D","E01009867","Dudley 025D","E01009867"]
["Dudley 033F","E01009868","Dudley 033F","E01009868"]
["Dudley 032C","E01009869","Dudley 032C","E01009869"]
["Dudley 032D","E01009870","Dudley 032D","E01009870"]
["Dudley 018D","E01009871","Dudley 018D","E01009871"]
["Dudley 020A","E01009872","Dudley 020A","E01009872"]
["Dudley 020B","E01009873","Dudley 020B","E01009873"]
["Dudley 020C","E01009874","Dudley 020C","E01009874"]
["Dudley 018E","E01009875","Dudley 018E","E01009875"]
["Dudley 020D","E01009876","Dudley 020D","E01009876"]
["Dudley 020E","E01009877","Dudley 020E","E01009877"]
["Dudley 025E","E01009878","Dudley 025E","E01009878"]
["Dudley 011B","E01009879","Dudley 011B","E01009879"]
["Dudley 009D","E01009880","Dudley 009D","E01009880"]
["Dudley 011C","E01009881","Dudley 011C","E01009881"]
["Dudley 009E","E01009882","Dudley 009E","E01009882"]
["Dudley 013C","E01009883","Dudley 013C","E01009883"]
["Dudley 013D","E01009884","Dudley 013D","E01009884"]
["Dudley 011D","E01009885","Dudley 011D","E01009885"]
["Dudley 013E","E01009886","Dudley 013E","E01009886"]
["Dudley 015A","E01009887","Dudley 015A","E01009887"]
["Dudley 015B","E01009888","Dudley 015B","E01009888"]
["Dudley 015C","E01009889","Dudley 015C","E01009889"]
["Dudley 015D","E01009890","Dudley 015D","E01009890"]
["Dudley 010A","E01009891","Dudley 010A","E01009891"]
["Dudley 010B","E01009892","Dudley 010B","E01009892"]
["Dudley 010C","E01009893","Dudley 010C","E01009893"]
["Dudley 010D","E01009894","Dudley 010D","E01009894"]
["Dudley 002D","E01009895","Dudley 002D","E01009895"]
["Dudley 003A","E01009896","Dudley 003A","E01009896"]
["Dudley 003B","E01009897","Dudley 003B","E01009897"]
["Dudley 003C","E01009898","Dudley 003C","E01009898"]
["Dudley 008E","E01009899","Dudley 008E","E01009899"]
["Dudley 008F","E01009900","Dudley 008F","E01009900"]
["Dudley 003D","E01009901","Dudley 003D","E01009901"]
["Dudley 003E","E01009902","Dudley 003E","E01009902"]
["Dudley 029A","E01009903","Dudley 029A","E01009903"]
["Dudley 029B","E01009904","Dudley 029B","E01009904"]
["Dudley 035B","E01009905","Dudley 035B","E01009905"]
["Dudley 035C","E01009906","Dudley 035C","E01009906"]
["Dudley 035D","E01009907","Dudley 035D","E01009907"]
["Dudley 035E","E01009908","Dudley 035E","E01009908"]
["Dudley 029C","E01009909","Dudley 029C","E01009909"]
["Dudley 029D","E01009910","Dudley 029D","E01009910"]
["Dudley 021A","E01009911","Dudley 021A","E01009911"]
["Dudley 021B","E01009912","Dudley 021B","E01009912"]
["Dudley 021C","E01009913","Dudley 021C","E01009913"]
["Dudley 021D","E01009914","Dudley 021D","E01009914"]
["Dudley 021E","E01009915","Dudley 021E","E01009915"]
["Dudley 021F","E01009916","Dudley 021F","E01009916"]
["Dudley 024A","E01009917","Dudley 024A","E01009917"]
["Dudley 024B","E01009918","Dudley 024B","E01009918"]
["Dudley 024C","E01009919","Dudley 024C","E01009919"]
["Dudley 024D","E01009920","Dudley 024D","E01009920"]
["Dudley 006G","E01033187","Dudley 006G","E01033187"]

{"sheet":"LSOA Name","index":24,"n_rows":203,"n_cols":4,"rows_kept":203,"cut":false,"hidden":true,"merged":[]}
["Area Code","Area Name","Area Code","Area Name"]
["TEXT003","CLICK HERE, THEN ON THE DOWN ARROW TO SELECT AREA","TEXT004","CLICK HERE, THEN ON THE DOWN ARROW TO SELECT COMPARISON AREA"]
["E01009763","Dudley 001A","E01009763","Dudley 001A"]
["E01009764","Dudley 001B","E01009764","Dudley 001B"]
["E01009767","Dudley 001C","E01009767","Dudley 001C"]
["E01009769","Dudley 001D","E01009769","Dudley 001D"]
["E01009770","Dudley 001E","E01009770","Dudley 001E"]
["E01009773","Dudley 002A","E01009773","Dudley 002A"]
["E01009777","Dudley 002B","E01009777","Dudley 002B"]
["E01009778","Dudley 002C","E01009778","Dudley 002C"]
["E01009895","Dudley 002D","E01009895","Dudley 002D"]
["E01009896","Dudley 003A","E01009896","Dudley 003A"]
["E01009897","Dudley 003B","E01009897","Dudley 003B"]
["E01009898","Dudley 003C","E01009898","Dudley 003C"]
["E01009901","Dudley 003D","E01009901","Dudley 003D"]
["E01009902","Dudley 003E","E01009902","Dudley 003E"]
["E01009765","Dudley 004A","E01009765","Dudley 004A"]
["E01009766","Dudley 004B","E01009766","Dudley 004B"]
["E01009768","Dudley 004C","E01009768","Dudley 004C"]
["E01009771","Dudley 004D","E01009771","Dudley 004D"]
["E01009775","Dudley 004E","E01009775","Dudley 004E"]
["E01009776","Dudley 004F","E01009776","Dudley 004F"]
["E01009758","Dudley 005A","E01009758","Dudley 005A"]
["E01009760","Dudley 005B","E01009760","Dudley 005B"]
["E01009772","Dudley 005C","E01009772","Dudley 005C"]
["E01009774","Dudley 005D","E01009774","Dudley 005D"]
["E01009788","Dudley 005E","E01009788","Dudley 005E"]
["E01009756","Dudley 006B","E01009756","Dudley 006B"]
["E01009757","Dudley 006C","E01009757","Dudley 006C"]
["E01009759","Dudley 006D","E01009759","Dudley 006D"]
["E01009762","Dudley 006F","E01009762","Dudley 006F"]
["E01033187","Dudley 006G","E01033187","Dudley 006G"]
["E01009781","Dudley 007A","E01009781","Dudley 007A"]
["E01009786","Dudley 007B","E01009786","Dudley 007B"]
["E01009789","Dudley 007C","E01009789","Dudley 007C"]
["E01009790","Dudley 007D","E01009790","Dudley 007D"]
["E01009779","Dudley 008A","E01009779","Dudley 008A"]
["E01009782","Dudley 008B","E01009782","Dudley 008B"]
["E01009783","Dudley 008C","E01009783","Dudley 008C"]
["E01009785","Dudley 008D","E01009785","Dudley 008D"]
["E01009899","Dudley 008E","E01009899","Dudley 008E"]
["E01009900","Dudley 008F","E01009900","Dudley 008F"]
["E01009780","Dudley 009A","E01009780","Dudley 009A"]
["E01009784","Dudley 009B","E01009784","Dudley 009B"]
["E01009787","Dudley 009C","E01009787","Dudley 009C"]
["E01009880","Dudley 009D","E01009880","Dudley 009D"]
["E01009882","Dudley 009E","E01009882","Dudley 009E"]
["E01009891","Dudley 010A","E01009891","Dudley 010A"]
["E01009892","Dudley 010B","E01009892","Dudley 010B"]
["E01009893","Dudley 010C","E01009893","Dudley 010C"]
["E01009894","Dudley 010D","E01009894","Dudley 010D"]
["E01009844","Dudley 011A","E01009844","Dudley 011A"]
["E01009879","Dudley 011B","E01009879","Dudley 011B"]
["E01009881","Dudley 011C","E01009881","Dudley 011C"]
["E01009885","Dudley 011D","E01009885","Dudley 011D"]
["E01009816","Dudley 012A","E01009816","Dudley 012A"]
["E01009817","Dudley 012B","E01009817","Dudley 012B"]
["E01009819","Dudley 012C","E01009819","Dudley 012C"]
["E01009820","Dudley 012D","E01009820","Dudley 012D"]
["E01009748","Dudley 013A","E01009748","Dudley 013A"]
["E01009839","Dudley 013B","E01009839","Dudley 013B"]
["E01009883","Dudley 013C","E01009883","Dudley 013C"]
["E01009884","Dudley 013D","E01009884","Dudley 013D"]
["E01009886","Dudley 013E","E01009886","Dudley 013E"]
["E01009814","Dudley 014A","E01009814","Dudley 014A"]
["E01009815","Dudley 014B","E01009815","Dudley 014B"]
["E01009818","Dudley 014C","E01009818","Dudley 014C"]
["E01009821","Dudley 014D","E01009821","Dudley 014D"]
["E01009822","Dudley 014E","E01009822","Dudley 014E"]
["E01009887","Dudley 015A","E01009887","Dudley 015A"]
["E01009888","Dudley 015B","E01009888","Dudley 015B"]
["E01009889","Dudley 015C","E01009889","Dudley 015C"]
["E01009890","Dudley 015D","E01009890","Dudley 015D"]
["E01009749","Dudley 016A","E01009749","Dudley 016A"]
["E01009750","Dudley 016B","E01009750","Dudley 016B"]
["E01009823","Dudley 016C","E01009823","Dudley 016C"]
["E01009824","Dudley 016D","E01009824","Dudley 016D"]
["E01009751","Dudley 017A","E01009751","Dudley 017A"]
["E01009752","Dudley 017B","E01009752","Dudley 017B"]
["E01009753","Dudley 017C","E01009753","Dudley 017C"]
["E01009754","Dudley 017D","E01009754","Dudley 017D"]
["E01009841","Dudley 017E","E01009841","Dudley 017E"]
["E01009840","Dudley 018A","E01009840","Dudley 018A"]
["E01009842","Dudley 018B","E01009842","Dudley 018B"]
["E01009843","Dudley 018C","E01009843","Dudley 018C"]
["E01009871","Dudley 018D","E01009871","Dudley 018D"]
["E01009875","Dudley 018E","E01009875","Dudley 018E"]
["E01009825","Dudley 019A","E01009825","Dudley 019A"]
["E01009826","Dudley 019B","E01009826","Dudley 019B"]
["E01009827","Dudley 019C","E01009827","Dudley 019C"]
["E01009828","Dudley 019D","E01009828","Dudley 019D"]
["E01009829","Dudley 019E","E01009829","Dudley 019E"]
["E01009830","Dudley 019F","E01009830","Dudley 019F"]
["E01009872","Dudley 020A","E01009872","Dudley 020A"]
["E01009873","Dudley 020B","E01009873","Dudley 020B"]
["E01009874","Dudley 020C","E01009874","Dudley 020C"]
["E01009876","Dudley 020D","E01009876","Dudley 020D"]
["E01009877","Dudley 020E","E01009877","Dudley 020E"]
["E01009911","Dudley 021A","E01009911","Dudley 021A"]
["E01009912","Dudley 021B","E01009912","Dudley 021B"]
["E01009913","Dudley 021C","E01009913","Dudley 021C"]
["E01009914","Dudley 021D","E01009914","Dudley 021D"]
["E01009915","Dudley 021E","E01009915","Dudley 021E"]
["E01009916","Dudley 021F","E01009916","Dudley 021F"]
["E01009741","Dudley 022A","E01009741","Dudley 022A"]
["E01009744","Dudley 022B","E01009744","Dudley 022B"]
["E01009746","Dudley 022C","E01009746","Dudley 022C"]
["E01009747","Dudley 022D","E01009747","Dudley 022D"]
["E01009731","Dudley 023A","E01009731","Dudley 023A"]
["E01009740","Dudley 023B","E01009740","Dudley 023B"]
["E01009742","Dudley 023C","E01009742","Dudley 023C"]
["E01009743","Dudley 023D","E01009743","Dudley 023D"]
["E01009745","Dudley 023E","E01009745","Dudley 023E"]
["E01009917","Dudley 024A","E01009917","Dudley 024A"]
["E01009918","Dudley 024B","E01009918","Dudley 024B"]
["E01009919","Dudley 024C","E01009919","Dudley 024C"]
["E01009920","Dudley 024D","E01009920","Dudley 024D"]
["E01009864","Dudley 025A","E01009864","Dudley 025A"]
["E01009865","Dudley 025B","E01009865","Dudley 025B"]
["E01009866","Dudley 025C","E01009866","Dudley 025C"]
["E01009867","Dudley 025D","E01009867","Dudley 025D"]
["E01009878","Dudley 025E","E01009878","Dudley 025E"]
["E01009791","Dudley 026A","E01009791","Dudley 026A"]
["E01009792","Dudley 026B","E01009792","Dudley 026B"]
["E01009795","Dudley 026C","E01009795","Dudley 026C"]
["E01009796","Dudley 026D","E01009796","Dudley 026D"]
["E01009798","Dudley 026E","E01009798","Dudley 026E"]
["E01009719","Dudley 027A","E01009719","Dudley 027A"]
["E01009722","Dudley 027B","E01009722","Dudley 027B"]
["E01009727","Dudley 027C","E01009727","Dudley 027C"]
["E01009728","Dudley 027D","E01009728","Dudley 027D"]
["E01009729","Dudley 027E","E01009729","Dudley 027E"]
["E01009720","Dudley 028A","E01009720","Dudley 028A"]
["E01009723","Dudley 028B","E01009723","Dudley 028B"]
["E01009724","Dudley 028C","E01009724","Dudley 028C"]
["E01009730","Dudley 028D","E01009730","Dudley 028D"]
["E01009903","Dudley 029A","E01009903","Dudley 029A"]
["E01009904","Dudley 029B","E01009904","Dudley 029B"]
["E01009909","Dudley 029C","E01009909","Dudley 029C"]
["E01009910","Dudley 029D","E01009910","Dudley 029D"]
["E01009793","Dudley 030A","E01009793","Dudley 030A"]
["E01009794","Dudley 030B","E01009794","Dudley 030B"]
["E01009797","Dudley 030C","E01009797","Dudley 030C"]
["E01009801","Dudley 030D","E01009801","Dudley 030D"]
["E01009721","Dudley 031A","E01009721","Dudley 031A"]
["E01009725","Dudley 031B","E01009725","Dudley 031B"]
["E01009726","Dudley 031C","E01009726","Dudley 031C"]
["E01009834","Dudley 031D","E01009834","Dudley 031D"]
["E01009833","Dudley 032A","E01009833","Dudley 032A"]
["E01009835","Dudley 032B","E01009835","Dudley 032B"]
["E01009869","Dudley 032C","E01009869","Dudley 032C"]
["E01009870","Dudley 032D","E01009870","Dudley 032D"]
["E01009809","Dudley 033A","E01009809","Dudley 033A"]
["E01009813","Dudley 033B","E01009813","Dudley 033B"]
["E01009861","Dudley 033C","E01009861","Dudley 033C"]
["E01009862","Dudley 033D","E01009862","Dudley 033D"]
["E01009863","Dudley 033E","E01009863","Dudley 033E"]
["E01009868","Dudley 033F","E01009868","Dudley 033F"]
["E01009734","Dudley 034A","E01009734","Dudley 034A"]
["E01009735","Dudley 034B","E01009735","Dudley 034B"]
["E01009736","Dudley 034C","E01009736","Dudley 034C"]
["E01009737","Dudley 034D","E01009737","Dudley 034D"]
["E01009738","Dudley 034E","E01009738","Dudley 034E"]
["E01009856","Dudley 035A","E01009856","Dudley 035A"]
["E01009905","Dudley 035B","E01009905","Dudley 035B"]
["E01009906","Dudley 035C","E01009906","Dudley 035C"]
["E01009907","Dudley 035D","E01009907","Dudley 035D"]
["E01009908","Dudley 035E","E01009908","Dudley 035E"]
["E01009800","Dudley 036A","E01009800","Dudley 036A"]
["E01009802","Dudley 036B","E01009802","Dudley 036B"]
["E01009803","Dudley 036C","E01009803","Dudley 036C"]
["E01009804","Dudley 036D","E01009804","Dudley 036D"]
["E01009831","Dudley 037A","E01009831","Dudley 037A"]
["E01009836","Dudley 037B","E01009836","Dudley 037B"]
["E01009837","Dudley 037C","E01009837","Dudley 037C"]
["E01009838","Dudley 037D","E01009838","Dudley 037D"]
["E01009847","Dudley 038A","E01009847","Dudley 038A"]
["E01009848","Dudley 038B","E01009848","Dudley 038B"]
["E01009849","Dudley 038C","E01009849","Dudley 038C"]
["E01009851","Dudley 038D","E01009851","Dudley 038D"]
["E01009732","Dudley 039A","E01009732","Dudley 039A"]
["E01009733","Dudley 039B","E01009733","Dudley 039B"]
["E01009739","Dudley 039C","E01009739","Dudley 039C"]
["E01009799","Dudley 039D","E01009799","Dudley 039D"]
["E01009805","Dudley 039E","E01009805","Dudley 039E"]
["E01009806","Dudley 039F","E01009806","Dudley 039F"]
["E01009854","Dudley 040A","E01009854","Dudley 040A"]
["E01009857","Dudley 040B","E01009857","Dudley 040B"]
["E01009858","Dudley 040C","E01009858","Dudley 040C"]
["E01009859","Dudley 040D","E01009859","Dudley 040D"]
["E01009845","Dudley 041A","E01009845","Dudley 041A"]
["E01009846","Dudley 041B","E01009846","Dudley 041B"]
["E01009850","Dudley 041C","E01009850","Dudley 041C"]
["E01009852","Dudley 041D","E01009852","Dudley 041D"]
["E01009832","Dudley 042A","E01009832","Dudley 042A"]
["E01009853","Dudley 042B","E01009853","Dudley 042B"]
["E01009855","Dudley 042C","E01009855","Dudley 042C"]
["E01009860","Dudley 042D","E01009860","Dudley 042D"]
["E01009807","Dudley 043A","E01009807","Dudley 043A"]
["E01009808","Dudley 043B","E01009808","Dudley 043B"]
["E01009810","Dudley 043C","E01009810","Dudley 043C"]
["E01009811","Dudley 043D","E01009811","Dudley 043D"]
["E01009812","Dudley 043E","E01009812","Dudley 043E"]

{"sheet":"Township","index":25,"n_rows":7,"n_cols":4,"rows_kept":7,"cut":false,"hidden":true,"merged":[]}
["Area Code","Area Name","Area Code","Area Name"]
["TEXT003","CLICK HERE, THEN ON THE DOWN ARROW TO SELECT AREA","TEXT004","CLICK HERE, THEN ON THE DOWN ARROW TO SELECT COMPARISON AREA"]
["T1","Brierley Hill","T1","Brierley Hill"]
["T2","Dudley Central","T2","Dudley Central"]
["T3","Dudley North","T3","Dudley North"]
["T4","Halesowen","T4","Halesowen"]
["T5","Stourbridge","T5","Stourbridge"]

{"sheet":"Early Help Cluster","index":26,"n_rows":7,"n_cols":4,"rows_kept":7,"cut":false,"hidden":true,"merged":[]}
["Area Code","Area Name","Area Code","Area Name"]
["TEXT003","CLICK HERE, THEN ON THE DOWN ARROW TO SELECT AREA","TEXT004","CLICK HERE, THEN ON THE DOWN ARROW TO SELECT COMPARISON AREA"]
["EHC1","Brierley Hill","EHC1","Brierley Hill"]
["EHC2","Dudley Central","EHC2","Dudley Central"]
["EHC3","Dudley North","EHC3","Dudley North"]
["EHC4","Halesowen","EHC4","Halesowen"]
["EHC5","Stourbridge","EHC5","Stourbridge"]